Workbook

Sheet Feuil1
D25: Serie | G25: Activité | K25: Désignation de l'activité | Y25: CP | AC25: Les 15 dernierières activités proposées
C26: 1 | D26: =VLOOKUP(LOOKUP(9^9,Feuil2!A:A)-2,Feuil2!A20:L50,2,0) -> 8 | G26: =VLOOKUP(LOOKUP(9^9,Feuil2!A:A)-2,Feuil2!A20:L50,3,0) -> TD8 | K26: =VLOOKUP(LOOKUP(9^9,Feuil2!A:A)-2,Feuil2!A20:L50,4,0) -> lecture 8 | Y26: =VLOOKUP(LOOKUP(9^9,Feuil2!A:A)-2,Feuil2!A20:L50,10,0) -> C | Z26: =VLOOKUP(LOOKUP(9^9,Feuil2!A:A)-2,Feuil2!A20:L50,12,0) -> CP 1.15
Y27: =VLOOKUP(LOOKUP(9^9,Feuil2!A:A)-1,Feuil2!A21:L51,10,0) -> M | Z27: =VLOOKUP(LOOKUP(9^9,Feuil2!A:A)-1,Feuil2!A21:L51,12,0) -> CP 1.16
Y28: =VLOOKUP(LOOKUP(9^9,Feuil2!A:A),Feuil2!A22:L52,10,0) -> M | Z28: =VLOOKUP(LOOKUP(9^9,Feuil2!A:A),Feuil2!A22:L52,12,0) -> CP1.10
C29: 2 | D29: =VLOOKUP(LOOKUP(9^9,Feuil2!A:A)-5,Feuil2!A23:L53,2,0) -> 7 | G29: =VLOOKUP(LOOKUP(9^9,Feuil2!A:A)-5,Feuil2!A23:L53,3,0) -> TD7 | K29: =VLOOKUP(LOOKUP(9^9,Feuil2!A:A)-5,Feuil2!A23:L53,4,0) -> lecture 7 | Y29: =VLOOKUP(LOOKUP(9^9,Feuil2!A:A)-5,Feuil2!A23:L53,10,0) -> C | Z29: =VLOOKUP(LOOKUP(9^9,Feuil2!A:A)-5,Feuil2!A23:L53,12,0) -> CP 1.13
Y30: =VLOOKUP(LOOKUP(9^9,Feuil2!A:A)-4,Feuil2!A24:L54,10,0) -> M | Z30: =VLOOKUP(LOOKUP(9^9,Feuil2!A:A)-4,Feuil2!A24:L54,12,0) -> CP 1.14
Y31: =VLOOKUP(LOOKUP(9^9,Feuil2!A:A)-3,Feuil2!A25:L55,10,0) -> M | Z31: =VLOOKUP(LOOKUP(9^9,Feuil2!A:A)-3,Feuil2!A25:L55,12,0) -> CP1.9
C32: 3
C35: 4
C38: 5
C41: 6
C44: 7
C47: 8
C50: 9
C53: 10
C56: 11
C59: 12
C62: 13
C65: 14
C68: 15

Sheet Feuil2
B22: Serie | C22: Activité | D22: Désignation de l'activité | J22: CP
A23: =IF(B23="","",1) -> 1 | B23: =IF([1]Tableauprof!A37=0,"",[1]Tableauprof!A37) -> 1 | C23: TD1 | D23: lecture 1 | J23: C | K23: =IF(P23="","",P23) | L23: CP 1.1
A24: =IF(B23="","",A23+1) -> 2 | J24: M | K24: =IF(P23="","",P23) | L24: CP 1.2
A25: =IF(B23="","",A24+1) -> 3 | J25: M | K25: =IF(P23="","",P23) | L25: CP1.3
A26: =IF(B26="","",A25+1) -> 4 | B26: =IF([1]Tableauprof!A40=0,"",[1]Tableauprof!A40) -> 2 | C26: TD2 | D26: lecture 2 | J26: C | K26: =IF(P26="","",P26) | L26: CP 1.3
A27: =IF(B26="","",A25+2) -> 5 | J27: M | K27: =IF(P26="","",P26) | L27: CP 1.4
A28: =IF(B26="","",A25+3) -> 6 | J28: M | K28: =IF(P26="","",P26) | L28: CP1.4
A29: =IF(B29="","",A28+1) -> 7 | B29: =IF([1]Tableauprof!A43=0,"",[1]Tableauprof!A43) -> 3 | C29: TD3 | D29: lecture 3 | J29: C | K29: =IF(P29="","",P29) | L29: CP 1.5
A30: =IF(B29="","",A29+1) -> 8 | J30: M | K30: =IF(P29="","",P29) | L30: CP 1.6
A31: =IF(B29="","",A30+1) -> 9 | J31: M | K31: =IF(P29="","",P29) | L31: CP1.5
A32: =IF(B32="","",A31+1) -> 10 | B32: =IF([1]Tableauprof!A46=0,"",[1]Tableauprof!A46) -> 4 | C32: TD4 | D32: lecture 4 | J32: C | K32: =IF(P32="","",P32) | L32: CP 1.7
A33: =IF(B32="","",A32+1) -> 11 | J33: M | K33: =IF(P32="","",P32) | L33: CP 1.8
A34: =IF(B32="","",A33+1) -> 12 | J34: M | K34: =IF(P32="","",P32) | L34: CP1.6
A35: =IF(B35="","",A34+1) -> 13 | B35: =IF([1]Tableauprof!A49=0,"",[1]Tableauprof!A49) -> 5 | C35: TD5 | D35: lecture 5 | J35: C | K35: =IF(P35="","",P35) | L35: CP 1.9
A36: =IF(B35="","",A35+1) -> 14 | J36: M | K36: =IF(P35="","",P35) | L36: CP 1.10
A37: =IF(B35="","",A36+1) -> 15 | J37: M | K37: =IF(P35="","",P35) | L37: CP1.7
A38: =IF(B38="","",A37+1) -> 16 | B38: =IF([1]Tableauprof!A52=0,"",[1]Tableauprof!A52) -> 6 | C38: TD6 | D38: lecture 6 | J38: C | K38: =IF(P38="","",P38) | L38: CP 1.11
A39: =IF(B38="","",A38+1) -> 17 | J39: M | K39: =IF(P38="","",P38) | L39: CP 1.12
A40: =IF(B38="","",A39+1) -> 18 | J40: M | K40: =IF(P38="","",P38) | L40: CP1.8
A41: =IF(B41="","",A40+1) -> 19 | B41: =IF([1]Tableauprof!A55=0,"",[1]Tableauprof!A55) -> 7 | C41: TD7 | D41: lecture 7 | J41: C | K41: =IF(P41="","",P41) | L41: CP 1.13
A42: =IF(B41="","",A41+1) -> 20 | J42: M | K42: =IF(P41="","",P41) | L42: CP 1.14
A43: =IF(B41="","",A42+1) -> 21 | J43: M | K43: =IF(P41="","",P41) | L43: CP1.9
A44: =IF(B44="","",A43+1) -> 22 | B44: =IF([1]Tableauprof!A58=0,"",[1]Tableauprof!A58) -> 8 | C44: TD8 | D44: lecture 8 | J44: C | K44: =IF(P44="","",P44) | L44: CP 1.15
A45: =IF(B44="","",A44+1) -> 23 | J45: M | K45: =IF(P44="","",P44) | L45: CP 1.16
A46: =IF(B44="","",A45+1) -> 24 | J46: M | K46: =IF(P44="","",P44) | L46: CP1.10
A47: =IF(B47="","",A46+1) | J47: C | K47: =IF(P47="","",P47) | L47: CP 1.17
A48: =IF(B47="","",A47+1) | J48: M | K48: =IF(P47="","",P47) | L48: CP 1.18
A49: =IF(B47="","",A48+1) | J49: M | K49: =IF(P47="","",P47) | L49: CP 1.3

Sheet Feuil3
