Workbook

Sheet Mileage total
B3: Châssis | C3: Total Kms. 2016 | D3: Le Mans T | E3: Chambley | F3: Chambley2 | G3: Barcelona T | H3: Barcelona | I3: Le Mans T3 | J3: Le Mans | K3: Chambley4 | L3: P.Ricard | M3: Chambley5 | N3: Motorland T | O3: Motorland | P3: Mugello T | Q3: Mugello | R3: Chambley6 | S3: Magny-Cours T | T3: Magny-Cours | U3: Estoril T | V3: Estoril
B4: 92 | C4: =SUM(D4:V4) -> 3413.625 | D4: 280.06 | F4: 250.8 | G4: 136.3 | H4: 400 | I4: 171.38 | J4: 321.86 | L4: 359.6 | M4: 148.5 | N4: 334.6 | O4: 354.9 | P4: 272.74 | Q4: 382.885
B5: 123 | C5: =SUM(D5:V5) -> 2558.62 | D5: 267.52 | F5: 283.8 | G5: 329 | H5: 400 | I5: 292.6 | J5: 292.6 | L5: 406 | M5: 128.7 | R5: 158.4
B6: 151 | C6: =SUM(D6:V6) -> 5335.45 | D6: 146.3 | E6: 155.1 | F6: 244.2 | G6: 756.7 | H6: 400 | J6: 321.86 | K6: 541 | L6: 388.6 | M6: 237.6 | N6: 648.96 | O6: 385.32 | P6: 723.81 | Q6: 386
B7: 151C | C7: =SUM(D7:V7) -> 1898.58 | I7: 267.52 | J7: 321.86 | L7: 371.2 | N7: 542.5 | O7: 395.5

Sheet Maintenance
B2: PARTS | C2: CHECKED | D2: CHANGE | E2: COMENTS
B3: spark plugs | D3: 6000 | E3: ref. 77 11 160 278 (NGK-R ref. PFR7Z-TG)
B4: coolant | D4: 2000
B5: air filter | C5: 2000
B6: engine oil | D6: 1000 | E6: ELF sae 05W30
B7: engine oil filter | D7: 1000
B8: wishbones&push | C8: 2000 | D8: 12000 | E8: uniball clearnace
B9: front&rear rocker | D9: 12000
B10: steering column | D10: 20000
B11: steering rack&pinion | D11: 20000
B12: fuel filter | C12: 2000 | D12: 2000 | E12: change every three races
B13: trasmission joint | C13: 5000 | D13: 10000
B14: engine | C14: 10000
B15: gears | C15: 600 | D15: 7000 | E15: lifespan expect
B16: final drive conical | C16: 2000
B17: drive shaft | C17: 5000
B18: drive shaft grease | C18: 5000 | E18: change grease and ckeck balls.
B19: starter engine | C19: 10000 | D19: 10000
B20: wiring looms | C20: 12000
B21: clucth | C21: 600 | D21: 2500 | E21: ckeck the thickness every race
B22: gearbox seal | D22: 2000
B23: clucth shaft | D23: 2700
B24: Caliper seal | D24: 4000 | E24: Half season if issue
B25: Engine rebuild | D25: 5500

Sheet 92
C3: Kms. Total | D3: Le Mans T | E3: Chambley | F3: Chambley | G3: Barcelona T | H3: Barcelona | I3: Le Mans T | J3: Le Mans | K3: Chambley | L3: P.Ricard | M3: Chambley | N3: Motorland T | O3: Motorland | P3: Mugello T | Q3: Mugello | R3: Chambley | S3: Magny-Cours T | T3: Magny-Cours | U3: Estoril T | V3: Estoril
B4: 92 | C4: =SUM(D4:V4) -> 3413.625 | D4: =Tableau1[[#This Row],[Le Mans T]] -> 280.06 | E4: =Tableau1[[#This Row],[Chambley]] -> 0 | F4: =Tableau1[[#This Row],[Chambley2]] -> 250.8 | G4: =Tableau1[[#This Row],[Barcelona T]] -> 136.3 | H4: =Tableau1[[#This Row],[Barcelona]] -> 400 | I4: =Tableau1[[#This Row],[Le Mans T3]] -> 171.38 | J4: =Tableau1[[#This Row],[Le Mans]] -> 321.86 | K4: =Tableau1[[#This Row],[Chambley4]] -> 0 | L4: =Tableau1[[#This Row],[P.Ricard]] -> 359.6 | M4: =Tableau1[[#This Row],[Chambley5]] -> 148.5 | N4: =Tableau1[[#This Row],[Motorland T]] -> 334.6 | O4: =Tableau1[[#This Row],[Motorland]] -> 354.9 | P4: =Tableau1[[#This Row],[Mugello T]] -> 272.74 | Q4: =Tableau1[[#This Row],[Mugello]] -> 382.885 | R4: =Tableau1[[#This Row],[Chambley6]] -> 0 | S4: =Tableau1[[#This Row],[Magny-Cours T ]] -> 0 | T4: =Tableau1[[#This Row],[Magny-Cours ]] -> 0 | U4: =Tableau1[[#This Row],[Estoril T]] -> 0 | V4: =Tableau1[[#This Row],[Estoril]] -> 0
A7: 1853.23 | B7: Engine Oil | C7: =SUM(L4:V4) -> 1853.225 | K7: new | L7: new
B8: Oil filter | C8: =1197.6+P4+Q4 -> 1853.225 | K8: new
B9: Air filter | C9: =1197.6+P4+Q4 -> 1853.225 | K9: new
B10: Spark plugs | C10: =2758+P4+Q4 -> 3413.625
B11: Fuel Pump | C11: =2090.8+P4+Q4 -> 2746.425 | H11: new
B12: Water coolant | C12: =2758+$P$4+Q4 -> 3413.625
B13: Battery | C13: =2758+$P$4+Q4 -> 3413.625
B14: Gearbox actuator | C14: =2758+$P$4+Q4 -> 3413.625
B15: Gearbox powerbox | C15: =2758+$P$4+Q4 -> 3413.625
B16: Throttle motor | C16: =2758+$P$4+Q4 -> 3413.625
B17: Throttle pot | C17: =2758+$P$4+Q4 -> 3413.625
B18: Primary shaft | C18: =2227.1+P4+Q4 -> 2882.725 | G18: new
B19: Clutch | C19: =2227.1+P4+Q4 -> 2882.725 | G19: new
B20: Transmision service | C20: =1690.8+P4+Q4 -> 2346.425 | I20: new

Sheet 123
C3: Kms. Total | D3: Le Mans T | E3: Chambley | F3: Chambley | G3: Barcelona T | H3: Barcelona | I3: Le Mans T | J3: Le Mans | K3: Chambley | L3: P.Ricard | M3: Chambley | N3: Motorland T | O3: Motorland | P3: Mugello T | Q3: Mugello | R3: Chambley | S3: Magny-Cours T | T3: Magny-Cours | U3: Estoril T | V3: Estoril
B4: 123 | C4: =SUM(D4:V4) -> 2558.62 | D4: ='Mileage total'!D5 -> 267.52 | E4: ='Mileage total'!E5 -> 0 | F4: ='Mileage total'!F5 -> 283.8 | G4: ='Mileage total'!G5 -> 329 | H4: ='Mileage total'!H5 -> 400 | I4: ='Mileage total'!I5 -> 292.6 | J4: ='Mileage total'!J5 -> 292.6 | K4: ='Mileage total'!K5 -> 0 | ... V4: ='Mileage total'!V5 -> 0
B7: Engine Oil | C7: =534.7+R4 -> 693.1 | K7: new | L7: new
B8: Oil filter | C8: =534.7+R4 -> 693.1 | K8: new
B9: Air filter | C9: =2400.22+$R$4 -> 2558.62
B10: Spark plugs | C10: =2400.22+$R$4 -> 2558.62
B11: Fuel Pump | C11: =2400.22+$R$4 -> 2558.62
B12: Water coolant | C12: =2400.22+$R$4 -> 2558.62
B13: Battery | C13: =2400.22+$R$4 -> 2558.62
B14: Gearbox actuator | C14: =2400.22+$R$4 -> 2558.62
B15: Gearbox powerbox | C15: =2400.22+$R$4 -> 2558.62
B16: Throttle motor | C16: =2400.22+$R$4 -> 2558.62
B17: Throttle pot | C17: =2400.22+$R$4 -> 2558.62
B18: Primary shaft | C18: =1848.9+$R$4 -> 2007.3 | G18: new
B19: Clutch | C19: =1848.9+$R$4 -> 2007.3 | G19: new
B20: Transmision service | C20: =1848.9+$R$4 -> 2007.3 | G20: new

Sheet 151
C3: Kms. Total | D3: Le Mans T | E3: Chambley | F3: Chambley | G3: Barcelona T | H3: Barcelona | I3: Le Mans T | J3: Le Mans | K3: Chambley | L3: P.Ricard | M3: Chambley | N3: Motorland T | O3: Motorland | P3: Mugello T | Q3: Mugello | R3: Chambley | S3: Magny-Cours T | T3: Magny-Cours | U3: Estoril T | V3: Estoril
B4: 151 | C4: =SUM(D4:V4) -> 5335.45 | D4: ='Mileage total'!D6 -> 146.3 | E4: ='Mileage total'!E6 -> 155.1 | F4: ='Mileage total'!F6 -> 244.2 | G4: ='Mileage total'!G6 -> 756.7 | H4: ='Mileage total'!H6 -> 400 | I4: ='Mileage total'!I6 -> 0 | J4: ='Mileage total'!J6 -> 321.86 | K4: ='Mileage total'!K6 -> 541 | ... V4: ='Mileage total'!V6 -> 0
B7: Engine Oil | C7: =1660.5+P4+Q4 -> 2770.31 | K7: new | L7: new
B8: Oil filter | C8: =2201.5+P4+Q4 -> 3311.31 | K8: new
B9: Air filter | C9: =4225.6+$P$4+Q4 -> 5335.41
B10: Spark plugs | C10: =4225.6+$P$4+Q4 -> 5335.41
B11: Fuel Pump | C11: =4225.6+$P$4+Q4 -> 5335.41
B12: Water coolant | C12: =2923.3+P4+Q4 -> 4033.11 | H12: new
B13: Battery | C13: =4225.6+$P$4+Q4 -> 5335.41
B14: Gearbox actuator | C14: =4225.6+$P$4+Q4 -> 5335.41
B15: Gearbox powerbox | C15: =4225.6+$P$4+Q4 -> 5335.41
B16: Throttle motor | C16: =4079.3+P4+Q4 -> 5189.11 | E16: new
B17: Throttle pot | C17: =4225.6+P4+Q4 -> 5335.41
B18: Primary shaft | C18: =3680+P4+Q4 -> 4789.81 | G18: new
B19: Clutch | C19: =3680+P4+Q4 -> 4789.81 | G19: new
B20: Transmision service | C20: =1660.4+P4+Q4 -> 2770.21 | G20: new | L20: new

Sheet 151C
C3: Kms. Total | D3: Le Mans T | E3: Chambley | F3: Chambley | G3: Barcelona T | H3: Barcelona | I3: Le Mans T | J3: Le Mans | K3: Chambley | L3: P.Ricard | M3: Motorland T | N3: Motorland | O3: Mugello T | P3: Mugello | Q3: Chambley | R3: Magny-Cours T | S3: Magny-Cours | T3: Estoril T | U3: Estoril
B4: 151C | C4: =SUM(D4:U4) -> 1898.58 | D4: ='Mileage total'!D7 -> 0 | E4: ='Mileage total'!E7 -> 0 | F4: ='Mileage total'!F7 -> 0 | G4: ='Mileage total'!G7 -> 0 | H4: ='Mileage total'!H7 -> 0 | I4: ='Mileage total'!I7 -> 267.52 | J4: ='Mileage total'!J7 -> 321.86 | K4: ='Mileage total'!K7 -> 0 | ... U4: ='Mileage total'!U7 -> 0
B7: Engine Oil | C7: 1309.2 | H7: new | K7: new | L7: new
B8: Oil filter | C8: 1309.2 | K8: new
B9: Air filter | C9: 960.58
B10: Spark plugs | C10: 1309.2 | K10: new
B11: Fuel Pump | C11: 1898.6
B12: Water coolant | C12: 1898.6
B13: Battery | C13: 1898.6
B14: Gearbox actuator | C14: 1898.6
B15: Gearbox powerbox | C15: 1898.6
B16: Throttle motor | C16: 1898.6
B17: Throttle pot | C17: 1898.6
B18: Primary shaft | C18: 1898.6
B19: Clutch | C19: 1898.6
B20: Transmision service | C20: 938 | M20: new
