Workbook

Sheet CV
B1: Nom :
B2: Prénom :
B3: Adresse :
B4: Tél :
B5: Mail :
C6: Peintre en batiment
B9: Expériences:
B11: périodes: | C11: Entreprises: | D11: Lieux
B12: 2010 | C12: EDF | D12: France
B13: 2011 | C13: La poste | D13: Paris
B14: 2016 | C14: commune | D14: province
B15: 2013 | C15: mairie | D15: banlieux
B21: Formations: | C21: Centre de formation: | D21: Lieux
B22: CAP | C22: CFA | D22: France
B23: BAC | C23: Lycée | D23: Paris
B31: Divers:
B37: Fiche métier: | C37: =C6 -> Peintre en batiment
C39: Compétences générales : | E39: Autres compétences :
C41: =IF(ISNA(VLOOKUP(J41,'fiches métiers'!$A$4:$F$500,3,FALSE)),"",VLOOKUP(J41,'fiches métiers'!$A$4:$F$500,3,FALSE)) -> 0 | D41: =IF(ISNA(VLOOKUP(J41,'fiches métiers'!$A$4:$F$500,4,FALSE)),"",VLOOKUP(J41,'fiches métiers'!$A$4:$F$500,4,FALSE)) -> non | E41: =IF(ISNA(VLOOKUP(J41,'fiches métiers'!$A$4:$F$500,5,FALSE)),"",VLOOKUP(J41,'fiches métiers'!$A$4:$F$500,5,FALSE)) -> 0 | F41: =IF(ISNA(VLOOKUP(J41,'fiches métiers'!$A$4:$F$500,6,FALSE)),"",VLOOKUP(J41,'fiches métiers'!$A$4:$F$500,6,FALSE)) -> non | I41: 1 | J41: =CONCATENATE($C$6,I41) -> Peintre en batiment1
C42: =IF(ISNA(VLOOKUP(J42,'fiches métiers'!$A$4:$F$500,3,FALSE)),"",VLOOKUP(J42,'fiches métiers'!$A$4:$F$500,3,FALSE)) -> 0 | D42: =IF(ISNA(VLOOKUP(J42,'fiches métiers'!$A$4:$F$500,4,FALSE)),"",VLOOKUP(J42,'fiches métiers'!$A$4:$F$500,4,FALSE)) -> 0 | E42: =IF(ISNA(VLOOKUP(J42,'fiches métiers'!$A$4:$F$500,5,FALSE)),"",VLOOKUP(J42,'fiches métiers'!$A$4:$F$500,5,FALSE)) -> 0 | F42: =IF(ISNA(VLOOKUP(J42,'fiches métiers'!$A$4:$F$500,6,FALSE)),"",VLOOKUP(J42,'fiches métiers'!$A$4:$F$500,6,FALSE)) -> 0 | I42: 2 | J42: =CONCATENATE($C$6,I42) -> Peintre en batiment2
C43: =IF(ISNA(VLOOKUP(J43,'fiches métiers'!$A$4:$F$500,3,FALSE)),"",VLOOKUP(J43,'fiches métiers'!$A$4:$F$500,3,FALSE)) -> 0 | D43: =IF(ISNA(VLOOKUP(J43,'fiches métiers'!$A$4:$F$500,4,FALSE)),"",VLOOKUP(J43,'fiches métiers'!$A$4:$F$500,4,FALSE)) -> 0 | E43: =IF(ISNA(VLOOKUP(J43,'fiches métiers'!$A$4:$F$500,5,FALSE)),"",VLOOKUP(J43,'fiches métiers'!$A$4:$F$500,5,FALSE)) -> 0 | F43: =IF(ISNA(VLOOKUP(J43,'fiches métiers'!$A$4:$F$500,6,FALSE)),"",VLOOKUP(J43,'fiches métiers'!$A$4:$F$500,6,FALSE)) -> 0 | I43: 3 | J43: =CONCATENATE($C$6,I43) -> Peintre en batiment3
C44: =IF(ISNA(VLOOKUP(J44,'fiches métiers'!$A$4:$F$500,3,FALSE)),"",VLOOKUP(J44,'fiches métiers'!$A$4:$F$500,3,FALSE)) -> 0 | D44: =IF(ISNA(VLOOKUP(J44,'fiches métiers'!$A$4:$F$500,4,FALSE)),"",VLOOKUP(J44,'fiches métiers'!$A$4:$F$500,4,FALSE)) -> 0 | E44: =IF(ISNA(VLOOKUP(J44,'fiches métiers'!$A$4:$F$500,5,FALSE)),"",VLOOKUP(J44,'fiches métiers'!$A$4:$F$500,5,FALSE)) -> 0 | F44: =IF(ISNA(VLOOKUP(J44,'fiches métiers'!$A$4:$F$500,6,FALSE)),"",VLOOKUP(J44,'fiches métiers'!$A$4:$F$500,6,FALSE)) -> 0 | I44: 4 | J44: =CONCATENATE($C$6,I44) -> Peintre en batiment4
C45: =IF(ISNA(VLOOKUP(J45,'fiches métiers'!$A$4:$F$500,3,FALSE)),"",VLOOKUP(J45,'fiches métiers'!$A$4:$F$500,3,FALSE)) -> 0 | D45: =IF(ISNA(VLOOKUP(J45,'fiches métiers'!$A$4:$F$500,4,FALSE)),"",VLOOKUP(J45,'fiches métiers'!$A$4:$F$500,4,FALSE)) -> 0 | E45: =IF(ISNA(VLOOKUP(J45,'fiches métiers'!$A$4:$F$500,5,FALSE)),"",VLOOKUP(J45,'fiches métiers'!$A$4:$F$500,5,FALSE)) -> 0 | F45: =IF(ISNA(VLOOKUP(J45,'fiches métiers'!$A$4:$F$500,6,FALSE)),"",VLOOKUP(J45,'fiches métiers'!$A$4:$F$500,6,FALSE)) -> 0 | I45: 5 | J45: =CONCATENATE($C$6,I45) -> Peintre en batiment5
C46: =IF(ISNA(VLOOKUP(J46,'fiches métiers'!$A$4:$F$500,3,FALSE)),"",VLOOKUP(J46,'fiches métiers'!$A$4:$F$500,3,FALSE)) -> 0 | D46: =IF(ISNA(VLOOKUP(J46,'fiches métiers'!$A$4:$F$500,4,FALSE)),"",VLOOKUP(J46,'fiches métiers'!$A$4:$F$500,4,FALSE)) -> 0 | E46: =IF(ISNA(VLOOKUP(J46,'fiches métiers'!$A$4:$F$500,5,FALSE)),"",VLOOKUP(J46,'fiches métiers'!$A$4:$F$500,5,FALSE)) -> 0 | F46: =IF(ISNA(VLOOKUP(J46,'fiches métiers'!$A$4:$F$500,6,FALSE)),"",VLOOKUP(J46,'fiches métiers'!$A$4:$F$500,6,FALSE)) -> 0 | I46: 6 | J46: =CONCATENATE($C$6,I46) -> Peintre en batiment6
C47: =IF(ISNA(VLOOKUP(J47,'fiches métiers'!$A$4:$F$500,3,FALSE)),"",VLOOKUP(J47,'fiches métiers'!$A$4:$F$500,3,FALSE)) -> 0 | D47: =IF(ISNA(VLOOKUP(J47,'fiches métiers'!$A$4:$F$500,4,FALSE)),"",VLOOKUP(J47,'fiches métiers'!$A$4:$F$500,4,FALSE)) -> 0 | E47: =IF(ISNA(VLOOKUP(J47,'fiches métiers'!$A$4:$F$500,5,FALSE)),"",VLOOKUP(J47,'fiches métiers'!$A$4:$F$500,5,FALSE)) -> 0 | F47: =IF(ISNA(VLOOKUP(J47,'fiches métiers'!$A$4:$F$500,6,FALSE)),"",VLOOKUP(J47,'fiches métiers'!$A$4:$F$500,6,FALSE)) -> 0 | I47: 7 | J47: =CONCATENATE($C$6,I47) -> Peintre en batiment7
C48: =IF(ISNA(VLOOKUP(J48,'fiches métiers'!$A$4:$F$500,3,FALSE)),"",VLOOKUP(J48,'fiches métiers'!$A$4:$F$500,3,FALSE)) -> préparer la peinture | D48: =IF(ISNA(VLOOKUP(J48,'fiches métiers'!$A$4:$F$500,4,FALSE)),"",VLOOKUP(J48,'fiches métiers'!$A$4:$F$500,4,FALSE)) -> 0 | E48: =IF(ISNA(VLOOKUP(J48,'fiches métiers'!$A$4:$F$500,5,FALSE)),"",VLOOKUP(J48,'fiches métiers'!$A$4:$F$500,5,FALSE)) -> Montage d’échafaudage | F48: =IF(ISNA(VLOOKUP(J48,'fiches métiers'!$A$4:$F$500,6,FALSE)),"",VLOOKUP(J48,'fiches métiers'!$A$4:$F$500,6,FALSE)) -> 0 | I48: 8 | J48: =CONCATENATE($C$6,I48) -> Peintre en batiment8
C49: =IF(ISNA(VLOOKUP(J49,'fiches métiers'!$A$4:$F$500,3,FALSE)),"",VLOOKUP(J49,'fiches métiers'!$A$4:$F$500,3,FALSE)) -> 0 | D49: =IF(ISNA(VLOOKUP(J49,'fiches métiers'!$A$4:$F$500,4,FALSE)),"",VLOOKUP(J49,'fiches métiers'!$A$4:$F$500,4,FALSE)) -> 0 | E49: =IF(ISNA(VLOOKUP(J49,'fiches métiers'!$A$4:$F$500,5,FALSE)),"",VLOOKUP(J49,'fiches métiers'!$A$4:$F$500,5,FALSE)) -> 0 | F49: =IF(ISNA(VLOOKUP(J49,'fiches métiers'!$A$4:$F$500,6,FALSE)),"",VLOOKUP(J49,'fiches métiers'!$A$4:$F$500,6,FALSE)) -> 0 | I49: 9 | J49: =CONCATENATE($C$6,I49) -> Peintre en batiment9
C50: =IF(ISNA(VLOOKUP(J50,'fiches métiers'!$A$4:$F$500,3,FALSE)),"",VLOOKUP(J50,'fiches métiers'!$A$4:$F$500,3,FALSE)) -> 0 | D50: =IF(ISNA(VLOOKUP(J50,'fiches métiers'!$A$4:$F$500,4,FALSE)),"",VLOOKUP(J50,'fiches métiers'!$A$4:$F$500,4,FALSE)) -> non | E50: =IF(ISNA(VLOOKUP(J50,'fiches métiers'!$A$4:$F$500,5,FALSE)),"",VLOOKUP(J50,'fiches métiers'!$A$4:$F$500,5,FALSE)) -> 0 | F50: =IF(ISNA(VLOOKUP(J50,'fiches métiers'!$A$4:$F$500,6,FALSE)),"",VLOOKUP(J50,'fiches métiers'!$A$4:$F$500,6,FALSE)) -> non | I50: 10 | J50: =CONCATENATE($C$6,I50) -> Peintre en batiment10
C51: =IF(ISNA(VLOOKUP(J51,'fiches métiers'!$A$4:$F$500,3,FALSE)),"",VLOOKUP(J51,'fiches métiers'!$A$4:$F$500,3,FALSE)) -> 0 | D51: =IF(ISNA(VLOOKUP(J51,'fiches métiers'!$A$4:$F$500,4,FALSE)),"",VLOOKUP(J51,'fiches métiers'!$A$4:$F$500,4,FALSE)) -> 0 | E51: =IF(ISNA(VLOOKUP(J51,'fiches métiers'!$A$4:$F$500,5,FALSE)),"",VLOOKUP(J51,'fiches métiers'!$A$4:$F$500,5,FALSE)) -> 0 | F51: =IF(ISNA(VLOOKUP(J51,'fiches métiers'!$A$4:$F$500,6,FALSE)),"",VLOOKUP(J51,'fiches métiers'!$A$4:$F$500,6,FALSE)) -> 0 | I51: 11 | J51: =CONCATENATE($C$6,I51) -> Peintre en batiment11
C52: =IF(ISNA(VLOOKUP(J52,'fiches métiers'!$A$4:$F$500,3,FALSE)),"",VLOOKUP(J52,'fiches métiers'!$A$4:$F$500,3,FALSE)) -> 0 | D52: =IF(ISNA(VLOOKUP(J52,'fiches métiers'!$A$4:$F$500,4,FALSE)),"",VLOOKUP(J52,'fiches métiers'!$A$4:$F$500,4,FALSE)) -> 0 | E52: =IF(ISNA(VLOOKUP(J52,'fiches métiers'!$A$4:$F$500,5,FALSE)),"",VLOOKUP(J52,'fiches métiers'!$A$4:$F$500,5,FALSE)) -> 0 | F52: =IF(ISNA(VLOOKUP(J52,'fiches métiers'!$A$4:$F$500,6,FALSE)),"",VLOOKUP(J52,'fiches métiers'!$A$4:$F$500,6,FALSE)) -> 0 | I52: 12 | J52: =CONCATENATE($C$6,I52) -> Peintre en batiment12
... C77: =IF(ISNA(VLOOKUP(J77,'fiches métiers'!$A$4:$F$500,3,FALSE)),"",VLOOKUP(J77,'fiches métiers'!$A$4:$F$500,3,FALSE)) -> 0 | D77: =IF(ISNA(VLOOKUP(J77,'fiches métiers'!$A$4:$F$500,4,FALSE)),"",VLOOKUP(J77,'fiches métiers'!$A$4:$F$500,4,FALSE)) -> 0 | E77: =IF(ISNA(VLOOKUP(J77,'fiches métiers'!$A$4:$F$500,5,FALSE)),"",VLOOKUP(J77,'fiches métiers'!$A$4:$F$500,5,FALSE)) -> 0 | F77: =IF(ISNA(VLOOKUP(J77,'fiches métiers'!$A$4:$F$500,6,FALSE)),"",VLOOKUP(J77,'fiches métiers'!$A$4:$F$500,6,FALSE)) -> 0 | I77: 37 | J77: =CONCATENATE($C$6,I77) -> Peintre en batiment37

Sheet fiches métiers
C1: Peintre en batiment | K1: =IF(ISBLANK(C1),"",C1) -> Peintre en batiment
C2: Compétences générales : | E2: Autres compétences : | K2: =IF(ISBLANK(C42),"",C42) -> Manœuvre en batiment
A3: J | B3: T | K3: =IF(ISBLANK(C83),"",C83) -> Aide ménager
A4: =CONCATENATE(C1,B4) -> Peintre en batiment1 | B4: 1 | D4: non | F4: non | K4: =IF(ISBLANK(C124),"",C124)
A5: =CONCATENATE(C1,B5) -> Peintre en batiment2 | B5: 2 | K5: =IF(ISBLANK(C165),"",C165)
A6: =CONCATENATE(C1,B6) -> Peintre en batiment3 | B6: 3 | K6: =IF(ISBLANK(C206),"",C206)
A7: =CONCATENATE(C1,B7) -> Peintre en batiment4 | B7: 4 | K7: =IF(ISBLANK(C247),"",C247)
A8: =CONCATENATE(C1,B8) -> Peintre en batiment5 | B8: 5 | K8: =IF(ISBLANK(C288),"",C288)
A9: =CONCATENATE(C1,B9) -> Peintre en batiment6 | B9: 6 | K9: =IF(ISBLANK(C329),"",C329)
A10: =CONCATENATE(C1,B10) -> Peintre en batiment7 | B10: 7 | K10: =IF(ISBLANK(C370),"",C370)
A11: =CONCATENATE(C1,B11) -> Peintre en batiment8 | B11: 8 | C11: préparer la peinture | E11: Montage d’échafaudage | K11: =IF(ISBLANK(C411),"",C411)
A12: =CONCATENATE(C1,B12) -> Peintre en batiment9 | B12: 9 | K12: =IF(ISBLANK(C452),"",C452)
A13: =CONCATENATE(C1,B13) -> Peintre en batiment10 | B13: 10 | D13: non | F13: non | K13: =IF(ISBLANK(C493),"",C493)
A14: =CONCATENATE(C1,B14) -> Peintre en batiment11 | B14: 11 | K14: =IF(ISBLANK(C534),"",C534)
A15: =CONCATENATE(C1,B15) -> Peintre en batiment12 | B15: 12 | K15: =IF(ISBLANK(C575),"",C575)
A16: =CONCATENATE(C1,B16) -> Peintre en batiment13 | B16: 13 | K16: =IF(ISBLANK(C616),"",C616)
A17: =CONCATENATE(C1,B17) -> Peintre en batiment14 | B17: 14 | K17: =IF(ISBLANK(C657),"",C657)
A18: =CONCATENATE(C1,B18) -> Peintre en batiment15 | B18: 15 | K18: =IF(ISBLANK(C698),"",C698)
A19: =CONCATENATE(C1,B19) -> Peintre en batiment16 | B19: 16 | K19: =IF(ISBLANK(C739),"",C739)
A20: =CONCATENATE(C1,B20) -> Peintre en batiment17 | B20: 17 | C20: Appliquer les 3 couches murales | E20: Technique de peinture à la taloche | K20: =IF(ISBLANK(C780),"",C780)
A21: =CONCATENATE(C1,B21) -> Peintre en batiment18 | B21: 18
A22: =CONCATENATE(C1,B22) -> Peintre en batiment19 | B22: 19 | D22: non | F22: non
A23: =CONCATENATE(C1,B23) -> Peintre en batiment20 | B23: 20
A24: =CONCATENATE(C1,B24) -> Peintre en batiment21 | B24: 21
A25: =CONCATENATE(C1,B25) -> Peintre en batiment22 | B25: 22
A26: =CONCATENATE(C1,B26) -> Peintre en batiment23 | B26: 23
A27: =CONCATENATE(C1,B27) -> Peintre en batiment24 | B27: 24
A28: =CONCATENATE(C1,B28) -> Peintre en batiment25 | B28: 25
A29: =CONCATENATE(C1,B29) -> Peintre en batiment26 | B29: 26 | C29: Réaliser des enduites à base de stuc | E29: Remplacer une vitre
A30: =CONCATENATE(C1,B30) -> Peintre en batiment27 | B30: 27
A31: =CONCATENATE(C1,B31) -> Peintre en batiment28 | B31: 28 | D31: non | F31: non
A32: =CONCATENATE(C1,B32) -> Peintre en batiment29 | B32: 29
A33: =CONCATENATE(C1,B33) -> Peintre en batiment30 | B33: 30
A34: =CONCATENATE(C1,B34) -> Peintre en batiment31 | B34: 31
A35: =CONCATENATE(C1,B35) -> Peintre en batiment32 | B35: 32
A36: =CONCATENATE(C1,B36) -> Peintre en batiment33 | B36: 33
A37: =CONCATENATE(C1,B37) -> Peintre en batiment34 | B37: 34
A38: =CONCATENATE(C1,B38) -> Peintre en batiment35 | B38: 35
A39: =CONCATENATE(C1,B39) -> Peintre en batiment36 | B39: 36 | C39: Préparer les supports et appliquer des enduits | E39: Utilisation d’outillages éléctroportatifs
A40: =CONCATENATE(C1,B40) -> Peintre en batiment37 | B40: 37
...

Sheet Feuil3
