Workbook

Sheet  INCERTITUDE VOLT DC
A1: FONCTION GENERATION DE TENSION POUR COURANT CONTINU | J1: Incertitude
J2: Incertitude de type A | L2: Incertitude de type B | T2: Incertitude en Volt à 1 sigma
A3: Calibre | B3: Valeur affichée | C3: point | D3: Valeur lue | E3: Correction | F3: Valeur corrigée | G3: Moyenne | H3: Correction sur le point même unité que le calibre | I3: Ecart type | J3: Coefficient K | K3: Répétabilité | L3: Résolution en Volt | M3: coefficient diviseur | N3: Incertitude de résolution en Volt | O3: Incertitude étalon en Volt | P3: coefficient diviseur | Q3: Incertitude étalon en Volt | R3: Ecart max en V | S3: Incertitude sur la dérive en Volt
A4: 320.000 mV | B4: 0.798 | C4: 1 | D4: 0.7983 | E4: =[1]dérive!$C$13*1000 -> 0 | F4: =D4+$E$4 -> 0.7983 | G4: =AVERAGE(F4:F8) -> 0.79812 | H4: =G4-B4 -> 0.00012 | I4: =((MAX(D4:D8)-MIN(D4:D8))/2.33)/1000 -> 1.7167382e-07 | J4: =5.5/3 -> 1.8333333 | K4: =I4*J4 -> 3.1473534e-07 | L4: 1e-06 | M4: 3.4641016 | N4: =L4/M4 -> 2.8867513e-07 | O4: =[1]dérive!$D$13 -> 6e-07 | P4: 2 | Q4: =O4/$P$4 -> 3e-07 | S4: =Q4 -> 3e-07 | T4: =SQRT((K4^2)+(Q4^2)+(S4^2)) -> 5.2825972e-07
C5: 2 | D5: 0.7981 | F5: =D5+$E$4 -> 0.7981
C6: 3 | D6: 0.7983 | F6: =D6+$E$4 -> 0.7983
C7: 4 | D7: 0.7979 | F7: =D7+$E$4 -> 0.7979
C8: 5 | D8: 0.798 | F8: =D8+$E$4 -> 0.798
B9: 20 | C9: 1 | D9: 20.0002 | E9: =[1]dérive!$C$14*1000 -> 0 | F9: =D9+$E$9 -> 20.0002 | G9: =AVERAGE(F9:F13) -> 19.99994 | H9: =G9-B9 -> -6e-05 | I9: =((MAX(D9:D13)-MIN(D9:D13))/2.33)/1000 -> 2.1459227e-07 | J9: =5.5/3 -> 1.8333333 | K9: =I9*J9 -> 3.9341917e-07 | O9: =[1]dérive!$D$14 -> 7e-07 | Q9: =O9/$P$4 -> 3.5e-07 | S9: =Q9 -> 3.5e-07 | T9: =SQRT((K9^2)+(Q9^2)+(S9^2)) -> 6.3228051e-07
C10: 2 | D10: 20 | F10: =D10+$E$9 -> 20
C11: 3 | D11: 19.9997 | F11: =D11+$E$9 -> 19.9997
C12: 4 | D12: 19.9998 | F12: =D12+$E$9 -> 19.9998
C13: 5 | D13: 20 | F13: =D13+$E$9 -> 20
B14: 50 | C14: 1 | D14: 49.9974 | E14: =[1]dérive!$C$15*1000 -> 0 | F14: =D14+$E$14 -> 49.9974 | G14: =AVERAGE(F14:F18) -> 49.99734 | H14: =G14-B14 -> -0.00266 | I14: =((MAX(D14:D18)-MIN(D14:D18))/2.33)/1000 -> 8.583691e-08 | J14: =5.5/3 -> 1.8333333 | K14: =I14*J14 -> 1.5736767e-07 | O14: =[1]dérive!$D$15 -> 8e-07 | Q14: =O14/$P$4 -> 4e-07 | S14: =Q14 -> 4e-07 | T14: =SQRT((K14^2)+(Q14^2)+(S14^2)) -> 5.8716657e-07
C15: 2 | D15: 49.9974 | F15: =D15+$E$14 -> 49.9974
C16: 3 | D16: 49.9972 | F16: =D16+$E$14 -> 49.9972
C17: 4 | D17: 49.9973 | F17: =D17+$E$14 -> 49.9973
C18: 5 | D18: 49.9974 | F18: =D18+$E$14 -> 49.9974
B19: 100 | C19: 1 | D19: 99.9973 | E19: =[1]dérive!$C$16*1000 -> 0.0005 | F19: =D19+$E$19 -> 99.9978 | G19: =AVERAGE(F19:F23) -> 99.99766 | H19: =G19-B19 -> -0.00234 | I19: =((MAX(D19:D23)-MIN(D19:D23))/2.33)/1000 -> 1.2875536e-07 | J19: =5.5/3 -> 1.8333333 | K19: =I19*J19 -> 2.360515e-07 | O19: =[1]dérive!$D$16 -> 9e-07 | Q19: =O19/$P$4 -> 4.5e-07 | S19: =Q19 -> 4.5e-07 | T19: =SQRT((K19^2)+(Q19^2)+(S19^2)) -> 6.7876381e-07
C20: 2 | D20: 99.9971 | F20: =D20+$E$19 -> 99.9976
C21: 3 | D21: 99.997 | F21: =D21+$E$19 -> 99.9975
C22: 4 | D22: 99.9971 | F22: =D22+$E$19 -> 99.9976
C23: 5 | D23: 99.9973 | F23: =D23+$E$19 -> 99.9978
B24: 150 | C24: 1 | D24: 149.997 | E24: =[1]dérive!$C$17*1000 -> 0.0004 | F24: =D24+$E$24 -> 149.9974 | G24: =AVERAGE(F24:F28) -> 149.99744 | H24: =G24-B24 -> -0.00256 | I24: =((MAX(D24:D28)-MIN(D24:D28))/2.33)/1000 -> 1.7167382e-07 | J24: =5.5/3 -> 1.8333333 | K24: =I24*J24 -> 3.1473534e-07 | O24: =[1]dérive!$D$17 -> 1.2e-06 | Q24: =O24/$P$4 -> 6e-07 | S24: =Q24 -> 6e-07 | T24: =SQRT((K24^2)+(Q24^2)+(S24^2)) -> 9.0501842e-07
C25: 2 | D25: 149.9973 | F25: =D25+$E$24 -> 149.9977
C26: 3 | D26: 149.997 | F26: =D26+$E$24 -> 149.9974
C27: 4 | D27: 149.997 | F27: =D27+$E$24 -> 149.9974
C28: 5 | D28: 149.9969 | F28: =D28+$E$24 -> 149.9973
B29: 200 | C29: 1 | D29: 199.9977 | E29: =[1]dérive!$C$18*1000 -> 0.0005 | F29: =D29+$E$29 -> 199.9982 | G29: =AVERAGE(F29:F33) -> 199.99824 | H29: =G29-B29 -> -0.00176 | I29: =((MAX(D29:D33)-MIN(D29:D33))/2.33)/1000 -> 4.2918455e-08 | J29: =5.5/3 -> 1.8333333 | K29: =I29*J29 -> 7.8683834e-08 | O29: =[1]dérive!$D$18 -> 1.4e-06 | Q29: =O29/$P$4 -> 7e-07 | S29: =Q29 -> 7e-07 | T29: =SQRT((K29^2)+(Q29^2)+(S29^2)) -> 9.9307157e-07
C30: 2 | D30: 199.9978 | F30: =D30+$E$29 -> 199.9983
C31: 3 | D31: 199.9978 | F31: =D31+$E$29 -> 199.9983
C32: 4 | D32: 199.9977 | F32: =D32+$E$29 -> 199.9982
C33: 5 | D33: 199.9977 | F33: =D33+$E$29 -> 199.9982
B34: 300 | C34: 1 | D34: 0.299997 | E34: =[1]dérive!$C$27 -> 3e-06 | F34: =D34+$E$34 -> 0.3 | G34: =AVERAGE(F34:F38) -> 0.3 | H34: =G34*1000-B34 -> 0 | I34: =((MAX(D34:D38)-MIN(D34:D38))/2.33)/1000 -> 0 | J34: =5.5/3 -> 1.8333333 | K34: =I34*J34 -> 0 | O34: =[1]dérive!$D$27 -> 3e-06 | Q34: =O34/$P$4 -> 1.5e-06 | S34: =Q34 -> 1.5e-06 | T34: =SQRT((K34^2)+(Q34^2)+(S34^2)) -> 2.1213203e-06
C35: 2 | D35: 0.299997 | F35: =D35+$E$34 -> 0.3
C36: 3 | D36: 0.299997 | F36: =D36+$E$34 -> 0.3
C37: 4 | D37: 0.299997 | F37: =D37+$E$34 -> 0.3
C38: 5 | D38: 0.299997 | F38: =D38+$E$34 -> 0.3
A39: 3.20000 V | B39: -2 | C39: 1 | D39: -2.000031 | E39: =[1]dérive!$C$24 -> 1.8e-05 | F39: =D39+$E$39 -> -2.000013 | G39: =AVERAGE(F39:F43) -> -2.0000122 | H39: =G39-B39 -> -1.22e-05 | I39: =((MAX(D39:D43)-MIN(D39:D43))/2.33) -> 4.2918455e-07 | J39: =5.5/3 -> 1.8333333 | K39: =I39*J39 -> 7.8683834e-07 | L39: 1e-05 | M39: =SQRT(12) -> 3.4641016 | N39: =L39/M39 -> 2.8867513e-06 | O39: =[1]dérive!$D$24 -> 9e-06 | P39: 2 | Q39: =O39/$P$39 -> 4.5e-06 | S39: =Q39 -> 4.5e-06 | T39: =SQRT((K39^2)+(Q39^2)+(S39^2)) -> 6.4124188e-06
C40: 2 | D40: -2.00003 | F40: =D40+$E$39 -> -2.000012
C41: 3 | D41: -2.00003 | F41: =D41+$E$39 -> -2.000012
C42: 4 | D42: -2.00003 | F42: =D42+$E$39 -> -2.000012
C43: 5 | D43: -2.00003 | F43: =D43+$E$39 -> -2.000012
B44: 0.5 | C44: 1 | D44: 0.500012 | E44: =[1]dérive!$C$28 -> 5e-06 | F44: =D44+$E$44 -> 0.500017 | G44: =AVERAGE(F44:F48) -> 0.500017 | H44: =G44-B44 -> 1.7e-05 | I44: =((MAX(D44:D48)-MIN(D44:D48))/2.33) -> 0 | J44: =5.5/3 -> 1.8333333 | K44: =I44*J44 -> 0 | O44: =[1]dérive!$D$28 -> 3e-06 | Q44: =O44/$P$39 -> 1.5e-06 | S44: =Q44 -> 1.5e-06 | T44: =SQRT((K44^2)+(Q44^2)+(S44^2)) -> 2.1213203e-06
C45: 2 | D45: 0.500012 | F45: =D45+$E$44 -> 0.500017
C46: 3 | D46: 0.500012 | F46: =D46+$E$44 -> 0.500017
C47: 4 | D47: 0.500012 | F47: =D47+$E$44 -> 0.500017
C48: 5 | D48: 0.500012 | F48: =D48+$E$44 -> 0.500017
B49: 1 | C49: 1 | D49: 0.999983 | E49: =[1]dérive!$C$29 -> -4e-06 | F49: =D49+$E$49 -> 0.999979 | G49: =AVERAGE(F49:F53) -> 0.999979 | H49: =G49-B49 -> -2.1e-05 | I49: =((MAX(D49:D53)-MIN(D49:D53))/2.33) -> 0 | J49: =5.5/3 -> 1.8333333 | K49: =I49*J49 -> 0 | O49: =[1]dérive!$D$29 -> 4e-06 | Q49: =O49/$P$39 -> 2e-06 | S49: =Q49 -> 2e-06 | T49: =SQRT((K49^2)+(Q49^2)+(S49^2)) -> 2.8284271e-06
C50: 2 | D50: 0.999983 | F50: =D50+$E$49 -> 0.999979
C51: 3 | D51: 0.999983 | F51: =D51+$E$49 -> 0.999979
C52: 4 | D52: 0.999983 | F52: =D52+$E$49 -> 0.999979
C53: 5 | D53: 0.999983 | F53: =D53+$E$49 -> 0.999979
B54: 1.5 | C54: 1 | D54: 1.500009 | E54: =[1]dérive!$C$30 -> 0 | F54: =D54+$E$54 -> 1.500009 | G54: =AVERAGE(F54:F58) -> 1.5000094 | H54: =G54-B54 -> 9.4e-06 | I54: =((MAX(D54:D58)-MIN(D54:D58))/2.33) -> 4.2918455e-07 | J54: =5.5/3 -> 1.8333333 | K54: =I54*J54 -> 7.8683834e-07 | O54: =[1]dérive!$D$30 -> 7e-06 | Q54: =O54/$P$39 -> 3.5e-06 | S54: =Q54 -> 3.5e-06 | T54: =SQRT((K54^2)+(Q54^2)+(S54^2)) -> 5.0118973e-06
C55: 2 | D55: 1.50001 | F55: =D55+$E$54 -> 1.50001
C56: 3 | D56: 1.500009 | F56: =D56+$E$54 -> 1.500009
C57: 4 | D57: 1.500009 | F57: =D57+$E$54 -> 1.500009
C58: 5 | D58: 1.50001 | F58: =D58+$E$54 -> 1.50001
B59: 2 | C59: 1 | D59: 2.000001 | E59: =[1]dérive!$C$31 -> -6e-06 | F59: =D59+$E$59 -> 1.999995 | G59: =AVERAGE(F59:F63) -> 1.999995 | H59: =G59-B59 -> -5e-06 | I59: =((MAX(D59:D63)-MIN(D59:D63))/2.33) -> 0 | J59: =5.5/3 -> 1.8333333 | K59: =I59*J59 -> 0 | O59: =[1]dérive!$D$31 -> 9e-06 | Q59: =O59/$P$39 -> 4.5e-06 | S59: =Q59 -> 4.5e-06 | T59: =SQRT((K59^2)+(Q59^2)+(S59^2)) -> 6.363961e-06
C60: 2 | D60: 2.000001 | F60: =D60+$E$59 -> 1.999995
C61: 3 | D61: 2.000001 | F61: =D61+$E$59 -> 1.999995
C62: 4 | D62: 2.000001 | F62: =D62+$E$59 -> 1.999995
C63: 5 | D63: 2.000001 | F63: =D63+$E$59 -> 1.999995
B64: 3 | C64: 1 | D64: 2.99998 | E64: =[1]dérive!$C$36 -> -1e-05 | F64: =D64+$E$64 -> 2.99997 | G64: =AVERAGE(F64:F68) -> 2.99997 | H64: =G64-B64 -> -3e-05 | I64: =((MAX(D64:D68)-MIN(D64:D68))/2.33) -> 0 | J64: =5.5/3 -> 1.8333333 | K64: =I64*J64 -> 0 | O64: =[1]dérive!$D$36 -> 2e-05 | Q64: =O64/$P$39 -> 1e-05 | S64: =Q64 -> 1e-05 | T64: =SQRT((K64^2)+(Q64^2)+(S64^2)) -> 1.4142136e-05
C65: 2 | D65: 2.99998 | F65: =D65+$E$64 -> 2.99997
C66: 3 | D66: 2.99998 | F66: =D66+$E$64 -> 2.99997
C67: 4 | D67: 2.99998 | F67: =D67+$E$64 -> 2.99997
C68: 5 | D68: 2.99998 | F68: =D68+$E$64 -> 2.99997
A69: 32.0000 V | B69: -20 | C69: 1 | D69: -20.00078 | E69: =[1]dérive!$C$33 -> 0.00017 | F69: =D69+$E$69 -> -20.00061 | G69: =AVERAGE(F69:F73) -> -20.000584 | H69: =G69-B69 -> -0.000584 | I69: =((MAX(D69:D73)-MIN(D69:D73))/2.33) -> 2.1459227e-05 | J69: =5.5/3 -> 1.8333333 | K69: =I69*J69 -> 3.9341917e-05 | L69: 0.0001 | M69: =SQRT(12) -> 3.4641016 | N69: =L69/M69 -> 2.8867513e-05 | O69: =[1]dérive!$D$33 -> 8e-05 | P69: 2 | Q69: =O69/$P$69 -> 4e-05 | S69: =Q69 -> 4e-05 | T69: =SQRT((K69^2)+(Q69^2)+(S69^2)) -> 6.8904183e-05
C70: 2 | D70: -20.00077 | F70: =D70+$E$69 -> -20.0006
C71: 3 | D71: -20.00075 | F71: =D71+$E$69 -> -20.00058
C72: 4 | D72: -20.00074 | F72: =D72+$E$69 -> -20.00057
C73: 5 | D73: -20.00073 | F73: =D73+$E$69 -> -20.00056
B74: 4 | C74: 1 | D74: 4.00007 | E74: =[1]dérive!$C$37 -> -2e-05 | F74: =D74+$E$74 -> 4.00005 | G74: =AVERAGE(F74:F78) -> 4.000046 | H74: =G74-B74 -> 4.6e-05 | I74: =((MAX(D74:D78)-MIN(D74:D78))/2.33) -> 4.2918455e-06 | J74: =5.5/3 -> 1.8333333 | K74: =I74*J74 -> 7.8683834e-06 | O74: =[1]dérive!$D$37 -> 3e-05 | Q74: =O74/$P$69 -> 1.5e-05 | S74: =Q74 -> 1.5e-05 | T74: =SQRT((K74^2)+(Q74^2)+(S74^2)) -> 2.262546e-05
C75: 2 | D75: 4.00007 | F75: =D75+$E$74 -> 4.00005
C76: 3 | D76: 4.00007 | F76: =D76+$E$74 -> 4.00005
C77: 4 | D77: 4.00006 | F77: =D77+$E$74 -> 4.00004
C78: 5 | D78: 4.00006 | F78: =D78+$E$74 -> 4.00004
B79: 6 | C79: 1 | D79: 6.00029 | E79: =[1]dérive!$C$38 -> -2e-05 | F79: =D79+$E$79 -> 6.00027 | G79: =AVERAGE(F79:F83) -> 6.000264 | H79: =G79-B79 -> 0.000264 | I79: =((MAX(D79:D83)-MIN(D79:D83))/2.33) -> 4.2918455e-06 | J79: =5.5/3 -> 1.8333333 | K79: =I79*J79 -> 7.8683834e-06 | O79: =[1]dérive!$D$38 -> 3e-05 | Q79: =O79/$P$69 -> 1.5e-05 | S79: =Q79 -> 1.5e-05 | T79: =SQRT((K79^2)+(Q79^2)+(S79^2)) -> 2.262546e-05
C80: 2 | D80: 6.00029 | F80: =D80+$E$79 -> 6.00027
C81: 3 | D81: 6.00028 | F81: =D81+$E$79 -> 6.00026
C82: 4 | D82: 6.00028 | F82: =D82+$E$79 -> 6.00026
C83: 5 | D83: 6.00028 | F83: =D83+$E$79 -> 6.00026
B84: 8 | C84: 1 | D84: 8.00028 | E84: =[1]dérive!$C$39 -> -4e-05 | F84: =D84+$E$84 -> 8.00024 | G84: =AVERAGE(F84:F88) -> 8.000234 | H84: =G84-B84 -> 0.000234 | I84: =((MAX(D84:D88)-MIN(D84:D88))/2.33) -> 4.2918455e-06 | J84: =5.5/3 -> 1.8333333 | K84: =I84*J84 -> 7.8683834e-06 | O84: =[1]dérive!$D$39 -> 4e-05 | Q84: =O84/$P$69 -> 2e-05 | S84: =Q84 -> 2e-05 | T84: =SQRT((K84^2)+(Q84^2)+(S84^2)) -> 2.9358329e-05
C85: 2 | D85: 8.00027 | F85: =D85+$E$84 -> 8.00023
C86: 3 | D86: 8.00027 | F86: =D86+$E$84 -> 8.00023
C87: 4 | D87: 8.00028 | F87: =D87+$E$84 -> 8.00024
C88: 5 | D88: 8.00027 | F88: =D88+$E$84 -> 8.00023
B89: 10 | C89: 1 | D89: 10.00009 | E89: =[1]dérive!$C$40 -> -6e-05 | F89: =D89+$E$89 -> 10.00003 | G89: =AVERAGE(F89:F93) -> 10.000014 | H89: =G89-B89 -> 1.4e-05 | I89: =((MAX(D89:D93)-MIN(D89:D93))/2.33) -> 1.2875536e-05 | J89: =5.5/3 -> 1.8333333 | K89: =I89*J89 -> 2.360515e-05 | O89: =[1]dérive!$D$40 -> 3e-05 | Q89: =O89/$P$69 -> 1.5e-05 | S89: =Q89 -> 1.5e-05 | T89: =SQRT((K89^2)+(Q89^2)+(S89^2)) -> 3.1736464e-05
C90: 2 | D90: 10.00008 | F90: =D90+$E$89 -> 10.00002
C91: 3 | D91: 10.00007 | F91: =D91+$E$89 -> 10.00001
C92: 4 | D92: 10.00007 | F92: =D92+$E$89 -> 10.00001
C93: 5 | D93: 10.00006 | F93: =D93+$E$89 -> 10
B94: 12 | C94: 1 | D94: 12.00024 | E94: =[1]dérive!$C$41 -> -3e-05 | F94: =D94+$E$94 -> 12.00021 | G94: =AVERAGE(F94:F98) -> 12.000218 | H94: =G94-B94 -> 0.000218 | I94: =((MAX(D94:D98)-MIN(D94:D98))/2.33) -> 4.2918455e-06 | J94: =5.5/3 -> 1.8333333 | K94: =I94*J94 -> 7.8683834e-06 | O94: =[1]dérive!$D$41 -> 5e-05 | Q94: =O94/$P$69 -> 2.5e-05 | S94: =Q94 -> 2.5e-05 | T94: =SQRT((K94^2)+(Q94^2)+(S94^2)) -> 3.6220318e-05
C95: 2 | D95: 12.00025 | F95: =D95+$E$94 -> 12.00022
C96: 3 | D96: 12.00025 | F96: =D96+$E$94 -> 12.00022
C97: 4 | D97: 12.00025 | F97: =D97+$E$94 -> 12.00022
C98: 5 | D98: 12.00025 | F98: =D98+$E$94 -> 12.00022
B99: 14 | C99: 1 | D99: 14.00038 | E99: =[1]dérive!$C$42 -> -4e-05 | F99: =D99+$E$99 -> 14.00034 | G99: =AVERAGE(F99:F103) -> 14.000332 | H99: =G99-B99 -> 0.000332 | I99: =((MAX(D99:D103)-MIN(D99:D103))/2.33) -> 4.2918455e-06 | J99: =5.5/3 -> 1.8333333 | K99: =I99*J99 -> 7.8683834e-06 | O99: =[1]dérive!$D$42 -> 6e-05 | Q99: =O99/$P$69 -> 3e-05 | S99: =Q99 -> 3e-05 | T99: =SQRT((K99^2)+(Q99^2)+(S99^2)) -> 4.3149872e-05
C100: 2 | D100: 14.00037 | F100: =D100+$E$99 -> 14.00033
...

Sheet INCERTITUDE VOLT AC
A1: FONCTION GENERATION DE TENSION POUR COURANT ALTERNATIF | J1: Incertitude
J2: Incertitude de type A | L2: Incertitude de type B | W2: Incertitude en Volt par calibre à 1 sigma
A3: Calibre 1 KHz | B3: Valeur affichée | C3: point | D3: Valeur lue | E3: Correction | F3: Valeur corrigée | G3: Moyenne | H3: Correction sur le point même unité que le calibre | I3: Ecart type | J3: Coefficient K | K3: Répétabilité | L3: Résolution en Volt | M3: coefficient diviseur | N3: Incertitude de résolution en Volt | O3: Incertitude étalon en Volt | P3: coefficient diviseur | Q3: Incertitude étalon en Volt | R3: Ecart max | S3: Incertitude sur la dérive en Volt | T3: DISTORTION + HARMONIQUE | U3: coefficient diviseur | V3: Incertitude sur la DISTORTION + HARMONIQUE en Volt
A4: 320.000 mV | B4: 20 | C4: 1 | D4: 20.0281 | E4: =[1]dérive!$C$68*1000 -> -0.007 | F4: =D4+$E$4 -> 20.0211 | G4: =AVERAGE(F4:F8) -> 20.02154 | H4: =G4-B4 -> 0.02154 | I4: =((MAX(D4:D8)-MIN(D4:D8))/2.33)/1000 -> 5.5793991e-07 | J4: =5.5/3 -> 1.8333333 | K4: =I4*J4 -> 1.0228898e-06 | L4: 1e-06 | M4: =SQRT(12) -> 3.4641016 | N4: =L4/M4 -> 2.8867513e-07 | O4: =[1]dérive!$D$68 -> 8e-06 | P4: 2 | Q4: =O4/$P$4 -> 4e-06 | S4: =Q4 -> 4e-06 | T4: =0.0006*B4/1000 -> 1.2e-05 | U4: =2*SQRT(3) -> 3.4641016 | V4: =T4/$U$4 -> 3.4641016e-06 | W4: =SQRT((K4^2)+(Q4^2)+(S4^2)+(V4^2)) -> 6.7116543e-06 | Y4: =T4/(2*SQRT(3)) -> 3.4641016e-06
C5: 2 | D5: 20.0279 | F5: =D5+$E$4 -> 20.0209
C6: 3 | D6: 20.0288 | F6: =D6+$E$4 -> 20.0218
C7: 4 | D7: 20.0292 | F7: =D7+$E$4 -> 20.0222
C8: 5 | D8: 20.0287 | F8: =D8+$E$4 -> 20.0217
B9: 50 | C9: 1 | D9: 50.0216 | E9: =[1]dérive!$C$69*1000 -> 0 | F9: =D9+$E$9 -> 50.0216 | G9: =AVERAGE(F9:F13) -> 50.0211 | H9: =G9-B9 -> 0.0211 | I9: =((MAX(D9:D13)-MIN(D9:D13))/2.33)/1000 -> 4.2918455e-07 | J9: =5.5/3 -> 1.8333333 | K9: =I9*J9 -> 7.8683834e-07 | O9: =[1]dérive!$D$69 -> 1.7e-05 | Q9: =O9/$P$4 -> 8.5e-06 | S9: =Q9 -> 8.5e-06 | T9: =0.0006*B9/1000 -> 3e-05 | V9: =T9/$U$4 -> 8.660254e-06 | W9: =SQRT((K9^2)+(Q9^2)+(S9^2)+(V9^2)) -> 1.4836412e-05
C10: 2 | D10: 50.021 | F10: =D10+$E$9 -> 50.021
C11: 3 | D11: 50.0209 | F11: =D11+$E$9 -> 50.0209
C12: 4 | D12: 50.0214 | F12: =D12+$E$9 -> 50.0214
C13: 5 | D13: 50.0206 | F13: =D13+$E$9 -> 50.0206
B14: 100 | C14: 1 | D14: 100.0313 | E14: =[1]dérive!$C$70*1000 -> -0.003 | F14: =D14+$E$14 -> 100.0283 | G14: =AVERAGE(F14:F18) -> 100.02838 | H14: =G14-B14 -> 0.02838 | I14: =((MAX(D14:D18)-MIN(D14:D18))/2.33)/1000 -> 1.0300429e-06 | J14: =5.5/3 -> 1.8333333 | K14: =I14*J14 -> 1.888412e-06 | O14: =[1]dérive!$D$70 -> 1e-05 | Q14: =O14/$P$4 -> 5e-06 | S14: =Q14 -> 5e-06 | T14: =0.0006*B14/1000 -> 6e-05 | V14: =T14/$U$4 -> 1.7320508e-05 | W14: =SQRT((K14^2)+(Q14^2)+(S14^2)+(V14^2)) -> 1.8803353e-05
C15: 2 | D15: 100.0328 | F15: =D15+$E$14 -> 100.0298
C16: 3 | D16: 100.0318 | F16: =D16+$E$14 -> 100.0288
C17: 4 | D17: 100.0306 | F17: =D17+$E$14 -> 100.0276
C18: 5 | D18: 100.0304 | F18: =D18+$E$14 -> 100.0274
B19: 150 | C19: 1 | D19: 150.0477 | E19: =[1]dérive!$C$71*1000 -> -0.025 | F19: =D19+$E$19 -> 150.0227 | G19: =AVERAGE(F19:F23) -> 150.02242 | H19: =G19-B19 -> 0.02242 | I19: =((MAX(D19:D23)-MIN(D19:D23))/2.33)/1000 -> 1.0729614e-06 | J19: =5.5/3 -> 1.8333333 | K19: =I19*J19 -> 1.9670959e-06 | O19: =[1]dérive!$D$71 -> 1.5e-05 | Q19: =O19/$P$4 -> 7.5e-06 | S19: =Q19 -> 7.5e-06 | T19: =0.0006*B19/1000 -> 9e-05 | V19: =T19/$U$4 -> 2.5980762e-05 | W19: =SQRT((K19^2)+(Q19^2)+(S19^2)+(V19^2)) -> 2.813129e-05
C20: 2 | D20: 150.049 | F20: =D20+$E$19 -> 150.024
C21: 3 | D21: 150.0474 | F21: =D21+$E$19 -> 150.0224
C22: 4 | D22: 150.0465 | F22: =D22+$E$19 -> 150.0215
C23: 5 | D23: 150.0465 | F23: =D23+$E$19 -> 150.0215
B24: 200 | C24: 1 | D24: 200.0891 | E24: =[1]dérive!$C$72*1000 -> -0.064 | F24: =D24+E24 -> 200.0251 | G24: =AVERAGE(F24:F28) -> 200.02516 | H24: =G24-B24 -> 0.02516 | I24: =((MAX(D24:D28)-MIN(D24:D28))/2.33)/1000 -> 7.2961373e-07 | J24: =5.5/3 -> 1.8333333 | K24: =I24*J24 -> 1.3376252e-06 | O24: =[1]dérive!$D$72 -> 1.6e-05 | Q24: =O24/$P$4 -> 8e-06 | S24: =Q24 -> 8e-06 | T24: =0.0006*B24/1000 -> 0.00012 | V24: =T24/$U$4 -> 3.4641016e-05 | W24: =SQRT((K24^2)+(Q24^2)+(S24^2)+(V24^2)) -> 3.6466275e-05
C25: 2 | D25: 200.09 | F25: =D25+E24 -> 200.026
C26: 3 | D26: 200.0899 | F26: =D26+E24 -> 200.0259
C27: 4 | D27: 200.0885 | F27: =D27+E24 -> 200.0245
C28: 5 | D28: 200.0883 | F28: =D28+E24 -> 200.0243
B29: 300 | C29: 1 | D29: 0.299998 | E29: =[1]dérive!$C$76 -> 7.2e-05 | F29: =D29+$E$29 -> 0.30007 | G29: =AVERAGE(F29:F33) -> 0.3000658 | H29: =G29-B29/1000 -> 6.58e-05 | I29: =((MAX(D29:D33)-MIN(D29:D33))/2.33)/1000 -> 3.0042918e-09 | J29: =5.5/3 -> 1.8333333 | K29: =I29*J29 -> 5.5078684e-09 | O29: =[1]dérive!$D$76 -> 2.4e-05 | Q29: =O29/$P$4 -> 1.2e-05 | S29: =Q29 -> 1.2e-05 | T29: =0.0006*B29/1000 -> 0.00018 | V29: =T29/$U$4 -> 5.1961524e-05 | W29: =SQRT((K29^2)+(Q29^2)+(S29^2)+(V29^2)) -> 5.4662602e-05
C30: 2 | D30: 0.299994 | F30: =D30+$E$29 -> 0.300066
C31: 3 | D31: 0.299992 | F31: =D31+$E$29 -> 0.300064
C32: 4 | D32: 0.299991 | F32: =D32+$E$29 -> 0.300063
C33: 5 | D33: 0.299994 | F33: =D33+$E$29 -> 0.300066
A34: 3.20000 V | B34: 0.5 | C34: 1 | D34: 0.500018 | E34: =[1]dérive!$C$77 -> 6e-05 | F34: =D34+$E$34 -> 0.500078 | G34: =AVERAGE(F34:F38) -> 0.5000728 | H34: =G34-B34 -> 7.28e-05 | I34: =((MAX(D34:D38)-MIN(D34:D38))/2.33) -> 4.72103e-06 | J34: =5.5/3 -> 1.8333333 | K34: =I34*J34 -> 8.6552217e-06 | L34: 1e-05 | M34: =2*SQRT(3) -> 3.4641016 | N34: =L34/M34 -> 2.8867513e-06 | O34: =[1]dérive!$D$77 -> 4e-05 | P34: 2 | Q34: =O34/$P$34 -> 2e-05 | S34: =Q34 -> 2e-05 | T34: =0.0006*B34 -> 0.0003 | U34: =2*SQRT(3) -> 3.4641016 | V34: =T34/$U$34 -> 8.660254e-05 | W34: =SQRT((K34^2)+(Q34^2)+(S34^2)+(V34^2)) -> 9.151455e-05
C35: 2 | D35: 0.500017 | F35: =D35+$E$34 -> 0.500077
C36: 3 | D36: 0.500014 | F36: =D36+$E$34 -> 0.500074
C37: 4 | D37: 0.500007 | F37: =D37+$E$34 -> 0.500067
C38: 5 | D38: 0.500008 | F38: =D38+$E$34 -> 0.500068
B39: 1 | C39: 1 | D39: 1.000221 | E39: =[1]dérive!$C$78 -> -8e-05 | F39: =D39+$E$39 -> 1.000141 | G39: =AVERAGE(F39:F43) -> 1.0001506 | H39: =G39-B39 -> 0.0001506 | I39: =((MAX(D39:D43)-MIN(D39:D43))/2.33) -> 6.8669528e-06 | J39: =5.5/3 -> 1.8333333 | K39: =I39*J39 -> 1.2589413e-05 | O39: =[1]dérive!$D$78 -> 8e-05 | Q39: =O39/$P$34 -> 4e-05 | S39: =Q39 -> 4e-05 | T39: =0.0006*B39 -> 0.0006 | V39: =T39/$U$34 -> 0.00017320508 | W39: =SQRT((K39^2)+(Q39^2)+(S39^2)+(V39^2)) -> 0.00018264308
C40: 2 | D40: 1.000237 | F40: =D40+$E$39 -> 1.000157
C41: 3 | D41: 1.000235 | F41: =D41+$E$39 -> 1.000155
C42: 4 | D42: 1.000224 | F42: =D42+$E$39 -> 1.000144
C43: 5 | D43: 1.000236 | F43: =D43+$E$39 -> 1.000156
B44: 1.5 | C44: 1 | D44: 1.5006 | E44: =[1]dérive!$C$79 -> -0.00038 | F44: =D44+$E$44 -> 1.50022 | G44: =AVERAGE(F44:F48) -> 1.500197 | H44: =G44-B44 -> 0.000197 | I44: =((MAX(D44:D48)-MIN(D44:D48))/2.33) -> 1.8025751e-05 | J44: =5.5/3 -> 1.8333333 | K44: =I44*J44 -> 3.304721e-05 | O44: =[1]dérive!$D$79 -> 0.00012 | Q44: =O44/$P$34 -> 6e-05 | S44: =Q44 -> 6e-05 | T44: =0.0006*B44 -> 0.0009 | V44: =T44/$U$34 -> 0.00025980762 | W44: =SQRT((K44^2)+(Q44^2)+(S44^2)+(V44^2)) -> 0.00027530368
C45: 2 | D45: 1.500589 | F45: =D45+$E$44 -> 1.500209
C46: 3 | D46: 1.500573 | F46: =D46+$E$44 -> 1.500193
C47: 4 | D47: 1.500558 | F47: =D47+$E$44 -> 1.500178
C48: 5 | D48: 1.500565 | F48: =D48+$E$44 -> 1.500185
B49: 2 | C49: 1 | D49: 2.001026 | E49: =[1]dérive!$C$80 -> -0.00086 | F49: =D49+$E$49 -> 2.000166 | G49: =AVERAGE(F49:F53) -> 2.0001542 | H49: =G49-B49 -> 0.0001542 | I49: =((MAX(D49:D53)-MIN(D49:D53))/2.33) -> 8.1545064e-06 | J49: =5.5/3 -> 1.8333333 | K49: =I49*J49 -> 1.4949928e-05 | O49: =[1]dérive!$D$80 -> 0.00016 | Q49: =O49/$P$34 -> 8e-05 | S49: =Q49 -> 8e-05 | T49: =0.0006*B49 -> 0.0012 | V49: =T49/$U$34 -> 0.00034641016 | W49: =SQRT((K49^2)+(Q49^2)+(S49^2)+(V49^2)) -> 0.00036472387
C50: 2 | D50: 2.001007 | F50: =D50+$E$49 -> 2.000147
C51: 3 | D51: 2.00101 | F51: =D51+$E$49 -> 2.00015
C52: 4 | D52: 2.001009 | F52: =D52+$E$49 -> 2.000149
C53: 5 | D53: 2.001019 | F53: =D53+$E$49 -> 2.000159
B54: 3 | C54: 1 | D54: 3.00064 | E54: =[1]dérive!$C$83 -> -0.0001 | F54: =D54+$E$54 -> 3.00054 | G54: =AVERAGE(F54:F58) -> 3.000528 | H54: =G54-B54 -> 0.000528 | I54: =((MAX(D54:D58)-MIN(D54:D58))/2.33) -> 1.7167382e-05 | J54: =5.5/3 -> 1.8333333 | K54: =I54*J54 -> 3.1473534e-05 | O54: =[1]dérive!$D$83 -> 0.0003 | Q54: =O54/$P$34 -> 0.00015 | S54: =Q54 -> 0.00015 | T54: =0.0006*B54 -> 0.0018 | V54: =T54/$U$34 -> 0.00051961524 | W54: =SQRT((K54^2)+(Q54^2)+(S54^2)+(V54^2)) -> 0.0005621304
C55: 2 | D55: 3.00065 | F55: =D55+$E$54 -> 3.00055
C56: 3 | D56: 3.00062 | F56: =D56+$E$54 -> 3.00052
C57: 4 | D57: 3.00061 | F57: =D57+$E$54 -> 3.00051
C58: 5 | D58: 3.00062 | F58: =D58+$E$54 -> 3.00052
A59: 32.0000 V | B59: 5 | C59: 1 | D59: 5.00078 | E59: =[1]dérive!$C$84 -> -0.0006 | F59: =D59+$E$59 -> 5.00018 | G59: =AVERAGE(F59:F63) -> 5.000182 | H59: =G59-B59 -> 0.000182 | I59: =((MAX(D59:D63)-MIN(D59:D63))/2.33) -> 1.7167382e-05 | J59: =5.5/3 -> 1.8333333 | K59: =I59*J59 -> 3.1473534e-05 | L59: 0.0001 | M59: =2*SQRT(3) -> 3.4641016 | N59: =L59/M59 -> 2.8867513e-05 | O59: =[1]dérive!$D$84 -> 0.0005 | P59: 2 | Q59: =O59/$P$59 -> 0.00025 | S59: =Q59 -> 0.00025 | T59: =0.001*B59 -> 0.005 | U59: =2*SQRT(3) -> 3.4641016 | V59: =T59/$U$59 -> 0.0014433757 | W59: =SQRT((K59^2)+(Q59^2)+(S59^2)+(V59^2)) -> 0.0014863795
C60: 2 | D60: 5.00076 | F60: =D60+$E$59 -> 5.00016
C61: 3 | D61: 5.0008 | F61: =D61+$E$59 -> 5.0002
C62: 4 | D62: 5.00078 | F62: =D62+$E$59 -> 5.00018
C63: 5 | D63: 5.00079 | F63: =D63+$E$59 -> 5.00019
B64: 10 | C64: 1 | D64: 10.00195 | E64: =[1]dérive!$C$85 -> 0.0002 | F64: =D64+$E$64 -> 10.00215 | G64: =AVERAGE(F64:F68) -> 10.002228 | H64: =G64-B64 -> 0.002228 | I64: =((MAX(D64:D68)-MIN(D64:D68))/2.33) -> 7.2961373e-05 | J64: =5.5/3 -> 1.8333333 | K64: =I64*J64 -> 0.00013376252 | O64: =[1]dérive!$D$85 -> 0.001 | Q64: =O64/$P$59 -> 0.0005 | S64: =Q64 -> 0.0005 | T64: =0.001*B64 -> 0.01 | V64: =T64/$U$59 -> 0.0028867513 | W64: =SQRT((K64^2)+(Q64^2)+(S64^2)+(V64^2)) -> 0.002975101
C65: 2 | D65: 10.00204 | F65: =D65+$E$64 -> 10.00224
C66: 3 | D66: 10.00212 | F66: =D66+$E$64 -> 10.00232
C67: 4 | D67: 10.00199 | F67: =D67+$E$64 -> 10.00219
C68: 5 | D68: 10.00204 | F68: =D68+$E$64 -> 10.00224
B69: 15 | C69: 1 | D69: 15.00433 | E69: =[1]dérive!$C$86 -> -0.0019 | F69: =D69+$E$69 -> 15.00243 | G69: =AVERAGE(F69:F73) -> 15.00251 | H69: =G69-B69 -> 0.00251 | I69: =((MAX(D69:D73)-MIN(D69:D73))/2.33) -> 9.4420601e-05 | J69: =5.5/3 -> 1.8333333 | K69: =I69*J69 -> 0.00017310443 | O69: =[1]dérive!$D$86 -> 0.0015 | Q69: =O69/$P$59 -> 0.00075 | S69: =Q69 -> 0.00075 | T69: =0.001*B69 -> 0.015 | V69: =T69/$U$59 -> 0.004330127 | W69: =SQRT((K69^2)+(Q69^2)+(S69^2)+(V69^2)) -> 0.0044614981
C70: 2 | D70: 15.00434 | F70: =D70+$E$69 -> 15.00244
C71: 3 | D71: 15.00444 | F71: =D71+$E$69 -> 15.00254
C72: 4 | D72: 15.00439 | F72: =D72+$E$69 -> 15.00249
C73: 5 | D73: 15.00455 | F73: =D73+$E$69 -> 15.00265
B74: 20 | C74: 1 | D74: 20.00827 | E74: =[1]dérive!$C$87 -> -0.0058 | F74: =D74+$E$74 -> 20.00247 | G74: =AVERAGE(F74:F78) -> 20.002362 | H74: =G74-B74 -> 0.002362 | I74: =((MAX(D74:D78)-MIN(D74:D78))/2.33) -> 9.4420601e-05 | J74: =5.5/3 -> 1.8333333 | K74: =I74*J74 -> 0.00017310443 | O74: =[1]dérive!$D$87 -> 0.002 | Q74: =O74/$P$59 -> 0.001 | S74: =Q74 -> 0.001 | T74: =0.001*B74 -> 0.02 | V74: =T74/$U$59 -> 0.0057735027 | W74: =SQRT((K74^2)+(Q74^2)+(S74^2)+(V74^2)) -> 0.0059467048
C75: 2 | D75: 20.00823 | F75: =D75+$E$74 -> 20.00243
C76: 3 | D76: 20.00812 | F76: =D76+$E$74 -> 20.00232
C77: 4 | D77: 20.00805 | F77: =D77+$E$74 -> 20.00225
C78: 5 | D78: 20.00814 | F78: =D78+$E$74 -> 20.00234
B79: 30 | C79: 1 | D79: 29.9985 | E79: =[1]dérive!$C$90 -> 0.009 | F79: =D79+$E$79 -> 30.0075 | G79: =AVERAGE(F79:F83) -> 30.00748 | H79: =G79-B79 -> 0.00748 | I79: =((MAX(D79:D83)-MIN(D79:D83))/2.33) -> 8.583691e-05 | J79: =5.5/3 -> 1.8333333 | K79: =I79*J79 -> 0.00015736767 | O79: =[1]dérive!$D$90 -> 0.003 | Q79: =O79/$P$59 -> 0.0015 | S79: =Q79 -> 0.0015 | T79: =0.001*B79 -> 0.03 | V79: =T79/$U$59 -> 0.008660254 | W79: =SQRT((K79^2)+(Q79^2)+(S79^2)+(V79^2)) -> 0.0089176659
C80: 2 | D80: 29.9986 | F80: =D80+$E$79 -> 30.0076
C81: 3 | D81: 29.9985 | F81: =D81+$E$79 -> 30.0075
C82: 4 | D82: 29.9984 | F82: =D82+$E$79 -> 30.0074
C83: 5 | D83: 29.9984 | F83: =D83+$E$79 -> 30.0074
B84: 50 | C84: 1 | D84: 49.999 | E84: =[1]dérive!$C$91 -> 0.009 | F84: =D84+$E$84 -> 50.008 | G84: =AVERAGE(F84:F88) -> 50.0079 | H84: =G84-B84 -> 0.0079 | I84: =((MAX(D84:D88)-MIN(D84:D88))/2.33) -> 0.00012875536 | J84: =5.5/3 -> 1.8333333 | K84: =I84*J84 -> 0.0002360515 | L84: 0.001 | M84: =2*SQRT(3) -> 3.4641016 | N84: =L84/M84 -> 0.00028867513 | O84: =[1]dérive!$D$91 -> 0.005 | P84: 2 | Q84: =O84/$P$84 -> 0.0025 | S84: =Q84 -> 0.0025 | T84: =0.001*B84 -> 0.05 | U84: =2*SQRT(3) -> 3.4641016 | V84: =T84/$U$84 -> 0.014433757 | W84: =SQRT((K84^2)+(Q84^2)+(S84^2)+(V84^2)) -> 0.014862337
C85: 2 | D85: 49.9989 | F85: =D85+$E$84 -> 50.0079
C86: 3 | D86: 49.999 | F86: =D86+$E$84 -> 50.008
C87: 4 | D87: 49.9989 | F87: =D87+$E$84 -> 50.0079
C88: 5 | D88: 49.9987 | F88: =D88+$E$84 -> 50.0077
B89: 100 | C89: 1 | D89: 100.0169 | E89: =[1]dérive!$C$92 -> -0.003 | F89: =D89+$E$89 -> 100.0139 | G89: =AVERAGE(F89:F93) -> 100.01504 | H89: =G89-B89 -> 0.01504 | I89: =((MAX(D89:D93)-MIN(D89:D93))/2.33) -> 0.0010300429 | J89: =5.5/3 -> 1.8333333 | K89: =I89*J89 -> 0.001888412 | O89: =[1]dérive!$D$92 -> 0.01 | Q89: =O89/$P$84 -> 0.005 | S89: =Q89 -> 0.005 | T89: =0.001*B89 -> 0.1 | V89: =T89/$U$84 -> 0.028867513 | W89: =SQRT((K89^2)+(Q89^2)+(S89^2)+(V89^2)) -> 0.029780857
C90: 2 | D90: 100.0176 | F90: =D90+$E$89 -> 100.0146
C91: 3 | D91: 100.0176 | F91: =D91+$E$89 -> 100.0146
C92: 4 | D92: 100.0188 | F92: =D92+$E$89 -> 100.0158
C93: 5 | D93: 100.0193 | F93: =D93+$E$89 -> 100.0163
B94: 150 | C94: 1 | D94: 150.0592 | E94: =[1]dérive!$C$93 -> -0.031 | F94: =D94+$E$94 -> 150.0282 | G94: =AVERAGE(F94:F98) -> 150.02696 | H94: =G94-B94 -> 0.02696 | I94: =((MAX(D94:D98)-MIN(D94:D98))/2.33) -> 0.0014592275 | J94: =5.5/3 -> 1.8333333 | K94: =I94*J94 -> 0.0026752504 | O94: =[1]dérive!$D$93 -> 0.015 | Q94: =O94/$P$84 -> 0.0075 | S94: =Q94 -> 0.0075 | T94: =0.0032*B94 -> 0.48 | V94: =T94/$U$84 -> 0.13856406 | W94: =SQRT((K94^2)+(Q94^2)+(S94^2)+(V94^2)) -> 0.13899517
C95: 2 | D95: 150.0573 | F95: =D95+$E$94 -> 150.0263
C96: 3 | D96: 150.0598 | F96: =D96+$E$94 -> 150.0288
C97: 4 | D97: 150.0571 | F97: =D97+$E$94 -> 150.0261
C98: 5 | D98: 150.0564 | F98: =D98+$E$94 -> 150.0254
B99: 200 | C99: 1 | D99: 200.1079 | E99: =[1]dérive!$C$96 -> -0.021 | F99: =D99+$E$99 -> 200.0869 | G99: =AVERAGE(F99:F103) -> 200.08666 | H99: =G99-B99 -> 0.08666 | I99: =((MAX(D99:D103)-MIN(D99:D103))/2.33) -> 0.00094420601 | J99: =5.5/3 -> 1.8333333 | K99: =I99*J99 -> 0.0017310443 | O99: =[1]dérive!$D$94 -> 0.02 | Q99: =O99/$P$84 -> 0.01 | S99: =Q99 -> 0.01 | T99: =0.0032*B99 -> 0.64 | V99: =T99/$U$84 -> 0.18475209 | W99: =SQRT((K99^2)+(Q99^2)+(S99^2)+(V99^2)) -> 0.18530065
C100: 2 | D100: 200.1082 | F100: =D100+$E$99 -> 200.0872
...

Sheet INCERTITUDE AMPERE DC
A1: FONCTION GENERATION D'INTENSITE POUR COURANT CONTINU | J1: Incertitude
J2: Incertitude de type A | L2: Incertitude de type B | T2: Incertitude en AMPERE à 1 sigma
A3: Calibre | B3: Valeur affichée | C3: point | D3: Valeur lue | E3: Correction | F3: Valeur corrigée | G3: Moyenne | H3: Correction sur le point même unité que le calibre | I3: Ecart type | J3: Coefficient K | K3: Répétabilité | L3: Résolution en Ampére | M3: coefficient diviseur | N3: Incertitude de résolution en Ampére | O3: Incertitude étalon en Ampére | P3: coefficient diviseur | Q3: Incertitude étalon en Ampére | R3: Ecart max | S3: Incertitude sur la dérive en Ampère
A4: 320.000 µA | B4: -200 | C4: 1 | D4: -0.200021 | E4: =[1]dérive!$C$183*1000 -> 2.1e-05 | F4: =D4+$E$4 -> -0.2 | G4: =AVERAGE(F4:F8) -> -0.2 | H4: =G4-(B4/1000) -> 0 | I4: =(STDEV(F4:F8)/SQRT(5))/1000000 -> 0 | J4: =5.5/3 -> 1.8333333 | K4: =I4*J4 -> 0 | L4: 1e-09 | M4: =SQRT(12) -> 3.4641016 | N4: =L4/M4 -> 2.8867513e-10 | O4: =[1]dérive!$D$183 -> 5e-09 | P4: 2 | Q4: =O4/$P$4 -> 2.5e-09 | S4: =Q4 -> 2.5e-09 | T4: =SQRT((K4^2)+(Q4^2)+(S4^2)+($N$4^2)) -> 3.5472994e-09
C5: 2 | D5: -0.200021 | F5: =D5+$E$4 -> -0.2
C6: 3 | D6: -0.200021 | F6: =D6+$E$4 -> -0.2
C7: 4 | D7: -0.200021 | F7: =D7+$E$4 -> -0.2
C8: 5 | D8: -0.200021 | F8: =D8+$E$4 -> -0.2
B9: 1 | C9: 1 | D9: 1.0035 | E9: =[1]dérive!$C$174*1000000 -> -0.0002 | F9: =D9+$E$9 -> 1.0033 | G9: =AVERAGE(F9:F13) -> 1.0033 | H9: =G9-B9 -> 0.0033 | I9: =(STDEV(F9:F13)/SQRT(5))/1000000 -> 1.4491377e-10 | J9: =5.5/3 -> 1.8333333 | K9: =I9*J9 -> 2.6567524e-10 | O9: =[1]dérive!$D$174 -> 2e-10 | Q9: =O9/$P$4 -> 1e-10 | S9: =Q9 -> 1e-10 | T9: =SQRT((K9^2)+(Q9^2)+(S9^2)+($N$4^2)) -> 4.1703317e-10
C10: 2 | D10: 1.0039 | F10: =D10+$E$9 -> 1.0037
C11: 3 | D11: 1.003 | F11: =D11+$E$9 -> 1.0028
C12: 4 | D12: 1.0035 | F12: =D12+$E$9 -> 1.0033
C13: 5 | D13: 1.0036 | F13: =D13+$E$9 -> 1.0034
B14: 20 | C14: 1 | D14: 20.005 | E14: =[1]dérive!$C$175*1000000 -> -0.0028 | F14: =D14+$E$14 -> 20.0022 | G14: =AVERAGE(F14:F18) -> 20.00236 | H14: =G14-B14 -> 0.00236 | I14: =(STDEV(F14:F18)/SQRT(5))/1000000 -> 1.029563e-10 | J14: =5.5/3 -> 1.8333333 | K14: =I14*J14 -> 1.8875322e-10 | O14: =[1]dérive!$D$175 -> 6e-10 | Q14: =O14/$P$4 -> 3e-10 | S14: =Q14 -> 3e-10 | T14: =SQRT((K14^2)+(Q14^2)+(S14^2)+($N$4^2)) -> 5.4677336e-10
C15: 2 | D15: 20.0054 | F15: =D15+$E$14 -> 20.0026
C16: 3 | D16: 20.0054 | F16: =D16+$E$14 -> 20.0026
C17: 4 | D17: 20.0051 | F17: =D17+$E$14 -> 20.0023
C18: 5 | D18: 20.0049 | F18: =D18+$E$14 -> 20.0021
B19: 50 | C19: 1 | D19: 50.0062 | E19: =[1]dérive!$C$176*1000000 -> -0.0065 | F19: =D19+$E$19 -> 49.9997 | G19: =AVERAGE(F19:F23) -> 49.99974 | H19: =G19-B19 -> -0.00026 | I19: =(STDEV(F19:F23)/SQRT(5))/1000000 -> 5.0990195e-11 | J19: =5.5/3 -> 1.8333333 | K19: =I19*J19 -> 9.3482024e-11 | O19: =[1]dérive!$D$176 -> 2e-09 | Q19: =O19/$P$4 -> 1e-09 | S19: =Q19 -> 1e-09 | T19: =SQRT((K19^2)+(Q19^2)+(S19^2)+($N$4^2)) -> 1.4463997e-09
C20: 2 | D20: 50.0061 | F20: =D20+$E$19 -> 49.9996
C21: 3 | D21: 50.0063 | F21: =D21+$E$19 -> 49.9998
C22: 4 | D22: 50.0064 | F22: =D22+$E$19 -> 49.9999
C23: 5 | D23: 50.0062 | F23: =D23+$E$19 -> 49.9997
B24: 100 | C24: 1 | D24: 100.0121 | E24: =[1]dérive!$C$177*1000000 -> -0.0137 | F24: =D24+$E$24 -> 99.9984 | G24: =AVERAGE(F24:F28) -> 99.99858 | H24: =G24-B24 -> -0.00142 | I24: =(STDEV(F24:F28)/SQRT(5))/1000000 -> 1.1135529e-10 | J24: =5.5/3 -> 1.8333333 | K24: =I24*J24 -> 2.0415136e-10 | O24: =[1]dérive!$D$177 -> 2.7e-09 | Q24: =O24/$P$4 -> 1.35e-09 | S24: =Q24 -> 1.35e-09 | T24: =SQRT((K24^2)+(Q24^2)+(S24^2)+($N$4^2)) -> 1.9416516e-09
C25: 2 | D25: 100.0121 | F25: =D25+$E$24 -> 99.9984
C26: 3 | D26: 100.0121 | F26: =D26+$E$24 -> 99.9984
C27: 4 | D27: 100.0126 | F27: =D27+$E$24 -> 99.9989
C28: 5 | D28: 100.0125 | F28: =D28+$E$24 -> 99.9988
B29: 150 | C29: 1 | D29: 150.0194 | E29: =[1]dérive!$C$178*1000000 -> -0.02 | F29: =D29+$E$29 -> 149.9994 | G29: =AVERAGE(F29:F33) -> 149.99916 | H29: =G29-B29 -> -0.00084 | I29: =(STDEV(F29:F33)/SQRT(5))/1000000 -> 1.2884099e-10 | J29: =5.5/3 -> 1.8333333 | K29: =I29*J29 -> 2.3620848e-10 | O29: =[1]dérive!$D$178 -> 4e-09 | Q29: =O29/$P$4 -> 2e-09 | S29: =Q29 -> 2e-09 | T29: =SQRT((K29^2)+(Q29^2)+(S29^2)+($N$4^2)) -> 2.8529157e-09
C30: 2 | D30: 150.0188 | F30: =D30+$E$29 -> 149.9988
C31: 3 | D31: 150.0189 | F31: =D31+$E$29 -> 149.9989
C32: 4 | D32: 150.0194 | F32: =D32+$E$29 -> 149.9994
C33: 5 | D33: 150.0193 | F33: =D33+$E$29 -> 149.9993
B34: 200 | C34: 1 | D34: 200.0259 | E34: =[1]dérive!$C$179*1000000 -> -0.027 | F34: =D34+$E$34 -> 199.9989 | G34: =AVERAGE(F34:F38) -> 199.99892 | H34: =G34-B34 -> -0.00108 | I34: =(STDEV(F34:F38)/SQRT(5))/1000000 -> 9.1651514e-11 | J34: =5.5/3 -> 1.8333333 | K34: =I34*J34 -> 1.6802778e-10 | O34: =[1]dérive!$D$179 -> 4e-09 | Q34: =O34/$P$4 -> 2e-09 | S34: =Q34 -> 2e-09 | T34: =SQRT((K34^2)+(Q34^2)+(S34^2)+($N$4^2)) -> 2.8480812e-09
C35: 2 | D35: 200.0256 | F35: =D35+$E$34 -> 199.9986
C36: 3 | D36: 200.0261 | F36: =D36+$E$34 -> 199.9991
C37: 4 | D37: 200.0259 | F37: =D37+$E$34 -> 199.9989
C38: 5 | D38: 200.0261 | F38: =D38+$E$34 -> 199.9991
B39: 300 | C39: 1 | D39: 0.300023 | E39: =[1]dérive!$C$185*1000 -> -2.6e-05 | F39: =D39+$E$39 -> 0.299997 | G39: =AVERAGE(F39:F43) -> 0.299997 | H39: =G39-(B39/1000) -> -3e-06 | I39: =(STDEV(F39:F43)/SQRT(5))/1000000 -> 0 | J39: =5.5/3 -> 1.8333333 | K39: =I39*J39 -> 0 | O39: =[1]dérive!$D$185 -> 1.7e-08 | Q39: =O39/$P$4 -> 8.5e-09 | S39: =Q39 -> 8.5e-09 | T39: =SQRT((K39^2)+(Q39^2)+(S39^2)+($N$4^2)) -> 1.2024281e-08
C40: 2 | D40: 0.300023 | F40: =D40+$E$39 -> 0.299997
C41: 3 | D41: 0.300023 | F41: =D41+$E$39 -> 0.299997
C42: 4 | D42: 0.300023 | F42: =D42+$E$39 -> 0.299997
C43: 5 | D43: 0.300023 | F43: =D43+$E$39 -> 0.299997
A44: 3.20000 mA | B44: -2 | C44: 1 | D44: -2.000178 | E44: =[1]dérive!$C$182*1000 -> 0.00019 | F44: =D44+$E$44 -> -1.999988 | G44: =AVERAGE(F44:F48) -> -1.999988 | H44: =G44-B44 -> 1.2e-05 | I44: =(STDEV(F44:F48)/SQRT(5))/1000 -> 0 | J44: =5.5/3 -> 1.8333333 | K44: =I44*J44 -> 0 | L44: 1e-08 | M44: 3.4641016 | N44: =L44/M44 -> 2.8867513e-09 | O44: =[1]dérive!$D$182 -> 4e-08 | P44: 2 | Q44: =O44/$P$44 -> 2e-08 | S44: =Q44 -> 2e-08 | T44: =SQRT((K44^2)+(Q44^2)+(S44^2)+($N$44^2)) -> 2.8431204e-08
C45: 2 | D45: -2.000178 | F45: =D45+$E$44 -> -1.999988
C46: 3 | D46: -2.000178 | F46: =D46+$E$44 -> -1.999988
C47: 4 | D47: -2.000178 | F47: =D47+$E$44 -> -1.999988
C48: 5 | D48: -2.000178 | F48: =D48+$E$44 -> -1.999988
B49: 0.5 | C49: 1 | D49: 0.500053 | E49: =[1]dérive!$C$186*1000 -> -4.5e-05 | F49: =D49+$E$49 -> 0.500008 | G49: =AVERAGE(F49:F53) -> 0.500008 | H49: =G49-B49 -> 8e-06 | I49: =(STDEV(F49:F53)/SQRT(5))/1000 -> 0 | J49: =5.5/3 -> 1.8333333 | K49: =I49*J49 -> 0 | O49: =[1]dérive!$D$186 -> 2e-08 | Q49: =O49/$P$44 -> 1e-08 | S49: =Q49 -> 1e-08 | T49: =SQRT((K49^2)+(Q49^2)+(S49^2)+($N$44^2)) -> 1.4433757e-08
C50: 2 | D50: 0.500053 | F50: =D50+$E$49 -> 0.500008
C51: 3 | D51: 0.500053 | F51: =D51+$E$49 -> 0.500008
C52: 4 | D52: 0.500053 | F52: =D52+$E$49 -> 0.500008
C53: 5 | D53: 0.500053 | F53: =D53+$E$49 -> 0.500008
B54: 1 | C54: 1 | D54: 1.000059 | E54: =[1]dérive!$C$187*1000 -> -9.3e-05 | F54: =D54+$E$54 -> 0.999966 | G54: =AVERAGE(F54:F58) -> 0.9999658 | H54: =G54-B54 -> -3.42e-05 | I54: =((MAX(D54:D58)-MIN(D54:D58))/2.33)/1000 -> 4.2918455e-10 | J54: =5.5/3 -> 1.8333333 | K54: =I54*J54 -> 7.8683834e-10 | O54: =[1]dérive!$D$187 -> 2.7e-08 | Q54: =O54/$P$44 -> 1.35e-08 | S54: =Q54 -> 1.35e-08 | T54: =SQRT((K54^2)+(Q54^2)+(S54^2)+($N$44^2)) -> 1.9324918e-08
C55: 2 | D55: 1.000059 | F55: =D55+$E$54 -> 0.999966
C56: 3 | D56: 1.000059 | F56: =D56+$E$54 -> 0.999966
C57: 4 | D57: 1.000059 | F57: =D57+$E$54 -> 0.999966
C58: 5 | D58: 1.000058 | F58: =D58+$E$54 -> 0.999965
B59: 1.5 | C59: 1 | D59: 1.500125 | E59: =[1]dérive!$C$188*1000 -> -0.00014 | F59: =D59+$E$59 -> 1.499985 | G59: =AVERAGE(F59:F63) -> 1.499985 | H59: =G59-B59 -> -1.5e-05 | I59: =((MAX(D59:D63)-MIN(D59:D63))/2.33)/1000 -> 0 | J59: =5.5/3 -> 1.8333333 | K59: =I59*J59 -> 0 | O59: =[1]dérive!$D$188 -> 4e-08 | Q59: =O59/$P$44 -> 2e-08 | S59: =Q59 -> 2e-08 | T59: =SQRT((K59^2)+(Q59^2)+(S59^2)+($N$44^2)) -> 2.8431204e-08
C60: 2 | D60: 1.500125 | F60: =D60+$E$59 -> 1.499985
C61: 3 | D61: 1.500125 | F61: =D61+$E$59 -> 1.499985
C62: 4 | D62: 1.500125 | F62: =D62+$E$59 -> 1.499985
C63: 5 | D63: 1.500125 | F63: =D63+$E$59 -> 1.499985
B64: 2 | C64: 1 | D64: 2.000157 | E64: =[1]dérive!$C$189*1000 -> -0.00018 | F64: =D64+$E$64 -> 1.999977 | G64: =AVERAGE(F64:F68) -> 1.999977 | H64: =G64-B64 -> -2.3e-05 | I64: =((MAX(D64:D68)-MIN(D64:D68))/2.33)/1000 -> 0 | J64: =5.5/3 -> 1.8333333 | K64: =I64*J64 -> 0 | O64: =[1]dérive!$D$189 -> 4e-08 | Q64: =O64/$P$44 -> 2e-08 | S64: =Q64 -> 2e-08 | T64: =SQRT((K64^2)+(Q64^2)+(S64^2)+($N$44^2)) -> 2.8431204e-08
C65: 2 | D65: 2.000157 | F65: =D65+$E$64 -> 1.999977
C66: 3 | D66: 2.000157 | F66: =D66+$E$64 -> 1.999977
C67: 4 | D67: 2.000157 | F67: =D67+$E$64 -> 1.999977
C68: 5 | D68: 2.000157 | F68: =D68+$E$64 -> 1.999977
B69: 3 | C69: 1 | D69: 3.0001 | E69: =[1]dérive!$C$194*1000 -> -0.00028 | F69: =D69+$E$69 -> 2.99982 | G69: =AVERAGE(F69:F73) -> 2.99982 | H69: =G69-B69 -> -0.00018 | I69: =((MAX(D69:D73)-MIN(D69:D73))/2.33)/1000 -> 0 | J69: =5.5/3 -> 1.8333333 | K69: =I69*J69 -> 0 | O69: =[1]dérive!$D$194 -> 1.7e-07 | Q69: =O69/$P$44 -> 8.5e-08 | S69: =Q69 -> 8.5e-08 | T69: =SQRT((K69^2)+(Q69^2)+(S69^2)+($N$44^2)) -> 1.2024281e-07
C70: 2 | D70: 3.0001 | F70: =D70+$E$69 -> 2.99982
C71: 3 | D71: 3.0001 | F71: =D71+$E$69 -> 2.99982
C72: 4 | D72: 3.0001 | F72: =D72+$E$69 -> 2.99982
C73: 5 | D73: 3.0001 | F73: =D73+$E$69 -> 2.99982
A74: 32.0000 mA | B74: -20 | C74: 1 | D74: -20.00001 | E74: =[1]dérive!$C$191*1000 -> 0.002 | F74: =D74+$E$74 -> -19.99801 | G74: =AVERAGE(F74:F78) -> -19.997996 | H74: =G74-B74 -> 0.002004 | I74: =((MAX(D74:D78)-MIN(D74:D78))/2.33)/1000 -> 1.2875536e-08 | J74: =5.5/3 -> 1.8333333 | K74: =I74*J74 -> 2.360515e-08 | L74: 1e-07 | M74: 3.4641016 | N74: =L74/M74 -> 2.8867513e-08 | O74: =[1]dérive!$D$191 -> 4e-07 | P74: 2 | Q74: =O74/$P$74 -> 2e-07 | S74: =Q74 -> 2e-07 | T74: =SQRT((K74^2)+(Q74^2)+(S74^2)+($N$74^2)) -> 2.8529027e-07
C75: 2 | D75: -19.99998 | F75: =D75+$E$74 -> -19.99798
C76: 3 | D76: -20.00001 | F76: =D76+$E$74 -> -19.99801
C77: 4 | D77: -19.99998 | F77: =D77+$E$74 -> -19.99798
C78: 5 | D78: -20 | F78: =D78+$E$74 -> -19.998
B79: 5 | C79: 1 | D79: 5.00026 | E79: =[1]dérive!$C$195*1000 -> -0.00047 | F79: =D79+$E$79 -> 4.99979 | G79: =AVERAGE(F79:F83) -> 4.999818 | H79: =G79-B79 -> -0.000182 | I79: =((MAX(D79:D83)-MIN(D79:D83))/2.33)/1000 -> 3.0042918e-08 | J79: =5.5/3 -> 1.8333333 | K79: =I79*J79 -> 5.5078684e-08 | O79: =[1]dérive!$D$195 -> 2e-07 | Q79: =O79/$P$74 -> 1e-07 | S79: =Q79 -> 1e-07 | T79: =SQRT((K79^2)+(Q79^2)+(S79^2)+($N$74^2)) -> 1.5448946e-07
C80: 2 | D80: 5.00028 | F80: =D80+$E$79 -> 4.99981
C81: 3 | D81: 5.00028 | F81: =D81+$E$79 -> 4.99981
C82: 4 | D82: 5.00029 | F82: =D82+$E$79 -> 4.99982
C83: 5 | D83: 5.00033 | F83: =D83+$E$79 -> 4.99986
B84: 10 | C84: 1 | D84: 10.00029 | E84: =[1]dérive!$C$196*1000 -> -0.00099 | F84: =D84+$E$84 -> 9.9993 | G84: =AVERAGE(F84:F88) -> 9.999316 | H84: =G84-B84 -> -0.000684 | I84: =((MAX(D84:D88)-MIN(D84:D88))/2.33)/1000 -> 1.7167382e-08 | J84: =5.5/3 -> 1.8333333 | K84: =I84*J84 -> 3.1473534e-08 | O84: =[1]dérive!$D$196 -> 2.7e-07 | Q84: =O84/$P$74 -> 1.35e-07 | S84: =Q84 -> 1.35e-07 | T84: =SQRT((K84^2)+(Q84^2)+(S84^2)+($N$74^2)) -> 1.9563721e-07
C85: 2 | D85: 10.00032 | F85: =D85+$E$84 -> 9.99933
C86: 3 | D86: 10.0003 | F86: =D86+$E$84 -> 9.99931
C87: 4 | D87: 10.00029 | F87: =D87+$E$84 -> 9.9993
C88: 5 | D88: 10.00033 | F88: =D88+$E$84 -> 9.99934
B89: 15 | C89: 1 | D89: 15.00037 | E89: =[1]dérive!$C$197*1000 -> -0.0014 | F89: =D89+$E$89 -> 14.99897 | G89: =AVERAGE(F89:F93) -> 14.998982 | H89: =G89-B89 -> -0.001018 | I89: =((MAX(D89:D93)-MIN(D89:D93))/2.33)/1000 -> 8.583691e-09 | J89: =5.5/3 -> 1.8333333 | K89: =I89*J89 -> 1.5736767e-08 | O89: =[1]dérive!$D$197 -> 4e-07 | Q89: =O89/$P$74 -> 2e-07 | S89: =Q89 -> 2e-07 | T89: =SQRT((K89^2)+(Q89^2)+(S89^2)+($N$74^2)) -> 2.8474722e-07
C90: 2 | D90: 15.00039 | F90: =D90+$E$89 -> 14.99899
C91: 3 | D91: 15.00038 | F91: =D91+$E$89 -> 14.99898
C92: 4 | D92: 15.00039 | F92: =D92+$E$89 -> 14.99899
C93: 5 | D93: 15.00038 | F93: =D93+$E$89 -> 14.99898
B94: 20 | C94: 1 | D94: 20.00053 | E94: =[1]dérive!$C$198*1000 -> -0.002 | F94: =D94+$E$94 -> 19.99853 | G94: =AVERAGE(F94:F98) -> 19.998528 | H94: =G94-B94 -> -0.001472 | I94: =((MAX(D94:D98)-MIN(D94:D98))/2.33)/1000 -> 8.583691e-09 | J94: =5.5/3 -> 1.8333333 | K94: =I94*J94 -> 1.5736767e-08 | O94: =[1]dérive!$D$198 -> 4e-07 | Q94: =O94/$P$74 -> 2e-07 | S94: =Q94 -> 2e-07 | T94: =SQRT((K94^2)+(Q94^2)+(S94^2)+($N$74^2)) -> 2.8474722e-07
C95: 2 | D95: 20.00054 | F95: =D95+$E$94 -> 19.99854
C96: 3 | D96: 20.00053 | F96: =D96+$E$94 -> 19.99853
C97: 4 | D97: 20.00052 | F97: =D97+$E$94 -> 19.99852
C98: 5 | D98: 20.00052 | F98: =D98+$E$94 -> 19.99852
B99: 30 | C99: 1 | D99: 29.9955 | E99: =[1]dérive!$C$203*1000 -> 0.0033 | F99: =D99+$E$99 -> 29.9988 | G99: =AVERAGE(F99:F103) -> 29.9988 | H99: =G99-B99 -> -0.0012 | I99: =((MAX(D99:D103)-MIN(D99:D103))/2.33)/1000 -> 0 | J99: =5.5/3 -> 1.8333333 | K99: =I99*J99 -> 0 | O99: =[1]dérive!$D$203 -> 1.7e-06 | Q99: =O99/$P$74 -> 8.5e-07 | S99: =Q99 -> 8.5e-07 | T99: =SQRT((K99^2)+(Q99^2)+(S99^2)+($N$74^2)) -> 1.2024281e-06
C100: 2 | D100: 29.9955 | F100: =D100+$E$99 -> 29.9988
...

Sheet INCERTITUDE AMPERE AC
A1: FONCTION GENERATION D'INTENSITE POUR COURANT ALTERNATIF | J1: Incertitude
J2: Incertitude de type A | L2: Incertitudes de type B | W2: Incertitude en AMPERE par calibre à 1 sigma
A3: Calibre 1 KHZ | B3: Valeur affichée | C3: point | D3: Valeur lue | E3: Correction | F3: Valeur corrigée | G3: Moyenne | H3: Correction sur le point même unité que le calibre | I3: Ecart type | J3: Coefficient K | K3: Répétabilité | L3: Résolution en Ampére | M3: coefficient diviseur | N3: Incertitude de résolution en Ampére | O3: Incertitude étalon en Ampére | P3: coefficient diviseur | Q3: Incertitude étalon en Ampére | R3: Ecart max | S3: Incertitude sur la dérive en Ampère | T3: DISTORTION + HARMONIQUE | U3: coefficient diviseur | V3: Incerttitude sur la DISTORTION + HARMONIQUE en Ampère
A4: 320.000 µA | B4: 20 | C4: 1 | D4: 20.017 | E4: =[1]dérive!$C$222*100000 -> 0.003 | F4: =D4+$E$4 -> 20.02 | G4: =AVERAGE(F4:F8) -> 20.01974 | H4: =G4-B4 -> 0.01974 | I4: =((MAX(D4:D8)-MIN(D4:D8))/2.33)/1000000 -> 9.0128755e-10 | J4: =5.5/3 -> 1.8333333 | K4: =I4*J4 -> 1.6523605e-09 | L4: 1e-09 | M4: =SQRT(12) -> 3.4641016 | N4: =L4/M4 -> 2.8867513e-10 | O4: =[1]dérive!$D$222 -> 1.6e-08 | P4: 2 | Q4: =O4/$P$4 -> 8e-09 | S4: =Q4 -> 8e-09 | T4: =0.001*B4/1000000 -> 2e-08 | U4: =SQRT(12) -> 3.4641016 | V4: =T4/$U$4 -> 5.7735027e-09 | W4: =SQRT((K4^2)+(Q4^2)+(S4^2)+(V4^2)) -> 1.2808733e-08
C5: 2 | D5: 20.018 | F5: =D5+$E$4 -> 20.021
C6: 3 | D6: 20.0159 | F6: =D6+$E$4 -> 20.0189
C7: 4 | D7: 20.0162 | F7: =D7+$E$4 -> 20.0192
C8: 5 | D8: 20.0166 | F8: =D8+$E$4 -> 20.0196
B9: 50 | C9: 1 | D9: 49.974 | E9: =[1]dérive!$C$223*100000 -> 0.029 | F9: =D9+$E$9 -> 50.003 | G9: =AVERAGE(F9:F13) -> 50.00398 | H9: =G9-B9 -> 0.00398 | I9: =((MAX(D9:D13)-MIN(D9:D13))/2.33)/1000000 -> 5.5793991e-10 | J9: =5.5/3 -> 1.8333333 | K9: =I9*J9 -> 1.0228898e-09 | O9: =[1]dérive!$D$223 -> 2.5e-08 | Q9: =O9/$P$4 -> 1.25e-08 | S9: =Q9 -> 1.25e-08 | T9: =0.001*B9/1000000 -> 5e-08 | V9: =T9/$U$4 -> 1.4433757e-08 | W9: =SQRT((K9^2)+(Q9^2)+(S9^2)+(V9^2)) -> 2.2844685e-08
C10: 2 | D10: 49.9752 | F10: =D10+$E$9 -> 50.0042
C11: 3 | D11: 49.9753 | F11: =D11+$E$9 -> 50.0043
C12: 4 | D12: 49.9753 | F12: =D12+$E$9 -> 50.0043
C13: 5 | D13: 49.9751 | F13: =D13+$E$9 -> 50.0041
B14: 100 | C14: 1 | D14: 99.9382 | E14: =[1]dérive!$C$224*100000 -> 0.05 | F14: =D14+$E$14 -> 99.9882 | G14: =AVERAGE(F14:F18) -> 99.98838 | H14: =G14-B14 -> -0.01162 | I14: =((MAX(D14:D18)-MIN(D14:D18))/2.33)/1000000 -> 7.7253219e-10 | J14: =5.5/3 -> 1.8333333 | K14: =I14*J14 -> 1.416309e-09 | O14: =[1]dérive!$D$224 -> 4e-08 | Q14: =O14/$P$4 -> 2e-08 | S14: =Q14 -> 2e-08 | T14: =0.001*B14/1000000 -> 1e-07 | V14: =T14/$U$4 -> 2.8867513e-08 | W14: =SQRT((K14^2)+(Q14^2)+(S14^2)+(V14^2)) -> 4.0439328e-08
C15: 2 | D15: 99.9375 | F15: =D15+$E$14 -> 99.9875
C16: 3 | D16: 99.9388 | F16: =D16+$E$14 -> 99.9888
C17: 4 | D17: 99.9381 | F17: =D17+$E$14 -> 99.9881
C18: 5 | D18: 99.9393 | F18: =D18+$E$14 -> 99.9893
B19: 150 | C19: 1 | D19: 149.9185 | E19: =[1]dérive!$C$225*100000 -> 0.06 | F19: =D19+$E$19 -> 149.9785 | G19: =AVERAGE(F19:F23) -> 149.97902 | H19: =G19-B19 -> -0.02098 | I19: =((MAX(D19:D23)-MIN(D19:D23))/2.33)/1000000 -> 4.72103e-10 | J19: =5.5/3 -> 1.8333333 | K19: =I19*J19 -> 8.6552217e-10 | O19: =[1]dérive!$D$225 -> 1.5e-07 | Q19: =O19/$P$4 -> 7.5e-08 | S19: =Q19 -> 7.5e-08 | T19: =0.001*B19/1000000 -> 1.5e-07 | V19: =T19/$U$4 -> 4.330127e-08 | W19: =SQRT((K19^2)+(Q19^2)+(S19^2)+(V19^2)) -> 1.1456766e-07
C20: 2 | D20: 149.9196 | F20: =D20+$E$19 -> 149.9796
C21: 3 | D21: 149.9192 | F21: =D21+$E$19 -> 149.9792
C22: 4 | D22: 149.9191 | F22: =D22+$E$19 -> 149.9791
C23: 5 | D23: 149.9187 | F23: =D23+$E$19 -> 149.9787
B24: 200 | C24: 1 | D24: 199.9146 | E24: =[1]dérive!$C$226*100000 -> 0.05 | F24: =D24+$E$24 -> 199.9646 | G24: =AVERAGE(F24:F28) -> 199.96422 | H24: =G24-B24 -> -0.03578 | I24: =((MAX(D24:D28)-MIN(D24:D28))/2.33)/1000000 -> 9.4420601e-10 | J24: =5.5/3 -> 1.8333333 | K24: =I24*J24 -> 1.7310443e-09 | O24: =[1]dérive!$D$226 -> 1.6e-07 | Q24: =O24/$P$4 -> 8e-08 | S24: =Q24 -> 8e-08 | T24: =0.001*B24/1000000 -> 2e-07 | V24: =T24/$U$4 -> 5.7735027e-08 | W24: =SQRT((K24^2)+(Q24^2)+(S24^2)+(V24^2)) -> 1.2702885e-07
C25: 2 | D25: 199.914 | F25: =D25+$E$24 -> 199.964
C26: 3 | D26: 199.913 | F26: =D26+$E$24 -> 199.963
C27: 4 | D27: 199.9143 | F27: =D27+$E$24 -> 199.9643
C28: 5 | D28: 199.9152 | F28: =D28+$E$24 -> 199.9652
B29: 300 | C29: 1 | D29: 0.300043 | E29: =[1]dérive!$C$230*1000 -> -6e-05 | F29: =D29+$E$29 -> 0.299983 | G29: =AVERAGE(F29:F33) -> 0.2999826 | H29: =(G29*1000)-B29 -> -0.0174 | I29: =((MAX(D29:D33)-MIN(D29:D33))/2.33)/1000 -> 8.583691e-10 | J29: =5.5/3 -> 1.8333333 | K29: =I29*J29 -> 1.5736767e-09 | O29: =[1]dérive!$D$230 -> 1.9e-07 | Q29: =O29/$P$4 -> 9.5e-08 | S29: =Q29 -> 9.5e-08 | T29: =0.001*B29/1000000 -> 3e-07 | V29: =T29/$U$4 -> 8.660254e-08 | W29: =SQRT((K29^2)+(Q29^2)+(S29^2)+(V29^2)) -> 1.5985142e-07
C30: 2 | D30: 0.300043 | F30: =D30+$E$29 -> 0.299983
C31: 3 | D31: 0.300043 | F31: =D31+$E$29 -> 0.299983
C32: 4 | D32: 0.300043 | F32: =D32+$E$29 -> 0.299983
C33: 5 | D33: 0.300041 | F33: =D33+$E$29 -> 0.299981
A34: 3.20000 mA | B34: 0.5 | C34: 1 | D34: 0.500021 | E34: =[1]dérive!$C$231*1000 -> -9e-05 | F34: =D34+$E$34 -> 0.499931 | G34: =AVERAGE(F34:F38) -> 0.4999384 | H34: =G34-B34 -> -6.16e-05 | I34: =((MAX(D34:D38)-MIN(D34:D38))/2.33)/1000 -> 6.0085837e-09 | J34: =5.5/3 -> 1.8333333 | K34: =I34*J34 -> 1.1015737e-08 | L34: 1e-08 | M34: =SQRT(12) -> 3.4641016 | N34: =L34/M34 -> 2.8867513e-09 | O34: =[1]dérive!$D$231 -> 2.5e-07 | P34: 2 | Q34: =O34/$P$34 -> 1.25e-07 | S34: =Q34 -> 1.25e-07 | T34: =0.001*B34/1000 -> 5e-07 | U34: =SQRT(12) -> 3.4641016 | V34: =T34/$U$34 -> 1.4433757e-07 | W34: =SQRT((K34^2)+(Q34^2)+(S34^2)+(V34^2)) -> 2.2848343e-07
C35: 2 | D35: 0.500035 | F35: =D35+$E$34 -> 0.499945
C36: 3 | D36: 0.50003 | F36: =D36+$E$34 -> 0.49994
C37: 4 | D37: 0.500029 | F37: =D37+$E$34 -> 0.499939
C38: 5 | D38: 0.500027 | F38: =D38+$E$34 -> 0.499937
B39: 1 | C39: 1 | D39: 1.000093 | E39: =[1]dérive!$C$232*1000 -> -0.00016 | F39: =D39+$E$39 -> 0.999933 | G39: =AVERAGE(F39:F43) -> 0.9999348 | H39: =G39-B39 -> -6.52e-05 | I39: =((MAX(D39:D43)-MIN(D39:D43))/2.33)/1000 -> 6.8669528e-09 | J39: =5.5/3 -> 1.8333333 | K39: =I39*J39 -> 1.2589413e-08 | O39: =[1]dérive!$D$232 -> 2e-07 | Q39: =O39/$P$34 -> 1e-07 | S39: =Q39 -> 1e-07 | T39: =0.001*B39/1000 -> 1e-06 | V39: =T39/$U$34 -> 2.8867513e-07 | W39: =SQRT((K39^2)+(Q39^2)+(S39^2)+(V39^2)) -> 3.2170146e-07
C40: 2 | D40: 1.000103 | F40: =D40+$E$39 -> 0.999943
C41: 3 | D41: 1.000098 | F41: =D41+$E$39 -> 0.999938
C42: 4 | D42: 1.000093 | F42: =D42+$E$39 -> 0.999933
C43: 5 | D43: 1.000087 | F43: =D43+$E$39 -> 0.999927
B44: 1.5 | C44: 1 | D44: 1.500287 | E44: =[1]dérive!$C$233*1000 -> -0.0004 | F44: =D44+$E$44 -> 1.499887 | G44: =AVERAGE(F44:F48) -> 1.4998864 | H44: =G44-B44 -> -0.0001136 | I44: =((MAX(D44:D48)-MIN(D44:D48))/2.33)/1000 -> 6.4377682e-09 | J44: =5.5/3 -> 1.8333333 | K44: =I44*J44 -> 1.1802575e-08 | O44: =[1]dérive!$D$233 -> 3e-07 | Q44: =O44/$P$34 -> 1.5e-07 | S44: =Q44 -> 1.5e-07 | T44: =0.001*B44/1000 -> 1.5e-06 | V44: =T44/$U$34 -> 4.330127e-07 | W44: =SQRT((K44^2)+(Q44^2)+(S44^2)+(V44^2)) -> 4.8232696e-07
C45: 2 | D45: 1.500278 | F45: =D45+$E$44 -> 1.499878
C46: 3 | D46: 1.500293 | F46: =D46+$E$44 -> 1.499893
C47: 4 | D47: 1.500293 | F47: =D47+$E$44 -> 1.499893
C48: 5 | D48: 1.500281 | F48: =D48+$E$44 -> 1.499881
B49: 2 | C49: 1 | D49: 2.000623 | E49: =[1]dérive!$C$234*1000 -> -0.0009 | F49: =D49+$E$49 -> 1.999723 | G49: =AVERAGE(F49:F53) -> 1.999726 | H49: =G49-B49 -> -0.000274 | I49: =((MAX(D49:D53)-MIN(D49:D53))/2.33)/1000 -> 8.583691e-09 | J49: =5.5/3 -> 1.8333333 | K49: =I49*J49 -> 1.5736767e-08 | O49: =[1]dérive!$D$234 -> 4e-07 | Q49: =O49/$P$34 -> 2e-07 | S49: =Q49 -> 2e-07 | T49: =0.001*B49/1000 -> 2e-06 | V49: =T49/$U$34 -> 5.7735027e-07 | W49: =SQRT((K49^2)+(Q49^2)+(S49^2)+(V49^2)) -> 6.4310262e-07
C50: 2 | D50: 2.00062 | F50: =D50+$E$49 -> 1.99972
C51: 3 | D51: 2.00062 | F51: =D51+$E$49 -> 1.99972
C52: 4 | D52: 2.000627 | F52: =D52+$E$49 -> 1.999727
C53: 5 | D53: 2.00064 | F53: =D53+$E$49 -> 1.99974
B54: 3 | C54: 1 | D54: 3.00067 | E54: =[1]dérive!$C$237*1000 -> -0.001 | F54: =D54+$E$54 -> 2.99967 | G54: =AVERAGE(F54:F58) -> 2.999644 | H54: =G54-B54 -> -0.000356 | I54: =((MAX(D54:D58)-MIN(D54:D58))/2.33)/1000 -> 1.7167382e-08 | J54: =5.5/3 -> 1.8333333 | K54: =I54*J54 -> 3.1473534e-08 | O54: =[1]dérive!$D$237 -> 6e-07 | Q54: =O54/$P$34 -> 3e-07 | S54: =Q54 -> 3e-07 | T54: =0.001*B54/1000 -> 3e-06 | V54: =T54/$U$34 -> 8.660254e-07 | W54: =SQRT((K54^2)+(Q54^2)+(S54^2)+(V54^2)) -> 9.6487853e-07
C55: 2 | D55: 3.00063 | F55: =D55+$E$54 -> 2.99963
C56: 3 | D56: 3.00064 | F56: =D56+$E$54 -> 2.99964
C57: 4 | D57: 3.00064 | F57: =D57+$E$54 -> 2.99964
C58: 5 | D58: 3.00064 | F58: =D58+$E$54 -> 2.99964
A59: 32.0000 mA | B59: 5 | C59: 1 | D59: 5.00155 | E59: =[1]dérive!$C$238*1000 -> -0.0011 | F59: =D59+$E$59 -> 5.00045 | G59: =AVERAGE(F59:F63) -> 5.000442 | H59: =G59-B59 -> 0.000442 | I59: =((MAX(D59:D63)-MIN(D59:D63))/2.33)/1000 -> 4.72103e-08 | J59: =5.5/3 -> 1.8333333 | K59: =I59*J59 -> 8.6552217e-08 | L59: 1e-07 | M59: =SQRT(12) -> 3.4641016 | N59: =L59/M59 -> 2.8867513e-08 | O59: =[1]dérive!$D$238 -> 1e-06 | P59: 2 | Q59: =O59/$P$59 -> 5e-07 | S59: =Q59 -> 5e-07 | T59: =0.001*B59/1000 -> 5e-06 | U59: =SQRT(12) -> 3.4641016 | V59: =T59/$U$59 -> 1.4433757e-06 | W59: =SQRT((K59^2)+(Q59^2)+(S59^2)+(V59^2)) -> 1.6096039e-06
C60: 2 | D60: 5.00151 | F60: =D60+$E$59 -> 5.00041
C61: 3 | D61: 5.0015 | F61: =D61+$E$59 -> 5.0004
C62: 4 | D62: 5.00154 | F62: =D62+$E$59 -> 5.00044
C63: 5 | D63: 5.00161 | F63: =D63+$E$59 -> 5.00051
B64: 10 | C64: 1 | D64: 10.00275 | E64: =[1]dérive!$C$239*1000 -> -0.0026 | F64: =D64+$E$64 -> 10.00015 | G64: =AVERAGE(F64:F68) -> 10.000172 | H64: =G64-B64 -> 0.000172 | I64: =((MAX(D64:D68)-MIN(D64:D68))/2.33)/1000 -> 7.7253219e-08 | J64: =5.5/3 -> 1.8333333 | K64: =I64*J64 -> 1.416309e-07 | O64: =[1]dérive!$D$239 -> 2e-06 | Q64: =O64/$P$59 -> 1e-06 | S64: =Q64 -> 1e-06 | T64: =0.001*B64/1000 -> 1e-05 | V64: =T64/$U$59 -> 2.8867513e-06 | W64: =SQRT((K64^2)+(Q64^2)+(S64^2)+(V64^2)) -> 3.2176688e-06
C65: 2 | D65: 10.00272 | F65: =D65+$E$64 -> 10.00012
C66: 3 | D66: 10.00275 | F66: =D66+$E$64 -> 10.00015
C67: 4 | D67: 10.00274 | F67: =D67+$E$64 -> 10.00014
C68: 5 | D68: 10.0029 | F68: =D68+$E$64 -> 10.0003
B69: 15 | C69: 1 | D69: 15.00571 | E69: =[1]dérive!$C$240*1000 -> -0.006 | F69: =D69+$E$69 -> 14.99971 | G69: =AVERAGE(F69:F73) -> 14.999854 | H69: =G69-B69 -> -0.000146 | I69: =((MAX(D69:D73)-MIN(D69:D73))/2.33)/1000 -> 1.4592275e-07 | J69: =5.5/3 -> 1.8333333 | K69: =I69*J69 -> 2.6752504e-07 | O69: =[1]dérive!$D$240 -> 3e-06 | Q69: =O69/$P$59 -> 1.5e-06 | S69: =Q69 -> 1.5e-06 | T69: =0.001*B69/1000 -> 1.5e-05 | V69: =T69/$U$59 -> 4.330127e-06 | W69: =SQRT((K69^2)+(Q69^2)+(S69^2)+(V69^2)) -> 4.8292411e-06
C70: 2 | D70: 15.0059 | F70: =D70+$E$69 -> 14.9999
C71: 3 | D71: 15.00605 | F71: =D71+$E$69 -> 15.00005
C72: 4 | D72: 15.00588 | F72: =D72+$E$69 -> 14.99988
C73: 5 | D73: 15.00573 | F73: =D73+$E$69 -> 14.99973
B74: 20 | C74: 1 | D74: 20.01006 | E74: =[1]dérive!$C$241*1000 -> -0.01 | F74: =D74+$E$74 -> 20.00006 | G74: =AVERAGE(F74:F78) -> 19.999818 | H74: =G74-B74 -> -0.000182 | I74: =((MAX(D74:D78)-MIN(D74:D78))/2.33)/1000 -> 1.7167382e-07 | J74: =5.5/3 -> 1.8333333 | K74: =I74*J74 -> 3.1473534e-07 | O74: =[1]dérive!$D$241 -> 4e-06 | Q74: =O74/$P$59 -> 2e-06 | S74: =Q74 -> 2e-06 | T74: =0.001*B74/1000 -> 2e-05 | V74: =T74/$U$59 -> 5.7735027e-06 | W74: =SQRT((K74^2)+(Q74^2)+(S74^2)+(V74^2)) -> 6.4367998e-06
C75: 2 | D75: 20.00987 | F75: =D75+$E$74 -> 19.99987
C76: 3 | D76: 20.00976 | F76: =D76+$E$74 -> 19.99976
C77: 4 | D77: 20.00974 | F77: =D77+$E$74 -> 19.99974
C78: 5 | D78: 20.00966 | F78: =D78+$E$74 -> 19.99966
B79: 30 | C79: 1 | D79: 30.0066 | E79: =[1]dérive!$C$244*1000 -> -0.004 | F79: =D79+$E$79 -> 30.0026 | G79: =AVERAGE(F79:F83) -> 30.00244 | H79: =G79-B79 -> 0.00244 | I79: =((MAX(D79:D83)-MIN(D79:D83))/2.33)/1000 -> 2.1459227e-07 | J79: =5.5/3 -> 1.8333333 | K79: =I79*J79 -> 3.9341917e-07 | O79: =[1]dérive!$D$244 -> 6e-06 | Q79: =O79/$P$59 -> 3e-06 | S79: =Q79 -> 3e-06 | T79: =0.001*B79/1000 -> 3e-05 | V79: =T79/$U$59 -> 8.660254e-06 | W79: =SQRT((K79^2)+(Q79^2)+(S79^2)+(V79^2)) -> 9.6516723e-06
C80: 2 | D80: 30.0062 | F80: =D80+$E$79 -> 30.0022
C81: 3 | D81: 30.0067 | F81: =D81+$E$79 -> 30.0027
C82: 4 | D82: 30.0063 | F82: =D82+$E$79 -> 30.0023
C83: 5 | D83: 30.0064 | F83: =D83+$E$79 -> 30.0024
A84: 320.000 mA | B84: 50 | C84: 1 | D84: 50.0074 | E84: =[1]dérive!$C$245*1000 -> -0.002 | F84: =D84+$E$84 -> 50.0054 | G84: =AVERAGE(F84:F88) -> 50.00612 | H84: =G84-B84 -> 0.00612 | I84: =((MAX(D84:D88)-MIN(D84:D88))/2.33)/1000 -> 5.5793991e-07 | J84: =5.5/3 -> 1.8333333 | K84: =I84*J84 -> 1.0228898e-06 | L84: 1e-06 | M84: =SQRT(12) -> 3.4641016 | N84: =L84/M84 -> 2.8867513e-07 | O84: =[1]dérive!$D$245 -> 1e-05 | P84: 2 | Q84: =O84/$P$84 -> 5e-06 | S84: =Q84 -> 5e-06 | T84: =0.001*B84/1000 -> 5e-05 | U84: =SQRT(12) -> 3.4641016 | V84: =T84/$U$84 -> 1.4433757e-05 | W84: =SQRT((K84^2)+(Q84^2)+(S84^2)+(V84^2)) -> 1.6105267e-05
C85: 2 | D85: 50.0083 | F85: =D85+$E$84 -> 50.0063
C86: 3 | D86: 50.0087 | F86: =D86+$E$84 -> 50.0067
C87: 4 | D87: 50.0082 | F87: =D87+$E$84 -> 50.0062
C88: 5 | D88: 50.008 | F88: =D88+$E$84 -> 50.006
B89: 100 | C89: 1 | D89: 100.0182 | E89: =[1]dérive!$C$246*1000 -> -0.008 | F89: =D89+$E$89 -> 100.0102 | G89: =AVERAGE(F89:F93) -> 100.01038 | H89: =G89-B89 -> 0.01038 | I89: =((MAX(D89:D93)-MIN(D89:D93))/2.33)/1000 -> 7.2961373e-07 | J89: =5.5/3 -> 1.8333333 | K89: =I89*J89 -> 1.3376252e-06 | O89: =[1]dérive!$D$246 -> 2e-05 | Q89: =O89/$P$84 -> 1e-05 | S89: =Q89 -> 1e-05 | T89: =0.001*B89/1000 -> 0.0001 | V89: =T89/$U$84 -> 2.8867513e-05 | W89: =SQRT((K89^2)+(Q89^2)+(S89^2)+(V89^2)) -> 3.2173321e-05
C90: 2 | D90: 100.0177 | F90: =D90+$E$89 -> 100.0097
C91: 3 | D91: 100.0178 | F91: =D91+$E$89 -> 100.0098
C92: 4 | D92: 100.0188 | F92: =D92+$E$89 -> 100.0108
C93: 5 | D93: 100.0194 | F93: =D93+$E$89 -> 100.0114
B94: 150 | C94: 1 | D94: 150.0428 | E94: =[1]dérive!$C$247*1000 -> -0.03 | F94: =D94+$E$94 -> 150.0128 | G94: =AVERAGE(F94:F98) -> 150.01334 | H94: =G94-B94 -> 0.01334 | I94: =((MAX(D94:D98)-MIN(D94:D98))/2.33)/1000 -> 6.0085837e-07 | J94: =5.5/3 -> 1.8333333 | K94: =I94*J94 -> 1.1015737e-06 | O94: =[1]dérive!$D$247 -> 3e-05 | Q94: =O94/$P$84 -> 1.5e-05 | S94: =Q94 -> 1.5e-05 | T94: =0.001*B94/1000 -> 0.00015 | V94: =T94/$U$84 -> 4.330127e-05 | W94: =SQRT((K94^2)+(Q94^2)+(S94^2)+(V94^2)) -> 4.8230835e-05
C95: 2 | D95: 150.0434 | F95: =D95+$E$94 -> 150.0134
C96: 3 | D96: 150.0441 | F96: =D96+$E$94 -> 150.0141
C97: 4 | D97: 150.0437 | F97: =D97+$E$94 -> 150.0137
C98: 5 | D98: 150.0427 | F98: =D98+$E$94 -> 150.0127
B99: 200 | C99: 1 | D99: 200.0854 | E99: =[1]dérive!$C$248*1000 -> -0.06 | F99: =D99+$E$99 -> 200.0254 | G99: =AVERAGE(F99:F103) -> 200.02482 | H99: =G99-B99 -> 0.02482 | I99: =((MAX(D99:D103)-MIN(D99:D103))/2.33)/1000 -> 6.8669528e-07 | J99: =5.5/3 -> 1.8333333 | K99: =I99*J99 -> 1.2589413e-06 | O99: =[1]dérive!$D$248 -> 4e-05 | Q99: =O99/$P$84 -> 2e-05 | S99: =Q99 -> 2e-05 | T99: =0.001*B99/1000 -> 0.0002 | V99: =T99/$U$84 -> 5.7735027e-05 | W99: =SQRT((K99^2)+(Q99^2)+(S99^2)+(V99^2)) -> 6.430333e-05
C100: 2 | D100: 200.0846 | F100: =D100+$E$99 -> 200.0246
...

Sheet INCERTITUDE OHM
A1: FONCTION SIMULATION DE RESISTANCES | K1: Incertitude
K2: Incertitude de type A | M2: Incertitude de type B | U2: Incertitude en OHM par calibre à 1 sigma
A3: Calibre | C3: Valeur affichée | D3: point | E3: Valeur lue | F3: Correction | G3: Valeur corrigée | H3: Moyenne | I3: Correction sur le point même unité que le calibre | J3: Ecart type | K3: Coefficient K | L3: Répétabilité | M3: Résolution en Ohm | N3: coefficient diviseur | O3: Incertitude de résolution en Ohm | P3: Incertitude étalon en Ohm | Q3: coefficient diviseur | R3: Incertitude étalon en Ohm | S3: Ecart max | T3: Incertitude sur la dérive en Ohm
B4: 40.0000 ohms | C4: 1 | D4: 1 | E4: 1.0003 | F4: =[1]dérive!$C$297 -> 0 | G4: =E4+F4 -> 1.0003 | H4: =AVERAGE(G4:G8) -> 1.00018 | I4: =H4-C4 -> 0.00018 | J4: =((MAX(E4:E8)-MIN(E4:E8))/2.33) -> 0.00021459227 | K4: =5.5/3 -> 1.8333333 | L4: =J4*K4 -> 0.00039341917 | M4: 0.0001 | N4: =SQRT(12) -> 3.4641016 | O4: =M4/N4 -> 2.8867513e-05 | P4: =[1]dérive!$D$297 -> 1e-05 | Q4: 2 | R4: =P4/$Q$4 -> 5e-06 | T4: =R4 -> 5e-06 | U4: =SQRT((L4^2)+(R4^2)+(T4^2)) -> 0.00039348271
D5: 2 | E5: 1.0005 | G5: =E5+F4 -> 1.0005
D6: 3 | E6: 1 | G6: =E6+F4 -> 1
D7: 4 | E7: 1.0001 | G7: =E7+F4 -> 1.0001
D8: 5 | E8: 1 | G8: =E8+F4 -> 1
C9: 5 | D9: 1 | E9: 4.9996 | F9: =[1]dérive!$C$298 -> -0.0003 | G9: =E9+F9 -> 4.9993 | H9: =AVERAGE(G9:G13) -> 4.99936 | I9: =H9-C9 -> -0.00064 | J9: =((MAX(E9:E13)-MIN(E9:E13))/2.33) -> 4.2918455e-05 | K9: =5.5/3 -> 1.8333333 | L9: =J9*K9 -> 7.8683834e-05 | P9: =[1]dérive!$D$298 -> 0.0012 | R9: =P9/$Q$4 -> 0.0006 | T9: =R9 -> 0.0006 | U9: =SQRT((L9^2)+(R9^2)+(T9^2)) -> 0.0008521685
D10: 2 | E10: 4.9997 | G10: =E10+F9 -> 4.9994
D11: 3 | E11: 4.9996 | G11: =E11+F9 -> 4.9993
D12: 4 | E12: 4.9997 | G12: =E12+F9 -> 4.9994
D13: 5 | E13: 4.9997 | G13: =E13+F9 -> 4.9994
C14: 10 | D14: 1 | E14: 9.9996 | F14: =[1]dérive!$C$299 -> 7e-05 | G14: =E14+F14 -> 9.99967 | H14: =AVERAGE(G14:G18) -> 9.99961 | I14: =H14-C14 -> -0.00039 | J14: =((MAX(E14:E18)-MIN(E14:E18))/2.33) -> 0.00017167382 | K14: =5.5/3 -> 1.8333333 | L14: =J14*K14 -> 0.00031473534 | P14: =[1]dérive!$D$299 -> 3e-05 | R14: =P14/$Q$4 -> 1.5e-05 | T14: =R14 -> 1.5e-05 | U14: =SQRT((L14^2)+(R14^2)+(T14^2)) -> 0.00031544941
D15: 2 | E15: 9.9997 | G15: =E15+F14 -> 9.99977
D16: 3 | E16: 9.9993 | G16: =E16+F14 -> 9.99937
D17: 4 | E17: 9.9996 | G17: =E17+F14 -> 9.99967
D18: 5 | E18: 9.9995 | G18: =E18+F14 -> 9.99957
C19: 15 | D19: 1 | E19: 14.9997 | F19: =[1]dérive!$C$300 -> -0.0003 | G19: =E19+F19 -> 14.9994 | H19: =AVERAGE(G19:G23) -> 14.99934 | I19: =H19-C19 -> -0.00066 | J19: =((MAX(E19:E23)-MIN(E19:E23))/2.33) -> 0.00012875536 | K19: =5.5/3 -> 1.8333333 | L19: =J19*K19 -> 0.0002360515 | P19: =[1]dérive!$D$300 -> 0.0015 | R19: =P19/$Q$4 -> 0.00075 | T19: =R19 -> 0.00075 | U19: =SQRT((L19^2)+(R19^2)+(T19^2)) -> 0.0010866095
D20: 2 | E20: 14.9996 | G20: =E20+F19 -> 14.9993
D21: 3 | E21: 14.9998 | G21: =E21+F19 -> 14.9995
D22: 4 | E22: 14.9995 | G22: =E22+F19 -> 14.9992
D23: 5 | E23: 14.9996 | G23: =E23+F19 -> 14.9993
C24: 20 | D24: 1 | E24: 19.9997 | F24: =[1]dérive!$C$301 -> -0.0004 | G24: =E24+F24 -> 19.9993 | H24: =AVERAGE(G24:G28) -> 19.9992 | I24: =H24-C24 -> -0.0008 | J24: =((MAX(E24:E28)-MIN(E24:E28))/2.33) -> 0.00021459227 | K24: =5.5/3 -> 1.8333333 | L24: =J24*K24 -> 0.00039341917 | P24: =[1]dérive!$D$301 -> 0.0017 | R24: =P24/$Q$4 -> 0.00085 | T24: =R24 -> 0.00085 | U24: =SQRT((L24^2)+(R24^2)+(T24^2)) -> 0.0012648236
D25: 2 | E25: 19.9999 | G25: =E25+F24 -> 19.9995
D26: 3 | E26: 19.9995 | G26: =E26+F24 -> 19.9991
D27: 4 | E27: 19.9994 | G27: =E27+F24 -> 19.999
D28: 5 | E28: 19.9995 | G28: =E28+F24 -> 19.9991
C29: 35 | D29: 1 | E29: 34.9994 | F29: =[1]dérive!$C$304 -> -0.0005 | G29: =E29+F29 -> 34.9989 | H29: =AVERAGE(G29:G33) -> 34.99898 | I29: =H29-C29 -> -0.00102 | J29: =((MAX(E29:E33)-MIN(E29:E33))/2.33) -> 0.00017167382 | K29: =5.5/3 -> 1.8333333 | L29: =J29*K29 -> 0.00031473534 | P29: =[1]dérive!$D$304 -> 0.0022 | R29: =P29/$Q$4 -> 0.0011 | T29: =R29 -> 0.0011 | U29: =SQRT((L29^2)+(R29^2)+(T29^2)) -> 0.0015871542
D30: 2 | E30: 34.9997 | G30: =E30+F29 -> 34.9992
D31: 3 | E31: 34.9995 | G31: =E31+F29 -> 34.999
D32: 4 | E32: 34.9993 | G32: =E32+F29 -> 34.9988
D33: 5 | E33: 34.9995 | G33: =E33+F29 -> 34.999
B34: 400.000 ohms | C34: 50 | D34: 1 | E34: 49.9816 | F34: =[1]dérive!$C$305 -> -0.0008 | G34: =E34+F34 -> 49.9808 | H34: =AVERAGE(G34:G38) -> 49.98072 | I34: =H34-C34 -> -0.01928 | J34: =((MAX(E34:E38)-MIN(E34:E38))/2.33) -> 4.2918455e-05 | K34: =5.5/3 -> 1.8333333 | L34: =J34*K34 -> 7.8683834e-05 | M34: 0.001 | N34: =SQRT(12) -> 3.4641016 | O34: =M34/N34 -> 0.00028867513 | P34: =[1]dérive!$D$305 -> 0.0028 | Q34: 2 | R34: =P34/$Q$34 -> 0.0014 | T34: =R34 -> 0.0014 | U34: =SQRT((L34^2)+(R34^2)+(T34^2)) -> 0.0019814619
D35: 2 | E35: 49.9815 | G35: =E35+F34 -> 49.9807
D36: 3 | E36: 49.9815 | G36: =E36+F34 -> 49.9807
D37: 4 | E37: 49.9815 | G37: =E37+F34 -> 49.9807
D38: 5 | E38: 49.9815 | G38: =E38+F34 -> 49.9807
C39: 80.318 | D39: 1 | E39: 80.299 | F39: =[1]dérive!$C$306 -> -0.001 | G39: =E39+F39 -> 80.298 | H39: =AVERAGE(G39:G43) -> 80.2981 | I39: =H39-C39 -> -0.0199 | J39: =((MAX(E39:E43)-MIN(E39:E43))/2.33) -> 8.583691e-05 | K39: =5.5/3 -> 1.8333333 | L39: =J39*K39 -> 0.00015736767 | P39: =[1]dérive!$D$306 -> 0.004 | R39: =P39/$Q$34 -> 0.002 | T39: =R39 -> 0.002 | U39: =SQRT((L39^2)+(R39^2)+(T39^2)) -> 0.0028328015
D40: 2 | E40: 80.2991 | G40: =E40+F39 -> 80.2981
D41: 3 | E41: 80.2992 | G41: =E41+F39 -> 80.2982
D42: 4 | E42: 80.299 | G42: =E42+F39 -> 80.298
D43: 5 | E43: 80.2992 | G43: =E43+F39 -> 80.2982
C44: 100 | D44: 1 | E44: 99.9813 | F44: =[1]dérive!$C$307 -> 0.0006 | G44: =E44+F44 -> 99.9819 | H44: =AVERAGE(G44:G48) -> 99.9819 | I44: =H44-C44 -> -0.0181 | J44: =((MAX(E44:E48)-MIN(E44:E48))/2.33) -> 0.00021459227 | K44: =5.5/3 -> 1.8333333 | L44: =J44*K44 -> 0.00039341917 | P44: =[1]dérive!$D$307 -> 0.0003 | R44: =P44/$Q$34 -> 0.00015 | T44: =R44 -> 0.00015 | U44: =SQRT((L44^2)+(R44^2)+(T44^2)) -> 0.00044696604
D45: 2 | E45: 99.9815 | G45: =E45+F44 -> 99.9821
D46: 3 | E46: 99.9815 | G46: =E46+F44 -> 99.9821
D47: 4 | E47: 99.9812 | G47: =E47+F44 -> 99.9818
D48: 5 | E48: 99.981 | G48: =E48+F44 -> 99.9816
C49: 119.397 | D49: 1 | E49: 119.3766 | F49: =[1]dérive!$C$308 -> 0.0007 | G49: =E49+F49 -> 119.3773 | H49: =AVERAGE(G49:G53) -> 119.37728 | I49: =H49-C49 -> -0.01972 | J49: =((MAX(E49:E53)-MIN(E49:E53))/2.33) -> 8.583691e-05 | K49: =5.5/3 -> 1.8333333 | L49: =J49*K49 -> 0.00015736767 | P49: =[1]dérive!$D$308 -> 0.0028 | R49: =P49/$Q$34 -> 0.0014 | T49: =R49 -> 0.0014 | U49: =SQRT((L49^2)+(R49^2)+(T49^2)) -> 0.0019861431
D50: 2 | E50: 119.3767 | G50: =E50+F49 -> 119.3774
D51: 3 | E51: 119.3766 | G51: =E51+F49 -> 119.3773
D52: 4 | E52: 119.3765 | G52: =E52+F49 -> 119.3772
D53: 5 | E53: 119.3765 | G53: =E53+F49 -> 119.3772
C54: 138.506 | D54: 1 | E54: 138.4862 | F54: =[1]dérive!$C$309 -> 0 | G54: =E54+F54 -> 138.4862 | H54: =AVERAGE(G54:G58) -> 138.48618 | I54: =H54-C54 -> -0.01982 | J54: =((MAX(E54:E58)-MIN(E54:E58))/2.33) -> 0.00017167382 | K54: =5.5/3 -> 1.8333333 | L54: =J54*K54 -> 0.00031473534 | P54: =[1]dérive!$D$309 -> 0.003 | R54: =P54/$Q$34 -> 0.0015 | T54: =R54 -> 0.0015 | U54: =SQRT((L54^2)+(R54^2)+(T54^2)) -> 0.0021445415
D55: 2 | E55: 138.4862 | G55: =E55+F54 -> 138.4862
D56: 3 | E56: 138.486 | G56: =E56+F54 -> 138.486
D57: 4 | E57: 138.4861 | G57: =E57+F54 -> 138.4861
D58: 5 | E58: 138.4864 | G58: =E58+F54 -> 138.4864
C59: 172.176 | D59: 1 | E59: 172.1561 | F59: =[1]dérive!$C$310 -> 0 | G59: =E59+F59 -> 172.1561 | H59: =AVERAGE(G59:G63) -> 172.15586 | I59: =H59-C59 -> -0.02014 | J59: =((MAX(E59:E63)-MIN(E59:E63))/2.33) -> 0.00017167382 | K59: =5.5/3 -> 1.8333333 | L59: =J59*K59 -> 0.00031473534 | P59: =[1]dérive!$D$310 -> 0.004 | R59: =P59/$Q$34 -> 0.002 | T59: =R59 -> 0.002 | U59: =SQRT((L59^2)+(R59^2)+(T59^2)) -> 0.0028458845
D60: 2 | E60: 172.1561 | G60: =E60+F59 -> 172.1561
D61: 3 | E61: 172.1557 | G61: =E61+F59 -> 172.1557
D62: 4 | E62: 172.1557 | G62: =E62+F59 -> 172.1557
D63: 5 | E63: 172.1557 | G63: =E63+F59 -> 172.1557
C64: 200 | D64: 1 | E64: 199.9801 | F64: =[1]dérive!$C$311 -> 0 | G64: =E64+F64 -> 199.9801 | H64: =AVERAGE(G64:G68) -> 199.98034 | I64: =H64-C64 -> -0.01966 | J64: =((MAX(E64:E68)-MIN(E64:E68))/2.33) -> 0.00021459227 | K64: =5.5/3 -> 1.8333333 | L64: =J64*K64 -> 0.00039341917 | P64: =[1]dérive!$D$311 -> 0.005 | R64: =P64/$Q$34 -> 0.0025 | T64: =R64 -> 0.0025 | U64: =SQRT((L64^2)+(R64^2)+(T64^2)) -> 0.0035573556
D65: 2 | E65: 199.9804 | G65: =E65+F64 -> 199.9804
D66: 3 | E66: 199.9806 | G66: =E66+F64 -> 199.9806
D67: 4 | E67: 199.9801 | G67: =E67+F64 -> 199.9801
D68: 5 | E68: 199.9805 | G68: =E68+F64 -> 199.9805
C69: 212.052 | D69: 1 | E69: 0.212035 | F69: =[1]dérive!$C$315/1000 -> -1e-06 | G69: =E69+F69 -> 0.212034 | H69: =AVERAGE(G69:G73) -> 0.212034 | I69: =(H69*1000)-C69 -> -0.018 | J69: =((MAX(E69:E73)-MIN(E69:E73))/2.33) -> 0 | K69: =5.5/3 -> 1.8333333 | L69: =J69*K69 -> 0 | P69: =[1]dérive!$D$315 -> 0.005 | R69: =P69/$Q$34 -> 0.0025 | T69: =R69 -> 0.0025 | U69: =SQRT((L69^2)+(R69^2)+(T69^2)) -> 0.0035355339
D70: 2 | E70: 0.212035 | G70: =E70+F69 -> 0.212034
D71: 3 | E71: 0.212035 | G71: =E71+F69 -> 0.212034
D72: 4 | E72: 0.212035 | G72: =E72+F69 -> 0.212034
D73: 5 | E73: 0.212035 | G73: =E73+F69 -> 0.212034
C74: 280.978 | D74: 1 | E74: 0.280963 | F74: =[1]dérive!$C$316/1000 -> -1e-06 | G74: =E74+F74 -> 0.280962 | H74: =AVERAGE(G74:G78) -> 0.2809614 | I74: =(H74*1000)-C74 -> -0.0166 | J74: =((MAX(E74:E78)-MIN(E74:E78))/2.33) -> 4.2918455e-07 | K74: =5.5/3 -> 1.8333333 | L74: =J74*K74 -> 7.8683834e-07 | P74: =[1]dérive!$D$316 -> 0.007 | R74: =P74/$Q$34 -> 0.0035 | T74: =R74 -> 0.0035 | U74: =SQRT((L74^2)+(R74^2)+(T74^2)) -> 0.0049497475
D75: 2 | E75: 0.280963 | G75: =E75+F74 -> 0.280962
D76: 3 | E76: 0.280962 | G76: =E76+F74 -> 0.280961
D77: 4 | E77: 0.280962 | G77: =E77+F74 -> 0.280961
D78: 5 | E78: 0.280962 | G78: =E78+F74 -> 0.280961
C79: 350 | D79: 1 | E79: 0.349984 | F79: =[1]dérive!$C$317/1000 -> 0 | G79: =E79+F79 -> 0.349984 | H79: =AVERAGE(G79:G83) -> 0.349984 | I79: =(H79*1000)-C79 -> -0.016 | J79: =((MAX(E79:E83)-MIN(E79:E83))/2.33) -> 0 | K79: =5.5/3 -> 1.8333333 | L79: =J79*K79 -> 0 | P79: =[1]dérive!$D$317 -> 0.008 | R79: =P79/$Q$34 -> 0.004 | T79: =R79 -> 0.004 | U79: =SQRT((L79^2)+(R79^2)+(T79^2)) -> 0.0056568542
D80: 2 | E80: 0.349984 | G80: =E80+F79 -> 0.349984
D81: 3 | E81: 0.349984 | G81: =E81+F79 -> 0.349984
D82: 4 | E82: 0.349984 | G82: =E82+F79 -> 0.349984
D83: 5 | E83: 0.349984 | G83: =E83+F79 -> 0.349984
B84: 4.00000 Kohms | C84: 0.5 | D84: 1 | E84: 0.499967 | F84: =[1]dérive!$C$318/1000 -> 0 | G84: =E84+F84 -> 0.499967 | H84: =AVERAGE(G84:G88) -> 0.4999676 | I84: =H84-C84 -> -3.24e-05 | J84: =((MAX(E84:E88)-MIN(E84:E88))/2.33)*1000 -> 0.00042918455 | K84: =5.5/3 -> 1.8333333 | L84: =J84*K84 -> 0.00078683834 | M84: 0.01 | N84: =SQRT(12) -> 3.4641016 | O84: =M84/N84 -> 0.0028867513 | P84: =[1]dérive!$D$318 -> 0.012 | Q84: 2 | R84: =P84/$Q$84 -> 0.006 | T84: =R84 -> 0.006 | U84: =SQRT((L84^2)+(R84^2)+(T84^2)) -> 0.008521685
D85: 2 | E85: 0.499967 | G85: =E85+F84 -> 0.499967
D86: 3 | E86: 0.499968 | G86: =E86+F84 -> 0.499968
D87: 4 | E87: 0.499968 | G87: =E87+F84 -> 0.499968
D88: 5 | E88: 0.499968 | G88: =E88+F84 -> 0.499968
C89: 1 | D89: 1 | E89: 0.999961 | F89: =[1]dérive!$C$319/1000 -> 0 | G89: =E89+F89 -> 0.999961 | H89: =AVERAGE(G89:G93) -> 0.9999602 | I89: =H89-C89 -> -3.98e-05 | J89: =((MAX(E89:E93)-MIN(E89:E93))/2.33)*1000 -> 0.00042918455 | K89: =5.5/3 -> 1.8333333 | L89: =J89*K89 -> 0.00078683834 | P89: =[1]dérive!$D$319 -> 0.002 | R89: =P89/$Q$84 -> 0.001 | T89: =R89 -> 0.001 | U89: =SQRT((L89^2)+(R89^2)+(T89^2)) -> 0.0016183679
D90: 2 | E90: 0.99996 | G90: =E90+F89 -> 0.99996
D91: 3 | E91: 0.99996 | G91: =E91+F89 -> 0.99996
D92: 4 | E92: 0.99996 | G92: =E92+F89 -> 0.99996
D93: 5 | E93: 0.99996 | G93: =E93+F89 -> 0.99996
C94: 1.5 | D94: 1 | E94: 1.499949 | F94: =[1]dérive!$C$320/1000 -> 0 | G94: =E94+F94 -> 1.499949 | H94: =AVERAGE(G94:G98) -> 1.499948 | I94: =H94-C94 -> -5.2e-05 | J94: =((MAX(E94:E98)-MIN(E94:E98))/2.33)*1000 -> 0.0008583691 | K94: =5.5/3 -> 1.8333333 | L94: =J94*K94 -> 0.0015736767 | P94: =[1]dérive!$D$320 -> 0.05 | R94: =P94/$Q$84 -> 0.025 | T94: =R94 -> 0.025 | U94: =SQRT((L94^2)+(R94^2)+(T94^2)) -> 0.035390344
D95: 2 | E95: 1.499948 | G95: =E95+F94 -> 1.499948
D96: 3 | E96: 1.499947 | G96: =E96+F94 -> 1.499947
D97: 4 | E97: 1.499948 | G97: =E97+F94 -> 1.499948
D98: 5 | E98: 1.499948 | G98: =E98+F94 -> 1.499948
C99: 2 | D99: 1 | E99: 1.99995 | F99: =[1]dérive!$C$321/1000 -> 0 | G99: =E99+F99 -> 1.99995 | H99: =AVERAGE(G99:G103) -> 1.99995 | I99: =H99-C99 -> -5e-05 | J99: =((MAX(E99:E103)-MIN(E99:E103))/2.33)*1000 -> 0 | K99: =5.5/3 -> 1.8333333 | L99: =J99*K99 -> 0 | P99: =[1]dérive!$D$321 -> 0.06 | R99: =P99/$Q$84 -> 0.03 | T99: =R99 -> 0.03 | U99: =SQRT((L99^2)+(R99^2)+(T99^2)) -> 0.042426407
D100: 2 | E100: 1.99995 | G100: =E100+F99 -> 1.99995
...

Sheet correction VDC 
P6: mV | Q6: V | R6: U
A10: 320 mV | P10: =A11 -> 0.798 | Q10: =A11/1000 -> 0.000798 | R10: =K11 -> 1.0565194e-06
A11: 0.798 | K11: ='[3] INCERTITUDE VOLT DC'!$T$4*2 -> 1.0565194e-06 | P11: =A12 -> 20 | Q11: =A12/1000 -> 0.02 | R11: =K12 -> 1.264561e-06
A12: 20 | K12: ='[3] INCERTITUDE VOLT DC'!$T$9*2 -> 1.264561e-06 | P12: =A13 -> 50 | Q12: =A13/1000 -> 0.05 | R12: =K13 -> 1.1743331e-06
A13: 50 | K13: ='[3] INCERTITUDE VOLT DC'!$T$14*2 -> 1.1743331e-06 | P13: =A14 -> 100 | Q13: =A14/1000 -> 0.1 | R13: =K14 -> 1.3575276e-06
A14: 100 | K14: ='[3] INCERTITUDE VOLT DC'!$T$19*2 -> 1.3575276e-06 | P14: =A15 -> 150 | Q14: =A15/1000 -> 0.15 | R14: =K15 -> 1.8100368e-06
A15: 150 | K15: ='[3] INCERTITUDE VOLT DC'!$T$24*2 -> 1.8100368e-06 | P15: =A16 -> 200 | Q15: =A16/1000 -> 0.2 | R15: =K16 -> 1.9861431e-06
A16: 200 | K16: ='[3] INCERTITUDE VOLT DC'!$T$29*2 -> 1.9861431e-06 | P16: =A17 -> 300 | Q16: =A17/1000 -> 0.3 | R16: =K17 -> 4.2426407e-06
A17: 300 | K17: ='[3] INCERTITUDE VOLT DC'!$T$34*2 -> 4.2426407e-06 | P17: =A19*1000 -> -2000 | Q17: =A19 -> -2 | R17: =K19 -> 1.2824838e-05
A18: 3,2 V | P18: =A20*1000 -> 500 | Q18: =A20 -> 0.5 | R18: =K20 -> 4.2426407e-06
A19: =-0.2*10^(1) -> -2 | K19: ='[3] INCERTITUDE VOLT DC'!$T$39*2 -> 1.2824838e-05 | P19: =A21*1000 -> 1000 | Q19: =A21 -> 1 | R19: =K21 -> 5.6568542e-06
A20: 0.5 | K20: ='[3] INCERTITUDE VOLT DC'!$T$44*2 -> 4.2426407e-06 | P20: =A22*1000 -> 1500 | Q20: =A22 -> 1.5 | R20: =K22 -> 1.0023795e-05
A21: 1 | K21: ='[3] INCERTITUDE VOLT DC'!$T$49*2 -> 5.6568542e-06 | P21: =A23*1000 -> 2000 | Q21: =A23 -> 2 | R21: =K23 -> 1.2727922e-05
A22: 1.5 | K22: ='[3] INCERTITUDE VOLT DC'!$T$54*2 -> 1.0023795e-05 | P22: =A24*1000 -> 3000 | Q22: =A24 -> 3 | R22: =K24 -> 2.8284271e-05
A23: 2 | K23: ='[3] INCERTITUDE VOLT DC'!$T$59*2 -> 1.2727922e-05 | P23: =A26*1000 -> -20000 | Q23: =A26 -> -20 | R23: =K26 -> 0.00013780837
A24: 3 | K24: ='[3] INCERTITUDE VOLT DC'!$T$64*2 -> 2.8284271e-05 | P24: =A27*1000 -> 4000 | Q24: =A27 -> 4 | R24: =K27 -> 4.5250921e-05
A25: 32 V | P25: =A28*1000 -> 6000 | Q25: =A28 -> 6 | R25: =K28 -> 4.5250921e-05
A26: -20 | K26: ='[3] INCERTITUDE VOLT DC'!$T$69*2 -> 0.00013780837 | P26: =A29*1000 -> 8000 | Q26: =A29 -> 8 | R26: =K29 -> 5.8716657e-05
A27: 4 | K27: ='[3] INCERTITUDE VOLT DC'!$T$74*2 -> 4.5250921e-05 | P27: =A30*1000 -> 10000 | Q27: =A30 -> 10 | R27: =K30 -> 6.3472927e-05
A28: 6 | K28: ='[3] INCERTITUDE VOLT DC'!$T$79*2 -> 4.5250921e-05 | Q28: =A31 -> 12 | R28: =K31 -> 7.2440637e-05
A29: 8 | K29: ='[3] INCERTITUDE VOLT DC'!$T$84*2 -> 5.8716657e-05 | Q29: =A32 -> 14 | R29: =K32 -> 8.6299744e-05
A30: 10 | K30: ='[3] INCERTITUDE VOLT DC'!$T$89*2 -> 6.3472927e-05 | Q30: =A33 -> 16 | R30: =K33 -> 0.00010023795
A31: 12 | K31: ='[3] INCERTITUDE VOLT DC'!$T$94*2 -> 7.2440637e-05 | Q31: =A34 -> 18 | R31: =K34 -> 0.00011743331
A32: 14 | K32: ='[3] INCERTITUDE VOLT DC'!$T$99*2 -> 8.6299744e-05 | Q32: =A35 -> 20 | R32: =K35 -> 0.00011422629
A33: 16 | K33: ='[3] INCERTITUDE VOLT DC'!$T$104*2 -> 0.00010023795 | Q33: =A36 -> 30 | R33: =K36 -> 0.00028284271
A34: 18 | K34: ='[3] INCERTITUDE VOLT DC'!$T$109*2 -> 0.00011743331 | Q34: =A38 -> -200 | R34: =K38 -> 0.0014229422
A35: 20 | K35: ='[3] INCERTITUDE VOLT DC'!$T$114*2 -> 0.00011422629 | Q35: =A39 -> 50 | R35: =K39 -> 0.00042426407
A36: 30 | K36: ='[3] INCERTITUDE VOLT DC'!$T$119*2 -> 0.00028284271 | Q36: =A40 -> 100 | R36: =K40 -> 0.00045250921
A37: 320 V | Q37: =A41 -> 150 | R37: =K41 -> 0.0011313708
A38: -200 | K38: ='[3] INCERTITUDE VOLT DC'!$T$124*2 -> 0.0014229422 | Q38: =A42 -> 200 | R38: =K42 -> 0.0014142136
A39: 50 | K39: ='[3] INCERTITUDE VOLT DC'!$T$129*2 -> 0.00042426407 | Q39: =A43 -> 300 | R39: =K43 -> 0.0028284271
A40: 100 | K40: ='[3] INCERTITUDE VOLT DC'!$T$134*2 -> 0.00045250921 | Q40: =A45 -> 350 | R40: =K45 -> 0.0045250921
A41: 150 | K41: ='[3] INCERTITUDE VOLT DC'!$T$139*2 -> 0.0011313708 | Q41: =A46 -> 500 | R41: =K46 -> 0.0042426407
A42: 200 | K42: ='[3] INCERTITUDE VOLT DC'!$T$144*2 -> 0.0014142136 | Q42: =A47 -> 600 | R42: =K47 -> 0.0058716657
A43: 300 | K43: ='[3] INCERTITUDE VOLT DC'!$T$149*2 -> 0.0028284271 | Q43: =A48 -> 750 | R43: =K48 -> 0.0056568542
A44: 1050 V
A45: 350 | K45: ='[3] INCERTITUDE VOLT DC'!$T$154*2 -> 0.0045250921
A46: 500 | K46: ='[3] INCERTITUDE VOLT DC'!$T$159*2 -> 0.0042426407
A47: 600 | K47: ='[3] INCERTITUDE VOLT DC'!$T$164*2 -> 0.0058716657
A48: 750 | K48: ='[3] INCERTITUDE VOLT DC'!$T$169*2 -> 0.0056568542

Sheet correction VAC
O11: mV | P11: V | Q11: U
A16: 320 mV
A17: 20 | K17: ='[3]INCERTITUDE VOLT AC'!$W$4*2 -> 1.3423309e-05 | O17: =A17 -> 20 | P17: =A17/1000 -> 0.02 | Q17: =K17 -> 1.3423309e-05
A18: 50 | K18: ='[3]INCERTITUDE VOLT AC'!$W$9*2 -> 2.9672824e-05 | O18: =A18 -> 50 | P18: =A18/1000 -> 0.05 | Q18: =K18 -> 2.9672824e-05
A19: 100 | K19: ='[3]INCERTITUDE VOLT AC'!$W$14*2 -> 3.7606707e-05 | O19: =A19 -> 100 | P19: =A19/1000 -> 0.1 | Q19: =K19 -> 3.7606707e-05
A20: 150 | K20: ='[3]INCERTITUDE VOLT AC'!$W$19*2 -> 5.626258e-05 | O20: =A20 -> 150 | P20: =A20/1000 -> 0.15 | Q20: =K20 -> 5.626258e-05
A21: 200 | K21: ='[3]INCERTITUDE VOLT AC'!$W$24*2 -> 7.2932551e-05 | O21: =A21 -> 200 | P21: =A21/1000 -> 0.2 | Q21: =K21 -> 7.2932551e-05
A22: 300 | K22: ='[3]INCERTITUDE VOLT AC'!$W$29*2 -> 0.0001093252 | O22: =A22 -> 300 | P22: =A22/1000 -> 0.3 | Q22: =K22 -> 0.0001093252
A23: 3,2 V | O23: =A24*1000 -> 500 | P23: =A24 -> 0.5 | Q23: =K24 -> 0.0001830291
A24: 0.5 | K24: ='[3]INCERTITUDE VOLT AC'!$W$34*2 -> 0.0001830291 | O24: =A25*1000 -> 1000 | P24: =A25 -> 1 | Q24: =K25 -> 0.00036528615
A25: 1 | K25: ='[3]INCERTITUDE VOLT AC'!$W$39*2 -> 0.00036528615 | O25: =A26*1000 -> 1500 | P25: =A26 -> 1.5 | Q25: =K26 -> 0.00055060737
A26: 1.5 | K26: ='[3]INCERTITUDE VOLT AC'!$W$44*2 -> 0.00055060737 | O26: =A27*1000 -> 2000 | P26: =A27 -> 2 | Q26: =K27 -> 0.00072944774
A27: 2 | K27: ='[3]INCERTITUDE VOLT AC'!$W$49*2 -> 0.00072944774 | O27: =A28*1000 -> 3000 | P27: =A28 -> 3 | Q27: =K28 -> 0.0011242608
A28: 3 | K28: ='[3]INCERTITUDE VOLT AC'!$W$54*2 -> 0.0011242608 | O28: =A30*1000 -> 5000 | P28: =A30 -> 5 | Q28: =K30 -> 0.0029727589
A29: 32 V | O29: =A31*1000 -> 10000 | P29: =A31 -> 10 | Q29: =K31 -> 0.0059502019
A30: 5 | K30: ='[3]INCERTITUDE VOLT AC'!$W$59*2 -> 0.0029727589 | P30: =A32 -> 15 | Q30: =K32 -> 0.0089229962
A31: 10 | K31: ='[3]INCERTITUDE VOLT AC'!$W$64*2 -> 0.0059502019 | P31: =A33 -> 20 | Q31: =K33 -> 0.01189341
A32: 15 | K32: ='[3]INCERTITUDE VOLT AC'!$W$69*2 -> 0.0089229962 | P32: =A34 -> 30 | Q32: =K34 -> 0.017835332
A33: 20 | K33: ='[3]INCERTITUDE VOLT AC'!$W$74*2 -> 0.01189341 | P33: =A36 -> 50 | Q33: =K36 -> 0.029724673
A34: 30 | K34: ='[3]INCERTITUDE VOLT AC'!$W$79*2 -> 0.017835332 | P34: =A37 -> 100 | Q34: =K37 -> 0.059561714
A35: 320 V | P35: =A38 -> 150 | Q35: =K38 -> 0.27799034
A36: 50 | K36: ='[3]INCERTITUDE VOLT AC'!$W$84*2 -> 0.029724673 | P36: =A39 -> 200 | Q36: =K39 -> 0.37060129
A37: 100 | K37: ='[3]INCERTITUDE VOLT AC'!$W$89*2 -> 0.059561714 | P37: =A40 -> 300 | Q37: =K40 -> 0.55605808
A38: 150 | K38: ='[3]INCERTITUDE VOLT AC'!$W$94*2 -> 0.27799034 | P38: =A42 -> 350 | Q38: =K42 -> 0.65423427
A39: 200 | K39: ='[3]INCERTITUDE VOLT AC'!$W$99*2 -> 0.37060129 | P39: =A43 -> 500 | Q39: =K43 -> 0.93486219
A40: 300 | K40: ='[3]INCERTITUDE VOLT AC'!$W$104*2 -> 0.55605808 | P40: =A44 -> 600 | Q40: =K44 -> 1.1221175
A41: 1050 V | P41: =A45 -> 750 | Q41: =K45 -> 1.4020398
A42: 350 | K42: ='[3]INCERTITUDE VOLT AC'!$W$109*2 -> 0.65423427
A43: 500 | K43: ='[3]INCERTITUDE VOLT AC'!$W$114*2 -> 0.93486219
A44: 600 | K44: ='[3]INCERTITUDE VOLT AC'!$W$119*2 -> 1.1221175
A45: 750 | K45: ='[3]INCERTITUDE VOLT AC'!$W$124*2 -> 1.4020398
O63: mV | P63: V | Q63: U
A68: 320 mV
A69: 200 | K69: ='[3]INCERTITUDE VOLT AC'!$W$134*2 -> 7.2958352e-05 | O69: =A69 -> 200 | P69: =A69/1000 -> 0.2 | Q69: =K69 -> 7.2958352e-05
A70: 3,2 V | O70: =A71*1000 -> 2000 | P70: =A71 -> 2 | Q70: =K71 -> 0.00072944774
A71: 2 | K71: ='[3]INCERTITUDE VOLT AC'!$W$139*2 -> 0.00072944774 | O71: =A73*1000 -> 20000 | P71: =A73 -> 20 | Q71: =K73 -> 0.011889869
A72: 32 V | P72: =A75 -> 200 | Q72: =K75 -> 0.57804405
A73: 20 | K73: ='[3]INCERTITUDE VOLT AC'!$W$144*2 -> 0.011889869 | P73: =A77 -> 750 | Q73: =K77 -> 2.1757321
A74: 320 V
A75: 200 | K75: ='[3]INCERTITUDE VOLT AC'!$W$149*2 -> 0.57804405
A76: 1050 V
A77: 750 | K77: ='[3]INCERTITUDE VOLT AC'!$W$154*2 -> 2.1757321
O81: mV | P81: V | Q81: U
A86: 320 mV
A87: 200 | K87: ='[3]INCERTITUDE VOLT AC'!$W$164*2 -> 7.2973286e-05 | O87: =A87 -> 200 | P87: =A87/1000 -> 0.2 | Q87: =K87 -> 7.2973286e-05
A88: 3,2 V | O88: =A89*1000 -> 2000 | P88: =A89 -> 2 | Q88: =K89 -> 0.00072958352
A89: 2 | K89: ='[3]INCERTITUDE VOLT AC'!$W$169*2 -> 0.00072958352 | O89: =A91*1000 -> 20000 | P89: =A91 -> 20 | Q89: =K91 -> 0.011959907
A90: 32 V | P90: =A93 -> 200 | Q90: =K93 -> 0.57804687
A91: 20 | K91: ='[3]INCERTITUDE VOLT AC'!$W$174*2 -> 0.011959907 | P91: =A95 -> 750 | Q91: =K95 -> 2.1791622
A92: 320 V
A93: 200 | K93: ='[3]INCERTITUDE VOLT AC'!$W$179*2 -> 0.57804687
A94: 1050 V
A95: 750 | K95: ='[3]INCERTITUDE VOLT AC'!$W$184*2 -> 2.1791622
O111: mV | P111: V | Q111: U
A116: 320 mV
A117: 200 | K117: ='INCERTITUDE VOLT AC'!$W$194*2 -> 0.00011769313 | O117: =A117 -> 200 | P117: =A117/1000 -> 0.2 | Q117: =K117 -> 0.00011769313
A118: 3,2 V | O118: =A119*1000 -> 2000 | P118: =A119 -> 2 | Q118: =K119 -> 0.0011767472
A119: 2 | K119: ='INCERTITUDE VOLT AC'!$W$199*2 -> 0.0011767472 | O119: =A121*1000 -> 20000 | P119: =A121 -> 20 | Q119: =K121 -> 0.011889036
A120: 32 V | P120: =A123 -> 200 | Q120: =K123 -> 0.37059849
A121: 20 | K121: ='INCERTITUDE VOLT AC'!$W$204*2 -> 0.011889036 | P121: =A125 -> 750 | Q121: =K125 -> 1.4017987
A122: 320 V
A123: 200 | K123: ='INCERTITUDE VOLT AC'!$W$209*2 -> 0.37059849
A124: 1050 V
A125: 750 | K125: ='INCERTITUDE VOLT AC'!$W$214*2 -> 1.4017987
A134: 320 mV
A135: 200 | K135: ='INCERTITUDE VOLT AC'!$W$224*2 -> 0.00037259318
A136: 3,2 V
A137: 2 | K137: ='INCERTITUDE VOLT AC'!$W$229*2 -> 0.0037194801
A138: 32 V
A139: 20 | K139: ='INCERTITUDE VOLT AC'!$W$234*2 -> 0.03738498

Sheet correction IDC
O6: µA | P6: mA | Q6: A | R6: U
A10: 320 µA
A11: -200 | K11: ='[3]INCERTITUDE AMPERE DC'!$T$4*2 -> 7.0945989e-09 | O11: =A11 -> -200 | P11: =O11/1000 -> -0.2 | Q11: =A11/1000000 -> -0.0002 | R11: =K11 -> 7.0945989e-09
A12: 1 | K12: ='[3]INCERTITUDE AMPERE DC'!$T$9*2 -> 8.3406634e-10 | O12: =A12 -> 1 | P12: =O12/1000 -> 0.001 | Q12: =A12/1000000 -> 1e-06 | R12: =K12 -> 8.3406634e-10
A13: 20 | K13: ='[3]INCERTITUDE AMPERE DC'!$T$14*2 -> 1.0935467e-09 | O13: =A13 -> 20 | P13: =O13/1000 -> 0.02 | Q13: =A13/1000000 -> 2e-05 | R13: =K13 -> 1.0935467e-09
A14: 50 | K14: ='[3]INCERTITUDE AMPERE DC'!$T$19*2 -> 2.8927995e-09 | O14: =A14 -> 50 | P14: =O14/1000 -> 0.05 | Q14: =A14/1000000 -> 5e-05 | R14: =K14 -> 2.8927995e-09
A15: 100 | K15: ='[3]INCERTITUDE AMPERE DC'!$T$24*2 -> 3.8833033e-09 | O15: =A15 -> 100 | P15: =O15/1000 -> 0.1 | Q15: =A15/1000000 -> 0.0001 | R15: =K15 -> 3.8833033e-09
A16: 150 | K16: ='[3]INCERTITUDE AMPERE DC'!$T$29*2 -> 5.7058313e-09 | O16: =A16 -> 150 | P16: =O16/1000 -> 0.15 | Q16: =A16/1000000 -> 0.00015 | R16: =K16 -> 5.7058313e-09
A17: 200 | K17: ='[3]INCERTITUDE AMPERE DC'!$T$34*2 -> 5.6961625e-09 | O17: =A17 -> 200 | P17: =O17/1000 -> 0.2 | Q17: =A17/1000000 -> 0.0002 | R17: =K17 -> 5.6961625e-09
A18: 300 | K18: ='[3]INCERTITUDE AMPERE DC'!$T$39*2 -> 2.4048562e-08 | O18: =A18 -> 300 | P18: =O18/1000 -> 0.3 | Q18: =A18/1000000 -> 0.0003 | R18: =K18 -> 2.4048562e-08
A19: 3,2 mA | O19: =A20*1000 -> -2000 | P19: =A20 -> -2 | Q19: =A20/1000 -> -0.002 | R19: =K20 -> 5.6862407e-08
A20: =-0.2*10^(1) -> -2 | K20: ='[3]INCERTITUDE AMPERE DC'!$T$44*2 -> 5.6862407e-08 | O20: =A21*1000 -> 500 | P20: =A21 -> 0.5 | Q20: =A21/1000 -> 0.0005 | R20: =K21 -> 2.8867513e-08
A21: 0.5 | K21: ='[3]INCERTITUDE AMPERE DC'!$T$49*2 -> 2.8867513e-08 | O21: =A22*1000 -> 1000 | P21: =A22 -> 1 | Q21: =A22/1000 -> 0.001 | R21: =K22 -> 3.8649836e-08
A22: 1 | K22: ='[3]INCERTITUDE AMPERE DC'!$T$54*2 -> 3.8649836e-08 | O22: =A23*1000 -> 1500 | P22: =A23 -> 1.5 | Q22: =A23/1000 -> 0.0015 | R22: =K23 -> 5.6862407e-08
A23: 1.5 | K23: ='[3]INCERTITUDE AMPERE DC'!$T$59*2 -> 5.6862407e-08 | O23: =A24*1000 -> 2000 | P23: =A24 -> 2 | Q23: =A24/1000 -> 0.002 | R23: =K24 -> 5.6862407e-08
A24: 2 | K24: ='[3]INCERTITUDE AMPERE DC'!$T$64*2 -> 5.6862407e-08 | O24: =A25*1000 -> 3000 | P24: =A25 -> 3 | Q24: =A25/1000 -> 0.003 | R24: =K25 -> 2.4048562e-07
A25: 3 | K25: ='[3]INCERTITUDE AMPERE DC'!$T$69*2 -> 2.4048562e-07 | O25: =A27*1000 -> -20000 | P25: =A27 -> -20 | Q25: =A27/1000 -> -0.02 | R25: =K27 -> 5.7058053e-07
A26: 32 mA | O26: =A28*1000 -> 5000 | P26: =A28 -> 5 | Q26: =A28/1000 -> 0.005 | R26: =K28 -> 3.0897893e-07
A27: -20 | K27: ='[3]INCERTITUDE AMPERE DC'!$T$74*2 -> 5.7058053e-07 | O27: =A29*1000 -> 10000 | P27: =A29 -> 10 | Q27: =A29/1000 -> 0.01 | R27: =K29 -> 3.9127441e-07
A28: 5 | K28: ='[3]INCERTITUDE AMPERE DC'!$T$79*2 -> 3.0897893e-07 | P28: =A30 -> 15 | Q28: =A30/1000 -> 0.015 | R28: =K30 -> 5.6949444e-07
A29: 10 | K29: ='[3]INCERTITUDE AMPERE DC'!$T$84*2 -> 3.9127441e-07 | P29: =A31 -> 20 | Q29: =A31/1000 -> 0.02 | R29: =K31 -> 5.6949444e-07
A30: 15 | K30: ='[3]INCERTITUDE AMPERE DC'!$T$89*2 -> 5.6949444e-07 | P30: =A32 -> 30 | Q30: =A32/1000 -> 0.03 | R30: =K32 -> 2.4048562e-06
A31: 20 | K31: ='[3]INCERTITUDE AMPERE DC'!$T$94*2 -> 5.6949444e-07 | P31: =A34 -> -200 | Q31: =A34/1000 -> -0.2 | R31: =K34 -> 6.2841306e-06
A32: 30 | K32: ='[3]INCERTITUDE AMPERE DC'!$T$99*2 -> 2.4048562e-06 | P32: =A35 -> 50 | Q32: =A35/1000 -> 0.05 | R32: =K35 -> 2.9251008e-06
A33: 320 mA | P33: =A36 -> 100 | Q33: =A36/1000 -> 0.1 | R33: =K36 -> 3.8649836e-06
A34: -200 | K34: ='[3]INCERTITUDE AMPERE DC'!$T$104*2 -> 6.2841306e-06 | P34: =A37 -> 150 | Q34: =A37/1000 -> 0.15 | R34: =K37 -> 5.7404223e-06
A35: 50 | K35: ='[3]INCERTITUDE AMPERE DC'!$T$109*2 -> 2.9251008e-06 | P35: =A38 -> 200 | Q35: =A38/1000 -> 0.2 | R35: =K38 -> 5.8239391e-06
A36: 100 | K36: ='[3]INCERTITUDE AMPERE DC'!$T$114*2 -> 3.8649836e-06 | P36: =A39 -> 300 | Q36: =A39/1000 -> 0.3 | R36: =K39 -> 2.5462391e-05
A37: 150 | K37: ='[3]INCERTITUDE AMPERE DC'!$T$119*2 -> 5.7404223e-06 | P37: =A41*1000 -> 500 | Q37: =A41 -> 0.5 | R37: =K41 -> 3.3405485e-05
A38: 200 | K38: ='[3]INCERTITUDE AMPERE DC'!$T$124*2 -> 5.8239391e-06 | P38: =A42*1000 -> 1000 | Q38: =A42 -> 1 | R38: =K42 -> 7.3548209e-05
A39: 300 | K39: ='[3]INCERTITUDE AMPERE DC'!$T$129*2 -> 2.5462391e-05 | P39: =A43*1000 -> 1500 | Q39: =A43 -> 1.5 | R39: =K43 -> 8.251872e-05
A40: 3,2 A | P40: =A44*1000 -> 2000 | Q40: =A44 -> 2 | R40: =K44 -> 8.1124101e-05
A41: 0.5 | K41: ='[3]INCERTITUDE AMPERE DC'!$T$134*2 -> 3.3405485e-05 | P41: =A46*1000 -> 5000 | Q41: =A46 -> 5 | R41: =K46 -> 0.0056822026
A42: 1 | K42: ='[3]INCERTITUDE AMPERE DC'!$T$139*2 -> 7.3548209e-05 | Q42: =A47 -> 10 | R42: =K47 -> 0.011354014
A43: 1.5 | K43: ='[3]INCERTITUDE AMPERE DC'!$T$144*2 -> 8.251872e-05 | Q43: =A48 -> 20 | R43: =K48 -> 0.028351705
A44: 2 | K44: ='[3]INCERTITUDE AMPERE DC'!$T$149*2 -> 8.1124101e-05
A45: 20 A
A46: 5 | K46: ='[3]INCERTITUDE AMPERE DC'!$AI$156*2 -> 0.0056822026
A47: 10 | K47: ='[3]INCERTITUDE AMPERE DC'!$AI$161*2 -> 0.011354014
A48: 20 | K48: ='[3]INCERTITUDE AMPERE DC'!$AI$166*2 -> 0.028351705

Sheet correction IAC
O8: µA | P8: mA | Q8: A | R8: U
A13: 320 µA
A14: 20 | K14: ='[3]INCERTITUDE AMPERE AC'!$W$4*2 -> 2.5617465e-08 | O14: =A14 -> 20 | P14: =A14/1000 -> 0.02 | Q14: =A14/1000000 -> 2e-05 | R14: =K14 -> 2.5617465e-08
A15: 50 | K15: ='[3]INCERTITUDE AMPERE AC'!$W$9*2 -> 4.568937e-08 | O15: =A15 -> 50 | P15: =A15/1000 -> 0.05 | Q15: =A15/1000000 -> 5e-05 | R15: =K15 -> 4.568937e-08
A16: 100 | K16: ='[3]INCERTITUDE AMPERE AC'!$W$14*2 -> 8.0878656e-08 | O16: =A16 -> 100 | P16: =A16/1000 -> 0.1 | Q16: =A16/1000000 -> 0.0001 | R16: =K16 -> 8.0878656e-08
A17: 150 | K17: ='[3]INCERTITUDE AMPERE AC'!$W$19*2 -> 2.2913532e-07 | O17: =A17 -> 150 | P17: =A17/1000 -> 0.15 | Q17: =A17/1000000 -> 0.00015 | R17: =K17 -> 2.2913532e-07
A18: 200 | K18: ='[3]INCERTITUDE AMPERE AC'!$W$24*2 -> 2.5405771e-07 | O18: =A18 -> 200 | P18: =A18/1000 -> 0.2 | Q18: =A18/1000000 -> 0.0002 | R18: =K18 -> 2.5405771e-07
A19: 300 | K19: ='[3]INCERTITUDE AMPERE AC'!$W$29*2 -> 3.1970284e-07 | O19: =A19 -> 300 | P19: =A19/1000 -> 0.3 | Q19: =A19/1000000 -> 0.0003 | R19: =K19 -> 3.1970284e-07
A20: 3,2 mA | O20: =A21*1000 -> 500 | P20: =A21 -> 0.5 | Q20: =A21/1000 -> 0.0005 | R20: =K21 -> 4.5696687e-07
A21: 0.5 | K21: ='[3]INCERTITUDE AMPERE AC'!$W$34*2 -> 4.5696687e-07 | O21: =A22*1000 -> 1000 | P21: =A22 -> 1 | Q21: =A22/1000 -> 0.001 | R21: =K22 -> 6.4340291e-07
A22: 1 | K22: ='[3]INCERTITUDE AMPERE AC'!$W$39*2 -> 6.4340291e-07 | O22: =A23*1000 -> 1500 | P22: =A23 -> 1.5 | Q22: =A23/1000 -> 0.0015 | R22: =K23 -> 9.6465393e-07
A23: 1.5 | K23: ='[3]INCERTITUDE AMPERE AC'!$W$44*2 -> 9.6465393e-07 | O23: =A24*1000 -> 2000 | P23: =A24 -> 2 | Q23: =A24/1000 -> 0.002 | R23: =K24 -> 1.2862052e-06
A24: 2 | K24: ='[3]INCERTITUDE AMPERE AC'!$W$49*2 -> 1.2862052e-06 | O24: =A25*1000 -> 3000 | P24: =A25 -> 3 | Q24: =A25/1000 -> 0.003 | R24: =K25 -> 1.9297571e-06
A25: 3 | K25: ='[3]INCERTITUDE AMPERE AC'!$W$54*2 -> 1.9297571e-06 | O25: =A27*1000 -> 5000 | P25: =A27 -> 5 | Q25: =A27/1000 -> 0.005 | R25: =K27 -> 3.2192077e-06
A26: 32 mA | O26: =A28*1000 -> 10000 | P26: =A28 -> 10 | Q26: =A28/1000 -> 0.01 | R26: =K28 -> 6.4353376e-06
A27: 5 | K27: ='[3]INCERTITUDE AMPERE AC'!$W$59*2 -> 3.2192077e-06 | P27: =A29 -> 15 | Q27: =A29/1000 -> 0.015 | R27: =K29 -> 9.6584822e-06
A28: 10 | K28: ='[3]INCERTITUDE AMPERE AC'!$W$64*2 -> 6.4353376e-06 | P28: =A30 -> 20 | Q28: =A30/1000 -> 0.02 | R28: =K30 -> 1.28736e-05
A29: 15 | K29: ='[3]INCERTITUDE AMPERE AC'!$W$69*2 -> 9.6584822e-06 | P29: =A31 -> 30 | Q29: =A31/1000 -> 0.03 | R29: =K31 -> 1.9303345e-05
A30: 20 | K30: ='[3]INCERTITUDE AMPERE AC'!$W$74*2 -> 1.28736e-05 | P30: =A33 -> 50 | Q30: =A33/1000 -> 0.05 | R30: =K33 -> 3.2210535e-05
A31: 30 | K31: ='[3]INCERTITUDE AMPERE AC'!$W$79*2 -> 1.9303345e-05 | P31: =A34 -> 100 | Q31: =A34/1000 -> 0.1 | R31: =K34 -> 6.4346642e-05
A32: 320 mA | P32: =A35 -> 150 | Q32: =A35/1000 -> 0.15 | R32: =K35 -> 9.646167e-05
A33: 50 | K33: ='[3]INCERTITUDE AMPERE AC'!$W$84*2 -> 3.2210535e-05 | P33: =A36 -> 200 | Q33: =A36/1000 -> 0.2 | R33: =K36 -> 0.00012860666
A34: 100 | K34: ='[3]INCERTITUDE AMPERE AC'!$W$89*2 -> 6.4346642e-05 | P34: =A37 -> 300 | Q34: =A37/1000 -> 0.3 | R34: =K37 -> 0.00017320508
A35: 150 | K35: ='[3]INCERTITUDE AMPERE AC'!$W$94*2 -> 9.646167e-05 | P35: =A39*1000 -> 500 | Q35: =A39 -> 0.5 | R35: =K39 -> 0.00059441848
A36: 200 | K36: ='[3]INCERTITUDE AMPERE AC'!$W$99*2 -> 0.00012860666 | P36: =A40*1000 -> 1000 | Q36: =A40 -> 1 | R36: =K40 -> 0.0011894878
A37: 300 | K37: ='[3]INCERTITUDE AMPERE AC'!$W$104*2 -> 0.00017320508 | P37: =A41*1000 -> 1500 | Q37: =A41 -> 1.5 | R37: =K41 -> 0.0018742566
A38: 3,2 A | P38: =A42*1000 -> 2000 | Q38: =A42 -> 2 | R38: =K42 -> 0.0024695074
A39: 0.5 | K39: ='[3]INCERTITUDE AMPERE AC'!$W$109*2 -> 0.00059441848 | P39: =A44*1000 -> 5000 | Q39: =A44 -> 5 | R39: =K44 -> 0.22046586
A40: 1 | K40: ='[3]INCERTITUDE AMPERE AC'!$W$114*2 -> 0.0011894878 | P40: =A45*1000 -> 10000 | Q40: =A45 -> 10 | R40: =K45 -> 0.61387329
A41: 1.5 | K41: ='[3]INCERTITUDE AMPERE AC'!$W$119*2 -> 0.0018742566
A42: 2 | K42: ='[3]INCERTITUDE AMPERE AC'!$W$124*2 -> 0.0024695074
A43: 20 A
A44: 5 | K44: ='[3]INCERTITUDE AMPERE AC'!$AM$130*2 -> 0.22046586
A45: 10 | K45: ='[3]INCERTITUDE AMPERE AC'!$AM$135*2 -> 0.61387329
A65: 320 µA
A66: 200 | K66: ='[3]INCERTITUDE AMPERE AC'!$W$145*2 -> 2.0614917e-06 | O66: =A66 -> 200 | P66: =A66/1000 -> 0.2 | Q66: =A66/1000000 -> 0.0002 | R66: =K66 -> 2.0614917e-06
A67: 3,2 mA | O67: =A68*1000 -> 2000 | P67: =A68 -> 2 | Q67: =A68/1000 -> 0.002 | R67: =K68 -> 1.2858673e-06
A68: 2 | K68: ='[3]INCERTITUDE AMPERE AC'!$W$150*2 -> 1.2858673e-06 | O68: =A70*1000 -> 20000 | P68: =A70 -> 20 | Q68: =A70/1000 -> 0.02 | R68: =K70 -> 1.2858673e-05
A69: 32 mA | P69: =A72 -> 200 | Q69: =A72/1000 -> 0.2 | R69: =K72 -> 0.00012863747
A70: 20 | K70: ='[3]INCERTITUDE AMPERE AC'!$W$155*2 -> 1.2858673e-05 | P70: =A74*1000 -> 2000 | Q70: =A74 -> 2 | R70: =K74 -> 0.0024603523
A71: 320 mA
A72: 200 | K72: ='[3]INCERTITUDE AMPERE AC'!$W$160*2 -> 0.00012863747
A73: 3,2 A
A74: 2 | K74: ='[3]INCERTITUDE AMPERE AC'!$W$165*2 -> 0.0024603523
O78: µA | P78: mA | Q78: A | R78: U
A83: 320 µA
A84: 200 | K84: ='[3]INCERTITUDE AMPERE AC'!$W$175*2 -> 8.6812897e-07 | O84: =A84 -> 200 | P84: =A84/1000 -> 0.2 | Q84: =A84/1000000 -> 0.0002 | R84: =K84 -> 8.6812897e-07
A85: 3,2 mA | O85: =A86*1000 -> 2000 | P85: =A86 -> 2 | Q85: =A86/1000 -> 0.002 | R85: =K86 -> 2.941697e-06
A86: 2 | K86: ='[3]INCERTITUDE AMPERE AC'!$W$180*2 -> 2.941697e-06 | O86: =A88*1000 -> 20000 | P86: =A88 -> 20 | Q86: =A88/1000 -> 0.02 | R86: =K88 -> 2.941697e-05
A87: 32 mA | P87: =A90 -> 200 | Q87: =A90/1000 -> 0.2 | R87: =K90 -> 0.00029417765
A88: 20 | K88: ='[3]INCERTITUDE AMPERE AC'!$W$185*2 -> 2.941697e-05
A89: 320 mA
A90: 200 | K90: ='[3]INCERTITUDE AMPERE AC'!$W$190*2 -> 0.00029417765

Sheet correction ohm
O7: Ω | P7: kΩ | Q7: MΩ | R7: U
A12: 40 W
A13: 1 | K13: ='[3]INCERTITUDE OHM'!$U$4*2 -> 0.00078696542 | O13: =A13 -> 1 | P13: =A13/1000 -> 0.001 | Q13: =A13/1000000 -> 1e-06 | R13: =K13 -> 0.00078696542
A14: 5 | K14: ='[3]INCERTITUDE OHM'!$U$9*2 -> 0.001704337 | O14: =A14 -> 5 | P14: =A14/1000 -> 0.005 | Q14: =A14/1000000 -> 5e-06 | R14: =K14 -> 0.001704337
A15: 10 | K15: ='[3]INCERTITUDE OHM'!$U$14*2 -> 0.00063089883 | O15: =A15 -> 10 | P15: =A15/1000 -> 0.01 | Q15: =A15/1000000 -> 1e-05 | R15: =K15 -> 0.00063089883
A16: 15 | K16: ='[3]INCERTITUDE OHM'!$U$19*2 -> 0.0021732191 | O16: =A16 -> 15 | P16: =A16/1000 -> 0.015 | Q16: =A16/1000000 -> 1.5e-05 | R16: =K16 -> 0.0021732191
A17: 20 | K17: ='[3]INCERTITUDE OHM'!$U$24*2 -> 0.0025296471 | O17: =A17 -> 20 | P17: =A17/1000 -> 0.02 | Q17: =A17/1000000 -> 2e-05 | R17: =K17 -> 0.0025296471
A18: 35 | K18: ='[3]INCERTITUDE OHM'!$U$29*2 -> 0.0031743083 | O18: =A18 -> 35 | P18: =A18/1000 -> 0.035 | Q18: =A18/1000000 -> 3.5e-05 | R18: =K18 -> 0.0031743083
A19: 400 W | O19: =A20 -> 50 | P19: =A20/1000 -> 0.05 | Q19: =A20/1000000 -> 5e-05 | R19: =K20 -> 0.0039629237
A20: 50 | K20: ='[3]INCERTITUDE OHM'!$U$34*2 -> 0.0039629237 | O20: =A21 -> 80.318 | P20: =A21/1000 -> 0.080318 | Q20: =A21/1000000 -> 8.0318e-05 | R20: =K21 -> 0.0056656031
A21: 80.318 | K21: ='[3]INCERTITUDE OHM'!$U$39*2 -> 0.0056656031 | O21: =A22 -> 100 | P21: =A22/1000 -> 0.1 | Q21: =A22/1000000 -> 0.0001 | R21: =K22 -> 0.00089393209
A22: 100 | K22: ='[3]INCERTITUDE OHM'!$U$44*2 -> 0.00089393209 | O22: =A23 -> 119.397 | P22: =A23/1000 -> 0.119397 | Q22: =A23/1000000 -> 0.000119397 | R22: =K23 -> 0.0039722863
A23: 119.397 | K23: ='[3]INCERTITUDE OHM'!$U$49*2 -> 0.0039722863 | O23: =A24 -> 138.506 | P23: =A24/1000 -> 0.138506 | Q23: =A24/1000000 -> 0.000138506 | R23: =K24 -> 0.004289083
A24: 138.506 | K24: ='[3]INCERTITUDE OHM'!$U$54*2 -> 0.004289083 | O24: =A25 -> 172.176 | P24: =A25/1000 -> 0.172176 | Q24: =A25/1000000 -> 0.000172176 | R24: =K25 -> 0.0056917689
A25: 172.176 | K25: ='[3]INCERTITUDE OHM'!$U$59*2 -> 0.0056917689 | O25: =A26 -> 200 | P25: =A26/1000 -> 0.2 | Q25: =A26/1000000 -> 0.0002 | R25: =K26 -> 0.0071147111
A26: 200 | K26: ='[3]INCERTITUDE OHM'!$U$64*2 -> 0.0071147111 | O26: =A27 -> 212.052 | P26: =A27/1000 -> 0.212052 | Q26: =A27/1000000 -> 0.000212052 | R26: =K27 -> 0.0070710678
A27: 212.052 | K27: ='[3]INCERTITUDE OHM'!$U$69*2 -> 0.0070710678 | O27: =A28 -> 280.978 | P27: =A28/1000 -> 0.280978 | Q27: =A28/1000000 -> 0.000280978 | R27: =K28 -> 0.0098994951
A28: 280.978 | K28: ='[3]INCERTITUDE OHM'!$U$74*2 -> 0.0098994951 | O28: =A29 -> 350 | P28: =A29/1000 -> 0.35 | Q28: =A29/1000000 -> 0.00035 | R28: =K29 -> 0.011313708
A29: 350 | K29: ='[3]INCERTITUDE OHM'!$U$79*2 -> 0.011313708 | O29: =A31*1000 -> 500 | P29: =A31 -> 0.5 | Q29: =A31/1000 -> 0.0005 | R29: =K31 -> 0.01704337
A30: 4 KW | O30: =A32*1000 -> 1000 | P30: =A32 -> 1 | Q30: =A32/1000 -> 0.001 | R30: =K32 -> 0.0032367357
A31: 0.5 | K31: ='[3]INCERTITUDE OHM'!$U$84*2 -> 0.01704337 | O31: =A33*1000 -> 1500 | P31: =A33 -> 1.5 | Q31: =A33/1000 -> 0.0015 | R31: =K33 -> 0.070780688
A32: 1 | K32: ='[3]INCERTITUDE OHM'!$U$89*2 -> 0.0032367357 | O32: =A34*1000 -> 2000 | P32: =A34 -> 2 | Q32: =A34/1000 -> 0.002 | R32: =K34 -> 0.084852814
A33: 1.5 | K33: ='[3]INCERTITUDE OHM'!$U$94*2 -> 0.070780688 | O33: =A35*1000 -> 3500 | P33: =A35 -> 3.5 | Q33: =A35/1000 -> 0.0035 | R33: =K35 -> 0.15635743
A34: 2 | K34: ='[3]INCERTITUDE OHM'!$U$99*2 -> 0.084852814 | O34: =A37*1000 -> 5000 | P34: =A37 -> 5 | Q34: =A37/1000 -> 0.005 | R34: =K37 -> 0.21271494
A35: 3.5 | K35: ='[3]INCERTITUDE OHM'!$U$104*2 -> 0.15635743 | O35: =A38*1000 -> 10000 | P35: =A38 -> 10 | Q35: =A38/1000 -> 0.01 | R35: =K38 -> 0.032367357
A36: 40 KW | P36: =A39 -> 15 | Q36: =A39/1000 -> 0.015 | R36: =K39 -> 0.70728187
A37: 5 | K37: ='[3]INCERTITUDE OHM'!$U$109*2 -> 0.21271494 | P37: =A40 -> 20 | Q37: =A40/1000 -> 0.02 | R37: =K40 -> 0.84867405
A38: 10 | K38: ='[3]INCERTITUDE OHM'!$U$114*2 -> 0.032367357 | P38: =A41 -> 35 | Q38: =A41/1000 -> 0.035 | R38: =K41 -> 1.6256941
A39: 15 | K39: ='[3]INCERTITUDE OHM'!$U$119*2 -> 0.70728187 | P39: =A43 -> 50 | Q39: =A43/1000 -> 0.05 | R39: =K43 -> 2.4667658
A40: 20 | K40: ='[3]INCERTITUDE OHM'!$U$124*2 -> 0.84867405 | P40: =A44 -> 100 | Q40: =A44/1000 -> 0.1 | R40: =K44 -> 0.52825972
A41: 35 | K41: ='[3]INCERTITUDE OHM'!$U$129*2 -> 1.6256941 | P41: =A45 -> 150 | Q41: =A45/1000 -> 0.15 | R41: =K45 -> 5.6765202
A42: 400 KW | P42: =A46 -> 200 | Q42: =A46/1000 -> 0.2 | R42: =K46 -> 7.1822652
A43: 50 | K43: ='[3]INCERTITUDE OHM'!$U$134*2 -> 2.4667658 | P43: =A47 -> 350 | Q43: =A47/1000 -> 0.35 | R43: =K47 -> 21.213205
A44: 100 | K44: ='[3]INCERTITUDE OHM'!$U$139*2 -> 0.52825972 | P44: =A65*1000 -> 500 | Q44: =A65 -> 0.5 | R44: =K65 -> 24.24677
A45: 150 | K45: ='[3]INCERTITUDE OHM'!$U$144*2 -> 5.6765202 | P45: =A66*1000 -> 1000 | Q45: =A66 -> 1 | R45: =K66 -> 19.997786
A46: 200 | K46: ='[3]INCERTITUDE OHM'!$U$149*2 -> 7.1822652 | P46: =A67*1000 -> 1500 | Q46: =A67 -> 1.5 | R46: =K67 -> 113.31206
A47: 350 | K47: ='[3]INCERTITUDE OHM'!$U$154*2 -> 21.213205 | P47: =A68*1000 -> 2000 | Q47: =A68 -> 2 | R47: =K68 -> 142.89339
P48: =A69*1000 -> 3500 | Q48: =A69 -> 3.5 | R48: =K69 -> 647.34715
P49: =A71*1000 -> 5000 | Q49: =A71 -> 5 | R49: =K71 -> 639.84384
P50: =A72*1000 -> 10000 | Q50: =A72 -> 10 | R50: =K72 -> 634.72927
A64: 4 MW
A65: 0.5 | K65: ='[3]INCERTITUDE OHM'!$U$159*2 -> 24.24677
A66: 1 | K66: ='[3]INCERTITUDE OHM'!$U$164*2 -> 19.997786
A67: 1.5 | K67: ='[3]INCERTITUDE OHM'!$U$169*2 -> 113.31206
A68: 2 | K68: ='[3]INCERTITUDE OHM'!$U$174*2 -> 142.89339
A69: 3.5 | K69: ='[3]INCERTITUDE OHM'!$U$179*2 -> 647.34715
A70: 40 MW
A71: 5 | K71: ='[3]INCERTITUDE OHM'!$U$184*2 -> 639.84384
A72: 10 | K72: ='[3]INCERTITUDE OHM'!$U$189*2 -> 634.72927
