Workbook

Sheet  INCERTITUDE VOLT DC
A1: FONCTION GENERATION DE TENSION POUR COURANT CONTINU | J1: Incertitude
J2: Incertitude de type A | L2: Incertitude de type B | T2: Incertitude en Volt à 1 sigma
A3: Calibre | B3: Valeur affichée | C3: point | D3: Valeur lue | E3: Correction | F3: Valeur corrigée | G3: Moyenne | H3: Correction sur le point même unité que le calibre | I3: Ecart type | J3: Coefficient K | K3: Répétabilité | L3: Résolution en Volt | M3: coefficient diviseur | N3: Incertitude de résolution en Volt | O3: Incertitude étalon en Volt | P3: coefficient diviseur | Q3: Incertitude étalon en Volt | R3: Ecart max en V | S3: Incertitude sur la dérive en Volt
A4: 320.000 mV | B4: 0.798 | C4: 1 | D4: 0.7983 | E4: =[1]dérive!$C$13*1000 -> 0 | F4: =D4+$E$4 -> 0.7983 | G4: =AVERAGE(F4:F8) -> 0.79812 | H4: =G4-B4 -> 0.00012 | I4: =((MAX(D4:D8)-MIN(D4:D8))/2.33)/1000 -> 1.7167382e-07 | J4: =5.5/3 -> 1.8333333 | K4: =I4*J4 -> 3.1473534e-07 | L4: 1e-06 | M4: 3.4641016 | N4: =L4/M4 -> 2.8867513e-07 | O4: =[1]dérive!$D$13 -> 6e-07 | P4: 2 | Q4: =O4/$P$4 -> 3e-07 | S4: =Q4 -> 3e-07 | T4: =SQRT((K4^2)+(Q4^2)+(S4^2)) -> 5.2825972e-07
C5: 2 | D5: 0.7981 | F5: =D5+$E$4 -> 0.7981
C6: 3 | D6: 0.7983 | F6: =D6+$E$4 -> 0.7983
C7: 4 | D7: 0.7979 | F7: =D7+$E$4 -> 0.7979
C8: 5 | D8: 0.798 | F8: =D8+$E$4 -> 0.798
B9: 20 | C9: 1 | D9: 20.0002 | E9: =[1]dérive!$C$14*1000 -> 0 | F9: =D9+$E$9 -> 20.0002 | G9: =AVERAGE(F9:F13) -> 19.99994 | H9: =G9-B9 -> -6e-05 | I9: =((MAX(D9:D13)-MIN(D9:D13))/2.33)/1000 -> 2.1459227e-07 | J9: =5.5/3 -> 1.8333333 | K9: =I9*J9 -> 3.9341917e-07 | O9: =[1]dérive!$D$14 -> 7e-07 | Q9: =O9/$P$4 -> 3.5e-07 | S9: =Q9 -> 3.5e-07 | T9: =SQRT((K9^2)+(Q9^2)+(S9^2)) -> 6.3228051e-07
C10: 2 | D10: 20 | F10: =D10+$E$9 -> 20
C11: 3 | D11: 19.9997 | F11: =D11+$E$9 -> 19.9997
C12: 4 | D12: 19.9998 | F12: =D12+$E$9 -> 19.9998
C13: 5 | D13: 20 | F13: =D13+$E$9 -> 20
B14: 50 | C14: 1 | D14: 49.9974 | E14: =[1]dérive!$C$15*1000 -> 0 | F14: =D14+$E$14 -> 49.9974 | G14: =AVERAGE(F14:F18) -> 49.99734 | H14: =G14-B14 -> -0.00266 | I14: =((MAX(D14:D18)-MIN(D14:D18))/2.33)/1000 -> 8.583691e-08 | J14: =5.5/3 -> 1.8333333 | K14: =I14*J14 -> 1.5736767e-07 | O14: =[1]dérive!$D$15 -> 8e-07 | Q14: =O14/$P$4 -> 4e-07 | S14: =Q14 -> 4e-07 | T14: =SQRT((K14^2)+(Q14^2)+(S14^2)) -> 5.8716657e-07
C15: 2 | D15: 49.9974 | F15: =D15+$E$14 -> 49.9974
C16: 3 | D16: 49.9972 | F16: =D16+$E$14 -> 49.9972
C17: 4 | D17: 49.9973 | F17: =D17+$E$14 -> 49.9973
C18: 5 | D18: 49.9974 | F18: =D18+$E$14 -> 49.9974
B19: 100 | C19: 1 | D19: 99.9973 | E19: =[1]dérive!$C$16*1000 -> 0.0005 | F19: =D19+$E$19 -> 99.9978 | G19: =AVERAGE(F19:F23) -> 99.99766 | H19: =G19-B19 -> -0.00234 | I19: =((MAX(D19:D23)-MIN(D19:D23))/2.33)/1000 -> 1.2875536e-07 | J19: =5.5/3 -> 1.8333333 | K19: =I19*J19 -> 2.360515e-07 | O19: =[1]dérive!$D$16 -> 9e-07 | Q19: =O19/$P$4 -> 4.5e-07 | S19: =Q19 -> 4.5e-07 | T19: =SQRT((K19^2)+(Q19^2)+(S19^2)) -> 6.7876381e-07
C20: 2 | D20: 99.9971 | F20: =D20+$E$19 -> 99.9976
C21: 3 | D21: 99.997 | F21: =D21+$E$19 -> 99.9975
C22: 4 | D22: 99.9971 | F22: =D22+$E$19 -> 99.9976
C23: 5 | D23: 99.9973 | F23: =D23+$E$19 -> 99.9978
B24: 150 | C24: 1 | D24: 149.997 | E24: =[1]dérive!$C$17*1000 -> 0.0004 | F24: =D24+$E$24 -> 149.9974 | G24: =AVERAGE(F24:F28) -> 149.99744 | H24: =G24-B24 -> -0.00256 | I24: =((MAX(D24:D28)-MIN(D24:D28))/2.33)/1000 -> 1.7167382e-07 | J24: =5.5/3 -> 1.8333333 | K24: =I24*J24 -> 3.1473534e-07 | O24: =[1]dérive!$D$17 -> 1.2e-06 | Q24: =O24/$P$4 -> 6e-07 | S24: =Q24 -> 6e-07 | T24: =SQRT((K24^2)+(Q24^2)+(S24^2)) -> 9.0501842e-07
C25: 2 | D25: 149.9973 | F25: =D25+$E$24 -> 149.9977
C26: 3 | D26: 149.997 | F26: =D26+$E$24 -> 149.9974
C27: 4 | D27: 149.997 | F27: =D27+$E$24 -> 149.9974
C28: 5 | D28: 149.9969 | F28: =D28+$E$24 -> 149.9973
B29: 200 | C29: 1 | D29: 199.9977 | E29: =[1]dérive!$C$18*1000 -> 0.0005 | F29: =D29+$E$29 -> 199.9982 | G29: =AVERAGE(F29:F33) -> 199.99824 | H29: =G29-B29 -> -0.00176 | I29: =((MAX(D29:D33)-MIN(D29:D33))/2.33)/1000 -> 4.2918455e-08 | J29: =5.5/3 -> 1.8333333 | K29: =I29*J29 -> 7.8683834e-08 | O29: =[1]dérive!$D$18 -> 1.4e-06 | Q29: =O29/$P$4 -> 7e-07 | S29: =Q29 -> 7e-07 | T29: =SQRT((K29^2)+(Q29^2)+(S29^2)) -> 9.9307157e-07
C30: 2 | D30: 199.9978 | F30: =D30+$E$29 -> 199.9983
C31: 3 | D31: 199.9978 | F31: =D31+$E$29 -> 199.9983
C32: 4 | D32: 199.9977 | F32: =D32+$E$29 -> 199.9982
C33: 5 | D33: 199.9977 | F33: =D33+$E$29 -> 199.9982
B34: 300 | C34: 1 | D34: 0.299997 | E34: =[1]dérive!$C$27 -> 3e-06 | F34: =D34+$E$34 -> 0.3 | G34: =AVERAGE(F34:F38) -> 0.3 | H34: =G34*1000-B34 -> 0 | I34: =((MAX(D34:D38)-MIN(D34:D38))/2.33)/1000 -> 0 | J34: =5.5/3 -> 1.8333333 | K34: =I34*J34 -> 0 | O34: =[1]dérive!$D$27 -> 3e-06 | Q34: =O34/$P$4 -> 1.5e-06 | S34: =Q34 -> 1.5e-06 | T34: =SQRT((K34^2)+(Q34^2)+(S34^2)) -> 2.1213203e-06
C35: 2 | D35: 0.299997 | F35: =D35+$E$34 -> 0.3
C36: 3 | D36: 0.299997 | F36: =D36+$E$34 -> 0.3
C37: 4 | D37: 0.299997 | F37: =D37+$E$34 -> 0.3
C38: 5 | D38: 0.299997 | F38: =D38+$E$34 -> 0.3
A39: 3.20000 V | B39: -2 | C39: 1 | D39: -2.000031 | E39: =[1]dérive!$C$24 -> 1.8e-05 | F39: =D39+$E$39 -> -2.000013 | G39: =AVERAGE(F39:F43) -> -2.0000122 | H39: =G39-B39 -> -1.22e-05 | I39: =((MAX(D39:D43)-MIN(D39:D43))/2.33) -> 4.2918455e-07 | J39: =5.5/3 -> 1.8333333 | K39: =I39*J39 -> 7.8683834e-07 | L39: 1e-05 | M39: =SQRT(12) -> 3.4641016 | N39: =L39/M39 -> 2.8867513e-06 | O39: =[1]dérive!$D$24 -> 9e-06 | P39: 2 | Q39: =O39/$P$39 -> 4.5e-06 | S39: =Q39 -> 4.5e-06 | T39: =SQRT((K39^2)+(Q39^2)+(S39^2)) -> 6.4124188e-06
C40: 2 | D40: -2.00003 | F40: =D40+$E$39 -> -2.000012
...

Sheet INCERTITUDE VOLT AC
A1: FONCTION GENERATION DE TENSION POUR COURANT ALTERNATIF | J1: Incertitude
J2: Incertitude de type A | L2: Incertitude de type B | W2: Incertitude en Volt par calibre à 1 sigma
A3: Calibre 1 KHz | B3: Valeur affichée | C3: point | D3: Valeur lue | E3: Correction | F3: Valeur corrigée | G3: Moyenne | H3: Correction sur le point même unité que le calibre | I3: Ecart type | J3: Coefficient K | K3: Répétabilité | L3: Résolution en Volt | M3: coefficient diviseur | N3: Incertitude de résolution en Volt | O3: Incertitude étalon en Volt | P3: coefficient diviseur | Q3: Incertitude étalon en Volt | R3: Ecart max | S3: Incertitude sur la dérive en Volt | T3: DISTORTION + HARMONIQUE | U3: coefficient diviseur | V3: Incertitude sur la DISTORTION + HARMONIQUE en Volt
A4: 320.000 mV | B4: 20 | C4: 1 | D4: 20.0281 | E4: =[1]dérive!$C$68*1000 -> -0.007 | F4: =D4+$E$4 -> 20.0211 | G4: =AVERAGE(F4:F8) -> 20.02154 | H4: =G4-B4 -> 0.02154 | I4: =((MAX(D4:D8)-MIN(D4:D8))/2.33)/1000 -> 5.5793991e-07 | J4: =5.5/3 -> 1.8333333 | K4: =I4*J4 -> 1.0228898e-06 | L4: 1e-06 | M4: =SQRT(12) -> 3.4641016 | N4: =L4/M4 -> 2.8867513e-07 | O4: =[1]dérive!$D$68 -> 8e-06 | P4: 2 | Q4: =O4/$P$4 -> 4e-06 | S4: =Q4 -> 4e-06 | T4: =0.0006*B4/1000 -> 1.2e-05 | U4: =2*SQRT(3) -> 3.4641016 | V4: =T4/$U$4 -> 3.4641016e-06 | W4: =SQRT((K4^2)+(Q4^2)+(S4^2)+(V4^2)) -> 6.7116543e-06 | Y4: =T4/(2*SQRT(3)) -> 3.4641016e-06
C5: 2 | D5: 20.0279 | F5: =D5+$E$4 -> 20.0209
C6: 3 | D6: 20.0288 | F6: =D6+$E$4 -> 20.0218
C7: 4 | D7: 20.0292 | F7: =D7+$E$4 -> 20.0222
C8: 5 | D8: 20.0287 | F8: =D8+$E$4 -> 20.0217
B9: 50 | C9: 1 | D9: 50.0216 | E9: =[1]dérive!$C$69*1000 -> 0 | F9: =D9+$E$9 -> 50.0216 | G9: =AVERAGE(F9:F13) -> 50.0211 | H9: =G9-B9 -> 0.0211 | I9: =((MAX(D9:D13)-MIN(D9:D13))/2.33)/1000 -> 4.2918455e-07 | J9: =5.5/3 -> 1.8333333 | K9: =I9*J9 -> 7.8683834e-07 | O9: =[1]dérive!$D$69 -> 1.7e-05 | Q9: =O9/$P$4 -> 8.5e-06 | S9: =Q9 -> 8.5e-06 | T9: =0.0006*B9/1000 -> 3e-05 | V9: =T9/$U$4 -> 8.660254e-06 | W9: =SQRT((K9^2)+(Q9^2)+(S9^2)+(V9^2)) -> 1.4836412e-05
C10: 2 | D10: 50.021 | F10: =D10+$E$9 -> 50.021
C11: 3 | D11: 50.0209 | F11: =D11+$E$9 -> 50.0209
C12: 4 | D12: 50.0214 | F12: =D12+$E$9 -> 50.0214
C13: 5 | D13: 50.0206 | F13: =D13+$E$9 -> 50.0206
B14: 100 | C14: 1 | D14: 100.0313 | E14: =[1]dérive!$C$70*1000 -> -0.003 | F14: =D14+$E$14 -> 100.0283 | G14: =AVERAGE(F14:F18) -> 100.02838 | H14: =G14-B14 -> 0.02838 | I14: =((MAX(D14:D18)-MIN(D14:D18))/2.33)/1000 -> 1.0300429e-06 | J14: =5.5/3 -> 1.8333333 | K14: =I14*J14 -> 1.888412e-06 | O14: =[1]dérive!$D$70 -> 1e-05 | Q14: =O14/$P$4 -> 5e-06 | S14: =Q14 -> 5e-06 | T14: =0.0006*B14/1000 -> 6e-05 | V14: =T14/$U$4 -> 1.7320508e-05 | W14: =SQRT((K14^2)+(Q14^2)+(S14^2)+(V14^2)) -> 1.8803353e-05
C15: 2 | D15: 100.0328 | F15: =D15+$E$14 -> 100.0298
C16: 3 | D16: 100.0318 | F16: =D16+$E$14 -> 100.0288
C17: 4 | D17: 100.0306 | F17: =D17+$E$14 -> 100.0276
C18: 5 | D18: 100.0304 | F18: =D18+$E$14 -> 100.0274
B19: 150 | C19: 1 | D19: 150.0477 | E19: =[1]dérive!$C$71*1000 -> -0.025 | F19: =D19+$E$19 -> 150.0227 | G19: =AVERAGE(F19:F23) -> 150.02242 | H19: =G19-B19 -> 0.02242 | I19: =((MAX(D19:D23)-MIN(D19:D23))/2.33)/1000 -> 1.0729614e-06 | J19: =5.5/3 -> 1.8333333 | K19: =I19*J19 -> 1.9670959e-06 | O19: =[1]dérive!$D$71 -> 1.5e-05 | Q19: =O19/$P$4 -> 7.5e-06 | S19: =Q19 -> 7.5e-06 | T19: =0.0006*B19/1000 -> 9e-05 | V19: =T19/$U$4 -> 2.5980762e-05 | W19: =SQRT((K19^2)+(Q19^2)+(S19^2)+(V19^2)) -> 2.813129e-05
C20: 2 | D20: 150.049 | F20: =D20+$E$19 -> 150.024
C21: 3 | D21: 150.0474 | F21: =D21+$E$19 -> 150.0224
C22: 4 | D22: 150.0465 | F22: =D22+$E$19 -> 150.0215
C23: 5 | D23: 150.0465 | F23: =D23+$E$19 -> 150.0215
B24: 200 | C24: 1 | D24: 200.0891 | E24: =[1]dérive!$C$72*1000 -> -0.064 | F24: =D24+E24 -> 200.0251 | G24: =AVERAGE(F24:F28) -> 200.02516 | H24: =G24-B24 -> 0.02516 | I24: =((MAX(D24:D28)-MIN(D24:D28))/2.33)/1000 -> 7.2961373e-07 | J24: =5.5/3 -> 1.8333333 | K24: =I24*J24 -> 1.3376252e-06 | O24: =[1]dérive!$D$72 -> 1.6e-05 | Q24: =O24/$P$4 -> 8e-06 | S24: =Q24 -> 8e-06 | T24: =0.0006*B24/1000 -> 0.00012 | V24: =T24/$U$4 -> 3.4641016e-05 | W24: =SQRT((K24^2)+(Q24^2)+(S24^2)+(V24^2)) -> 3.6466275e-05
C25: 2 | D25: 200.09 | F25: =D25+E24 -> 200.026
C26: 3 | D26: 200.0899 | F26: =D26+E24 -> 200.0259
C27: 4 | D27: 200.0885 | F27: =D27+E24 -> 200.0245
C28: 5 | D28: 200.0883 | F28: =D28+E24 -> 200.0243
B29: 300 | C29: 1 | D29: 0.299998 | E29: =[1]dérive!$C$76 -> 7.2e-05 | F29: =D29+$E$29 -> 0.30007 | G29: =AVERAGE(F29:F33) -> 0.3000658 | H29: =G29-B29/1000 -> 6.58e-05 | I29: =((MAX(D29:D33)-MIN(D29:D33))/2.33)/1000 -> 3.0042918e-09 | J29: =5.5/3 -> 1.8333333 | K29: =I29*J29 -> 5.5078684e-09 | O29: =[1]dérive!$D$76 -> 2.4e-05 | Q29: =O29/$P$4 -> 1.2e-05 | S29: =Q29 -> 1.2e-05 | T29: =0.0006*B29/1000 -> 0.00018 | V29: =T29/$U$4 -> 5.1961524e-05 | W29: =SQRT((K29^2)+(Q29^2)+(S29^2)+(V29^2)) -> 5.4662602e-05
C30: 2 | D30: 0.299994 | F30: =D30+$E$29 -> 0.300066
C31: 3 | D31: 0.299992 | F31: =D31+$E$29 -> 0.300064
C32: 4 | D32: 0.299991 | F32: =D32+$E$29 -> 0.300063
C33: 5 | D33: 0.299994 | F33: =D33+$E$29 -> 0.300066
A34: 3.20000 V | B34: 0.5 | C34: 1 | D34: 0.500018 | E34: =[1]dérive!$C$77 -> 6e-05 | F34: =D34+$E$34 -> 0.500078 | G34: =AVERAGE(F34:F38) -> 0.5000728 | H34: =G34-B34 -> 7.28e-05 | I34: =((MAX(D34:D38)-MIN(D34:D38))/2.33) -> 4.72103e-06 | J34: =5.5/3 -> 1.8333333 | K34: =I34*J34 -> 8.6552217e-06 | L34: 1e-05 | M34: =2*SQRT(3) -> 3.4641016 | N34: =L34/M34 -> 2.8867513e-06 | O34: =[1]dérive!$D$77 -> 4e-05 | P34: 2 | Q34: =O34/$P$34 -> 2e-05 | S34: =Q34 -> 2e-05 | T34: =0.0006*B34 -> 0.0003 | U34: =2*SQRT(3) -> 3.4641016 | V34: =T34/$U$34 -> 8.660254e-05 | W34: =SQRT((K34^2)+(Q34^2)+(S34^2)+(V34^2)) -> 9.151455e-05
C35: 2 | D35: 0.500017 | F35: =D35+$E$34 -> 0.500077
C36: 3 | D36: 0.500014 | F36: =D36+$E$34 -> 0.500074
C37: 4 | D37: 0.500007 | F37: =D37+$E$34 -> 0.500067
C38: 5 | D38: 0.500008 | F38: =D38+$E$34 -> 0.500068
B39: 1 | C39: 1 | D39: 1.000221 | E39: =[1]dérive!$C$78 -> -8e-05 | F39: =D39+$E$39 -> 1.000141 | G39: =AVERAGE(F39:F43) -> 1.0001506 | H39: =G39-B39 -> 0.0001506 | I39: =((MAX(D39:D43)-MIN(D39:D43))/2.33) -> 6.8669528e-06 | J39: =5.5/3 -> 1.8333333 | K39: =I39*J39 -> 1.2589413e-05 | O39: =[1]dérive!$D$78 -> 8e-05 | Q39: =O39/$P$34 -> 4e-05 | S39: =Q39 -> 4e-05 | T39: =0.0006*B39 -> 0.0006 | V39: =T39/$U$34 -> 0.00017320508 | W39: =SQRT((K39^2)+(Q39^2)+(S39^2)+(V39^2)) -> 0.00018264308
C40: 2 | D40: 1.000237 | F40: =D40+$E$39 -> 1.000157
...

Sheet INCERTITUDE AMPERE DC
A1: FONCTION GENERATION D'INTENSITE POUR COURANT CONTINU | J1: Incertitude
J2: Incertitude de type A | L2: Incertitude de type B | T2: Incertitude en AMPERE à 1 sigma
A3: Calibre | B3: Valeur affichée | C3: point | D3: Valeur lue | E3: Correction | F3: Valeur corrigée | G3: Moyenne | H3: Correction sur le point même unité que le calibre | I3: Ecart type | J3: Coefficient K | K3: Répétabilité | L3: Résolution en Ampére | M3: coefficient diviseur | N3: Incertitude de résolution en Ampére | O3: Incertitude étalon en Ampére | P3: coefficient diviseur | Q3: Incertitude étalon en Ampére | R3: Ecart max | S3: Incertitude sur la dérive en Ampère
A4: 320.000 µA | B4: -200 | C4: 1 | D4: -0.200021 | E4: =[1]dérive!$C$183*1000 -> 2.1e-05 | F4: =D4+$E$4 -> -0.2 | G4: =AVERAGE(F4:F8) -> -0.2 | H4: =G4-(B4/1000) -> 0 | I4: =(STDEV(F4:F8)/SQRT(5))/1000000 -> 0 | J4: =5.5/3 -> 1.8333333 | K4: =I4*J4 -> 0 | L4: 1e-09 | M4: =SQRT(12) -> 3.4641016 | N4: =L4/M4 -> 2.8867513e-10 | O4: =[1]dérive!$D$183 -> 5e-09 | P4: 2 | Q4: =O4/$P$4 -> 2.5e-09 | S4: =Q4 -> 2.5e-09 | T4: =SQRT((K4^2)+(Q4^2)+(S4^2)+($N$4^2)) -> 3.5472994e-09
C5: 2 | D5: -0.200021 | F5: =D5+$E$4 -> -0.2
C6: 3 | D6: -0.200021 | F6: =D6+$E$4 -> -0.2
C7: 4 | D7: -0.200021 | F7: =D7+$E$4 -> -0.2
C8: 5 | D8: -0.200021 | F8: =D8+$E$4 -> -0.2
B9: 1 | C9: 1 | D9: 1.0035 | E9: =[1]dérive!$C$174*1000000 -> -0.0002 | F9: =D9+$E$9 -> 1.0033 | G9: =AVERAGE(F9:F13) -> 1.0033 | H9: =G9-B9 -> 0.0033 | I9: =(STDEV(F9:F13)/SQRT(5))/1000000 -> 1.4491377e-10 | J9: =5.5/3 -> 1.8333333 | K9: =I9*J9 -> 2.6567524e-10 | O9: =[1]dérive!$D$174 -> 2e-10 | Q9: =O9/$P$4 -> 1e-10 | S9: =Q9 -> 1e-10 | T9: =SQRT((K9^2)+(Q9^2)+(S9^2)+($N$4^2)) -> 4.1703317e-10
C10: 2 | D10: 1.0039 | F10: =D10+$E$9 -> 1.0037
C11: 3 | D11: 1.003 | F11: =D11+$E$9 -> 1.0028
C12: 4 | D12: 1.0035 | F12: =D12+$E$9 -> 1.0033
C13: 5 | D13: 1.0036 | F13: =D13+$E$9 -> 1.0034
B14: 20 | C14: 1 | D14: 20.005 | E14: =[1]dérive!$C$175*1000000 -> -0.0028 | F14: =D14+$E$14 -> 20.0022 | G14: =AVERAGE(F14:F18) -> 20.00236 | H14: =G14-B14 -> 0.00236 | I14: =(STDEV(F14:F18)/SQRT(5))/1000000 -> 1.029563e-10 | J14: =5.5/3 -> 1.8333333 | K14: =I14*J14 -> 1.8875322e-10 | O14: =[1]dérive!$D$175 -> 6e-10 | Q14: =O14/$P$4 -> 3e-10 | S14: =Q14 -> 3e-10 | T14: =SQRT((K14^2)+(Q14^2)+(S14^2)+($N$4^2)) -> 5.4677336e-10
C15: 2 | D15: 20.0054 | F15: =D15+$E$14 -> 20.0026
C16: 3 | D16: 20.0054 | F16: =D16+$E$14 -> 20.0026
C17: 4 | D17: 20.0051 | F17: =D17+$E$14 -> 20.0023
C18: 5 | D18: 20.0049 | F18: =D18+$E$14 -> 20.0021
B19: 50 | C19: 1 | D19: 50.0062 | E19: =[1]dérive!$C$176*1000000 -> -0.0065 | F19: =D19+$E$19 -> 49.9997 | G19: =AVERAGE(F19:F23) -> 49.99974 | H19: =G19-B19 -> -0.00026 | I19: =(STDEV(F19:F23)/SQRT(5))/1000000 -> 5.0990195e-11 | J19: =5.5/3 -> 1.8333333 | K19: =I19*J19 -> 9.3482024e-11 | O19: =[1]dérive!$D$176 -> 2e-09 | Q19: =O19/$P$4 -> 1e-09 | S19: =Q19 -> 1e-09 | T19: =SQRT((K19^2)+(Q19^2)+(S19^2)+($N$4^2)) -> 1.4463997e-09
C20: 2 | D20: 50.0061 | F20: =D20+$E$19 -> 49.9996
C21: 3 | D21: 50.0063 | F21: =D21+$E$19 -> 49.9998
C22: 4 | D22: 50.0064 | F22: =D22+$E$19 -> 49.9999
C23: 5 | D23: 50.0062 | F23: =D23+$E$19 -> 49.9997
B24: 100 | C24: 1 | D24: 100.0121 | E24: =[1]dérive!$C$177*1000000 -> -0.0137 | F24: =D24+$E$24 -> 99.9984 | G24: =AVERAGE(F24:F28) -> 99.99858 | H24: =G24-B24 -> -0.00142 | I24: =(STDEV(F24:F28)/SQRT(5))/1000000 -> 1.1135529e-10 | J24: =5.5/3 -> 1.8333333 | K24: =I24*J24 -> 2.0415136e-10 | O24: =[1]dérive!$D$177 -> 2.7e-09 | Q24: =O24/$P$4 -> 1.35e-09 | S24: =Q24 -> 1.35e-09 | T24: =SQRT((K24^2)+(Q24^2)+(S24^2)+($N$4^2)) -> 1.9416516e-09
C25: 2 | D25: 100.0121 | F25: =D25+$E$24 -> 99.9984
C26: 3 | D26: 100.0121 | F26: =D26+$E$24 -> 99.9984
C27: 4 | D27: 100.0126 | F27: =D27+$E$24 -> 99.9989
C28: 5 | D28: 100.0125 | F28: =D28+$E$24 -> 99.9988
B29: 150 | C29: 1 | D29: 150.0194 | E29: =[1]dérive!$C$178*1000000 -> -0.02 | F29: =D29+$E$29 -> 149.9994 | G29: =AVERAGE(F29:F33) -> 149.99916 | H29: =G29-B29 -> -0.00084 | I29: =(STDEV(F29:F33)/SQRT(5))/1000000 -> 1.2884099e-10 | J29: =5.5/3 -> 1.8333333 | K29: =I29*J29 -> 2.3620848e-10 | O29: =[1]dérive!$D$178 -> 4e-09 | Q29: =O29/$P$4 -> 2e-09 | S29: =Q29 -> 2e-09 | T29: =SQRT((K29^2)+(Q29^2)+(S29^2)+($N$4^2)) -> 2.8529157e-09
C30: 2 | D30: 150.0188 | F30: =D30+$E$29 -> 149.9988
C31: 3 | D31: 150.0189 | F31: =D31+$E$29 -> 149.9989
C32: 4 | D32: 150.0194 | F32: =D32+$E$29 -> 149.9994
C33: 5 | D33: 150.0193 | F33: =D33+$E$29 -> 149.9993
B34: 200 | C34: 1 | D34: 200.0259 | E34: =[1]dérive!$C$179*1000000 -> -0.027 | F34: =D34+$E$34 -> 199.9989 | G34: =AVERAGE(F34:F38) -> 199.99892 | H34: =G34-B34 -> -0.00108 | I34: =(STDEV(F34:F38)/SQRT(5))/1000000 -> 9.1651514e-11 | J34: =5.5/3 -> 1.8333333 | K34: =I34*J34 -> 1.6802778e-10 | O34: =[1]dérive!$D$179 -> 4e-09 | Q34: =O34/$P$4 -> 2e-09 | S34: =Q34 -> 2e-09 | T34: =SQRT((K34^2)+(Q34^2)+(S34^2)+($N$4^2)) -> 2.8480812e-09
C35: 2 | D35: 200.0256 | F35: =D35+$E$34 -> 199.9986
C36: 3 | D36: 200.0261 | F36: =D36+$E$34 -> 199.9991
C37: 4 | D37: 200.0259 | F37: =D37+$E$34 -> 199.9989
C38: 5 | D38: 200.0261 | F38: =D38+$E$34 -> 199.9991
B39: 300 | C39: 1 | D39: 0.300023 | E39: =[1]dérive!$C$185*1000 -> -2.6e-05 | F39: =D39+$E$39 -> 0.299997 | G39: =AVERAGE(F39:F43) -> 0.299997 | H39: =G39-(B39/1000) -> -3e-06 | I39: =(STDEV(F39:F43)/SQRT(5))/1000000 -> 0 | J39: =5.5/3 -> 1.8333333 | K39: =I39*J39 -> 0 | O39: =[1]dérive!$D$185 -> 1.7e-08 | Q39: =O39/$P$4 -> 8.5e-09 | S39: =Q39 -> 8.5e-09 | T39: =SQRT((K39^2)+(Q39^2)+(S39^2)+($N$4^2)) -> 1.2024281e-08
C40: 2 | D40: 0.300023 | F40: =D40+$E$39 -> 0.299997
...

Sheet INCERTITUDE AMPERE AC
A1: FONCTION GENERATION D'INTENSITE POUR COURANT ALTERNATIF | J1: Incertitude
J2: Incertitude de type A | L2: Incertitudes de type B | W2: Incertitude en AMPERE par calibre à 1 sigma
A3: Calibre 1 KHZ | B3: Valeur affichée | C3: point | D3: Valeur lue | E3: Correction | F3: Valeur corrigée | G3: Moyenne | H3: Correction sur le point même unité que le calibre | I3: Ecart type | J3: Coefficient K | K3: Répétabilité | L3: Résolution en Ampére | M3: coefficient diviseur | N3: Incertitude de résolution en Ampére | O3: Incertitude étalon en Ampére | P3: coefficient diviseur | Q3: Incertitude étalon en Ampére | R3: Ecart max | S3: Incertitude sur la dérive en Ampère | T3: DISTORTION + HARMONIQUE | U3: coefficient diviseur | V3: Incerttitude sur la DISTORTION + HARMONIQUE en Ampère
A4: 320.000 µA | B4: 20 | C4: 1 | D4: 20.017 | E4: =[1]dérive!$C$222*100000 -> 0.003 | F4: =D4+$E$4 -> 20.02 | G4: =AVERAGE(F4:F8) -> 20.01974 | H4: =G4-B4 -> 0.01974 | I4: =((MAX(D4:D8)-MIN(D4:D8))/2.33)/1000000 -> 9.0128755e-10 | J4: =5.5/3 -> 1.8333333 | K4: =I4*J4 -> 1.6523605e-09 | L4: 1e-09 | M4: =SQRT(12) -> 3.4641016 | N4: =L4/M4 -> 2.8867513e-10 | O4: =[1]dérive!$D$222 -> 1.6e-08 | P4: 2 | Q4: =O4/$P$4 -> 8e-09 | S4: =Q4 -> 8e-09 | T4: =0.001*B4/1000000 -> 2e-08 | U4: =SQRT(12) -> 3.4641016 | V4: =T4/$U$4 -> 5.7735027e-09 | W4: =SQRT((K4^2)+(Q4^2)+(S4^2)+(V4^2)) -> 1.2808733e-08
C5: 2 | D5: 20.018 | F5: =D5+$E$4 -> 20.021
C6: 3 | D6: 20.0159 | F6: =D6+$E$4 -> 20.0189
C7: 4 | D7: 20.0162 | F7: =D7+$E$4 -> 20.0192
C8: 5 | D8: 20.0166 | F8: =D8+$E$4 -> 20.0196
B9: 50 | C9: 1 | D9: 49.974 | E9: =[1]dérive!$C$223*100000 -> 0.029 | F9: =D9+$E$9 -> 50.003 | G9: =AVERAGE(F9:F13) -> 50.00398 | H9: =G9-B9 -> 0.00398 | I9: =((MAX(D9:D13)-MIN(D9:D13))/2.33)/1000000 -> 5.5793991e-10 | J9: =5.5/3 -> 1.8333333 | K9: =I9*J9 -> 1.0228898e-09 | O9: =[1]dérive!$D$223 -> 2.5e-08 | Q9: =O9/$P$4 -> 1.25e-08 | S9: =Q9 -> 1.25e-08 | T9: =0.001*B9/1000000 -> 5e-08 | V9: =T9/$U$4 -> 1.4433757e-08 | W9: =SQRT((K9^2)+(Q9^2)+(S9^2)+(V9^2)) -> 2.2844685e-08
C10: 2 | D10: 49.9752 | F10: =D10+$E$9 -> 50.0042
C11: 3 | D11: 49.9753 | F11: =D11+$E$9 -> 50.0043
C12: 4 | D12: 49.9753 | F12: =D12+$E$9 -> 50.0043
C13: 5 | D13: 49.9751 | F13: =D13+$E$9 -> 50.0041
B14: 100 | C14: 1 | D14: 99.9382 | E14: =[1]dérive!$C$224*100000 -> 0.05 | F14: =D14+$E$14 -> 99.9882 | G14: =AVERAGE(F14:F18) -> 99.98838 | H14: =G14-B14 -> -0.01162 | I14: =((MAX(D14:D18)-MIN(D14:D18))/2.33)/1000000 -> 7.7253219e-10 | J14: =5.5/3 -> 1.8333333 | K14: =I14*J14 -> 1.416309e-09 | O14: =[1]dérive!$D$224 -> 4e-08 | Q14: =O14/$P$4 -> 2e-08 | S14: =Q14 -> 2e-08 | T14: =0.001*B14/1000000 -> 1e-07 | V14: =T14/$U$4 -> 2.8867513e-08 | W14: =SQRT((K14^2)+(Q14^2)+(S14^2)+(V14^2)) -> 4.0439328e-08
C15: 2 | D15: 99.9375 | F15: =D15+$E$14 -> 99.9875
C16: 3 | D16: 99.9388 | F16: =D16+$E$14 -> 99.9888
C17: 4 | D17: 99.9381 | F17: =D17+$E$14 -> 99.9881
C18: 5 | D18: 99.9393 | F18: =D18+$E$14 -> 99.9893
B19: 150 | C19: 1 | D19: 149.9185 | E19: =[1]dérive!$C$225*100000 -> 0.06 | F19: =D19+$E$19 -> 149.9785 | G19: =AVERAGE(F19:F23) -> 149.97902 | H19: =G19-B19 -> -0.02098 | I19: =((MAX(D19:D23)-MIN(D19:D23))/2.33)/1000000 -> 4.72103e-10 | J19: =5.5/3 -> 1.8333333 | K19: =I19*J19 -> 8.6552217e-10 | O19: =[1]dérive!$D$225 -> 1.5e-07 | Q19: =O19/$P$4 -> 7.5e-08 | S19: =Q19 -> 7.5e-08 | T19: =0.001*B19/1000000 -> 1.5e-07 | V19: =T19/$U$4 -> 4.330127e-08 | W19: =SQRT((K19^2)+(Q19^2)+(S19^2)+(V19^2)) -> 1.1456766e-07
C20: 2 | D20: 149.9196 | F20: =D20+$E$19 -> 149.9796
C21: 3 | D21: 149.9192 | F21: =D21+$E$19 -> 149.9792
C22: 4 | D22: 149.9191 | F22: =D22+$E$19 -> 149.9791
C23: 5 | D23: 149.9187 | F23: =D23+$E$19 -> 149.9787
B24: 200 | C24: 1 | D24: 199.9146 | E24: =[1]dérive!$C$226*100000 -> 0.05 | F24: =D24+$E$24 -> 199.9646 | G24: =AVERAGE(F24:F28) -> 199.96422 | H24: =G24-B24 -> -0.03578 | I24: =((MAX(D24:D28)-MIN(D24:D28))/2.33)/1000000 -> 9.4420601e-10 | J24: =5.5/3 -> 1.8333333 | K24: =I24*J24 -> 1.7310443e-09 | O24: =[1]dérive!$D$226 -> 1.6e-07 | Q24: =O24/$P$4 -> 8e-08 | S24: =Q24 -> 8e-08 | T24: =0.001*B24/1000000 -> 2e-07 | V24: =T24/$U$4 -> 5.7735027e-08 | W24: =SQRT((K24^2)+(Q24^2)+(S24^2)+(V24^2)) -> 1.2702885e-07
C25: 2 | D25: 199.914 | F25: =D25+$E$24 -> 199.964
C26: 3 | D26: 199.913 | F26: =D26+$E$24 -> 199.963
C27: 4 | D27: 199.9143 | F27: =D27+$E$24 -> 199.9643
C28: 5 | D28: 199.9152 | F28: =D28+$E$24 -> 199.9652
B29: 300 | C29: 1 | D29: 0.300043 | E29: =[1]dérive!$C$230*1000 -> -6e-05 | F29: =D29+$E$29 -> 0.299983 | G29: =AVERAGE(F29:F33) -> 0.2999826 | H29: =(G29*1000)-B29 -> -0.0174 | I29: =((MAX(D29:D33)-MIN(D29:D33))/2.33)/1000 -> 8.583691e-10 | J29: =5.5/3 -> 1.8333333 | K29: =I29*J29 -> 1.5736767e-09 | O29: =[1]dérive!$D$230 -> 1.9e-07 | Q29: =O29/$P$4 -> 9.5e-08 | S29: =Q29 -> 9.5e-08 | T29: =0.001*B29/1000000 -> 3e-07 | V29: =T29/$U$4 -> 8.660254e-08 | W29: =SQRT((K29^2)+(Q29^2)+(S29^2)+(V29^2)) -> 1.5985142e-07
C30: 2 | D30: 0.300043 | F30: =D30+$E$29 -> 0.299983
C31: 3 | D31: 0.300043 | F31: =D31+$E$29 -> 0.299983
C32: 4 | D32: 0.300043 | F32: =D32+$E$29 -> 0.299983
C33: 5 | D33: 0.300041 | F33: =D33+$E$29 -> 0.299981
A34: 3.20000 mA | B34: 0.5 | C34: 1 | D34: 0.500021 | E34: =[1]dérive!$C$231*1000 -> -9e-05 | F34: =D34+$E$34 -> 0.499931 | G34: =AVERAGE(F34:F38) -> 0.4999384 | H34: =G34-B34 -> -6.16e-05 | I34: =((MAX(D34:D38)-MIN(D34:D38))/2.33)/1000 -> 6.0085837e-09 | J34: =5.5/3 -> 1.8333333 | K34: =I34*J34 -> 1.1015737e-08 | L34: 1e-08 | M34: =SQRT(12) -> 3.4641016 | N34: =L34/M34 -> 2.8867513e-09 | O34: =[1]dérive!$D$231 -> 2.5e-07 | P34: 2 | Q34: =O34/$P$34 -> 1.25e-07 | S34: =Q34 -> 1.25e-07 | T34: =0.001*B34/1000 -> 5e-07 | U34: =SQRT(12) -> 3.4641016 | V34: =T34/$U$34 -> 1.4433757e-07 | W34: =SQRT((K34^2)+(Q34^2)+(S34^2)+(V34^2)) -> 2.2848343e-07
C35: 2 | D35: 0.500035 | F35: =D35+$E$34 -> 0.499945
C36: 3 | D36: 0.50003 | F36: =D36+$E$34 -> 0.49994
C37: 4 | D37: 0.500029 | F37: =D37+$E$34 -> 0.499939
C38: 5 | D38: 0.500027 | F38: =D38+$E$34 -> 0.499937
B39: 1 | C39: 1 | D39: 1.000093 | E39: =[1]dérive!$C$232*1000 -> -0.00016 | F39: =D39+$E$39 -> 0.999933 | G39: =AVERAGE(F39:F43) -> 0.9999348 | H39: =G39-B39 -> -6.52e-05 | I39: =((MAX(D39:D43)-MIN(D39:D43))/2.33)/1000 -> 6.8669528e-09 | J39: =5.5/3 -> 1.8333333 | K39: =I39*J39 -> 1.2589413e-08 | O39: =[1]dérive!$D$232 -> 2e-07 | Q39: =O39/$P$34 -> 1e-07 | S39: =Q39 -> 1e-07 | T39: =0.001*B39/1000 -> 1e-06 | V39: =T39/$U$34 -> 2.8867513e-07 | W39: =SQRT((K39^2)+(Q39^2)+(S39^2)+(V39^2)) -> 3.2170146e-07
C40: 2 | D40: 1.000103 | F40: =D40+$E$39 -> 0.999943
...

Sheet INCERTITUDE OHM
A1: FONCTION SIMULATION DE RESISTANCES | K1: Incertitude
K2: Incertitude de type A | M2: Incertitude de type B | U2: Incertitude en OHM par calibre à 1 sigma
A3: Calibre | C3: Valeur affichée | D3: point | E3: Valeur lue | F3: Correction | G3: Valeur corrigée | H3: Moyenne | I3: Correction sur le point même unité que le calibre | J3: Ecart type | K3: Coefficient K | L3: Répétabilité | M3: Résolution en Ohm | N3: coefficient diviseur | O3: Incertitude de résolution en Ohm | P3: Incertitude étalon en Ohm | Q3: coefficient diviseur | R3: Incertitude étalon en Ohm | S3: Ecart max | T3: Incertitude sur la dérive en Ohm
B4: 40.0000 ohms | C4: 1 | D4: 1 | E4: 1.0003 | F4: =[1]dérive!$C$297 -> 0 | G4: =E4+F4 -> 1.0003 | H4: =AVERAGE(G4:G8) -> 1.00018 | I4: =H4-C4 -> 0.00018 | J4: =((MAX(E4:E8)-MIN(E4:E8))/2.33) -> 0.00021459227 | K4: =5.5/3 -> 1.8333333 | L4: =J4*K4 -> 0.00039341917 | M4: 0.0001 | N4: =SQRT(12) -> 3.4641016 | O4: =M4/N4 -> 2.8867513e-05 | P4: =[1]dérive!$D$297 -> 1e-05 | Q4: 2 | R4: =P4/$Q$4 -> 5e-06 | T4: =R4 -> 5e-06 | U4: =SQRT((L4^2)+(R4^2)+(T4^2)) -> 0.00039348271
D5: 2 | E5: 1.0005 | G5: =E5+F4 -> 1.0005
D6: 3 | E6: 1 | G6: =E6+F4 -> 1
D7: 4 | E7: 1.0001 | G7: =E7+F4 -> 1.0001
D8: 5 | E8: 1 | G8: =E8+F4 -> 1
C9: 5 | D9: 1 | E9: 4.9996 | F9: =[1]dérive!$C$298 -> -0.0003 | G9: =E9+F9 -> 4.9993 | H9: =AVERAGE(G9:G13) -> 4.99936 | I9: =H9-C9 -> -0.00064 | J9: =((MAX(E9:E13)-MIN(E9:E13))/2.33) -> 4.2918455e-05 | K9: =5.5/3 -> 1.8333333 | L9: =J9*K9 -> 7.8683834e-05 | P9: =[1]dérive!$D$298 -> 0.0012 | R9: =P9/$Q$4 -> 0.0006 | T9: =R9 -> 0.0006 | U9: =SQRT((L9^2)+(R9^2)+(T9^2)) -> 0.0008521685
D10: 2 | E10: 4.9997 | G10: =E10+F9 -> 4.9994
D11: 3 | E11: 4.9996 | G11: =E11+F9 -> 4.9993
D12: 4 | E12: 4.9997 | G12: =E12+F9 -> 4.9994
D13: 5 | E13: 4.9997 | G13: =E13+F9 -> 4.9994
C14: 10 | D14: 1 | E14: 9.9996 | F14: =[1]dérive!$C$299 -> 7e-05 | G14: =E14+F14 -> 9.99967 | H14: =AVERAGE(G14:G18) -> 9.99961 | I14: =H14-C14 -> -0.00039 | J14: =((MAX(E14:E18)-MIN(E14:E18))/2.33) -> 0.00017167382 | K14: =5.5/3 -> 1.8333333 | L14: =J14*K14 -> 0.00031473534 | P14: =[1]dérive!$D$299 -> 3e-05 | R14: =P14/$Q$4 -> 1.5e-05 | T14: =R14 -> 1.5e-05 | U14: =SQRT((L14^2)+(R14^2)+(T14^2)) -> 0.00031544941
D15: 2 | E15: 9.9997 | G15: =E15+F14 -> 9.99977
D16: 3 | E16: 9.9993 | G16: =E16+F14 -> 9.99937
D17: 4 | E17: 9.9996 | G17: =E17+F14 -> 9.99967
D18: 5 | E18: 9.9995 | G18: =E18+F14 -> 9.99957
C19: 15 | D19: 1 | E19: 14.9997 | F19: =[1]dérive!$C$300 -> -0.0003 | G19: =E19+F19 -> 14.9994 | H19: =AVERAGE(G19:G23) -> 14.99934 | I19: =H19-C19 -> -0.00066 | J19: =((MAX(E19:E23)-MIN(E19:E23))/2.33) -> 0.00012875536 | K19: =5.5/3 -> 1.8333333 | L19: =J19*K19 -> 0.0002360515 | P19: =[1]dérive!$D$300 -> 0.0015 | R19: =P19/$Q$4 -> 0.00075 | T19: =R19 -> 0.00075 | U19: =SQRT((L19^2)+(R19^2)+(T19^2)) -> 0.0010866095
D20: 2 | E20: 14.9996 | G20: =E20+F19 -> 14.9993
D21: 3 | E21: 14.9998 | G21: =E21+F19 -> 14.9995
D22: 4 | E22: 14.9995 | G22: =E22+F19 -> 14.9992
D23: 5 | E23: 14.9996 | G23: =E23+F19 -> 14.9993
C24: 20 | D24: 1 | E24: 19.9997 | F24: =[1]dérive!$C$301 -> -0.0004 | G24: =E24+F24 -> 19.9993 | H24: =AVERAGE(G24:G28) -> 19.9992 | I24: =H24-C24 -> -0.0008 | J24: =((MAX(E24:E28)-MIN(E24:E28))/2.33) -> 0.00021459227 | K24: =5.5/3 -> 1.8333333 | L24: =J24*K24 -> 0.00039341917 | P24: =[1]dérive!$D$301 -> 0.0017 | R24: =P24/$Q$4 -> 0.00085 | T24: =R24 -> 0.00085 | U24: =SQRT((L24^2)+(R24^2)+(T24^2)) -> 0.0012648236
D25: 2 | E25: 19.9999 | G25: =E25+F24 -> 19.9995
D26: 3 | E26: 19.9995 | G26: =E26+F24 -> 19.9991
D27: 4 | E27: 19.9994 | G27: =E27+F24 -> 19.999
D28: 5 | E28: 19.9995 | G28: =E28+F24 -> 19.9991
C29: 35 | D29: 1 | E29: 34.9994 | F29: =[1]dérive!$C$304 -> -0.0005 | G29: =E29+F29 -> 34.9989 | H29: =AVERAGE(G29:G33) -> 34.99898 | I29: =H29-C29 -> -0.00102 | J29: =((MAX(E29:E33)-MIN(E29:E33))/2.33) -> 0.00017167382 | K29: =5.5/3 -> 1.8333333 | L29: =J29*K29 -> 0.00031473534 | P29: =[1]dérive!$D$304 -> 0.0022 | R29: =P29/$Q$4 -> 0.0011 | T29: =R29 -> 0.0011 | U29: =SQRT((L29^2)+(R29^2)+(T29^2)) -> 0.0015871542
D30: 2 | E30: 34.9997 | G30: =E30+F29 -> 34.9992
D31: 3 | E31: 34.9995 | G31: =E31+F29 -> 34.999
D32: 4 | E32: 34.9993 | G32: =E32+F29 -> 34.9988
D33: 5 | E33: 34.9995 | G33: =E33+F29 -> 34.999
B34: 400.000 ohms | C34: 50 | D34: 1 | E34: 49.9816 | F34: =[1]dérive!$C$305 -> -0.0008 | G34: =E34+F34 -> 49.9808 | H34: =AVERAGE(G34:G38) -> 49.98072 | I34: =H34-C34 -> -0.01928 | J34: =((MAX(E34:E38)-MIN(E34:E38))/2.33) -> 4.2918455e-05 | K34: =5.5/3 -> 1.8333333 | L34: =J34*K34 -> 7.8683834e-05 | M34: 0.001 | N34: =SQRT(12) -> 3.4641016 | O34: =M34/N34 -> 0.00028867513 | P34: =[1]dérive!$D$305 -> 0.0028 | Q34: 2 | R34: =P34/$Q$34 -> 0.0014 | T34: =R34 -> 0.0014 | U34: =SQRT((L34^2)+(R34^2)+(T34^2)) -> 0.0019814619
D35: 2 | E35: 49.9815 | G35: =E35+F34 -> 49.9807
D36: 3 | E36: 49.9815 | G36: =E36+F34 -> 49.9807
D37: 4 | E37: 49.9815 | G37: =E37+F34 -> 49.9807
D38: 5 | E38: 49.9815 | G38: =E38+F34 -> 49.9807
C39: 80.318 | D39: 1 | E39: 80.299 | F39: =[1]dérive!$C$306 -> -0.001 | G39: =E39+F39 -> 80.298 | H39: =AVERAGE(G39:G43) -> 80.2981 | I39: =H39-C39 -> -0.0199 | J39: =((MAX(E39:E43)-MIN(E39:E43))/2.33) -> 8.583691e-05 | K39: =5.5/3 -> 1.8333333 | L39: =J39*K39 -> 0.00015736767 | P39: =[1]dérive!$D$306 -> 0.004 | R39: =P39/$Q$34 -> 0.002 | T39: =R39 -> 0.002 | U39: =SQRT((L39^2)+(R39^2)+(T39^2)) -> 0.0028328015
D40: 2 | E40: 80.2991 | G40: =E40+F39 -> 80.2981
...

Sheet correction VDC 
P6: mV | Q6: V | R6: U
A10: 320 mV | P10: =A11 -> 0.798 | Q10: =A11/1000 -> 0.000798 | R10: =K11 -> 1.0565194e-06
A11: 0.798 | K11: ='[3] INCERTITUDE VOLT DC'!$T$4*2 -> 1.0565194e-06 | P11: =A12 -> 20 | Q11: =A12/1000 -> 0.02 | R11: =K12 -> 1.264561e-06
A12: 20 | K12: ='[3] INCERTITUDE VOLT DC'!$T$9*2 -> 1.264561e-06 | P12: =A13 -> 50 | Q12: =A13/1000 -> 0.05 | R12: =K13 -> 1.1743331e-06
A13: 50 | K13: ='[3] INCERTITUDE VOLT DC'!$T$14*2 -> 1.1743331e-06 | P13: =A14 -> 100 | Q13: =A14/1000 -> 0.1 | R13: =K14 -> 1.3575276e-06
A14: 100 | K14: ='[3] INCERTITUDE VOLT DC'!$T$19*2 -> 1.3575276e-06 | P14: =A15 -> 150 | Q14: =A15/1000 -> 0.15 | R14: =K15 -> 1.8100368e-06
A15: 150 | K15: ='[3] INCERTITUDE VOLT DC'!$T$24*2 -> 1.8100368e-06 | P15: =A16 -> 200 | Q15: =A16/1000 -> 0.2 | R15: =K16 -> 1.9861431e-06
A16: 200 | K16: ='[3] INCERTITUDE VOLT DC'!$T$29*2 -> 1.9861431e-06 | P16: =A17 -> 300 | Q16: =A17/1000 -> 0.3 | R16: =K17 -> 4.2426407e-06
A17: 300 | K17: ='[3] INCERTITUDE VOLT DC'!$T$34*2 -> 4.2426407e-06 | P17: =A19*1000 -> -2000 | Q17: =A19 -> -2 | R17: =K19 -> 1.2824838e-05
A18: 3,2 V | P18: =A20*1000 -> 500 | Q18: =A20 -> 0.5 | R18: =K20 -> 4.2426407e-06
A19: =-0.2*10^(1) -> -2 | K19: ='[3] INCERTITUDE VOLT DC'!$T$39*2 -> 1.2824838e-05 | P19: =A21*1000 -> 1000 | Q19: =A21 -> 1 | R19: =K21 -> 5.6568542e-06
A20: 0.5 | K20: ='[3] INCERTITUDE VOLT DC'!$T$44*2 -> 4.2426407e-06 | P20: =A22*1000 -> 1500 | Q20: =A22 -> 1.5 | R20: =K22 -> 1.0023795e-05
A21: 1 | K21: ='[3] INCERTITUDE VOLT DC'!$T$49*2 -> 5.6568542e-06 | P21: =A23*1000 -> 2000 | Q21: =A23 -> 2 | R21: =K23 -> 1.2727922e-05
A22: 1.5 | K22: ='[3] INCERTITUDE VOLT DC'!$T$54*2 -> 1.0023795e-05 | P22: =A24*1000 -> 3000 | Q22: =A24 -> 3 | R22: =K24 -> 2.8284271e-05
A23: 2 | K23: ='[3] INCERTITUDE VOLT DC'!$T$59*2 -> 1.2727922e-05 | P23: =A26*1000 -> -20000 | Q23: =A26 -> -20 | R23: =K26 -> 0.00013780837
A24: 3 | K24: ='[3] INCERTITUDE VOLT DC'!$T$64*2 -> 2.8284271e-05 | P24: =A27*1000 -> 4000 | Q24: =A27 -> 4 | R24: =K27 -> 4.5250921e-05
A25: 32 V | P25: =A28*1000 -> 6000 | Q25: =A28 -> 6 | R25: =K28 -> 4.5250921e-05
A26: -20 | K26: ='[3] INCERTITUDE VOLT DC'!$T$69*2 -> 0.00013780837 | P26: =A29*1000 -> 8000 | Q26: =A29 -> 8 | R26: =K29 -> 5.8716657e-05
A27: 4 | K27: ='[3] INCERTITUDE VOLT DC'!$T$74*2 -> 4.5250921e-05 | P27: =A30*1000 -> 10000 | Q27: =A30 -> 10 | R27: =K30 -> 6.3472927e-05
A28: 6 | K28: ='[3] INCERTITUDE VOLT DC'!$T$79*2 -> 4.5250921e-05 | Q28: =A31 -> 12 | R28: =K31 -> 7.2440637e-05
A29: 8 | K29: ='[3] INCERTITUDE VOLT DC'!$T$84*2 -> 5.8716657e-05 | Q29: =A32 -> 14 | R29: =K32 -> 8.6299744e-05
A30: 10 | K30: ='[3] INCERTITUDE VOLT DC'!$T$89*2 -> 6.3472927e-05 | Q30: =A33 -> 16 | R30: =K33 -> 0.00010023795
A31: 12 | K31: ='[3] INCERTITUDE VOLT DC'!$T$94*2 -> 7.2440637e-05 | Q31: =A34 -> 18 | R31: =K34 -> 0.00011743331
A32: 14 | K32: ='[3] INCERTITUDE VOLT DC'!$T$99*2 -> 8.6299744e-05 | Q32: =A35 -> 20 | R32: =K35 -> 0.00011422629
A33: 16 | K33: ='[3] INCERTITUDE VOLT DC'!$T$104*2 -> 0.00010023795 | Q33: =A36 -> 30 | R33: =K36 -> 0.00028284271
A34: 18 | K34: ='[3] INCERTITUDE VOLT DC'!$T$109*2 -> 0.00011743331 | Q34: =A38 -> -200 | R34: =K38 -> 0.0014229422
A35: 20 | K35: ='[3] INCERTITUDE VOLT DC'!$T$114*2 -> 0.00011422629 | Q35: =A39 -> 50 | R35: =K39 -> 0.00042426407
A36: 30 | K36: ='[3] INCERTITUDE VOLT DC'!$T$119*2 -> 0.00028284271 | Q36: =A40 -> 100 | R36: =K40 -> 0.00045250921
A37: 320 V | Q37: =A41 -> 150 | R37: =K41 -> 0.0011313708
A38: -200 | K38: ='[3] INCERTITUDE VOLT DC'!$T$124*2 -> 0.0014229422 | Q38: =A42 -> 200 | R38: =K42 -> 0.0014142136
A39: 50 | K39: ='[3] INCERTITUDE VOLT DC'!$T$129*2 -> 0.00042426407 | Q39: =A43 -> 300 | R39: =K43 -> 0.0028284271
A40: 100 | K40: ='[3] INCERTITUDE VOLT DC'!$T$134*2 -> 0.00045250921 | Q40: =A45 -> 350 | R40: =K45 -> 0.0045250921
A41: 150 | K41: ='[3] INCERTITUDE VOLT DC'!$T$139*2 -> 0.0011313708 | Q41: =A46 -> 500 | R41: =K46 -> 0.0042426407
A42: 200 | K42: ='[3] INCERTITUDE VOLT DC'!$T$144*2 -> 0.0014142136 | Q42: =A47 -> 600 | R42: =K47 -> 0.0058716657
A43: 300 | K43: ='[3] INCERTITUDE VOLT DC'!$T$149*2 -> 0.0028284271 | Q43: =A48 -> 750 | R43: =K48 -> 0.0056568542
A44: 1050 V
A45: 350 | K45: ='[3] INCERTITUDE VOLT DC'!$T$154*2 -> 0.0045250921
A46: 500 | K46: ='[3] INCERTITUDE VOLT DC'!$T$159*2 -> 0.0042426407
A47: 600 | K47: ='[3] INCERTITUDE VOLT DC'!$T$164*2 -> 0.0058716657
A48: 750 | K48: ='[3] INCERTITUDE VOLT DC'!$T$169*2 -> 0.0056568542

Sheet correction VAC
O11: mV | P11: V | Q11: U
A16: 320 mV
A17: 20 | K17: ='[3]INCERTITUDE VOLT AC'!$W$4*2 -> 1.3423309e-05 | O17: =A17 -> 20 | P17: =A17/1000 -> 0.02 | Q17: =K17 -> 1.3423309e-05
A18: 50 | K18: ='[3]INCERTITUDE VOLT AC'!$W$9*2 -> 2.9672824e-05 | O18: =A18 -> 50 | P18: =A18/1000 -> 0.05 | Q18: =K18 -> 2.9672824e-05
A19: 100 | K19: ='[3]INCERTITUDE VOLT AC'!$W$14*2 -> 3.7606707e-05 | O19: =A19 -> 100 | P19: =A19/1000 -> 0.1 | Q19: =K19 -> 3.7606707e-05
A20: 150 | K20: ='[3]INCERTITUDE VOLT AC'!$W$19*2 -> 5.626258e-05 | O20: =A20 -> 150 | P20: =A20/1000 -> 0.15 | Q20: =K20 -> 5.626258e-05
A21: 200 | K21: ='[3]INCERTITUDE VOLT AC'!$W$24*2 -> 7.2932551e-05 | O21: =A21 -> 200 | P21: =A21/1000 -> 0.2 | Q21: =K21 -> 7.2932551e-05
A22: 300 | K22: ='[3]INCERTITUDE VOLT AC'!$W$29*2 -> 0.0001093252 | O22: =A22 -> 300 | P22: =A22/1000 -> 0.3 | Q22: =K22 -> 0.0001093252
A23: 3,2 V | O23: =A24*1000 -> 500 | P23: =A24 -> 0.5 | Q23: =K24 -> 0.0001830291
A24: 0.5 | K24: ='[3]INCERTITUDE VOLT AC'!$W$34*2 -> 0.0001830291 | O24: =A25*1000 -> 1000 | P24: =A25 -> 1 | Q24: =K25 -> 0.00036528615
A25: 1 | K25: ='[3]INCERTITUDE VOLT AC'!$W$39*2 -> 0.00036528615 | O25: =A26*1000 -> 1500 | P25: =A26 -> 1.5 | Q25: =K26 -> 0.00055060737
A26: 1.5 | K26: ='[3]INCERTITUDE VOLT AC'!$W$44*2 -> 0.00055060737 | O26: =A27*1000 -> 2000 | P26: =A27 -> 2 | Q26: =K27 -> 0.00072944774
A27: 2 | K27: ='[3]INCERTITUDE VOLT AC'!$W$49*2 -> 0.00072944774 | O27: =A28*1000 -> 3000 | P27: =A28 -> 3 | Q27: =K28 -> 0.0011242608
A28: 3 | K28: ='[3]INCERTITUDE VOLT AC'!$W$54*2 -> 0.0011242608 | O28: =A30*1000 -> 5000 | P28: =A30 -> 5 | Q28: =K30 -> 0.0029727589
A29: 32 V | O29: =A31*1000 -> 10000 | P29: =A31 -> 10 | Q29: =K31 -> 0.0059502019
A30: 5 | K30: ='[3]INCERTITUDE VOLT AC'!$W$59*2 -> 0.0029727589 | P30: =A32 -> 15 | Q30: =K32 -> 0.0089229962
A31: 10 | K31: ='[3]INCERTITUDE VOLT AC'!$W$64*2 -> 0.0059502019 | P31: =A33 -> 20 | Q31: =K33 -> 0.01189341
A32: 15 | K32: ='[3]INCERTITUDE VOLT AC'!$W$69*2 -> 0.0089229962 | P32: =A34 -> 30 | Q32: =K34 -> 0.017835332
A33: 20 | K33: ='[3]INCERTITUDE VOLT AC'!$W$74*2 -> 0.01189341 | P33: =A36 -> 50 | Q33: =K36 -> 0.029724673
A34: 30 | K34: ='[3]INCERTITUDE VOLT AC'!$W$79*2 -> 0.017835332 | P34: =A37 -> 100 | Q34: =K37 -> 0.059561714
A35: 320 V | P35: =A38 -> 150 | Q35: =K38 -> 0.27799034
A36: 50 | K36: ='[3]INCERTITUDE VOLT AC'!$W$84*2 -> 0.029724673 | P36: =A39 -> 200 | Q36: =K39 -> 0.37060129
A37: 100 | K37: ='[3]INCERTITUDE VOLT AC'!$W$89*2 -> 0.059561714 | P37: =A40 -> 300 | Q37: =K40 -> 0.55605808
A38: 150 | K38: ='[3]INCERTITUDE VOLT AC'!$W$94*2 -> 0.27799034 | P38: =A42 -> 350 | Q38: =K42 -> 0.65423427
A39: 200 | K39: ='[3]INCERTITUDE VOLT AC'!$W$99*2 -> 0.37060129 | P39: =A43 -> 500 | Q39: =K43 -> 0.93486219
A40: 300 | K40: ='[3]INCERTITUDE VOLT AC'!$W$104*2 -> 0.55605808 | P40: =A44 -> 600 | Q40: =K44 -> 1.1221175
A41: 1050 V | P41: =A45 -> 750 | Q41: =K45 -> 1.4020398
A42: 350 | K42: ='[3]INCERTITUDE VOLT AC'!$W$109*2 -> 0.65423427
A43: 500 | K43: ='[3]INCERTITUDE VOLT AC'!$W$114*2 -> 0.93486219
A44: 600 | K44: ='[3]INCERTITUDE VOLT AC'!$W$119*2 -> 1.1221175
A45: 750 | K45: ='[3]INCERTITUDE VOLT AC'!$W$124*2 -> 1.4020398
O63: mV | P63: V | Q63: U
A68: 320 mV
A69: 200 | K69: ='[3]INCERTITUDE VOLT AC'!$W$134*2 -> 7.2958352e-05 | O69: =A69 -> 200 | P69: =A69/1000 -> 0.2 | Q69: =K69 -> 7.2958352e-05
A70: 3,2 V | O70: =A71*1000 -> 2000 | P70: =A71 -> 2 | Q70: =K71 -> 0.00072944774
A71: 2 | K71: ='[3]INCERTITUDE VOLT AC'!$W$139*2 -> 0.00072944774 | O71: =A73*1000 -> 20000 | P71: =A73 -> 20 | Q71: =K73 -> 0.011889869
A72: 32 V | P72: =A75 -> 200 | Q72: =K75 -> 0.57804405
A73: 20 | K73: ='[3]INCERTITUDE VOLT AC'!$W$144*2 -> 0.011889869 | P73: =A77 -> 750 | Q73: =K77 -> 2.1757321
A74: 320 V
A75: 200 | K75: ='[3]INCERTITUDE VOLT AC'!$W$149*2 -> 0.57804405
...

Sheet correction IDC
O6: µA | P6: mA | Q6: A | R6: U
A10: 320 µA
A11: -200 | K11: ='[3]INCERTITUDE AMPERE DC'!$T$4*2 -> 7.0945989e-09 | O11: =A11 -> -200 | P11: =O11/1000 -> -0.2 | Q11: =A11/1000000 -> -0.0002 | R11: =K11 -> 7.0945989e-09
A12: 1 | K12: ='[3]INCERTITUDE AMPERE DC'!$T$9*2 -> 8.3406634e-10 | O12: =A12 -> 1 | P12: =O12/1000 -> 0.001 | Q12: =A12/1000000 -> 1e-06 | R12: =K12 -> 8.3406634e-10
A13: 20 | K13: ='[3]INCERTITUDE AMPERE DC'!$T$14*2 -> 1.0935467e-09 | O13: =A13 -> 20 | P13: =O13/1000 -> 0.02 | Q13: =A13/1000000 -> 2e-05 | R13: =K13 -> 1.0935467e-09
A14: 50 | K14: ='[3]INCERTITUDE AMPERE DC'!$T$19*2 -> 2.8927995e-09 | O14: =A14 -> 50 | P14: =O14/1000 -> 0.05 | Q14: =A14/1000000 -> 5e-05 | R14: =K14 -> 2.8927995e-09
A15: 100 | K15: ='[3]INCERTITUDE AMPERE DC'!$T$24*2 -> 3.8833033e-09 | O15: =A15 -> 100 | P15: =O15/1000 -> 0.1 | Q15: =A15/1000000 -> 0.0001 | R15: =K15 -> 3.8833033e-09
A16: 150 | K16: ='[3]INCERTITUDE AMPERE DC'!$T$29*2 -> 5.7058313e-09 | O16: =A16 -> 150 | P16: =O16/1000 -> 0.15 | Q16: =A16/1000000 -> 0.00015 | R16: =K16 -> 5.7058313e-09
A17: 200 | K17: ='[3]INCERTITUDE AMPERE DC'!$T$34*2 -> 5.6961625e-09 | O17: =A17 -> 200 | P17: =O17/1000 -> 0.2 | Q17: =A17/1000000 -> 0.0002 | R17: =K17 -> 5.6961625e-09
A18: 300 | K18: ='[3]INCERTITUDE AMPERE DC'!$T$39*2 -> 2.4048562e-08 | O18: =A18 -> 300 | P18: =O18/1000 -> 0.3 | Q18: =A18/1000000 -> 0.0003 | R18: =K18 -> 2.4048562e-08
A19: 3,2 mA | O19: =A20*1000 -> -2000 | P19: =A20 -> -2 | Q19: =A20/1000 -> -0.002 | R19: =K20 -> 5.6862407e-08
A20: =-0.2*10^(1) -> -2 | K20: ='[3]INCERTITUDE AMPERE DC'!$T$44*2 -> 5.6862407e-08 | O20: =A21*1000 -> 500 | P20: =A21 -> 0.5 | Q20: =A21/1000 -> 0.0005 | R20: =K21 -> 2.8867513e-08
A21: 0.5 | K21: ='[3]INCERTITUDE AMPERE DC'!$T$49*2 -> 2.8867513e-08 | O21: =A22*1000 -> 1000 | P21: =A22 -> 1 | Q21: =A22/1000 -> 0.001 | R21: =K22 -> 3.8649836e-08
A22: 1 | K22: ='[3]INCERTITUDE AMPERE DC'!$T$54*2 -> 3.8649836e-08 | O22: =A23*1000 -> 1500 | P22: =A23 -> 1.5 | Q22: =A23/1000 -> 0.0015 | R22: =K23 -> 5.6862407e-08
A23: 1.5 | K23: ='[3]INCERTITUDE AMPERE DC'!$T$59*2 -> 5.6862407e-08 | O23: =A24*1000 -> 2000 | P23: =A24 -> 2 | Q23: =A24/1000 -> 0.002 | R23: =K24 -> 5.6862407e-08
A24: 2 | K24: ='[3]INCERTITUDE AMPERE DC'!$T$64*2 -> 5.6862407e-08 | O24: =A25*1000 -> 3000 | P24: =A25 -> 3 | Q24: =A25/1000 -> 0.003 | R24: =K25 -> 2.4048562e-07
A25: 3 | K25: ='[3]INCERTITUDE AMPERE DC'!$T$69*2 -> 2.4048562e-07 | O25: =A27*1000 -> -20000 | P25: =A27 -> -20 | Q25: =A27/1000 -> -0.02 | R25: =K27 -> 5.7058053e-07
A26: 32 mA | O26: =A28*1000 -> 5000 | P26: =A28 -> 5 | Q26: =A28/1000 -> 0.005 | R26: =K28 -> 3.0897893e-07
A27: -20 | K27: ='[3]INCERTITUDE AMPERE DC'!$T$74*2 -> 5.7058053e-07 | O27: =A29*1000 -> 10000 | P27: =A29 -> 10 | Q27: =A29/1000 -> 0.01 | R27: =K29 -> 3.9127441e-07
A28: 5 | K28: ='[3]INCERTITUDE AMPERE DC'!$T$79*2 -> 3.0897893e-07 | P28: =A30 -> 15 | Q28: =A30/1000 -> 0.015 | R28: =K30 -> 5.6949444e-07
A29: 10 | K29: ='[3]INCERTITUDE AMPERE DC'!$T$84*2 -> 3.9127441e-07 | P29: =A31 -> 20 | Q29: =A31/1000 -> 0.02 | R29: =K31 -> 5.6949444e-07
A30: 15 | K30: ='[3]INCERTITUDE AMPERE DC'!$T$89*2 -> 5.6949444e-07 | P30: =A32 -> 30 | Q30: =A32/1000 -> 0.03 | R30: =K32 -> 2.4048562e-06
A31: 20 | K31: ='[3]INCERTITUDE AMPERE DC'!$T$94*2 -> 5.6949444e-07 | P31: =A34 -> -200 | Q31: =A34/1000 -> -0.2 | R31: =K34 -> 6.2841306e-06
A32: 30 | K32: ='[3]INCERTITUDE AMPERE DC'!$T$99*2 -> 2.4048562e-06 | P32: =A35 -> 50 | Q32: =A35/1000 -> 0.05 | R32: =K35 -> 2.9251008e-06
A33: 320 mA | P33: =A36 -> 100 | Q33: =A36/1000 -> 0.1 | R33: =K36 -> 3.8649836e-06
A34: -200 | K34: ='[3]INCERTITUDE AMPERE DC'!$T$104*2 -> 6.2841306e-06 | P34: =A37 -> 150 | Q34: =A37/1000 -> 0.15 | R34: =K37 -> 5.7404223e-06
A35: 50 | K35: ='[3]INCERTITUDE AMPERE DC'!$T$109*2 -> 2.9251008e-06 | P35: =A38 -> 200 | Q35: =A38/1000 -> 0.2 | R35: =K38 -> 5.8239391e-06
A36: 100 | K36: ='[3]INCERTITUDE AMPERE DC'!$T$114*2 -> 3.8649836e-06 | P36: =A39 -> 300 | Q36: =A39/1000 -> 0.3 | R36: =K39 -> 2.5462391e-05
A37: 150 | K37: ='[3]INCERTITUDE AMPERE DC'!$T$119*2 -> 5.7404223e-06 | P37: =A41*1000 -> 500 | Q37: =A41 -> 0.5 | R37: =K41 -> 3.3405485e-05
A38: 200 | K38: ='[3]INCERTITUDE AMPERE DC'!$T$124*2 -> 5.8239391e-06 | P38: =A42*1000 -> 1000 | Q38: =A42 -> 1 | R38: =K42 -> 7.3548209e-05
A39: 300 | K39: ='[3]INCERTITUDE AMPERE DC'!$T$129*2 -> 2.5462391e-05 | P39: =A43*1000 -> 1500 | Q39: =A43 -> 1.5 | R39: =K43 -> 8.251872e-05
A40: 3,2 A | P40: =A44*1000 -> 2000 | Q40: =A44 -> 2 | R40: =K44 -> 8.1124101e-05
A41: 0.5 | K41: ='[3]INCERTITUDE AMPERE DC'!$T$134*2 -> 3.3405485e-05 | P41: =A46*1000 -> 5000 | Q41: =A46 -> 5 | R41: =K46 -> 0.0056822026
A42: 1 | K42: ='[3]INCERTITUDE AMPERE DC'!$T$139*2 -> 7.3548209e-05 | Q42: =A47 -> 10 | R42: =K47 -> 0.011354014
A43: 1.5 | K43: ='[3]INCERTITUDE AMPERE DC'!$T$144*2 -> 8.251872e-05 | Q43: =A48 -> 20 | R43: =K48 -> 0.028351705
A44: 2 | K44: ='[3]INCERTITUDE AMPERE DC'!$T$149*2 -> 8.1124101e-05
A45: 20 A
A46: 5 | K46: ='[3]INCERTITUDE AMPERE DC'!$AI$156*2 -> 0.0056822026
A47: 10 | K47: ='[3]INCERTITUDE AMPERE DC'!$AI$161*2 -> 0.011354014
A48: 20 | K48: ='[3]INCERTITUDE AMPERE DC'!$AI$166*2 -> 0.028351705

Sheet correction IAC
O8: µA | P8: mA | Q8: A | R8: U
A13: 320 µA
A14: 20 | K14: ='[3]INCERTITUDE AMPERE AC'!$W$4*2 -> 2.5617465e-08 | O14: =A14 -> 20 | P14: =A14/1000 -> 0.02 | Q14: =A14/1000000 -> 2e-05 | R14: =K14 -> 2.5617465e-08
A15: 50 | K15: ='[3]INCERTITUDE AMPERE AC'!$W$9*2 -> 4.568937e-08 | O15: =A15 -> 50 | P15: =A15/1000 -> 0.05 | Q15: =A15/1000000 -> 5e-05 | R15: =K15 -> 4.568937e-08
A16: 100 | K16: ='[3]INCERTITUDE AMPERE AC'!$W$14*2 -> 8.0878656e-08 | O16: =A16 -> 100 | P16: =A16/1000 -> 0.1 | Q16: =A16/1000000 -> 0.0001 | R16: =K16 -> 8.0878656e-08
A17: 150 | K17: ='[3]INCERTITUDE AMPERE AC'!$W$19*2 -> 2.2913532e-07 | O17: =A17 -> 150 | P17: =A17/1000 -> 0.15 | Q17: =A17/1000000 -> 0.00015 | R17: =K17 -> 2.2913532e-07
A18: 200 | K18: ='[3]INCERTITUDE AMPERE AC'!$W$24*2 -> 2.5405771e-07 | O18: =A18 -> 200 | P18: =A18/1000 -> 0.2 | Q18: =A18/1000000 -> 0.0002 | R18: =K18 -> 2.5405771e-07
A19: 300 | K19: ='[3]INCERTITUDE AMPERE AC'!$W$29*2 -> 3.1970284e-07 | O19: =A19 -> 300 | P19: =A19/1000 -> 0.3 | Q19: =A19/1000000 -> 0.0003 | R19: =K19 -> 3.1970284e-07
A20: 3,2 mA | O20: =A21*1000 -> 500 | P20: =A21 -> 0.5 | Q20: =A21/1000 -> 0.0005 | R20: =K21 -> 4.5696687e-07
A21: 0.5 | K21: ='[3]INCERTITUDE AMPERE AC'!$W$34*2 -> 4.5696687e-07 | O21: =A22*1000 -> 1000 | P21: =A22 -> 1 | Q21: =A22/1000 -> 0.001 | R21: =K22 -> 6.4340291e-07
A22: 1 | K22: ='[3]INCERTITUDE AMPERE AC'!$W$39*2 -> 6.4340291e-07 | O22: =A23*1000 -> 1500 | P22: =A23 -> 1.5 | Q22: =A23/1000 -> 0.0015 | R22: =K23 -> 9.6465393e-07
A23: 1.5 | K23: ='[3]INCERTITUDE AMPERE AC'!$W$44*2 -> 9.6465393e-07 | O23: =A24*1000 -> 2000 | P23: =A24 -> 2 | Q23: =A24/1000 -> 0.002 | R23: =K24 -> 1.2862052e-06
A24: 2 | K24: ='[3]INCERTITUDE AMPERE AC'!$W$49*2 -> 1.2862052e-06 | O24: =A25*1000 -> 3000 | P24: =A25 -> 3 | Q24: =A25/1000 -> 0.003 | R24: =K25 -> 1.9297571e-06
A25: 3 | K25: ='[3]INCERTITUDE AMPERE AC'!$W$54*2 -> 1.9297571e-06 | O25: =A27*1000 -> 5000 | P25: =A27 -> 5 | Q25: =A27/1000 -> 0.005 | R25: =K27 -> 3.2192077e-06
A26: 32 mA | O26: =A28*1000 -> 10000 | P26: =A28 -> 10 | Q26: =A28/1000 -> 0.01 | R26: =K28 -> 6.4353376e-06
A27: 5 | K27: ='[3]INCERTITUDE AMPERE AC'!$W$59*2 -> 3.2192077e-06 | P27: =A29 -> 15 | Q27: =A29/1000 -> 0.015 | R27: =K29 -> 9.6584822e-06
A28: 10 | K28: ='[3]INCERTITUDE AMPERE AC'!$W$64*2 -> 6.4353376e-06 | P28: =A30 -> 20 | Q28: =A30/1000 -> 0.02 | R28: =K30 -> 1.28736e-05
A29: 15 | K29: ='[3]INCERTITUDE AMPERE AC'!$W$69*2 -> 9.6584822e-06 | P29: =A31 -> 30 | Q29: =A31/1000 -> 0.03 | R29: =K31 -> 1.9303345e-05
A30: 20 | K30: ='[3]INCERTITUDE AMPERE AC'!$W$74*2 -> 1.28736e-05 | P30: =A33 -> 50 | Q30: =A33/1000 -> 0.05 | R30: =K33 -> 3.2210535e-05
A31: 30 | K31: ='[3]INCERTITUDE AMPERE AC'!$W$79*2 -> 1.9303345e-05 | P31: =A34 -> 100 | Q31: =A34/1000 -> 0.1 | R31: =K34 -> 6.4346642e-05
A32: 320 mA | P32: =A35 -> 150 | Q32: =A35/1000 -> 0.15 | R32: =K35 -> 9.646167e-05
A33: 50 | K33: ='[3]INCERTITUDE AMPERE AC'!$W$84*2 -> 3.2210535e-05 | P33: =A36 -> 200 | Q33: =A36/1000 -> 0.2 | R33: =K36 -> 0.00012860666
A34: 100 | K34: ='[3]INCERTITUDE AMPERE AC'!$W$89*2 -> 6.4346642e-05 | P34: =A37 -> 300 | Q34: =A37/1000 -> 0.3 | R34: =K37 -> 0.00017320508
A35: 150 | K35: ='[3]INCERTITUDE AMPERE AC'!$W$94*2 -> 9.646167e-05 | P35: =A39*1000 -> 500 | Q35: =A39 -> 0.5 | R35: =K39 -> 0.00059441848
A36: 200 | K36: ='[3]INCERTITUDE AMPERE AC'!$W$99*2 -> 0.00012860666 | P36: =A40*1000 -> 1000 | Q36: =A40 -> 1 | R36: =K40 -> 0.0011894878
A37: 300 | K37: ='[3]INCERTITUDE AMPERE AC'!$W$104*2 -> 0.00017320508 | P37: =A41*1000 -> 1500 | Q37: =A41 -> 1.5 | R37: =K41 -> 0.0018742566
A38: 3,2 A | P38: =A42*1000 -> 2000 | Q38: =A42 -> 2 | R38: =K42 -> 0.0024695074
A39: 0.5 | K39: ='[3]INCERTITUDE AMPERE AC'!$W$109*2 -> 0.00059441848 | P39: =A44*1000 -> 5000 | Q39: =A44 -> 5 | R39: =K44 -> 0.22046586
A40: 1 | K40: ='[3]INCERTITUDE AMPERE AC'!$W$114*2 -> 0.0011894878 | P40: =A45*1000 -> 10000 | Q40: =A45 -> 10 | R40: =K45 -> 0.61387329
A41: 1.5 | K41: ='[3]INCERTITUDE AMPERE AC'!$W$119*2 -> 0.0018742566
A42: 2 | K42: ='[3]INCERTITUDE AMPERE AC'!$W$124*2 -> 0.0024695074
A43: 20 A
A44: 5 | K44: ='[3]INCERTITUDE AMPERE AC'!$AM$130*2 -> 0.22046586
A45: 10 | K45: ='[3]INCERTITUDE AMPERE AC'!$AM$135*2 -> 0.61387329
A65: 320 µA
A66: 200 | K66: ='[3]INCERTITUDE AMPERE AC'!$W$145*2 -> 2.0614917e-06 | O66: =A66 -> 200 | P66: =A66/1000 -> 0.2 | Q66: =A66/1000000 -> 0.0002 | R66: =K66 -> 2.0614917e-06
A67: 3,2 mA | O67: =A68*1000 -> 2000 | P67: =A68 -> 2 | Q67: =A68/1000 -> 0.002 | R67: =K68 -> 1.2858673e-06
A68: 2 | K68: ='[3]INCERTITUDE AMPERE AC'!$W$150*2 -> 1.2858673e-06 | O68: =A70*1000 -> 20000 | P68: =A70 -> 20 | Q68: =A70/1000 -> 0.02 | R68: =K70 -> 1.2858673e-05
A69: 32 mA | P69: =A72 -> 200 | Q69: =A72/1000 -> 0.2 | R69: =K72 -> 0.00012863747
A70: 20 | K70: ='[3]INCERTITUDE AMPERE AC'!$W$155*2 -> 1.2858673e-05 | P70: =A74*1000 -> 2000 | Q70: =A74 -> 2 | R70: =K74 -> 0.0024603523
...

Sheet correction ohm
O7: Ω | P7: kΩ | Q7: MΩ | R7: U
A12: 40 W
A13: 1 | K13: ='[3]INCERTITUDE OHM'!$U$4*2 -> 0.00078696542 | O13: =A13 -> 1 | P13: =A13/1000 -> 0.001 | Q13: =A13/1000000 -> 1e-06 | R13: =K13 -> 0.00078696542
A14: 5 | K14: ='[3]INCERTITUDE OHM'!$U$9*2 -> 0.001704337 | O14: =A14 -> 5 | P14: =A14/1000 -> 0.005 | Q14: =A14/1000000 -> 5e-06 | R14: =K14 -> 0.001704337
A15: 10 | K15: ='[3]INCERTITUDE OHM'!$U$14*2 -> 0.00063089883 | O15: =A15 -> 10 | P15: =A15/1000 -> 0.01 | Q15: =A15/1000000 -> 1e-05 | R15: =K15 -> 0.00063089883
A16: 15 | K16: ='[3]INCERTITUDE OHM'!$U$19*2 -> 0.0021732191 | O16: =A16 -> 15 | P16: =A16/1000 -> 0.015 | Q16: =A16/1000000 -> 1.5e-05 | R16: =K16 -> 0.0021732191
A17: 20 | K17: ='[3]INCERTITUDE OHM'!$U$24*2 -> 0.0025296471 | O17: =A17 -> 20 | P17: =A17/1000 -> 0.02 | Q17: =A17/1000000 -> 2e-05 | R17: =K17 -> 0.0025296471
A18: 35 | K18: ='[3]INCERTITUDE OHM'!$U$29*2 -> 0.0031743083 | O18: =A18 -> 35 | P18: =A18/1000 -> 0.035 | Q18: =A18/1000000 -> 3.5e-05 | R18: =K18 -> 0.0031743083
A19: 400 W | O19: =A20 -> 50 | P19: =A20/1000 -> 0.05 | Q19: =A20/1000000 -> 5e-05 | R19: =K20 -> 0.0039629237
A20: 50 | K20: ='[3]INCERTITUDE OHM'!$U$34*2 -> 0.0039629237 | O20: =A21 -> 80.318 | P20: =A21/1000 -> 0.080318 | Q20: =A21/1000000 -> 8.0318e-05 | R20: =K21 -> 0.0056656031
A21: 80.318 | K21: ='[3]INCERTITUDE OHM'!$U$39*2 -> 0.0056656031 | O21: =A22 -> 100 | P21: =A22/1000 -> 0.1 | Q21: =A22/1000000 -> 0.0001 | R21: =K22 -> 0.00089393209
A22: 100 | K22: ='[3]INCERTITUDE OHM'!$U$44*2 -> 0.00089393209 | O22: =A23 -> 119.397 | P22: =A23/1000 -> 0.119397 | Q22: =A23/1000000 -> 0.000119397 | R22: =K23 -> 0.0039722863
A23: 119.397 | K23: ='[3]INCERTITUDE OHM'!$U$49*2 -> 0.0039722863 | O23: =A24 -> 138.506 | P23: =A24/1000 -> 0.138506 | Q23: =A24/1000000 -> 0.000138506 | R23: =K24 -> 0.004289083
A24: 138.506 | K24: ='[3]INCERTITUDE OHM'!$U$54*2 -> 0.004289083 | O24: =A25 -> 172.176 | P24: =A25/1000 -> 0.172176 | Q24: =A25/1000000 -> 0.000172176 | R24: =K25 -> 0.0056917689
A25: 172.176 | K25: ='[3]INCERTITUDE OHM'!$U$59*2 -> 0.0056917689 | O25: =A26 -> 200 | P25: =A26/1000 -> 0.2 | Q25: =A26/1000000 -> 0.0002 | R25: =K26 -> 0.0071147111
A26: 200 | K26: ='[3]INCERTITUDE OHM'!$U$64*2 -> 0.0071147111 | O26: =A27 -> 212.052 | P26: =A27/1000 -> 0.212052 | Q26: =A27/1000000 -> 0.000212052 | R26: =K27 -> 0.0070710678
A27: 212.052 | K27: ='[3]INCERTITUDE OHM'!$U$69*2 -> 0.0070710678 | O27: =A28 -> 280.978 | P27: =A28/1000 -> 0.280978 | Q27: =A28/1000000 -> 0.000280978 | R27: =K28 -> 0.0098994951
A28: 280.978 | K28: ='[3]INCERTITUDE OHM'!$U$74*2 -> 0.0098994951 | O28: =A29 -> 350 | P28: =A29/1000 -> 0.35 | Q28: =A29/1000000 -> 0.00035 | R28: =K29 -> 0.011313708
A29: 350 | K29: ='[3]INCERTITUDE OHM'!$U$79*2 -> 0.011313708 | O29: =A31*1000 -> 500 | P29: =A31 -> 0.5 | Q29: =A31/1000 -> 0.0005 | R29: =K31 -> 0.01704337
A30: 4 KW | O30: =A32*1000 -> 1000 | P30: =A32 -> 1 | Q30: =A32/1000 -> 0.001 | R30: =K32 -> 0.0032367357
A31: 0.5 | K31: ='[3]INCERTITUDE OHM'!$U$84*2 -> 0.01704337 | O31: =A33*1000 -> 1500 | P31: =A33 -> 1.5 | Q31: =A33/1000 -> 0.0015 | R31: =K33 -> 0.070780688
A32: 1 | K32: ='[3]INCERTITUDE OHM'!$U$89*2 -> 0.0032367357 | O32: =A34*1000 -> 2000 | P32: =A34 -> 2 | Q32: =A34/1000 -> 0.002 | R32: =K34 -> 0.084852814
A33: 1.5 | K33: ='[3]INCERTITUDE OHM'!$U$94*2 -> 0.070780688 | O33: =A35*1000 -> 3500 | P33: =A35 -> 3.5 | Q33: =A35/1000 -> 0.0035 | R33: =K35 -> 0.15635743
A34: 2 | K34: ='[3]INCERTITUDE OHM'!$U$99*2 -> 0.084852814 | O34: =A37*1000 -> 5000 | P34: =A37 -> 5 | Q34: =A37/1000 -> 0.005 | R34: =K37 -> 0.21271494
A35: 3.5 | K35: ='[3]INCERTITUDE OHM'!$U$104*2 -> 0.15635743 | O35: =A38*1000 -> 10000 | P35: =A38 -> 10 | Q35: =A38/1000 -> 0.01 | R35: =K38 -> 0.032367357
A36: 40 KW | P36: =A39 -> 15 | Q36: =A39/1000 -> 0.015 | R36: =K39 -> 0.70728187
A37: 5 | K37: ='[3]INCERTITUDE OHM'!$U$109*2 -> 0.21271494 | P37: =A40 -> 20 | Q37: =A40/1000 -> 0.02 | R37: =K40 -> 0.84867405
A38: 10 | K38: ='[3]INCERTITUDE OHM'!$U$114*2 -> 0.032367357 | P38: =A41 -> 35 | Q38: =A41/1000 -> 0.035 | R38: =K41 -> 1.6256941
A39: 15 | K39: ='[3]INCERTITUDE OHM'!$U$119*2 -> 0.70728187 | P39: =A43 -> 50 | Q39: =A43/1000 -> 0.05 | R39: =K43 -> 2.4667658
A40: 20 | K40: ='[3]INCERTITUDE OHM'!$U$124*2 -> 0.84867405 | P40: =A44 -> 100 | Q40: =A44/1000 -> 0.1 | R40: =K44 -> 0.52825972
A41: 35 | K41: ='[3]INCERTITUDE OHM'!$U$129*2 -> 1.6256941 | P41: =A45 -> 150 | Q41: =A45/1000 -> 0.15 | R41: =K45 -> 5.6765202
A42: 400 KW | P42: =A46 -> 200 | Q42: =A46/1000 -> 0.2 | R42: =K46 -> 7.1822652
A43: 50 | K43: ='[3]INCERTITUDE OHM'!$U$134*2 -> 2.4667658 | P43: =A47 -> 350 | Q43: =A47/1000 -> 0.35 | R43: =K47 -> 21.213205
A44: 100 | K44: ='[3]INCERTITUDE OHM'!$U$139*2 -> 0.52825972 | P44: =A65*1000 -> 500 | Q44: =A65 -> 0.5 | R44: =K65 -> 24.24677
A45: 150 | K45: ='[3]INCERTITUDE OHM'!$U$144*2 -> 5.6765202 | P45: =A66*1000 -> 1000 | Q45: =A66 -> 1 | R45: =K66 -> 19.997786
A46: 200 | K46: ='[3]INCERTITUDE OHM'!$U$149*2 -> 7.1822652 | P46: =A67*1000 -> 1500 | Q46: =A67 -> 1.5 | R46: =K67 -> 113.31206
A47: 350 | K47: ='[3]INCERTITUDE OHM'!$U$154*2 -> 21.213205 | P47: =A68*1000 -> 2000 | Q47: =A68 -> 2 | R47: =K68 -> 142.89339
P48: =A69*1000 -> 3500 | Q48: =A69 -> 3.5 | R48: =K69 -> 647.34715
P49: =A71*1000 -> 5000 | Q49: =A71 -> 5 | R49: =K71 -> 639.84384
P50: =A72*1000 -> 10000 | Q50: =A72 -> 10 | R50: =K72 -> 634.72927
...
