Workbook

Sheet BDD
A5: 1 | B5: JANVIER
A6: 2 | B6: FEVRIER
A7: 3 | B7: MARS
A8: 4 | B8: AVRIL
A9: 5 | B9: MAI
A10: 6 | B10: JUIN
A11: 7 | B11: JUILLET
A12: 8 | B12: AOUT
A13: 9 | B13: SEPTEMBRE
A14: 10 | B14: OCTOBRE
A15: 11 | B15: NOVEMBRE
A16: 12 | B16: DECEMBRE

Sheet 008
A3: SYNTHESES DE PRESTATIONS DIJON | I3: BRAKE FRANCE DIJON
I4: DAVIGEL DIJON
I5: ELIOR CLINIQUE DE CHENOVE
I6: ELIOR SOLVAY TAVAUX
A7: Agence | B7: Client | C7: Date de rendez vous | D7: Mois | E7: Nouveau client | I7: ELIOR TAVAUX
A8: =IF(B8="","","8") -> 8 | B8: ELIOR CLINIQUE DE CHENOVE | C8: 42760 | D8: =IF(C8="","",VLOOKUP(MONTH(C8),BDD!$A$5:$B$16,2,FALSE)) -> JANVIER | I8: ELIOR INRA DIJON
D9: =IF(C9="","",VLOOKUP(MONTH(C9),BDD!$A$5:$B$16,2,FALSE)) | I9: ELIOR SEB SELONGEY
D10: =IF(C10="","",VLOOKUP(MONTH(C10),BDD!$A$5:$B$16,2,FALSE)) | I10: SODEXO URGO CHENOVE
D11: =IF(C11="","",VLOOKUP(MONTH(C11),BDD!$A$5:$B$16,2,FALSE)) | I11: SODEXO MONT ROLAND
D12: =IF(C12="","",VLOOKUP(MONTH(C12),BDD!$A$5:$B$16,2,FALSE)) | I12: SODEXO CEA VALDUC
D13: =IF(C13="","",VLOOKUP(MONTH(C13),BDD!$A$5:$B$16,2,FALSE)) | I13: SODEXO SACRE COEUR LANGRES
D14: =IF(C14="","",VLOOKUP(MONTH(C14),BDD!$A$5:$B$16,2,FALSE)) | I14: SODEXO LA CHARME CHATILLON SUR SEINE
D15: =IF(C15="","",VLOOKUP(MONTH(C15),BDD!$A$5:$B$16,2,FALSE)) | I15: SODEXO CLINIQUE BENIGNE JOLY TALANT
D16: =IF(C16="","",VLOOKUP(MONTH(C16),BDD!$A$5:$B$16,2,FALSE)) | I16: SOGERES AGENCOURT
D17: =IF(C17="","",VLOOKUP(MONTH(C17),BDD!$A$5:$B$16,2,FALSE)) | I17: POMONA TERRE AZUR DIJON
D18: =IF(C18="","",VLOOKUP(MONTH(C18),BDD!$A$5:$B$16,2,FALSE)) | I18: POMONA EPI SAVEURS DIJON
D19: =IF(C19="","",VLOOKUP(MONTH(C19),BDD!$A$5:$B$16,2,FALSE)) | I19: PRO A PRO DOLE
D20: =IF(C20="","",VLOOKUP(MONTH(C20),BDD!$A$5:$B$16,2,FALSE)) | I20: COMPASS ST COEUR BEAUNE
... D23: =IF(C23="","",VLOOKUP(MONTH(C23),BDD!$A$5:$B$16,2,FALSE)) | I23: PATIS PURATOS
D24: =IF(C24="","",VLOOKUP(MONTH(C24),BDD!$A$5:$B$16,2,FALSE))
D25: =IF(C25="","",VLOOKUP(MONTH(C25),BDD!$A$5:$B$16,2,FALSE))
D26: =IF(C26="","",VLOOKUP(MONTH(C26),BDD!$A$5:$B$16,2,FALSE))
D27: =IF(C27="","",VLOOKUP(MONTH(C27),BDD!$A$5:$B$16,2,FALSE))
D28: =IF(C28="","",VLOOKUP(MONTH(C28),BDD!$A$5:$B$16,2,FALSE))
D29: =IF(C29="","",VLOOKUP(MONTH(C29),BDD!$A$5:$B$16,2,FALSE))
D30: =IF(C30="","",VLOOKUP(MONTH(C30),BDD!$A$5:$B$16,2,FALSE))
D31: =IF(C31="","",VLOOKUP(MONTH(C31),BDD!$A$5:$B$16,2,FALSE))
D32: =IF(C32="","",VLOOKUP(MONTH(C32),BDD!$A$5:$B$16,2,FALSE))
D33: =IF(C33="","",VLOOKUP(MONTH(C33),BDD!$A$5:$B$16,2,FALSE))
D34: =IF(C34="","",VLOOKUP(MONTH(C34),BDD!$A$5:$B$16,2,FALSE))
D35: =IF(C35="","",VLOOKUP(MONTH(C35),BDD!$A$5:$B$16,2,FALSE))
... D1003: =IF(C1003="","",VLOOKUP(MONTH(C1003),BDD!$A$5:$B$16,2,FALSE))

Sheet 010
A3: SYNTHESES DE PRESTATIONS LYON | I3: BRAKE FRANCE CORBAS (5010651)
I4: API (2001050)
I5: COMPASS GROUP PUSIGNAN (5002186)
I6: BERTO (6025936)
A7: Agence | B7: Client | C7: Date de rendez vous | D7: Mois | E7: Nouveau client | I7: DAVIGEL CORBAS (5003505)
A8: =IF(B8="","","10") | D8: =IF(C8="","",VLOOKUP(MONTH(C8),BDD!$A$5:$B$16,2,FALSE)) | I8: ELIOR LA BALME LES GROTTES/biomerieux (0015847)
A9: =IF(B9="","","10") | D9: =IF(C9="","",VLOOKUP(MONTH(C9),BDD!$A$5:$B$16,2,FALSE)) | I9: ELIOR SAINT PRIESTsdis (6042471)
A10: =IF(B10="","","10") | D10: =IF(C10="","",VLOOKUP(MONTH(C10),BDD!$A$5:$B$16,2,FALSE)) | I10: ELIOR VENISSIEUX (6071187)
A11: =IF(B11="","","10") | D11: =IF(C11="","",VLOOKUP(MONTH(C11),BDD!$A$5:$B$16,2,FALSE)) | I11: ELRES RILLIEUX LA PAPE (5002110)
A12: =IF(B12="","","10") | D12: =IF(C12="","",VLOOKUP(MONTH(C12),BDD!$A$5:$B$16,2,FALSE)) | I12: ELRES LYON la xaviere 8° (0000324)
A13: =IF(B13="","","10") | D13: =IF(C13="","",VLOOKUP(MONTH(C13),BDD!$A$5:$B$16,2,FALSE)) | I13: ETP MIRIBEL (6065009)
A14: =IF(B14="","","10") | D14: =IF(C14="","",VLOOKUP(MONTH(C14),BDD!$A$5:$B$16,2,FALSE)) | I14: POMONA EPISAVEURS (6005188)
A15: =IF(B15="","","10") | D15: =IF(C15="","",VLOOKUP(MONTH(C15),BDD!$A$5:$B$16,2,FALSE)) | I15: POMONA PASSION FROID (6010949)
A16: =IF(B16="","","10") | D16: =IF(C16="","",VLOOKUP(MONTH(C16),BDD!$A$5:$B$16,2,FALSE)) | I16: POMONA TERRE AZUR (5021320)
A17: =IF(B17="","","10") | D17: =IF(C17="","",VLOOKUP(MONTH(C17),BDD!$A$5:$B$16,2,FALSE)) | I17: PRO A PRO DISTRIBUTION SUD (5025725)
A18: =IF(B18="","","10") | D18: =IF(C18="","",VLOOKUP(MONTH(C18),BDD!$A$5:$B$16,2,FALSE)) | I18: SAVEURS D ANTOINE (6059234)
A19: =IF(B19="","","10") | D19: =IF(C19="","",VLOOKUP(MONTH(C19),BDD!$A$5:$B$16,2,FALSE)) | I19: SOCIETE DE RESTAURATION AUBERGE A LIENS (SODEXO) (5028669)
... A28: =IF(B28="","","10") | D28: =IF(C28="","",VLOOKUP(MONTH(C28),BDD!$A$5:$B$16,2,FALSE)) | I28: SOGERES VILLEURBANNE (6027977)
A29: =IF(B29="","","10") | D29: =IF(C29="","",VLOOKUP(MONTH(C29),BDD!$A$5:$B$16,2,FALSE))
A30: =IF(B30="","","10") | D30: =IF(C30="","",VLOOKUP(MONTH(C30),BDD!$A$5:$B$16,2,FALSE))
A31: =IF(B31="","","10") | D31: =IF(C31="","",VLOOKUP(MONTH(C31),BDD!$A$5:$B$16,2,FALSE))
A32: =IF(B32="","","10") | D32: =IF(C32="","",VLOOKUP(MONTH(C32),BDD!$A$5:$B$16,2,FALSE))
A33: =IF(B33="","","10") | D33: =IF(C33="","",VLOOKUP(MONTH(C33),BDD!$A$5:$B$16,2,FALSE))
A34: =IF(B34="","","10") | D34: =IF(C34="","",VLOOKUP(MONTH(C34),BDD!$A$5:$B$16,2,FALSE))
A35: =IF(B35="","","10") | D35: =IF(C35="","",VLOOKUP(MONTH(C35),BDD!$A$5:$B$16,2,FALSE))
A36: =IF(B36="","","10") | D36: =IF(C36="","",VLOOKUP(MONTH(C36),BDD!$A$5:$B$16,2,FALSE))
A37: =IF(B37="","","10") | D37: =IF(C37="","",VLOOKUP(MONTH(C37),BDD!$A$5:$B$16,2,FALSE))
A38: =IF(B38="","","10") | D38: =IF(C38="","",VLOOKUP(MONTH(C38),BDD!$A$5:$B$16,2,FALSE))
A39: =IF(B39="","","10") | D39: =IF(C39="","",VLOOKUP(MONTH(C39),BDD!$A$5:$B$16,2,FALSE))
A40: =IF(B40="","","10") | D40: =IF(C40="","",VLOOKUP(MONTH(C40),BDD!$A$5:$B$16,2,FALSE))
... A1003: =IF(B1003="","","10") | D1003: =IF(C1003="","",VLOOKUP(MONTH(C1003),BDD!$A$5:$B$16,2,FALSE))

Sheet 019
A3: SYNTHESES DE PRESTATIONS ORLEANS | I3: THIRIET ST CYR EN VAL
I4: DAVIGEL ST JEAN DE BRAYE
I5: ELIOR CNRS
I6: ELIOR DIOR nouveau au 01/01/16
A7: Agence | B7: Client | C7: Date de rendez vous | D7: Mois | E7: Nouveau client | I7: ELIOR ST CHARLES
A8: =IF(B8="","","19") | D8: =IF(C8="","",VLOOKUP(MONTH(C8),BDD!$A$5:$B$16,2,FALSE)) | I8: ELIOR THALESS
A9: =IF(B9="","","19") | D9: =IF(C9="","",VLOOKUP(MONTH(C9),BDD!$A$5:$B$16,2,FALSE)) | I9: ELIOR LA POSTE
A10: =IF(B10="","","19") | D10: =IF(C10="","",VLOOKUP(MONTH(C10),BDD!$A$5:$B$16,2,FALSE)) | I10: ANSAMBLE LA FERTE IMBAULT
A11: =IF(B11="","","19") | D11: =IF(C11="","",VLOOKUP(MONTH(C11),BDD!$A$5:$B$16,2,FALSE)) | I11: ANSAMBLE LA COURONNERIE
A12: =IF(B12="","","19") | D12: =IF(C12="","",VLOOKUP(MONTH(C12),BDD!$A$5:$B$16,2,FALSE)) | I12: ANSAMBLE ST JEAN LE BLANC
A13: =IF(B13="","","19") | D13: =IF(C13="","",VLOOKUP(MONTH(C13),BDD!$A$5:$B$16,2,FALSE)) | I13: ANSAMBLE ST CYR EN VAL
A14: =IF(B14="","","19") | D14: =IF(C14="","",VLOOKUP(MONTH(C14),BDD!$A$5:$B$16,2,FALSE)) | I14: ANSAMBLE ST PAUL
A15: =IF(B15="","","19") | D15: =IF(C15="","",VLOOKUP(MONTH(C15),BDD!$A$5:$B$16,2,FALSE)) | I15: ELIOR ECP FRANCE
A16: =IF(B16="","","19") | D16: =IF(C16="","",VLOOKUP(MONTH(C16),BDD!$A$5:$B$16,2,FALSE)) | I16: SODEXO ALCATEL
A17: =IF(B17="","","19") | D17: =IF(C17="","",VLOOKUP(MONTH(C17),BDD!$A$5:$B$16,2,FALSE)) | I17: SODEXO ST FRANCOIS/GIEN
A18: =IF(B18="","","19") | D18: =IF(C18="","",VLOOKUP(MONTH(C18),BDD!$A$5:$B$16,2,FALSE)) | I18: SODEXO HONDA - RETOUR DEF AU 27/01/2017
A19: =IF(B19="","","19") | D19: =IF(C19="","",VLOOKUP(MONTH(C19),BDD!$A$5:$B$16,2,FALSE)) | I19: SODEXO ORELIANCE
... A33: =IF(B33="","","19") | D33: =IF(C33="","",VLOOKUP(MONTH(C33),BDD!$A$5:$B$16,2,FALSE)) | I33: LES MENUS SERVICES
A34: =IF(B34="","","19") | D34: =IF(C34="","",VLOOKUP(MONTH(C34),BDD!$A$5:$B$16,2,FALSE))
A35: =IF(B35="","","19") | D35: =IF(C35="","",VLOOKUP(MONTH(C35),BDD!$A$5:$B$16,2,FALSE))
A36: =IF(B36="","","19") | D36: =IF(C36="","",VLOOKUP(MONTH(C36),BDD!$A$5:$B$16,2,FALSE))
A37: =IF(B37="","","19") | D37: =IF(C37="","",VLOOKUP(MONTH(C37),BDD!$A$5:$B$16,2,FALSE))
A38: =IF(B38="","","19") | D38: =IF(C38="","",VLOOKUP(MONTH(C38),BDD!$A$5:$B$16,2,FALSE))
A39: =IF(B39="","","19") | D39: =IF(C39="","",VLOOKUP(MONTH(C39),BDD!$A$5:$B$16,2,FALSE))
A40: =IF(B40="","","19") | D40: =IF(C40="","",VLOOKUP(MONTH(C40),BDD!$A$5:$B$16,2,FALSE))
A41: =IF(B41="","","19") | D41: =IF(C41="","",VLOOKUP(MONTH(C41),BDD!$A$5:$B$16,2,FALSE))
A42: =IF(B42="","","19") | D42: =IF(C42="","",VLOOKUP(MONTH(C42),BDD!$A$5:$B$16,2,FALSE))
A43: =IF(B43="","","19") | D43: =IF(C43="","",VLOOKUP(MONTH(C43),BDD!$A$5:$B$16,2,FALSE))
A44: =IF(B44="","","19") | D44: =IF(C44="","",VLOOKUP(MONTH(C44),BDD!$A$5:$B$16,2,FALSE))
A45: =IF(B45="","","19") | D45: =IF(C45="","",VLOOKUP(MONTH(C45),BDD!$A$5:$B$16,2,FALSE))
... A1003: =IF(B1003="","","19") | D1003: =IF(C1003="","",VLOOKUP(MONTH(C1003),BDD!$A$5:$B$16,2,FALSE))

Sheet 022
A3: SYNTHESES DE PRESTATIONS CLERMONT FERRAND | I3: API ROMAGNAT
I4: API VOLVIC
I5: API ST CHEZY
I6: BRAKE FRANCE CEBAZAT
A7: Agence | B7: Client | C7: Date de rendez vous | D7: Mois | E7: Nouveau client | I7: COMPASS AIA
A8: =IF(B8="","","22") | D8: =IF(C8="","",VLOOKUP(MONTH(C8),BDD!$A$5:$B$16,2,FALSE)) | I8: COMPASS LADOUX
A9: =IF(B9="","","22") | D9: =IF(C9="","",VLOOKUP(MONTH(C9),BDD!$A$5:$B$16,2,FALSE)) | I9: COMPASS COMBAUDE
A10: =IF(B10="","","22") | D10: =IF(C10="","",VLOOKUP(MONTH(C10),BDD!$A$5:$B$16,2,FALSE)) | I10: COMPASS LES CARMES
A11: =IF(B11="","","22") | D11: =IF(C11="","",VLOOKUP(MONTH(C11),BDD!$A$5:$B$16,2,FALSE)) | I11: COMPASS REPUBLIQUE
A12: =IF(B12="","","22") | D12: =IF(C12="","",VLOOKUP(MONTH(C12),BDD!$A$5:$B$16,2,FALSE)) | I12: COMPASS PUY GUILLAUME
A13: =IF(B13="","","22") | D13: =IF(C13="","",VLOOKUP(MONTH(C13),BDD!$A$5:$B$16,2,FALSE)) | I13: COMPASS ST MARIE RIOM
A14: =IF(B14="","","22") | D14: =IF(C14="","",VLOOKUP(MONTH(C14),BDD!$A$5:$B$16,2,FALSE)) | I14: DAVIGEL
A15: =IF(B15="","","22") | D15: =IF(C15="","",VLOOKUP(MONTH(C15),BDD!$A$5:$B$16,2,FALSE)) | I15: ELIOR SANOFI
A16: =IF(B16="","","22") | D16: =IF(C16="","",VLOOKUP(MONTH(C16),BDD!$A$5:$B$16,2,FALSE)) | I16: ELIORBIOPOLE
A17: =IF(B17="","","22") | D17: =IF(C17="","",VLOOKUP(MONTH(C17),BDD!$A$5:$B$16,2,FALSE)) | I17: ELIOR IMPOTS
A18: =IF(B18="","","22") | D18: =IF(C18="","",VLOOKUP(MONTH(C18),BDD!$A$5:$B$16,2,FALSE)) | I18: ELIOR BEAUDONNAT
A19: =IF(B19="","","22") | D19: =IF(C19="","",VLOOKUP(MONTH(C19),BDD!$A$5:$B$16,2,FALSE)) | I19: ELIOR CONSTELLIUM
... A39: =IF(B39="","","22") | D39: =IF(C39="","",VLOOKUP(MONTH(C39),BDD!$A$5:$B$16,2,FALSE)) | I39: API ORANGE 5259
A40: =IF(B40="","","22") | D40: =IF(C40="","",VLOOKUP(MONTH(C40),BDD!$A$5:$B$16,2,FALSE))
A41: =IF(B41="","","22") | D41: =IF(C41="","",VLOOKUP(MONTH(C41),BDD!$A$5:$B$16,2,FALSE))
A42: =IF(B42="","","22") | D42: =IF(C42="","",VLOOKUP(MONTH(C42),BDD!$A$5:$B$16,2,FALSE))
A43: =IF(B43="","","22") | D43: =IF(C43="","",VLOOKUP(MONTH(C43),BDD!$A$5:$B$16,2,FALSE))
A44: =IF(B44="","","22") | D44: =IF(C44="","",VLOOKUP(MONTH(C44),BDD!$A$5:$B$16,2,FALSE))
A45: =IF(B45="","","22") | D45: =IF(C45="","",VLOOKUP(MONTH(C45),BDD!$A$5:$B$16,2,FALSE))
A46: =IF(B46="","","22") | D46: =IF(C46="","",VLOOKUP(MONTH(C46),BDD!$A$5:$B$16,2,FALSE))
A47: =IF(B47="","","22") | D47: =IF(C47="","",VLOOKUP(MONTH(C47),BDD!$A$5:$B$16,2,FALSE))
A48: =IF(B48="","","22") | D48: =IF(C48="","",VLOOKUP(MONTH(C48),BDD!$A$5:$B$16,2,FALSE))
A49: =IF(B49="","","22") | D49: =IF(C49="","",VLOOKUP(MONTH(C49),BDD!$A$5:$B$16,2,FALSE))
A50: =IF(B50="","","22") | D50: =IF(C50="","",VLOOKUP(MONTH(C50),BDD!$A$5:$B$16,2,FALSE))
A51: =IF(B51="","","22") | D51: =IF(C51="","",VLOOKUP(MONTH(C51),BDD!$A$5:$B$16,2,FALSE))
... A1003: =IF(B1003="","","22") | D1003: =IF(C1003="","",VLOOKUP(MONTH(C1003),BDD!$A$5:$B$16,2,FALSE))

Sheet 025
A3: SYNTHESES DE PRESTATIONS ANNECY | I3: BRAKE FRANCE
I4: POMONA TERRE AZUR
I5: ELRES ANNECY L EVIEUX
I6: THIRIET BONNE
A7: Agence | B7: Client | C7: Date de rendez vous | D7: Mois | E7: Nouveau client | I7: ALPIGOURMET UNL
A8: =IF(B8="","","25") | D8: =IF(C8="","",VLOOKUP(MONTH(C8),BDD!$A$5:$B$16,2,FALSE)) | I8: SODEXO LA BALME SE SILLINGY
A9: =IF(B9="","","25") | D9: =IF(C9="","",VLOOKUP(MONTH(C9),BDD!$A$5:$B$16,2,FALSE)) | I9: SODEXO DEMOTZ FR200695 RUMILLY
A10: =IF(B10="","","25") | D10: =IF(C10="","",VLOOKUP(MONTH(C10),BDD!$A$5:$B$16,2,FALSE)) | I10: POMONA EPI SAVEURS
A11: =IF(B11="","","25") | D11: =IF(C11="","",VLOOKUP(MONTH(C11),BDD!$A$5:$B$16,2,FALSE)) | I11: SODEXO ECOLE LES CORDELIERS
A12: =IF(B12="","","25") | D12: =IF(C12="","",VLOOKUP(MONTH(C12),BDD!$A$5:$B$16,2,FALSE)) | I12: PICARD
A13: =IF(B13="","","25") | D13: =IF(C13="","",VLOOKUP(MONTH(C13),BDD!$A$5:$B$16,2,FALSE)) | I13: POMONA PASSION FROID
A14: =IF(B14="","","25") | D14: =IF(C14="","",VLOOKUP(MONTH(C14),BDD!$A$5:$B$16,2,FALSE))
A15: =IF(B15="","","25") | D15: =IF(C15="","",VLOOKUP(MONTH(C15),BDD!$A$5:$B$16,2,FALSE))
A16: =IF(B16="","","25") | D16: =IF(C16="","",VLOOKUP(MONTH(C16),BDD!$A$5:$B$16,2,FALSE))
A17: =IF(B17="","","25") | D17: =IF(C17="","",VLOOKUP(MONTH(C17),BDD!$A$5:$B$16,2,FALSE))
A18: =IF(B18="","","25") | D18: =IF(C18="","",VLOOKUP(MONTH(C18),BDD!$A$5:$B$16,2,FALSE))
A19: =IF(B19="","","25") | D19: =IF(C19="","",VLOOKUP(MONTH(C19),BDD!$A$5:$B$16,2,FALSE))
A20: =IF(B20="","","25") | D20: =IF(C20="","",VLOOKUP(MONTH(C20),BDD!$A$5:$B$16,2,FALSE))
A21: =IF(B21="","","25") | D21: =IF(C21="","",VLOOKUP(MONTH(C21),BDD!$A$5:$B$16,2,FALSE))
A22: =IF(B22="","","25") | D22: =IF(C22="","",VLOOKUP(MONTH(C22),BDD!$A$5:$B$16,2,FALSE))
A23: =IF(B23="","","25") | D23: =IF(C23="","",VLOOKUP(MONTH(C23),BDD!$A$5:$B$16,2,FALSE))
A24: =IF(B24="","","25") | D24: =IF(C24="","",VLOOKUP(MONTH(C24),BDD!$A$5:$B$16,2,FALSE))
A25: =IF(B25="","","25") | D25: =IF(C25="","",VLOOKUP(MONTH(C25),BDD!$A$5:$B$16,2,FALSE))
... A1003: =IF(B1003="","","25") | D1003: =IF(C1003="","",VLOOKUP(MONTH(C1003),BDD!$A$5:$B$16,2,FALSE))

Sheet 036
A3: SYNTHESES DE PRESTATIONS GRENOBLE | I3: BRAKE FRANCE Voiron
I4: API RESTAURATION DOMENE
I5: BIGARD
I6: POMONA PF
A7: Agence | B7: Client | C7: Date de rendez vous | D7: Mois | E7: Nouveau client | I7: POMONA TA
A8: =IF(B8="","","36") -> 36 | B8: DAVIGEL DIJON | C8: 42819 | D8: =IF(C8="","",VLOOKUP(MONTH(C8),BDD!$A$5:$B$16,2,FALSE)) -> MARS | I8: POMONA ES
A9: =IF(B9="","","36") | D9: =IF(C9="","",VLOOKUP(MONTH(C9),BDD!$A$5:$B$16,2,FALSE)) | I9: POMONA DELICE & CREATION
A10: =IF(B10="","","36") | D10: =IF(C10="","",VLOOKUP(MONTH(C10),BDD!$A$5:$B$16,2,FALSE)) | I10: DAVIGEL Grenoble
A11: =IF(B11="","","36") | D11: =IF(C11="","",VLOOKUP(MONTH(C11),BDD!$A$5:$B$16,2,FALSE)) | I11: ELIOR GRENOBLE HP
A12: =IF(B12="","","36") | D12: =IF(C12="","",VLOOKUP(MONTH(C12),BDD!$A$5:$B$16,2,FALSE)) | I12: ELIOR GRENOBLE Chartreuse
A13: =IF(B13="","","36") | D13: =IF(C13="","",VLOOKUP(MONTH(C13),BDD!$A$5:$B$16,2,FALSE)) | I13: ELIOR GRENOBLE Caterpillar
A14: =IF(B14="","","36") | D14: =IF(C14="","",VLOOKUP(MONTH(C14),BDD!$A$5:$B$16,2,FALSE)) | I14: ELIOR CROLLES
A15: =IF(B15="","","36") | D15: =IF(C15="","",VLOOKUP(MONTH(C15),BDD!$A$5:$B$16,2,FALSE)) | I15: ELIOR MEYLAN
A16: =IF(B16="","","36") | D16: =IF(C16="","",VLOOKUP(MONTH(C16),BDD!$A$5:$B$16,2,FALSE)) | I16: PICARD
A17: =IF(B17="","","36") | D17: =IF(C17="","",VLOOKUP(MONTH(C17),BDD!$A$5:$B$16,2,FALSE)) | I17: ELIOR EQUINOXE EYBENS
A18: =IF(B18="","","36") | D18: =IF(C18="","",VLOOKUP(MONTH(C18),BDD!$A$5:$B$16,2,FALSE)) | I18: ELIOR PONT DE CLAIX (vencorex)
A19: =IF(B19="","","36") | D19: =IF(C19="","",VLOOKUP(MONTH(C19),BDD!$A$5:$B$16,2,FALSE)) | I19: SOGERES BELVEDERE CORENC
A20: =IF(B20="","","36") | D20: =IF(C20="","",VLOOKUP(MONTH(C20),BDD!$A$5:$B$16,2,FALSE)) | I20: SODEXO LES VOLUBILIS
... A23: =IF(B23="","","36") | D23: =IF(C23="","",VLOOKUP(MONTH(C23),BDD!$A$5:$B$16,2,FALSE)) | I23: BERTO
A24: =IF(B24="","","36") | D24: =IF(C24="","",VLOOKUP(MONTH(C24),BDD!$A$5:$B$16,2,FALSE))
A25: =IF(B25="","","36") | D25: =IF(C25="","",VLOOKUP(MONTH(C25),BDD!$A$5:$B$16,2,FALSE))
A26: =IF(B26="","","36") | D26: =IF(C26="","",VLOOKUP(MONTH(C26),BDD!$A$5:$B$16,2,FALSE))
A27: =IF(B27="","","36") | D27: =IF(C27="","",VLOOKUP(MONTH(C27),BDD!$A$5:$B$16,2,FALSE))
A28: =IF(B28="","","36") | D28: =IF(C28="","",VLOOKUP(MONTH(C28),BDD!$A$5:$B$16,2,FALSE))
A29: =IF(B29="","","36") | D29: =IF(C29="","",VLOOKUP(MONTH(C29),BDD!$A$5:$B$16,2,FALSE))
A30: =IF(B30="","","36") | D30: =IF(C30="","",VLOOKUP(MONTH(C30),BDD!$A$5:$B$16,2,FALSE))
A31: =IF(B31="","","36") | D31: =IF(C31="","",VLOOKUP(MONTH(C31),BDD!$A$5:$B$16,2,FALSE))
A32: =IF(B32="","","36") | D32: =IF(C32="","",VLOOKUP(MONTH(C32),BDD!$A$5:$B$16,2,FALSE))
A33: =IF(B33="","","36") | D33: =IF(C33="","",VLOOKUP(MONTH(C33),BDD!$A$5:$B$16,2,FALSE))
A34: =IF(B34="","","36") | D34: =IF(C34="","",VLOOKUP(MONTH(C34),BDD!$A$5:$B$16,2,FALSE))
A35: =IF(B35="","","36") | D35: =IF(C35="","",VLOOKUP(MONTH(C35),BDD!$A$5:$B$16,2,FALSE))
... A1003: =IF(B1003="","","36") | D1003: =IF(C1003="","",VLOOKUP(MONTH(C1003),BDD!$A$5:$B$16,2,FALSE))

Sheet 037
A3: SYNTHESES DE PRESTATIONS BOURGES | I3: COMPASS - SCOLAREST STE MARIE
I4: COMPASS - SOGIREST
I5: COMPASS - KSB CHATEAUROUX
I6: COMPASS - ST CYR ISSOUDUN
A7: Agence | B7: Client | C7: Date de rendez vous | D7: Mois | E7: Nouveau client | I7: COLRUYT - CODIFRANCE DEOLS
A8: =IF(B8="","","37") | D8: =IF(C8="","",VLOOKUP(MONTH(C8),BDD!$A$5:$B$16,2,FALSE)) | I8: DAVIGEL - VARENNE VAUZELLES
A9: =IF(B9="","","37") | D9: =IF(C9="","",VLOOKUP(MONTH(C9),BDD!$A$5:$B$16,2,FALSE)) | I9: ELIOR - MBDA BOURGES
A10: =IF(B10="","","37") | D10: =IF(C10="","",VLOOKUP(MONTH(C10),BDD!$A$5:$B$16,2,FALSE)) | I10: ELIOR - NEVERS
A11: =IF(B11="","","37") | D11: =IF(C11="","",VLOOKUP(MONTH(C11),BDD!$A$5:$B$16,2,FALSE)) | I11: ELIOR - DGATT BOURGES
A12: =IF(B12="","","37") | D12: =IF(C12="","",VLOOKUP(MONTH(C12),BDD!$A$5:$B$16,2,FALSE)) | I12: ELIOR - NEXTER BOURGES
A13: =IF(B13="","","37") | D13: =IF(C13="","",VLOOKUP(MONTH(C13),BDD!$A$5:$B$16,2,FALSE)) | I13: ELIOR - L VUITTON ISSOUDUN
A14: =IF(B14="","","37") | D14: =IF(C14="","",VLOOKUP(MONTH(C14),BDD!$A$5:$B$16,2,FALSE)) | I14: ELIOR - SELLES
A15: =IF(B15="","","37") | D15: =IF(C15="","",VLOOKUP(MONTH(C15),BDD!$A$5:$B$16,2,FALSE)) | I15: ANSAMBLE CC BOURGES
A16: =IF(B16="","","37") | D16: =IF(C16="","",VLOOKUP(MONTH(C16),BDD!$A$5:$B$16,2,FALSE)) | I16: ANSAMBLE OGEC
A17: =IF(B17="","","37") | D17: =IF(C17="","",VLOOKUP(MONTH(C17),BDD!$A$5:$B$16,2,FALSE)) | I17: ANSAMBLE GEDHIF
A18: =IF(B18="","","37") | D18: =IF(C18="","",VLOOKUP(MONTH(C18),BDD!$A$5:$B$16,2,FALSE)) | I18: ANSAMBLE ST MAUR - ADAPEI
A19: =IF(B19="","","37") | D19: =IF(C19="","",VLOOKUP(MONTH(C19),BDD!$A$5:$B$16,2,FALSE)) | I19: POMONA EPISAVEUR ORVAL
... A28: =IF(B28="","","37") | D28: =IF(C28="","",VLOOKUP(MONTH(C28),BDD!$A$5:$B$16,2,FALSE)) | I28: THIRIET - BOURGES
A29: =IF(B29="","","37") | D29: =IF(C29="","",VLOOKUP(MONTH(C29),BDD!$A$5:$B$16,2,FALSE))
A30: =IF(B30="","","37") | D30: =IF(C30="","",VLOOKUP(MONTH(C30),BDD!$A$5:$B$16,2,FALSE))
A31: =IF(B31="","","37") | D31: =IF(C31="","",VLOOKUP(MONTH(C31),BDD!$A$5:$B$16,2,FALSE))
A32: =IF(B32="","","37") | D32: =IF(C32="","",VLOOKUP(MONTH(C32),BDD!$A$5:$B$16,2,FALSE))
A33: =IF(B33="","","37") | D33: =IF(C33="","",VLOOKUP(MONTH(C33),BDD!$A$5:$B$16,2,FALSE))
A34: =IF(B34="","","37") | D34: =IF(C34="","",VLOOKUP(MONTH(C34),BDD!$A$5:$B$16,2,FALSE))
A35: =IF(B35="","","37") | D35: =IF(C35="","",VLOOKUP(MONTH(C35),BDD!$A$5:$B$16,2,FALSE))
A36: =IF(B36="","","37") | D36: =IF(C36="","",VLOOKUP(MONTH(C36),BDD!$A$5:$B$16,2,FALSE))
A37: =IF(B37="","","37") | D37: =IF(C37="","",VLOOKUP(MONTH(C37),BDD!$A$5:$B$16,2,FALSE))
A38: =IF(B38="","","37") | D38: =IF(C38="","",VLOOKUP(MONTH(C38),BDD!$A$5:$B$16,2,FALSE))
A39: =IF(B39="","","37") | D39: =IF(C39="","",VLOOKUP(MONTH(C39),BDD!$A$5:$B$16,2,FALSE))
A40: =IF(B40="","","37") | D40: =IF(C40="","",VLOOKUP(MONTH(C40),BDD!$A$5:$B$16,2,FALSE))
... A1003: =IF(B1003="","","37") | D1003: =IF(C1003="","",VLOOKUP(MONTH(C1003),BDD!$A$5:$B$16,2,FALSE))

Sheet 048
A3: SYNTHESES DE PRESTATIONS CHAMBERY
A7: Agence | B7: Client | C7: Date de rendez vous | D7: Mois | E7: Nouveau client
A8: =IF(B8="","","48") | D8: =IF(C8="","",VLOOKUP(MONTH(C8),BDD!$A$5:$B$16,2,FALSE))
A9: =IF(B9="","","48") | D9: =IF(C9="","",VLOOKUP(MONTH(C9),BDD!$A$5:$B$16,2,FALSE))
A10: =IF(B10="","","48") | D10: =IF(C10="","",VLOOKUP(MONTH(C10),BDD!$A$5:$B$16,2,FALSE))
A11: =IF(B11="","","48") | D11: =IF(C11="","",VLOOKUP(MONTH(C11),BDD!$A$5:$B$16,2,FALSE))
A12: =IF(B12="","","48") | D12: =IF(C12="","",VLOOKUP(MONTH(C12),BDD!$A$5:$B$16,2,FALSE))
A13: =IF(B13="","","48") | D13: =IF(C13="","",VLOOKUP(MONTH(C13),BDD!$A$5:$B$16,2,FALSE))
A14: =IF(B14="","","48") | D14: =IF(C14="","",VLOOKUP(MONTH(C14),BDD!$A$5:$B$16,2,FALSE))
A15: =IF(B15="","","48") | D15: =IF(C15="","",VLOOKUP(MONTH(C15),BDD!$A$5:$B$16,2,FALSE))
A16: =IF(B16="","","48") | D16: =IF(C16="","",VLOOKUP(MONTH(C16),BDD!$A$5:$B$16,2,FALSE))
A17: =IF(B17="","","48") | D17: =IF(C17="","",VLOOKUP(MONTH(C17),BDD!$A$5:$B$16,2,FALSE))
A18: =IF(B18="","","48") | D18: =IF(C18="","",VLOOKUP(MONTH(C18),BDD!$A$5:$B$16,2,FALSE))
A19: =IF(B19="","","48") | D19: =IF(C19="","",VLOOKUP(MONTH(C19),BDD!$A$5:$B$16,2,FALSE))
... A1003: =IF(B1003="","","48") | D1003: =IF(C1003="","",VLOOKUP(MONTH(C1003),BDD!$A$5:$B$16,2,FALSE))

Sheet 060
A3: SYNTHESES DE PRESTATIONS SAINT ETIENNE | I3: THIRIET ROANNE
I4: THIRIET FIRMINY
I5: BRAKE FRANCE YSSINGEAUX
I6: ELIOR SAINT ETIENNE
A7: Agence | B7: Client | C7: Date de rendez vous | D7: Mois | E7: Nouveau client | I7: ELIOR CC ROANNE
A8: =IF(B8="","","60") | D8: =IF(C8="","",VLOOKUP(MONTH(C8),BDD!$A$5:$B$16,2,FALSE)) | I8: ELRES ST ETIENNE St Michel
A9: =IF(B9="","","60") | D9: =IF(C9="","",VLOOKUP(MONTH(C9),BDD!$A$5:$B$16,2,FALSE)) | I9: POMONA SAVEURS D'ANTOINE
A10: =IF(B10="","","60") | D10: =IF(C10="","",VLOOKUP(MONTH(C10),BDD!$A$5:$B$16,2,FALSE)) | I10: API RESTAU LA TALAU
A11: =IF(B11="","","60") | D11: =IF(C11="","",VLOOKUP(MONTH(C11),BDD!$A$5:$B$16,2,FALSE)) | I11: API RESTAU BRIVES
A12: =IF(B12="","","60") | D12: =IF(C12="","",VLOOKUP(MONTH(C12),BDD!$A$5:$B$16,2,FALSE)) | I12: SODEXO ST LOUIS
A13: =IF(B13="","","60") | D13: =IF(C13="","",VLOOKUP(MONTH(C13),BDD!$A$5:$B$16,2,FALSE)) | I13: SODEXO ASPRONA
A14: =IF(B14="","","60") | D14: =IF(C14="","",VLOOKUP(MONTH(C14),BDD!$A$5:$B$16,2,FALSE)) | I14: BERTO
A15: =IF(B15="","","60") | D15: =IF(C15="","",VLOOKUP(MONTH(C15),BDD!$A$5:$B$16,2,FALSE)) | I15: PRODELICES UNL
A16: =IF(B16="","","60") | D16: =IF(C16="","",VLOOKUP(MONTH(C16),BDD!$A$5:$B$16,2,FALSE))
A17: =IF(B17="","","60") | D17: =IF(C17="","",VLOOKUP(MONTH(C17),BDD!$A$5:$B$16,2,FALSE))
A18: =IF(B18="","","60") | D18: =IF(C18="","",VLOOKUP(MONTH(C18),BDD!$A$5:$B$16,2,FALSE))
A19: =IF(B19="","","60") | D19: =IF(C19="","",VLOOKUP(MONTH(C19),BDD!$A$5:$B$16,2,FALSE))
A20: =IF(B20="","","60") | D20: =IF(C20="","",VLOOKUP(MONTH(C20),BDD!$A$5:$B$16,2,FALSE))
A21: =IF(B21="","","60") | D21: =IF(C21="","",VLOOKUP(MONTH(C21),BDD!$A$5:$B$16,2,FALSE))
A22: =IF(B22="","","60") | D22: =IF(C22="","",VLOOKUP(MONTH(C22),BDD!$A$5:$B$16,2,FALSE))
A23: =IF(B23="","","60") | D23: =IF(C23="","",VLOOKUP(MONTH(C23),BDD!$A$5:$B$16,2,FALSE))
A24: =IF(B24="","","60") | D24: =IF(C24="","",VLOOKUP(MONTH(C24),BDD!$A$5:$B$16,2,FALSE))
A25: =IF(B25="","","60") | D25: =IF(C25="","",VLOOKUP(MONTH(C25),BDD!$A$5:$B$16,2,FALSE))
A26: =IF(B26="","","60") | D26: =IF(C26="","",VLOOKUP(MONTH(C26),BDD!$A$5:$B$16,2,FALSE))
A27: =IF(B27="","","60") | D27: =IF(C27="","",VLOOKUP(MONTH(C27),BDD!$A$5:$B$16,2,FALSE))
... A1003: =IF(B1003="","","60") | D1003: =IF(C1003="","",VLOOKUP(MONTH(C1003),BDD!$A$5:$B$16,2,FALSE))

Sheet 075
A3: SYNTHESES DE PRESTATIONS BESANCON | I3: BRAKE (BESANCON)
I4: ELRES VESOUL
I5: API
I6: ELIOR VALDAHON
A7: Agence | B7: Client | C7: Date de rendez vous | D7: Mois | E7: Nouveau client | I7: ELIOR BESANCON
A8: =IF(B8="","","75") | D8: =IF(C8="","",VLOOKUP(MONTH(C8),BDD!$A$5:$B$16,2,FALSE)) | I8: POMONA TA
A9: =IF(B9="","","75") | D9: =IF(C9="","",VLOOKUP(MONTH(C9),BDD!$A$5:$B$16,2,FALSE)) | I9: ELRES PONTALIER
A10: =IF(B10="","","75") | D10: =IF(C10="","",VLOOKUP(MONTH(C10),BDD!$A$5:$B$16,2,FALSE)) | I10: SODEXO PONTARLIER
A11: =IF(B11="","","75") | D11: =IF(C11="","",VLOOKUP(MONTH(C11),BDD!$A$5:$B$16,2,FALSE)) | I11: BERTO
A12: =IF(B12="","","75") | D12: =IF(C12="","",VLOOKUP(MONTH(C12),BDD!$A$5:$B$16,2,FALSE)) | I12: MOREL UNL
A13: =IF(B13="","","75") | D13: =IF(C13="","",VLOOKUP(MONTH(C13),BDD!$A$5:$B$16,2,FALSE))
A14: =IF(B14="","","75") | D14: =IF(C14="","",VLOOKUP(MONTH(C14),BDD!$A$5:$B$16,2,FALSE))
A15: =IF(B15="","","75") | D15: =IF(C15="","",VLOOKUP(MONTH(C15),BDD!$A$5:$B$16,2,FALSE))
A16: =IF(B16="","","75") | D16: =IF(C16="","",VLOOKUP(MONTH(C16),BDD!$A$5:$B$16,2,FALSE))
A17: =IF(B17="","","75") | D17: =IF(C17="","",VLOOKUP(MONTH(C17),BDD!$A$5:$B$16,2,FALSE))
A18: =IF(B18="","","75") | D18: =IF(C18="","",VLOOKUP(MONTH(C18),BDD!$A$5:$B$16,2,FALSE))
A19: =IF(B19="","","75") | D19: =IF(C19="","",VLOOKUP(MONTH(C19),BDD!$A$5:$B$16,2,FALSE))
A20: =IF(B20="","","75") | D20: =IF(C20="","",VLOOKUP(MONTH(C20),BDD!$A$5:$B$16,2,FALSE))
A21: =IF(B21="","","75") | D21: =IF(C21="","",VLOOKUP(MONTH(C21),BDD!$A$5:$B$16,2,FALSE))
A22: =IF(B22="","","75") | D22: =IF(C22="","",VLOOKUP(MONTH(C22),BDD!$A$5:$B$16,2,FALSE))
A23: =IF(B23="","","75") | D23: =IF(C23="","",VLOOKUP(MONTH(C23),BDD!$A$5:$B$16,2,FALSE))
A24: =IF(B24="","","75") | D24: =IF(C24="","",VLOOKUP(MONTH(C24),BDD!$A$5:$B$16,2,FALSE))
... A1003: =IF(B1003="","","75") | D1003: =IF(C1003="","",VLOOKUP(MONTH(C1003),BDD!$A$5:$B$16,2,FALSE))

Sheet 078
A3: SYNTHESES DE PRESTATIONS MACON | I3: SOGERES LA LOYERE
I4: SOGERES PARAY LE MONIAL
I5: SODEXO PARAY LE MONIAL
I6: SODEXO MACON
A7: Agence | B7: Client | C7: Date de rendez vous | D7: Mois | E7: Nouveau client | I7: SODEXO LE CREUSOT
A8: =IF(B8="","","78") -> 78 | B8: SODEXO LA CHARME CHATILLON SUR SEINE | C8: 42788 | D8: =IF(C8="","",VLOOKUP(MONTH(C8),BDD!$A$5:$B$16,2,FALSE)) -> FEVRIER | I8: SODEXO SAINT DIDIER SUR CHALARONE
A9: =IF(B9="","","78") | D9: =IF(C9="","",VLOOKUP(MONTH(C9),BDD!$A$5:$B$16,2,FALSE)) | I9: ELIOR SAINT DOMINIQUE CHALON
A10: =IF(B10="","","78") | D10: =IF(C10="","",VLOOKUP(MONTH(C10),BDD!$A$5:$B$16,2,FALSE)) | I10: ELIOR LA PEROLIERE M BOUCHOT
A11: =IF(B11="","","78") | D11: =IF(C11="","",VLOOKUP(MONTH(C11),BDD!$A$5:$B$16,2,FALSE)) | I11: ELIOR OYONNAX
A12: =IF(B12="","","78") | D12: =IF(C12="","",VLOOKUP(MONTH(C12),BDD!$A$5:$B$16,2,FALSE)) | I12: COMPASS BAYER VILLEFRANCHE
A13: =IF(B13="","","78") | D13: =IF(C13="","",VLOOKUP(MONTH(C13),BDD!$A$5:$B$16,2,FALSE)) | I13: POMONA EPI SAVEURS
A14: =IF(B14="","","78") | D14: =IF(C14="","",VLOOKUP(MONTH(C14),BDD!$A$5:$B$16,2,FALSE)) | I14: POMONA PASSION FROID
A15: =IF(B15="","","78") | D15: =IF(C15="","",VLOOKUP(MONTH(C15),BDD!$A$5:$B$16,2,FALSE))
A16: =IF(B16="","","78") | D16: =IF(C16="","",VLOOKUP(MONTH(C16),BDD!$A$5:$B$16,2,FALSE))
A17: =IF(B17="","","78") | D17: =IF(C17="","",VLOOKUP(MONTH(C17),BDD!$A$5:$B$16,2,FALSE))
A18: =IF(B18="","","78") | D18: =IF(C18="","",VLOOKUP(MONTH(C18),BDD!$A$5:$B$16,2,FALSE))
A19: =IF(B19="","","78") | D19: =IF(C19="","",VLOOKUP(MONTH(C19),BDD!$A$5:$B$16,2,FALSE))
A20: =IF(B20="","","78") | D20: =IF(C20="","",VLOOKUP(MONTH(C20),BDD!$A$5:$B$16,2,FALSE))
A21: =IF(B21="","","78") | D21: =IF(C21="","",VLOOKUP(MONTH(C21),BDD!$A$5:$B$16,2,FALSE))
A22: =IF(B22="","","78") | D22: =IF(C22="","",VLOOKUP(MONTH(C22),BDD!$A$5:$B$16,2,FALSE))
A23: =IF(B23="","","78") | D23: =IF(C23="","",VLOOKUP(MONTH(C23),BDD!$A$5:$B$16,2,FALSE))
A24: =IF(B24="","","78") | D24: =IF(C24="","",VLOOKUP(MONTH(C24),BDD!$A$5:$B$16,2,FALSE))
A25: =IF(B25="","","78") | D25: =IF(C25="","",VLOOKUP(MONTH(C25),BDD!$A$5:$B$16,2,FALSE))
A26: =IF(B26="","","78") | D26: =IF(C26="","",VLOOKUP(MONTH(C26),BDD!$A$5:$B$16,2,FALSE))
... A1003: =IF(B1003="","","78") | D1003: =IF(C1003="","",VLOOKUP(MONTH(C1003),BDD!$A$5:$B$16,2,FALSE))

Sheet 111
A3: SYNTHESES DE PRESTATIONS AUXERRE | I3: API APEIS DU SENSONNAIS
I4: API - Brienon
I5: API - Aillant
I6: API - St Amand
A7: Agence | B7: Client | C7: Date de rendez vous | D7: Mois | E7: Nouveau client | I7: SODEXO - St Julien
A8: =IF(B8="","","111") | D8: =IF(C8="","",VLOOKUP(MONTH(C8),BDD!$A$5:$B$16,2,FALSE)) | I8: ELRES - Auxerre
A9: =IF(B9="","","111") | D9: =IF(C9="","",VLOOKUP(MONTH(C9),BDD!$A$5:$B$16,2,FALSE)) | I9: COMPASS - Sens
A10: =IF(B10="","","111") | D10: =IF(C10="","",VLOOKUP(MONTH(C10),BDD!$A$5:$B$16,2,FALSE)) | I10: BERTO METRO
A11: =IF(B11="","","111") | D11: =IF(C11="","",VLOOKUP(MONTH(C11),BDD!$A$5:$B$16,2,FALSE))
A12: =IF(B12="","","111") | D12: =IF(C12="","",VLOOKUP(MONTH(C12),BDD!$A$5:$B$16,2,FALSE))
A13: =IF(B13="","","111") | D13: =IF(C13="","",VLOOKUP(MONTH(C13),BDD!$A$5:$B$16,2,FALSE))
A14: =IF(B14="","","111") | D14: =IF(C14="","",VLOOKUP(MONTH(C14),BDD!$A$5:$B$16,2,FALSE))
A15: =IF(B15="","","111") | D15: =IF(C15="","",VLOOKUP(MONTH(C15),BDD!$A$5:$B$16,2,FALSE))
A16: =IF(B16="","","111") | D16: =IF(C16="","",VLOOKUP(MONTH(C16),BDD!$A$5:$B$16,2,FALSE))
A17: =IF(B17="","","111") | D17: =IF(C17="","",VLOOKUP(MONTH(C17),BDD!$A$5:$B$16,2,FALSE))
A18: =IF(B18="","","111") | D18: =IF(C18="","",VLOOKUP(MONTH(C18),BDD!$A$5:$B$16,2,FALSE))
A19: =IF(B19="","","111") | D19: =IF(C19="","",VLOOKUP(MONTH(C19),BDD!$A$5:$B$16,2,FALSE))
A20: =IF(B20="","","111") | D20: =IF(C20="","",VLOOKUP(MONTH(C20),BDD!$A$5:$B$16,2,FALSE))
A21: =IF(B21="","","111") | D21: =IF(C21="","",VLOOKUP(MONTH(C21),BDD!$A$5:$B$16,2,FALSE))
A22: =IF(B22="","","111") | D22: =IF(C22="","",VLOOKUP(MONTH(C22),BDD!$A$5:$B$16,2,FALSE))
... A1003: =IF(B1003="","","111") | D1003: =IF(C1003="","",VLOOKUP(MONTH(C1003),BDD!$A$5:$B$16,2,FALSE))

Sheet 114
A3: SYNTHESES DE PRESTATIONS ANNEMASSE | I3: ELRES MARIGNIER
I4: ELIOR EVIAN
I5: SODEXO THONON
I6: SODEXO VILLE LA GRAND
A7: Agence | B7: Client | C7: Date de rendez vous | D7: Mois | E7: Nouveau client | I7: SOGERES CLUSES
A8: =IF(B8="","","114") | D8: =IF(C8="","",VLOOKUP(MONTH(C8),BDD!$A$5:$B$16,2,FALSE)) | I8: DAVIGEL ST PIERRE
A9: =IF(B9="","","114") | D9: =IF(C9="","",VLOOKUP(MONTH(C9),BDD!$A$5:$B$16,2,FALSE)) | I9: SAVEURS D ANTOINE
A10: =IF(B10="","","114") | D10: =IF(C10="","",VLOOKUP(MONTH(C10),BDD!$A$5:$B$16,2,FALSE)) | I10: POMONA TERRE AZUR
A11: =IF(B11="","","114") | D11: =IF(C11="","",VLOOKUP(MONTH(C11),BDD!$A$5:$B$16,2,FALSE)) | I11: SODEXO PASSY
A12: =IF(B12="","","114") | D12: =IF(C12="","",VLOOKUP(MONTH(C12),BDD!$A$5:$B$16,2,FALSE))
A13: =IF(B13="","","114") | D13: =IF(C13="","",VLOOKUP(MONTH(C13),BDD!$A$5:$B$16,2,FALSE))
A14: =IF(B14="","","114") | D14: =IF(C14="","",VLOOKUP(MONTH(C14),BDD!$A$5:$B$16,2,FALSE))
A15: =IF(B15="","","114") | D15: =IF(C15="","",VLOOKUP(MONTH(C15),BDD!$A$5:$B$16,2,FALSE))
A16: =IF(B16="","","114") | D16: =IF(C16="","",VLOOKUP(MONTH(C16),BDD!$A$5:$B$16,2,FALSE))
A17: =IF(B17="","","114") | D17: =IF(C17="","",VLOOKUP(MONTH(C17),BDD!$A$5:$B$16,2,FALSE))
A18: =IF(B18="","","114") | D18: =IF(C18="","",VLOOKUP(MONTH(C18),BDD!$A$5:$B$16,2,FALSE))
A19: =IF(B19="","","114") | D19: =IF(C19="","",VLOOKUP(MONTH(C19),BDD!$A$5:$B$16,2,FALSE))
A20: =IF(B20="","","114") | D20: =IF(C20="","",VLOOKUP(MONTH(C20),BDD!$A$5:$B$16,2,FALSE))
A21: =IF(B21="","","114") | D21: =IF(C21="","",VLOOKUP(MONTH(C21),BDD!$A$5:$B$16,2,FALSE))
A22: =IF(B22="","","114") | D22: =IF(C22="","",VLOOKUP(MONTH(C22),BDD!$A$5:$B$16,2,FALSE))
A23: =IF(B23="","","114") | D23: =IF(C23="","",VLOOKUP(MONTH(C23),BDD!$A$5:$B$16,2,FALSE))
... A1003: =IF(B1003="","","114") | D1003: =IF(C1003="","",VLOOKUP(MONTH(C1003),BDD!$A$5:$B$16,2,FALSE))

Sheet 186
A3: SYNTHESES DE PRESTATIONS MONTMARAULT | I3: COMPASS MONTLUCON
I4: COMPASS MOULINS
I5: THIRIET DOMERAT
I6: ETP COURNON
A7: Agence | B7: Client | C7: Date de rendez vous | D7: Mois | E7: Nouveau client | I7: ELIOR IMPHY
A8: =IF(B8="","","186") | D8: =IF(C8="","",VLOOKUP(MONTH(C8),BDD!$A$5:$B$16,2,FALSE)) | I8: SOGIREST
A9: =IF(B9="","","186") | D9: =IF(C9="","",VLOOKUP(MONTH(C9),BDD!$A$5:$B$16,2,FALSE))
A10: =IF(B10="","","186") | D10: =IF(C10="","",VLOOKUP(MONTH(C10),BDD!$A$5:$B$16,2,FALSE))
A11: =IF(B11="","","186") | D11: =IF(C11="","",VLOOKUP(MONTH(C11),BDD!$A$5:$B$16,2,FALSE))
A12: =IF(B12="","","186") | D12: =IF(C12="","",VLOOKUP(MONTH(C12),BDD!$A$5:$B$16,2,FALSE))
A13: =IF(B13="","","186") | D13: =IF(C13="","",VLOOKUP(MONTH(C13),BDD!$A$5:$B$16,2,FALSE))
A14: =IF(B14="","","186") | D14: =IF(C14="","",VLOOKUP(MONTH(C14),BDD!$A$5:$B$16,2,FALSE))
A15: =IF(B15="","","186") | D15: =IF(C15="","",VLOOKUP(MONTH(C15),BDD!$A$5:$B$16,2,FALSE))
A16: =IF(B16="","","186") | D16: =IF(C16="","",VLOOKUP(MONTH(C16),BDD!$A$5:$B$16,2,FALSE))
A17: =IF(B17="","","186") | D17: =IF(C17="","",VLOOKUP(MONTH(C17),BDD!$A$5:$B$16,2,FALSE))
A18: =IF(B18="","","186") | D18: =IF(C18="","",VLOOKUP(MONTH(C18),BDD!$A$5:$B$16,2,FALSE))
A19: =IF(B19="","","186") | D19: =IF(C19="","",VLOOKUP(MONTH(C19),BDD!$A$5:$B$16,2,FALSE))
A20: =IF(B20="","","186") | D20: =IF(C20="","",VLOOKUP(MONTH(C20),BDD!$A$5:$B$16,2,FALSE))
... A1003: =IF(B1003="","","186") | D1003: =IF(C1003="","",VLOOKUP(MONTH(C1003),BDD!$A$5:$B$16,2,FALSE))

Sheet 196
A3: SYNTHESES DE PRESTATIONS ALBERTVILLE | I3: POMONA TA MOUTIERS
I4: POMONA PPF
I5: BRAKE CHAMOUSSET
I6: SODEXO SFRS ALBERTVILLE
A7: Agence | B7: Client | C7: Date de rendez vous | D7: Mois | E7: Nouveau client | I7: SODEXO SFS LES ANCOLIES
A8: =IF(B8="","","196") | D8: =IF(C8="","",VLOOKUP(MONTH(C8),BDD!$A$5:$B$16,2,FALSE))
A9: =IF(B9="","","196") | D9: =IF(C9="","",VLOOKUP(MONTH(C9),BDD!$A$5:$B$16,2,FALSE))
A10: =IF(B10="","","196") | D10: =IF(C10="","",VLOOKUP(MONTH(C10),BDD!$A$5:$B$16,2,FALSE))
A11: =IF(B11="","","196") | D11: =IF(C11="","",VLOOKUP(MONTH(C11),BDD!$A$5:$B$16,2,FALSE))
A12: =IF(B12="","","196") | D12: =IF(C12="","",VLOOKUP(MONTH(C12),BDD!$A$5:$B$16,2,FALSE))
A13: =IF(B13="","","196") | D13: =IF(C13="","",VLOOKUP(MONTH(C13),BDD!$A$5:$B$16,2,FALSE))
A14: =IF(B14="","","196") | D14: =IF(C14="","",VLOOKUP(MONTH(C14),BDD!$A$5:$B$16,2,FALSE))
A15: =IF(B15="","","196") | D15: =IF(C15="","",VLOOKUP(MONTH(C15),BDD!$A$5:$B$16,2,FALSE))
A16: =IF(B16="","","196") | D16: =IF(C16="","",VLOOKUP(MONTH(C16),BDD!$A$5:$B$16,2,FALSE))
A17: =IF(B17="","","196") | D17: =IF(C17="","",VLOOKUP(MONTH(C17),BDD!$A$5:$B$16,2,FALSE))
A18: =IF(B18="","","196") | D18: =IF(C18="","",VLOOKUP(MONTH(C18),BDD!$A$5:$B$16,2,FALSE))
A19: =IF(B19="","","196") | D19: =IF(C19="","",VLOOKUP(MONTH(C19),BDD!$A$5:$B$16,2,FALSE))
... A1003: =IF(B1003="","","196") | D1003: =IF(C1003="","",VLOOKUP(MONTH(C1003),BDD!$A$5:$B$16,2,FALSE))

Sheet 213
A3: SYNTHESES DE PRESTATIONS BRIGNAIS | I3: ELIOR CRAPONNE (0006397)
I4: ELIOR ENTREPRISE (6094185)
I5: ELIOR FEYZIN (5014743)
I6: ELIOR ST PIERRE LA PALUD (6061041)
A7: Agence | B7: Client | C7: Date de rendez vous | D7: Mois | E7: Nouveau client | I7: ELIOR MARCY L'ETOILE (5001552)
A8: =IF(B8="","","213") | D8: =IF(C8="","",VLOOKUP(MONTH(C8),BDD!$A$5:$B$16,2,FALSE)) | I8: ELIOR SAINT FONS (6005793)
A9: =IF(B9="","","213") | D9: =IF(C9="","",VLOOKUP(MONTH(C9),BDD!$A$5:$B$16,2,FALSE)) | I9: ELRES LYON 4° (6060578)
A10: =IF(B10="","","213") | D10: =IF(C10="","",VLOOKUP(MONTH(C10),BDD!$A$5:$B$16,2,FALSE)) | I10: ELRES LIMONEST (6029873)
A11: =IF(B11="","","213") | D11: =IF(C11="","",VLOOKUP(MONTH(C11),BDD!$A$5:$B$16,2,FALSE)) | I11: ELRES CTRE ST MARC LYON (1015600)
A12: =IF(B12="","","213") | D12: =IF(C12="","",VLOOKUP(MONTH(C12),BDD!$A$5:$B$16,2,FALSE)) | I12: ELRES NEUVILLE SUR SAONE (0003101)
A13: =IF(B13="","","213") | D13: =IF(C13="","",VLOOKUP(MONTH(C13),BDD!$A$5:$B$16,2,FALSE)) | I13: ELRES OULLINS (5013740)
A14: =IF(B14="","","213") | D14: =IF(C14="","",VLOOKUP(MONTH(C14),BDD!$A$5:$B$16,2,FALSE)) | I14: ELRES REVEL TOURDAN (5022466)
A15: =IF(B15="","","213") | D15: =IF(C15="","",VLOOKUP(MONTH(C15),BDD!$A$5:$B$16,2,FALSE)) | I15: ELRES SAINT DIDIER AU MONT D'OR (6075532)
A16: =IF(B16="","","213") | D16: =IF(C16="","",VLOOKUP(MONTH(C16),BDD!$A$5:$B$16,2,FALSE)) | I16: ELRES TERNAY (1006000 / 6081972)
A17: =IF(B17="","","213") | D17: =IF(C17="","",VLOOKUP(MONTH(C17),BDD!$A$5:$B$16,2,FALSE)) | I17: BERTO (6025936)
A18: =IF(B18="","","213") | D18: =IF(C18="","",VLOOKUP(MONTH(C18),BDD!$A$5:$B$16,2,FALSE)) | I18: SODEXO CHARTREUX LYON 1° (0005356)
A19: =IF(B19="","","213") | D19: =IF(C19="","",VLOOKUP(MONTH(C19),BDD!$A$5:$B$16,2,FALSE)) | I19: 07SODEXO MSD VACCINS LYON 07 (6063562)
... A28: =IF(B28="","","213") | D28: =IF(C28="","",VLOOKUP(MONTH(C28),BDD!$A$5:$B$16,2,FALSE)) | I28: THIRIET PIERRE-BENITE (5008940)
A29: =IF(B29="","","213") | D29: =IF(C29="","",VLOOKUP(MONTH(C29),BDD!$A$5:$B$16,2,FALSE))
A30: =IF(B30="","","213") | D30: =IF(C30="","",VLOOKUP(MONTH(C30),BDD!$A$5:$B$16,2,FALSE))
A31: =IF(B31="","","213") | D31: =IF(C31="","",VLOOKUP(MONTH(C31),BDD!$A$5:$B$16,2,FALSE))
A32: =IF(B32="","","213") | D32: =IF(C32="","",VLOOKUP(MONTH(C32),BDD!$A$5:$B$16,2,FALSE))
A33: =IF(B33="","","213") | D33: =IF(C33="","",VLOOKUP(MONTH(C33),BDD!$A$5:$B$16,2,FALSE))
A34: =IF(B34="","","213") | D34: =IF(C34="","",VLOOKUP(MONTH(C34),BDD!$A$5:$B$16,2,FALSE))
A35: =IF(B35="","","213") | D35: =IF(C35="","",VLOOKUP(MONTH(C35),BDD!$A$5:$B$16,2,FALSE))
A36: =IF(B36="","","213") | D36: =IF(C36="","",VLOOKUP(MONTH(C36),BDD!$A$5:$B$16,2,FALSE))
A37: =IF(B37="","","213") | D37: =IF(C37="","",VLOOKUP(MONTH(C37),BDD!$A$5:$B$16,2,FALSE))
A38: =IF(B38="","","213") | D38: =IF(C38="","",VLOOKUP(MONTH(C38),BDD!$A$5:$B$16,2,FALSE))
A39: =IF(B39="","","213") | D39: =IF(C39="","",VLOOKUP(MONTH(C39),BDD!$A$5:$B$16,2,FALSE))
A40: =IF(B40="","","213") | D40: =IF(C40="","",VLOOKUP(MONTH(C40),BDD!$A$5:$B$16,2,FALSE))
... A1003: =IF(B1003="","","213") | D1003: =IF(C1003="","",VLOOKUP(MONTH(C1003),BDD!$A$5:$B$16,2,FALSE))

Sheet 219
A3: SYNTHESES DE PRESTATIONS LONS LE SAUNIER | I3: DAVIGEL
I4: THIRIET
I5: UNL EURODISTRIBUTION GUILLIN
A7: Agence | B7: Client | C7: Date de rendez vous | D7: Mois | E7: Nouveau client
A8: =IF(B8="","","219") | D8: =IF(C8="","",VLOOKUP(MONTH(C8),BDD!$A$5:$B$16,2,FALSE))
A9: =IF(B9="","","219") | D9: =IF(C9="","",VLOOKUP(MONTH(C9),BDD!$A$5:$B$16,2,FALSE))
A10: =IF(B10="","","219") | D10: =IF(C10="","",VLOOKUP(MONTH(C10),BDD!$A$5:$B$16,2,FALSE))
A11: =IF(B11="","","219") | D11: =IF(C11="","",VLOOKUP(MONTH(C11),BDD!$A$5:$B$16,2,FALSE))
A12: =IF(B12="","","219") | D12: =IF(C12="","",VLOOKUP(MONTH(C12),BDD!$A$5:$B$16,2,FALSE))
A13: =IF(B13="","","219") | D13: =IF(C13="","",VLOOKUP(MONTH(C13),BDD!$A$5:$B$16,2,FALSE))
A14: =IF(B14="","","219") | D14: =IF(C14="","",VLOOKUP(MONTH(C14),BDD!$A$5:$B$16,2,FALSE))
A15: =IF(B15="","","219") | D15: =IF(C15="","",VLOOKUP(MONTH(C15),BDD!$A$5:$B$16,2,FALSE))
A16: =IF(B16="","","219") | D16: =IF(C16="","",VLOOKUP(MONTH(C16),BDD!$A$5:$B$16,2,FALSE))
A17: =IF(B17="","","219") | D17: =IF(C17="","",VLOOKUP(MONTH(C17),BDD!$A$5:$B$16,2,FALSE))
A18: =IF(B18="","","219") | D18: =IF(C18="","",VLOOKUP(MONTH(C18),BDD!$A$5:$B$16,2,FALSE))
A19: =IF(B19="","","219") | D19: =IF(C19="","",VLOOKUP(MONTH(C19),BDD!$A$5:$B$16,2,FALSE))
... A1003: =IF(B1003="","","219") | D1003: =IF(C1003="","",VLOOKUP(MONTH(C1003),BDD!$A$5:$B$16,2,FALSE))

Sheet 251
A3: SYNTHESES DE PRESTATIONS BLOIS | I3: API SELLES SUR CHER
I4: API LA CHAUSSE ST VICTOR
I5: API LES BOIS BLANC (mad 6/16)
I6: BRAKE
A7: Agence | B7: Client | C7: Date de rendez vous | D7: Mois | E7: Nouveau client | I7: ELRES
A8: =IF(B8="","","251") | D8: =IF(C8="","",VLOOKUP(MONTH(C8),BDD!$A$5:$B$16,2,FALSE)) | I8: SODEXO DELPHI BLOIS
A9: =IF(B9="","","251") | D9: =IF(C9="","",VLOOKUP(MONTH(C9),BDD!$A$5:$B$16,2,FALSE)) | I9: SOGERES LYCEE LA PROVIDENCE BLOIS
A10: =IF(B10="","","251") | D10: =IF(C10="","",VLOOKUP(MONTH(C10),BDD!$A$5:$B$16,2,FALSE)) | I10: POMONA EPISAVEURS
A11: =IF(B11="","","251") | D11: =IF(C11="","",VLOOKUP(MONTH(C11),BDD!$A$5:$B$16,2,FALSE)) | I11: SODEXO BLOIS
A12: =IF(B12="","","251") | D12: =IF(C12="","",VLOOKUP(MONTH(C12),BDD!$A$5:$B$16,2,FALSE))
A13: =IF(B13="","","251") | D13: =IF(C13="","",VLOOKUP(MONTH(C13),BDD!$A$5:$B$16,2,FALSE))
A14: =IF(B14="","","251") | D14: =IF(C14="","",VLOOKUP(MONTH(C14),BDD!$A$5:$B$16,2,FALSE))
A15: =IF(B15="","","251") | D15: =IF(C15="","",VLOOKUP(MONTH(C15),BDD!$A$5:$B$16,2,FALSE))
A16: =IF(B16="","","251") | D16: =IF(C16="","",VLOOKUP(MONTH(C16),BDD!$A$5:$B$16,2,FALSE))
A17: =IF(B17="","","251") | D17: =IF(C17="","",VLOOKUP(MONTH(C17),BDD!$A$5:$B$16,2,FALSE))
A18: =IF(B18="","","251") | D18: =IF(C18="","",VLOOKUP(MONTH(C18),BDD!$A$5:$B$16,2,FALSE))
A19: =IF(B19="","","251") | D19: =IF(C19="","",VLOOKUP(MONTH(C19),BDD!$A$5:$B$16,2,FALSE))
A20: =IF(B20="","","251") | D20: =IF(C20="","",VLOOKUP(MONTH(C20),BDD!$A$5:$B$16,2,FALSE))
A21: =IF(B21="","","251") | D21: =IF(C21="","",VLOOKUP(MONTH(C21),BDD!$A$5:$B$16,2,FALSE))
A22: =IF(B22="","","251") | D22: =IF(C22="","",VLOOKUP(MONTH(C22),BDD!$A$5:$B$16,2,FALSE))
A23: =IF(B23="","","251") | D23: =IF(C23="","",VLOOKUP(MONTH(C23),BDD!$A$5:$B$16,2,FALSE))
... A1003: =IF(B1003="","","251") | D1003: =IF(C1003="","",VLOOKUP(MONTH(C1003),BDD!$A$5:$B$16,2,FALSE))
