Workbook
Name _________F06: {1,2,3,4,5,6,7}
Name _________r: {1;2;3;4;5;6}
Name _______F06: {1,2,3,4,5,6,7}
Name _______r: {1;2;3;4;5;6}
Name _____F06: {1,2,3,4,5,6,7}
Name _____r: {1;2;3;4;5;6}
Name ____F06: {1,2,3,4,5,6,7}
Name ____r: {1;2;3;4;5;6}
Name ___F06: {1,2,3,4,5,6,7}
Name ___r: {1;2;3;4;5;6}
Name __F06: {1,2,3,4,5,6,7}
Name __r: {1;2;3;4;5;6}
Name _F06: {1,2,3,4,5,6,7}
Name _r: {1;2;3;4;5;6}
Name A: {1,2,3,4,5,6,7}
Name calendarRange: [2]OT!$A$6:$IV$43
Name données: 'Tableau de Suivi'!$A$617:$P$621
Name F09b: {1,2,3,4,5,6,7}
Name MonFirst: [3]Settings!$G$13
Name month: [2]OT!$C$3
Name monthName: [3]Settings!$G$6
Name monthNames: [3]Settings!$C$5:$C$16
Name OLE_LINK1: 'Tableau de Suivi'!#REF!
Name Per: {1,2,3,4,5,6,7}
Name prout: {1,2,3,4,5,6,7}
Name q: {1,2,3,4,5,6,7}
Name valuevx: 42.314159
Name w: {1,2,3,4,5,6,7}
Name weekday: {1,2,3,4,5,6,7}
Name weekend_dates: [1]Calendar!$A$38,[1]Calendar!$A$32,[1]Calendar!$A$26,[1]Calendar!$A$20,[1]Calendar!$A$14,[1]Calendar!$A$8,[1]Calendar!$M$8,[1]Calendar!$M$14,[1]Calendar!$M$20,[1]Calendar!$M$26,[1]Calendar!$M$32
Name WeekNo: {1;2;3;4;5;6}
Name year: [2]OT!$F$3

Sheet Tableau de Suivi
S1: FICHE DE RELEVE DES PROBLEMES EN PRODUCTION | AK1: =ISLOGICAL(AG5) -> FALSE
L2: Règle 2016 pour déclenchement action
L3: Remontée au Fournisseur ou Client si l'impact est supérieur à 3% de la commande livrée par celui-ci. Pour la VMI et le lancement d'une FDNQ, impacter la note dans l'évaluation du fournisseur, Si le code défaut est le thème "administratif" = 100%, Aucun blocage du produit
A4: N° | B4: Date | C4: Mois | D4: Année | E4: Réf. AX | F4: PU | G4: Sérial Number | H4: Service | I4: Client | J4: MO / HMO | K4: M.O. = Fournisseur | L4: Produit | M4: Qté impactée | N4: Quantité Livrée | O4: Quantité en stock | P4: Poucentage | Q4: Temps perdu en Production | R4: Temps Passé Qualité | S4: Description du Problème par l'émetteur de la fiche. | T4: Code Défaut | U4: Criticité | V4: Libéllé | W4: Vérif lot stock | X4: Echantillonnage | Y4: Nb Défaut max Refusé | AA4: Urgence prod. Chiffrée | AB4: Urgence prod. | AC4: Quantité concernée | AD4: Criticité | AE4: Valorisation Criticité | AF4: Récurrence | AG4: Concaténation | AH4: Conduite à tenir | AI4: N° Rapport Qualité ou FDNQ | AJ4: Remise SCL ou … | AK4: Action | AL4: Date de cloture | AM4: Délai de traitement | AN4: Effectif d'échantillon (n) du plan simple | AO4: C4
A5: 1 | B5: 41642 | C5: =MONTH(B5) -> 1 | D5: =YEAR(B5) -> 2014 | E5: 1254874 | F5: 29189 | G5: 30070 | H5: Condt. | I5: OT | J5: MO | K5: Tompla | L5: OT Env 114x229 F45x100 BDP | M5: 500 | N5: 200000 | O5: 21000 | P5: =IF(OR($T5="b4",$T5="b6",$T5="c8",$T5="c11",$T5="c10",$T5="c12",$T5="c14"),1,($M5/($N5))) -> 0.0025 | Q5: 0.041666667 | R5: 0.034722222 | S5: Le coté gauche de l'enveloppe n'est pas collé. | T5: C4 | U5: =+LEFT(T5,1) -> C | V5: =VLOOKUP(T5,Codes!A$9:B$51,2,FALSE) -> Absence ou manque de colle sur le produit | W5: 0 | X5: =IF(AND((O5>=2),(O5<=8)),"A",IF(AND((O5>=9),(O5<=15)),"B",IF(AND((O5>=16),(O5<=20)),"C",IF(AND((O5>=21),(O5<=50)),"D",IF(AND((O5>=51),(O5<=90)),"E",IF(AND((O5>=91),(O5<=150)),"F",IF(AND((O5>=151),(O5<=280)),"G"," ")))))))&IF(AND((O5>=281),(O5<=500)),"H",IF(AND((O5>=501),(O5<=1200)),"J",IF(AND((O5>=1201),(O5<=3200)),"K",IF(AND((O5>=3201),(O5<=10000)),"L",IF(AND((O5>=10001),(O5<=35000)),"M",IF(AND((O5>=35001),(O5<=150000)),"N",IF(AND((O5>=150001),(O5<=500000)),"P"," ")))))))&IF(AND(O5>=500001),"Q"," ") -> M | Y5: =IF(X5="M",15,"") | Z5: oui/non | AA5: Si oui 3 sinon 1 | AB5: =IF((AA5)<=2,"faible","fort") -> fort | AC5: =IF((P5)<=3%,"faible","fort") -> faible | AD5: =IF(AND(AB5="Faible",AC5="Faible"),"Faible",IF(AND(AB5="Faible",AC5="Faible"),"Fort",IF(AND(AB5="Faible",AC5="Fort"),"Faible",IF(AND(AB5="Faible",AC5="Fort"),"Fort",IF(AND(AB5="Fort",AC5="Faible"),"Fort",IF(AND(AB5="Fort",AC5="Faible"),"Fort",IF(AND(AB5="Fort",AC5="Fort"),"Fort","Fort"))))))) -> Fort | AE5: =IF(AD5="Faible", "2", IF(AD5="Fort","5")) -> 5 | AF5: =COUNTIF($AG$5:$AG$1048576,AG5) -> 2 | AG5: =CONCATENATE(D5,E5,T5) -> 20141254874C4 | AH5: =IF(AL5<>0,"Action cloturée",IF(AND(J5="HMO",AD5="Faible"),"",IF(AND(J5="HMO",AD5="Fort"),"Informer immédiatement le client pour connaitre la marche à suivre",IF(AND(J5="MO",AD5="Faible"),"",IF(AND(J5="MO",AD5="Fort"),"Tri par agence d'intérim et/ou fournisseur et FDNQ",""))))) -> Tri par agence d'intérim et/ou fournisseur et FDNQ | AI5: si | AJ5: 41647 | AK5: Contröle sur étagère du stock "RAS" | AM5: =IF(AL5<>0,NETWORKDAYS(B5,AL5),"")
A6: 2 | B6: 41646 | C6: =MONTH(B6) -> 1 | D6: =YEAR(B6) -> 2014 | E6: 1233115 | F6: 29610 | G6: 30692 | H6: Mailers | I6: OT | J6: MO | K6: GPV | L6: OT Enveloppe 115x225 F50x100 | M6: 200 | N6: 500000 | O6: 478000 | P6: =IF(OR($T6="b4",$T6="b6",$T6="c8",$T6="c11",$T6="c10",$T6="c12",$T6="c14"),1,($M6/($N6))) -> 0.0004 | Q6: 0.083333333 | R6: 0.034722222 | S6: Les enveloppes sont ouvertes sur le coté gauche, elles étaient toutes à la suite dans le carton 498. | T6: C4 | U6: =+LEFT(T6,1) -> C | V6: =VLOOKUP(T6,Codes!A$9:B$51,2,FALSE) -> Absence ou manque de colle sur le produit | X6: =IF(AND((O6>=2),(O6<=8)),"A",IF(AND((O6>=9),(O6<=15)),"B",IF(AND((O6>=16),(O6<=20)),"C",IF(AND((O6>=21),(O6<=50)),"D",IF(AND((O6>=51),(O6<=90)),"E",IF(AND((O6>=91),(O6<=150)),"F",IF(AND((O6>=151),(O6<=280)),"G"," ")))))))&IF(AND((O6>=281),(O6<=500)),"H",IF(AND((O6>=501),(O6<=1200)),"J",IF(AND((O6>=1201),(O6<=3200)),"K",IF(AND((O6>=3201),(O6<=10000)),"L",IF(AND((O6>=10001),(O6<=35000)),"M",IF(AND((O6>=35001),(O6<=150000)),"N",IF(AND((O6>=150001),(O6<=500000)),"P"," ")))))))&IF(AND(O6>=500001),"Q"," ") -> P | Y6: =IF(X6="M",15," ") | AA6: 3 | AB6: =IF((AA6)<=2,"faible","fort") -> fort | AC6: =IF((P6)<=3%,"faible","fort") -> faible | AD6: =IF(AND(AB6="Faible",AC6="Faible"),"Faible",IF(AND(AB6="Faible",AC6="Faible"),"Fort",IF(AND(AB6="Faible",AC6="Fort"),"Faible",IF(AND(AB6="Faible",AC6="Fort"),"Fort",IF(AND(AB6="Fort",AC6="Faible"),"Fort",IF(AND(AB6="Fort",AC6="Faible"),"Fort",IF(AND(AB6="Fort",AC6="Fort"),"Fort","Fort"))))))) -> Fort | AE6: =IF(AD6="Faible", "2", IF(AD6="Fort","5")) -> 5 | AF6: =COUNTIF($AG$5:$AG$1048576,AG6) -> 1 | AG6: =CONCATENATE(D6,E6,T6) -> 20141233115C4 | AH6: =IF(AL6<>0,"Action cloturée",IF(AND(J6="HMO",AD6="Faible"),"",IF(AND(J6="HMO",AD6="Fort"),"Informer immédiatement le client pour connaitre la marche à suivre",IF(AND(J6="MO",AD6="Faible"),"",IF(AND(J6="MO",AD6="Fort"),"Tri par agence d'intérim et/ou fournisseur et FDNQ",""))))) -> Tri par agence d'intérim et/ou fournisseur et FDNQ | AJ6: 41647 | AK6: Contrôle sur étagère du stock tampon "RAS" | AM6: =IF(AL6<>0,NETWORKDAYS(B6,AL6),"")
A7: 3 | B7: 41648 | C7: =MONTH(B7) -> 1 | D7: =YEAR(B7) -> 2014 | E7: 1058653 | F7: 28145 | G7: 28675 | H7: Condt. | I7: SG | J7: HMO | L7: CSG COFFRET VISA INFINITE DIST | M7: 2 | N7: 8000 | O7: 4760 | P7: =IF(OR($T7="b4",$T7="b6",$T7="c8",$T7="c11",$T7="c10",$T7="c12",$T7="c14"),1,($M7/($N7))) -> 0.00025 | Q7: 0.0069444444 | R7: 0.0069444444 | S7: La carte ne tiend pas dans l'emplacement prévu à cet effet | T7: B2 | U7: =+LEFT(T7,1) -> B | V7: =VLOOKUP(T7,Codes!A$9:B$51,2,FALSE) -> Produit inadapté au processus | X7: =IF(AND((O7>=2),(O7<=8)),"A",IF(AND((O7>=9),(O7<=15)),"B",IF(AND((O7>=16),(O7<=20)),"C",IF(AND((O7>=21),(O7<=50)),"D",IF(AND((O7>=51),(O7<=90)),"E",IF(AND((O7>=91),(O7<=150)),"F",IF(AND((O7>=151),(O7<=280)),"G"," ")))))))&IF(AND((O7>=281),(O7<=500)),"H",IF(AND((O7>=501),(O7<=1200)),"J",IF(AND((O7>=1201),(O7<=3200)),"K",IF(AND((O7>=3201),(O7<=10000)),"L",IF(AND((O7>=10001),(O7<=35000)),"M",IF(AND((O7>=35001),(O7<=150000)),"N",IF(AND((O7>=150001),(O7<=500000)),"P"," ")))))))&IF(AND(O7>=500001),"Q"," ") -> L | Y7: =IF(X7="M",15," ") | AA7: 3 | AB7: =IF((AA7)<=2,"faible","fort") -> fort | AC7: =IF((P7)<=3%,"faible","fort") -> faible | AD7: =IF(AND(AB7="Faible",AC7="Faible"),"Faible",IF(AND(AB7="Faible",AC7="Faible"),"Fort",IF(AND(AB7="Faible",AC7="Fort"),"Faible",IF(AND(AB7="Faible",AC7="Fort"),"Fort",IF(AND(AB7="Fort",AC7="Faible"),"Fort",IF(AND(AB7="Fort",AC7="Faible"),"Fort",IF(AND(AB7="Fort",AC7="Fort"),"Fort","Fort"))))))) -> Fort | AE7: =IF(AD7="Faible", "2", IF(AD7="Fort","5")) -> 5 | AF7: =COUNTIF($AG$5:$AG$1048576,AG7) -> 1 | AG7: =CONCATENATE(D7,E7,T7) -> 20141058653B2 | AH7: =IF(AL7<>0,"Action cloturée",IF(AND(J7="HMO",AD7="Faible"),"",IF(AND(J7="HMO",AD7="Fort"),"Informer immédiatement le client pour connaitre la marche à suivre",IF(AND(J7="MO",AD7="Faible"),"",IF(AND(J7="MO",AD7="Fort"),"Tri par agence d'intérim et/ou fournisseur et FDNQ",""))))) -> Informer immédiatement le client pour connaitre la marche à suivre | AJ7: 41648 | AK7: Contrôle sur étagère RAS | AM7: =IF(AL7<>0,NETWORKDAYS(B7,AL7),"")
A8: 4 | B8: 41648 | C8: =MONTH(B8) -> 1 | D8: =YEAR(B8) -> 2014 | E8: 1058722 | F8: 29510 | G8: 30253 | H8: Condt. | I8: SG | J8: HMO | L8: CSG POCH 1ER CRE 130002-135502 | M8: 6 | N8: 6480 | O8: 3360 | P8: =IF(OR($T8="b4",$T8="b6",$T8="c8",$T8="c11",$T8="c10",$T8="c12",$T8="c14"),1,($M8/($N8))) -> 0.00092592593 | Q8: 0.0069444444 | R8: 0.0069444444 | S8: Pas de colle | T8: A1 | U8: =+LEFT(T8,1) -> A | V8: =VLOOKUP(T8,Codes!A$9:B$51,2,FALSE) -> Absence ou manque de colle sur le produit | X8: =IF(AND((O8>=2),(O8<=8)),"A",IF(AND((O8>=9),(O8<=15)),"B",IF(AND((O8>=16),(O8<=20)),"C",IF(AND((O8>=21),(O8<=50)),"D",IF(AND((O8>=51),(O8<=90)),"E",IF(AND((O8>=91),(O8<=150)),"F",IF(AND((O8>=151),(O8<=280)),"G"," ")))))))&IF(AND((O8>=281),(O8<=500)),"H",IF(AND((O8>=501),(O8<=1200)),"J",IF(AND((O8>=1201),(O8<=3200)),"K",IF(AND((O8>=3201),(O8<=10000)),"L",IF(AND((O8>=10001),(O8<=35000)),"M",IF(AND((O8>=35001),(O8<=150000)),"N",IF(AND((O8>=150001),(O8<=500000)),"P"," ")))))))&IF(AND(O8>=500001),"Q"," ") -> L | Y8: =IF(X8="M",15," ") | AA8: 2 | AB8: =IF((AA8)<=2,"faible","fort") -> faible | AC8: =IF((P8)<=3%,"faible","fort") -> faible | AD8: =IF(AND(AB8="Faible",AC8="Faible"),"Faible",IF(AND(AB8="Faible",AC8="Faible"),"Fort",IF(AND(AB8="Faible",AC8="Fort"),"Faible",IF(AND(AB8="Faible",AC8="Fort"),"Fort",IF(AND(AB8="Fort",AC8="Faible"),"Fort",IF(AND(AB8="Fort",AC8="Faible"),"Fort",IF(AND(AB8="Fort",AC8="Fort"),"Fort","Fort"))))))) -> Faible | AE8: =IF(AD8="Faible", "2", IF(AD8="Fort","5")) -> 2 | AF8: =COUNTIF($AG$5:$AG$1048576,AG8) -> 1 | AG8: =CONCATENATE(D8,E8,T8) -> 20141058722A1 | AH8: =IF(AL8<>0,"Action cloturée",IF(AND(J8="HMO",AD8="Faible"),"",IF(AND(J8="HMO",AD8="Fort"),"Informer immédiatement le client pour connaitre la marche à suivre",IF(AND(J8="MO",AD8="Faible"),"",IF(AND(J8="MO",AD8="Fort"),"Tri par agence d'intérim et/ou fournisseur et FDNQ",""))))) | AJ8: 41648 | AK8: Contrôle sur étagère RAS | AM8: =IF(AL8<>0,NETWORKDAYS(B8,AL8),"")
A9: 5 | B9: 41653 | C9: =MONTH(B9) -> 1 | D9: =YEAR(B9) -> 2014 | E9: 1051704 | F9: 25657 | G9: 26105 | H9: Production | I9: Crédipar | J9: MO | K9: OT TEWKS | L9: CREDIPAR CARTE AMEX CITROEN Classique | M9: 15 | N9: 186595 | O9: 62072 | P9: =IF(OR($T9="b4",$T9="b6",$T9="c8",$T9="c11",$T9="c10",$T9="c12",$T9="c14"),1,($M9/($N9))) -> 8.0388006e-05 | Q9: 0.010416667 | R9: 0.041666667 | S9: Carte creuse sous l'overlay (défaut support) | T9: A8 | U9: =+LEFT(T9,1) -> A | V9: =VLOOKUP(T9,Codes!A$9:B$51,2,FALSE) -> Produit inadapté au processus (tension ruban, etc…) | X9: =IF(AND((O9>=2),(O9<=8)),"A",IF(AND((O9>=9),(O9<=15)),"B",IF(AND((O9>=16),(O9<=20)),"C",IF(AND((O9>=21),(O9<=50)),"D",IF(AND((O9>=51),(O9<=90)),"E",IF(AND((O9>=91),(O9<=150)),"F",IF(AND((O9>=151),(O9<=280)),"G"," ")))))))&IF(AND((O9>=281),(O9<=500)),"H",IF(AND((O9>=501),(O9<=1200)),"J",IF(AND((O9>=1201),(O9<=3200)),"K",IF(AND((O9>=3201),(O9<=10000)),"L",IF(AND((O9>=10001),(O9<=35000)),"M",IF(AND((O9>=35001),(O9<=150000)),"N",IF(AND((O9>=150001),(O9<=500000)),"P"," ")))))))&IF(AND(O9>=500001),"Q"," ") -> N | Y9: =IF(X9="M",15," ") | AA9: 2 | AB9: =IF((AA9)<=2,"faible","fort") -> faible | AC9: =IF((P9)<=3%,"faible","fort") -> faible | AD9: =IF(AND(AB9="Faible",AC9="Faible"),"Faible",IF(AND(AB9="Faible",AC9="Faible"),"Fort",IF(AND(AB9="Faible",AC9="Fort"),"Faible",IF(AND(AB9="Faible",AC9="Fort"),"Fort",IF(AND(AB9="Fort",AC9="Faible"),"Fort",IF(AND(AB9="Fort",AC9="Faible"),"Fort",IF(AND(AB9="Fort",AC9="Fort"),"Fort","Fort"))))))) -> Faible | AE9: =IF(AD9="Faible", "2", IF(AD9="Fort","5")) -> 2 | AF9: =COUNTIF($AG$5:$AG$1048576,AG9) -> 1 | AG9: =CONCATENATE(D9,E9,T9) -> 20141051704A8 | AH9: =IF(AL9<>0,"Action cloturée",IF(AND(J9="HMO",AD9="Faible"),"",IF(AND(J9="HMO",AD9="Fort"),"Informer immédiatement le client pour connaitre la marche à suivre",IF(AND(J9="MO",AD9="Faible"),"",IF(AND(J9="MO",AD9="Fort"),"Tri par agence d'intérim et/ou fournisseur et FDNQ",""))))) -> Action cloturée | AJ9: 41653 | AK9: Contrôle de l'encours: 700 support RAS. Réf: barquette 003WR00083953-003SA00016949 du 26 et 27/04/13. Sérial N° C contrôleur A230. | AL9: 41685 | AM9: =IF(AL9<>0,NETWORKDAYS(B9,AL9),"") -> 24
A10: 6 | B10: 41654 | C10: =MONTH(B10) -> 1 | D10: =YEAR(B10) -> 2014 | E10: 1058588 | F10: 28390 | G10: 29578 | H10: Production | I10: OT | J10: MO | K10: COLUMBIA FRANCE SARL | L10: OT Ruban Ocra Noir (Par 10) | M10: 476 | N10: 300 | O10: 290 | P10: =IF(OR($T10="b4",$T10="b6",$T10="c8",$T10="c11",$T10="c10",$T10="c12",$T10="c14"),1,($M10/($N10))) -> 1.5866667 | Q10: 0.0069444444 | R10: 0.034722222 | S10: Qualité très médiocre du rendu sur la carte par rapport au fournisseur DATACARD | T10: A8 | U10: =+LEFT(T10,1) -> A | V10: =VLOOKUP(T10,Codes!A$9:B$51,2,FALSE) -> Produit inadapté au processus (tension ruban, etc…) | X10: =IF(AND((O10>=2),(O10<=8)),"A",IF(AND((O10>=9),(O10<=15)),"B",IF(AND((O10>=16),(O10<=20)),"C",IF(AND((O10>=21),(O10<=50)),"D",IF(AND((O10>=51),(O10<=90)),"E",IF(AND((O10>=91),(O10<=150)),"F",IF(AND((O10>=151),(O10<=280)),"G"," ")))))))&IF(AND((O10>=281),(O10<=500)),"H",IF(AND((O10>=501),(O10<=1200)),"J",IF(AND((O10>=1201),(O10<=3200)),"K",IF(AND((O10>=3201),(O10<=10000)),"L",IF(AND((O10>=10001),(O10<=35000)),"M",IF(AND((O10>=35001),(O10<=150000)),"N",IF(AND((O10>=150001),(O10<=500000)),"P"," ")))))))&IF(AND(O10>=500001),"Q"," ") -> H | Y10: =IF(X10="M",15," ") | AA10: 3 | AB10: =IF((AA10)<=2,"faible","fort") -> fort | AC10: =IF((P10)<=3%,"faible","fort") -> fort | AD10: =IF(AND(AB10="Faible",AC10="Faible"),"Faible",IF(AND(AB10="Faible",AC10="Faible"),"Fort",IF(AND(AB10="Faible",AC10="Fort"),"Faible",IF(AND(AB10="Faible",AC10="Fort"),"Fort",IF(AND(AB10="Fort",AC10="Faible"),"Fort",IF(AND(AB10="Fort",AC10="Faible"),"Fort",IF(AND(AB10="Fort",AC10="Fort"),"Fort","Fort"))))))) -> Fort | AE10: =IF(AD10="Faible", "2", IF(AD10="Fort","5")) -> 5 | AF10: =COUNTIF($AG$5:$AG$1048576,AG10) -> 1 | AG10: =CONCATENATE(D10,E10,T10) -> 20141058588A8 | AH10: =IF(AL10<>0,"Action cloturée",IF(AND(J10="HMO",AD10="Faible"),"",IF(AND(J10="HMO",AD10="Fort"),"Informer immédiatement le client pour connaitre la marche à suivre",IF(AND(J10="MO",AD10="Faible"),"",IF(AND(J10="MO",AD10="Fort"),"Tri par agence d'intérim et/ou fournisseur et FDNQ",""))))) -> Tri par agence d'intérim et/ou fournisseur et FDNQ | AJ10: 41655 | AK10: Incident ponctuel à surveiller dans le temps | AM10: =IF(AL10<>0,NETWORKDAYS(B10,AL10),"")
A11: 7 | B11: 41653 | C11: =MONTH(B11) -> 1 | D11: =YEAR(B11) -> 2014 | E11: 1195659 | F11: 21974 | G11: 22436 | H11: Production | I11: CDN | J11: MO | K11: OT Vitré | L11: CDN Visa Courtois Avion Bin4976 R6Patché | M11: 1 | N11: 306 | O11: 47 | P11: =IF(OR($T11="b4",$T11="b6",$T11="c8",$T11="c11",$T11="c10",$T11="c12",$T11="c14"),1,($M11/($N11))) -> 0.0032679739 | Q11: 0.020833333 | R11: 0.0625 | S11: Imposible de produire 1 carte sur 1 fichier de 2, avec lke message suivant "invalid preperso i d 0 reste 47 cartes en stock qui sont NOK. Pour produire il nous faut lever le contrôle. | T11: A9 | U11: =+LEFT(T11,1) -> A | V11: =VLOOKUP(T11,Codes!A$9:B$51,2,FALSE) -> Défaut carte préperso | X11: =IF(AND((O11>=2),(O11<=8)),"A",IF(AND((O11>=9),(O11<=15)),"B",IF(AND((O11>=16),(O11<=20)),"C",IF(AND((O11>=21),(O11<=50)),"D",IF(AND((O11>=51),(O11<=90)),"E",IF(AND((O11>=91),(O11<=150)),"F",IF(AND((O11>=151),(O11<=280)),"G"," ")))))))&IF(AND((O11>=281),(O11<=500)),"H",IF(AND((O11>=501),(O11<=1200)),"J",IF(AND((O11>=1201),(O11<=3200)),"K",IF(AND((O11>=3201),(O11<=10000)),"L",IF(AND((O11>=10001),(O11<=35000)),"M",IF(AND((O11>=35001),(O11<=150000)),"N",IF(AND((O11>=150001),(O11<=500000)),"P"," ")))))))&IF(AND(O11>=500001),"Q"," ") -> D | Y11: =IF(X11="M",15) -> FALSE | AA11: 2 | AB11: =IF((AA11)<=2,"faible","fort") -> faible | AC11: =IF((P11)<=3%,"faible","fort") -> faible | AD11: =IF(AND(AB11="Faible",AC11="Faible"),"Faible",IF(AND(AB11="Faible",AC11="Faible"),"Fort",IF(AND(AB11="Faible",AC11="Fort"),"Faible",IF(AND(AB11="Faible",AC11="Fort"),"Fort",IF(AND(AB11="Fort",AC11="Faible"),"Fort",IF(AND(AB11="Fort",AC11="Faible"),"Fort",IF(AND(AB11="Fort",AC11="Fort"),"Fort","Fort"))))))) -> Faible | AE11: =IF(AD11="Faible", "2", IF(AD11="Fort","5")) -> 2 | AF11: =COUNTIF($AG$5:$AG$1048576,AG11) -> 1 | AG11: =CONCATENATE(D11,E11,T11) -> 20141195659A9 | AH11: =IF(AL11<>0,"Action cloturée",IF(AND(J11="HMO",AD11="Faible"),"",IF(AND(J11="HMO",AD11="Fort"),"Informer immédiatement le client pour connaitre la marche à suivre",IF(AND(J11="MO",AD11="Faible"),"",IF(AND(J11="MO",AD11="Fort"),"Tri par agence d'intérim et/ou fournisseur et FDNQ",""))))) -> Action cloturée | AI11: CQUA14-02 | AJ11: 41655 | AK11: Réclamation faite à Vitré. Erreur, problème sur le code pr&perso, le code est 000000 au mlieu de 00061D + pas de BIN sur un tag | AL11: 41655 | AM11: =IF(AL11<>0,NETWORKDAYS(B11,AL11),"") -> 3
A12: 8 | B12: 41659 | C12: =MONTH(B12) -> 1 | D12: =YEAR(B12) -> 2014 | E12: 1057730 | F12: 29593 | G12: 131126 | H12: Condt. | I12: SG | J12: HMO | L12: BN5 Coffret INFINITE | M12: 2 | N12: 1050 | O12: 470 | P12: =IF(OR($T12="b4",$T12="b6",$T12="c8",$T12="c11",$T12="c10",$T12="c12",$T12="c14"),1,($M12/($N12))) -> 0.0019047619 | Q12: 0.0069444444 | R12: 0.0069444444 | S12: 1 coffret abimé sur les cotés et 1 coffret décolé | T12: C7 | U12: =+LEFT(T12,1) -> C | V12: =VLOOKUP(T12,Codes!A$9:B$51,2,FALSE) -> produit déchiré, abimé dans l'emballage. | X12: =IF(AND((O12>=2),(O12<=8)),"A",IF(AND((O12>=9),(O12<=15)),"B",IF(AND((O12>=16),(O12<=20)),"C",IF(AND((O12>=21),(O12<=50)),"D",IF(AND((O12>=51),(O12<=90)),"E",IF(AND((O12>=91),(O12<=150)),"F",IF(AND((O12>=151),(O12<=280)),"G"," ")))))))&IF(AND((O12>=281),(O12<=500)),"H",IF(AND((O12>=501),(O12<=1200)),"J",IF(AND((O12>=1201),(O12<=3200)),"K",IF(AND((O12>=3201),(O12<=10000)),"L",IF(AND((O12>=10001),(O12<=35000)),"M",IF(AND((O12>=35001),(O12<=150000)),"N",IF(AND((O12>=150001),(O12<=500000)),"P"," ")))))))&IF(AND(O12>=500001),"Q"," ") -> H | Y12: =IF(X12="M",15) -> FALSE | AA12: 2 | AB12: =IF((AA12)<=2,"faible","fort") -> faible | AC12: =IF((P12)<=3%,"faible","fort") -> faible | AD12: =IF(AND(AB12="Faible",AC12="Faible"),"Faible",IF(AND(AB12="Faible",AC12="Faible"),"Fort",IF(AND(AB12="Faible",AC12="Fort"),"Faible",IF(AND(AB12="Faible",AC12="Fort"),"Fort",IF(AND(AB12="Fort",AC12="Faible"),"Fort",IF(AND(AB12="Fort",AC12="Faible"),"Fort",IF(AND(AB12="Fort",AC12="Fort"),"Fort","Fort"))))))) -> Faible | AE12: =IF(AD12="Faible", "2", IF(AD12="Fort","5")) -> 2 | AF12: =COUNTIF($AG$5:$AG$1048576,AG12) -> 1 | AG12: =CONCATENATE(D12,E12,T12) -> 20141057730C7 | AH12: =IF(AL12<>0,"Action cloturée",IF(AND(J12="HMO",AD12="Faible"),"",IF(AND(J12="HMO",AD12="Fort"),"Informer immédiatement le client pour connaitre la marche à suivre",IF(AND(J12="MO",AD12="Faible"),"",IF(AND(J12="MO",AD12="Fort"),"Tri par agence d'intérim et/ou fournisseur et FDNQ",""))))) -> Action cloturée | AJ12: 41666 | AK12: Conrôle sur étagère, RAS. A surveiller | AL12: 41666 | AM12: =IF(AL12<>0,NETWORKDAYS(B12,AL12),"") -> 6
A13: 9 | B13: 41659 | C13: =MONTH(B13) -> 1 | D13: =YEAR(B13) -> 2014 | E13: 1150634 | F13: 26819 | G13: 27223 | H13: Condt. | I13: NTX | J13: HMO | L13: NTX Welcome Pack Visa Platinum | M13: 1 | N13: 6352 | O13: 2834 | P13: =IF(OR($T13="b4",$T13="b6",$T13="c8",$T13="c11",$T13="c10",$T13="c12",$T13="c14"),1,($M13/($N13))) -> 0.00015743073 | Q13: 0.0069444444 | R13: 0.0069444444 | S13: Coffret écrassé sur le coté. | T13: C7 | U13: =+LEFT(T13,1) -> C | V13: =VLOOKUP(T13,Codes!A$9:B$51,2,FALSE) -> produit déchiré, abimé dans l'emballage. | X13: =IF(AND((O13>=2),(O13<=8)),"A",IF(AND((O13>=9),(O13<=15)),"B",IF(AND((O13>=16),(O13<=20)),"C",IF(AND((O13>=21),(O13<=50)),"D",IF(AND((O13>=51),(O13<=90)),"E",IF(AND((O13>=91),(O13<=150)),"F",IF(AND((O13>=151),(O13<=280)),"G"," ")))))))&IF(AND((O13>=281),(O13<=500)),"H",IF(AND((O13>=501),(O13<=1200)),"J",IF(AND((O13>=1201),(O13<=3200)),"K",IF(AND((O13>=3201),(O13<=10000)),"L",IF(AND((O13>=10001),(O13<=35000)),"M",IF(AND((O13>=35001),(O13<=150000)),"N",IF(AND((O13>=150001),(O13<=500000)),"P"," ")))))))&IF(AND(O13>=500001),"Q"," ") -> K | Y13: =IF(X13="M",15) -> FALSE | AA13: 2 | AB13: =IF((AA13)<=2,"faible","fort") -> faible | AC13: =IF((P13)<=3%,"faible","fort") -> faible | AD13: =IF(AND(AB13="Faible",AC13="Faible"),"Faible",IF(AND(AB13="Faible",AC13="Faible"),"Fort",IF(AND(AB13="Faible",AC13="Fort"),"Faible",IF(AND(AB13="Faible",AC13="Fort"),"Fort",IF(AND(AB13="Fort",AC13="Faible"),"Fort",IF(AND(AB13="Fort",AC13="Faible"),"Fort",IF(AND(AB13="Fort",AC13="Fort"),"Fort","Fort"))))))) -> Faible | AE13: =IF(AD13="Faible", "2", IF(AD13="Fort","5")) -> 2 | AF13: =COUNTIF($AG$5:$AG$1048576,AG13) -> 3 | AG13: =CONCATENATE(D13,E13,T13) -> 20141150634C7 | AH13: =IF(AL13<>0,"Action cloturée",IF(AND(J13="HMO",AD13="Faible"),"",IF(AND(J13="HMO",AD13="Fort"),"Informer immédiatement le client pour connaitre la marche à suivre",IF(AND(J13="MO",AD13="Faible"),"",IF(AND(J13="MO",AD13="Fort"),"Tri par agence d'intérim et/ou fournisseur et FDNQ",""))))) -> Action cloturée | AJ13: 41666 | AK13: Conrôle sur étagère, RAS. A surveiller | AL13: 41666 | AM13: =IF(AL13<>0,NETWORKDAYS(B13,AL13),"") -> 6
A14: 10 | B14: 41661 | C14: =MONTH(B14) -> 1 | D14: =YEAR(B14) -> 2014 | E14: 1058722 | F14: 30282 | G14: 30980 | H14: Condt. | I14: SG | J14: HMO | L14: CSG POCH 1ER CRE 130002-135502 | M14: 720 | N14: 34940 | O14: 30260 | P14: =IF(OR($T14="b4",$T14="b6",$T14="c8",$T14="c11",$T14="c10",$T14="c12",$T14="c14"),1,($M14/($N14))) -> 1 | Q14: 0.0069444444 | R14: 0.020833333 | S14: Les cartons de CVPcré doivent contenir 120pochettes, sauf qu'il n'y en a que 80. du coup nous perdons du temps a recommander | T14: C10 | U14: =+LEFT(T14,1) -> C | V14: =VLOOKUP(T14,Codes!A$9:B$51,2,FALSE) -> Manque tout ou partie des documents. | X14: =IF(AND((O14>=2),(O14<=8)),"A",IF(AND((O14>=9),(O14<=15)),"B",IF(AND((O14>=16),(O14<=20)),"C",IF(AND((O14>=21),(O14<=50)),"D",IF(AND((O14>=51),(O14<=90)),"E",IF(AND((O14>=91),(O14<=150)),"F",IF(AND((O14>=151),(O14<=280)),"G"," ")))))))&IF(AND((O14>=281),(O14<=500)),"H",IF(AND((O14>=501),(O14<=1200)),"J",IF(AND((O14>=1201),(O14<=3200)),"K",IF(AND((O14>=3201),(O14<=10000)),"L",IF(AND((O14>=10001),(O14<=35000)),"M",IF(AND((O14>=35001),(O14<=150000)),"N",IF(AND((O14>=150001),(O14<=500000)),"P"," ")))))))&IF(AND(O14>=500001),"Q"," ") -> M | Y14: =IF(X14="M",15) -> FALSE | AA14: 2 | AB14: =IF((AA14)<=2,"faible","fort") -> faible | AC14: =IF((P14)<=3%,"faible","fort") -> fort | AD14: =IF(AND(AB14="Faible",AC14="Faible"),"Faible",IF(AND(AB14="Faible",AC14="Faible"),"Fort",IF(AND(AB14="Faible",AC14="Fort"),"Faible",IF(AND(AB14="Faible",AC14="Fort"),"Fort",IF(AND(AB14="Fort",AC14="Faible"),"Fort",IF(AND(AB14="Fort",AC14="Faible"),"Fort",IF(AND(AB14="Fort",AC14="Fort"),"Fort","Fort"))))))) -> Faible | AE14: =IF(AD14="Faible", "2", IF(AD14="Fort","5")) -> 2 | AF14: =COUNTIF($AG$5:$AG$1048576,AG14) -> 1 | AG14: =CONCATENATE(D14,E14,T14) -> 20141058722C10 | AH14: =IF(AL14<>0,"Action cloturée",IF(AND(J14="HMO",AD14="Faible"),"",IF(AND(J14="HMO",AD14="Fort"),"Informer immédiatement le client pour connaitre la marche à suivre",IF(AND(J14="MO",AD14="Faible"),"",IF(AND(J14="MO",AD14="Fort"),"Tri par agence d'intérim et/ou fournisseur et FDNQ",""))))) -> Action cloturée | AJ14: 41666 | AK14: contrôle sur étagère. | AL14: 41666 | AM14: =IF(AL14<>0,NETWORKDAYS(B14,AL14),"") -> 4 | AP14: =COUNTIF(#REF!,FALSE) -> #REF! | AQ14: =COUNTIF($AG$5:$AG$1048576,AG14) -> 1
A15: 11 | B15: 41662 | C15: =MONTH(B15) -> 1 | D15: =YEAR(B15) -> 2014 | E15: 1177965 | F15: 28275 | G15: 29601 | H15: Exploit Info | I15: SG | J15: MO | K15: Paragon Transaction | L15: CSG ENC SG | M15: 1000 | N15: 500000 | O15: 145000 | P15: =IF(OR($T15="b4",$T15="b6",$T15="c8",$T15="c11",$T15="c10",$T15="c12",$T15="c14"),1,($M15/($N15))) -> 0.002 | Q15: 0.041666667 | R15: 0.125 | S15: Une ramette sur 4 pose problème sur le visuel. Bande rouge sur le coté gauche sur la longueur. Edition effectuée avec ce problème tri non effectué. | T15: C9 | U15: =+LEFT(T15,1) -> C | V15: =VLOOKUP(T15,Codes!A$9:B$51,2,FALSE) -> Mauvaise impression sur le produit | X15: =IF(AND((O15>=2),(O15<=8)),"A",IF(AND((O15>=9),(O15<=15)),"B",IF(AND((O15>=16),(O15<=20)),"C",IF(AND((O15>=21),(O15<=50)),"D",IF(AND((O15>=51),(O15<=90)),"E",IF(AND((O15>=91),(O15<=150)),"F",IF(AND((O15>=151),(O15<=280)),"G"," ")))))))&IF(AND((O15>=281),(O15<=500)),"H",IF(AND((O15>=501),(O15<=1200)),"J",IF(AND((O15>=1201),(O15<=3200)),"K",IF(AND((O15>=3201),(O15<=10000)),"L",IF(AND((O15>=10001),(O15<=35000)),"M",IF(AND((O15>=35001),(O15<=150000)),"N",IF(AND((O15>=150001),(O15<=500000)),"P"," ")))))))&IF(AND(O15>=500001),"Q"," ") -> N | Y15: =IF(X15="M",15) -> FALSE | AA15: 2 | AB15: =IF((AA15)<=2,"faible","fort") -> faible | AC15: =IF((P15)<=3%,"faible","fort") -> faible | AD15: =IF(AND(AB15="Faible",AC15="Faible"),"Faible",IF(AND(AB15="Faible",AC15="Faible"),"Fort",IF(AND(AB15="Faible",AC15="Fort"),"Faible",IF(AND(AB15="Faible",AC15="Fort"),"Fort",IF(AND(AB15="Fort",AC15="Faible"),"Fort",IF(AND(AB15="Fort",AC15="Faible"),"Fort",IF(AND(AB15="Fort",AC15="Fort"),"Fort","Fort"))))))) -> Faible | AE15: =IF(AD15="Faible", "2", IF(AD15="Fort","5")) -> 2 | AF15: =COUNTIF($AG$5:$AG$1048576,AG15) -> 2 | AG15: =CONCATENATE(D15,E15,T15) -> 20141177965C9 | AH15: =IF(AL15<>0,"Action cloturée",IF(AND(J15="HMO",AD15="Faible"),"",IF(AND(J15="HMO",AD15="Fort"),"Informer immédiatement le client pour connaitre la marche à suivre",IF(AND(J15="MO",AD15="Faible"),"",IF(AND(J15="MO",AD15="Fort"),"Tri par agence d'intérim et/ou fournisseur et FDNQ",""))))) -> Action cloturée | AI15: PQUA14_03 | AJ15: 41662 | AK15: Contact pris avec le commercial et RB pour actioncurative rapide. Envoi FDNQ n) PQUA14-03 le 24/01/14. Attendre la nouvelle livvraison, bloquer celle-ci pour reprise, tri remplacement. | AL15: 41670 | AM15: =IF(AL15<>0,NETWORKDAYS(B15,AL15),"") -> 7 | AP15: =COUNTIF(#REF!,FALSE) -> #REF! | AQ15: =COUNTIF($AG$5:$AG$1048576,AG15) -> 2
A16: 12 | B16: 41663 | C16: =MONTH(B16) -> 1 | D16: =YEAR(B16) -> 2014 | E16: 1058702 | F16: 29432 | G16: 30144 | H16: Condt. | I16: SG | J16: HMO | L16: CSG POCH CB V PAY 130031-135531 | M16: 20 | N16: 6600 | O16: 3300 | P16: =IF(OR($T16="b4",$T16="b6",$T16="c8",$T16="c11",$T16="c10",$T16="c12",$T16="c14"),1,($M16/($N16))) -> 0.003030303 | Q16: 0.0069444444 | R16: 0.0069444444 | S16: Problème pour enlever les languette, donc on déchire la pochette. | T16: B2 | U16: =+LEFT(T16,1) -> B | V16: =VLOOKUP(T16,Codes!A$9:B$51,2,FALSE) -> Produit inadapté au processus | AA16: 1 | AB16: =IF((AA16)<=2,"faible","fort") -> faible | AC16: =IF((P16)<=3%,"faible","fort") -> faible | AD16: =IF(AND(AB16="Faible",AC16="Faible"),"Faible",IF(AND(AB16="Faible",AC16="Faible"),"Fort",IF(AND(AB16="Faible",AC16="Fort"),"Faible",IF(AND(AB16="Faible",AC16="Fort"),"Fort",IF(AND(AB16="Fort",AC16="Faible"),"Fort",IF(AND(AB16="Fort",AC16="Faible"),"Fort",IF(AND(AB16="Fort",AC16="Fort"),"Fort","Fort"))))))) -> Faible | AE16: =IF(AD16="Faible", "2", IF(AD16="Fort","5")) -> 2 | AF16: =COUNTIF($AG$5:$AG$1048576,AG16) -> 1 | AG16: =CONCATENATE(D16,E16,T16) -> 20141058702B2 | AH16: =IF(AL16<>0,"Action cloturée",IF(AND(J16="HMO",AD16="Faible"),"",IF(AND(J16="HMO",AD16="Fort"),"Informer immédiatement le client pour connaitre la marche à suivre",IF(AND(J16="MO",AD16="Faible"),"",IF(AND(J16="MO",AD16="Fort"),"Tri par agence d'intérim et/ou fournisseur et FDNQ",""))))) -> Action cloturée | AJ16: 41666 | AK16: Contrôle sur étagère. RAS a suivre² | AL16: 41666 | AM16: =IF(AL16<>0,NETWORKDAYS(B16,AL16),"") -> 2 | AP16: =COUNTIF(#REF!,FALSE) -> #REF! | AQ16: =COUNTIF($AG$5:$AG$1048576,AG16) -> 1
A17: 13 | B17: 41666 | C17: =MONTH(B17) -> 1 | D17: =YEAR(B17) -> 2014 | E17: 1058088 | F17: 30791 | G17: 31595 | H17: Exploit Info | I17: Diac France | J17: HMO | K17: Imprimerie Jason-TaboureXau | L17: DIAC CONTRAT ENTRETIEN RPE | M17: 150 | N17: 8000 | O17: 4000 | P17: =IF(OR($T17="b4",$T17="b6",$T17="c8",$T17="c11",$T17="c10",$T17="c12",$T17="c14"),1,($M17/($N17))) -> 0.01875 | Q17: 0.020833333 | R17: 0.020833333 | S17: Fond de page NOK, ligne noires au recto | T17: C9 | U17: =+LEFT(T17,1) -> C | V17: =VLOOKUP(T17,Codes!A$9:B$51,2,FALSE) -> Mauvaise impression sur le produit | AA17: 1 | AB17: =IF((AA17)<=2,"faible","fort") -> faible | AC17: =IF((P17)<=3%,"faible","fort") -> faible | AD17: =IF(AND(AB17="Faible",AC17="Faible"),"Faible",IF(AND(AB17="Faible",AC17="Faible"),"Fort",IF(AND(AB17="Faible",AC17="Fort"),"Faible",IF(AND(AB17="Faible",AC17="Fort"),"Fort",IF(AND(AB17="Fort",AC17="Faible"),"Fort",IF(AND(AB17="Fort",AC17="Faible"),"Fort",IF(AND(AB17="Fort",AC17="Fort"),"Fort","Fort"))))))) -> Faible | AE17: =IF(AD17="Faible", "2", IF(AD17="Fort","5")) -> 2 | AF17: =COUNTIF($AG$5:$AG$1048576,AG17) -> 1 | AG17: =CONCATENATE(D17,E17,T17) -> 20141058088C9 | AH17: =IF(AL17<>0,"Action cloturée",IF(AND(E17="HMO",AD29="Faible"),"",IF(AND(J17="HMO",AD29="Fort"),"Informer immédiatement le client pour connaitre la marche à suivre",IF(AND(J17="MO",AD29="Faible"),"",IF(AND(J17="MO",AD29="Fort"),"Tri par agence d'intérim et/ou fournisseur et FDNQ",""))))) -> Action cloturée | AJ17: 41666 | AK17: Contrôle ur place et sur étagère, RAS | AL17: 41666 | AM17: =IF(AL17<>0,NETWORKDAYS(B17,AL17),"") -> 1 | AP17: =COUNTIF(#REF!,FALSE) -> #REF! | AQ17: =COUNTIF($AG$5:$AG$1048576,AG17) -> 1
A18: 14 | B18: 41666 | C18: =MONTH(B18) -> 1 | D18: =YEAR(B18) -> 2014 | E18: 1098711 | F18: 26830 | G18: 27235 | H18: Condt. | I18: Crédipar | J18: HMO | L18: PAR Pochette CITROEN DS | M18: 2 | N18: 3012 | O18: 1601 | P18: =IF(OR($T18="b4",$T18="b6",$T18="c8",$T18="c11",$T18="c10",$T18="c12",$T18="c14"),1,($M18/($N18))) -> 1 | Q18: 0.0069444444 | R18: 0.0069444444 | S18: Manque une partie de la pochette | T18: C10 | U18: =+LEFT(T18,1) -> C | V18: =VLOOKUP(T18,Codes!A$9:B$51,2,FALSE) -> Manque tout ou partie des documents. | AA18: 1 | AB18: =IF((AA18)<=2,"faible","fort") -> faible | AC18: =IF((P18)<=3%,"faible","fort") -> fort | AD18: =IF(AND(AB18="Faible",AC18="Faible"),"Faible",IF(AND(AB18="Faible",AC18="Faible"),"Fort",IF(AND(AB18="Faible",AC18="Fort"),"Faible",IF(AND(AB18="Faible",AC18="Fort"),"Fort",IF(AND(AB18="Fort",AC18="Faible"),"Fort",IF(AND(AB18="Fort",AC18="Faible"),"Fort",IF(AND(AB18="Fort",AC18="Fort"),"Fort","Fort"))))))) -> Faible | AE18: =IF(AD18="Faible", "2", IF(AD18="Fort","5")) -> 2 | AF18: =COUNTIF($AG$5:$AG$1048576,AG18) -> 1 | AG18: =CONCATENATE(D18,E18,T18) -> 20141098711C10 | AH18: =IF(AL18<>0,"Action cloturée",IF(AND(E18="HMO",AD29="Faible"),"",IF(AND(J18="HMO",AD29="Fort"),"Informer immédiatement le client pour connaitre la marche à suivre",IF(AND(J18="MO",AD29="Faible"),"",IF(AND(J18="MO",AD29="Fort"),"Tri par agence d'intérim et/ou fournisseur et FDNQ",""))))) -> Action cloturée | AJ18: 41666 | AK18: Contrôle sur étagère, RAS | AL18: 41666 | AM18: =IF(AL18<>0,NETWORKDAYS(B18,AL18),"") -> 1 | AP18: =COUNTIF(#REF!,FALSE) -> #REF! | AQ18: =COUNTIF($AG$5:$AG$1048576,AG18) -> 1
A19: 15 | B19: 41669 | C19: =MONTH(B19) -> 1 | D19: =YEAR(B19) -> 2014 | E19: 1057846 | F19: 30873 | G19: 31738 | H19: Stock Papier | I19: Oney | J19: HMO | K19: Oney | L19: BQUE ACCORD ENC NORAUTO CRE 300 POINTS | M19: 4000 | N19: 4000 | O19: 4000 | P19: =IF(OR($T19="b4",$T19="b6",$T19="c8",$T19="c11",$T19="c10",$T19="c12",$T19="c14"),1,($M19/($N19))) -> 1 | Q19: 0.010416667 | R19: 0.010416667 | S19: Cartons conditionné en 100 ou 2000 au lieu de 500 | T19: C8 | U19: =+LEFT(T19,1) -> C | V19: =VLOOKUP(T19,Codes!A$9:B$51,2,FALSE) -> Conditionnement inadapté | AA19: 3 | AB19: =IF((AA19)<=2,"faible","fort") -> fort | AC19: =IF((P19)<=3%,"faible","fort") -> fort | AD19: =IF(AND(AB19="Faible",AC19="Faible"),"Faible",IF(AND(AB19="Faible",AC19="Faible"),"Fort",IF(AND(AB19="Faible",AC19="Fort"),"Faible",IF(AND(AB19="Faible",AC19="Fort"),"Fort",IF(AND(AB19="Fort",AC19="Faible"),"Fort",IF(AND(AB19="Fort",AC19="Faible"),"Fort",IF(AND(AB19="Fort",AC19="Fort"),"Fort","Fort"))))))) -> Fort | AE19: =IF(AD19="Faible", "2", IF(AD19="Fort","5")) -> 5 | AF19: =COUNTIF($AG$5:$AG$1048576,AG19) -> 2 | AG19: =CONCATENATE(D19,E19,T19) -> 20141057846C8 | AH19: =IF(AL19<>0,"Action cloturée",IF(AND(E19="HMO",AD29="Faible"),"",IF(AND(J19="HMO",AD29="Fort"),"Informer immédiatement le client pour connaitre la marche à suivre",IF(AND(J19="MO",AD29="Faible"),"",IF(AND(J19="MO",AD29="Fort"),"Tri par agence d'intérim et/ou fournisseur et FDNQ",""))))) -> Action cloturée | AJ19: 41669 | AK19: Demander au service client de voir avec le client afin de régler le problème avec son fournisseur. | AL19: 41698 | AM19: =IF(AL19<>0,NETWORKDAYS(B19,AL19),"") -> 22 | AP19: =COUNTIF(#REF!,FALSE) -> #REF! | AQ19: =COUNTIF($AG$5:$AG$1048576,AG19) -> 2
A20: 16 | B20: 41669 | C20: =MONTH(B20) -> 1 | D20: =YEAR(B20) -> 2014 | E20: 1057847 | F20: 30873 | G20: 31738 | H20: Stock Papier | I20: Oney | J20: HMO | K20: Oney | L20: BQUE ACCORD ENC NORAUTO CRE 300 POINTS | M20: 3000 | N20: 3000 | O20: 3000 | P20: =IF(OR($T20="b4",$T20="b6",$T20="c8",$T20="c11",$T20="c10",$T20="c12",$T20="c14"),1,($M20/($N20))) -> 1 | Q20: 0.010416667 | R20: 0.010416667 | S20: Cartons conditionné en 100 ou 2000 au lieu de 501 | T20: C8 | U20: =+LEFT(T20,1) -> C | V20: =VLOOKUP(T20,Codes!A$9:B$51,2,FALSE) -> Conditionnement inadapté | AA20: 1 | AB20: =IF((AA20)<=2,"faible","fort") -> faible | AC20: =IF((P20)<=3%,"faible","fort") -> fort | AD20: =IF(AND(AB20="Faible",AC20="Faible"),"Faible",IF(AND(AB20="Faible",AC20="Faible"),"Fort",IF(AND(AB20="Faible",AC20="Fort"),"Faible",IF(AND(AB20="Faible",AC20="Fort"),"Fort",IF(AND(AB20="Fort",AC20="Faible"),"Fort",IF(AND(AB20="Fort",AC20="Faible"),"Fort",IF(AND(AB20="Fort",AC20="Fort"),"Fort","Fort"))))))) -> Faible | AE20: =IF(AD20="Faible", "2", IF(AD20="Fort","5")) -> 2 | AF20: =COUNTIF($AG$5:$AG$1048576,AG20) -> 2 | AG20: =CONCATENATE(D20,E20,T20) -> 20141057847C8 | AH20: =IF(AL20<>0,"Action cloturée",IF(AND(E20="HMO",AD29="Faible"),"",IF(AND(J20="HMO",AD29="Fort"),"Informer immédiatement le client pour connaitre la marche à suivre",IF(AND(J20="MO",AD29="Faible"),"",IF(AND(J20="MO",AD29="Fort"),"Tri par agence d'intérim et/ou fournisseur et FDNQ",""))))) -> Action cloturée | AJ20: 41669 | AK20: Demander au service client de voir avec le client afin de régler le problème avec son fournisseur. | AL20: 41698 | AM20: =IF(AL20<>0,NETWORKDAYS(B20,AL20),"") -> 22 | AP20: =COUNTIF(#REF!,FALSE) -> #REF! | AQ20: =COUNTIF($AG$5:$AG$1048576,AG20) -> 2
A21: 17 | B21: 41675 | C21: =MONTH(B21) -> 2 | D21: =YEAR(B21) -> 2014 | E21: 1198332 | F21: 26657 | G21: 27612 | H21: Stock Papier | I21: ASIP | J21: MO | K21: GPV | L21: ASIP ENV ASIP SANTE grande double fenêtre | M21: 45 | N21: 5000 | O21: 0 | P21: =IF(OR($T21="b4",$T21="b6",$T21="c8",$T21="c11",$T21="c10",$T21="c12",$T21="c14"),1,($M21/($N21))) -> 0.009 | Q21: 0.013888889 | R21: 0.020833333 | S21: Un point de colle sur le côté gauche du rabat de l'enveloppe empêche l'ouverture de celle-ci , de plus , plusieurs enveloppe ne sont pas collées sur le côtégauche. | T21: C3 | U21: =+LEFT(T21,1) -> C | V21: =VLOOKUP(T21,Codes!A$9:B$51,2,FALSE) -> Produits collés entre eux | AA21: 1 | AB21: =IF((AA21)<=2,"faible","fort") -> faible | AC21: =IF((P21)<=3%,"faible","fort") -> faible | AD21: =IF(AND(AB21="Faible",AC21="Faible"),"Faible",IF(AND(AB21="Faible",AC21="Faible"),"Fort",IF(AND(AB21="Faible",AC21="Fort"),"Faible",IF(AND(AB21="Faible",AC21="Fort"),"Fort",IF(AND(AB21="Fort",AC21="Faible"),"Fort",IF(AND(AB21="Fort",AC21="Faible"),"Fort",IF(AND(AB21="Fort",AC21="Fort"),"Fort","Fort"))))))) -> Faible | AE21: =IF(AD21="Faible", "2", IF(AD21="Fort","5")) -> 2 | AF21: =COUNTIF($AG$5:$AG$1048576,AG21) -> 1 | AG21: =CONCATENATE(D21,E21,T21) -> 20141198332C3 | AH21: =IF(AL21<>0,"Action cloturée",IF(AND(E21="HMO",AD29="Faible"),"",IF(AND(J21="HMO",AD29="Fort"),"Informer immédiatement le client pour connaitre la marche à suivre",IF(AND(J21="MO",AD29="Faible"),"",IF(AND(J21="MO",AD29="Fort"),"Tri par agence d'intérim et/ou fournisseur et FDNQ",""))))) -> Action cloturée | AJ21: 41675 | AK21: Srock à 0, à contrôler lors de la prochaine réception. | AL21: 41676 | AM21: =IF(AL21<>0,NETWORKDAYS(B21,AL21),"") -> 2 | AP21: =COUNTIF(#REF!,FALSE) -> #REF! | AQ21: =COUNTIF($AG$5:$AG$1048576,AG21) -> 1
A22: 18 | B22: 41674 | C22: =MONTH(B22) -> 2 | D22: =YEAR(B22) -> 2014 | E22: 1233115 | F22: 29610 | G22: 30692 | H22: Mailers | I22: OT | J22: MO | K22: Page internationnale | L22: OT Enveloppe 115x225 F50x100 | M22: 1000 | N22: 500000 | O22: 324000 | P22: =IF(OR($T22="b4",$T22="b6",$T22="c8",$T22="c11",$T22="c10",$T22="c12",$T22="c14"),1,($M22/($N22))) -> 0.002 | Q22: 0.041666667 | R22: 0.041666667 | S22: Enveloppes collées entreelles et ouvertes sur le côté gauche. | T22: B2 | U22: =+LEFT(T22,1) -> B | V22: =VLOOKUP(T22,Codes!A$9:B$51,2,FALSE) -> Produit inadapté au processus | AA22: 1 | AB22: =IF((AA22)<=2,"faible","fort") -> faible | AC22: =IF((P22)<=3%,"faible","fort") -> faible | AD22: =IF(AND(AB22="Faible",AC22="Faible"),"Faible",IF(AND(AB22="Faible",AC22="Faible"),"Fort",IF(AND(AB22="Faible",AC22="Fort"),"Faible",IF(AND(AB22="Faible",AC22="Fort"),"Fort",IF(AND(AB22="Fort",AC22="Faible"),"Fort",IF(AND(AB22="Fort",AC22="Faible"),"Fort",IF(AND(AB22="Fort",AC22="Fort"),"Fort","Fort"))))))) -> Faible | AE22: =IF(AD22="Faible", "2", IF(AD22="Fort","5")) -> 2 | AF22: =COUNTIF($AG$5:$AG$1048576,AG22) -> 1 | AG22: =CONCATENATE(D22,E22,T22) -> 20141233115B2 | AH22: =IF(AL22<>0,"Action cloturée",IF(AND(E22="HMO",AD29="Faible"),"",IF(AND(J22="HMO",AD29="Fort"),"Informer immédiatement le client pour connaitre la marche à suivre",IF(AND(J22="MO",AD29="Faible"),"",IF(AND(J22="MO",AD29="Fort"),"Tri par agence d'intérim et/ou fournisseur et FDNQ",""))))) -> Action cloturée | AI22: ..\5_FDNQ 14\ | AJ22: 41675 | AK22: mise en place d'un contrôlevisuel renforcé en attendant les 1er éléments du fournisseurpour la suite du dossier.(voir FDNQ) | AL22: 41728 | AM22: =IF(AL22<>0,NETWORKDAYS(B22,AL22),"") -> 39 | AP22: =COUNTIF(#REF!,FALSE) -> #REF! | AQ22: =COUNTIF($AG$5:$AG$1048576,AG22) -> 1
A23: 19 | B23: 41676 | C23: =MONTH(B23) -> 2 | D23: =YEAR(B23) -> 2014 | E23: 1124294 | F23: 30983 | G23: 140205 | H23: Stock Papier | I23: Amex | J23: HMO | K23: MSP | L23: AMD ESP-GUI-WP Gold Folder New | M23: 6661 | N23: 6661 | O23: 6661 | P23: =IF(OR($T23="b4",$T23="b6",$T23="c8",$T23="c11",$T23="c10",$T23="c12",$T23="c14"),1,($M23/($N23))) -> 1 | Q23: 0.010416667 | R23: 0.0069444444 | S23: La quantité sur le BL ne corresponds pas à la quantité reçue. | T23: C11 | U23: =+LEFT(T23,1) -> C | V23: =VLOOKUP(T23,Codes!A$9:B$51,2,FALSE) -> Quantité livrée non conforme au document. | AA23: 1 | AB23: =IF((AA23)<=2,"faible","fort") -> faible | AC23: =IF((P23)<=3%,"faible","fort") -> fort | AD23: =IF(AND(AB23="Faible",AC23="Faible"),"Faible",IF(AND(AB23="Faible",AC23="Faible"),"Fort",IF(AND(AB23="Faible",AC23="Fort"),"Faible",IF(AND(AB23="Faible",AC23="Fort"),"Fort",IF(AND(AB23="Fort",AC23="Faible"),"Fort",IF(AND(AB23="Fort",AC23="Faible"),"Fort",IF(AND(AB23="Fort",AC23="Fort"),"Fort","Fort"))))))) -> Faible | AE23: =IF(AD23="Faible", "2", IF(AD23="Fort","5")) -> 2 | AF23: =COUNTIF($AG$5:$AG$1048576,AG23) -> 1 | AG23: =CONCATENATE(D23,E23,T23) -> 20141124294C11 | AH23: =IF(AL23<>0,"Action cloturée",IF(AND(E23="HMO",AD29="Faible"),"",IF(AND(J23="HMO",AD29="Fort"),"Informer immédiatement le client pour connaitre la marche à suivre",IF(AND(J23="MO",AD29="Faible"),"",IF(AND(J23="MO",AD29="Fort"),"Tri par agence d'intérim et/ou fournisseur et FDNQ",""))))) -> Action cloturée | AJ23: 41676 | AK23: Demander au service client de voir avec le client afin de régler le problème avec son fournisseur. | AL23: 41677 | AM23: =IF(AL23<>0,NETWORKDAYS(B23,AL23),"") -> 2 | AP23: =COUNTIF(#REF!,FALSE) -> #REF! | AQ23: =COUNTIF($AG$5:$AG$1048576,AG23) -> 1
A24: 20 | B24: 41677 | C24: =MONTH(B24) -> 2 | D24: =YEAR(B24) -> 2014 | E24: 1150634 | F24: 26817 | G24: 27223 | H24: Condt. | I24: NTX | J24: HMO | L24: NTX Welcome Pack Visa Platinum | M24: 2 | N24: 6352 | O24: 3880 | P24: =IF(OR($T24="b4",$T24="b6",$T24="c8",$T24="c11",$T24="c10",$T24="c12",$T24="c14"),1,($M24/($N24))) -> 0.00031486146 | Q24: 0.0069444444 | R24: 0.0069444444 | S24: Le revêtement du coffret est abîmé. | T24: C7 | U24: =+LEFT(T24,1) -> C | V24: =VLOOKUP(T24,Codes!A$9:B$51,2,FALSE) -> produit déchiré, abimé dans l'emballage. | AA24: 1 | AB24: =IF((AA24)<=2,"faible","fort") -> faible | AC24: =IF((P24)<=3%,"faible","fort") -> faible | AD24: =IF(AND(AB24="Faible",AC24="Faible"),"Faible",IF(AND(AB24="Faible",AC24="Faible"),"Fort",IF(AND(AB24="Faible",AC24="Fort"),"Faible",IF(AND(AB24="Faible",AC24="Fort"),"Fort",IF(AND(AB24="Fort",AC24="Faible"),"Fort",IF(AND(AB24="Fort",AC24="Faible"),"Fort",IF(AND(AB24="Fort",AC24="Fort"),"Fort","Fort"))))))) -> Faible | AE24: =IF(AD24="Faible", "2", IF(AD24="Fort","5")) -> 2 | AF24: =COUNTIF($AG$5:$AG$1048576,AG24) -> 3 | AG24: =CONCATENATE(D24,E24,T24) -> 20141150634C7 | AH24: =IF(AL24<>0,"Action cloturée",IF(AND(E24="HMO",AD29="Faible"),"",IF(AND(J24="HMO",AD29="Fort"),"Informer immédiatement le client pour connaitre la marche à suivre",IF(AND(J24="MO",AD29="Faible"),"",IF(AND(J24="MO",AD29="Fort"),"Tri par agence d'intérim et/ou fournisseur et FDNQ",""))))) -> Action cloturée | AJ24: 07/02/ | AK24: Contrôle sur étagère RAS | AL24: 41677 | AM24: =IF(AL24<>0,NETWORKDAYS(B24,AL24),"") -> 1 | AP24: =COUNTIF(#REF!,FALSE) -> #REF! | AQ24: =COUNTIF($AG$5:$AG$1048576,AG24) -> 3
A25: 21 | B25: 41676 | C25: =MONTH(B25) -> 2 | D25: =YEAR(B25) -> 2014 | E25: 1133365 | F25: 30986 | G25: 140206 | H25: Stock Papier | I25: Banque Sofinco | J25: HMO | L25: SO1 Condition générale carte Darty | M25: 180000 | N25: 180000 | O25: 180000 | P25: =IF(OR($T25="b4",$T25="b6",$T25="c8",$T25="c11",$T25="c10",$T25="c12",$T25="c14"),1,($M25/($N25))) -> 1 | Q25: 0.041666667 | R25: 0.0069444444 | S25: Les palettes ne sont pas conforme aux cahier des charges, 700 x 1000 | T25: C8 | U25: =+LEFT(T25,1) -> C | V25: =VLOOKUP(T25,Codes!A$9:B$51,2,FALSE) -> Conditionnement inadapté | AA25: 1 | AB25: =IF((AA25)<=2,"faible","fort") -> faible | AC25: =IF((P25)<=3%,"faible","fort") -> fort | AD25: =IF(AND(AB25="Faible",AC25="Faible"),"Faible",IF(AND(AB25="Faible",AC25="Faible"),"Fort",IF(AND(AB25="Faible",AC25="Fort"),"Faible",IF(AND(AB25="Faible",AC25="Fort"),"Fort",IF(AND(AB25="Fort",AC25="Faible"),"Fort",IF(AND(AB25="Fort",AC25="Faible"),"Fort",IF(AND(AB25="Fort",AC25="Fort"),"Fort","Fort"))))))) -> Faible | AE25: =IF(AD25="Faible", "2", IF(AD25="Fort","5")) -> 2 | AF25: =COUNTIF($AG$5:$AG$1048576,AG25) -> 1 | AG25: =CONCATENATE(D25,E25,T25) -> 20141133365C8 | AH25: =IF(AL25<>0,"Action cloturée",IF(AND(E25="HMO",AD29="Faible"),"",IF(AND(J25="HMO",AD29="Fort"),"Informer immédiatement le client pour connaitre la marche à suivre",IF(AND(J25="MO",AD29="Faible"),"",IF(AND(J25="MO",AD29="Fort"),"Tri par agence d'intérim et/ou fournisseur et FDNQ",""))))) -> Action cloturée | AJ25: 41677 | AK25: Information du service client, pour qu'il prennent contact | AL25: 41677 | AM25: =IF(AL25<>0,NETWORKDAYS(B25,AL25),"") -> 2 | AP25: =COUNTIF(#REF!,FALSE) -> #REF! | AQ25: =COUNTIF($AG$5:$AG$1048576,AG25) -> 1
A26: 22 | B26: 41677 | C26: =MONTH(B26) -> 2 | D26: =YEAR(B26) -> 2014 | E26: 1058038 | F26: 21867 | G26: 131014 | H26: Mailers | I26: Cetelem | J26: HMO | L26: CTF COMMUN ENV 1/3 EUROPEEN | M26: 1000 | N26: 210000 | O26: 208000 | P26: =IF(OR($T26="b4",$T26="b6",$T26="c8",$T26="c11",$T26="c10",$T26="c12",$T26="c14"),1,($M26/($N26))) -> 0.0047619048 | Q26: 0.010416667 | R26: 0.034722222 | S26: Carton endommagé | T26: C7 | U26: =+LEFT(T26,1) -> C | V26: =VLOOKUP(T26,Codes!A$9:B$51,2,FALSE) -> produit déchiré, abimé dans l'emballage. | AA26: 1 | AB26: =IF((AA26)<=2,"faible","fort") -> faible | AC26: =IF((P26)<=3%,"faible","fort") -> faible | AD26: =IF(AND(AB26="Faible",AC26="Faible"),"Faible",IF(AND(AB26="Faible",AC26="Faible"),"Fort",IF(AND(AB26="Faible",AC26="Fort"),"Faible",IF(AND(AB26="Faible",AC26="Fort"),"Fort",IF(AND(AB26="Fort",AC26="Faible"),"Fort",IF(AND(AB26="Fort",AC26="Faible"),"Fort",IF(AND(AB26="Fort",AC26="Fort"),"Fort","Fort"))))))) -> Faible | AE26: =IF(AD26="Faible", "2", IF(AD26="Fort","5")) -> 2 | AF26: =COUNTIF($AG$5:$AG$1048576,AG26) -> 1 | AG26: =CONCATENATE(D26,E26,T26) -> 20141058038C7 | AH26: =IF(AL26<>0,"Action cloturée",IF(AND(E26="HMO",AD29="Faible"),"",IF(AND(J26="HMO",AD29="Fort"),"Informer immédiatement le client pour connaitre la marche à suivre",IF(AND(J26="MO",AD29="Faible"),"",IF(AND(J26="MO",AD29="Fort"),"Tri par agence d'intérim et/ou fournisseur et FDNQ",""))))) -> Action cloturée | AI26: R:\Qualité\CI 12-2014 | AJ26: 41680 | AK26: Contrôle sur étagère, resembilisation des personnes sur le sujets | AL26: 41683 | AM26: =IF(AL26<>0,NETWORKDAYS(B26,AL26),"") -> 5 | AP26: =COUNTIF(#REF!,FALSE) -> #REF! | AQ26: =COUNTIF($AG$5:$AG$1048576,AG26) -> 1
A27: 23 | B27: 41677 | C27: =MONTH(B27) -> 2 | D27: =YEAR(B27) -> 2014 | E27: 1058481 | F27: 29197 | G27: 131211 | H27: Mailers | I27: OT | J27: MO | K27: GPV | L27: OT ENV 115*225 F45*100 | M27: 1000 | N27: 994000 | O27: 88000 | P27: =IF(OR($T27="b4",$T27="b6",$T27="c8",$T27="c11",$T27="c10",$T27="c12",$T27="c14"),1,($M27/($N27))) -> 0.0010060362 | Q27: 0.010416667 | R27: 0.034722222 | S27: Carton endommagé | T27: C7 | U27: =+LEFT(T27,1) -> C | V27: =VLOOKUP(T27,Codes!A$9:B$51,2,FALSE) -> produit déchiré, abimé dans l'emballage. | AA27: 2 | AB27: =IF((AA27)<=2,"faible","fort") -> faible | AC27: =IF((P27)<=3%,"faible","fort") -> faible | AD27: =IF(AND(AB27="Faible",AC27="Faible"),"Faible",IF(AND(AB27="Faible",AC27="Faible"),"Fort",IF(AND(AB27="Faible",AC27="Fort"),"Faible",IF(AND(AB27="Faible",AC27="Fort"),"Fort",IF(AND(AB27="Fort",AC27="Faible"),"Fort",IF(AND(AB27="Fort",AC27="Faible"),"Fort",IF(AND(AB27="Fort",AC27="Fort"),"Fort","Fort"))))))) -> Faible | AE27: =IF(AD27="Faible", "2", IF(AD27="Fort","5")) -> 2 | AF27: =COUNTIF($AG$5:$AG$1048576,AG27) -> 1 | AG27: =CONCATENATE(D27,E27,T27) -> 20141058481C7 | AH27: =IF(AL27<>0,"Action cloturée",IF(AND(E27="HMO",AD29="Faible"),"",IF(AND(J27="HMO",AD29="Fort"),"Informer immédiatement le client pour connaitre la marche à suivre",IF(AND(J27="MO",AD29="Faible"),"",IF(AND(J27="MO",AD29="Fort"),"Tri par agence d'intérim et/ou fournisseur et FDNQ",""))))) -> Action cloturée | AI27: R:\Qualité\CI 12-2014 | AJ27: 41680 | AK27: Contrôle sur étagère, resembilisation des personnes sur le sujets | AL27: 41683 | AM27: =IF(AL27<>0,NETWORKDAYS(B27,AL27),"") -> 5 | AP27: =COUNTIF(#REF!,FALSE) -> #REF! | AQ27: =COUNTIF($AG$5:$AG$1048576,AG27) -> 1 | AR27: =IF(COUNTIF(U27,"*C*"),"2","") -> 2
A28: 24 | B28: 41682 | C28: =MONTH(B28) -> 2 | D28: =YEAR(B28) -> 2014 | E28: 1058722 | F28: 30282 | G28: 30980 | H28: Condt. | I28: SG | J28: HMO | L28: CSG POCH 1ER CRE 130002-135502 | M28: 40 | N28: 34940 | O28: 21140 | P28: =IF(OR($T28="b4",$T28="b6",$T28="c8",$T28="c11",$T28="c10",$T28="c12",$T28="c14"),1,($M28/($N28))) -> 1 | Q28: 0.0069444444 | R28: 0.03125 | S28: Manque 40 pochettesdans le carton | T28: C11 | U28: =+LEFT(T28,1) -> C | V28: =VLOOKUP(T28,Codes!A$9:B$51,2,FALSE) -> Quantité livrée non conforme au document. | AB28: =IF((AA28)<=2,"faible","fort") -> faible | AC28: =IF((P28)<=3%,"faible","fort") -> fort | AD28: =IF(AND(AB28="Faible",AC28="Faible"),"Faible",IF(AND(AB28="Faible",AC28="Faible"),"Fort",IF(AND(AB28="Faible",AC28="Fort"),"Faible",IF(AND(AB28="Faible",AC28="Fort"),"Fort",IF(AND(AB28="Fort",AC28="Faible"),"Fort",IF(AND(AB28="Fort",AC28="Faible"),"Fort",IF(AND(AB28="Fort",AC28="Fort"),"Fort","Fort"))))))) -> Faible | AE28: =IF(AD28="Faible", "2", IF(AD28="Fort","5")) -> 2 | AF28: =COUNTIF($AG$5:$AG$1048576,AG28) -> 2 | AG28: =CONCATENATE(D28,E28,T28) -> 20141058722C11 | AH28: =IF(AL28<>0,"Action cloturée",IF(AND(E28="HMO",AD29="Faible"),"",IF(AND(J28="HMO",AD29="Fort"),"Informer immédiatement le client pour connaitre la marche à suivre",IF(AND(J28="MO",AD29="Faible"),"",IF(AND(J28="MO",AD29="Fort"),"Tri par agence d'intérim et/ou fournisseur et FDNQ",""))))) -> Action cloturée | AJ28: 41682 | AK28: Contrôle sur étagère , sensibilisation du fournisseur | AL28: 41683 | AM28: =IF(AL28<>0,NETWORKDAYS(B28,AL28),"") -> 2 | AP28: =COUNTIF(#REF!,FALSE) -> #REF! | AQ28: =COUNTIF($AG$5:$AG$1048576,AG28) -> 2
A29: 25 | B29: 41682 | C29: =MONTH(B29) -> 2 | D29: =YEAR(B29) -> 2014 | E29: 1058044 | F29: 31167 | G29: 33305 | H29: Stock Papier | I29: Cetelem | J29: HMO | L29: CTF ENC AXA LARG | M29: 3000 | N29: 3000 | O29: 3000 | P29: =IF(OR($T29="b4",$T29="b6",$T29="c8",$T29="c11",$T29="c10",$T29="c12",$T29="c14"),1,($M29/($N29))) -> 1 | Q29: 0.0069444444 | R29: 0.0069444444 | S29: Les encarts sont conditionnés en cartons de 1000 au lieu d'être en ramette de 500 | T29: C8 | U29: =+LEFT(T29,1) -> C | V29: =VLOOKUP(T29,Codes!A$9:B$51,2,FALSE) -> Conditionnement inadapté | AB29: =IF((AA29)<=2,"faible","fort") -> faible | AC29: =IF((P29)<=3%,"faible","fort") -> fort | AD29: =IF(AND(AB29="Faible",AC29="Faible"),"Faible",IF(AND(AB29="Faible",AC29="Faible"),"Fort",IF(AND(AB29="Faible",AC29="Fort"),"Faible",IF(AND(AB29="Faible",AC29="Fort"),"Fort",IF(AND(AB29="Fort",AC29="Faible"),"Fort",IF(AND(AB29="Fort",AC29="Faible"),"Fort",IF(AND(AB29="Fort",AC29="Fort"),"Fort","Fort"))))))) -> Faible | AE29: =IF(AD29="Faible", "2", IF(AD29="Fort","5")) -> 2 | AF29: =COUNTIF($AG$5:$AG$1048576,AG29) -> 1 | AG29: =CONCATENATE(D29,E29,T29) -> 20141058044C8 | AH29: =IF(AL29<>0,"Action cloturée",IF(AND(E29="HMO",AD29="Faible"),"",IF(AND(J29="HMO",AD29="Fort"),"Informer immédiatement le client pour connaitre la marche à suivre",IF(AND(J29="MO",AD29="Faible"),"",IF(AND(J29="MO",AD29="Fort"),"Tri par agence d'intérim et/ou fournisseur et FDNQ",""))))) -> Action cloturée | AJ29: 41682 | AK29: Information du service client, pour qu'il prennent contact | AL29: 41771 | AM29: =IF(AL29<>0,NETWORKDAYS(B29,AL29),"") -> 64 | AP29: =COUNTIF(#REF!,FALSE) -> #REF! | AQ29: =COUNTIF($AG$5:$AG$1048576,AG29) -> 1
A30: 26 | B30: 41687 | C30: =MONTH(B30) -> 2 | D30: =YEAR(B30) -> 2014 | E30: 1058024 | F30: 21272 | G30: 32105 | H30: Stock Papier | I30: Cetelem | J30: HMO | L30: CTF Encart But Fidem | M30: 30000 | N30: 30000 | O30: 30000 | P30: =IF(OR($T30="b4",$T30="b6",$T30="c8",$T30="c11",$T30="c10",$T30="c12",$T30="c14"),1,($M30/($N30))) -> 1 | Q30: 0.0069444444 | R30: 0.0069444444 | S30: Les encarts sont conditionnés en cartons de 1000 au lieu d'être en ramette de 500 | T30: C8 | U30: =+LEFT(T30,1) -> C | V30: =VLOOKUP(T30,Codes!A$9:B$51,2,FALSE) -> Conditionnement inadapté | AB30: =IF((AA30)<=2,"faible","fort") -> faible | AC30: =IF((P30)<=3%,"faible","fort") -> fort | AD30: =IF(AND(AB30="Faible",AC30="Faible"),"Faible",IF(AND(AB30="Faible",AC30="Faible"),"Fort",IF(AND(AB30="Faible",AC30="Fort"),"Faible",IF(AND(AB30="Faible",AC30="Fort"),"Fort",IF(AND(AB30="Fort",AC30="Faible"),"Fort",IF(AND(AB30="Fort",AC30="Faible"),"Fort",IF(AND(AB30="Fort",AC30="Fort"),"Fort","Fort"))))))) -> Faible | AE30: =IF(AD30="Faible", "2", IF(AD30="Fort","5")) -> 2 | AF30: =COUNTIF($AG$5:$AG$1048576,AG30) -> 1 | AG30: =CONCATENATE(D30,E30,T30) -> 20141058024C8 | AH30: =IF(AL30<>0,"Action cloturée",IF(AND(E30="HMO",AD30="Faible"),"",IF(AND(J30="HMO",AD30="Fort"),"Informer immédiatement le client pour connaitre la marche à suivre",IF(AND(J30="MO",AD30="Faible"),"",IF(AND(J30="MO",AD30="Fort"),"Tri par agence d'intérim et/ou fournisseur et FDNQ",""))))) -> Action cloturée | AJ30: 41691 | AK30: Information du service client, pour qu'il prennent contact | AL30: 41692 | AM30: =IF(AL30<>0,NETWORKDAYS(B30,AL30),"") -> 5 | AP30: =COUNTIF(#REF!,FALSE) -> #REF! | AQ30: =COUNTIF($AG$5:$AG$1048576,AG30) -> 1
A31: 27 | B31: 41690 | C31: =MONTH(B31) -> 2 | D31: =YEAR(B31) -> 2014 | E31: 1058556 | F31: 29560 | G31: 31244 | H31: Condt. | I31: OT | J31: MO | K31: GPV | L31: OT PLASTIPOST PF 175*320+50 | M31: 500 | N31: 150000 | O31: 59500 | P31: =IF(OR($T31="b4",$T31="b6",$T31="c8",$T31="c11",$T31="c10",$T31="c12",$T31="c14"),1,($M31/($N31))) -> 0.0033333333 | Q31: 0.020833333 | R31: 0.010416667 | S31: Il y a des résidus de colle important sur les bande de protection, ce qui provaoque des trace importante sur les doigts des opoératrices ainsi que sur les tables de travail. | T31: C3 | U31: =+LEFT(T31,1) -> C | V31: =VLOOKUP(T31,Codes!A$9:B$51,2,FALSE) -> Produits collés entre eux | AA31: 1 | AB31: =IF((AA31)<=2,"faible","fort") -> faible | AC31: =IF((P31)<=3%,"faible","fort") -> faible | AD31: =IF(AND(AB31="Faible",AC31="Faible"),"Faible",IF(AND(AB31="Faible",AC31="Faible"),"Fort",IF(AND(AB31="Faible",AC31="Fort"),"Faible",IF(AND(AB31="Faible",AC31="Fort"),"Fort",IF(AND(AB31="Fort",AC31="Faible"),"Fort",IF(AND(AB31="Fort",AC31="Faible"),"Fort",IF(AND(AB31="Fort",AC31="Fort"),"Fort","Fort"))))))) -> Faible | AE31: =IF(AD31="Faible", "2", IF(AD31="Fort","5")) -> 2 | AF31: =COUNTIF($AG$5:$AG$1048576,AG31) -> 2 | AG31: =CONCATENATE(D31,E31,T31) -> 20141058556C3 | AH31: =IF(AL31<>0,"Action cloturée",IF(AND(E31="HMO",AD31="Faible"),"",IF(AND(J31="HMO",AD31="Fort"),"Informer immédiatement le client pour connaitre la marche à suivre",IF(AND(J31="MO",AD31="Faible"),"",IF(AND(J31="MO",AD31="Fort"),"Tri par agence d'intérim et/ou fournisseur et FDNQ",""))))) -> Action cloturée | AJ31: 41691 | AK31: information du fournisseur via le service achat | AL31: 41692 | AM31: =IF(AL31<>0,NETWORKDAYS(B31,AL31),"") -> 2 | AP31: =COUNTIF(#REF!,FALSE) -> #REF! | AQ31: =COUNTIF($AG$5:$AG$1048576,AG31) -> 2
A32: 28 | B32: 41684 | C32: =MONTH(B32) -> 2 | D32: =YEAR(B32) -> 2014 | E32: 1058722 | F32: 30282 | G32: 30980 | H32: Condt. | I32: SG | J32: HMO | L32: CSG POCH 1ER CRE 130002-135502 | M32: 120 | N32: 34940 | O32: 14900 | P32: =IF(OR($T32="b4",$T32="b6",$T32="c8",$T32="c11",$T32="c10",$T32="c12",$T32="c14"),1,($M32/($N32/100))) -> 1 | Q32: 0.010416667 | R32: 0.010416667 | S32: Manque 40 pochettesdans le carton | T32: C11 | U32: =+LEFT(T32,1) -> C | V32: =VLOOKUP(T32,Codes!A$9:B$51,2,FALSE) -> Quantité livrée non conforme au document. | AB32: =IF((AA32)<=2,"faible","fort") -> faible | AC32: =IF((P32)<=3,"faible","fort") -> faible | AD32: =IF(AND(AB32="Faible",AC32="Faible"),"Faible",IF(AND(AB32="Faible",AC32="Faible"),"Fort",IF(AND(AB32="Faible",AC32="Fort"),"Faible",IF(AND(AB32="Faible",AC32="Fort"),"Fort",IF(AND(AB32="Fort",AC32="Faible"),"Fort",IF(AND(AB32="Fort",AC32="Faible"),"Fort",IF(AND(AB32="Fort",AC32="Fort"),"Fort","Fort"))))))) -> Faible | AE32: =IF(AD32="Faible", "2", IF(AD32="Fort","5")) -> 2 | AF32: =COUNTIF($AG$5:$AG$1048576,AG32) -> 2 | AG32: =CONCATENATE(D32,E32,T32) -> 20141058722C11 | AH32: =IF(AL32<>0,"Action cloturée",IF(AND(E32="HMO",AD32="Faible"),"",IF(AND(J32="HMO",AD32="Fort"),"Informer immédiatement le client pour connaitre la marche à suivre",IF(AND(J32="MO",AD32="Faible"),"",IF(AND(J32="MO",AD32="Fort"),"Tri par agence d'intérim et/ou fournisseur et FDNQ",""))))) -> Action cloturée | AJ32: 41684 | AK32: nformation du fournisseur via le service achat. Point qualité avec la chargée d'affaire le 25/02/2014. | AL32: 41711 | AM32: =IF(AL32<>0,NETWORKDAYS(B32,AL32),"") -> 20 | AP32: =COUNTIF(#REF!,FALSE) -> #REF! | AQ32: =COUNTIF($AG$5:$AG$1048576,AG32) -> 2
A33: 29 | B33: 41691 | C33: =MONTH(B33) -> 2 | D33: =YEAR(B33) -> 2014 | E33: 1058225 | F33: 30901 | G33: 32240 | H33: Exploit Info | I33: ASIP | J33: MO | K33: Imprimerie Gresset | L33: ASIP ENC ASIP SANTE | M33: 200 | N33: 15000 | O33: 0 | P33: =IF(OR($T33="b4",$T33="b6",$T33="c8",$T33="c11",$T33="c10",$T33="c12",$T33="c14"),1,($M33/($N33/100))) -> 1.3333333 | Q33: 0.020833333 | R33: 0.010416667 | S33: Encre pas aaseX sèche, se dépose sur les tambours des machines et laisse des traces lors des éditions.(VP110) idem sur la 5115. | T33: B2 | U33: =+LEFT(T33,1) -> B | V33: =VLOOKUP(T33,Codes!A$9:B$51,2,FALSE) -> Produit inadapté au processus | AB33: =IF((AA33)<=2,"faible","fort") -> faible | AC33: =IF((P33)<=3,"faible","fort") -> faible | AD33: =IF(AND(AB33="Faible",AC33="Faible"),"Faible",IF(AND(AB33="Faible",AC33="Faible"),"Fort",IF(AND(AB33="Faible",AC33="Fort"),"Faible",IF(AND(AB33="Faible",AC33="Fort"),"Fort",IF(AND(AB33="Fort",AC33="Faible"),"Fort",IF(AND(AB33="Fort",AC33="Faible"),"Fort",IF(AND(AB33="Fort",AC33="Fort"),"Fort","Fort"))))))) -> Faible | AE33: =IF(AD33="Faible", "2", IF(AD33="Fort","5")) -> 2 | AF33: =COUNTIF($AG$5:$AG$1048576,AG33) -> 2 | AG33: =CONCATENATE(D33,E33,T33) -> 20141058225B2 | AH33: =IF(AL33<>0,"Action cloturée",IF(AND(E33="HMO",AD33="Faible"),"",IF(AND(J33="HMO",AD33="Fort"),"Informer immédiatement le client pour connaitre la marche à suivre",IF(AND(J33="MO",AD33="Faible"),"",IF(AND(J33="MO",AD33="Fort"),"Tri par agence d'intérim et/ou fournisseur et FDNQ",""))))) -> Action cloturée | AJ33: 41691 | AK33: Après nettoyage de la machine les encarts ont été édités sur la 5115 sans problème. (Confirmé au téléphone par Julien le 24/02/14). | AL33: 41694 | AM33: =IF(AL33<>0,NETWORKDAYS(B33,AL33),"") -> 2 | AP33: =COUNTIF(#REF!,FALSE) -> #REF! | AQ33: =COUNTIF($AG$5:$AG$1048576,AG33) -> 2
A34: 30 | B34: 41694 | C34: =MONTH(B34) -> 2 | D34: =YEAR(B34) -> 2014 | E34: 1058696 | F34: 29595 | G34: 31764 | H34: Mailers | I34: SG | J34: MO | K34: Paragon Transaction | L34: CSG PLIS SCELLES CSG | M34: 2500 | N34: 74000 | O34: 34000 | P34: =IF(OR($T34="b4",$T34="b6",$T34="c8",$T34="c11",$T34="c10",$T34="c12",$T34="c14"),1,($M34/($N34/100))) -> 3.3783784 | Q34: 0.25 | R34: 0.076388889 | S34: manque de colle: la colle déposé est trop faible pour permettre un scellage correct. | T34: A1 | U34: =+LEFT(T34,1) -> A | V34: =VLOOKUP(T34,Codes!A$9:B$51,2,FALSE) -> Absence ou manque de colle sur le produit | AB34: =IF((AA34)<=2,"faible","fort") -> faible | AC34: =IF((P34)<=3,"faible","fort") -> fort | AD34: =IF(AND(AB34="Faible",AC34="Faible"),"Faible",IF(AND(AB34="Faible",AC34="Faible"),"Fort",IF(AND(AB34="Faible",AC34="Fort"),"Faible",IF(AND(AB34="Faible",AC34="Fort"),"Fort",IF(AND(AB34="Fort",AC34="Faible"),"Fort",IF(AND(AB34="Fort",AC34="Faible"),"Fort",IF(AND(AB34="Fort",AC34="Fort"),"Fort","Fort"))))))) -> Faible | AE34: =IF(AD34="Faible", "2", IF(AD34="Fort","5")) -> 2 | AF34: =COUNTIF($AG$5:$AG$1048576,AG34) -> 1 | AG34: =CONCATENATE(D34,E34,T34) -> 20141058696A1 | AH34: =IF(AL34<>0,"Action cloturée",IF(AND(E34="HMO",AD34="Faible"),"",IF(AND(J34="HMO",AD34="Fort"),"Informer immédiatement le client pour connaitre la marche à suivre",IF(AND(J34="MO",AD34="Faible"),"",IF(AND(J34="MO",AD34="Fort"),"Tri par agence d'intérim et/ou fournisseur et FDNQ",""))))) -> Action cloturée | AJ34: 41694 | AK34: Contrôle sur étagère. Manque de colle sur les plis scellés, reMOnté de l'info vers JLF pour FDNQ. Lot bloqué. Utilisation de la nouvelle livraison.Ok sur les cartons contrôlés. | AL34: 41722 | AM34: =IF(AL34<>0,NETWORKDAYS(B34,AL34),"") -> 21 | AP34: =COUNTIF(#REF!,FALSE) -> #REF! | AQ34: =COUNTIF($AG$5:$AG$1048576,AG34) -> 1
