Workbook

Sheet ONGLET QUI RECUPERE
B1: 43861 | C1: =EOMONTH(B1,1) -> 43890 | D1: =EOMONTH(C1,1) -> 43921 | E1: =EOMONTH(D1,1) -> 43951 | F1: =EOMONTH(E1,1) -> 43982 | G1: =EOMONTH(F1,1) -> 44012 | H1: =EOMONTH(G1,1) -> 44043 | I1: =EOMONTH(H1,1) -> 44074 | J1: =EOMONTH(I1,1) -> 44104 | ... M1: =EOMONTH(L1,1) -> 44196
A3: Chiffre d'affaires | B3: =B4+B5+B6 -> 600 | C3: =C4+C5+C6 -> 0 | D3: =D4+D5+D6 -> 0 | E3: =E4+E5+E6 -> 0 | F3: =F4+F5+F6 -> 0 | G3: =G4+G5+G6 -> 0 | H3: =H4+H5+H6 -> 0 | I3: =I4+I5+I6 -> 0 | ... M3: =M4+M5+M6 -> 0
A4: Grands comptes | B4: ='ONGLET AVEC DONNEE SOURCE'!D14 -> 100
A5: Grands Comptes 2 | B5: ='ONGLET AVEC DONNEE SOURCE'!D15 -> 200
A6: Segment XX | B6: ='ONGLET AVEC DONNEE SOURCE'!D16 -> 300
A8: Variation m/m | B8: =IFERROR((B3-#REF!)/#REF!,0) -> 0 | C8: =IFERROR((C3-B3)/B3,0) -> -1 | D8: =IFERROR((D3-C3)/C3,0) -> 0 | E8: =IFERROR((E3-D3)/D3,0) -> 0 | F8: =IFERROR((F3-E3)/E3,0) -> 0 | G8: =IFERROR((G3-F3)/F3,0) -> 0 | H8: =IFERROR((H3-G3)/G3,0) -> 0 | I8: =IFERROR((I3-H3)/H3,0) -> 0 | J8: =IFERROR((J3-I3)/I3,0) -> 0 | ... M8: =IFERROR((M3-L3)/L3,0) -> 0
A9: Variation y/y | B9: =IFERROR((B3-#REF!)/#REF!,0) -> 0 | C9: =IFERROR((C3-#REF!)/#REF!,0) -> 0 | D9: =IFERROR((D3-#REF!)/#REF!,0) -> 0 | E9: =IFERROR((E3-#REF!)/#REF!,0) -> 0 | F9: =IFERROR((F3-#REF!)/#REF!,0) -> 0 | G9: =IFERROR((G3-#REF!)/#REF!,0) -> 0 | H9: =IFERROR((H3-#REF!)/#REF!,0) -> 0 | I9: =IFERROR((I3-#REF!)/#REF!,0) -> 0 | ... M9: =IFERROR((M3-#REF!)/#REF!,0) -> 0
A11: Charges | B11: =SUM(B12:B19) -> 350 | C11: =SUM(C12:C19) -> 0 | D11: =SUM(D12:D19) -> 0 | E11: =SUM(E12:E19) -> 0 | F11: =SUM(F12:F19) -> 0 | G11: =SUM(G12:G19) -> 0 | H11: =SUM(H12:H19) -> 0 | I11: =SUM(I12:I19) -> 0 | ... M11: =SUM(M12:M19) -> 0
A12: =A4 -> Grands comptes | B12: ='ONGLET AVEC DONNEE SOURCE'!D7 -> 50
A13: Provision
A14: =A5 -> Grands Comptes 2 | B14: ='ONGLET AVEC DONNEE SOURCE'!D9 -> 100
A15: Provision
A16: =A6 -> Segment XX | B16: ='ONGLET AVEC DONNEE SOURCE'!D11 -> 200
A17: Provision

Sheet ONGLET AVEC DONNEE SOURCE
D4: 43861 | E4: =EOMONTH(D4,1) -> 43890 | F4: =EOMONTH(E4,1) -> 43921 | G4: =EOMONTH(F4,1) -> 43951 | H4: =EOMONTH(G4,1) -> 43982 | I4: =EOMONTH(H4,1) -> 44012 | J4: =EOMONTH(I4,1) -> 44043 | K4: =EOMONTH(J4,1) -> 44074 | L4: =EOMONTH(K4,1) -> 44104 | ... O4: =EOMONTH(N4,1) -> 44196
C6: Charges | D6: =SUM(D7:D22) -> 1550 | E6: =SUM(E7:E22) -> -1 | F6: =SUM(F7:F22) -> 0 | G6: =SUM(G7:G22) -> 0 | H6: =SUM(H7:H22) -> 0 | I6: =SUM(I7:I22) -> 0 | J6: =SUM(J7:J22) -> 0 | K6: =SUM(K7:K22) -> 0 | ... O6: =SUM(O7:O22) -> 0
C7: =C14 -> Grands comptes | D7: 50
C8: Provision
C9: =C15 -> Grands Comptes 2 | D9: 100
C10: Provision
C11: =C16 -> Segment XX | D11: 200
C12: Provision
C13: Chiffre d'affaires | D13: =D14+D15+D16 -> 600 | E13: =E14+E15+E16 -> 0 | F13: =F14+F15+F16 -> 0 | G13: =G14+G15+G16 -> 0 | H13: =H14+H15+H16 -> 0 | I13: =I14+I15+I16 -> 0 | J13: =J14+J15+J16 -> 0 | K13: =K14+K15+K16 -> 0 | ... O13: =O14+O15+O16 -> 0
C14: Grands comptes | D14: 100
C15: Grands Comptes 2 | D15: 200
C16: Segment XX | D16: 300
C18: Variation m/m | D18: =IFERROR((D13-#REF!)/#REF!,0) -> 0 | E18: =IFERROR((E13-D13)/D13,0) -> -1 | F18: =IFERROR((F13-E13)/E13,0) -> 0 | G18: =IFERROR((G13-F13)/F13,0) -> 0 | H18: =IFERROR((H13-G13)/G13,0) -> 0 | I18: =IFERROR((I13-H13)/H13,0) -> 0 | J18: =IFERROR((J13-I13)/I13,0) -> 0 | K18: =IFERROR((K13-J13)/J13,0) -> 0 | L18: =IFERROR((L13-K13)/K13,0) -> 0 | ... O18: =IFERROR((O13-N13)/N13,0) -> 0
C19: Variation y/y | D19: =IFERROR((D13-#REF!)/#REF!,0) -> 0 | E19: =IFERROR((E13-#REF!)/#REF!,0) -> 0 | F19: =IFERROR((F13-#REF!)/#REF!,0) -> 0 | G19: =IFERROR((G13-#REF!)/#REF!,0) -> 0 | H19: =IFERROR((H13-#REF!)/#REF!,0) -> 0 | I19: =IFERROR((I13-#REF!)/#REF!,0) -> 0 | J19: =IFERROR((J13-#REF!)/#REF!,0) -> 0 | K19: =IFERROR((K13-#REF!)/#REF!,0) -> 0 | ... O19: =IFERROR((O13-#REF!)/#REF!,0) -> 0
