Workbook

Sheet Feuil1
A1: Designation
A2: baby nova verre décoré | B2: 11
A3: beauty hair color | B3: 12
A4: biberon 125 ml 3 m+ | B4: 12
A5: biberon 150 ml bleu | B5: 16
A6: biberon 150 ml rose | B6: 16
A7: biberon 240 ml | B7: 33.7
A8: biberon 250 ml 0m+ | B8: 5
A9: biberon 250 ml 3 m+ | B9: 11
A10: biberon en verre 125 ml | B10: 12
A11: biberon en verre 240 ml | B11: 12
A12: bionnex spray | B12: 18
A13: brosse et peigne | B13: 16
... A20: chicco bib voyage rose 240 ml 4m | B20: 14.5
A21: chicco bib voyage vert 240 ml 4m
A22: chicco sucette phy-conf rose sil 4m
A23: chicco sucette phy-hair lumi sil 4m
A24: ciseaux
A25: coffret 2 band actif 50+ kit off
A26: crème de change ( baume clendula)
A27: daylong lait 100 ml
A28: disque démaquillon | B28: 65
A29: double sucette boy | B29: 65
A30: eau fraiche parfumée | B30: 5.5
A31: eau micellaire | B31: 7.9
A32: farlin pp col large | B32: 12.5
A33: gel corps et cheveux | B33: 18
A34: genouillères | B34: 16.5
A35: goblet anti-fuite | B35: 13.5
A36: kit manicure | B36: 13.5
A37: lingettes | B37: 16
A38: lingettes | B38: 18
A39: lingettes | B39: 85
... A41: micro biberon en verre | B41: 11
A42: mustela stelatopia
A43: Nouveau | B43: 16.5
A44: parfum | B44: 16
A45: parfum | B45: 16
A46: pharmaceris 01 | B46: 14
A47: prothège biberon isotherm | B47: 26
A48: savon
A49: savon | B49: 13
A50: sébium pore refiner | B50: 21
A51: soin hydratant | B51: 17
A52: sucette
A53: sucette | B53: 19.5
A54: sucette double girl | B54: 25
A55: sucette phy soft bleu 0-6 m | B55: 32
A56: sucette phy soft rose 0-6 m
A57: tasse | B57: 15.5
A58: thermomètre | B58: 12
A59: thermomètre auriculaire | B59: 14.9
A60: thermomètre canard | B60: 11
A61: tire lait manuel
A62: tire lait simple | B62: 14
A63: vergiturine | B63: 25

Sheet Feuil2
A1: CHIC EAU COLOGNE TRADITIONEL 100M | B1: =VLOOKUP(A1,Feuil1!$1:$6524,FALSE) -> #VALUE! | C1: 17
A2: CHIC EAU COLOGNE TRADITIONEL 100M | B2: =VLOOKUP(A2,Feuil1!$1:$6524,FALSE) -> #VALUE!
A3: CHIC EAU COLOGNE TRADITIONEL 100M | B3: =VLOOKUP(A3,Feuil1!$1:$6524,FALSE) -> #VALUE!
A4: CHIC EAU COLOGNE TRADITIONEL 100M | B4: =VLOOKUP(A4,Feuil1!$1:$6524,FALSE) -> #VALUE!
A5: CHIC . BROSSE ET PEIGNE PINK | B5: =VLOOKUP(A5,Feuil1!$1:$6524,FALSE) -> #VALUE!
A6: CHIC. BROSSE ET PEIGNE BLEU | B6: =VLOOKUP(A6,Feuil1!$1:$6524,FALSE) -> #VALUE!
A7: chico. Anti moustique ultra sons | B7: =VLOOKUP(A7,Feuil1!$1:$6524,FALSE) -> #VALUE!
A8: chic. Batonnet higiène 64 pcs | B8: =VLOOKUP(A8,Feuil1!$1:$6524,FALSE) -> #VALUE!
A9: chic coussinets anti bac absor | B9: =VLOOKUP(A9,Feuil1!$1:$6524,FALSE) -> #VALUE!
A10: chic ciseaux bleu | B10: =VLOOKUP(A10,Feuil1!$1:$6524,FALSE) -> #VALUE!
A11: chic ciseaux rose | B11: =VLOOKUP(A11,Feuil1!$1:$6524,FALSE) -> #VALUE!
A12: CHIC EAU COLOGNE TRADITIONEL 100M | B12: =VLOOKUP(A12,Feuil1!$1:$6524,FALSE) -> #VALUE!
A13: chic filet ombilical | B13: =VLOOKUP(A13,Feuil1!$1:$6524,FALSE) -> #VALUE!
... A41: chic bain shompoing baby moment | B41: =VLOOKUP(A41,Feuil1!$1:$6524,FALSE) -> #VALUE!
B42: =VLOOKUP(A42,Feuil1!$1:$6524,FALSE) -> #N/A
A43: mustela shampoing | B43: =VLOOKUP(A43,Feuil1!$1:$6524,FALSE) -> #VALUE!
A44: mustela 2 en1 cheveux/corp | B44: =VLOOKUP(A44,Feuil1!$1:$6524,FALSE) -> #VALUE!
A45: mustela eau de toilette 200ml | B45: =VLOOKUP(A45,Feuil1!$1:$6524,FALSE) -> #VALUE!
A46: mustela creme pour change | B46: =VLOOKUP(A46,Feuil1!$1:$6524,FALSE) -> #VALUE!
A47: mustela dermo nettoyant 500 ml | B47: =VLOOKUP(A47,Feuil1!$1:$6524,FALSE) -> #VALUE!
A48: gel lavant 300 ml | B48: =VLOOKUP(A48,Feuil1!$1:$6524,FALSE) -> #VALUE!
A49: mustela lait de toilette | B49: =VLOOKUP(A49,Feuil1!$1:$6524,FALSE) -> #VALUE!
A50: mustela lingettes | B50: =VLOOKUP(A50,Feuil1!$1:$6524,FALSE) -> #VALUE!
A51: mustela cold cream | B51: =VLOOKUP(A51,Feuil1!$1:$6524,FALSE) -> #VALUE!
A52: mustela stelatopia | B52: =VLOOKUP(A52,Feuil1!$1:$6524,FALSE) -> #VALUE!
A53: MUSTELA SHAMP MOUSSE 15, ML | B53: =VLOOKUP(A53,Feuil1!$1:$6524,FALSE) -> #VALUE!
A54: MUSTELA PHISIO BEBE 300 ML | B54: =VLOOKUP(A54,Feuil1!$1:$6524,FALSE) -> #VALUE!
A55: MUSTI EAU DE SOIN 50 ML | B55: =VLOOKUP(A55,Feuil1!$1:$6524,FALSE) -> #VALUE!
B56: =VLOOKUP(A56,Feuil1!$1:$6524,FALSE) -> #N/A
A57: GEL 2EN1 BIOLANE 300 ML | B57: =VLOOKUP(A57,Feuil1!$1:$6524,FALSE) -> #VALUE!
A58: EAU DE TOILETTE | B58: =VLOOKUP(A58,Feuil1!$1:$6524,FALSE) -> #VALUE!
A59: SHAMPOING DOUCEUR | B59: =VLOOKUP(A59,Feuil1!$1:$6524,FALSE) -> #VALUE!
A60: GEL INTIME | B60: =VLOOKUP(A60,Feuil1!$1:$6524,FALSE) -> #VALUE!
A61: lingettes | B61: =VLOOKUP(A61,Feuil1!$1:$6524,FALSE) -> #VALUE!
A62: crème de change | B62: =VLOOKUP(A62,Feuil1!$1:$6524,FALSE) -> #VALUE!
A63: TROUSSE DE SECOURS | B63: =VLOOKUP(A63,Feuil1!$1:$6524,FALSE) -> #VALUE!
A64: ECRAN SOLAIRE | B64: =VLOOKUP(A64,Feuil1!$1:$6524,FALSE) -> #VALUE!
A65: EAU MICELLAIRE | B65: =VLOOKUP(A65,Feuil1!$1:$6524,FALSE) -> #VALUE!
B66: =VLOOKUP(A66,Feuil1!$1:$6524,FALSE) -> #N/A
A67: trousse promo solaire | B67: =VLOOKUP(A67,Feuil1!$1:$6524,FALSE) -> #VALUE!
A68: daylong extreme lait spf50+ 100ml | B68: =VLOOKUP(A68,Feuil1!$1:$6524,FALSE) -> #VALUE!
A69: daylong kids | B69: =VLOOKUP(A69,Feuil1!$1:$6524,FALSE) -> #VALUE!
A70: pharmacreis crème enfant | B70: =VLOOKUP(A70,Feuil1!$1:$6524,FALSE) -> #VALUE!
A71: daylong extreme gel spf 50+ 100ml | B71: =VLOOKUP(A71,Feuil1!$1:$6524,FALSE) -> #VALUE!
A72: pharmacerise fluide teint spf50+ 2 sand | B72: =VLOOKUP(A72,Feuil1!$1:$6524,FALSE) -> #VALUE!
A73: sebium gel mousse 200ml bioderm | B73: =VLOOKUP(A73,Feuil1!$1:$6524,FALSE) -> #VALUE!
A74: svr 50 sebiaclear crème | B74: =VLOOKUP(A74,Feuil1!$1:$6524,FALSE) -> #VALUE!
A75: svr clairial cc spf 40ml | B75: =VLOOKUP(A75,Feuil1!$1:$6524,FALSE) -> #VALUE!
A76: pharmacerise fluide teint spf50+ 01 ivory | B76: =VLOOKUP(A76,Feuil1!$1:$6524,FALSE) -> #VALUE!
A77: photoderm max 100 crème teinté | B77: =VLOOKUP(A77,Feuil1!$1:$6524,FALSE) -> #VALUE!
A78: vichy capital soleil crème onctueuse | B78: =VLOOKUP(A78,Feuil1!$1:$6524,FALSE) -> #VALUE!
... A86: genal thermomètre digital flexible | B86: =VLOOKUP(A86,Feuil1!$1:$6524,FALSE) -> #VALUE!
B87: =VLOOKUP(A87,Feuil1!$1:$6524,FALSE) -> #N/A
A88: CEINTURE ABDOMINALE | B88: =VLOOKUP(A88,Feuil1!$1:$6524,FALSE) -> #VALUE!
A89: CLAQUETTE CONFORT LINE | B89: =VLOOKUP(A89,Feuil1!$1:$6524,FALSE) -> #VALUE!
A90: IRT 6020 THERMO SCAN 5 | B90: =VLOOKUP(A90,Feuil1!$1:$6524,FALSE) -> #VALUE!
B91: =VLOOKUP(A91,Feuil1!$1:$6524,FALSE) -> #N/A
A92: accu-chek | B92: =VLOOKUP(A92,Feuil1!$1:$6524,FALSE) -> #N/A
A93: thermomètre auriculaire | B93: =VLOOKUP(A93,Feuil1!$1:$6524,FALSE) -> #VALUE!
A94: degital thèrmomètre | B94: =VLOOKUP(A94,Feuil1!$1:$6524,FALSE) -> #VALUE!
A95: thermomètre canard | B95: =VLOOKUP(A95,Feuil1!$1:$6524,FALSE) -> #VALUE!

Sheet Feuil3
