Workbook

Sheet Général
A1: Ecole collège | B1: Classe | C1: course à la régularité | D1: AS garçons | E1: AS filles
C2: classement | D2: classement | E2: classement | F2: Total | G2: Classement
A3: collège | B3: 6AG | C3: =VLOOKUP(B3,'Régularité global'!$A$2:$D$21,4,FALSE) -> 9 | D3: 12 | E3: 3 | F3: =SUM(C3:E3) -> 24 | G3: 5
B4: 6B | C4: =VLOOKUP(B4,'Régularité global'!$A$2:$D$21,4,FALSE) -> 8 | D4: 1 | E4: 1 | F4: =SUM(C4:E4) -> 10 | G4: 1
B5: 6C | C5: =VLOOKUP(B5,'Régularité global'!$A$2:$D$21,4,FALSE) -> 3 | D5: 2 | E5: 9 | F5: =SUM(C5:E5) -> 14 | G5: 2
B6: 6D | C6: =VLOOKUP(B6,'Régularité global'!$A$2:$D$21,4,FALSE) -> 2 | D6: 4 | E6: 12 | F6: =SUM(C6:E6) -> 18 | G6: 4
B7: 6E | C7: =VLOOKUP(B7,'Régularité global'!$A$2:$D$21,4,FALSE) -> 15 | D7: 6 | E7: 2 | F7: =SUM(C7:E7) -> 23 | G7: 6
B8: 6F | C8: =VLOOKUP(B8,'Régularité global'!$A$2:$D$21,4,FALSE) -> 6 | D8: 3 | E8: 7 | F8: =SUM(C8:E8) -> 16 | G8: 3
A9: Pergaud | B9: Cm 2 A | C9: =VLOOKUP(B9,'Régularité global'!$A$2:$D$21,4,FALSE) -> 4 | D9: 14 | E9: 14 | F9: =SUM(C9:E9) -> 32 | G9: 11
B10: CM2 B | C10: =VLOOKUP(B10,'Régularité global'!$A$2:$D$21,4,FALSE) -> 14 | D10: 11 | E10: 11 | F10: =SUM(C10:E10) -> 36 | G10: 12
B11: CM2C | C11: =VLOOKUP(B11,'Régularité global'!$A$2:$D$21,4,FALSE) -> 11 | D11: 9 | E11: 5 | F11: =SUM(C11:E11) -> 25 | G11: 7
B12: CM2 D | C12: =VLOOKUP(B12,'Régularité global'!$A$2:$D$21,4,FALSE) -> #N/A | D12: 8 | E12: 10 | F12: =SUM(C12:E12) -> #N/A | G12: 8
A13: Matisse | B13: cm1-2A | C13: =VLOOKUP(B13,'Régularité global'!$A$2:$D$21,4,FALSE) -> #N/A | D13: 10 | E13: 6 | F13: =SUM(C13:E13) -> #N/A | G13: 9
B14: CM1-2B | C14: =VLOOKUP(B14,'Régularité global'!$A$2:$D$21,4,FALSE) -> #N/A | D14: 7 | E14: 4 | F14: =SUM(C14:E14) -> #N/A | G14: 6
B15: cm1-2C | C15: =VLOOKUP(B15,'Régularité global'!$A$2:$D$21,4,FALSE) -> #N/A | D15: 5 | E15: 8 | F15: =SUM(C15:E15) -> #N/A | G15: 2
B16: CM1-2D | C16: =VLOOKUP(B16,'Régularité global'!$A$2:$D$21,4,FALSE) -> #N/A | D16: 15 | E16: 15 | F16: =SUM(C16:E16) -> #N/A | G16: 13
B17: cm1-2E | C17: =VLOOKUP(B17,'Régularité global'!$A$2:$D$21,4,FALSE) -> #N/A | D17: 13 | E17: 13 | F17: =SUM(C17:E17) -> #N/A | G17: 10

Sheet AS garçons classe
B1: 4 meilleurs classement
A2: Classe | B2: perf 1 | C2: perf 2 | D2: perf 3 | E2: perf 4 | F2: total | H2: classement
A3: =Général!B3 -> 6AG | F3: =SUM(B3:E3) -> 0 | H3: 1
A4: =Général!B4 -> 6B | F4: =SUM(B4:E4) -> 0 | H4: 2
A5: =Général!B5 -> 6C | F5: =SUM(B5:E5) -> 0 | H5: 3
A6: =Général!B6 -> 6D | F6: =SUM(B6:E6) -> 0 | H6: 4
A7: =Général!B7 -> 6E | F7: =SUM(B7:E7) -> 0 | H7: 5
A8: =Général!B8 -> 6F | F8: =SUM(B8:E8) -> 0 | H8: 6
A9: =Général!B9 -> Cm 2 A | F9: =SUM(B9:E9) -> 0 | H9: 7
A10: =Général!B10 -> CM2 B | F10: =SUM(B10:E10) -> 0 | H10: 8
A11: =Général!B11 -> CM2C | F11: =SUM(B11:E11) -> 0 | H11: 9
A12: =Général!B12 -> CM2 D | F12: =SUM(B12:E12) -> 0 | H12: 10
A13: =Général!B13 -> cm1-2A | F13: =SUM(B13:E13) -> 0 | H13: 11
A14: =Général!B14 -> CM1-2B | F14: =SUM(B14:E14) -> 0 | H14: 12
... A19: =Général!B19 -> 0 | F19: =SUM(B19:E19) -> 0 | H19: 17
A20: =Général!B20 -> 0 | F20: =SUM(B20:E20) -> 0
F21: =SUM(B21:E21) -> 0 | H21: 18
A22: =Général!B22 -> 0 | F22: =SUM(B22:E22) -> 0 | H22: 19
A23: =Général!B23 -> 0 | F23: =SUM(B23:E23) -> 0 | H23: 20

Sheet AS garçons global
A1: Ordre d'arrivée | B1: temps | C1: NOM | D1: PRENOM | E1: CLASSE | F1: CATEGORIE
A2: 1 | B2: 0.0051350459 | C2: ADAM | D2: Yassine | E2: 6AG | F2: 6
A3: 6 | B3: 0.0054834436 | C3: LACHGARE | D3: Ilyés | E3: 6AG | F3: 6
A4: 24 | B4: 0.0060862901 | C4: GOCURUCU | D4: Bayram | E4: 6AG | F4: 6
A5: 39 | B5: 0.0063644748 | C5: ANTONIO | D5: Chissola | E5: 6AG | F5: 6
A6: 40 | B6: 0.0063832375 | C6: RAD | D6: Samuel-Florin | E6: 6AG | F6: 6
A7: 42 | B7: 0.0064179145 | C7: ARIF | D7: Abdel-Malik | E7: 6AG | F7: 6
A8: 43 | B8: 0.0064639395 | C8: SUTTER | D8: Adrien | E8: 6AG | F8: 6
A9: 45 | B9: 0.0064916088 | C9: SABEUR | D9: Akram | E9: 6AG | F9: 6
A10: 53 | B10: 0.0067897316 | C10: ABIDAL | D10: Adam | E10: 6AG | F10: 6
A11: 59 | B11: 0.0068385598 | C11: NOUAOUI | D11: Mourad | E11: 6AG | F11: 6
A12: 60 | B12: 0.0068872522 | C12: LAYOUNI | D12: Bilel | E12: 6AG | F12: 6
A13: 62 | B13: 0.0069221101 | C13: ARSLANFER | D13: Ebu Bekir | E13: 6AG | F13: 6
... A19: 15 | B19: 0.0057041649 | C19: ABOUEV | D19: Khamzat | E19: 6B | F19: 6
A20: 19 | B20: 0.0058542661 | C20: 0 | D20: 0 | E20: 0 | F20: 0
A21: 23 | B21: 0.0059640842 | C21: BOULHIA | D21: Anis | E21: 6B | F21: 6
A22: 36 | B22: 0.0062914135 | C22: TAZ | D22: Fevzi | E22: 6B | F22: 6
A23: 13 | B23: 0.0056908275 | C23: MURATOVIC | D23: Manuel | E23: 6C | F23: 6
A24: 44 | B24: 0.0064705856 | C24: SAKERA | D24: Zakaria | E24: 6C | F24: 6
A25: 48 | B25: 0.0065480324 | C25: SANE | D25: Aboubacar | E25: 6C | F25: 6
A26: 63 | B26: 0.0069296604 | C26: SIVAC | D26: Emin | E26: 6C | F26: 6
A27: 8 | B27: 0.0055822754 | C27: BOULKENAFET | D27: Abdessamed | E27: 6D | F27: 6
A28: 57 | B28: 0.0068250416 | C28: ABDI | D28: Mylaid | E28: 6D | F28: 6
A29: 61 | B29: 0.0069028953 | C29: ZHABELI | D29: Denis | E29: 6D | F29: 6
A30: 75 | B30: 0.0074724664 | C30: MERAH | D30: Bilal | E30: 6D | F30: 6
A31: 83 | B31: 0.0078575304 | C31: AKOTO | D31: Francis | E31: 6D | F31: 6
A32: 89 | B32: 0.0080401385 | C32: RABARAONA | D32: Harena | E32: 6D | F32: 6
... A50: 99 | B50: 0.0089223452 | C50: Gunduz | D50: Talhacan | E50: 6F | F50: 6
A51: 14 | B51: 0.0056956651 | C51: MANSOURI | D51: Abdel-Karim | E51: CM1 CM2 a | F51: CM2
A52: 25 | B52: 0.0061083532 | C52: BOUZOK | D52: Moncef | E52: CM1 CM2 a | F52: CM2
A53: 27 | B53: 0.006143844 | C53: SAKIROVSKI | D53: Abraham | E53: CM1 CM2 a | F53: CM2
A54: 49 | B54: 0.0065568938 | C54: AZZAZI | D54: Nizzar | E54: CM1 CM2 a | F54: CM2
A55: 77 | B55: 0.007502351 | C55: BOUDRIOUA | D55: Mohamed | E55: CM1 CM2 a | F55: CM2
A56: 33 | B56: 0.0062764938 | C56: ZERARI | D56: Hamza | E56: CM1 CM2 D | F56: CM2
A57: 79 | B57: 0.0075281666 | C57: Melouki | D57: Walid | E57: CM1 CM2 D | F57: CM2
A58: 85 | B58: 0.0079281955 | C58: Ayache | D58: Nourès | E58: CM1 CM2 D | F58: CM2
A59: 86 | B59: 0.0080054163 | C59: Ibisevic | D59: Sudahan | E59: CM1 CM2 D | F59: CM2
A60: 17 | B60: 0.0057504159 | C60: REZAIGIA | D60: ILYES | E60: CM1CM2 | F60: CM2
A61: 28 | B61: 0.006153474 | C61: LEON | D61: EMERSON | E61: CM1CM2 | F61: CM2
A62: 34 | B62: 0.0062818739 | C62: BECHENICK | D62: MOHAMED | E62: CM1CM2 | F62: CM2
... A102: 101 | B102: 0.0090832972 | C102: SALIJI ALIJA | D102: Nusret | E102: CM2C | F102: CM2
A103: 102 | B103: 0.0091078016
A104: 103 | B104: 0.0092481825
A105: 104 | B105: 0.0092587167
A106: 105
A107: 106
A108: 107
A109: 108
A110: 109
A111: 110
A112: 111
A113: 112
A114: 113
A115: 114
A116: 115
A117: 116
... A231: 230

Sheet AS filles
A1: Ordre d'arrivée | B1: temps | C1: NOM | D1: PRENOM | E1: CLASSE | F1: CATEGORIE
A2: 1 | B2: 0.0056316913 | C2: MHADJOU | D2: Abida | E2: 6AG | F2: 6
A3: 2 | B3: 0.0056887478 | C3: DEKHAKHENA | D3: Sara | E3: 6D | F3: 6
A4: 3 | B4: 0.0057484266 | C4: CHINE | D4: Bouchra | E4: 6B | F4: 6
A5: 4 | B5: 0.0059748897 | C5: BELABEES | D5: Sarah | E5: 6D | F5: 6
A6: 5 | B6: 0.00598886 | C6: JACQUES | D6: Maeva | E6: 6C | F6: 6
A7: 6 | B7: 0.0062422689 | C7: KOCAK | D7: Kamilia | E7: 6D | F7: 6
A8: 7 | B8: 0.006295166 | C8: ILGIN | D8: Ilayda | E8: CM2A | F8: CM2
A9: 8 | B9: 0.0063108091 | C9: KURSUN | D9: ZOYRE | E9: CM1CM2 | F9: CM2
A10: 9 | B10: 0.0063269043 | C10: JAMOTEAU | D10: Séréna | E10: CM1 CM2 a | F10: CM2
A11: 10 | B11: 0.0063318323 | C11: Bouridah | D11: Amina | E11: 6F | F11: 6
A12: 11 | B12: 0.0064834708 | C12: ARUTYUNIAN | D12: Liana | E12: 6C | F12: 6
A13: 12 | B13: 0.0064908854 | C13: GARNIER | D13: Philaé | E13: 6B | F13: 6
A14: 13 | B14: 0.0065312138 | C14: CAMARA | D14: Seynabou | E14: 6E | F14: 6
A15: 14 | B15: 0.0065865524 | C15: Saint Omer | D15: Thalia | E15: 6C | F15: 6
A16: 15 | B16: 0.0067504883 | C16: RAFIA | D16: Imane | E16: 6B | F16: 6
A17: 16 | B17: 0.0067858435 | C17: MOUILA | D17: Orlane | E17: CM1-CM2 C | F17: CM2
A18: 17 | B18: 0.0068104384 | C18: SELVI | D18: Tulay | E18: CM1-CM2 C | F18: CM2
A19: 18 | B19: 0.0069159614 | C19: Boudrioua | D19: Sonia | E19: 6F | F19: 6
A20: 19 | B20: 0.0069230143 | C20: MAZREKAJ | D20: Léonisa | E20: CM1-CM2 C | F20: CM2
A21: 20 | B21: 0.0069279423 | C21: Abssi | D21: Chérine | E21: 6F | F21: 6
A22: 21 | B22: 0.0069329608 | C22: Jboub | D22: Jalila | E22: 6F | F22: 6
A23: 22 | B23: 0.0069386122 | C23: Brahmi | D23: Yara | E23: CM1-CM2 E | F23: CM2
A24: 23 | B24: 0.0071620461 | C24: BEKOVIC | D24: Aulona | E24: CM2C | F24: CM2
A25: 24 | B25: 0.0071690086 | C25: ANNOUR | D25: Widad | E25: 6B | F25: 6
A26: 25 | B26: 0.0072130896 | C26: Zuméri | D26: Lona | E26: CM1-CM2 E | F26: CM2
A27: 26 | B27: 0.0072227648 | C27: SALH | D27: Lana | E27: CM1-CM2B | F27: CM2
A28: 27 | B28: 0.0072281449 | C28: Emini | D28: Erliza | E28: CM1-CM2 E | F28: CM2
A29: 28 | B29: 0.0072335702 | C29: Atas | D29: Rojin | E29: 6F | F29: 6
A30: 29 | B30: 0.0072956453 | C30: HERIDA | D30: Abir | E30: CM2A | F30: CM2
A31: 30 | B31: 0.0073384151 | C31: KESSAS | D31: NESRINE | E31: CM1CM2 | F31: CM2
A32: 31 | B32: 0.0073544198 | C32: DOUS | D32: Mysa | E32: CM1-CM2B | F32: CM2
A33: 32 | B33: 0.0073796477 | C33: CHUPAKOVA | D33: Sofia | E33: 6C | F33: 6
A34: 33 | B34: 0.0074111599 | C34: HALIT | D34: Neila | E34: 6AG | F34: 6
A35: 34 | B35: 0.0074161784 | C35: EL MARBOUH | D35: Hasna | E35: 6AG | F35: 6
A36: 35 | B36: 0.0074258084 | C36: Dulkadir | D36: Mélissa | E36: CM1 CM2 D | F36: CM2
A37: 36 | B37: 0.0074314146 | C37: YILDIRIM | D37: Sidelya | E37: CM2B | F37: CM2
A38: 37 | B38: 0.0075354456 | C38: CHOUKRI | D38: Fadwa | E38: CM2C | F38: CM2
A39: 38 | B39: 0.0075447139 | C39: DEVE | D39: Melda | E39: 6E | F39: 6
A40: 39 | B40: 0.0075487829 | C40: SAAS | D40: Jessie | E40: 6E | F40: 6
A41: 40 | B41: 0.0075656919 | C41: NAJIB | D41: Heiv | E41: CM1 CM2 a | F41: CM2
A42: 41 | B42: 0.0075831434 | C42: MEHMETI | D42: Sabrina | E42: CM2B | F42: CM2
A43: 42 | B43: 0.0075902416 | C43: GUISSE | D43: Coumba | E43: CM2B | F43: CM2
A44: 43 | B44: 0.0076694517 | C44: OFFRANC | D44: Mathilde | E44: CM1-CM2B | F44: CM2
A45: 44 | B45: 0.0077039026 | C45: RADJAVI | D45: Guliko | E45: 6E | F45: 6
A46: 45 | B46: 0.0079043692 | C46: YILDIRIM | D46: Sudem | E46: CM2B | F46: CM2
A47: 46 | B47: 0.0079094329 | C47: KRID | D47: Mellina | E47: CM1-CM2 C | F47: CM2
A48: 47 | B48: 0.0079631438 | C48: SAHIN | D48: Fatma-Nur | E48: CM2C | F48: CM2
A49: 48 | B49: 0.0080114746 | C49: GRULLON MORROBEL | D49: Ruth Diani | E49: CM2A | F49: CM2
A50: 49 | B50: 0.0081281196 | C50: CAMARA | D50: Namo | E50: CM2C | F50: CM2
A51: 50 | B51: 0.0081383825 | C51: Adaika | D51: Sirin | E51: CM1 CM2 D | F51: CM2
A52: 51 | B52: 0.0081470179 | C52: MOLLE | D52: Rachel | E52: CM1 CM2 a | F52: CM2
A53: 52 | B53: 0.0081706181 | C53: SRITHARAN | D53: Shathana | E53: CM1-CM2B | F53: CM2
A54: 53 | B54: 0.0082058377 | C54: AYDOGAN | D54: Ceren | E54: CM1-CM2 C | F54: CM2
A55: 54 | B55: 0.0083674678 | C55: MIASA | D55: Erica | E55: 6C | F55: 6
A56: 55 | B56: 0.0083711751 | C56: BALONDO | D56: Lucie | E56: 6C | F56: 6
A57: 56 | B57: 0.0085644531 | C57: AMROUN | D57: Aya | E57: CM2B | F57: CM2
A58: 57 | B58: 0.008622007 | C58: SHPATA | D58: MEDINA | E58: CM1CM2 | F58: CM2
A59: 58 | B59: 0.0086640535 | C59: BOUALI | D59: HANAA | E59: CM1CM2 | F59: CM2
A60: 59 | B60: 0.0095180935 | C60: LEROUX | D60: Shona | E60: 6D | F60: 6
A61: 60 | B61: 0.010382216 | C61: Mustafa | D61: Fatima | E61: CM1 CM2 D | F61: CM2
A62: 61 | B62: 0.010755887 | C62: LECHEKHAB | D62: Lina | E62: CM1 CM2 a | F62: CM2
A63: 62 | B63: 0.010998716 | C63: BODEIN | D63: Mathilda | E63: CM2B | F63: CM2
A64: 63 | B64: 0.011298828 | C64: PAES DE | D64: ALIYA | E64: CM1CM2 | F64: CM2
A65: 64 | B65: 0.012328378
A66: 65
A67: 66
A68: 67
A69: 68
A70: 69
A71: 70
A72: 71
A73: 72
A74: 73
A75: 74
A76: 75
A77: 76
... A231: 230

Sheet Régularité par élève
A1: classe | B1: NOM | C1: Prénom | D1: sexe | E1: projet | F1: Ecart 1 | G1: Ecart 2 | H1: Ecart 3 | I1: Ecart 4 | J1: Ecart 5 | K1: Ecart 6 | L1: Somme des écarts
A2: 6AG | B2: MOHAMED | C2: Kamal | D2: M | E2: 0.00390625 | F2: 0.00067708333 | G2: 0.0005150463 | H2: 0.0060821759 | L2: 0.0072743056
A3: 6AG | B3: PRADEEPKUMAR | C3: Praviieraaj | D3: M | E3: 0.003125 | F3: 0.0030671296 | G3: 0.00016203704 | H3: 0.0032175926 | L3: 0.0064467593
A4: 6AG | B4: EL JARROUDI | C4: Aya | D4: F | E4: 0.003125 | F4: 0.003125 | L4: 0.003125
A5: 6AG | B5: FEDALI | C5: Samia | D5: F | E5: 0.00390625 | F5: 0.00056134259 | G5: 5.2083333e-05 | H5: 0.0081423611 | I5: 0.00012152778 | L5: 0.0088773148
A6: 6AG | B6: ISMAIL HAJO | C6: Souline | D6: F | E6: 0.003125 | F6: 9.2592593e-05 | G6: 0.00032407407 | H6: 0.00071759259 | I6: 0.000625 | L6: 0.0017592593
A7: 6AG | B7: KUNDURACI | C7: Ilayda | D7: F | E7: 0.003125 | F7: 0.00010416667 | G7: 0.00070601852 | H7: 0.001412037 | I7: 0.0011921296 | L7: 0.0034143519
A8: 6AG | B8: LOKANATHAN | C8: Minine | D8: F | E8: 0.0034722222 | F8: 5.787037e-05 | G8: 8.1018519e-05 | H8: 0.00011574074 | I8: 0.00013888889 | L8: 0.00039351852
A9: 6AG | B9: ATPUTHAM | C9: Nidusha | D9: F | E9: 0.003125 | F9: 0.00020833333 | G9: 0.00043981481 | H9: 0.00041666667 | I9: 0.00056712963 | L9: 0.0016319444
A10: 6AG | B10: BACHER-ARNOLD | C10: Joffrey | D10: M | E10: 0.00390625 | F10: 6.3657407e-05 | G10: 6.3657407e-05 | H10: 0.0010127315 | I10: 8.6805556e-05 | L10: 0.0012268519
A11: 6AG | B11: BOUDJADJA | C11: Djebril | D11: M | E11: 0.0034722222 | F11: 0.00050925926 | G11: 0.00040509259 | H11: 0.0017361111 | I11: 0.00016203704 | L11: 0.0028125
A12: 6AG | B12: KESKIN | C12: Mehmet | D12: M | E12: 0.003125 | F12: 0.00050925926 | G12: 4.3368087e-19 | H12: 0.00019675926 | I12: 0.0002662037 | L12: 0.00097222222
A13: 6AG | B13: LAUER | C13: Alexine | D13: F | E13: 0.0034722222 | F13: 0.00011574074 | G13: 0.00012731481 | H13: 0.0013425926 | I13: 0.00045138889 | L13: 0.002037037
A14: 6AG | B14: SELIMOVIC | C14: Indira | D14: F | E14: 0.0034722222 | F14: 6.9444444e-05 | G14: 0.0035648148 | H14: 0.0040972222 | L14: 0.0077314815
A15: 6AG | B15: BOUBAKOUR | C15: Anis | D15: M | E15: 0.003125 | F15: 0.00053240741 | G15: 1.1574074e-05 | H15: 0.0019097222 | I15: 0.00034722222 | L15: 0.0028009259
A16: 6AG | B16: Sadriu | C16: Nermine | D16: F | E16: 0.0034722222 | F16: 0.0034722222 | L16: 0.0034722222
A17: 6AG | B17: MOHAMED | C17: Kamal | D17: M | E17: 0.00390625 | F17: 0.00067708333 | G17: 0.0005150463 | H17: 0.0060821759 | L17: 0.0072743056
A18: 6AG | B18: PRADEEPKUMAR | C18: Praviieraaj | D18: M | E18: 0.003125 | F18: 0.0030671296 | G18: 0.00016203704 | H18: 0.0032175926 | L18: 0.0064467593
A19: 6AG | B19: EL JARROUDI | C19: Aya | D19: F | E19: 0.003125 | F19: 0.003125 | L19: 0.003125
A20: 6AG | B20: FEDALI | C20: Samia | D20: F | E20: 0.00390625 | F20: 0.00056134259 | G20: 5.2083333e-05 | H20: 0.0081423611 | I20: 0.00012152778 | L20: 0.0088773148
A21: 6B | B21: BEN HASSIME | C21: Salma | D21: F | E21: 0.0044642857 | F21: 0.00015873016 | G21: 0.00014715608 | H21: 0.00040178571 | L21: 0.00070767196
A22: 6B | B22: BEUSCART | C22: Camilia | D22: F | E22: 0.003125 | F22: 4.6296296e-05 | G22: 0.00074074074 | H22: 0.00078703704 | L22: 0.0015740741
A23: 6B | B23: COULIBALY | C23: Neïssa | D23: F | E23: 0.003125 | F23: 0.0030439815 | G23: 0.00010416667 | H23: 0.0024421296 | I23: 0.0029976852 | L23: 0.008587963
A24: 6B | B24: EL ARRIM | C24: Sana | D24: F | E24: 0.003125 | F24: 4.3368087e-19 | G24: 9.2592593e-05 | H24: 0.0031134259 | I24: 0.00028935185 | J24: 0.00020833333 | L24: 0.0037037037
A25: 6B | B25: KINAVUIDI | C25: Jaëlle | D25: F | E25: 0.0044642857 | F25: 0.00013558201 | G25: 0.00015873016 | H25: 0.0020982143 | L25: 0.0023925265
A26: 6B | B26: MAES | C26: Wendjah | D26: F | E26: 0.003125 | F26: 0.003125 | L26: 0.003125
A27: 6B | B27: OGEZ | C27: Lucas | D27: M | E27: 0.003125 | F27: 2.3148148e-05 | G27: 9.2592593e-05 | H27: 0.0062152778 | I27: 0.00010416667 | L27: 0.0064351852
A28: 6B | B28: REDZOVIC | C28: Nézo | D28: M | E28: 0.0044642857 | F28: 0.00019345238 | G28: 0.0041583995 | L28: 0.0043518519
A29: 6B | B29: SANKHARE | C29: Astou | D29: F | E29: 0.0044642857 | F29: 0.0003207672 | G29: 0.0041005291 | L29: 0.0044212963
A30: 6B | B30: MOERMANN | C30: Angélina | D30: F | E30: 0.0044642857 | F30: 0.0011888228 | L30: 0.0011888228
A31: 6B | B31: EL HACHIMI | C31: Rayan | D31: M | E31: 0.003125 | F31: 9.2592593e-05 | G31: 9.2592593e-05 | H31: 0.0062384259 | I31: 0.00042824074 | L31: 0.0068518519
A32: 6C | B32: ARIFI | C32: Anis | D32: M | E32: 0.00390625 | F32: 0.00390625 | L32: 0.00390625
A33: 6C | B33: Djouallah | C33: Yousra | D33: F | E33: 0.00390625 | F33: 0.00037615741 | G33: 0.00024884259 | H33: 0.0074826389 | I33: 0.00031828704 | L33: 0.0084259259
A34: 6C | B34: FEKNOUS | C34: Nouaria | D34: F | E34: 0.00390625 | F34: 0.001244213 | G34: 0.0018344907 | L34: 0.0030787037
A35: 6C | B35: BOUAMEUR | C35: Islam | D35: F | E35: 0.003125 | F35: 0.00072916667 | G35: 0.00025462963 | H35: 0.0024768519 | I35: 0.00015046296 | J35: 0.00052083333 | L35: 0.0041319444
A36: 6C | B36: CHAKIB | C36: Iman | D36: F | E36: 0.0034722222 | F36: 0.00041666667 | G36: 6.9444444e-05 | H36: 0.0010069444 | I36: 0.00016203704 | L36: 0.0016550926
A37: 6C | B37: LEON | C37: Allison | D37: F | E37: 0.0034722222 | F37: 0.00040509259 | G37: 3.4722222e-05 | H37: 0.00016203704 | I37: 0.00017361111 | L37: 0.00077546296
A38: 6C | B38: FERRY | C38: Marie | D38: F | E38: 0.00390625 | F38: 0.00036458333 | G38: 0.00012152778 | H38: 0.00093171296 | I38: 0.00044560185 | L38: 0.0018634259
A39: 6C | B39: GRONDIN | C39: Anthony | D39: M | E39: 0.0044642857 | F39: 0.00034391534 | G39: 0.00031580688 | H39: 0.0024107143 | L39: 0.0030704365
A40: 6C | B40: JUSUFI | C40: Ridvan | D40: M | E40: 0.0044642857 | F40: 0.002161045 | G40: 0.00041335979 | H40: 0.0023809524 | I40: 0.00034391534 | L40: 0.0052992725
A41: 6C | B41: LAZREG | C41: Adam | D41: M | E41: 0.00390625 | F41: 0.0013252315 | G41: 0.00060763889 | H41: 0.00019097222 | I41: 0.00016782407 | L41: 0.0022916667
A42: 6C | B42: MESCOUK | C42: Wassim | D42: M | E42: 0.00390625 | F42: 0.00039930556 | G42: 0.0001099537 | H42: 0.0016493056 | I42: 0.00035300926 | L42: 0.0025115741
A43: 6C | B43: N'TEBE IDUGBOE | C43: Ridwan | D43: M | E43: 0.003125 | F43: 0.00075231481 | G43: 0.0002662037 | H43: 0.00091435185 | I43: 0.0011574074 | L43: 0.0030902778
A44: 6C | B44: VANDAL | C44: Teddya | D44: F | E44: 0.0034722222 | F44: 0.00039351852 | G44: 6.9444444e-05 | H44: 0.0010416667 | I44: 0.00019675926 | L44: 0.0017013889
A45: 6C | B45: ZUMERI | C45: Eron | D45: M | E45: 0.003125 | F45: 0.00086805556 | G45: 0.0003587963 | H45: 0.00030092593 | L45: 0.0015277778
A46: 6D | B46: AKHOU-ZINE | C46: Imane | D46: F | E46: 0.00390625 | F46: 0.00097800926 | G46: 4.0509259e-05 | H46: 0.0014641204 | I46: 0.00043402778 | L46: 0.0029166667
A47: 6D | B47: DUPUY | C47: Krystina | D47: F | E47: 0.00390625 | F47: 0.00098958333 | G47: 4.0509259e-05 | H47: 0.0002025463 | I47: 0.00050347222 | L47: 0.0017361111
A48: 6D | B48: FALL | C48: Assane | D48: G | E48: 0.00390625 | F48: 0.00390625 | L48: 0.00390625
A49: 6D | B49: KEBE | C49: Aboubacar | D49: G | E49: 0.00390625 | F49: 0.0010358796 | G49: 1.7361111e-05 | H49: 0.0069386574 | I49: 0.00061921296 | L49: 0.0086111111
A50: 6D | B50: LOUBARDI | C50: Selma | D50: F | E50: 0.0044642857 | F50: 0.00072585979 | G50: 0.00010085979 | H50: 0.0015658069 | L50: 0.0023925265
A51: 6D | B51: RAHMANI | C51: Dzenan | D51: G | E51: 0.00390625 | F51: 0.0010590278 | G51: 5.2083333e-05 | H51: 0.0011979167 | I51: 0.00060763889 | L51: 0.0029166667
A52: 6D | B52: RIPEPI | C52: Enzo | D52: G | E52: 0.0034722222 | F52: 0.00018518519 | G52: 0.00030092593 | H52: 0.00013888889 | I52: 8.1018519e-05 | L52: 0.00070601852
A53: 6D | B53: SAYLAN | C53: Ilayda | D53: F | E53: 0.00390625 | F53: 0.0010127315 | G53: 1.7361111e-05 | H53: 0.00015625 | I53: 0.00057291667 | L53: 0.0017592593
A54: 6D | B54: ZEISSER-TEJEDOR | C54: Andréa | D54: F | E54: 0.0044642857 | F54: 0.00077215608 | G54: 3.1415344e-05 | H54: 0.0015658069 | L54: 0.0023693783
A55: 6E | B55: ASSANI | C55: Germain | D55: H | E55: 0.0034722222 | F55: 0.0034722222 | G55: 0.00065972222 | H55: 0.0031134259 | I55: 0.00039351852 | J55: 0.00032407407 | L55: 0.007962963
A56: 6E | B56: DEMIREL | C56: Meryem | D56: F | E56: 0.0044642857 | F56: 0.0022486772 | G56: 0.00017691799 | H56: 0.0086375661 | L56: 0.011063161
A57: 6E | B57: RIEFFEL | C57: Lucas | D57: H | E57: 0.00625 | F57: 0.0016782407 | G57: 0.0018865741 | H57: 0.0029976852 | L57: 0.0065625
A58: 6E | B58: DOUCOURE | C58: Coumba | D58: F | E58: 0.0044642857 | F58: 0.0044642857 | G58: 0.00078373016 | H58: 0.0028670635 | I58: 0.00036706349 | J58: 2.6455026e-05 | L58: 0.0085085979
A59: 6E | B59: GUMUS | C59: Serhat | D59: H | E59: 0.00390625 | F59: 0.00049189815 | G59: 0.00016782407 | H59: 0.00328125 | I59: 0.00019097222 | L59: 0.0041319444
A60: 6E | B60: KALLARI | C60: Argjend | D60: H | E60: 0.0034722222 | F60: 0.0022569444 | G60: 0.00043981481 | H60: 0.0012731481 | L60: 0.0039699074
A61: 6E | B61: KURAEVA | C61: Dayana | D61: F | E61: 0.0052083333 | F61: 0.0052083333 | L61: 0.0052083333
A62: 6E | B62: M'COLO | C62: Maëva | D62: F | E62: 0.00390625 | F62: 0.0012789352 | G62: 0.0014756944 | H62: 0.010758102 | L62: 0.013512731
A63: 6E | B63: OZKAN | C63: Selsebil | D63: F | E63: 0.0044642857 | F63: 0.0013161376 | G63: 0.00093419312 | H63: 0.0011425265 | I63: 8.4325397e-05 | L63: 0.0034771825
A64: 6E | B64: BITIGEN | C64: Feyza | D64: F | E64: 0.0052083333 | F64: 0.0019560185 | G64: 0.001712963 | H64: 0.0014236111 | I64: 0.0010300926 | L64: 0.0061226852
A65: 6F | B65: Urkmez | C65: Ennür | D65: F | E65: 0.0026041667 | F65: 0.00011574074 | G65: 0.00059027778 | H65: 6.9444444e-05 | I65: 0.001412037 | L65: 0.0021875
A66: 6F | B66: Can | C66: Elvan | D66: F | E66: 0.00625 | F66: 0.00625 | L66: 0.00625
A67: 6F | B67: Guisse | C67: Hawa | D67: F | E67: 0.0026041667 | F67: 0.00040509259 | G67: 6.9444444e-05 | H67: 0.0047800926 | I67: 0.00076388889 | J67: 0.00094907407 | L67: 0.0069675926
A68: 6F | B68: Ngoma | C68: Carla | D68: F | E68: 0.0028409091 | F68: 0.00049242424 | G68: 0.0006891835 | H68: 0.0032817761 | I68: 0.0010942761 | L68: 0.0055576599
A69: 6F | B69: Sritharan | C69: Pamisha | D69: F | E69: 0.0028409091 | F69: 0.00052714646 | G69: 0.00066603535 | H69: 0.0011289983 | I69: 0.0010711279 | L69: 0.0033933081
A70: 6F | B70: Thayalan | C70: Saruchan | D70: M | E70: 0.003125 | F70: 0.00017361111 | G70: 0.00011574074 | H70: 0.0005787037 | I70: 1.1574074e-05 | L70: 0.00087962963
A71: 6F | B71: Tharmakularajah | C71: Abhinaas | D71: M | E71: 0.003125 | F71: 0.00013888889 | G71: 0.00010416667 | H71: 0.00016203704 | I71: 0.00041666667 | L71: 0.00082175926
A72: 6F | B72: Pauly | C72: Terry | D72: M | E72: 0.003125 | F72: 0.00090277778 | G72: 0.00032407407 | H72: 0.00125 | I72: 0.00025462963 | J72: 0.00018518519 | L72: 0.0029166667
A73: 6F | B73: Grondin | C73: Shayna | D73: F | E73: 0.0034722222 | F73: 0.00012731481 | G73: 8.1018519e-05 | H73: 0.0023842593 | I73: 0.00034722222 | L73: 0.0029398148
A74: CM1 CM2 a | B74: loubardi | C74: shaima | D74: f | E74: 0.0028409091 | F74: 0.0025178872 | G74: 0.0001104798 | H74: 0.0081891835 | I74: 0.00036405724 | L74: 0.011181608
A75: CM1 CM2 a | B75: chine | C75: ilyess | D75: m | E75: 0.0034722222 | F75: 0.0027199074 | G75: 0.00017361111 | H75: 0.00074074074 | L75: 0.0036342593
A76: CM1 CM2 a | B76: sankhare | C76: mariam | D76: f | E76: 0.0034722222 | F76: 0.00072916667 | G76: 0.00065972222 | H76: 0.002662037 | I76: 0.00030092593 | L76: 0.0043518519
A77: CM1 CM2 a | B77: heckly | C77: meline | D77: f | E77: 0.00390625 | F77: 0.00038773148 | G77: 0.0007349537 | H77: 0.0036284722 | L77: 0.0047511574
A78: CM1 CM2 a | B78: merad | C78: mohamed | D78: m | E78: 0.0034722222 | F78: 0.00056712963 | G78: 0.0002662037 | H78: 0.0022106481 | I78: 0.0003125 | L78: 0.0033564815
A79: CM1 CM2 a | C79: lamis | D79: f | E79: 0.00390625 | F79: 0.0010474537 | G79: 0.0031539352 | H79: 0.0014988426 | I79: 0.00063078704 | L79: 0.0063310185
A80: CM1 CM2 a | B80: mbuy | C80: rayan | D80: m | E80: 0.003125 | F80: 0.00046296296 | G80: 0.0003587963 | H80: 0.0018402778 | I80: 0.00096064815 | L80: 0.0036226852
A81: CM1 CM2 a | B81: guthleber | C81: diana | D81: f | E81: 0.00390625 | F81: 0.00036458333 | G81: 0.00053819444 | H81: 0.0035474537 | L81: 0.0044502315
A82: CM1 CM2 a | B82: mankhar | C82: adnane | D82: m | E82: 0.0034722222 | F82: 0.0027662037 | G82: 0.00027777778 | H82: 0.0011226852 | L82: 0.0041666667
A83: CM1 CM2 a | B83: bacel | C83: sirine | D83: f | E83: 0.0034722222 | F83: 0.0027430556 | G83: 0.00023148148 | H83: 0.00030092593 | L83: 0.003275463
A84: CM1 CM2 a | B84: hibeau | C84: natthanyel | D84: m | E84: 0.00390625 | F84: 0.00048032407 | G84: 0.00080439815 | H84: 0.00050347222 | L84: 0.0017881944
A85: CM1 CM2 a | B85: culas | C85: roshny | D85: f | E85: 0.0034722222 | F85: 0.00045138889 | G85: 0.00020833333 | H85: 0.0021412037 | I85: 0.00039351852 | L85: 0.0031944444
A86: CM1 CM2 a | B86: boudjriou | C86: benyamin | D86: m | E86: 0.00390625 | F86: 0.00034143519 | G86: 0.0054571759 | L86: 0.0057986111
A87: CM1 CM2 a | B87: saylan | C87: elanur | D87: f | E87: 0.0034722222 | F87: 0.00055555556 | G87: 0.00012731481 | H87: 0.00045138889 | I87: 0.00050925926 | L87: 0.0016435185
A88: CM1 CM2 a | B88: ALPTEKIN | C88: Elif | D88: fille | E88: 0.0034722222 | F88: 0.0031481481 | G88: 0.00018518519 | H88: 0.010092593 | L88: 0.013425926
A89: CM1 CM2 a | B89: AMIAR | C89: Sabria | D89: fille | E89: 0.0052083333 | F89: 0.0052083333 | L89: 0.0052083333
A90: CM1 CM2 a | B90: DUMONT | C90: Dylan | D90: garçon | E90: 0.0034722222 | F90: 0.00079861111 | G90: 0.00064814815 | H90: 0.0050694444 | I90: 0.00015046296 | L90: 0.0066666667
A91: CM1 CM2 a | B91: FALL | C91: Mouhamed | D91: garçon | E91: 0.00390625 | F91: 0.00087384259 | G91: 0.0002025463 | H91: 0.0017071759 | I91: 0.00087384259 | L91: 0.0036574074
A92: CM1 CM2 a | B92: GHEDDAR | C92: Yanis | D92: garçon | E92: 0.003125 | F92: 0.0036111111 | G92: 0.0017361111 | H92: 0.0033564815 | L92: 0.0087037037
A93: CM1 CM2 a | B93: GOMEZ | C93: Francisco | D93: garçon | E93: 0.00390625 | F93: 0.0007349537 | G93: 0.00015625 | H93: 0.00088541667 | I93: 0.0013136574 | L93: 0.0030902778
A94: CM1 CM2 a | B94: HAZIRI | C94: Albian | D94: garçon | E94: 0.00390625 | F94: 0.00050347222 | G94: 0.00061921296 | H94: 0.0021122685 | L94: 0.0032349537
A95: CM1 CM2 a | B95: HMAIDI | C95: Ferielle | D95: fille | E95: 0.003125 | F95: 0.00047453704 | G95: 0.00024305556 | H95: 0.0024768519 | I95: 0.00019675926 | L95: 0.0033912037
A96: CM1 CM2 a | B96: PAYET | C96: Sanjana | D96: fille | E96: 0.0044642857 | F96: 0.0012582672 | G96: 0.00077215608 | H96: 0.00091765873 | I96: 0.0010102513 | L96: 0.0039583333
A97: CM1 CM2 a | B97: RAHMANI | C97: Miralem | D97: garçon | E97: 0.0034722222 | F97: 0.0067476852 | G97: 9.2592593e-05 | L97: 0.0068402778
A98: CM1 CM2 a | B98: SABILLAH | C98: Mohammed | D98: garçon | E98: 0.0052083333 | F98: 0.0018287037 | G98: 0.0019444444 | H98: 0.0021296296 | I98: 0.0013541667 | L98: 0.0072569444
A99: CM1 CM2 a | B99: SALMACIS | C99: Félicia | D99: fille | E99: 0.0044642857 | F99: 0.0013161376 | G99: 0.0020287698 | H99: 0.002213955 | L99: 0.0055588624
A100: CM1 CM2 a | B100: ELBADI | C100: Dana | D100: fille | E100: 0.0044642857 | F100: 0.0014550265 | G100: 0.00078373016 | H100: 0.0044411376 | I100: 0.00078373016 | L100: 0.0074636243
...

Sheet Régularité global
A1: Classe | B1: Somme des écarts de la classe | C1: Moyenne des écarts | D1: classement
A2: CM1-CM2 C | B2: 0.043996362 | C2: 0.0029330908 | D2: 1
A3: 6D | B3: 0.027313988 | C3: 0.0030348876 | D3: 2
A4: 6C | B4: 0.0433292 | C4: 0.0030949428 | D4: 3
A5: CM 2 A | B5: 0.045011574 | C5: 0.0032151124 | D5: 4
A6: CM1-CM2 E | B6: 0.062491582 | C6: 0.0034717546 | D6: 5
A7: 6F | B7: 0.031913931 | C7: 0.0035459923 | D7: 6
A8: cm1-cm2bil | B8: 0.019126157 | C8: 0.0038252315 | D8: 7
A9: 6B | B9: 0.043339947 | C9: 0.0039399952 | D9: 8
A10: 6AG | B10: 0.079699074 | C10: 0.0041946881 | D10: 9
A11: CM1 CM2 a | B11: 0.20443084 | C11: 0.004867401 | D11: 10
A12: CM2C | B12: 0.060356466 | C12: 0.0050297055 | D12: 11
A13: CM1-CM2B | B13: 0.1203621 | C13: 0.0052331349 | D13: 12
... A17: CM1 CM2 D | B17: 0.17936343 | C17: 0.0094401803 | D17: 16
