Workbook

Sheet Général
A1: Ecole collège | B1: Classe | C1: course à la régularité | D1: AS garçons | E1: AS filles
C2: classement | D2: classement | E2: classement | F2: Total | G2: Classement
A3: collège | B3: 6AG | C3: =VLOOKUP(B3,'Régularité global'!$A$2:$D$21,4,FALSE) -> 9 | D3: 12 | E3: 3 | F3: =SUM(C3:E3) -> 24 | G3: 5
B4: 6B | C4: =VLOOKUP(B4,'Régularité global'!$A$2:$D$21,4,FALSE) -> 8 | D4: 1 | E4: 1 | F4: =SUM(C4:E4) -> 10 | G4: 1
B5: 6C | C5: =VLOOKUP(B5,'Régularité global'!$A$2:$D$21,4,FALSE) -> 3 | D5: 2 | E5: 9 | F5: =SUM(C5:E5) -> 14 | G5: 2
B6: 6D | C6: =VLOOKUP(B6,'Régularité global'!$A$2:$D$21,4,FALSE) -> 2 | D6: 4 | E6: 12 | F6: =SUM(C6:E6) -> 18 | G6: 4
B7: 6E | C7: =VLOOKUP(B7,'Régularité global'!$A$2:$D$21,4,FALSE) -> 15 | D7: 6 | E7: 2 | F7: =SUM(C7:E7) -> 23 | G7: 6
B8: 6F | C8: =VLOOKUP(B8,'Régularité global'!$A$2:$D$21,4,FALSE) -> 6 | D8: 3 | E8: 7 | F8: =SUM(C8:E8) -> 16 | G8: 3
A9: Pergaud | B9: Cm 2 A | C9: =VLOOKUP(B9,'Régularité global'!$A$2:$D$21,4,FALSE) -> 4 | D9: 14 | E9: 14 | F9: =SUM(C9:E9) -> 32 | G9: 11
B10: CM2 B | C10: =VLOOKUP(B10,'Régularité global'!$A$2:$D$21,4,FALSE) -> 14 | D10: 11 | E10: 11 | F10: =SUM(C10:E10) -> 36 | G10: 12
B11: CM2C | C11: =VLOOKUP(B11,'Régularité global'!$A$2:$D$21,4,FALSE) -> 11 | D11: 9 | E11: 5 | F11: =SUM(C11:E11) -> 25 | G11: 7
B12: CM2 D | C12: =VLOOKUP(B12,'Régularité global'!$A$2:$D$21,4,FALSE) -> #N/A | D12: 8 | E12: 10 | F12: =SUM(C12:E12) -> #N/A | G12: 8
A13: Matisse | B13: cm1-2A | C13: =VLOOKUP(B13,'Régularité global'!$A$2:$D$21,4,FALSE) -> #N/A | D13: 10 | E13: 6 | F13: =SUM(C13:E13) -> #N/A | G13: 9
B14: CM1-2B | C14: =VLOOKUP(B14,'Régularité global'!$A$2:$D$21,4,FALSE) -> #N/A | D14: 7 | E14: 4 | F14: =SUM(C14:E14) -> #N/A | G14: 6
B15: cm1-2C | C15: =VLOOKUP(B15,'Régularité global'!$A$2:$D$21,4,FALSE) -> #N/A | D15: 5 | E15: 8 | F15: =SUM(C15:E15) -> #N/A | G15: 2
B16: CM1-2D | C16: =VLOOKUP(B16,'Régularité global'!$A$2:$D$21,4,FALSE) -> #N/A | D16: 15 | E16: 15 | F16: =SUM(C16:E16) -> #N/A | G16: 13
B17: cm1-2E | C17: =VLOOKUP(B17,'Régularité global'!$A$2:$D$21,4,FALSE) -> #N/A | D17: 13 | E17: 13 | F17: =SUM(C17:E17) -> #N/A | G17: 10

Sheet AS garçons classe
B1: 4 meilleurs classement
A2: Classe | B2: perf 1 | C2: perf 2 | D2: perf 3 | E2: perf 4 | F2: total | H2: classement
A3: =Général!B3 -> 6AG | F3: =SUM(B3:E3) -> 0 | H3: 1
A4: =Général!B4 -> 6B | F4: =SUM(B4:E4) -> 0 | H4: 2
A5: =Général!B5 -> 6C | F5: =SUM(B5:E5) -> 0 | H5: 3
A6: =Général!B6 -> 6D | F6: =SUM(B6:E6) -> 0 | H6: 4
A7: =Général!B7 -> 6E | F7: =SUM(B7:E7) -> 0 | H7: 5
A8: =Général!B8 -> 6F | F8: =SUM(B8:E8) -> 0 | H8: 6
A9: =Général!B9 -> Cm 2 A | F9: =SUM(B9:E9) -> 0 | H9: 7
A10: =Général!B10 -> CM2 B | F10: =SUM(B10:E10) -> 0 | H10: 8
A11: =Général!B11 -> CM2C | F11: =SUM(B11:E11) -> 0 | H11: 9
A12: =Général!B12 -> CM2 D | F12: =SUM(B12:E12) -> 0 | H12: 10
A13: =Général!B13 -> cm1-2A | F13: =SUM(B13:E13) -> 0 | H13: 11
A14: =Général!B14 -> CM1-2B | F14: =SUM(B14:E14) -> 0 | H14: 12
... A19: =Général!B19 -> 0 | F19: =SUM(B19:E19) -> 0 | H19: 17
A20: =Général!B20 -> 0 | F20: =SUM(B20:E20) -> 0
F21: =SUM(B21:E21) -> 0 | H21: 18
A22: =Général!B22 -> 0 | F22: =SUM(B22:E22) -> 0 | H22: 19
A23: =Général!B23 -> 0 | F23: =SUM(B23:E23) -> 0 | H23: 20

Sheet AS garçons global
A1: Ordre d'arrivée | B1: temps | C1: NOM | D1: PRENOM | E1: CLASSE | F1: CATEGORIE
A2: 1 | B2: 0.0051350459 | C2: ADAM | D2: Yassine | E2: 6AG | F2: 6
A3: 6 | B3: 0.0054834436 | C3: LACHGARE | D3: Ilyés | E3: 6AG | F3: 6
A4: 24 | B4: 0.0060862901 | C4: GOCURUCU | D4: Bayram | E4: 6AG | F4: 6
A5: 39 | B5: 0.0063644748 | C5: ANTONIO | D5: Chissola | E5: 6AG | F5: 6
A6: 40 | B6: 0.0063832375 | C6: RAD | D6: Samuel-Florin | E6: 6AG | F6: 6
A7: 42 | B7: 0.0064179145 | C7: ARIF | D7: Abdel-Malik | E7: 6AG | F7: 6
A8: 43 | B8: 0.0064639395 | C8: SUTTER | D8: Adrien | E8: 6AG | F8: 6
A9: 45 | B9: 0.0064916088 | C9: SABEUR | D9: Akram | E9: 6AG | F9: 6
A10: 53 | B10: 0.0067897316 | C10: ABIDAL | D10: Adam | E10: 6AG | F10: 6
A11: 59 | B11: 0.0068385598 | C11: NOUAOUI | D11: Mourad | E11: 6AG | F11: 6
A12: 60 | B12: 0.0068872522 | C12: LAYOUNI | D12: Bilel | E12: 6AG | F12: 6
A13: 62 | B13: 0.0069221101 | C13: ARSLANFER | D13: Ebu Bekir | E13: 6AG | F13: 6
... A19: 15 | B19: 0.0057041649 | C19: ABOUEV | D19: Khamzat | E19: 6B | F19: 6
A20: 19 | B20: 0.0058542661 | C20: 0 | D20: 0 | E20: 0 | F20: 0
A21: 23 | B21: 0.0059640842 | C21: BOULHIA | D21: Anis | E21: 6B | F21: 6
A22: 36 | B22: 0.0062914135 | C22: TAZ | D22: Fevzi | E22: 6B | F22: 6
A23: 13 | B23: 0.0056908275 | C23: MURATOVIC | D23: Manuel | E23: 6C | F23: 6
A24: 44 | B24: 0.0064705856 | C24: SAKERA | D24: Zakaria | E24: 6C | F24: 6
A25: 48 | B25: 0.0065480324 | C25: SANE | D25: Aboubacar | E25: 6C | F25: 6
A26: 63 | B26: 0.0069296604 | C26: SIVAC | D26: Emin | E26: 6C | F26: 6
A27: 8 | B27: 0.0055822754 | C27: BOULKENAFET | D27: Abdessamed | E27: 6D | F27: 6
A28: 57 | B28: 0.0068250416 | C28: ABDI | D28: Mylaid | E28: 6D | F28: 6
A29: 61 | B29: 0.0069028953 | C29: ZHABELI | D29: Denis | E29: 6D | F29: 6
A30: 75 | B30: 0.0074724664 | C30: MERAH | D30: Bilal | E30: 6D | F30: 6
A31: 83 | B31: 0.0078575304 | C31: AKOTO | D31: Francis | E31: 6D | F31: 6
A32: 89 | B32: 0.0080401385 | C32: RABARAONA | D32: Harena | E32: 6D | F32: 6
... A50: 99 | B50: 0.0089223452 | C50: Gunduz | D50: Talhacan | E50: 6F | F50: 6
A51: 14 | B51: 0.0056956651 | C51: MANSOURI | D51: Abdel-Karim | E51: CM1 CM2 a | F51: CM2
A52: 25 | B52: 0.0061083532 | C52: BOUZOK | D52: Moncef | E52: CM1 CM2 a | F52: CM2
A53: 27 | B53: 0.006143844 | C53: SAKIROVSKI | D53: Abraham | E53: CM1 CM2 a | F53: CM2
A54: 49 | B54: 0.0065568938 | C54: AZZAZI | D54: Nizzar | E54: CM1 CM2 a | F54: CM2
A55: 77 | B55: 0.007502351 | C55: BOUDRIOUA | D55: Mohamed | E55: CM1 CM2 a | F55: CM2
A56: 33 | B56: 0.0062764938 | C56: ZERARI | D56: Hamza | E56: CM1 CM2 D | F56: CM2
A57: 79 | B57: 0.0075281666 | C57: Melouki | D57: Walid | E57: CM1 CM2 D | F57: CM2
A58: 85 | B58: 0.0079281955 | C58: Ayache | D58: Nourès | E58: CM1 CM2 D | F58: CM2
A59: 86 | B59: 0.0080054163 | C59: Ibisevic | D59: Sudahan | E59: CM1 CM2 D | F59: CM2
A60: 17 | B60: 0.0057504159 | C60: REZAIGIA | D60: ILYES | E60: CM1CM2 | F60: CM2
A61: 28 | B61: 0.006153474 | C61: LEON | D61: EMERSON | E61: CM1CM2 | F61: CM2
A62: 34 | B62: 0.0062818739 | C62: BECHENICK | D62: MOHAMED | E62: CM1CM2 | F62: CM2
...

Sheet AS filles
A1: Ordre d'arrivée | B1: temps | C1: NOM | D1: PRENOM | E1: CLASSE | F1: CATEGORIE
A2: 1 | B2: 0.0056316913 | C2: MHADJOU | D2: Abida | E2: 6AG | F2: 6
A3: 2 | B3: 0.0056887478 | C3: DEKHAKHENA | D3: Sara | E3: 6D | F3: 6
A4: 3 | B4: 0.0057484266 | C4: CHINE | D4: Bouchra | E4: 6B | F4: 6
A5: 4 | B5: 0.0059748897 | C5: BELABEES | D5: Sarah | E5: 6D | F5: 6
A6: 5 | B6: 0.00598886 | C6: JACQUES | D6: Maeva | E6: 6C | F6: 6
A7: 6 | B7: 0.0062422689 | C7: KOCAK | D7: Kamilia | E7: 6D | F7: 6
A8: 7 | B8: 0.006295166 | C8: ILGIN | D8: Ilayda | E8: CM2A | F8: CM2
A9: 8 | B9: 0.0063108091 | C9: KURSUN | D9: ZOYRE | E9: CM1CM2 | F9: CM2
A10: 9 | B10: 0.0063269043 | C10: JAMOTEAU | D10: Séréna | E10: CM1 CM2 a | F10: CM2
A11: 10 | B11: 0.0063318323 | C11: Bouridah | D11: Amina | E11: 6F | F11: 6
A12: 11 | B12: 0.0064834708 | C12: ARUTYUNIAN | D12: Liana | E12: 6C | F12: 6
A13: 12 | B13: 0.0064908854 | C13: GARNIER | D13: Philaé | E13: 6B | F13: 6
A14: 13 | B14: 0.0065312138 | C14: CAMARA | D14: Seynabou | E14: 6E | F14: 6
A15: 14 | B15: 0.0065865524 | C15: Saint Omer | D15: Thalia | E15: 6C | F15: 6
A16: 15 | B16: 0.0067504883 | C16: RAFIA | D16: Imane | E16: 6B | F16: 6
A17: 16 | B17: 0.0067858435 | C17: MOUILA | D17: Orlane | E17: CM1-CM2 C | F17: CM2
A18: 17 | B18: 0.0068104384 | C18: SELVI | D18: Tulay | E18: CM1-CM2 C | F18: CM2
A19: 18 | B19: 0.0069159614 | C19: Boudrioua | D19: Sonia | E19: 6F | F19: 6
A20: 19 | B20: 0.0069230143 | C20: MAZREKAJ | D20: Léonisa | E20: CM1-CM2 C | F20: CM2
A21: 20 | B21: 0.0069279423 | C21: Abssi | D21: Chérine | E21: 6F | F21: 6
A22: 21 | B22: 0.0069329608 | C22: Jboub | D22: Jalila | E22: 6F | F22: 6
A23: 22 | B23: 0.0069386122 | C23: Brahmi | D23: Yara | E23: CM1-CM2 E | F23: CM2
A24: 23 | B24: 0.0071620461 | C24: BEKOVIC | D24: Aulona | E24: CM2C | F24: CM2
A25: 24 | B25: 0.0071690086 | C25: ANNOUR | D25: Widad | E25: 6B | F25: 6
A26: 25 | B26: 0.0072130896 | C26: Zuméri | D26: Lona | E26: CM1-CM2 E | F26: CM2
A27: 26 | B27: 0.0072227648 | C27: SALH | D27: Lana | E27: CM1-CM2B | F27: CM2
A28: 27 | B28: 0.0072281449 | C28: Emini | D28: Erliza | E28: CM1-CM2 E | F28: CM2
A29: 28 | B29: 0.0072335702 | C29: Atas | D29: Rojin | E29: 6F | F29: 6
A30: 29 | B30: 0.0072956453 | C30: HERIDA | D30: Abir | E30: CM2A | F30: CM2
A31: 30 | B31: 0.0073384151 | C31: KESSAS | D31: NESRINE | E31: CM1CM2 | F31: CM2
A32: 31 | B32: 0.0073544198 | C32: DOUS | D32: Mysa | E32: CM1-CM2B | F32: CM2
A33: 32 | B33: 0.0073796477 | C33: CHUPAKOVA | D33: Sofia | E33: 6C | F33: 6
A34: 33 | B34: 0.0074111599 | C34: HALIT | D34: Neila | E34: 6AG | F34: 6
A35: 34 | B35: 0.0074161784 | C35: EL MARBOUH | D35: Hasna | E35: 6AG | F35: 6
A36: 35 | B36: 0.0074258084 | C36: Dulkadir | D36: Mélissa | E36: CM1 CM2 D | F36: CM2
A37: 36 | B37: 0.0074314146 | C37: YILDIRIM | D37: Sidelya | E37: CM2B | F37: CM2
A38: 37 | B38: 0.0075354456 | C38: CHOUKRI | D38: Fadwa | E38: CM2C | F38: CM2
A39: 38 | B39: 0.0075447139 | C39: DEVE | D39: Melda | E39: 6E | F39: 6
A40: 39 | B40: 0.0075487829 | C40: SAAS | D40: Jessie | E40: 6E | F40: 6
...

Sheet Régularité par élève
A1: classe | B1: NOM | C1: Prénom | D1: sexe | E1: projet | F1: Ecart 1 | G1: Ecart 2 | H1: Ecart 3 | I1: Ecart 4 | J1: Ecart 5 | K1: Ecart 6 | L1: Somme des écarts
A2: 6AG | B2: MOHAMED | C2: Kamal | D2: M | E2: 0.00390625 | F2: 0.00067708333 | G2: 0.0005150463 | H2: 0.0060821759 | L2: 0.0072743056
A3: 6AG | B3: PRADEEPKUMAR | C3: Praviieraaj | D3: M | E3: 0.003125 | F3: 0.0030671296 | G3: 0.00016203704 | H3: 0.0032175926 | L3: 0.0064467593
A4: 6AG | B4: EL JARROUDI | C4: Aya | D4: F | E4: 0.003125 | F4: 0.003125 | L4: 0.003125
A5: 6AG | B5: FEDALI | C5: Samia | D5: F | E5: 0.00390625 | F5: 0.00056134259 | G5: 5.2083333e-05 | H5: 0.0081423611 | I5: 0.00012152778 | L5: 0.0088773148
A6: 6AG | B6: ISMAIL HAJO | C6: Souline | D6: F | E6: 0.003125 | F6: 9.2592593e-05 | G6: 0.00032407407 | H6: 0.00071759259 | I6: 0.000625 | L6: 0.0017592593
A7: 6AG | B7: KUNDURACI | C7: Ilayda | D7: F | E7: 0.003125 | F7: 0.00010416667 | G7: 0.00070601852 | H7: 0.001412037 | I7: 0.0011921296 | L7: 0.0034143519
A8: 6AG | B8: LOKANATHAN | C8: Minine | D8: F | E8: 0.0034722222 | F8: 5.787037e-05 | G8: 8.1018519e-05 | H8: 0.00011574074 | I8: 0.00013888889 | L8: 0.00039351852
A9: 6AG | B9: ATPUTHAM | C9: Nidusha | D9: F | E9: 0.003125 | F9: 0.00020833333 | G9: 0.00043981481 | H9: 0.00041666667 | I9: 0.00056712963 | L9: 0.0016319444
A10: 6AG | B10: BACHER-ARNOLD | C10: Joffrey | D10: M | E10: 0.00390625 | F10: 6.3657407e-05 | G10: 6.3657407e-05 | H10: 0.0010127315 | I10: 8.6805556e-05 | L10: 0.0012268519
A11: 6AG | B11: BOUDJADJA | C11: Djebril | D11: M | E11: 0.0034722222 | F11: 0.00050925926 | G11: 0.00040509259 | H11: 0.0017361111 | I11: 0.00016203704 | L11: 0.0028125
A12: 6AG | B12: KESKIN | C12: Mehmet | D12: M | E12: 0.003125 | F12: 0.00050925926 | G12: 4.3368087e-19 | H12: 0.00019675926 | I12: 0.0002662037 | L12: 0.00097222222
A13: 6AG | B13: LAUER | C13: Alexine | D13: F | E13: 0.0034722222 | F13: 0.00011574074 | G13: 0.00012731481 | H13: 0.0013425926 | I13: 0.00045138889 | L13: 0.002037037
A14: 6AG | B14: SELIMOVIC | C14: Indira | D14: F | E14: 0.0034722222 | F14: 6.9444444e-05 | G14: 0.0035648148 | H14: 0.0040972222 | L14: 0.0077314815
A15: 6AG | B15: BOUBAKOUR | C15: Anis | D15: M | E15: 0.003125 | F15: 0.00053240741 | G15: 1.1574074e-05 | H15: 0.0019097222 | I15: 0.00034722222 | L15: 0.0028009259
A16: 6AG | B16: Sadriu | C16: Nermine | D16: F | E16: 0.0034722222 | F16: 0.0034722222 | L16: 0.0034722222
A17: 6AG | B17: MOHAMED | C17: Kamal | D17: M | E17: 0.00390625 | F17: 0.00067708333 | G17: 0.0005150463 | H17: 0.0060821759 | L17: 0.0072743056
A18: 6AG | B18: PRADEEPKUMAR | C18: Praviieraaj | D18: M | E18: 0.003125 | F18: 0.0030671296 | G18: 0.00016203704 | H18: 0.0032175926 | L18: 0.0064467593
A19: 6AG | B19: EL JARROUDI | C19: Aya | D19: F | E19: 0.003125 | F19: 0.003125 | L19: 0.003125
A20: 6AG | B20: FEDALI | C20: Samia | D20: F | E20: 0.00390625 | F20: 0.00056134259 | G20: 5.2083333e-05 | H20: 0.0081423611 | I20: 0.00012152778 | L20: 0.0088773148
A21: 6B | B21: BEN HASSIME | C21: Salma | D21: F | E21: 0.0044642857 | F21: 0.00015873016 | G21: 0.00014715608 | H21: 0.00040178571 | L21: 0.00070767196
A22: 6B | B22: BEUSCART | C22: Camilia | D22: F | E22: 0.003125 | F22: 4.6296296e-05 | G22: 0.00074074074 | H22: 0.00078703704 | L22: 0.0015740741
A23: 6B | B23: COULIBALY | C23: Neïssa | D23: F | E23: 0.003125 | F23: 0.0030439815 | G23: 0.00010416667 | H23: 0.0024421296 | I23: 0.0029976852 | L23: 0.008587963
A24: 6B | B24: EL ARRIM | C24: Sana | D24: F | E24: 0.003125 | F24: 4.3368087e-19 | G24: 9.2592593e-05 | H24: 0.0031134259 | I24: 0.00028935185 | J24: 0.00020833333 | L24: 0.0037037037
A25: 6B | B25: KINAVUIDI | C25: Jaëlle | D25: F | E25: 0.0044642857 | F25: 0.00013558201 | G25: 0.00015873016 | H25: 0.0020982143 | L25: 0.0023925265
A26: 6B | B26: MAES | C26: Wendjah | D26: F | E26: 0.003125 | F26: 0.003125 | L26: 0.003125
A27: 6B | B27: OGEZ | C27: Lucas | D27: M | E27: 0.003125 | F27: 2.3148148e-05 | G27: 9.2592593e-05 | H27: 0.0062152778 | I27: 0.00010416667 | L27: 0.0064351852
A28: 6B | B28: REDZOVIC | C28: Nézo | D28: M | E28: 0.0044642857 | F28: 0.00019345238 | G28: 0.0041583995 | L28: 0.0043518519
A29: 6B | B29: SANKHARE | C29: Astou | D29: F | E29: 0.0044642857 | F29: 0.0003207672 | G29: 0.0041005291 | L29: 0.0044212963
A30: 6B | B30: MOERMANN | C30: Angélina | D30: F | E30: 0.0044642857 | F30: 0.0011888228 | L30: 0.0011888228
A31: 6B | B31: EL HACHIMI | C31: Rayan | D31: M | E31: 0.003125 | F31: 9.2592593e-05 | G31: 9.2592593e-05 | H31: 0.0062384259 | I31: 0.00042824074 | L31: 0.0068518519
A32: 6C | B32: ARIFI | C32: Anis | D32: M | E32: 0.00390625 | F32: 0.00390625 | L32: 0.00390625
A33: 6C | B33: Djouallah | C33: Yousra | D33: F | E33: 0.00390625 | F33: 0.00037615741 | G33: 0.00024884259 | H33: 0.0074826389 | I33: 0.00031828704 | L33: 0.0084259259
A34: 6C | B34: FEKNOUS | C34: Nouaria | D34: F | E34: 0.00390625 | F34: 0.001244213 | G34: 0.0018344907 | L34: 0.0030787037
A35: 6C | B35: BOUAMEUR | C35: Islam | D35: F | E35: 0.003125 | F35: 0.00072916667 | G35: 0.00025462963 | H35: 0.0024768519 | I35: 0.00015046296 | J35: 0.00052083333 | L35: 0.0041319444
A36: 6C | B36: CHAKIB | C36: Iman | D36: F | E36: 0.0034722222 | F36: 0.00041666667 | G36: 6.9444444e-05 | H36: 0.0010069444 | I36: 0.00016203704 | L36: 0.0016550926
A37: 6C | B37: LEON | C37: Allison | D37: F | E37: 0.0034722222 | F37: 0.00040509259 | G37: 3.4722222e-05 | H37: 0.00016203704 | I37: 0.00017361111 | L37: 0.00077546296
A38: 6C | B38: FERRY | C38: Marie | D38: F | E38: 0.00390625 | F38: 0.00036458333 | G38: 0.00012152778 | H38: 0.00093171296 | I38: 0.00044560185 | L38: 0.0018634259
A39: 6C | B39: GRONDIN | C39: Anthony | D39: M | E39: 0.0044642857 | F39: 0.00034391534 | G39: 0.00031580688 | H39: 0.0024107143 | L39: 0.0030704365
A40: 6C | B40: JUSUFI | C40: Ridvan | D40: M | E40: 0.0044642857 | F40: 0.002161045 | G40: 0.00041335979 | H40: 0.0023809524 | I40: 0.00034391534 | L40: 0.0052992725
...

Sheet Régularité global
A1: Classe | B1: Somme des écarts de la classe | C1: Moyenne des écarts | D1: classement
A2: CM1-CM2 C | B2: 0.043996362 | C2: 0.0029330908 | D2: 1
A3: 6D | B3: 0.027313988 | C3: 0.0030348876 | D3: 2
A4: 6C | B4: 0.0433292 | C4: 0.0030949428 | D4: 3
A5: CM 2 A | B5: 0.045011574 | C5: 0.0032151124 | D5: 4
A6: CM1-CM2 E | B6: 0.062491582 | C6: 0.0034717546 | D6: 5
A7: 6F | B7: 0.031913931 | C7: 0.0035459923 | D7: 6
A8: cm1-cm2bil | B8: 0.019126157 | C8: 0.0038252315 | D8: 7
A9: 6B | B9: 0.043339947 | C9: 0.0039399952 | D9: 8
A10: 6AG | B10: 0.079699074 | C10: 0.0041946881 | D10: 9
A11: CM1 CM2 a | B11: 0.20443084 | C11: 0.004867401 | D11: 10
A12: CM2C | B12: 0.060356466 | C12: 0.0050297055 | D12: 11
A13: CM1-CM2B | B13: 0.1203621 | C13: 0.0052331349 | D13: 12
... A17: CM1 CM2 D | B17: 0.17936343 | C17: 0.0094401803 | D17: 16
