Workbook

Sheet A remplir
B1: Date | C1: Restaurant | D1: Distance | E1: Tarifs | F1: Gras ?
B2: =TODAY() -> 42755 | C2: RIE | D2: =IFERROR(VLOOKUP(C2,'Base restaurants'!$B$2:$E$51,2,FALSE),"Non renseigné") -> 0-5 min | E2: =IFERROR(VLOOKUP(C2,'Base restaurants'!$B$2:$E$51,3,FALSE),"Non renseigné") -> 0-9€ | F2: =IFERROR(VLOOKUP(C2,'Base restaurants'!$B$2:$E$51,4,FALSE),"Non renseigné") -> Meduim
B3: =TODAY() -> 42755 | D3: =IFERROR(VLOOKUP(C3,'Base restaurants'!$B$2:$E$51,2,FALSE),"Non renseigné") -> Non renseigné | E3: =IFERROR(VLOOKUP(C3,'Base restaurants'!$B$2:$E$51,3,FALSE),"Non renseigné") -> Non renseigné | F3: =IFERROR(VLOOKUP(C3,'Base restaurants'!$B$2:$E$51,4,FALSE),"Non renseigné") -> Non renseigné
B4: =TODAY() -> 42755 | D4: =IFERROR(VLOOKUP(C4,'Base restaurants'!$B$2:$E$51,2,FALSE),"Non renseigné") -> Non renseigné | E4: =IFERROR(VLOOKUP(C4,'Base restaurants'!$B$2:$E$51,3,FALSE),"Non renseigné") -> Non renseigné | F4: =IFERROR(VLOOKUP(C4,'Base restaurants'!$B$2:$E$51,4,FALSE),"Non renseigné") -> Non renseigné
B5: =TODAY() -> 42755 | D5: =IFERROR(VLOOKUP(C5,'Base restaurants'!$B$2:$E$51,2,FALSE),"Non renseigné") -> Non renseigné | E5: =IFERROR(VLOOKUP(C5,'Base restaurants'!$B$2:$E$51,3,FALSE),"Non renseigné") -> Non renseigné | F5: =IFERROR(VLOOKUP(C5,'Base restaurants'!$B$2:$E$51,4,FALSE),"Non renseigné") -> Non renseigné
B6: =TODAY() -> 42755 | D6: =IFERROR(VLOOKUP(C6,'Base restaurants'!$B$2:$E$51,2,FALSE),"Non renseigné") -> Non renseigné | E6: =IFERROR(VLOOKUP(C6,'Base restaurants'!$B$2:$E$51,3,FALSE),"Non renseigné") -> Non renseigné | F6: =IFERROR(VLOOKUP(C6,'Base restaurants'!$B$2:$E$51,4,FALSE),"Non renseigné") -> Non renseigné
B7: =TODAY() -> 42755 | D7: =IFERROR(VLOOKUP(C7,'Base restaurants'!$B$2:$E$51,2,FALSE),"Non renseigné") -> Non renseigné | E7: =IFERROR(VLOOKUP(C7,'Base restaurants'!$B$2:$E$51,3,FALSE),"Non renseigné") -> Non renseigné | F7: =IFERROR(VLOOKUP(C7,'Base restaurants'!$B$2:$E$51,4,FALSE),"Non renseigné") -> Non renseigné
B8: =TODAY() -> 42755 | D8: =IFERROR(VLOOKUP(C8,'Base restaurants'!$B$2:$E$51,2,FALSE),"Non renseigné") -> Non renseigné | E8: =IFERROR(VLOOKUP(C8,'Base restaurants'!$B$2:$E$51,3,FALSE),"Non renseigné") -> Non renseigné | F8: =IFERROR(VLOOKUP(C8,'Base restaurants'!$B$2:$E$51,4,FALSE),"Non renseigné") -> Non renseigné
B9: =TODAY() -> 42755 | D9: =IFERROR(VLOOKUP(C9,'Base restaurants'!$B$2:$E$51,2,FALSE),"Non renseigné") -> Non renseigné | E9: =IFERROR(VLOOKUP(C9,'Base restaurants'!$B$2:$E$51,3,FALSE),"Non renseigné") -> Non renseigné | F9: =IFERROR(VLOOKUP(C9,'Base restaurants'!$B$2:$E$51,4,FALSE),"Non renseigné") -> Non renseigné
B10: =TODAY() -> 42755 | D10: =IFERROR(VLOOKUP(C10,'Base restaurants'!$B$2:$E$51,2,FALSE),"Non renseigné") -> Non renseigné | E10: =IFERROR(VLOOKUP(C10,'Base restaurants'!$B$2:$E$51,3,FALSE),"Non renseigné") -> Non renseigné | F10: =IFERROR(VLOOKUP(C10,'Base restaurants'!$B$2:$E$51,4,FALSE),"Non renseigné") -> Non renseigné
B11: =TODAY() -> 42755 | D11: =IFERROR(VLOOKUP(C11,'Base restaurants'!$B$2:$E$51,2,FALSE),"Non renseigné") -> Non renseigné | E11: =IFERROR(VLOOKUP(C11,'Base restaurants'!$B$2:$E$51,3,FALSE),"Non renseigné") -> Non renseigné | F11: =IFERROR(VLOOKUP(C11,'Base restaurants'!$B$2:$E$51,4,FALSE),"Non renseigné") -> Non renseigné
B12: =TODAY() -> 42755 | D12: =IFERROR(VLOOKUP(C12,'Base restaurants'!$B$2:$E$51,2,FALSE),"Non renseigné") -> Non renseigné | E12: =IFERROR(VLOOKUP(C12,'Base restaurants'!$B$2:$E$51,3,FALSE),"Non renseigné") -> Non renseigné | F12: =IFERROR(VLOOKUP(C12,'Base restaurants'!$B$2:$E$51,4,FALSE),"Non renseigné") -> Non renseigné
B13: =TODAY() -> 42755 | D13: =IFERROR(VLOOKUP(C13,'Base restaurants'!$B$2:$E$51,2,FALSE),"Non renseigné") -> Non renseigné | E13: =IFERROR(VLOOKUP(C13,'Base restaurants'!$B$2:$E$51,3,FALSE),"Non renseigné") -> Non renseigné | F13: =IFERROR(VLOOKUP(C13,'Base restaurants'!$B$2:$E$51,4,FALSE),"Non renseigné") -> Non renseigné
B14: =TODAY() -> 42755 | D14: =IFERROR(VLOOKUP(C14,'Base restaurants'!$B$2:$E$51,2,FALSE),"Non renseigné") -> Non renseigné | E14: =IFERROR(VLOOKUP(C14,'Base restaurants'!$B$2:$E$51,3,FALSE),"Non renseigné") -> Non renseigné | F14: =IFERROR(VLOOKUP(C14,'Base restaurants'!$B$2:$E$51,4,FALSE),"Non renseigné") -> Non renseigné
... B367: =TODAY() -> 42755 | D367: =IFERROR(VLOOKUP(C367,'Base restaurants'!$B$2:$E$51,2,FALSE),"Non renseigné") -> Non renseigné | E367: =IFERROR(VLOOKUP(C367,'Base restaurants'!$B$2:$E$51,3,FALSE),"Non renseigné") -> Non renseigné | F367: =IFERROR(VLOOKUP(C367,'Base restaurants'!$B$2:$E$51,4,FALSE),"Non renseigné") -> Non renseigné

Sheet Synthèse mensuelle
C1: Janvier | D1: Février | E1: Mars | F1: Avril | G1: Mai | H1: Juin | I1: Juillet | J1: Août | K1: Septembre | L1: Octobre | M1: Novembre | N1: Décembre
B2: RIE
B3: Envie de saisons
B4: Chalet
B5: Corvetto
B6: Chinois
B7: Couscous
B8: Djawa
B9: Il caffe
B10: Mexicain
B11: Bagelstein
B12: BK
B13: Simone
... B27: Resto tuktuk

Sheet Feuil1
B1: RIE | C1: Envie de saisons | D1: Chalet | E1: Corvetto | F1: Chinois | G1: Couscous | H1: Djawa | I1: Il caffe | J1: Mexicain | K1: Bagelstein | L1: BK | M1: Simone | N1: Tuk Tuk | O1: Libanais | P1: Little B | Q1: Rice | R1: Marx | S1: BOCO | T1: M&S | U1: Vietnamien | V1: Cuisine et confidences | W1: Julien Restaurant | X1: Julien Boulangerie | Y1: Les tontons | Z1: Crêperie tuktuk | AA1: Resto tuktuk
A2: Distance
A3: Tarif
A4: Sucre / Gras

Sheet Base restaurants
B1: Restaurants | C1: Distance | D1: Tarifs | E1: Gras ?
B2: RIE | C2: 0-5 min | D2: 0-9€ | E2: Meduim
B3: Envie de saisons | C3: 5-10 min | D3: Plus de 25€ | E3: Gras
B4: Chalet | C4: 10-15 min | D4: 9-15€ | E4: Gras
B5: Corvetto | C5: Plus de 15 min | D5: Plus de 25€ | E5: Très gras
B6: Chinois
B7: Couscous
B8: Djawa
B9: Il caffe
B10: Mexicain
B11: Bagelstein
B12: BK
B13: Simone
B14: Tuk Tuk
B15: Libanais
B16: Little B
B17: Rice
... B27: Resto tuktuk

Sheet Paramètres
B2: Distance | C2: Tarifs | D2: Gras ?
B3: 0-5 min | C3: 0-9€ | D3: Léger
B4: 5-10 min | C4: 9-15€ | D4: Meduim
B5: 10-15 min | C5: 15-25€ | D5: Gras
B6: Plus de 15 min | C6: Plus de 25€ | D6: Très gras
