Workbook

Sheet Affichage
A1: Récupération de cellule non vide d'une autre feuille
B3: =B4 -> 42795 | C3: =C4 -> 42796 | D3: =D4 -> 42797 | E3: =E4 -> 42798 | F3: =F4 -> 42799 | G3: =G4 -> 42800 | H3: =H4 -> 42801 | I3: =I4 -> 42802 | ... AC3: =AC4 -> 42822
B4: =[1]Param!$G$3 -> 42795 | C4: =[1]Param!$G$3+1 -> 42796 | D4: =[1]Param!$G$3+2 -> 42797 | E4: =[1]Param!$G$3+3 -> 42798 | F4: =[1]Param!$G$3+4 -> 42799 | G4: =[1]Param!$G$3+5 -> 42800 | H4: =[1]Param!$G$3+6 -> 42801 | I4: =[1]Param!$G$3+7 -> 42802 | J4: =[1]Param!$G$3+8 -> 42803 | K4: =[1]Param!$G$3+9 -> 42804 | L4: =[1]Param!$G$3+10 -> 42805 | M4: =[1]Param!$G$3+11 -> 42806 | N4: =[1]Param!$G$3+12 -> 42807 | O4: =[1]Param!$G$3+13 -> 42808 | P4: =[1]Param!$G$3+14 -> 42809 | Q4: =[1]Param!$G$3+15 -> 42810 | R4: =[1]Param!$G$3+16 -> 42811 | S4: =[1]Param!$G$3+17 -> 42812 | T4: =[1]Param!$G$3+18 -> 42813 | U4: =[1]Param!$G$3+19 -> 42814 | V4: =[1]Param!$G$3+20 -> 42815 | W4: =[1]Param!$G$3+21 -> 42816 | X4: =[1]Param!$G$3+22 -> 42817 | Y4: =[1]Param!$G$3+23 -> 42818 | Z4: =[1]Param!$G$3+24 -> 42819 | AA4: =[1]Param!$G$3+25 -> 42820 | AB4: =[1]Param!$G$3+26 -> 42821 | AC4: =[1]Param!$G$3+27 -> 42822
A5: Congés | B5: =CONCATENATE(IF(Data!B5<>"",Data!B5&";",""),IF(Data!B6<>"",Data!B6&";",""),IF(Data!B7<>"",Data!B7&";",""),IF(Data!B8<>"",Data!B8&";",""),) | C5: =CONCATENATE(IF(Data!C5<>"",Data!C5&";",""),IF(Data!C6<>"",Data!C6&";",""),IF(Data!C7<>"",Data!C7&";",""),IF(Data!C8<>"",Data!C8&";",""),) -> GS; | D5: =CONCATENATE(IF(Data!D5<>"",Data!D5&";",""),IF(Data!D6<>"",Data!D6&";",""),IF(Data!D7<>"",Data!D7&";",""),IF(Data!D8<>"",Data!D8&";",""),) -> GS; | E5: =CONCATENATE(IF(Data!E5<>"",Data!E5&";",""),IF(Data!E6<>"",Data!E6&";",""),IF(Data!E7<>"",Data!E7&";",""),IF(Data!E8<>"",Data!E8&";",""),) -> GS; | F5: =CONCATENATE(IF(Data!F5<>"",Data!F5&";",""),IF(Data!F6<>"",Data!F6&";",""),IF(Data!F7<>"",Data!F7&";",""),IF(Data!F8<>"",Data!F8&";",""),) -> GS; | G5: =CONCATENATE(IF(Data!G5<>"",Data!G5&";",""),IF(Data!G6<>"",Data!G6&";",""),IF(Data!G7<>"",Data!G7&";",""),IF(Data!G8<>"",Data!G8&";",""),) -> GS; | H5: =CONCATENATE(IF(Data!H5<>"",Data!H5&";",""),IF(Data!H6<>"",Data!H6&";",""),IF(Data!H7<>"",Data!H7&";",""),IF(Data!H8<>"",Data!H8&";",""),) -> GS;VP; | I5: =CONCATENATE(IF(Data!I5<>"",Data!I5&";",""),IF(Data!I6<>"",Data!I6&";",""),IF(Data!I7<>"",Data!I7&";",""),IF(Data!I8<>"",Data!I8&";",""),) -> GS; | ... AC5: =CONCATENATE(IF(Data!AC5<>"",Data!AC5&";",""),IF(Data!AC6<>"",Data!AC6&";",""),IF(Data!AC7<>"",Data!AC7&";",""),IF(Data!AC8<>"",Data!AC8&";",""),)
A6: Projet 1
A7: Projet 2
A8: Projet 3
A9: Projet 4

Sheet Data
B2: =B3 -> 42795 | C2: =C3 -> 42796 | D2: =D3 -> 42797 | E2: =E3 -> 42798 | F2: =F3 -> 42799 | G2: =G3 -> 42800 | H2: =H3 -> 42801 | I2: =I3 -> 42802 | ... AC2: =AC3 -> 42822
B3: =[1]Param!$G$3 -> 42795 | C3: =[1]Param!$G$3+1 -> 42796 | D3: =[1]Param!$G$3+2 -> 42797 | E3: =[1]Param!$G$3+3 -> 42798 | F3: =[1]Param!$G$3+4 -> 42799 | G3: =[1]Param!$G$3+5 -> 42800 | H3: =[1]Param!$G$3+6 -> 42801 | I3: =[1]Param!$G$3+7 -> 42802 | J3: =[1]Param!$G$3+8 -> 42803 | K3: =[1]Param!$G$3+9 -> 42804 | L3: =[1]Param!$G$3+10 -> 42805 | M3: =[1]Param!$G$3+11 -> 42806 | N3: =[1]Param!$G$3+12 -> 42807 | O3: =[1]Param!$G$3+13 -> 42808 | P3: =[1]Param!$G$3+14 -> 42809 | Q3: =[1]Param!$G$3+15 -> 42810 | R3: =[1]Param!$G$3+16 -> 42811 | S3: =[1]Param!$G$3+17 -> 42812 | T3: =[1]Param!$G$3+18 -> 42813 | U3: =[1]Param!$G$3+19 -> 42814 | V3: =[1]Param!$G$3+20 -> 42815 | W3: =[1]Param!$G$3+21 -> 42816 | X3: =[1]Param!$G$3+22 -> 42817 | Y3: =[1]Param!$G$3+23 -> 42818 | Z3: =[1]Param!$G$3+24 -> 42819 | AA3: =[1]Param!$G$3+25 -> 42820 | AB3: =[1]Param!$G$3+26 -> 42821 | AC3: =[1]Param!$G$3+27 -> 42822
A5: GS | C5: GS | D5: GS | E5: GS | F5: GS | G5: GS | H5: GS | I5: GS
A6: VP | H6: VP | U6: VP | V6: VP
A7: CG | L7: CG | M7: CG | N7: CG | O7: CG | P7: CG | Q7: CG | R7: CG | S7: CG | T7: CG
A8: RJ | L8: RJ | M8: RJ | N8: RJ | O8: RJ | P8: RJ | Q8: RJ | R8: RJ | S8: RJ | T8: RJ
