Workbook

Sheet Feuil1
A1: Zone tarifaire | B1: Nº du transport | C1: Jour calendaire | D1: Transitaire | E1: Poids Brut | F1: Poid Pondéré | G1: Coût
A2: a | B2: 678209 | C2: 42537 | D2: 42076 | E2: 3.358 | F2: =ROUND(E2/5,1)*5 -> 3.5 | G2: =VLOOKUP(Feuil1!$F2,Feuil2!$A$1:$J$31,MATCH(Feuil1!$A2,Feuil2!$A$1:$J$1,0),FALSE) -> 19.76
A3: a | B3: 678833 | C3: 42544 | D3: 42076 | E3: 6.837 | F3: =ROUND(E3/5,1)*5 -> 7 | G3: =VLOOKUP(Feuil1!$F3,Feuil2!$A$1:$J$31,MATCH(Feuil1!$A3,Feuil2!$A$1:$J$1,0),FALSE) -> 30.368
A4: b | B4: 669775 | C4: 42449 | D4: 42076 | E4: 2.347 | F4: =ROUND(E4/5,1)*5 -> 2.5 | G4: =VLOOKUP(Feuil1!$F4,Feuil2!$A$1:$J$31,MATCH(Feuil1!$A4,Feuil2!$A$1:$J$1,0),FALSE) -> 18.616
A5: c | B5: 667719 | C5: 42401 | D5: 42076 | E5: 8.923 | F5: =ROUND(E5/5,1)*5 -> 9 | G5: =VLOOKUP(Feuil1!$F5,Feuil2!$A$1:$J$31,MATCH(Feuil1!$A5,Feuil2!$A$1:$J$1,0),FALSE) -> 69.16
A6: r | B6: 670247 | C6: 42433 | D6: 42076 | E6: 6.335 | F6: =ROUND(E6/5,1)*5 -> 6.5 | G6: =VLOOKUP(Feuil1!$F6,Feuil2!$A$1:$J$31,MATCH(Feuil1!$A6,Feuil2!$A$1:$J$1,0),FALSE) -> 18.72
A7: t | B7: 673464 | C7: 42475 | D7: 42076 | E7: 12 | F7: =ROUND(E7/5,1)*5 -> 12 | G7: =VLOOKUP(Feuil1!$F7,Feuil2!$A$1:$J$31,MATCH(Feuil1!$A7,Feuil2!$A$1:$J$1,0),FALSE) -> 47.84
A8: v | B8: 676440 | C8: 42516 | D8: 42076 | E8: 8.95 | F8: =ROUND(E8/5,1)*5 -> 9 | G8: =VLOOKUP(Feuil1!$F8,Feuil2!$A$1:$J$31,MATCH(Feuil1!$A8,Feuil2!$A$1:$J$1,0),FALSE) -> 45.76
A9: e | B9: 676914 | C9: 42522 | D9: 42076 | E9: 15 | F9: =ROUND(E9/5,1)*5 -> 15 | G9: =VLOOKUP(Feuil1!$F9,Feuil2!$A$1:$J$31,MATCH(Feuil1!$A9,Feuil2!$A$1:$J$1,0),FALSE) -> 174.72
A10: f | B10: 679522 | C10: 42551 | D10: 42076 | E10: 11 | F10: =ROUND(E10/5,1)*5 -> 11 | G10: =VLOOKUP(Feuil1!$F10,Feuil2!$A$1:$J$31,MATCH(Feuil1!$A10,Feuil2!$A$1:$J$1,0),FALSE) -> 45.344
A11: c | B11: 674121 | C11: 42485 | D11: 42081 | E11: 1 | F11: =ROUND(E11/5,1)*5 -> 1 | G11: =VLOOKUP(Feuil1!$F11,Feuil2!$A$1:$J$31,MATCH(Feuil1!$A11,Feuil2!$A$1:$J$1,0),FALSE) -> 19.76
A12: d | B12: 678958 | C12: 42545 | D12: 42081 | E12: 5.23 | F12: =ROUND(E12/5,1)*5 -> 5 | G12: =VLOOKUP(Feuil1!$F12,Feuil2!$A$1:$J$31,MATCH(Feuil1!$A12,Feuil2!$A$1:$J$1,0),FALSE) -> 35.88

Sheet Feuil2
A1: poids | B1: a | C1: b | D1: c | E1: d | F1: e | G1: f | H1: r | I1: t | J1: v
A2: 0.5 | B2: 13.52 | C2: 14.04 | D2: 18.72 | E2: 18.72 | F2: 33.28 | G2: 13.52 | H2: 7.8 | I2: 9.36 | J2: 16.64
A3: 1 | B3: 14.56 | C3: 15.184 | D3: 19.76 | E3: 19.76 | F3: 37.44 | G3: 14.56 | H3: 8.32 | I3: 9.88 | J3: 18.2
A4: 1.5 | B4: 15.6 | C4: 16.328 | D4: 20.8 | E4: 20.8 | F4: 41.6 | G4: 15.6 | H4: 8.84 | I4: 10.4 | J4: 19.76
A5: 2 | B5: 16.64 | C5: 17.472 | D5: 21.84 | E5: 21.84 | F5: 45.76 | G5: 16.64 | H5: 9.36 | I5: 10.92 | J5: 21.32
A6: 2.5 | B6: 17.68 | C6: 18.616 | D6: 22.88 | E6: 22.88 | F6: 49.92 | G6: 17.68 | H6: 9.88 | I6: 11.44 | J6: 22.88
A7: 3 | B7: 18.72 | C7: 19.76 | D7: 25.48 | E7: 25.48 | F7: 54.08 | G7: 18.72 | H7: 10.4 | I7: 12.48 | J7: 24.96
A8: 3.5 | B8: 19.76 | C8: 20.904 | D8: 28.08 | E8: 28.08 | F8: 58.24 | G8: 19.76 | H8: 10.92 | I8: 13.52 | J8: 27.04
A9: 4 | B9: 20.8 | C9: 22.048 | D9: 30.68 | E9: 30.68 | F9: 62.4 | G9: 20.8 | H9: 11.44 | I9: 14.56 | J9: 29.12
A10: 4.5 | B10: 21.84 | C10: 23.192 | D10: 33.28 | E10: 33.28 | F10: 66.56 | G10: 21.84 | H10: 11.96 | I10: 15.6 | J10: 31.2
A11: 5 | B11: 22.88 | C11: 24.336 | D11: 35.88 | E11: 35.88 | F11: 70.72 | G11: 22.88 | H11: 12.48 | I11: 16.64 | J11: 33.28
A12: 5.5 | B12: 24.752 | C12: 26.312 | D12: 40.04 | E12: 40.04 | F12: 75.92 | G12: 24.752 | H12: 14.56 | I12: 18.928 | J12: 34.84
A13: 6 | B13: 26.624 | C13: 28.288 | D13: 44.2 | E13: 44.2 | F13: 81.12 | G13: 26.624 | H13: 16.64 | I13: 21.216 | J13: 36.4
... A31: 15 | B31: 60.32 | C31: 63.856 | D31: 108.68 | E31: 108.68 | F31: 174.72 | G31: 60.32 | H31: 42.64 | I31: 60.32 | J31: 69.68

Sheet Feuil3
