Workbook

Sheet pole 1
A1: DATE | B1: jour sem | C1: HEURE | D1: POSTE | E1: NOM | F1: durée Appel | G1: heure de fin de l'appel | H1: Statut | I1: Date complete | J1: date complete de fin | K1: statut perte | L1: Qui ?
A2: 42613 | B2: mercredi | C2: 0.417442 | D2: 3797 | E2: fille A | H2: Perdu | I2: =A2+C2 -> 42613.417 | J2: =I2+F2 -> 42613.417 | K2: =VLOOKUP(I2,'Tri horaire1'!E:G,3,FALSE) -> Non décroché | L2: =VLOOKUP(I2,'Tri horaire1'!E:H,4,FALSE) -> Disponible
A3: 42599 | B3: mercredi | C3: 0.442581 | D3: 3797 | E3: fille A | H3: Perdu | I3: =A3+C3 -> 42599.443 | J3: =I3+F3 -> 42599.443 | K3: =VLOOKUP(I3,'Tri horaire1'!E:G,3,FALSE) -> Non décroché | L3: =VLOOKUP(I3,'Tri horaire1'!E:H,4,FALSE) -> Disponible | O3: Min | P3: =MIN(C:C) -> 0.366597
A4: 42612 | B4: mardi | C4: 0.449051 | D4: 3797 | E4: fille A | H4: Perdu | I4: =A4+C4 -> 42612.449 | J4: =I4+F4 -> 42612.449 | K4: =VLOOKUP(I4,'Tri horaire1'!E:G,3,FALSE) -> Non décroché | L4: =VLOOKUP(I4,'Tri horaire1'!E:H,4,FALSE) -> Disponible | O4: Max | P4: =MAX(C:C) -> 0.742141
A5: 42607 | B5: jeudi | C5: 0.450822 | D5: 3797 | E5: fille A | H5: Perdu | I5: =A5+C5 -> 42607.451 | J5: =I5+F5 -> 42607.451 | K5: =VLOOKUP(I5,'Tri horaire1'!E:G,3,FALSE) -> Non décroché | L5: =VLOOKUP(I5,'Tri horaire1'!E:H,4,FALSE) -> Disponible
A6: 42606 | B6: mercredi | C6: 0.459965 | D6: 3797 | E6: fille A | H6: Perdu | I6: =A6+C6 -> 42606.46 | J6: =I6+F6 -> 42606.46 | K6: =VLOOKUP(I6,'Tri horaire1'!E:G,3,FALSE) -> Non décroché | L6: =VLOOKUP(I6,'Tri horaire1'!E:H,4,FALSE) -> Disponible | O6: frequence pertes
A7: 42605 | B7: mardi | C7: 0.461076 | D7: 3797 | E7: fille A | H7: Perdu | I7: =A7+C7 -> 42605.461 | J7: =I7+F7 -> 42605.461 | K7: =VLOOKUP(I7,'Tri horaire1'!E:G,3,FALSE) -> Non décroché | L7: =VLOOKUP(I7,'Tri horaire1'!E:H,4,FALSE) -> Disponible | O7: fille A | P7: =GETPIVOTDATA("Nombre de DATE",$N$13,"POSTE",3791,"Statut","Perdu")/(GETPIVOTDATA("Nombre de DATE",$N$13,"POSTE",3791,"Statut","Perdu")+GETPIVOTDATA("Nombre de DATE",$N$13,"POSTE",3791,"Statut","Emis")+GETPIVOTDATA("Nombre de DATE",$N$13,"POSTE",3791,"Statut","Reçus")) -> 0.058685446
A8: 42605 | B8: mardi | C8: 0.464097 | D8: 3797 | E8: fille A | H8: Perdu | I8: =A8+C8 -> 42605.464 | J8: =I8+F8 -> 42605.464 | K8: =VLOOKUP(I8,'Tri horaire1'!E:G,3,FALSE) -> Non décroché | L8: =VLOOKUP(I8,'Tri horaire1'!E:H,4,FALSE) -> Disponible | O8: fille B | P8: =GETPIVOTDATA("Nombre de DATE",$N$13,"POSTE",3792,"Statut","Perdu")/(GETPIVOTDATA("Nombre de DATE",$N$13,"POSTE",3792,"Statut","Perdu")+GETPIVOTDATA("Nombre de DATE",$N$13,"POSTE",3792,"Statut","Emis")+GETPIVOTDATA("Nombre de DATE",$N$13,"POSTE",3792,"Statut","Reçus")) -> 0.029745042
A9: 42584 | B9: mardi | C9: 0.465463 | D9: 3797 | E9: fille A | H9: Perdu | I9: =A9+C9 -> 42584.465 | J9: =I9+F9 -> 42584.465 | K9: =VLOOKUP(I9,'Tri horaire1'!E:G,3,FALSE) -> Non décroché | L9: =VLOOKUP(I9,'Tri horaire1'!E:H,4,FALSE) -> Disponible | O9: fille C | P9: =GETPIVOTDATA("Nombre de DATE",$N$13,"POSTE",3797,"Statut","Perdu")/(GETPIVOTDATA("Nombre de DATE",$N$13,"POSTE",3797,"Statut","Perdu")+GETPIVOTDATA("Nombre de DATE",$N$13,"POSTE",3797,"Statut","Reçus")+GETPIVOTDATA("Nombre de DATE",$N$13,"POSTE",3797,"Statut","Emis")) -> 0.10928962
A10: 42605 | B10: mardi | C10: 0.466319 | D10: 3797 | E10: fille A | H10: Perdu | I10: =A10+C10 -> 42605.466 | J10: =I10+F10 -> 42605.466 | K10: =VLOOKUP(I10,'Tri horaire1'!E:G,3,FALSE) -> Non décroché | L10: =VLOOKUP(I10,'Tri horaire1'!E:H,4,FALSE) -> Disponible | O10: fille D | P10: =GETPIVOTDATA("Nombre de DATE",$N$13,"POSTE",3798,"Statut","Perdu")/(GETPIVOTDATA("Nombre de DATE",$N$13,"POSTE",3798,"Statut","Reçus")+GETPIVOTDATA("Nombre de DATE",$N$13,"POSTE",3798,"Statut","Emis")+GETPIVOTDATA("Nombre de DATE",$N$13,"POSTE",3798,"Statut","Perdu")) -> 0.078212291
A11: 42612 | B11: mardi | C11: 0.482049 | D11: 3797 | E11: fille A | H11: Perdu | I11: =A11+C11 -> 42612.482 | J11: =I11+F11 -> 42612.482 | K11: =VLOOKUP(I11,'Tri horaire1'!E:G,3,FALSE) -> Non décroché | L11: =VLOOKUP(I11,'Tri horaire1'!E:H,4,FALSE) -> Disponible | O11: total | P11: =GETPIVOTDATA("Nombre de DATE",$N$13,"Statut","Perdu")/GETPIVOTDATA("Nombre de DATE",$N$13) -> 0.056186491
A12: 42585 | B12: mercredi | C12: 0.491875 | D12: 3797 | E12: fille A | H12: Perdu | I12: =A12+C12 -> 42585.492 | J12: =I12+F12 -> 42585.492 | K12: =VLOOKUP(I12,'Tri horaire1'!E:G,3,FALSE) -> Non décroché | L12: =VLOOKUP(I12,'Tri horaire1'!E:H,4,FALSE) -> Disponible
A13: 42611 | B13: lundi | C13: 0.496238 | D13: 3797 | E13: fille A | H13: Perdu | I13: =A13+C13 -> 42611.496 | J13: =I13+F13 -> 42611.496 | K13: =VLOOKUP(I13,'Tri horaire1'!E:G,3,FALSE) -> Non décroché | L13: =VLOOKUP(I13,'Tri horaire1'!E:H,4,FALSE) -> Occupé | N13: Étiquettes de lignes | O13: Nombre de DATE | P13: Moyenne de durée Appel
A14: 42613 | B14: mercredi | C14: 0.497963 | D14: 3797 | E14: fille A | H14: Perdu | I14: =A14+C14 -> 42613.498 | J14: =I14+F14 -> 42613.498 | K14: =VLOOKUP(I14,'Tri horaire1'!E:G,3,FALSE) -> Non décroché | L14: =VLOOKUP(I14,'Tri horaire1'!E:H,4,FALSE) -> Disponible | N14: Emis | O14: 1118 | P14: 0.0023069573
A15: 42594 | B15: vendredi | C15: 0.580671 | D15: 3797 | E15: fille A | H15: Perdu | I15: =A15+C15 -> 42594.581 | J15: =I15+F15 -> 42594.581 | K15: =VLOOKUP(I15,'Tri horaire1'!E:G,3,FALSE) -> Non décroché | L15: =VLOOKUP(I15,'Tri horaire1'!E:H,4,FALSE) -> Disponible | N15: 3791 | O15: 248 | P15: 0.0028308412
A16: 42604 | B16: lundi | C16: 0.597697 | D16: 3797 | E16: fille A | H16: Perdu | I16: =A16+C16 -> 42604.598 | J16: =I16+F16 -> 42604.598 | K16: =VLOOKUP(I16,'Tri horaire1'!E:G,3,FALSE) -> Non décroché | L16: =VLOOKUP(I16,'Tri horaire1'!E:H,4,FALSE) -> Disponible | N16: 3792 | O16: 509 | P16: 0.0023019446
A17: 42606 | B17: mercredi | C17: 0.613611 | D17: 3797 | E17: fille A | H17: Perdu | I17: =A17+C17 -> 42606.614 | J17: =I17+F17 -> 42606.614 | K17: =VLOOKUP(I17,'Tri horaire1'!E:G,3,FALSE) -> Non décroché | L17: =VLOOKUP(I17,'Tri horaire1'!E:H,4,FALSE) -> Disponible | N17: 3797 | O17: 106 | P17: 0.0018675751
A18: 42611 | B18: lundi | C18: 0.651331 | D18: 3797 | E18: fille A | H18: Perdu | I18: =A18+C18 -> 42611.651 | J18: =I18+F18 -> 42611.651 | K18: =VLOOKUP(I18,'Tri horaire1'!E:G,3,FALSE) -> Non décroché | L18: =VLOOKUP(I18,'Tri horaire1'!E:H,4,FALSE) -> Disponible | N18: 3798 | O18: 255 | P18: 0.0019901053
A19: 42612 | B19: mardi | C19: 0.672882 | D19: 3797 | E19: fille A | H19: Perdu | I19: =A19+C19 -> 42612.673 | J19: =I19+F19 -> 42612.673 | K19: =VLOOKUP(I19,'Tri horaire1'!E:G,3,FALSE) -> Non décroché | L19: =VLOOKUP(I19,'Tri horaire1'!E:H,4,FALSE) -> Disponible | N19: Perdu | O19: 94
A20: 42604 | B20: lundi | C20: 0.696586 | D20: 3797 | E20: fille A | H20: Perdu | I20: =A20+C20 -> 42604.697 | J20: =I20+F20 -> 42604.697 | K20: =VLOOKUP(I20,'Tri horaire1'!E:G,3,FALSE) -> Non décroché | L20: =VLOOKUP(I20,'Tri horaire1'!E:H,4,FALSE) -> Disponible | N20: 3791 | O20: 25
A21: 42605 | B21: mardi | C21: 0.711921 | D21: 3797 | E21: fille A | H21: Perdu | I21: =A21+C21 -> 42605.712 | J21: =I21+F21 -> 42605.712 | K21: =VLOOKUP(I21,'Tri horaire1'!E:G,3,FALSE) -> Non décroché | L21: =VLOOKUP(I21,'Tri horaire1'!E:H,4,FALSE) -> Disponible | N21: 3792 | O21: 21
A22: 42590 | B22: lundi | C22: 0.378241 | D22: 3791 | E22: fille B | H22: Perdu | I22: =A22+C22 -> 42590.378 | J22: =I22+F22 -> 42590.378 | K22: =VLOOKUP(I22,'Tri horaire1'!E:G,3,FALSE) -> Non décroché | L22: =VLOOKUP(I22,'Tri horaire1'!E:H,4,FALSE) -> Disponible | N22: 3797 | O22: 20
A23: 42591 | B23: mardi | C23: 0.399375 | D23: 3791 | E23: fille B | H23: Perdu | I23: =A23+C23 -> 42591.399 | J23: =I23+F23 -> 42591.399 | K23: =VLOOKUP(I23,'Tri horaire1'!E:G,3,FALSE) -> Non décroché | L23: =VLOOKUP(I23,'Tri horaire1'!E:H,4,FALSE) -> Disponible | N23: 3798 | O23: 28
A24: 42608 | B24: vendredi | C24: 0.42294 | D24: 3791 | E24: fille B | H24: Perdu | I24: =A24+C24 -> 42608.423 | J24: =I24+F24 -> 42608.423 | K24: =VLOOKUP(I24,'Tri horaire1'!E:G,3,FALSE) -> Non décroché | L24: =VLOOKUP(I24,'Tri horaire1'!E:H,4,FALSE) -> Disponible | N24: Reçus | O24: 461 | P24: 0.0012724703
A25: 42591 | B25: mardi | C25: 0.426481 | D25: 3791 | E25: fille B | H25: Perdu | I25: =A25+C25 -> 42591.426 | J25: =I25+F25 -> 42591.426 | K25: =VLOOKUP(I25,'Tri horaire1'!E:G,3,FALSE) -> Non décroché | L25: =VLOOKUP(I25,'Tri horaire1'!E:H,4,FALSE) -> Disponible | N25: 3791 | O25: 153 | P25: 0.0013077947
A26: 42593 | B26: jeudi | C26: 0.430394 | D26: 3791 | E26: fille B | H26: Perdu | I26: =A26+C26 -> 42593.43 | J26: =I26+F26 -> 42593.43 | K26: =VLOOKUP(I26,'Tri horaire1'!E:G,3,FALSE) -> Non décroché | L26: =VLOOKUP(I26,'Tri horaire1'!E:H,4,FALSE) -> Disponible | N26: 3792 | O26: 176 | P26: 0.0015227799
A27: 42612 | B27: mardi | C27: 0.436968 | D27: 3791 | E27: fille B | H27: Perdu | I27: =A27+C27 -> 42612.437 | J27: =I27+F27 -> 42612.437 | K27: =VLOOKUP(I27,'Tri horaire1'!E:G,3,FALSE) -> Non décroché | L27: =VLOOKUP(I27,'Tri horaire1'!E:H,4,FALSE) -> Disponible | N27: 3797 | O27: 57 | P27: 0.00080348441
A28: 42607 | B28: jeudi | C28: 0.446956 | D28: 3791 | E28: fille B | H28: Perdu | I28: =A28+C28 -> 42607.447 | J28: =I28+F28 -> 42607.447 | K28: =VLOOKUP(I28,'Tri horaire1'!E:G,3,FALSE) -> Non décroché | L28: =VLOOKUP(I28,'Tri horaire1'!E:H,4,FALSE) -> Occupé | N28: 3798 | O28: 75 | P28: 0.00096944444
A29: 42607 | B29: jeudi | C29: 0.451956 | D29: 3791 | E29: fille B | H29: Perdu | I29: =A29+C29 -> 42607.452 | J29: =I29+F29 -> 42607.452 | K29: =VLOOKUP(I29,'Tri horaire1'!E:G,3,FALSE) -> Non décroché | L29: =VLOOKUP(I29,'Tri horaire1'!E:H,4,FALSE) -> Disponible | N29: Total général | O29: 1673 | P29: 0.0020049316
A30: 42606 | B30: mercredi | C30: 0.457604 | D30: 3791 | E30: fille B | H30: Perdu | I30: =A30+C30 -> 42606.458 | J30: =I30+F30 -> 42606.458 | K30: =VLOOKUP(I30,'Tri horaire1'!E:G,3,FALSE) -> Non décroché | L30: =VLOOKUP(I30,'Tri horaire1'!E:H,4,FALSE) -> Occupé
A31: 42607 | B31: jeudi | C31: 0.465451 | D31: 3791 | E31: fille B | H31: Perdu | I31: =A31+C31 -> 42607.465 | J31: =I31+F31 -> 42607.465 | K31: =VLOOKUP(I31,'Tri horaire1'!E:G,3,FALSE) -> Non décroché | L31: =VLOOKUP(I31,'Tri horaire1'!E:H,4,FALSE) -> Disponible
A32: 42604 | B32: lundi | C32: 0.488241 | D32: 3791 | E32: fille B | H32: Perdu | I32: =A32+C32 -> 42604.488 | J32: =I32+F32 -> 42604.488 | K32: =VLOOKUP(I32,'Tri horaire1'!E:G,3,FALSE) -> Non décroché | L32: =VLOOKUP(I32,'Tri horaire1'!E:H,4,FALSE) -> Disponible
A33: 42584 | B33: mardi | C33: 0.488437 | D33: 3791 | E33: fille B | H33: Perdu | I33: =A33+C33 -> 42584.488 | J33: =I33+F33 -> 42584.488 | K33: =VLOOKUP(I33,'Tri horaire1'!E:G,3,FALSE) -> Non décroché | L33: =VLOOKUP(I33,'Tri horaire1'!E:H,4,FALSE) -> Disponible
A34: 42605 | B34: mardi | C34: 0.497755 | D34: 3791 | E34: fille B | H34: Perdu | I34: =A34+C34 -> 42605.498 | J34: =I34+F34 -> 42605.498 | K34: =VLOOKUP(I34,'Tri horaire1'!E:G,3,FALSE) -> Non décroché | L34: =VLOOKUP(I34,'Tri horaire1'!E:H,4,FALSE) -> Occupé
A35: 42605 | B35: mardi | C35: 0.57 | D35: 3791 | E35: fille B | H35: Perdu | I35: =A35+C35 -> 42605.57 | J35: =I35+F35 -> 42605.57 | K35: =VLOOKUP(I35,'Tri horaire1'!E:G,3,FALSE) -> Non décroché | L35: =VLOOKUP(I35,'Tri horaire1'!E:H,4,FALSE) -> Disponible
A36: 42594 | B36: vendredi | C36: 0.584248 | D36: 3791 | E36: fille B | H36: Perdu | I36: =A36+C36 -> 42594.584 | J36: =I36+F36 -> 42594.584 | K36: =VLOOKUP(I36,'Tri horaire1'!E:G,3,FALSE) -> Non décroché | L36: =VLOOKUP(I36,'Tri horaire1'!E:H,4,FALSE) -> Disponible
A37: 42594 | B37: vendredi | C37: 0.585637 | D37: 3791 | E37: fille B | H37: Perdu | I37: =A37+C37 -> 42594.586 | J37: =I37+F37 -> 42594.586 | K37: =VLOOKUP(I37,'Tri horaire1'!E:G,3,FALSE) -> Non décroché | L37: =VLOOKUP(I37,'Tri horaire1'!E:H,4,FALSE) -> Disponible
A38: 42608 | B38: vendredi | C38: 0.612292 | D38: 3791 | E38: fille B | H38: Perdu | I38: =A38+C38 -> 42608.612 | J38: =I38+F38 -> 42608.612 | K38: =VLOOKUP(I38,'Tri horaire1'!E:G,3,FALSE) -> Non décroché | L38: =VLOOKUP(I38,'Tri horaire1'!E:H,4,FALSE) -> Disponible
A39: 42612 | B39: mardi | C39: 0.619109 | D39: 3791 | E39: fille B | H39: Perdu | I39: =A39+C39 -> 42612.619 | J39: =I39+F39 -> 42612.619 | K39: =VLOOKUP(I39,'Tri horaire1'!E:G,3,FALSE) -> Non décroché | L39: =VLOOKUP(I39,'Tri horaire1'!E:H,4,FALSE) -> Occupé
A40: 42607 | B40: jeudi | C40: 0.621771 | D40: 3791 | E40: fille B | H40: Perdu | I40: =A40+C40 -> 42607.622 | J40: =I40+F40 -> 42607.622 | K40: =VLOOKUP(I40,'Tri horaire1'!E:G,3,FALSE) -> Non décroché | L40: =VLOOKUP(I40,'Tri horaire1'!E:H,4,FALSE) -> Disponible
A41: 42585 | B41: mercredi | C41: 0.624167 | D41: 3791 | E41: fille B | H41: Perdu | I41: =A41+C41 -> 42585.624 | J41: =I41+F41 -> 42585.624 | K41: =VLOOKUP(I41,'Tri horaire1'!E:G,3,FALSE) -> Non décroché | L41: =VLOOKUP(I41,'Tri horaire1'!E:H,4,FALSE) -> Disponible
... A95: 42605 | B95: mardi | C95: 0.709167 | D95: 3798 | E95: fille D | H95: Perdu | I95: =A95+C95 -> 42605.709 | J95: =I95+F95 -> 42605.709 | K95: =VLOOKUP(I95,'Tri horaire1'!E:G,3,FALSE) -> Non décroché | L95: =VLOOKUP(I95,'Tri horaire1'!E:H,4,FALSE) -> Disponible
A96: 42613 | B96: mercredi | C96: 0.730347 | D96: 3791 | E96: fille B | F96: 0.000278 | G96: 0.730625 | H96: Reçus | I96: =A96+C96 -> 42613.73 | J96: =A96+G96 -> 42613.731
A97: 42613 | B97: mercredi | C97: 0.724387 | D97: 3791 | E97: fille B | F97: 0.002801 | G97: 0.727188 | H97: Reçus | I97: =A97+C97 -> 42613.724 | J97: =A97+G97 -> 42613.727
A98: 42613 | B98: mercredi | C98: 0.722118 | D98: 3792 | E98: fille C | F98: 0.002824 | G98: 0.724942 | H98: Reçus | I98: =A98+C98 -> 42613.722 | J98: =A98+G98 -> 42613.725
A99: 42613 | B99: mercredi | C99: 0.720475 | D99: 3791 | E99: fille B | F99: 0.001956 | G99: 0.722431 | H99: Reçus | I99: =A99+C99 -> 42613.72 | J99: =A99+G99 -> 42613.722
A100: 42613 | B100: mercredi | C100: 0.713715 | D100: 3791 | E100: fille B | F100: 0 | G100: 0.713715 | H100: Reçus | I100: =A100+C100 -> 42613.714 | J100: =A100+G100 -> 42613.714
A101: 42613 | B101: mercredi | C101: 0.71338 | D101: 3791 | E101: fille B | F101: 0.002523 | G101: 0.715903 | H101: Reçus | I101: =A101+C101 -> 42613.713 | J101: =A101+G101 -> 42613.716
A102: 42613 | B102: mercredi | C102: 0.712627 | D102: 3797 | E102: fille A | F102: 0.000556 | G102: 0.713183 | H102: Reçus | I102: =A102+C102 -> 42613.713 | J102: =A102+G102 -> 42613.713
A103: 42613 | B103: mercredi | C103: 0.709468 | D103: 3797 | E103: fille A | F103: 0.000405 | G103: 0.709873 | H103: Reçus | I103: =A103+C103 -> 42613.709 | J103: =A103+G103 -> 42613.71
A104: 42613 | B104: mercredi | C104: 0.701019 | D104: 3797 | E104: fille A | F104: 0.001667 | G104: 0.702686 | H104: Reçus | I104: =A104+C104 -> 42613.701 | J104: =A104+G104 -> 42613.703
A105: 42613 | B105: mercredi | C105: 0.688542 | D105: 3792 | E105: fille C | F105: 0 | G105: 0.688542 | H105: Reçus | I105: =A105+C105 -> 42613.689 | J105: =A105+G105 -> 42613.689
A106: 42613 | B106: mercredi | C106: 0.684641 | D106: 3797 | E106: fille A | F106: 0 | G106: 0.684641 | H106: Reçus | I106: =A106+C106 -> 42613.685 | J106: =A106+G106 -> 42613.685
A107: 42613 | B107: mercredi | C107: 0.670799 | D107: 3797 | E107: fille A | F107: 0 | G107: 0.670799 | H107: Reçus | I107: =A107+C107 -> 42613.671 | J107: =A107+G107 -> 42613.671
... A1674: 42583 | B1674: lundi | C1674: 0.39066 | D1674: 3792 | E1674: fille C | F1674: 0.001933 | G1674: 0.392593 | H1674: Emis | I1674: =A1674+C1674 -> 42583.391 | J1674: =A1674+G1674 -> 42583.393

Sheet Tri horaire1
A1: NOM | B1: durée Appel | C1: heure de fin de l'appel | D1: Statut | E1: Date complete | F1: Date complete fin | G1: Statut perdu | H1: Qui ?
A2: fille B | B2: 0.000278 | C2: 0.730625 | D2: Reçus | E2: 42613.73 | F2: =E2+B2 -> 42613.731 | G2: =IF(D2="Perdu",IF(AND(E2<F3,E2>E3,E2<F4,E2>E4,E2<F5,E2>E5,E2<F6,E2>E6),"Table occupé","Non décroché"),"") | H2: =IF(G2="Non décroché",IF(OR(AND(E3<E2,F3>E2,A3=A2),AND(E4<E2,F4>E2,A4=A2),AND(E5<E2,F5>E2,A5=A2),AND(E6<E2,F6>E2,A6=A2)),"Occupé","Disponible"),"")
A3: fille B | B3: 0.004664 | C3: 0.733958 | D3: Emis | E3: 42613.729 | F3: =E3+B3 -> 42613.734 | G3: =IF(D3="Perdu",IF(AND(E3<F4,E3>E4,E3<F5,E3>E5,E3<F6,E3>E6,E3<F7,E3>E7),"Table occupé","Non décroché"),"") | H3: =IF(G3="Non décroché",IF(OR(AND(E4<E3,F4>E3,A4=A3),AND(E5<E3,F5>E3,A5=A3),AND(E6<E3,F6>E3,A6=A3),AND(E7<E3,F7>E3,A7=A3)),"Occupé","Disponible"),"")
A4: fille B | B4: 0.002801 | C4: 0.727188 | D4: Reçus | E4: 42613.724 | F4: =E4+B4 -> 42613.727 | G4: =IF(D4="Perdu",IF(AND(E4<F5,E4>E5,E4<F6,E4>E6,E4<F7,E4>E7,E4<F8,E4>E8),"Table occupé","Non décroché"),"") | H4: =IF(G4="Non décroché",IF(OR(AND(E5<E4,F5>E4,A5=A4),AND(E6<E4,F6>E4,A6=A4),AND(E7<E4,F7>E4,A7=A4),AND(E8<E4,F8>E4,A8=A4)),"Occupé","Disponible"),"")
A5: fille C | B5: 0.002824 | C5: 0.724942 | D5: Reçus | E5: 42613.722 | F5: =E5+B5 -> 42613.725 | G5: =IF(D5="Perdu",IF(AND(E5<F6,E5>E6,E5<F7,E5>E7,E5<F8,E5>E8,E5<F9,E5>E9),"Table occupé","Non décroché"),"") | H5: =IF(G5="Non décroché",IF(OR(AND(E6<E5,F6>E5,A6=A5),AND(E7<E5,F7>E5,A7=A5),AND(E8<E5,F8>E5,A8=A5),AND(E9<E5,F9>E5,A9=A5)),"Occupé","Disponible"),"")
A6: fille B | B6: 0.001956 | C6: 0.722431 | D6: Reçus | E6: 42613.72 | F6: =E6+B6 -> 42613.722 | G6: =IF(D6="Perdu",IF(AND(E6<F7,E6>E7,E6<F8,E6>E8,E6<F9,E6>E9,E6<F10,E6>E10),"Table occupé","Non décroché"),"") | H6: =IF(G6="Non décroché",IF(OR(AND(E7<E6,F7>E6,A7=A6),AND(E8<E6,F8>E6,A8=A6),AND(E9<E6,F9>E6,A9=A6),AND(E10<E6,F10>E6,A10=A6)),"Occupé","Disponible"),"")
A7: fille B | B7: 0.000856 | C7: 0.717048 | D7: Emis | E7: 42613.716 | F7: =E7+B7 -> 42613.717 | G7: =IF(D7="Perdu",IF(AND(E7<F8,E7>E8,E7<F9,E7>E9,E7<F10,E7>E10,E7<F11,E7>E11),"Table occupé","Non décroché"),"") | H7: =IF(G7="Non décroché",IF(OR(AND(E8<E7,F8>E7,A8=A7),AND(E9<E7,F9>E7,A9=A7),AND(E10<E7,F10>E7,A10=A7),AND(E11<E7,F11>E7,A11=A7)),"Occupé","Disponible"),"")
A8: fille B | B8: 0 | C8: 0.713715 | D8: Reçus | E8: 42613.714 | F8: =E8+B8 -> 42613.714 | G8: =IF(D8="Perdu",IF(AND(E8<F9,E8>E9,E8<F10,E8>E10,E8<F11,E8>E11,E8<F12,E8>E12),"Table occupé","Non décroché"),"") | H8: =IF(G8="Non décroché",IF(OR(AND(E9<E8,F9>E8,A9=A8),AND(E10<E8,F10>E8,A10=A8),AND(E11<E8,F11>E8,A11=A8),AND(E12<E8,F12>E8,A12=A8)),"Occupé","Disponible"),"")
A9: fille B | B9: 0.002523 | C9: 0.715903 | D9: Reçus | E9: 42613.713 | F9: =E9+B9 -> 42613.716 | G9: =IF(D9="Perdu",IF(AND(E9<F10,E9>E10,E9<F11,E9>E11,E9<F12,E9>E12,E9<F13,E9>E13),"Table occupé","Non décroché"),"") | H9: =IF(G9="Non décroché",IF(OR(AND(E10<E9,F10>E9,A10=A9),AND(E11<E9,F11>E9,A11=A9),AND(E12<E9,F12>E9,A12=A9),AND(E13<E9,F13>E9,A13=A9)),"Occupé","Disponible"),"")
A10: fille A | B10: 0.000556 | C10: 0.713183 | D10: Reçus | E10: 42613.713 | F10: =E10+B10 -> 42613.713 | G10: =IF(D10="Perdu",IF(AND(E10<F11,E10>E11,E10<F12,E10>E12,E10<F13,E10>E13,E10<F14,E10>E14),"Table occupé","Non décroché"),"") | H10: =IF(G10="Non décroché",IF(OR(AND(E11<E10,F11>E10,A11=A10),AND(E12<E10,F12>E10,A12=A10),AND(E13<E10,F13>E10,A13=A10),AND(E14<E10,F14>E10,A14=A10)),"Occupé","Disponible"),"")
A11: fille A | B11: 0.000405 | C11: 0.709873 | D11: Reçus | E11: 42613.709 | F11: =E11+B11 -> 42613.71 | G11: =IF(D11="Perdu",IF(AND(E11<F12,E11>E12,E11<F13,E11>E13,E11<F14,E11>E14,E11<F15,E11>E15),"Table occupé","Non décroché"),"") | H11: =IF(G11="Non décroché",IF(OR(AND(E12<E11,F12>E11,A12=A11),AND(E13<E11,F13>E11,A13=A11),AND(E14<E11,F14>E11,A14=A11),AND(E15<E11,F15>E11,A15=A11)),"Occupé","Disponible"),"")
A12: fille B | B12: 0.001678 | C12: 0.703507 | D12: Emis | E12: 42613.702 | F12: =E12+B12 -> 42613.704 | G12: =IF(D12="Perdu",IF(AND(E12<F13,E12>E13,E12<F14,E12>E14,E12<F15,E12>E15,E12<F16,E12>E16),"Table occupé","Non décroché"),"") | H12: =IF(G12="Non décroché",IF(OR(AND(E13<E12,F13>E12,A13=A12),AND(E14<E12,F14>E12,A14=A12),AND(E15<E12,F15>E12,A15=A12),AND(E16<E12,F16>E12,A16=A12)),"Occupé","Disponible"),"")
A13: fille A | B13: 0.001667 | C13: 0.702686 | D13: Reçus | E13: 42613.701 | F13: =E13+B13 -> 42613.703 | G13: =IF(D13="Perdu",IF(AND(E13<F14,E13>E14,E13<F15,E13>E15,E13<F16,E13>E16,E13<F17,E13>E17),"Table occupé","Non décroché"),"") | H13: =IF(G13="Non décroché",IF(OR(AND(E14<E13,F14>E13,A14=A13),AND(E15<E13,F15>E13,A15=A13),AND(E16<E13,F16>E13,A16=A13),AND(E17<E13,F17>E13,A17=A13)),"Occupé","Disponible"),"")
... A77: fille A | B77: 0.000671 | C77: 0.499745 | D77: Emis | E77: 42613.499 | F77: =E77+B77 -> 42613.5 | G77: =IF(D77="Perdu",IF(AND(E77<F78,E77>E78,E77<F79,E77>E79,E77<F80,E77>E80,E77<F81,E77>E81),"Table occupé","Non décroché"),"") | H77: =IF(G77="Non décroché",IF(OR(AND(E78<E77,F78>E77,A78=A77),AND(E79<E77,F79>E77,A79=A77),AND(E80<E77,F80>E77,A80=A77),AND(E81<E77,F81>E77,A81=A77)),"Occupé","Disponible"),"")
A78: fille A | D78: Perdu | E78: 42613.498 | F78: =E78+B78 -> 42613.498 | G78: =IF(D78="Perdu",IF(AND(E78<F79,E78>E79,E78<F80,E78>E80,E78<F81,E78>E81,E78<F82,E78>E82),"Table occupé","Non décroché"),"") -> Non décroché | H78: =IF(G78="Non décroché",IF(OR(AND(E79<E78,F79>E78,A79=A78),AND(E80<E78,F80>E78,A80=A78),AND(E81<E78,F81>E78,A81=A78),AND(E82<E78,F82>E78,A82=A78)),"Occupé","Disponible"),"") -> Disponible
A79: fille C | B79: 0.001968 | C79: 0.499375 | D79: Emis | E79: 42613.497 | F79: =E79+B79 -> 42613.499 | G79: =IF(D79="Perdu",IF(AND(E79<F80,E79>E80,E79<F81,E79>E81,E79<F82,E79>E82,E79<F83,E79>E83),"Table occupé","Non décroché"),"") | H79: =IF(G79="Non décroché",IF(OR(AND(E80<E79,F80>E79,A80=A79),AND(E81<E79,F81>E79,A81=A79),AND(E82<E79,F82>E79,A82=A79),AND(E83<E79,F83>E79,A83=A79)),"Occupé","Disponible"),"")
A80: fille A | B80: 0.000405 | C80: 0.492419 | D80: Emis | E80: 42613.492 | F80: =E80+B80 -> 42613.492 | G80: =IF(D80="Perdu",IF(AND(E80<F81,E80>E81,E80<F82,E80>E82,E80<F83,E80>E83,E80<F84,E80>E84),"Table occupé","Non décroché"),"") | H80: =IF(G80="Non décroché",IF(OR(AND(E81<E80,F81>E80,A81=A80),AND(E82<E80,F82>E80,A82=A80),AND(E83<E80,F83>E80,A83=A80),AND(E84<E80,F84>E80,A84=A80)),"Occupé","Disponible"),"")
A81: fille B | B81: 0.000694 | C81: 0.492303 | D81: Emis | E81: 42613.492 | F81: =E81+B81 -> 42613.492 | G81: =IF(D81="Perdu",IF(AND(E81<F82,E81>E82,E81<F83,E81>E83,E81<F84,E81>E84,E81<F85,E81>E85),"Table occupé","Non décroché"),"") | H81: =IF(G81="Non décroché",IF(OR(AND(E82<E81,F82>E81,A82=A81),AND(E83<E81,F83>E81,A83=A81),AND(E84<E81,F84>E81,A84=A81),AND(E85<E81,F85>E81,A85=A81)),"Occupé","Disponible"),"")
A82: fille C | B82: 0.000694 | C82: 0.491099 | D82: Emis | E82: 42613.49 | F82: =E82+B82 -> 42613.491 | G82: =IF(D82="Perdu",IF(AND(E82<F83,E82>E83,E82<F84,E82>E84,E82<F85,E82>E85,E82<F86,E82>E86),"Table occupé","Non décroché"),"") | H82: =IF(G82="Non décroché",IF(OR(AND(E83<E82,F83>E82,A83=A82),AND(E84<E82,F84>E82,A84=A82),AND(E85<E82,F85>E82,A85=A82),AND(E86<E82,F86>E82,A86=A82)),"Occupé","Disponible"),"")
A83: fille A | B83: 0.000486 | C83: 0.490197 | D83: Emis | E83: 42613.49 | F83: =E83+B83 -> 42613.49 | G83: =IF(D83="Perdu",IF(AND(E83<F84,E83>E84,E83<F85,E83>E85,E83<F86,E83>E86,E83<F87,E83>E87),"Table occupé","Non décroché"),"") | H83: =IF(G83="Non décroché",IF(OR(AND(E84<E83,F84>E83,A84=A83),AND(E85<E83,F85>E83,A85=A83),AND(E86<E83,F86>E83,A86=A83),AND(E87<E83,F87>E83,A87=A83)),"Occupé","Disponible"),"")
A84: fille C | B84: 0.001007 | C84: 0.487813 | D84: Emis | E84: 42613.487 | F84: =E84+B84 -> 42613.488 | G84: =IF(D84="Perdu",IF(AND(E84<F85,E84>E85,E84<F86,E84>E86,E84<F87,E84>E87,E84<F88,E84>E88),"Table occupé","Non décroché"),"") | H84: =IF(G84="Non décroché",IF(OR(AND(E85<E84,F85>E84,A85=A84),AND(E86<E84,F86>E84,A86=A84),AND(E87<E84,F87>E84,A87=A84),AND(E88<E84,F88>E84,A88=A84)),"Occupé","Disponible"),"")
A85: fille C | B85: 0.00147 | C85: 0.485961 | D85: Emis | E85: 42613.484 | F85: =E85+B85 -> 42613.486 | G85: =IF(D85="Perdu",IF(AND(E85<F86,E85>E86,E85<F87,E85>E87,E85<F88,E85>E88,E85<F89,E85>E89),"Table occupé","Non décroché"),"") | H85: =IF(G85="Non décroché",IF(OR(AND(E86<E85,F86>E85,A86=A85),AND(E87<E85,F87>E85,A87=A85),AND(E88<E85,F88>E85,A88=A85),AND(E89<E85,F89>E85,A89=A85)),"Occupé","Disponible"),"")
A86: fille B | B86: 3.5e-05 | C86: 0.484352 | D86: Emis | E86: 42613.484 | F86: =E86+B86 -> 42613.484 | G86: =IF(D86="Perdu",IF(AND(E86<F87,E86>E87,E86<F88,E86>E88,E86<F89,E86>E89,E86<F90,E86>E90),"Table occupé","Non décroché"),"") | H86: =IF(G86="Non décroché",IF(OR(AND(E87<E86,F87>E86,A87=A86),AND(E88<E86,F88>E86,A88=A86),AND(E89<E86,F89>E86,A89=A86),AND(E90<E86,F90>E86,A90=A86)),"Occupé","Disponible"),"")
A87: fille C | B87: 0.000116 | C87: 0.482685 | D87: Reçus | E87: 42613.483 | F87: =E87+B87 -> 42613.483 | G87: =IF(D87="Perdu",IF(AND(E87<F88,E87>E88,E87<F89,E87>E89,E87<F90,E87>E90,E87<F91,E87>E91),"Table occupé","Non décroché"),"") | H87: =IF(G87="Non décroché",IF(OR(AND(E88<E87,F88>E87,A88=A87),AND(E89<E87,F89>E87,A89=A87),AND(E90<E87,F90>E87,A90=A87),AND(E91<E87,F91>E87,A91=A87)),"Occupé","Disponible"),"")
A88: fille C | B88: 0.002199 | C88: 0.481586 | D88: Emis | E88: 42613.479 | F88: =E88+B88 -> 42613.482 | G88: =IF(D88="Perdu",IF(AND(E88<F89,E88>E89,E88<F90,E88>E90,E88<F91,E88>E91,E88<F92,E88>E92),"Table occupé","Non décroché"),"") | H88: =IF(G88="Non décroché",IF(OR(AND(E89<E88,F89>E88,A89=A88),AND(E90<E88,F90>E88,A90=A88),AND(E91<E88,F91>E88,A91=A88),AND(E92<E88,F92>E88,A92=A88)),"Occupé","Disponible"),"")
A89: fille A | B89: 0.002593 | C89: 0.480324 | D89: Emis | E89: 42613.478 | F89: =E89+B89 -> 42613.48 | G89: =IF(D89="Perdu",IF(AND(E89<F90,E89>E90,E89<F91,E89>E91,E89<F92,E89>E92,E89<F93,E89>E93),"Table occupé","Non décroché"),"") | H89: =IF(G89="Non décroché",IF(OR(AND(E90<E89,F90>E89,A90=A89),AND(E91<E89,F91>E89,A91=A89),AND(E92<E89,F92>E89,A92=A89),AND(E93<E89,F93>E89,A93=A89)),"Occupé","Disponible"),"")
A90: fille C | B90: 0.000405 | C90: 0.477176 | D90: Reçus | E90: 42613.477 | F90: =E90+B90 -> 42613.477 | G90: =IF(D90="Perdu",IF(AND(E90<F91,E90>E91,E90<F92,E90>E92,E90<F93,E90>E93,E90<F94,E90>E94),"Table occupé","Non décroché"),"") | H90: =IF(G90="Non décroché",IF(OR(AND(E91<E90,F91>E90,A91=A90),AND(E92<E90,F92>E90,A92=A90),AND(E93<E90,F93>E90,A93=A90),AND(E94<E90,F94>E90,A94=A90)),"Occupé","Disponible"),"")
... A93: fille A | B93: 0.006343 | C93: 0.477026 | D93: Emis | E93: 42613.471 | F93: =E93+B93 -> 42613.477 | G93: =IF(D93="Perdu",IF(AND(E93<F94,E93>E94,E93<F95,E93>E95,E93<F96,E93>E96,E93<F97,E93>E97),"Table occupé","Non décroché"),"") | H93: =IF(G93="Non décroché",IF(OR(AND(E94<E93,F94>E93,A94=A93),AND(E95<E93,F95>E93,A95=A93),AND(E96<E93,F96>E93,A96=A93),AND(E97<E93,F97>E93,A97=A93)),"Occupé","Disponible"),"")
A94: fille C | D94: Perdu | E94: 42613.47 | F94: =E94+B94 -> 42613.47 | G94: =IF(D94="Perdu",IF(AND(E94<F95,E94>E95,E94<F96,E94>E96,E94<F97,E94>E97,E94<F98,E94>E98),"Table occupé","Non décroché"),"") -> Non décroché | H94: =IF(G94="Non décroché",IF(OR(AND(E95<E94,F95>E94,A95=A94),AND(E96<E94,F96>E94,A96=A94),AND(E97<E94,F97>E94,A97=A94),AND(E98<E94,F98>E94,A98=A94)),"Occupé","Disponible"),"") -> Disponible
A95: fille C | B95: 0.001655 | C95: 0.468947 | D95: Emis | E95: 42613.467 | F95: =E95+B95 -> 42613.469 | G95: =IF(D95="Perdu",IF(AND(E95<F96,E95>E96,E95<F97,E95>E97,E95<F98,E95>E98,E95<F99,E95>E99),"Table occupé","Non décroché"),"") | H95: =IF(G95="Non décroché",IF(OR(AND(E96<E95,F96>E95,A96=A95),AND(E97<E95,F97>E95,A97=A95),AND(E98<E95,F98>E95,A98=A95),AND(E99<E95,F99>E95,A99=A95)),"Occupé","Disponible"),"")
A96: fille C | B96: 0.003877 | C96: 0.469814 | D96: Emis | E96: 42613.466 | F96: =E96+B96 -> 42613.47 | G96: =IF(D96="Perdu",IF(AND(E96<F97,E96>E97,E96<F98,E96>E98,E96<F99,E96>E99,E96<F100,E96>E100),"Table occupé","Non décroché"),"") | H96: =IF(G96="Non décroché",IF(OR(AND(E97<E96,F97>E96,A97=A96),AND(E98<E96,F98>E96,A98=A96),AND(E99<E96,F99>E96,A99=A96),AND(E100<E96,F100>E96,A100=A96)),"Occupé","Disponible"),"")
A97: fille A | B97: 0.001539 | C97: 0.465474 | D97: Emis | E97: 42613.464 | F97: =E97+B97 -> 42613.465 | G97: =IF(D97="Perdu",IF(AND(E97<F98,E97>E98,E97<F99,E97>E99,E97<F100,E97>E100,E97<F101,E97>E101),"Table occupé","Non décroché"),"") | H97: =IF(G97="Non décroché",IF(OR(AND(E98<E97,F98>E97,A98=A97),AND(E99<E97,F99>E97,A99=A97),AND(E100<E97,F100>E97,A100=A97),AND(E101<E97,F101>E97,A101=A97)),"Occupé","Disponible"),"")
A98: fille A | B98: 0.00066 | C98: 0.460648 | D98: Reçus | E98: 42613.46 | F98: =E98+B98 -> 42613.461 | G98: =IF(D98="Perdu",IF(AND(E98<F99,E98>E99,E98<F100,E98>E100,E98<F101,E98>E101,E98<F102,E98>E102),"Table occupé","Non décroché"),"") | H98: =IF(G98="Non décroché",IF(OR(AND(E99<E98,F99>E98,A99=A98),AND(E100<E98,F100>E98,A100=A98),AND(E101<E98,F101>E98,A101=A98),AND(E102<E98,F102>E98,A102=A98)),"Occupé","Disponible"),"")
A99: fille C | B99: 0 | C99: 0.459722 | D99: Reçus | E99: 42613.46 | F99: =E99+B99 -> 42613.46 | G99: =IF(D99="Perdu",IF(AND(E99<F100,E99>E100,E99<F101,E99>E101,E99<F102,E99>E102,E99<F103,E99>E103),"Table occupé","Non décroché"),"") | H99: =IF(G99="Non décroché",IF(OR(AND(E100<E99,F100>E99,A100=A99),AND(E101<E99,F101>E99,A101=A99),AND(E102<E99,F102>E99,A102=A99),AND(E103<E99,F103>E99,A103=A99)),"Occupé","Disponible"),"")
A100: fille C | B100: 0 | C100: 0.459433 | D100: Reçus | E100: 42613.459 | F100: =E100+B100 -> 42613.459 | G100: =IF(D100="Perdu",IF(AND(E100<F101,E100>E101,E100<F102,E100>E102,E100<F103,E100>E103,E100<F104,E100>E104),"Table occupé","Non décroché"),"") | H100: =IF(G100="Non décroché",IF(OR(AND(E101<E100,F101>E100,A101=A100),AND(E102<E100,F102>E100,A102=A100),AND(E103<E100,F103>E100,A103=A100),AND(E104<E100,F104>E100,A104=A100)),"Occupé","Disponible"),"")
A101: fille A | B101: 0.00088 | C101: 0.459375 | D101: Emis | E101: 42613.458 | F101: =E101+B101 -> 42613.459 | G101: =IF(D101="Perdu",IF(AND(E101<F102,E101>E102,E101<F103,E101>E103,E101<F104,E101>E104,E101<F105,E101>E105),"Table occupé","Non décroché"),"") | H101: =IF(G101="Non décroché",IF(OR(AND(E102<E101,F102>E101,A102=A101),AND(E103<E101,F103>E101,A103=A101),AND(E104<E101,F104>E101,A104=A101),AND(E105<E101,F105>E101,A105=A101)),"Occupé","Disponible"),"")
A102: fille B | B102: 0.0014 | C102: 0.459097 | D102: Emis | E102: 42613.458 | F102: =E102+B102 -> 42613.459 | G102: =IF(D102="Perdu",IF(AND(E102<F103,E102>E103,E102<F104,E102>E104,E102<F105,E102>E105,E102<F106,E102>E106),"Table occupé","Non décroché"),"") | H102: =IF(G102="Non décroché",IF(OR(AND(E103<E102,F103>E102,A103=A102),AND(E104<E102,F104>E102,A104=A102),AND(E105<E102,F105>E102,A105=A102),AND(E106<E102,F106>E102,A106=A102)),"Occupé","Disponible"),"")
A103: fille B | B103: 5.8e-05 | C103: 0.457303 | D103: Reçus | E103: 42613.457 | F103: =E103+B103 -> 42613.457 | G103: =IF(D103="Perdu",IF(AND(E103<F104,E103>E104,E103<F105,E103>E105,E103<F106,E103>E106,E103<F107,E103>E107),"Table occupé","Non décroché"),"") | H103: =IF(G103="Non décroché",IF(OR(AND(E104<E103,F104>E103,A104=A103),AND(E105<E103,F105>E103,A105=A103),AND(E106<E103,F106>E103,A106=A103),AND(E107<E103,F107>E103,A107=A103)),"Occupé","Disponible"),"")
A104: fille B | B104: 0 | C104: 0.456944 | D104: Reçus | E104: 42613.457 | F104: =E104+B104 -> 42613.457 | G104: =IF(D104="Perdu",IF(AND(E104<F105,E104>E105,E104<F106,E104>E106,E104<F107,E104>E107,E104<F108,E104>E108),"Table occupé","Non décroché"),"") | H104: =IF(G104="Non décroché",IF(OR(AND(E105<E104,F105>E104,A105=A104),AND(E106<E104,F106>E104,A106=A104),AND(E107<E104,F107>E104,A107=A104),AND(E108<E104,F108>E104,A108=A104)),"Occupé","Disponible"),"")
A105: fille A | B105: 0.000602 | C105: 0.45382 | D105: Reçus | E105: 42613.453 | F105: =E105+B105 -> 42613.454 | G105: =IF(D105="Perdu",IF(AND(E105<F106,E105>E106,E105<F107,E105>E107,E105<F108,E105>E108,E105<F109,E105>E109),"Table occupé","Non décroché"),"") | H105: =IF(G105="Non décroché",IF(OR(AND(E106<E105,F106>E105,A106=A105),AND(E107<E105,F107>E105,A107=A105),AND(E108<E105,F108>E105,A108=A105),AND(E109<E105,F109>E105,A109=A105)),"Occupé","Disponible"),"")
A106: fille C | B106: 0.001262 | C106: 0.451748 | D106: Emis | E106: 42613.45 | F106: =E106+B106 -> 42613.452 | G106: =IF(D106="Perdu",IF(AND(E106<F107,E106>E107,E106<F108,E106>E108,E106<F109,E106>E109,E106<F110,E106>E110),"Table occupé","Non décroché"),"") | H106: =IF(G106="Non décroché",IF(OR(AND(E107<E106,F107>E106,A107=A106),AND(E108<E106,F108>E106,A108=A106),AND(E109<E106,F109>E106,A109=A106),AND(E110<E106,F110>E106,A110=A106)),"Occupé","Disponible"),"")
... A129: fille B | B129: 0.000868 | C129: 0.419884 | D129: Emis | E129: 42613.419 | F129: =E129+B129 -> 42613.42 | G129: =IF(D129="Perdu",IF(AND(E129<F130,E129>E130,E129<F131,E129>E131,E129<F132,E129>E132,E129<F133,E129>E133),"Table occupé","Non décroché"),"") | H129: =IF(G129="Non décroché",IF(OR(AND(E130<E129,F130>E129,A130=A129),AND(E131<E129,F131>E129,A131=A129),AND(E132<E129,F132>E129,A132=A129),AND(E133<E129,F133>E129,A133=A129)),"Occupé","Disponible"),"")
A130: fille A | D130: Perdu | E130: 42613.417 | F130: =E130+B130 -> 42613.417 | G130: =IF(D130="Perdu",IF(AND(E130<F131,E130>E131,E130<F132,E130>E132,E130<F133,E130>E133,E130<F134,E130>E134),"Table occupé","Non décroché"),"") -> Non décroché | H130: =IF(G130="Non décroché",IF(OR(AND(E131<E130,F131>E130,A131=A130),AND(E132<E130,F132>E130,A132=A130),AND(E133<E130,F133>E130,A133=A130),AND(E134<E130,F134>E130,A134=A130)),"Occupé","Disponible"),"") -> Disponible
A131: fille B | B131: 0.001111 | C131: 0.418229 | D131: Emis | E131: 42613.417 | F131: =E131+B131 -> 42613.418 | G131: =IF(D131="Perdu",IF(AND(E131<F132,E131>E132,E131<F133,E131>E133,E131<F134,E131>E134,E131<F135,E131>E135),"Table occupé","Non décroché"),"") | H131: =IF(G131="Non décroché",IF(OR(AND(E132<E131,F132>E131,A132=A131),AND(E133<E131,F133>E131,A133=A131),AND(E134<E131,F134>E131,A134=A131),AND(E135<E131,F135>E131,A135=A131)),"Occupé","Disponible"),"")
A132: fille D | D132: Perdu | E132: 42613.417 | F132: =E132+B132 -> 42613.417 | G132: =IF(D132="Perdu",IF(AND(E132<F133,E132>E133,E132<F134,E132>E134,E132<F135,E132>E135,E132<F136,E132>E136),"Table occupé","Non décroché"),"") -> Non décroché | H132: =IF(G132="Non décroché",IF(OR(AND(E133<E132,F133>E132,A133=A132),AND(E134<E132,F134>E132,A134=A132),AND(E135<E132,F135>E132,A135=A132),AND(E136<E132,F136>E132,A136=A132)),"Occupé","Disponible"),"") -> Disponible
A133: fille C | B133: 0.001238 | C133: 0.416377 | D133: Emis | E133: 42613.415 | F133: =E133+B133 -> 42613.416 | G133: =IF(D133="Perdu",IF(AND(E133<F134,E133>E134,E133<F135,E133>E135,E133<F136,E133>E136,E133<F137,E133>E137),"Table occupé","Non décroché"),"") | H133: =IF(G133="Non décroché",IF(OR(AND(E134<E133,F134>E133,A134=A133),AND(E135<E133,F135>E133,A135=A133),AND(E136<E133,F136>E133,A136=A133),AND(E137<E133,F137>E133,A137=A133)),"Occupé","Disponible"),"")
A134: fille B | B134: 0.00213 | C134: 0.413866 | D134: Emis | E134: 42613.412 | F134: =E134+B134 -> 42613.414 | G134: =IF(D134="Perdu",IF(AND(E134<F135,E134>E135,E134<F136,E134>E136,E134<F137,E134>E137,E134<F138,E134>E138),"Table occupé","Non décroché"),"") | H134: =IF(G134="Non décroché",IF(OR(AND(E135<E134,F135>E134,A135=A134),AND(E136<E134,F136>E134,A136=A134),AND(E137<E134,F137>E134,A137=A134),AND(E138<E134,F138>E134,A138=A134)),"Occupé","Disponible"),"")
A135: fille B | B135: 0.001921 | C135: 0.401886 | D135: Emis | E135: 42613.4 | F135: =E135+B135 -> 42613.402 | G135: =IF(D135="Perdu",IF(AND(E135<F136,E135>E136,E135<F137,E135>E137,E135<F138,E135>E138,E135<F139,E135>E139),"Table occupé","Non décroché"),"") | H135: =IF(G135="Non décroché",IF(OR(AND(E136<E135,F136>E135,A136=A135),AND(E137<E135,F137>E135,A137=A135),AND(E138<E135,F138>E135,A138=A135),AND(E139<E135,F139>E135,A139=A135)),"Occupé","Disponible"),"")
A136: fille A | B136: 0.000301 | C136: 0.386632 | D136: Emis | E136: 42613.386 | F136: =E136+B136 -> 42613.387 | G136: =IF(D136="Perdu",IF(AND(E136<F137,E136>E137,E136<F138,E136>E138,E136<F139,E136>E139,E136<F140,E136>E140),"Table occupé","Non décroché"),"") | H136: =IF(G136="Non décroché",IF(OR(AND(E137<E136,F137>E136,A137=A136),AND(E138<E136,F138>E136,A138=A136),AND(E139<E136,F139>E136,A139=A136),AND(E140<E136,F140>E136,A140=A136)),"Occupé","Disponible"),"")
A137: fille A | B137: 2.3e-05 | C137: 0.367697 | D137: Reçus | E137: 42613.368 | F137: =E137+B137 -> 42613.368 | G137: =IF(D137="Perdu",IF(AND(E137<F138,E137>E138,E137<F139,E137>E139,E137<F140,E137>E140,E137<F141,E137>E141),"Table occupé","Non décroché"),"") | H137: =IF(G137="Non décroché",IF(OR(AND(E138<E137,F138>E137,A138=A137),AND(E139<E137,F139>E137,A139=A137),AND(E140<E137,F140>E137,A140=A137),AND(E141<E137,F141>E137,A141=A137)),"Occupé","Disponible"),"")
A138: fille A | B138: 0 | C138: 0.36728 | D138: Reçus | E138: 42613.367 | F138: =E138+B138 -> 42613.367 | G138: =IF(D138="Perdu",IF(AND(E138<F139,E138>E139,E138<F140,E138>E140,E138<F141,E138>E141,E138<F142,E138>E142),"Table occupé","Non décroché"),"") | H138: =IF(G138="Non décroché",IF(OR(AND(E139<E138,F139>E138,A139=A138),AND(E140<E138,F140>E138,A140=A138),AND(E141<E138,F141>E138,A141=A138),AND(E142<E138,F142>E138,A142=A138)),"Occupé","Disponible"),"")
A139: fille C | B139: 0.000775 | C139: 0.742916 | D139: Reçus | E139: 42612.742 | F139: =E139+B139 -> 42612.743 | G139: =IF(D139="Perdu",IF(AND(E139<F140,E139>E140,E139<F141,E139>E141,E139<F142,E139>E142,E139<F143,E139>E143),"Table occupé","Non décroché"),"") | H139: =IF(G139="Non décroché",IF(OR(AND(E140<E139,F140>E139,A140=A139),AND(E141<E139,F141>E139,A141=A139),AND(E142<E139,F142>E139,A142=A139),AND(E143<E139,F143>E139,A143=A139)),"Occupé","Disponible"),"")
A140: fille C | B140: 0 | C140: 0.740926 | D140: Reçus | E140: 42612.741 | F140: =E140+B140 -> 42612.741 | G140: =IF(D140="Perdu",IF(AND(E140<F141,E140>E141,E140<F142,E140>E142,E140<F143,E140>E143,E140<F144,E140>E144),"Table occupé","Non décroché"),"") | H140: =IF(G140="Non décroché",IF(OR(AND(E141<E140,F141>E140,A141=A140),AND(E142<E140,F142>E140,A142=A140),AND(E143<E140,F143>E140,A143=A140),AND(E144<E140,F144>E140,A144=A140)),"Occupé","Disponible"),"")
A141: fille B | B141: 4.6e-05 | C141: 0.734479 | D141: Reçus | E141: 42612.734 | F141: =E141+B141 -> 42612.734 | G141: =IF(D141="Perdu",IF(AND(E141<F142,E141>E142,E141<F143,E141>E143,E141<F144,E141>E144,E141<F145,E141>E145),"Table occupé","Non décroché"),"") | H141: =IF(G141="Non décroché",IF(OR(AND(E142<E141,F142>E141,A142=A141),AND(E143<E141,F143>E141,A143=A141),AND(E144<E141,F144>E141,A144=A141),AND(E145<E141,F145>E141,A145=A141)),"Occupé","Disponible"),"")
A142: fille C | B142: 0.006678 | C142: 0.739583 | D142: Reçus | E142: 42612.733 | F142: =E142+B142 -> 42612.74 | G142: =IF(D142="Perdu",IF(AND(E142<F143,E142>E143,E142<F144,E142>E144,E142<F145,E142>E145,E142<F146,E142>E146),"Table occupé","Non décroché"),"") | H142: =IF(G142="Non décroché",IF(OR(AND(E143<E142,F143>E142,A143=A142),AND(E144<E142,F144>E142,A144=A142),AND(E145<E142,F145>E142,A145=A142),AND(E146<E142,F146>E142,A146=A142)),"Occupé","Disponible"),"")
A143: fille C | B143: 0.008634 | C143: 0.741539 | D143: Emis | E143: 42612.733 | F143: =E143+B143 -> 42612.742 | G143: =IF(D143="Perdu",IF(AND(E143<F144,E143>E144,E143<F145,E143>E145,E143<F146,E143>E146,E143<F147,E143>E147),"Table occupé","Non décroché"),"") | H143: =IF(G143="Non décroché",IF(OR(AND(E144<E143,F144>E143,A144=A143),AND(E145<E143,F145>E143,A145=A143),AND(E146<E143,F146>E143,A146=A143),AND(E147<E143,F147>E143,A147=A143)),"Occupé","Disponible"),"")
A144: fille B | B144: 0.001331 | C144: 0.73206 | D144: Emis | E144: 42612.731 | F144: =E144+B144 -> 42612.732 | G144: =IF(D144="Perdu",IF(AND(E144<F145,E144>E145,E144<F146,E144>E146,E144<F147,E144>E147,E144<F148,E144>E148),"Table occupé","Non décroché"),"") | H144: =IF(G144="Non décroché",IF(OR(AND(E145<E144,F145>E144,A145=A144),AND(E146<E144,F146>E144,A146=A144),AND(E147<E144,F147>E144,A147=A144),AND(E148<E144,F148>E144,A148=A144)),"Occupé","Disponible"),"")
... A174: fille A | B174: 0.000637 | C174: 0.683426 | D174: Emis | E174: 42612.683 | F174: =E174+B174 -> 42612.683 | G174: =IF(D174="Perdu",IF(AND(E174<F175,E174>E175,E174<F176,E174>E176,E174<F177,E174>E177,E174<F178,E174>E178),"Table occupé","Non décroché"),"") | H174: =IF(G174="Non décroché",IF(OR(AND(E175<E174,F175>E174,A175=A174),AND(E176<E174,F176>E174,A176=A174),AND(E177<E174,F177>E174,A177=A174),AND(E178<E174,F178>E174,A178=A174)),"Occupé","Disponible"),"")
A175: fille D | D175: Perdu | E175: 42612.683 | F175: =E175+B175 -> 42612.683 | G175: =IF(D175="Perdu",IF(AND(E175<F176,E175>E176,E175<F177,E175>E177,E175<F178,E175>E178,E175<F179,E175>E179),"Table occupé","Non décroché"),"") -> Non décroché | H175: =IF(G175="Non décroché",IF(OR(AND(E176<E175,F176>E175,A176=A175),AND(E177<E175,F177>E175,A177=A175),AND(E178<E175,F178>E175,A178=A175),AND(E179<E175,F179>E175,A179=A175)),"Occupé","Disponible"),"") -> Disponible
A176: fille C | B176: 0.003113 | C176: 0.684178 | D176: Reçus | E176: 42612.681 | F176: =E176+B176 -> 42612.684 | G176: =IF(D176="Perdu",IF(AND(E176<F177,E176>E177,E176<F178,E176>E178,E176<F179,E176>E179,E176<F180,E176>E180),"Table occupé","Non décroché"),"") | H176: =IF(G176="Non décroché",IF(OR(AND(E177<E176,F177>E176,A177=A176),AND(E178<E176,F178>E176,A178=A176),AND(E179<E176,F179>E176,A179=A176),AND(E180<E176,F180>E176,A180=A176)),"Occupé","Disponible"),"")
A177: fille C | B177: 0.000961 | C177: 0.678287 | D177: Emis | E177: 42612.677 | F177: =E177+B177 -> 42612.678 | G177: =IF(D177="Perdu",IF(AND(E177<F178,E177>E178,E177<F179,E177>E179,E177<F180,E177>E180,E177<F181,E177>E181),"Table occupé","Non décroché"),"") | H177: =IF(G177="Non décroché",IF(OR(AND(E178<E177,F178>E177,A178=A177),AND(E179<E177,F179>E177,A179=A177),AND(E180<E177,F180>E177,A180=A177),AND(E181<E177,F181>E177,A181=A177)),"Occupé","Disponible"),"")
A178: fille C | B178: 0 | C178: 0.674676 | D178: Reçus | E178: 42612.675 | F178: =E178+B178 -> 42612.675 | G178: =IF(D178="Perdu",IF(AND(E178<F179,E178>E179,E178<F180,E178>E180,E178<F181,E178>E181,E178<F182,E178>E182),"Table occupé","Non décroché"),"") | H178: =IF(G178="Non décroché",IF(OR(AND(E179<E178,F179>E178,A179=A178),AND(E180<E178,F180>E178,A180=A178),AND(E181<E178,F181>E178,A181=A178),AND(E182<E178,F182>E178,A182=A178)),"Occupé","Disponible"),"")
A179: fille A | D179: Perdu | E179: 42612.673 | F179: =E179+B179 -> 42612.673 | G179: =IF(D179="Perdu",IF(AND(E179<F180,E179>E180,E179<F181,E179>E181,E179<F182,E179>E182,E179<F183,E179>E183),"Table occupé","Non décroché"),"") -> Non décroché | H179: =IF(G179="Non décroché",IF(OR(AND(E180<E179,F180>E179,A180=A179),AND(E181<E179,F181>E179,A181=A179),AND(E182<E179,F182>E179,A182=A179),AND(E183<E179,F183>E179,A183=A179)),"Occupé","Disponible"),"") -> Disponible
A180: fille C | B180: 0.000394 | C180: 0.670232 | D180: Emis | E180: 42612.67 | F180: =E180+B180 -> 42612.67 | G180: =IF(D180="Perdu",IF(AND(E180<F181,E180>E181,E180<F182,E180>E182,E180<F183,E180>E183,E180<F184,E180>E184),"Table occupé","Non décroché"),"") | H180: =IF(G180="Non décroché",IF(OR(AND(E181<E180,F181>E180,A181=A180),AND(E182<E180,F182>E180,A182=A180),AND(E183<E180,F183>E180,A183=A180),AND(E184<E180,F184>E180,A184=A180)),"Occupé","Disponible"),"")
A181: fille B | B181: 0.009792 | C181: 0.676517 | D181: Reçus | E181: 42612.667 | F181: =E181+B181 -> 42612.677 | G181: =IF(D181="Perdu",IF(AND(E181<F182,E181>E182,E181<F183,E181>E183,E181<F184,E181>E184,E181<F185,E181>E185),"Table occupé","Non décroché"),"") | H181: =IF(G181="Non décroché",IF(OR(AND(E182<E181,F182>E181,A182=A181),AND(E183<E181,F183>E181,A183=A181),AND(E184<E181,F184>E181,A184=A181),AND(E185<E181,F185>E181,A185=A181)),"Occupé","Disponible"),"")
A182: fille C | B182: 0.002894 | C182: 0.669144 | D182: Emis | E182: 42612.666 | F182: =E182+B182 -> 42612.669 | G182: =IF(D182="Perdu",IF(AND(E182<F183,E182>E183,E182<F184,E182>E184,E182<F185,E182>E185,E182<F186,E182>E186),"Table occupé","Non décroché"),"") | H182: =IF(G182="Non décroché",IF(OR(AND(E183<E182,F183>E182,A183=A182),AND(E184<E182,F184>E182,A184=A182),AND(E185<E182,F185>E182,A185=A182),AND(E186<E182,F186>E182,A186=A182)),"Occupé","Disponible"),"")
A183: fille A | B183: 0.000949 | C183: 0.666667 | D183: Reçus | E183: 42612.666 | F183: =E183+B183 -> 42612.667 | G183: =IF(D183="Perdu",IF(AND(E183<F184,E183>E184,E183<F185,E183>E185,E183<F186,E183>E186,E183<F187,E183>E187),"Table occupé","Non décroché"),"") | H183: =IF(G183="Non décroché",IF(OR(AND(E184<E183,F184>E183,A184=A183),AND(E185<E183,F185>E183,A185=A183),AND(E186<E183,F186>E183,A186=A183),AND(E187<E183,F187>E183,A187=A183)),"Occupé","Disponible"),"")
A184: fille A | B184: 0.001586 | C184: 0.666007 | D184: Reçus | E184: 42612.664 | F184: =E184+B184 -> 42612.666 | G184: =IF(D184="Perdu",IF(AND(E184<F185,E184>E185,E184<F186,E184>E186,E184<F187,E184>E187,E184<F188,E184>E188),"Table occupé","Non décroché"),"") | H184: =IF(G184="Non décroché",IF(OR(AND(E185<E184,F185>E184,A185=A184),AND(E186<E184,F186>E184,A186=A184),AND(E187<E184,F187>E184,A187=A184),AND(E188<E184,F188>E184,A188=A184)),"Occupé","Disponible"),"")
A185: fille C | B185: 0.014954 | C185: 0.676829 | D185: Reçus | E185: 42612.662 | F185: =E185+B185 -> 42612.677 | G185: =IF(D185="Perdu",IF(AND(E185<F186,E185>E186,E185<F187,E185>E187,E185<F188,E185>E188,E185<F189,E185>E189),"Table occupé","Non décroché"),"") | H185: =IF(G185="Non décroché",IF(OR(AND(E186<E185,F186>E185,A186=A185),AND(E187<E185,F187>E185,A187=A185),AND(E188<E185,F188>E185,A188=A185),AND(E189<E185,F189>E185,A189=A185)),"Occupé","Disponible"),"")
A186: fille B | B186: 0.001262 | C186: 0.657385 | D186: Emis | E186: 42612.656 | F186: =E186+B186 -> 42612.657 | G186: =IF(D186="Perdu",IF(AND(E186<F187,E186>E187,E186<F188,E186>E188,E186<F189,E186>E189,E186<F190,E186>E190),"Table occupé","Non décroché"),"") | H186: =IF(G186="Non décroché",IF(OR(AND(E187<E186,F187>E186,A187=A186),AND(E188<E186,F188>E186,A188=A186),AND(E189<E186,F189>E186,A189=A186),AND(E190<E186,F190>E186,A190=A186)),"Occupé","Disponible"),"")
A187: fille A | B187: 0.002049 | C187: 0.657952 | D187: Emis | E187: 42612.656 | F187: =E187+B187 -> 42612.658 | G187: =IF(D187="Perdu",IF(AND(E187<F188,E187>E188,E187<F189,E187>E189,E187<F190,E187>E190,E187<F191,E187>E191),"Table occupé","Non décroché"),"") | H187: =IF(G187="Non décroché",IF(OR(AND(E188<E187,F188>E187,A188=A187),AND(E189<E187,F189>E187,A189=A187),AND(E190<E187,F190>E187,A190=A187),AND(E191<E187,F191>E187,A191=A187)),"Occupé","Disponible"),"")
A188: fille B | B188: 0.005208 | C188: 0.653391 | D188: Emis | E188: 42612.648 | F188: =E188+B188 -> 42612.653 | G188: =IF(D188="Perdu",IF(AND(E188<F189,E188>E189,E188<F190,E188>E190,E188<F191,E188>E191,E188<F192,E188>E192),"Table occupé","Non décroché"),"") | H188: =IF(G188="Non décroché",IF(OR(AND(E189<E188,F189>E188,A189=A188),AND(E190<E188,F190>E188,A190=A188),AND(E191<E188,F191>E188,A191=A188),AND(E192<E188,F192>E188,A192=A188)),"Occupé","Disponible"),"")
A189: fille A | B189: 0.001238 | C189: 0.649351 | D189: Emis | E189: 42612.648 | F189: =E189+B189 -> 42612.649 | G189: =IF(D189="Perdu",IF(AND(E189<F190,E189>E190,E189<F191,E189>E191,E189<F192,E189>E192,E189<F193,E189>E193),"Table occupé","Non décroché"),"") | H189: =IF(G189="Non décroché",IF(OR(AND(E190<E189,F190>E189,A190=A189),AND(E191<E189,F191>E189,A191=A189),AND(E192<E189,F192>E189,A192=A189),AND(E193<E189,F193>E189,A193=A189)),"Occupé","Disponible"),"")
A190: fille B | B190: 0.001863 | C190: 0.649328 | D190: Reçus | E190: 42612.647 | F190: =E190+B190 -> 42612.649 | G190: =IF(D190="Perdu",IF(AND(E190<F191,E190>E191,E190<F192,E190>E192,E190<F193,E190>E193,E190<F194,E190>E194),"Table occupé","Non décroché"),"") | H190: =IF(G190="Non décroché",IF(OR(AND(E191<E190,F191>E190,A191=A190),AND(E192<E190,F192>E190,A192=A190),AND(E193<E190,F193>E190,A193=A190),AND(E194<E190,F194>E190,A194=A190)),"Occupé","Disponible"),"")
A191: fille C | B191: 0.002187 | C191: 0.648425 | D191: Emis | E191: 42612.646 | F191: =E191+B191 -> 42612.648 | G191: =IF(D191="Perdu",IF(AND(E191<F192,E191>E192,E191<F193,E191>E193,E191<F194,E191>E194,E191<F195,E191>E195),"Table occupé","Non décroché"),"") | H191: =IF(G191="Non décroché",IF(OR(AND(E192<E191,F192>E191,A192=A191),AND(E193<E191,F193>E191,A193=A191),AND(E194<E191,F194>E191,A194=A191),AND(E195<E191,F195>E191,A195=A191)),"Occupé","Disponible"),"")
... A206: fille A | B206: 0.0014 | C206: 0.624456 | D206: Emis | E206: 42612.623 | F206: =E206+B206 -> 42612.624 | G206: =IF(D206="Perdu",IF(AND(E206<F207,E206>E207,E206<F208,E206>E208,E206<F209,E206>E209,E206<F210,E206>E210),"Table occupé","Non décroché"),"") | H206: =IF(G206="Non décroché",IF(OR(AND(E207<E206,F207>E206,A207=A206),AND(E208<E206,F208>E206,A208=A206),AND(E209<E206,F209>E206,A209=A206),AND(E210<E206,F210>E206,A210=A206)),"Occupé","Disponible"),"")
A207: fille B | D207: Perdu | E207: 42612.619 | F207: =E207+B207 -> 42612.619 | G207: =IF(D207="Perdu",IF(AND(E207<F208,E207>E208,E207<F209,E207>E209,E207<F210,E207>E210,E207<F211,E207>E211),"Table occupé","Non décroché"),"") -> Non décroché | H207: =IF(G207="Non décroché",IF(OR(AND(E208<E207,F208>E207,A208=A207),AND(E209<E207,F209>E207,A209=A207),AND(E210<E207,F210>E207,A210=A207),AND(E211<E207,F211>E207,A211=A207)),"Occupé","Disponible"),"") -> Occupé
A208: fille C | B208: 0.001227 | C208: 0.618264 | D208: Reçus | E208: 42612.617 | F208: =E208+B208 -> 42612.618 | G208: =IF(D208="Perdu",IF(AND(E208<F209,E208>E209,E208<F210,E208>E210,E208<F211,E208>E211,E208<F212,E208>E212),"Table occupé","Non décroché"),"") | H208: =IF(G208="Non décroché",IF(OR(AND(E209<E208,F209>E208,A209=A208),AND(E210<E208,F210>E208,A210=A208),AND(E211<E208,F211>E208,A211=A208),AND(E212<E208,F212>E208,A212=A208)),"Occupé","Disponible"),"")
A209: fille B | B209: 0.005185 | C209: 0.620116 | D209: Emis | E209: 42612.615 | F209: =E209+B209 -> 42612.62 | G209: =IF(D209="Perdu",IF(AND(E209<F210,E209>E210,E209<F211,E209>E211,E209<F212,E209>E212,E209<F213,E209>E213),"Table occupé","Non décroché"),"") | H209: =IF(G209="Non décroché",IF(OR(AND(E210<E209,F210>E209,A210=A209),AND(E211<E209,F211>E209,A211=A209),AND(E212<E209,F212>E209,A212=A209),AND(E213<E209,F213>E209,A213=A209)),"Occupé","Disponible"),"")
A210: fille C | B210: 0.00147 | C210: 0.616262 | D210: Emis | E210: 42612.615 | F210: =E210+B210 -> 42612.616 | G210: =IF(D210="Perdu",IF(AND(E210<F211,E210>E211,E210<F212,E210>E212,E210<F213,E210>E213,E210<F214,E210>E214),"Table occupé","Non décroché"),"") | H210: =IF(G210="Non décroché",IF(OR(AND(E211<E210,F211>E210,A211=A210),AND(E212<E210,F212>E210,A212=A210),AND(E213<E210,F213>E210,A213=A210),AND(E214<E210,F214>E210,A214=A210)),"Occupé","Disponible"),"")
A211: fille C | B211: 0.002836 | C211: 0.616424 | D211: Reçus | E211: 42612.614 | F211: =E211+B211 -> 42612.616 | G211: =IF(D211="Perdu",IF(AND(E211<F212,E211>E212,E211<F213,E211>E213,E211<F214,E211>E214,E211<F215,E211>E215),"Table occupé","Non décroché"),"") | H211: =IF(G211="Non décroché",IF(OR(AND(E212<E211,F212>E211,A212=A211),AND(E213<E211,F213>E211,A213=A211),AND(E214<E211,F214>E211,A214=A211),AND(E215<E211,F215>E211,A215=A211)),"Occupé","Disponible"),"")
A212: fille A | B212: 0.000856 | C212: 0.613506 | D212: Emis | E212: 42612.613 | F212: =E212+B212 -> 42612.614 | G212: =IF(D212="Perdu",IF(AND(E212<F213,E212>E213,E212<F214,E212>E214,E212<F215,E212>E215,E212<F216,E212>E216),"Table occupé","Non décroché"),"") | H212: =IF(G212="Non décroché",IF(OR(AND(E213<E212,F213>E212,A213=A212),AND(E214<E212,F214>E212,A214=A212),AND(E215<E212,F215>E212,A215=A212),AND(E216<E212,F216>E212,A216=A212)),"Occupé","Disponible"),"")
A213: fille A | B213: 0.000509 | C213: 0.611967 | D213: Emis | E213: 42612.611 | F213: =E213+B213 -> 42612.612 | G213: =IF(D213="Perdu",IF(AND(E213<F214,E213>E214,E213<F215,E213>E215,E213<F216,E213>E216,E213<F217,E213>E217),"Table occupé","Non décroché"),"") | H213: =IF(G213="Non décroché",IF(OR(AND(E214<E213,F214>E213,A214=A213),AND(E215<E213,F215>E213,A215=A213),AND(E216<E213,F216>E213,A216=A213),AND(E217<E213,F217>E213,A217=A213)),"Occupé","Disponible"),"")
A214: fille C | B214: 0.000764 | C214: 0.60963 | D214: Emis | E214: 42612.609 | F214: =E214+B214 -> 42612.61 | G214: =IF(D214="Perdu",IF(AND(E214<F215,E214>E215,E214<F216,E214>E216,E214<F217,E214>E217,E214<F218,E214>E218),"Table occupé","Non décroché"),"") | H214: =IF(G214="Non décroché",IF(OR(AND(E215<E214,F215>E214,A215=A214),AND(E216<E214,F216>E214,A216=A214),AND(E217<E214,F217>E214,A217=A214),AND(E218<E214,F218>E214,A218=A214)),"Occupé","Disponible"),"")
A215: fille B | B215: 0.002998 | C215: 0.606146 | D215: Emis | E215: 42612.603 | F215: =E215+B215 -> 42612.606 | G215: =IF(D215="Perdu",IF(AND(E215<F216,E215>E216,E215<F217,E215>E217,E215<F218,E215>E218,E215<F219,E215>E219),"Table occupé","Non décroché"),"") | H215: =IF(G215="Non décroché",IF(OR(AND(E216<E215,F216>E215,A216=A215),AND(E217<E215,F217>E215,A217=A215),AND(E218<E215,F218>E215,A218=A215),AND(E219<E215,F219>E215,A219=A215)),"Occupé","Disponible"),"")
A216: fille A | B216: 0.002477 | C216: 0.601644 | D216: Emis | E216: 42612.599 | F216: =E216+B216 -> 42612.602 | G216: =IF(D216="Perdu",IF(AND(E216<F217,E216>E217,E216<F218,E216>E218,E216<F219,E216>E219,E216<F220,E216>E220),"Table occupé","Non décroché"),"") | H216: =IF(G216="Non décroché",IF(OR(AND(E217<E216,F217>E216,A217=A216),AND(E218<E216,F218>E216,A218=A216),AND(E219<E216,F219>E216,A219=A216),AND(E220<E216,F220>E216,A220=A216)),"Occupé","Disponible"),"")
A217: fille B | B217: 0.002361 | C217: 0.600347 | D217: Emis | E217: 42612.598 | F217: =E217+B217 -> 42612.6 | G217: =IF(D217="Perdu",IF(AND(E217<F218,E217>E218,E217<F219,E217>E219,E217<F220,E217>E220,E217<F221,E217>E221),"Table occupé","Non décroché"),"") | H217: =IF(G217="Non décroché",IF(OR(AND(E218<E217,F218>E217,A218=A217),AND(E219<E217,F219>E217,A219=A217),AND(E220<E217,F220>E217,A220=A217),AND(E221<E217,F221>E217,A221=A217)),"Occupé","Disponible"),"")
A218: fille A | B218: 0.010741 | C218: 0.606366 | D218: Emis | E218: 42612.596 | F218: =E218+B218 -> 42612.606 | G218: =IF(D218="Perdu",IF(AND(E218<F219,E218>E219,E218<F220,E218>E220,E218<F221,E218>E221,E218<F222,E218>E222),"Table occupé","Non décroché"),"") | H218: =IF(G218="Non décroché",IF(OR(AND(E219<E218,F219>E218,A219=A218),AND(E220<E218,F220>E218,A220=A218),AND(E221<E218,F221>E218,A221=A218),AND(E222<E218,F222>E218,A222=A218)),"Occupé","Disponible"),"")
A219: fille C | B219: 0.000984 | C219: 0.59029 | D219: Emis | E219: 42612.589 | F219: =E219+B219 -> 42612.59 | G219: =IF(D219="Perdu",IF(AND(E219<F220,E219>E220,E219<F221,E219>E221,E219<F222,E219>E222,E219<F223,E219>E223),"Table occupé","Non décroché"),"") | H219: =IF(G219="Non décroché",IF(OR(AND(E220<E219,F220>E219,A220=A219),AND(E221<E219,F221>E219,A221=A219),AND(E222<E219,F222>E219,A222=A219),AND(E223<E219,F223>E219,A223=A219)),"Occupé","Disponible"),"")
... A228: fille A | B228: 3.5e-05 | C228: 0.482477 | D228: Reçus | E228: 42612.482 | F228: =E228+B228 -> 42612.482 | G228: =IF(D228="Perdu",IF(AND(E228<F229,E228>E229,E228<F230,E228>E230,E228<F231,E228>E231,E228<F232,E228>E232),"Table occupé","Non décroché"),"") | H228: =IF(G228="Non décroché",IF(OR(AND(E229<E228,F229>E228,A229=A228),AND(E230<E228,F230>E228,A230=A228),AND(E231<E228,F231>E228,A231=A228),AND(E232<E228,F232>E228,A232=A228)),"Occupé","Disponible"),"")
A229: fille A | D229: Perdu | E229: 42612.482 | F229: =E229+B229 -> 42612.482 | G229: =IF(D229="Perdu",IF(AND(E229<F230,E229>E230,E229<F231,E229>E231,E229<F232,E229>E232,E229<F233,E229>E233),"Table occupé","Non décroché"),"") -> Non décroché | H229: =IF(G229="Non décroché",IF(OR(AND(E230<E229,F230>E229,A230=A229),AND(E231<E229,F231>E229,A231=A229),AND(E232<E229,F232>E229,A232=A229),AND(E233<E229,F233>E229,A233=A229)),"Occupé","Disponible"),"") -> Disponible
A230: fille A | B230: 0 | C230: 0.480405 | D230: Reçus | E230: 42612.48 | F230: =E230+B230 -> 42612.48 | G230: =IF(D230="Perdu",IF(AND(E230<F231,E230>E231,E230<F232,E230>E232,E230<F233,E230>E233,E230<F234,E230>E234),"Table occupé","Non décroché"),"") | H230: =IF(G230="Non décroché",IF(OR(AND(E231<E230,F231>E230,A231=A230),AND(E232<E230,F232>E230,A232=A230),AND(E233<E230,F233>E230,A233=A230),AND(E234<E230,F234>E230,A234=A230)),"Occupé","Disponible"),"")
A231: fille A | B231: 0.000104 | C231: 0.480162 | D231: Reçus | E231: 42612.48 | F231: =E231+B231 -> 42612.48 | G231: =IF(D231="Perdu",IF(AND(E231<F232,E231>E232,E231<F233,E231>E233,E231<F234,E231>E234,E231<F235,E231>E235),"Table occupé","Non décroché"),"") | H231: =IF(G231="Non décroché",IF(OR(AND(E232<E231,F232>E231,A232=A231),AND(E233<E231,F233>E231,A233=A231),AND(E234<E231,F234>E231,A234=A231),AND(E235<E231,F235>E231,A235=A231)),"Occupé","Disponible"),"")
A232: fille A | B232: 0.001817 | C232: 0.481088 | D232: Emis | E232: 42612.479 | F232: =E232+B232 -> 42612.481 | G232: =IF(D232="Perdu",IF(AND(E232<F233,E232>E233,E232<F234,E232>E234,E232<F235,E232>E235,E232<F236,E232>E236),"Table occupé","Non décroché"),"") | H232: =IF(G232="Non décroché",IF(OR(AND(E233<E232,F233>E232,A233=A232),AND(E234<E232,F234>E232,A234=A232),AND(E235<E232,F235>E232,A235=A232),AND(E236<E232,F236>E232,A236=A232)),"Occupé","Disponible"),"")
A233: fille C | B233: 0.001921 | C233: 0.478287 | D233: Reçus | E233: 42612.476 | F233: =E233+B233 -> 42612.478 | G233: =IF(D233="Perdu",IF(AND(E233<F234,E233>E234,E233<F235,E233>E235,E233<F236,E233>E236,E233<F237,E233>E237),"Table occupé","Non décroché"),"") | H233: =IF(G233="Non décroché",IF(OR(AND(E234<E233,F234>E233,A234=A233),AND(E235<E233,F235>E233,A235=A233),AND(E236<E233,F236>E233,A236=A233),AND(E237<E233,F237>E233,A237=A233)),"Occupé","Disponible"),"")
A234: fille B | B234: 0.000775 | C234: 0.474236 | D234: Emis | E234: 42612.473 | F234: =E234+B234 -> 42612.474 | G234: =IF(D234="Perdu",IF(AND(E234<F235,E234>E235,E234<F236,E234>E236,E234<F237,E234>E237,E234<F238,E234>E238),"Table occupé","Non décroché"),"") | H234: =IF(G234="Non décroché",IF(OR(AND(E235<E234,F235>E234,A235=A234),AND(E236<E234,F236>E234,A236=A234),AND(E237<E234,F237>E234,A237=A234),AND(E238<E234,F238>E234,A238=A234)),"Occupé","Disponible"),"")
A235: fille C | B235: 0.001736 | C235: 0.472928 | D235: Emis | E235: 42612.471 | F235: =E235+B235 -> 42612.473 | G235: =IF(D235="Perdu",IF(AND(E235<F236,E235>E236,E235<F237,E235>E237,E235<F238,E235>E238,E235<F239,E235>E239),"Table occupé","Non décroché"),"") | H235: =IF(G235="Non décroché",IF(OR(AND(E236<E235,F236>E235,A236=A235),AND(E237<E235,F237>E235,A237=A235),AND(E238<E235,F238>E235,A238=A235),AND(E239<E235,F239>E235,A239=A235)),"Occupé","Disponible"),"")
A236: fille B | B236: 0.001863 | C236: 0.470949 | D236: Emis | E236: 42612.469 | F236: =E236+B236 -> 42612.471 | G236: =IF(D236="Perdu",IF(AND(E236<F237,E236>E237,E236<F238,E236>E238,E236<F239,E236>E239,E236<F240,E236>E240),"Table occupé","Non décroché"),"") | H236: =IF(G236="Non décroché",IF(OR(AND(E237<E236,F237>E236,A237=A236),AND(E238<E236,F238>E236,A238=A236),AND(E239<E236,F239>E236,A239=A236),AND(E240<E236,F240>E236,A240=A236)),"Occupé","Disponible"),"")
A237: fille C | B237: 0.001991 | C237: 0.469422 | D237: Emis | E237: 42612.467 | F237: =E237+B237 -> 42612.469 | G237: =IF(D237="Perdu",IF(AND(E237<F238,E237>E238,E237<F239,E237>E239,E237<F240,E237>E240,E237<F241,E237>E241),"Table occupé","Non décroché"),"") | H237: =IF(G237="Non décroché",IF(OR(AND(E238<E237,F238>E237,A238=A237),AND(E239<E237,F239>E237,A239=A237),AND(E240<E237,F240>E237,A240=A237),AND(E241<E237,F241>E237,A241=A237)),"Occupé","Disponible"),"")
A238: fille B | B238: 0.004097 | C238: 0.471111 | D238: Emis | E238: 42612.467 | F238: =E238+B238 -> 42612.471 | G238: =IF(D238="Perdu",IF(AND(E238<F239,E238>E239,E238<F240,E238>E240,E238<F241,E238>E241,E238<F242,E238>E242),"Table occupé","Non décroché"),"") | H238: =IF(G238="Non décroché",IF(OR(AND(E239<E238,F239>E238,A239=A238),AND(E240<E238,F240>E238,A240=A238),AND(E241<E238,F241>E238,A241=A238),AND(E242<E238,F242>E238,A242=A238)),"Occupé","Disponible"),"")
...
