Workbook

Sheet pole 1
A1: DATE | B1: jour sem | C1: HEURE | D1: POSTE | E1: NOM | F1: durée Appel | G1: heure de fin de l'appel | H1: Statut | I1: Date complete | J1: date complete de fin | K1: statut perte | L1: Qui ?
A2: 42613 | B2: mercredi | C2: 0.417442 | D2: 3797 | E2: fille A | H2: Perdu | I2: =A2+C2 -> 42613.417 | J2: =I2+F2 -> 42613.417 | K2: =VLOOKUP(I2,'Tri horaire1'!E:G,3,FALSE) -> Non décroché | L2: =VLOOKUP(I2,'Tri horaire1'!E:H,4,FALSE) -> Disponible
A3: 42599 | B3: mercredi | C3: 0.442581 | D3: 3797 | E3: fille A | H3: Perdu | I3: =A3+C3 -> 42599.443 | J3: =I3+F3 -> 42599.443 | K3: =VLOOKUP(I3,'Tri horaire1'!E:G,3,FALSE) -> Non décroché | L3: =VLOOKUP(I3,'Tri horaire1'!E:H,4,FALSE) -> Disponible | O3: Min | P3: =MIN(C:C) -> 0.366597
A4: 42612 | B4: mardi | C4: 0.449051 | D4: 3797 | E4: fille A | H4: Perdu | I4: =A4+C4 -> 42612.449 | J4: =I4+F4 -> 42612.449 | K4: =VLOOKUP(I4,'Tri horaire1'!E:G,3,FALSE) -> Non décroché | L4: =VLOOKUP(I4,'Tri horaire1'!E:H,4,FALSE) -> Disponible | O4: Max | P4: =MAX(C:C) -> 0.742141
A5: 42607 | B5: jeudi | C5: 0.450822 | D5: 3797 | E5: fille A | H5: Perdu | I5: =A5+C5 -> 42607.451 | J5: =I5+F5 -> 42607.451 | K5: =VLOOKUP(I5,'Tri horaire1'!E:G,3,FALSE) -> Non décroché | L5: =VLOOKUP(I5,'Tri horaire1'!E:H,4,FALSE) -> Disponible
A6: 42606 | B6: mercredi | C6: 0.459965 | D6: 3797 | E6: fille A | H6: Perdu | I6: =A6+C6 -> 42606.46 | J6: =I6+F6 -> 42606.46 | K6: =VLOOKUP(I6,'Tri horaire1'!E:G,3,FALSE) -> Non décroché | L6: =VLOOKUP(I6,'Tri horaire1'!E:H,4,FALSE) -> Disponible | O6: frequence pertes
A7: 42605 | B7: mardi | C7: 0.461076 | D7: 3797 | E7: fille A | H7: Perdu | I7: =A7+C7 -> 42605.461 | J7: =I7+F7 -> 42605.461 | K7: =VLOOKUP(I7,'Tri horaire1'!E:G,3,FALSE) -> Non décroché | L7: =VLOOKUP(I7,'Tri horaire1'!E:H,4,FALSE) -> Disponible | O7: fille A | P7: =GETPIVOTDATA("Nombre de DATE",$N$13,"POSTE",3791,"Statut","Perdu")/(GETPIVOTDATA("Nombre de DATE",$N$13,"POSTE",3791,"Statut","Perdu")+GETPIVOTDATA("Nombre de DATE",$N$13,"POSTE",3791,"Statut","Emis")+GETPIVOTDATA("Nombre de DATE",$N$13,"POSTE",3791,"Statut","Reçus")) -> 0.058685446
A8: 42605 | B8: mardi | C8: 0.464097 | D8: 3797 | E8: fille A | H8: Perdu | I8: =A8+C8 -> 42605.464 | J8: =I8+F8 -> 42605.464 | K8: =VLOOKUP(I8,'Tri horaire1'!E:G,3,FALSE) -> Non décroché | L8: =VLOOKUP(I8,'Tri horaire1'!E:H,4,FALSE) -> Disponible | O8: fille B | P8: =GETPIVOTDATA("Nombre de DATE",$N$13,"POSTE",3792,"Statut","Perdu")/(GETPIVOTDATA("Nombre de DATE",$N$13,"POSTE",3792,"Statut","Perdu")+GETPIVOTDATA("Nombre de DATE",$N$13,"POSTE",3792,"Statut","Emis")+GETPIVOTDATA("Nombre de DATE",$N$13,"POSTE",3792,"Statut","Reçus")) -> 0.029745042
A9: 42584 | B9: mardi | C9: 0.465463 | D9: 3797 | E9: fille A | H9: Perdu | I9: =A9+C9 -> 42584.465 | J9: =I9+F9 -> 42584.465 | K9: =VLOOKUP(I9,'Tri horaire1'!E:G,3,FALSE) -> Non décroché | L9: =VLOOKUP(I9,'Tri horaire1'!E:H,4,FALSE) -> Disponible | O9: fille C | P9: =GETPIVOTDATA("Nombre de DATE",$N$13,"POSTE",3797,"Statut","Perdu")/(GETPIVOTDATA("Nombre de DATE",$N$13,"POSTE",3797,"Statut","Perdu")+GETPIVOTDATA("Nombre de DATE",$N$13,"POSTE",3797,"Statut","Reçus")+GETPIVOTDATA("Nombre de DATE",$N$13,"POSTE",3797,"Statut","Emis")) -> 0.10928962
A10: 42605 | B10: mardi | C10: 0.466319 | D10: 3797 | E10: fille A | H10: Perdu | I10: =A10+C10 -> 42605.466 | J10: =I10+F10 -> 42605.466 | K10: =VLOOKUP(I10,'Tri horaire1'!E:G,3,FALSE) -> Non décroché | L10: =VLOOKUP(I10,'Tri horaire1'!E:H,4,FALSE) -> Disponible | O10: fille D | P10: =GETPIVOTDATA("Nombre de DATE",$N$13,"POSTE",3798,"Statut","Perdu")/(GETPIVOTDATA("Nombre de DATE",$N$13,"POSTE",3798,"Statut","Reçus")+GETPIVOTDATA("Nombre de DATE",$N$13,"POSTE",3798,"Statut","Emis")+GETPIVOTDATA("Nombre de DATE",$N$13,"POSTE",3798,"Statut","Perdu")) -> 0.078212291
A11: 42612 | B11: mardi | C11: 0.482049 | D11: 3797 | E11: fille A | H11: Perdu | I11: =A11+C11 -> 42612.482 | J11: =I11+F11 -> 42612.482 | K11: =VLOOKUP(I11,'Tri horaire1'!E:G,3,FALSE) -> Non décroché | L11: =VLOOKUP(I11,'Tri horaire1'!E:H,4,FALSE) -> Disponible | O11: total | P11: =GETPIVOTDATA("Nombre de DATE",$N$13,"Statut","Perdu")/GETPIVOTDATA("Nombre de DATE",$N$13) -> 0.056186491
A12: 42585 | B12: mercredi | C12: 0.491875 | D12: 3797 | E12: fille A | H12: Perdu | I12: =A12+C12 -> 42585.492 | J12: =I12+F12 -> 42585.492 | K12: =VLOOKUP(I12,'Tri horaire1'!E:G,3,FALSE) -> Non décroché | L12: =VLOOKUP(I12,'Tri horaire1'!E:H,4,FALSE) -> Disponible
A13: 42611 | B13: lundi | C13: 0.496238 | D13: 3797 | E13: fille A | H13: Perdu | I13: =A13+C13 -> 42611.496 | J13: =I13+F13 -> 42611.496 | K13: =VLOOKUP(I13,'Tri horaire1'!E:G,3,FALSE) -> Non décroché | L13: =VLOOKUP(I13,'Tri horaire1'!E:H,4,FALSE) -> Occupé | N13: Étiquettes de lignes | O13: Nombre de DATE | P13: Moyenne de durée Appel
A14: 42613 | B14: mercredi | C14: 0.497963 | D14: 3797 | E14: fille A | H14: Perdu | I14: =A14+C14 -> 42613.498 | J14: =I14+F14 -> 42613.498 | K14: =VLOOKUP(I14,'Tri horaire1'!E:G,3,FALSE) -> Non décroché | L14: =VLOOKUP(I14,'Tri horaire1'!E:H,4,FALSE) -> Disponible | N14: Emis | O14: 1118 | P14: 0.0023069573
A15: 42594 | B15: vendredi | C15: 0.580671 | D15: 3797 | E15: fille A | H15: Perdu | I15: =A15+C15 -> 42594.581 | J15: =I15+F15 -> 42594.581 | K15: =VLOOKUP(I15,'Tri horaire1'!E:G,3,FALSE) -> Non décroché | L15: =VLOOKUP(I15,'Tri horaire1'!E:H,4,FALSE) -> Disponible | N15: 3791 | O15: 248 | P15: 0.0028308412
A16: 42604 | B16: lundi | C16: 0.597697 | D16: 3797 | E16: fille A | H16: Perdu | I16: =A16+C16 -> 42604.598 | J16: =I16+F16 -> 42604.598 | K16: =VLOOKUP(I16,'Tri horaire1'!E:G,3,FALSE) -> Non décroché | L16: =VLOOKUP(I16,'Tri horaire1'!E:H,4,FALSE) -> Disponible | N16: 3792 | O16: 509 | P16: 0.0023019446
A17: 42606 | B17: mercredi | C17: 0.613611 | D17: 3797 | E17: fille A | H17: Perdu | I17: =A17+C17 -> 42606.614 | J17: =I17+F17 -> 42606.614 | K17: =VLOOKUP(I17,'Tri horaire1'!E:G,3,FALSE) -> Non décroché | L17: =VLOOKUP(I17,'Tri horaire1'!E:H,4,FALSE) -> Disponible | N17: 3797 | O17: 106 | P17: 0.0018675751
A18: 42611 | B18: lundi | C18: 0.651331 | D18: 3797 | E18: fille A | H18: Perdu | I18: =A18+C18 -> 42611.651 | J18: =I18+F18 -> 42611.651 | K18: =VLOOKUP(I18,'Tri horaire1'!E:G,3,FALSE) -> Non décroché | L18: =VLOOKUP(I18,'Tri horaire1'!E:H,4,FALSE) -> Disponible | N18: 3798 | O18: 255 | P18: 0.0019901053
A19: 42612 | B19: mardi | C19: 0.672882 | D19: 3797 | E19: fille A | H19: Perdu | I19: =A19+C19 -> 42612.673 | J19: =I19+F19 -> 42612.673 | K19: =VLOOKUP(I19,'Tri horaire1'!E:G,3,FALSE) -> Non décroché | L19: =VLOOKUP(I19,'Tri horaire1'!E:H,4,FALSE) -> Disponible | N19: Perdu | O19: 94
A20: 42604 | B20: lundi | C20: 0.696586 | D20: 3797 | E20: fille A | H20: Perdu | I20: =A20+C20 -> 42604.697 | J20: =I20+F20 -> 42604.697 | K20: =VLOOKUP(I20,'Tri horaire1'!E:G,3,FALSE) -> Non décroché | L20: =VLOOKUP(I20,'Tri horaire1'!E:H,4,FALSE) -> Disponible | N20: 3791 | O20: 25
A21: 42605 | B21: mardi | C21: 0.711921 | D21: 3797 | E21: fille A | H21: Perdu | I21: =A21+C21 -> 42605.712 | J21: =I21+F21 -> 42605.712 | K21: =VLOOKUP(I21,'Tri horaire1'!E:G,3,FALSE) -> Non décroché | L21: =VLOOKUP(I21,'Tri horaire1'!E:H,4,FALSE) -> Disponible | N21: 3792 | O21: 21
A22: 42590 | B22: lundi | C22: 0.378241 | D22: 3791 | E22: fille B | H22: Perdu | I22: =A22+C22 -> 42590.378 | J22: =I22+F22 -> 42590.378 | K22: =VLOOKUP(I22,'Tri horaire1'!E:G,3,FALSE) -> Non décroché | L22: =VLOOKUP(I22,'Tri horaire1'!E:H,4,FALSE) -> Disponible | N22: 3797 | O22: 20
A23: 42591 | B23: mardi | C23: 0.399375 | D23: 3791 | E23: fille B | H23: Perdu | I23: =A23+C23 -> 42591.399 | J23: =I23+F23 -> 42591.399 | K23: =VLOOKUP(I23,'Tri horaire1'!E:G,3,FALSE) -> Non décroché | L23: =VLOOKUP(I23,'Tri horaire1'!E:H,4,FALSE) -> Disponible | N23: 3798 | O23: 28
A24: 42608 | B24: vendredi | C24: 0.42294 | D24: 3791 | E24: fille B | H24: Perdu | I24: =A24+C24 -> 42608.423 | J24: =I24+F24 -> 42608.423 | K24: =VLOOKUP(I24,'Tri horaire1'!E:G,3,FALSE) -> Non décroché | L24: =VLOOKUP(I24,'Tri horaire1'!E:H,4,FALSE) -> Disponible | N24: Reçus | O24: 461 | P24: 0.0012724703
A25: 42591 | B25: mardi | C25: 0.426481 | D25: 3791 | E25: fille B | H25: Perdu | I25: =A25+C25 -> 42591.426 | J25: =I25+F25 -> 42591.426 | K25: =VLOOKUP(I25,'Tri horaire1'!E:G,3,FALSE) -> Non décroché | L25: =VLOOKUP(I25,'Tri horaire1'!E:H,4,FALSE) -> Disponible | N25: 3791 | O25: 153 | P25: 0.0013077947
A26: 42593 | B26: jeudi | C26: 0.430394 | D26: 3791 | E26: fille B | H26: Perdu | I26: =A26+C26 -> 42593.43 | J26: =I26+F26 -> 42593.43 | K26: =VLOOKUP(I26,'Tri horaire1'!E:G,3,FALSE) -> Non décroché | L26: =VLOOKUP(I26,'Tri horaire1'!E:H,4,FALSE) -> Disponible | N26: 3792 | O26: 176 | P26: 0.0015227799
A27: 42612 | B27: mardi | C27: 0.436968 | D27: 3791 | E27: fille B | H27: Perdu | I27: =A27+C27 -> 42612.437 | J27: =I27+F27 -> 42612.437 | K27: =VLOOKUP(I27,'Tri horaire1'!E:G,3,FALSE) -> Non décroché | L27: =VLOOKUP(I27,'Tri horaire1'!E:H,4,FALSE) -> Disponible | N27: 3797 | O27: 57 | P27: 0.00080348441
A28: 42607 | B28: jeudi | C28: 0.446956 | D28: 3791 | E28: fille B | H28: Perdu | I28: =A28+C28 -> 42607.447 | J28: =I28+F28 -> 42607.447 | K28: =VLOOKUP(I28,'Tri horaire1'!E:G,3,FALSE) -> Non décroché | L28: =VLOOKUP(I28,'Tri horaire1'!E:H,4,FALSE) -> Occupé | N28: 3798 | O28: 75 | P28: 0.00096944444
A29: 42607 | B29: jeudi | C29: 0.451956 | D29: 3791 | E29: fille B | H29: Perdu | I29: =A29+C29 -> 42607.452 | J29: =I29+F29 -> 42607.452 | K29: =VLOOKUP(I29,'Tri horaire1'!E:G,3,FALSE) -> Non décroché | L29: =VLOOKUP(I29,'Tri horaire1'!E:H,4,FALSE) -> Disponible | N29: Total général | O29: 1673 | P29: 0.0020049316
A30: 42606 | B30: mercredi | C30: 0.457604 | D30: 3791 | E30: fille B | H30: Perdu | I30: =A30+C30 -> 42606.458 | J30: =I30+F30 -> 42606.458 | K30: =VLOOKUP(I30,'Tri horaire1'!E:G,3,FALSE) -> Non décroché | L30: =VLOOKUP(I30,'Tri horaire1'!E:H,4,FALSE) -> Occupé
A31: 42607 | B31: jeudi | C31: 0.465451 | D31: 3791 | E31: fille B | H31: Perdu | I31: =A31+C31 -> 42607.465 | J31: =I31+F31 -> 42607.465 | K31: =VLOOKUP(I31,'Tri horaire1'!E:G,3,FALSE) -> Non décroché | L31: =VLOOKUP(I31,'Tri horaire1'!E:H,4,FALSE) -> Disponible
A32: 42604 | B32: lundi | C32: 0.488241 | D32: 3791 | E32: fille B | H32: Perdu | I32: =A32+C32 -> 42604.488 | J32: =I32+F32 -> 42604.488 | K32: =VLOOKUP(I32,'Tri horaire1'!E:G,3,FALSE) -> Non décroché | L32: =VLOOKUP(I32,'Tri horaire1'!E:H,4,FALSE) -> Disponible
A33: 42584 | B33: mardi | C33: 0.488437 | D33: 3791 | E33: fille B | H33: Perdu | I33: =A33+C33 -> 42584.488 | J33: =I33+F33 -> 42584.488 | K33: =VLOOKUP(I33,'Tri horaire1'!E:G,3,FALSE) -> Non décroché | L33: =VLOOKUP(I33,'Tri horaire1'!E:H,4,FALSE) -> Disponible
A34: 42605 | B34: mardi | C34: 0.497755 | D34: 3791 | E34: fille B | H34: Perdu | I34: =A34+C34 -> 42605.498 | J34: =I34+F34 -> 42605.498 | K34: =VLOOKUP(I34,'Tri horaire1'!E:G,3,FALSE) -> Non décroché | L34: =VLOOKUP(I34,'Tri horaire1'!E:H,4,FALSE) -> Occupé
A35: 42605 | B35: mardi | C35: 0.57 | D35: 3791 | E35: fille B | H35: Perdu | I35: =A35+C35 -> 42605.57 | J35: =I35+F35 -> 42605.57 | K35: =VLOOKUP(I35,'Tri horaire1'!E:G,3,FALSE) -> Non décroché | L35: =VLOOKUP(I35,'Tri horaire1'!E:H,4,FALSE) -> Disponible
A36: 42594 | B36: vendredi | C36: 0.584248 | D36: 3791 | E36: fille B | H36: Perdu | I36: =A36+C36 -> 42594.584 | J36: =I36+F36 -> 42594.584 | K36: =VLOOKUP(I36,'Tri horaire1'!E:G,3,FALSE) -> Non décroché | L36: =VLOOKUP(I36,'Tri horaire1'!E:H,4,FALSE) -> Disponible
A37: 42594 | B37: vendredi | C37: 0.585637 | D37: 3791 | E37: fille B | H37: Perdu | I37: =A37+C37 -> 42594.586 | J37: =I37+F37 -> 42594.586 | K37: =VLOOKUP(I37,'Tri horaire1'!E:G,3,FALSE) -> Non décroché | L37: =VLOOKUP(I37,'Tri horaire1'!E:H,4,FALSE) -> Disponible
A38: 42608 | B38: vendredi | C38: 0.612292 | D38: 3791 | E38: fille B | H38: Perdu | I38: =A38+C38 -> 42608.612 | J38: =I38+F38 -> 42608.612 | K38: =VLOOKUP(I38,'Tri horaire1'!E:G,3,FALSE) -> Non décroché | L38: =VLOOKUP(I38,'Tri horaire1'!E:H,4,FALSE) -> Disponible
A39: 42612 | B39: mardi | C39: 0.619109 | D39: 3791 | E39: fille B | H39: Perdu | I39: =A39+C39 -> 42612.619 | J39: =I39+F39 -> 42612.619 | K39: =VLOOKUP(I39,'Tri horaire1'!E:G,3,FALSE) -> Non décroché | L39: =VLOOKUP(I39,'Tri horaire1'!E:H,4,FALSE) -> Occupé
A40: 42607 | B40: jeudi | C40: 0.621771 | D40: 3791 | E40: fille B | H40: Perdu | I40: =A40+C40 -> 42607.622 | J40: =I40+F40 -> 42607.622 | K40: =VLOOKUP(I40,'Tri horaire1'!E:G,3,FALSE) -> Non décroché | L40: =VLOOKUP(I40,'Tri horaire1'!E:H,4,FALSE) -> Disponible
...

Sheet Tri horaire1
A1: NOM | B1: durée Appel | C1: heure de fin de l'appel | D1: Statut | E1: Date complete | F1: Date complete fin | G1: Statut perdu | H1: Qui ?
A2: fille B | B2: 0.000278 | C2: 0.730625 | D2: Reçus | E2: 42613.73 | F2: =E2+B2 -> 42613.731 | G2: =IF(D2="Perdu",IF(AND(E2<F3,E2>E3,E2<F4,E2>E4,E2<F5,E2>E5,E2<F6,E2>E6),"Table occupé","Non décroché"),"") | H2: =IF(G2="Non décroché",IF(OR(AND(E3<E2,F3>E2,A3=A2),AND(E4<E2,F4>E2,A4=A2),AND(E5<E2,F5>E2,A5=A2),AND(E6<E2,F6>E2,A6=A2)),"Occupé","Disponible"),"")
A3: fille B | B3: 0.004664 | C3: 0.733958 | D3: Emis | E3: 42613.729 | F3: =E3+B3 -> 42613.734 | G3: =IF(D3="Perdu",IF(AND(E3<F4,E3>E4,E3<F5,E3>E5,E3<F6,E3>E6,E3<F7,E3>E7),"Table occupé","Non décroché"),"") | H3: =IF(G3="Non décroché",IF(OR(AND(E4<E3,F4>E3,A4=A3),AND(E5<E3,F5>E3,A5=A3),AND(E6<E3,F6>E3,A6=A3),AND(E7<E3,F7>E3,A7=A3)),"Occupé","Disponible"),"")
A4: fille B | B4: 0.002801 | C4: 0.727188 | D4: Reçus | E4: 42613.724 | F4: =E4+B4 -> 42613.727 | G4: =IF(D4="Perdu",IF(AND(E4<F5,E4>E5,E4<F6,E4>E6,E4<F7,E4>E7,E4<F8,E4>E8),"Table occupé","Non décroché"),"") | H4: =IF(G4="Non décroché",IF(OR(AND(E5<E4,F5>E4,A5=A4),AND(E6<E4,F6>E4,A6=A4),AND(E7<E4,F7>E4,A7=A4),AND(E8<E4,F8>E4,A8=A4)),"Occupé","Disponible"),"")
A5: fille C | B5: 0.002824 | C5: 0.724942 | D5: Reçus | E5: 42613.722 | F5: =E5+B5 -> 42613.725 | G5: =IF(D5="Perdu",IF(AND(E5<F6,E5>E6,E5<F7,E5>E7,E5<F8,E5>E8,E5<F9,E5>E9),"Table occupé","Non décroché"),"") | H5: =IF(G5="Non décroché",IF(OR(AND(E6<E5,F6>E5,A6=A5),AND(E7<E5,F7>E5,A7=A5),AND(E8<E5,F8>E5,A8=A5),AND(E9<E5,F9>E5,A9=A5)),"Occupé","Disponible"),"")
A6: fille B | B6: 0.001956 | C6: 0.722431 | D6: Reçus | E6: 42613.72 | F6: =E6+B6 -> 42613.722 | G6: =IF(D6="Perdu",IF(AND(E6<F7,E6>E7,E6<F8,E6>E8,E6<F9,E6>E9,E6<F10,E6>E10),"Table occupé","Non décroché"),"") | H6: =IF(G6="Non décroché",IF(OR(AND(E7<E6,F7>E6,A7=A6),AND(E8<E6,F8>E6,A8=A6),AND(E9<E6,F9>E6,A9=A6),AND(E10<E6,F10>E6,A10=A6)),"Occupé","Disponible"),"")
A7: fille B | B7: 0.000856 | C7: 0.717048 | D7: Emis | E7: 42613.716 | F7: =E7+B7 -> 42613.717 | G7: =IF(D7="Perdu",IF(AND(E7<F8,E7>E8,E7<F9,E7>E9,E7<F10,E7>E10,E7<F11,E7>E11),"Table occupé","Non décroché"),"") | H7: =IF(G7="Non décroché",IF(OR(AND(E8<E7,F8>E7,A8=A7),AND(E9<E7,F9>E7,A9=A7),AND(E10<E7,F10>E7,A10=A7),AND(E11<E7,F11>E7,A11=A7)),"Occupé","Disponible"),"")
A8: fille B | B8: 0 | C8: 0.713715 | D8: Reçus | E8: 42613.714 | F8: =E8+B8 -> 42613.714 | G8: =IF(D8="Perdu",IF(AND(E8<F9,E8>E9,E8<F10,E8>E10,E8<F11,E8>E11,E8<F12,E8>E12),"Table occupé","Non décroché"),"") | H8: =IF(G8="Non décroché",IF(OR(AND(E9<E8,F9>E8,A9=A8),AND(E10<E8,F10>E8,A10=A8),AND(E11<E8,F11>E8,A11=A8),AND(E12<E8,F12>E8,A12=A8)),"Occupé","Disponible"),"")
A9: fille B | B9: 0.002523 | C9: 0.715903 | D9: Reçus | E9: 42613.713 | F9: =E9+B9 -> 42613.716 | G9: =IF(D9="Perdu",IF(AND(E9<F10,E9>E10,E9<F11,E9>E11,E9<F12,E9>E12,E9<F13,E9>E13),"Table occupé","Non décroché"),"") | H9: =IF(G9="Non décroché",IF(OR(AND(E10<E9,F10>E9,A10=A9),AND(E11<E9,F11>E9,A11=A9),AND(E12<E9,F12>E9,A12=A9),AND(E13<E9,F13>E9,A13=A9)),"Occupé","Disponible"),"")
A10: fille A | B10: 0.000556 | C10: 0.713183 | D10: Reçus | E10: 42613.713 | F10: =E10+B10 -> 42613.713 | G10: =IF(D10="Perdu",IF(AND(E10<F11,E10>E11,E10<F12,E10>E12,E10<F13,E10>E13,E10<F14,E10>E14),"Table occupé","Non décroché"),"") | H10: =IF(G10="Non décroché",IF(OR(AND(E11<E10,F11>E10,A11=A10),AND(E12<E10,F12>E10,A12=A10),AND(E13<E10,F13>E10,A13=A10),AND(E14<E10,F14>E10,A14=A10)),"Occupé","Disponible"),"")
A11: fille A | B11: 0.000405 | C11: 0.709873 | D11: Reçus | E11: 42613.709 | F11: =E11+B11 -> 42613.71 | G11: =IF(D11="Perdu",IF(AND(E11<F12,E11>E12,E11<F13,E11>E13,E11<F14,E11>E14,E11<F15,E11>E15),"Table occupé","Non décroché"),"") | H11: =IF(G11="Non décroché",IF(OR(AND(E12<E11,F12>E11,A12=A11),AND(E13<E11,F13>E11,A13=A11),AND(E14<E11,F14>E11,A14=A11),AND(E15<E11,F15>E11,A15=A11)),"Occupé","Disponible"),"")
A12: fille B | B12: 0.001678 | C12: 0.703507 | D12: Emis | E12: 42613.702 | F12: =E12+B12 -> 42613.704 | G12: =IF(D12="Perdu",IF(AND(E12<F13,E12>E13,E12<F14,E12>E14,E12<F15,E12>E15,E12<F16,E12>E16),"Table occupé","Non décroché"),"") | H12: =IF(G12="Non décroché",IF(OR(AND(E13<E12,F13>E12,A13=A12),AND(E14<E12,F14>E12,A14=A12),AND(E15<E12,F15>E12,A15=A12),AND(E16<E12,F16>E12,A16=A12)),"Occupé","Disponible"),"")
A13: fille A | B13: 0.001667 | C13: 0.702686 | D13: Reçus | E13: 42613.701 | F13: =E13+B13 -> 42613.703 | G13: =IF(D13="Perdu",IF(AND(E13<F14,E13>E14,E13<F15,E13>E15,E13<F16,E13>E16,E13<F17,E13>E17),"Table occupé","Non décroché"),"") | H13: =IF(G13="Non décroché",IF(OR(AND(E14<E13,F14>E13,A14=A13),AND(E15<E13,F15>E13,A15=A13),AND(E16<E13,F16>E13,A16=A13),AND(E17<E13,F17>E13,A17=A13)),"Occupé","Disponible"),"")
... A77: fille A | B77: 0.000671 | C77: 0.499745 | D77: Emis | E77: 42613.499 | F77: =E77+B77 -> 42613.5 | G77: =IF(D77="Perdu",IF(AND(E77<F78,E77>E78,E77<F79,E77>E79,E77<F80,E77>E80,E77<F81,E77>E81),"Table occupé","Non décroché"),"") | H77: =IF(G77="Non décroché",IF(OR(AND(E78<E77,F78>E77,A78=A77),AND(E79<E77,F79>E77,A79=A77),AND(E80<E77,F80>E77,A80=A77),AND(E81<E77,F81>E77,A81=A77)),"Occupé","Disponible"),"")
A78: fille A | D78: Perdu | E78: 42613.498 | F78: =E78+B78 -> 42613.498 | G78: =IF(D78="Perdu",IF(AND(E78<F79,E78>E79,E78<F80,E78>E80,E78<F81,E78>E81,E78<F82,E78>E82),"Table occupé","Non décroché"),"") -> Non décroché | H78: =IF(G78="Non décroché",IF(OR(AND(E79<E78,F79>E78,A79=A78),AND(E80<E78,F80>E78,A80=A78),AND(E81<E78,F81>E78,A81=A78),AND(E82<E78,F82>E78,A82=A78)),"Occupé","Disponible"),"") -> Disponible
A79: fille C | B79: 0.001968 | C79: 0.499375 | D79: Emis | E79: 42613.497 | F79: =E79+B79 -> 42613.499 | G79: =IF(D79="Perdu",IF(AND(E79<F80,E79>E80,E79<F81,E79>E81,E79<F82,E79>E82,E79<F83,E79>E83),"Table occupé","Non décroché"),"") | H79: =IF(G79="Non décroché",IF(OR(AND(E80<E79,F80>E79,A80=A79),AND(E81<E79,F81>E79,A81=A79),AND(E82<E79,F82>E79,A82=A79),AND(E83<E79,F83>E79,A83=A79)),"Occupé","Disponible"),"")
A80: fille A | B80: 0.000405 | C80: 0.492419 | D80: Emis | E80: 42613.492 | F80: =E80+B80 -> 42613.492 | G80: =IF(D80="Perdu",IF(AND(E80<F81,E80>E81,E80<F82,E80>E82,E80<F83,E80>E83,E80<F84,E80>E84),"Table occupé","Non décroché"),"") | H80: =IF(G80="Non décroché",IF(OR(AND(E81<E80,F81>E80,A81=A80),AND(E82<E80,F82>E80,A82=A80),AND(E83<E80,F83>E80,A83=A80),AND(E84<E80,F84>E80,A84=A80)),"Occupé","Disponible"),"")
A81: fille B | B81: 0.000694 | C81: 0.492303 | D81: Emis | E81: 42613.492 | F81: =E81+B81 -> 42613.492 | G81: =IF(D81="Perdu",IF(AND(E81<F82,E81>E82,E81<F83,E81>E83,E81<F84,E81>E84,E81<F85,E81>E85),"Table occupé","Non décroché"),"") | H81: =IF(G81="Non décroché",IF(OR(AND(E82<E81,F82>E81,A82=A81),AND(E83<E81,F83>E81,A83=A81),AND(E84<E81,F84>E81,A84=A81),AND(E85<E81,F85>E81,A85=A81)),"Occupé","Disponible"),"")
A82: fille C | B82: 0.000694 | C82: 0.491099 | D82: Emis | E82: 42613.49 | F82: =E82+B82 -> 42613.491 | G82: =IF(D82="Perdu",IF(AND(E82<F83,E82>E83,E82<F84,E82>E84,E82<F85,E82>E85,E82<F86,E82>E86),"Table occupé","Non décroché"),"") | H82: =IF(G82="Non décroché",IF(OR(AND(E83<E82,F83>E82,A83=A82),AND(E84<E82,F84>E82,A84=A82),AND(E85<E82,F85>E82,A85=A82),AND(E86<E82,F86>E82,A86=A82)),"Occupé","Disponible"),"")
A83: fille A | B83: 0.000486 | C83: 0.490197 | D83: Emis | E83: 42613.49 | F83: =E83+B83 -> 42613.49 | G83: =IF(D83="Perdu",IF(AND(E83<F84,E83>E84,E83<F85,E83>E85,E83<F86,E83>E86,E83<F87,E83>E87),"Table occupé","Non décroché"),"") | H83: =IF(G83="Non décroché",IF(OR(AND(E84<E83,F84>E83,A84=A83),AND(E85<E83,F85>E83,A85=A83),AND(E86<E83,F86>E83,A86=A83),AND(E87<E83,F87>E83,A87=A83)),"Occupé","Disponible"),"")
A84: fille C | B84: 0.001007 | C84: 0.487813 | D84: Emis | E84: 42613.487 | F84: =E84+B84 -> 42613.488 | G84: =IF(D84="Perdu",IF(AND(E84<F85,E84>E85,E84<F86,E84>E86,E84<F87,E84>E87,E84<F88,E84>E88),"Table occupé","Non décroché"),"") | H84: =IF(G84="Non décroché",IF(OR(AND(E85<E84,F85>E84,A85=A84),AND(E86<E84,F86>E84,A86=A84),AND(E87<E84,F87>E84,A87=A84),AND(E88<E84,F88>E84,A88=A84)),"Occupé","Disponible"),"")
A85: fille C | B85: 0.00147 | C85: 0.485961 | D85: Emis | E85: 42613.484 | F85: =E85+B85 -> 42613.486 | G85: =IF(D85="Perdu",IF(AND(E85<F86,E85>E86,E85<F87,E85>E87,E85<F88,E85>E88,E85<F89,E85>E89),"Table occupé","Non décroché"),"") | H85: =IF(G85="Non décroché",IF(OR(AND(E86<E85,F86>E85,A86=A85),AND(E87<E85,F87>E85,A87=A85),AND(E88<E85,F88>E85,A88=A85),AND(E89<E85,F89>E85,A89=A85)),"Occupé","Disponible"),"")
A86: fille B | B86: 3.5e-05 | C86: 0.484352 | D86: Emis | E86: 42613.484 | F86: =E86+B86 -> 42613.484 | G86: =IF(D86="Perdu",IF(AND(E86<F87,E86>E87,E86<F88,E86>E88,E86<F89,E86>E89,E86<F90,E86>E90),"Table occupé","Non décroché"),"") | H86: =IF(G86="Non décroché",IF(OR(AND(E87<E86,F87>E86,A87=A86),AND(E88<E86,F88>E86,A88=A86),AND(E89<E86,F89>E86,A89=A86),AND(E90<E86,F90>E86,A90=A86)),"Occupé","Disponible"),"")
A87: fille C | B87: 0.000116 | C87: 0.482685 | D87: Reçus | E87: 42613.483 | F87: =E87+B87 -> 42613.483 | G87: =IF(D87="Perdu",IF(AND(E87<F88,E87>E88,E87<F89,E87>E89,E87<F90,E87>E90,E87<F91,E87>E91),"Table occupé","Non décroché"),"") | H87: =IF(G87="Non décroché",IF(OR(AND(E88<E87,F88>E87,A88=A87),AND(E89<E87,F89>E87,A89=A87),AND(E90<E87,F90>E87,A90=A87),AND(E91<E87,F91>E87,A91=A87)),"Occupé","Disponible"),"")
A88: fille C | B88: 0.002199 | C88: 0.481586 | D88: Emis | E88: 42613.479 | F88: =E88+B88 -> 42613.482 | G88: =IF(D88="Perdu",IF(AND(E88<F89,E88>E89,E88<F90,E88>E90,E88<F91,E88>E91,E88<F92,E88>E92),"Table occupé","Non décroché"),"") | H88: =IF(G88="Non décroché",IF(OR(AND(E89<E88,F89>E88,A89=A88),AND(E90<E88,F90>E88,A90=A88),AND(E91<E88,F91>E88,A91=A88),AND(E92<E88,F92>E88,A92=A88)),"Occupé","Disponible"),"")
A89: fille A | B89: 0.002593 | C89: 0.480324 | D89: Emis | E89: 42613.478 | F89: =E89+B89 -> 42613.48 | G89: =IF(D89="Perdu",IF(AND(E89<F90,E89>E90,E89<F91,E89>E91,E89<F92,E89>E92,E89<F93,E89>E93),"Table occupé","Non décroché"),"") | H89: =IF(G89="Non décroché",IF(OR(AND(E90<E89,F90>E89,A90=A89),AND(E91<E89,F91>E89,A91=A89),AND(E92<E89,F92>E89,A92=A89),AND(E93<E89,F93>E89,A93=A89)),"Occupé","Disponible"),"")
A90: fille C | B90: 0.000405 | C90: 0.477176 | D90: Reçus | E90: 42613.477 | F90: =E90+B90 -> 42613.477 | G90: =IF(D90="Perdu",IF(AND(E90<F91,E90>E91,E90<F92,E90>E92,E90<F93,E90>E93,E90<F94,E90>E94),"Table occupé","Non décroché"),"") | H90: =IF(G90="Non décroché",IF(OR(AND(E91<E90,F91>E90,A91=A90),AND(E92<E90,F92>E90,A92=A90),AND(E93<E90,F93>E90,A93=A90),AND(E94<E90,F94>E90,A94=A90)),"Occupé","Disponible"),"")
... A93: fille A | B93: 0.006343 | C93: 0.477026 | D93: Emis | E93: 42613.471 | F93: =E93+B93 -> 42613.477 | G93: =IF(D93="Perdu",IF(AND(E93<F94,E93>E94,E93<F95,E93>E95,E93<F96,E93>E96,E93<F97,E93>E97),"Table occupé","Non décroché"),"") | H93: =IF(G93="Non décroché",IF(OR(AND(E94<E93,F94>E93,A94=A93),AND(E95<E93,F95>E93,A95=A93),AND(E96<E93,F96>E93,A96=A93),AND(E97<E93,F97>E93,A97=A93)),"Occupé","Disponible"),"")
A94: fille C | D94: Perdu | E94: 42613.47 | F94: =E94+B94 -> 42613.47 | G94: =IF(D94="Perdu",IF(AND(E94<F95,E94>E95,E94<F96,E94>E96,E94<F97,E94>E97,E94<F98,E94>E98),"Table occupé","Non décroché"),"") -> Non décroché | H94: =IF(G94="Non décroché",IF(OR(AND(E95<E94,F95>E94,A95=A94),AND(E96<E94,F96>E94,A96=A94),AND(E97<E94,F97>E94,A97=A94),AND(E98<E94,F98>E94,A98=A94)),"Occupé","Disponible"),"") -> Disponible
A95: fille C | B95: 0.001655 | C95: 0.468947 | D95: Emis | E95: 42613.467 | F95: =E95+B95 -> 42613.469 | G95: =IF(D95="Perdu",IF(AND(E95<F96,E95>E96,E95<F97,E95>E97,E95<F98,E95>E98,E95<F99,E95>E99),"Table occupé","Non décroché"),"") | H95: =IF(G95="Non décroché",IF(OR(AND(E96<E95,F96>E95,A96=A95),AND(E97<E95,F97>E95,A97=A95),AND(E98<E95,F98>E95,A98=A95),AND(E99<E95,F99>E95,A99=A95)),"Occupé","Disponible"),"")
A96: fille C | B96: 0.003877 | C96: 0.469814 | D96: Emis | E96: 42613.466 | F96: =E96+B96 -> 42613.47 | G96: =IF(D96="Perdu",IF(AND(E96<F97,E96>E97,E96<F98,E96>E98,E96<F99,E96>E99,E96<F100,E96>E100),"Table occupé","Non décroché"),"") | H96: =IF(G96="Non décroché",IF(OR(AND(E97<E96,F97>E96,A97=A96),AND(E98<E96,F98>E96,A98=A96),AND(E99<E96,F99>E96,A99=A96),AND(E100<E96,F100>E96,A100=A96)),"Occupé","Disponible"),"")
A97: fille A | B97: 0.001539 | C97: 0.465474 | D97: Emis | E97: 42613.464 | F97: =E97+B97 -> 42613.465 | G97: =IF(D97="Perdu",IF(AND(E97<F98,E97>E98,E97<F99,E97>E99,E97<F100,E97>E100,E97<F101,E97>E101),"Table occupé","Non décroché"),"") | H97: =IF(G97="Non décroché",IF(OR(AND(E98<E97,F98>E97,A98=A97),AND(E99<E97,F99>E97,A99=A97),AND(E100<E97,F100>E97,A100=A97),AND(E101<E97,F101>E97,A101=A97)),"Occupé","Disponible"),"")
A98: fille A | B98: 0.00066 | C98: 0.460648 | D98: Reçus | E98: 42613.46 | F98: =E98+B98 -> 42613.461 | G98: =IF(D98="Perdu",IF(AND(E98<F99,E98>E99,E98<F100,E98>E100,E98<F101,E98>E101,E98<F102,E98>E102),"Table occupé","Non décroché"),"") | H98: =IF(G98="Non décroché",IF(OR(AND(E99<E98,F99>E98,A99=A98),AND(E100<E98,F100>E98,A100=A98),AND(E101<E98,F101>E98,A101=A98),AND(E102<E98,F102>E98,A102=A98)),"Occupé","Disponible"),"")
A99: fille C | B99: 0 | C99: 0.459722 | D99: Reçus | E99: 42613.46 | F99: =E99+B99 -> 42613.46 | G99: =IF(D99="Perdu",IF(AND(E99<F100,E99>E100,E99<F101,E99>E101,E99<F102,E99>E102,E99<F103,E99>E103),"Table occupé","Non décroché"),"") | H99: =IF(G99="Non décroché",IF(OR(AND(E100<E99,F100>E99,A100=A99),AND(E101<E99,F101>E99,A101=A99),AND(E102<E99,F102>E99,A102=A99),AND(E103<E99,F103>E99,A103=A99)),"Occupé","Disponible"),"")
A100: fille C | B100: 0 | C100: 0.459433 | D100: Reçus | E100: 42613.459 | F100: =E100+B100 -> 42613.459 | G100: =IF(D100="Perdu",IF(AND(E100<F101,E100>E101,E100<F102,E100>E102,E100<F103,E100>E103,E100<F104,E100>E104),"Table occupé","Non décroché"),"") | H100: =IF(G100="Non décroché",IF(OR(AND(E101<E100,F101>E100,A101=A100),AND(E102<E100,F102>E100,A102=A100),AND(E103<E100,F103>E100,A103=A100),AND(E104<E100,F104>E100,A104=A100)),"Occupé","Disponible"),"")
A101: fille A | B101: 0.00088 | C101: 0.459375 | D101: Emis | E101: 42613.458 | F101: =E101+B101 -> 42613.459 | G101: =IF(D101="Perdu",IF(AND(E101<F102,E101>E102,E101<F103,E101>E103,E101<F104,E101>E104,E101<F105,E101>E105),"Table occupé","Non décroché"),"") | H101: =IF(G101="Non décroché",IF(OR(AND(E102<E101,F102>E101,A102=A101),AND(E103<E101,F103>E101,A103=A101),AND(E104<E101,F104>E101,A104=A101),AND(E105<E101,F105>E101,A105=A101)),"Occupé","Disponible"),"")
A102: fille B | B102: 0.0014 | C102: 0.459097 | D102: Emis | E102: 42613.458 | F102: =E102+B102 -> 42613.459 | G102: =IF(D102="Perdu",IF(AND(E102<F103,E102>E103,E102<F104,E102>E104,E102<F105,E102>E105,E102<F106,E102>E106),"Table occupé","Non décroché"),"") | H102: =IF(G102="Non décroché",IF(OR(AND(E103<E102,F103>E102,A103=A102),AND(E104<E102,F104>E102,A104=A102),AND(E105<E102,F105>E102,A105=A102),AND(E106<E102,F106>E102,A106=A102)),"Occupé","Disponible"),"")
A103: fille B | B103: 5.8e-05 | C103: 0.457303 | D103: Reçus | E103: 42613.457 | F103: =E103+B103 -> 42613.457 | G103: =IF(D103="Perdu",IF(AND(E103<F104,E103>E104,E103<F105,E103>E105,E103<F106,E103>E106,E103<F107,E103>E107),"Table occupé","Non décroché"),"") | H103: =IF(G103="Non décroché",IF(OR(AND(E104<E103,F104>E103,A104=A103),AND(E105<E103,F105>E103,A105=A103),AND(E106<E103,F106>E103,A106=A103),AND(E107<E103,F107>E103,A107=A103)),"Occupé","Disponible"),"")
A104: fille B | B104: 0 | C104: 0.456944 | D104: Reçus | E104: 42613.457 | F104: =E104+B104 -> 42613.457 | G104: =IF(D104="Perdu",IF(AND(E104<F105,E104>E105,E104<F106,E104>E106,E104<F107,E104>E107,E104<F108,E104>E108),"Table occupé","Non décroché"),"") | H104: =IF(G104="Non décroché",IF(OR(AND(E105<E104,F105>E104,A105=A104),AND(E106<E104,F106>E104,A106=A104),AND(E107<E104,F107>E104,A107=A104),AND(E108<E104,F108>E104,A108=A104)),"Occupé","Disponible"),"")
A105: fille A | B105: 0.000602 | C105: 0.45382 | D105: Reçus | E105: 42613.453 | F105: =E105+B105 -> 42613.454 | G105: =IF(D105="Perdu",IF(AND(E105<F106,E105>E106,E105<F107,E105>E107,E105<F108,E105>E108,E105<F109,E105>E109),"Table occupé","Non décroché"),"") | H105: =IF(G105="Non décroché",IF(OR(AND(E106<E105,F106>E105,A106=A105),AND(E107<E105,F107>E105,A107=A105),AND(E108<E105,F108>E105,A108=A105),AND(E109<E105,F109>E105,A109=A105)),"Occupé","Disponible"),"")
...
