Workbook

Sheet Semaine 1
G1: VILLE DE GRAND QUEVILLY
E3: Cuisine | G3: VS
E5: ENTREES | K5: SORTIES
A7: DENREE | B7: STOCK | C7: lundi | D7: mardi | E7: mercredi | F7: jeudi | G7: vendredi | H7: TOTAL | I7: lundi | J7: mardi | K7: mercredi | L7: jeudi | M7: vendredi | N7: TOTAL | O7: STOCK
G8: PRODUITS LAITIERS 1
A10: Babybel | B10: ='[1]Semaine 5'!O10 -> 0 | H10: =SUM(B10:G10) -> 0 | N10: =SUM(I10:M10) -> 0 | O10: =H10-N10 -> 0
A11: Beurre | B11: ='[1]Semaine 5'!O11 -> 27.25 | H11: =SUM(B11:G11) -> 27.25 | N11: =SUM(I11:M11) -> 0 | O11: =H11-N11 -> 27.25
A12: Beurre ind | B12: ='[1]Semaine 5'!O12 -> 4 | H12: =SUM(B12:G12) -> 4 | N12: =SUM(I12:M12) -> 0 | O12: =H12-N12 -> 4
A13: Bleu | B13: ='[1]Semaine 5'!O13 -> 0 | H13: =SUM(B13:G13) -> 0 | N13: =SUM(I13:M13) -> 0 | O13: =H13-N13 -> 0
A14: Bonde de bray | B14: ='[1]Semaine 5'!O14 -> 0 | H14: =SUM(B14:G14) -> 0 | N14: =SUM(I14:M14) -> 0 | O14: =H14-N14 -> 0
A15: Brie | B15: ='[1]Semaine 5'!O15 -> 0 | H15: =SUM(B15:G15) -> 0 | N15: =SUM(I15:M15) -> 0 | O15: =H15-N15 -> 0
A16: Camenbert | B16: ='[1]Semaine 5'!O16 -> 206 | H16: =SUM(B16:G16) -> 206 | N16: =SUM(I16:M16) -> 0 | O16: =H16-N16 -> 206
A17: Chanteneige | B17: ='[1]Semaine 5'!O17 -> 78 | H17: =SUM(B17:G17) -> 78 | N17: =SUM(I17:M17) -> 0 | O17: =H17-N17 -> 78
A18: Chevre | B18: ='[1]Semaine 5'!O18 -> 3 | H18: =SUM(B18:G18) -> 3 | N18: =SUM(I18:M18) -> 0 | O18: =H18-N18 -> 3
A19: Crème épaisse | B19: ='[1]Semaine 5'!O19 -> 15 | H19: =SUM(B19:G19) -> 15 | N19: =SUM(I19:M19) -> 0 | O19: =H19-N19 -> 15
A20: Creme pistache | B20: ='[1]Semaine 5'!O20 -> 0 | H20: =SUM(B20:G20) -> 0 | N20: =SUM(I20:M20) -> 0 | O20: =H20-N20 -> 0
A21: Creme renversee | B21: ='[1]Semaine 5'!O21 -> 0 | H21: =SUM(B21:G21) -> 0 | N21: =SUM(I21:M21) -> 0 | O21: =H21-N21 -> 0
... A54: Yaourt semoule | B54: ='[1]Semaine 5'!O54 -> 0 | H54: =SUM(B54:G54) -> 0 | N54: =SUM(I54:M54) -> 0 | O54: =H54-N54 -> 0
A55: ='[1]Semaine 5'!A55 -> carre de lest | B55: ='[1]Semaine 5'!O55 -> 0 | H55: =SUM(B55:G55) -> 0 | N55: =SUM(I55:M55) -> 0 | O55: =H55-N55 -> 0
A56: ='[1]Semaine 5'!A56 -> kiri | B56: ='[1]Semaine 5'!O56 -> 560 | H56: =SUM(B56:G56) -> 560 | N56: =SUM(I56:M56) -> 0 | O56: =H56-N56 -> 560
A57: ='[1]Semaine 5'!A57 -> yaourt sucre | B57: ='[1]Semaine 5'!O57 -> 0 | H57: =SUM(B57:G57) -> 0 | N57: =SUM(I57:M57) -> 0 | O57: =H57-N57 -> 0
A58: ='[1]Semaine 5'!A58 -> liegeois cafe | B58: ='[1]Semaine 5'!O58 -> 0 | H58: =SUM(B58:G58) -> 0 | N58: =SUM(I58:M58) -> 0 | O58: =H58-N58 -> 0
A59: ='[1]Semaine 5'!A59 -> creme caramel | B59: ='[1]Semaine 5'!O59 -> 0 | H59: =SUM(B59:G59) -> 0 | N59: =SUM(I59:M59) -> 0 | O59: =H59-N59 -> 0
A60: ='[1]Semaine 5'!A60 -> creme vanille | B60: ='[1]Semaine 5'!O60 -> 0 | H60: =SUM(B60:G60) -> 0 | N60: =SUM(I60:M60) -> 0 | O60: =H60-N60 -> 0
A61: ='[1]Semaine 5'!A61 -> riz au lait nature | B61: ='[1]Semaine 5'!O61 -> 8 | H61: =SUM(B61:G61) -> 8 | N61: =SUM(I61:M61) -> 0 | O61: =H61-N61 -> 8
A62: ='[1]Semaine 5'!A62 -> chantilly | B62: ='[1]Semaine 5'!O62 -> 1 | H62: =SUM(B62:G62) -> 1 | N62: =SUM(I62:M62) -> 0 | O62: =H62-N62 -> 1
A63: ='[1]Semaine 5'!A63 -> port salut | B63: ='[1]Semaine 5'!O63 -> 0 | H63: =SUM(B63:G63) -> 0 | N63: =SUM(I63:M63) -> 0 | O63: =H63-N63 -> 0
A64: ='[1]Semaine 5'!A64 -> rouy | B64: ='[1]Semaine 5'!O64 -> 0 | H64: =SUM(B64:G64) -> 0 | N64: =SUM(I64:M64) -> 0 | O64: =H64-N64 -> 0
A65: ='[1]Semaine 5'!A65 -> œuf poche | B65: ='[1]Semaine 5'!O65 -> 0 | H65: =SUM(B65:G65) -> 0 | N65: =SUM(I65:M65) -> 0 | O65: =H65-N65 -> 0
A66: ='[1]Semaine 5'!A66 -> mimolette | B66: ='[1]Semaine 5'!O66 -> 0 | H66: =SUM(B66:G66) -> 0 | N66: =SUM(I66:M66) -> 0 | O66: =H66-N66 -> 0
E73: ENTREES | K73: SORTIES
A75: DENREE | B75: STOCK | C75: lundi | D75: mardi | E75: mercredi | F75: jeudi | G75: vendredi | H75: TOTAL | I75: lundi | J75: mardi | K75: mercredi | L75: jeudi | M75: vendredi | N75: TOTAL | O75: STOCK
G76: PRODUITS LAITIERS 2
A78: ='[1]Semaine 5'!A78 -> danette choconoisette | B78: ='[1]Semaine 5'!O78 -> 0 | H78: =SUM(B78:G78) -> 0 | N78: =SUM(I78:M78) -> 0 | O78: =H78-N78 -> 0
A79: ='[1]Semaine 5'!A79 -> mozarella | B79: ='[1]Semaine 5'!O79 -> 0 | H79: =SUM(B79:G79) -> 0 | N79: =SUM(I79:M79) -> 0 | O79: =H79-N79 -> 0
A80: ='[1]Semaine 5'!A80 -> pointe de brie | B80: ='[1]Semaine 5'!O80 -> 0 | H80: =SUM(B80:G80) -> 0 | N80: =SUM(I80:M80) -> 0 | O80: =H80-N80 -> 0
A81: ='[1]Semaine 5'!A81 -> emmental 250gr | B81: ='[1]Semaine 5'!O81 -> 0 | H81: =SUM(B81:G81) -> 0 | N81: =SUM(I81:M81) -> 0 | O81: =H81-N81 -> 0
A82: ='[1]Semaine 5'!A82 -> harengt 600gr | B82: ='[1]Semaine 5'!O82 -> 0 | H82: =SUM(B82:G82) -> 0 | N82: =SUM(I82:M82) -> 0 | O82: =H82-N82 -> 0
A83: ='[1]Semaine 5'!A83 -> emmental rape | B83: ='[1]Semaine 5'!O83 -> 0 | H83: =SUM(B83:G83) -> 0 | N83: =SUM(I83:M83) -> 0 | O83: =H83-N83 -> 0
A84: ='[1]Semaine 5'!A84 -> danette pistache | B84: ='[1]Semaine 5'!O84 -> 0 | H84: =SUM(B84:G84) -> 0 | N84: =SUM(I84:M84) -> 0 | O84: =H84-N84 -> 0
...

Sheet Semaine 2
G1: VILLE DE GRAND QUEVILLY
E3: Cuisine | G3: VS
E5: ENTREES | K5: SORTIES
A7: DENREE | B7: STOCK | C7: lundi | D7: mardi | E7: mercredi | F7: jeudi | G7: vendredi | H7: TOTAL | I7: lundi | J7: mardi | K7: mercredi | L7: jeudi | M7: vendredi | N7: TOTAL | O7: STOCK
G8: PRODUITS LAITIERS 1
A10: Babybel | B10: =SUM('Semaine 1'!O10) -> 0 | H10: =SUM(B10:G10) -> 0 | N10: =SUM(I10:M10) -> 0 | O10: =H10-N10 -> 0
A11: Beurre | B11: =SUM('Semaine 1'!O11) -> 27.25 | H11: =SUM(B11:G11) -> 27.25 | N11: =SUM(I11:M11) -> 0 | O11: =H11-N11 -> 27.25
A12: Beurre ind | B12: =SUM('Semaine 1'!O12) -> 4 | H12: =SUM(B12:G12) -> 4 | N12: =SUM(I12:M12) -> 0 | O12: =H12-N12 -> 4
A13: Bleu | B13: =SUM('Semaine 1'!O13) -> 0 | H13: =SUM(B13:G13) -> 0 | N13: =SUM(I13:M13) -> 0 | O13: =H13-N13 -> 0
A14: Bonde de bray | B14: =SUM('Semaine 1'!O14) -> 0 | H14: =SUM(B14:G14) -> 0 | N14: =SUM(I14:M14) -> 0 | O14: =H14-N14 -> 0
A15: Brie | B15: =SUM('Semaine 1'!O15) -> 0 | H15: =SUM(B15:G15) -> 0 | N15: =SUM(I15:M15) -> 0 | O15: =H15-N15 -> 0
A16: Camenbert | B16: =SUM('Semaine 1'!O16) -> 206 | H16: =SUM(B16:G16) -> 206 | N16: =SUM(I16:M16) -> 0 | O16: =H16-N16 -> 206
A17: Chanteneige | B17: =SUM('Semaine 1'!O17) -> 78 | H17: =SUM(B17:G17) -> 78 | N17: =SUM(I17:M17) -> 0 | O17: =H17-N17 -> 78
A18: Chevre | B18: =SUM('Semaine 1'!O18) -> 3 | H18: =SUM(B18:G18) -> 3 | N18: =SUM(I18:M18) -> 0 | O18: =H18-N18 -> 3
A19: Crème épaisse | B19: =SUM('Semaine 1'!O19) -> 15 | H19: =SUM(B19:G19) -> 15 | N19: =SUM(I19:M19) -> 0 | O19: =H19-N19 -> 15
A20: Creme pistache | B20: =SUM('Semaine 1'!O20) -> 0 | H20: =SUM(B20:G20) -> 0 | N20: =SUM(I20:M20) -> 0 | O20: =H20-N20 -> 0
A21: Creme renversee | B21: =SUM('Semaine 1'!O21) -> 0 | H21: =SUM(B21:G21) -> 0 | N21: =SUM(I21:M21) -> 0 | O21: =H21-N21 -> 0
... A54: Yaourt semoule | B54: =SUM('Semaine 1'!O54) -> 0 | H54: =SUM(B54:G54) -> 0 | N54: =SUM(I54:M54) -> 0 | O54: =H54-N54 -> 0
A55: ='Semaine 1'!A55 -> carre de lest | B55: =SUM('Semaine 1'!O55) -> 0 | H55: =SUM(B55:G55) -> 0 | N55: =SUM(I55:M55) -> 0 | O55: =H55-N55 -> 0
A56: ='Semaine 1'!A56 -> kiri | B56: =SUM('Semaine 1'!O56) -> 560 | H56: =SUM(B56:G56) -> 560 | N56: =SUM(I56:M56) -> 0 | O56: =H56-N56 -> 560
A57: ='Semaine 1'!A57 -> yaourt sucre | B57: =SUM('Semaine 1'!O57) -> 0 | H57: =SUM(B57:G57) -> 0 | N57: =SUM(I57:M57) -> 0 | O57: =H57-N57 -> 0
A58: ='Semaine 1'!A58 -> liegeois cafe | B58: =SUM('Semaine 1'!O58) -> 0 | H58: =SUM(B58:G58) -> 0 | N58: =SUM(I58:M58) -> 0 | O58: =H58-N58 -> 0
A59: ='Semaine 1'!A59 -> creme caramel | B59: =SUM('Semaine 1'!O59) -> 0 | H59: =SUM(B59:G59) -> 0 | N59: =SUM(I59:M59) -> 0 | O59: =H59-N59 -> 0
A60: ='Semaine 1'!A60 -> creme vanille | B60: =SUM('Semaine 1'!O60) -> 0 | H60: =SUM(B60:G60) -> 0 | N60: =SUM(I60:M60) -> 0 | O60: =H60-N60 -> 0
A61: ='Semaine 1'!A61 -> riz au lait nature | B61: =SUM('Semaine 1'!O61) -> 8 | H61: =SUM(B61:G61) -> 8 | N61: =SUM(I61:M61) -> 0 | O61: =H61-N61 -> 8
A62: ='Semaine 1'!A62 -> chantilly | B62: =SUM('Semaine 1'!O62) -> 1 | H62: =SUM(B62:G62) -> 1 | N62: =SUM(I62:M62) -> 0 | O62: =H62-N62 -> 1
A63: ='Semaine 1'!A63 -> port salut | B63: =SUM('Semaine 1'!O63) -> 0 | H63: =SUM(B63:G63) -> 0 | N63: =SUM(I63:M63) -> 0 | O63: =H63-N63 -> 0
A64: ='Semaine 1'!A64 -> rouy | B64: =SUM('Semaine 1'!O64) -> 0 | H64: =SUM(B64:G64) -> 0 | N64: =SUM(I64:M64) -> 0 | O64: =H64-N64 -> 0
A65: ='Semaine 1'!A65 -> œuf poche | B65: =SUM('Semaine 1'!O65) -> 0 | H65: =SUM(B65:G65) -> 0 | N65: =SUM(I65:M65) -> 0 | O65: =H65-N65 -> 0
A66: ='Semaine 1'!A66 -> mimolette | B66: =SUM('Semaine 1'!O66) -> 0 | H66: =SUM(B66:G66) -> 0 | N66: =SUM(I66:M66) -> 0 | O66: =H66-N66 -> 0
E73: ENTREES | K73: SORTIES
A75: DENREE | B75: STOCK | C75: lundi | D75: mardi | E75: mercredi | F75: jeudi | G75: vendredi | H75: TOTAL | I75: lundi | J75: mardi | K75: mercredi | L75: jeudi | M75: vendredi | N75: TOTAL | O75: STOCK
G76: PRODUITS LAITIERS 2
A78: ='Semaine 1'!A78 -> danette choconoisette | B78: =SUM('Semaine 1'!O78) -> 0 | H78: =SUM(B78:G78) -> 0 | N78: =SUM(I78:M78) -> 0 | O78: =H78-N78 -> 0
A79: ='Semaine 1'!A79 -> mozarella | B79: =SUM('Semaine 1'!O79) -> 0 | H79: =SUM(B79:G79) -> 0 | N79: =SUM(I79:M79) -> 0 | O79: =H79-N79 -> 0
A80: ='Semaine 1'!A80 -> pointe de brie | B80: =SUM('Semaine 1'!O80) -> 0 | H80: =SUM(B80:G80) -> 0 | N80: =SUM(I80:M80) -> 0 | O80: =H80-N80 -> 0
A81: ='Semaine 1'!A81 -> emmental 250gr | B81: =SUM('Semaine 1'!O81) -> 0 | H81: =SUM(B81:G81) -> 0 | N81: =SUM(I81:M81) -> 0 | O81: =H81-N81 -> 0
A82: ='Semaine 1'!A82 -> harengt 600gr | B82: =SUM('Semaine 1'!O82) -> 0 | H82: =SUM(B82:G82) -> 0 | N82: =SUM(I82:M82) -> 0 | O82: =H82-N82 -> 0
A83: ='Semaine 1'!A83 -> emmental rape | B83: =SUM('Semaine 1'!O83) -> 0 | H83: =SUM(B83:G83) -> 0 | N83: =SUM(I83:M83) -> 0 | O83: =H83-N83 -> 0
A84: ='Semaine 1'!A84 -> danette pistache | B84: =SUM('Semaine 1'!O84) -> 0 | H84: =SUM(B84:G84) -> 0 | N84: =SUM(I84:M84) -> 0 | O84: =H84-N84 -> 0
...

Sheet Semaine 3
G1: VILLE DE GRAND QUEVILLY
E3: Cuisine | G3: VS
E5: ENTREES | K5: SORTIES
A7: DENREE | B7: STOCK | C7: lundi | D7: mardi | E7: mercredi | F7: jeudi | G7: vendredi | H7: TOTAL | I7: lundi | J7: mardi | K7: mercredi | L7: jeudi | M7: vendredi | N7: TOTAL | O7: STOCK
G8: PRODUITS LAITIERS 1
A10: Babybel | B10: =SUM('Semaine 2'!O10) -> 0 | H10: =SUM(B10:G10) -> 0 | N10: =SUM(I10:M10) -> 0 | O10: =H10-N10 -> 0
A11: Beurre | B11: =SUM('Semaine 2'!O11) -> 27.25 | H11: =SUM(B11:G11) -> 27.25 | N11: =SUM(I11:M11) -> 0 | O11: =H11-N11 -> 27.25
A12: Beurre ind | B12: =SUM('Semaine 2'!O12) -> 4 | H12: =SUM(B12:G12) -> 4 | N12: =SUM(I12:M12) -> 0 | O12: =H12-N12 -> 4
A13: Bleu | B13: =SUM('Semaine 2'!O13) -> 0 | H13: =SUM(B13:G13) -> 0 | N13: =SUM(I13:M13) -> 0 | O13: =H13-N13 -> 0
A14: Bonde de bray | B14: =SUM('Semaine 2'!O14) -> 0 | H14: =SUM(B14:G14) -> 0 | N14: =SUM(I14:M14) -> 0 | O14: =H14-N14 -> 0
A15: Brie | B15: =SUM('Semaine 2'!O15) -> 0 | H15: =SUM(B15:G15) -> 0 | N15: =SUM(I15:M15) -> 0 | O15: =H15-N15 -> 0
A16: Camenbert | B16: =SUM('Semaine 2'!O16) -> 206 | H16: =SUM(B16:G16) -> 206 | N16: =SUM(I16:M16) -> 0 | O16: =H16-N16 -> 206
A17: Chanteneige | B17: =SUM('Semaine 2'!O17) -> 78 | H17: =SUM(B17:G17) -> 78 | N17: =SUM(I17:M17) -> 0 | O17: =H17-N17 -> 78
A18: Chevre | B18: =SUM('Semaine 2'!O18) -> 3 | H18: =SUM(B18:G18) -> 3 | N18: =SUM(I18:M18) -> 0 | O18: =H18-N18 -> 3
A19: Crème épaisse | B19: =SUM('Semaine 2'!O19) -> 15 | H19: =SUM(B19:G19) -> 15 | N19: =SUM(I19:M19) -> 0 | O19: =H19-N19 -> 15
A20: Creme pistache | B20: =SUM('Semaine 2'!O20) -> 0 | H20: =SUM(B20:G20) -> 0 | N20: =SUM(I20:M20) -> 0 | O20: =H20-N20 -> 0
A21: Creme renversee | B21: =SUM('Semaine 2'!O21) -> 0 | H21: =SUM(B21:G21) -> 0 | N21: =SUM(I21:M21) -> 0 | O21: =H21-N21 -> 0
... A54: Yaourt semoule | B54: =SUM('Semaine 2'!O54) -> 0 | H54: =SUM(B54:G54) -> 0 | N54: =SUM(I54:M54) -> 0 | O54: =H54-N54 -> 0
A55: ='Semaine 2'!A55 -> carre de lest | B55: =SUM('Semaine 2'!O55) -> 0 | H55: =SUM(B55:G55) -> 0 | N55: =SUM(I55:M55) -> 0 | O55: =H55-N55 -> 0
A56: ='Semaine 2'!A56 -> kiri | B56: =SUM('Semaine 2'!O56) -> 560 | H56: =SUM(B56:G56) -> 560 | N56: =SUM(I56:M56) -> 0 | O56: =H56-N56 -> 560
A57: ='Semaine 2'!A57 -> yaourt sucre | B57: =SUM('Semaine 2'!O57) -> 0 | H57: =SUM(B57:G57) -> 0 | N57: =SUM(I57:M57) -> 0 | O57: =H57-N57 -> 0
A58: ='Semaine 2'!A58 -> liegeois cafe | B58: =SUM('Semaine 2'!O58) -> 0 | H58: =SUM(B58:G58) -> 0 | N58: =SUM(I58:M58) -> 0 | O58: =H58-N58 -> 0
A59: ='Semaine 2'!A59 -> creme caramel | B59: =SUM('Semaine 2'!O59) -> 0 | H59: =SUM(B59:G59) -> 0 | N59: =SUM(I59:M59) -> 0 | O59: =H59-N59 -> 0
A60: ='Semaine 2'!A60 -> creme vanille | B60: =SUM('Semaine 2'!O60) -> 0 | H60: =SUM(B60:G60) -> 0 | N60: =SUM(I60:M60) -> 0 | O60: =H60-N60 -> 0
A61: ='Semaine 2'!A61 -> riz au lait nature | B61: =SUM('Semaine 2'!O61) -> 8 | H61: =SUM(B61:G61) -> 8 | N61: =SUM(I61:M61) -> 0 | O61: =H61-N61 -> 8
A62: ='Semaine 2'!A62 -> chantilly | B62: =SUM('Semaine 2'!O62) -> 1 | H62: =SUM(B62:G62) -> 1 | N62: =SUM(I62:M62) -> 0 | O62: =H62-N62 -> 1
A63: ='Semaine 2'!A63 -> port salut | B63: =SUM('Semaine 2'!O63) -> 0 | H63: =SUM(B63:G63) -> 0 | N63: =SUM(I63:M63) -> 0 | O63: =H63-N63 -> 0
A64: ='Semaine 2'!A64 -> rouy | B64: =SUM('Semaine 2'!O64) -> 0 | H64: =SUM(B64:G64) -> 0 | N64: =SUM(I64:M64) -> 0 | O64: =H64-N64 -> 0
A65: ='Semaine 2'!A65 -> œuf poche | B65: =SUM('Semaine 2'!O65) -> 0 | H65: =SUM(B65:G65) -> 0 | N65: =SUM(I65:M65) -> 0 | O65: =H65-N65 -> 0
A66: ='Semaine 2'!A66 -> mimolette | B66: =SUM('Semaine 2'!O66) -> 0 | H66: =SUM(B66:G66) -> 0 | N66: =SUM(I66:M66) -> 0 | O66: =H66-N66 -> 0
E73: ENTREES | K73: SORTIES
A75: DENREE | B75: STOCK | C75: lundi | D75: mardi | E75: mercredi | F75: jeudi | G75: vendredi | H75: TOTAL | I75: lundi | J75: mardi | K75: mercredi | L75: jeudi | M75: vendredi | N75: TOTAL | O75: STOCK
G76: PRODUITS LAITIERS 2
A78: ='Semaine 2'!A78 -> danette choconoisette | B78: =SUM('Semaine 2'!O78) -> 0 | H78: =SUM(B78:G78) -> 0 | N78: =SUM(I78:M78) -> 0 | O78: =H78-N78 -> 0
A79: ='Semaine 2'!A79 -> mozarella | B79: =SUM('Semaine 2'!O79) -> 0 | H79: =SUM(B79:G79) -> 0 | N79: =SUM(I79:M79) -> 0 | O79: =H79-N79 -> 0
A80: ='Semaine 2'!A80 -> pointe de brie | B80: =SUM('Semaine 2'!O80) -> 0 | H80: =SUM(B80:G80) -> 0 | N80: =SUM(I80:M80) -> 0 | O80: =H80-N80 -> 0
A81: ='Semaine 2'!A81 -> emmental 250gr | B81: =SUM('Semaine 2'!O81) -> 0 | H81: =SUM(B81:G81) -> 0 | N81: =SUM(I81:M81) -> 0 | O81: =H81-N81 -> 0
A82: ='Semaine 2'!A82 -> harengt 600gr | B82: =SUM('Semaine 2'!O82) -> 0 | H82: =SUM(B82:G82) -> 0 | N82: =SUM(I82:M82) -> 0 | O82: =H82-N82 -> 0
A83: ='Semaine 2'!A83 -> emmental rape | B83: =SUM('Semaine 2'!O83) -> 0 | H83: =SUM(B83:G83) -> 0 | N83: =SUM(I83:M83) -> 0 | O83: =H83-N83 -> 0
A84: ='Semaine 2'!A84 -> danette pistache | B84: =SUM('Semaine 2'!O84) -> 0 | H84: =SUM(B84:G84) -> 0 | N84: =SUM(I84:M84) -> 0 | O84: =H84-N84 -> 0
...

Sheet Semaine 4
G1: VILLE DE GRAND QUEVILLY
E3: Cuisine | G3: VS
E5: ENTREES | K5: SORTIES
A7: DENREE | B7: STOCK | C7: lundi | D7: mardi | E7: mercredi | F7: jeudi | G7: vendredi | H7: TOTAL | I7: lundi | J7: mardi | K7: mercredi | L7: jeudi | M7: vendredi | N7: TOTAL | O7: STOCK
G8: PRODUITS LAITIERS 1
A10: Babybel | B10: =SUM('Semaine 3'!O10) -> 0 | H10: =SUM(B10:G10) -> 0 | N10: =SUM(I10:M10) -> 0 | O10: =H10-N10 -> 0
A11: Beurre | B11: =SUM('Semaine 3'!O11) -> 27.25 | H11: =SUM(B11:G11) -> 27.25 | N11: =SUM(I11:M11) -> 0 | O11: =H11-N11 -> 27.25
A12: Beurre ind | B12: =SUM('Semaine 3'!O12) -> 4 | H12: =SUM(B12:G12) -> 4 | N12: =SUM(I12:M12) -> 0 | O12: =H12-N12 -> 4
A13: Bleu | B13: =SUM('Semaine 3'!O13) -> 0 | H13: =SUM(B13:G13) -> 0 | N13: =SUM(I13:M13) -> 0 | O13: =H13-N13 -> 0
A14: Bonde de bray | B14: =SUM('Semaine 3'!O14) -> 0 | H14: =SUM(B14:G14) -> 0 | N14: =SUM(I14:M14) -> 0 | O14: =H14-N14 -> 0
A15: Brie | B15: =SUM('Semaine 3'!O15) -> 0 | H15: =SUM(B15:G15) -> 0 | N15: =SUM(I15:M15) -> 0 | O15: =H15-N15 -> 0
A16: Camenbert | B16: =SUM('Semaine 3'!O16) -> 206 | H16: =SUM(B16:G16) -> 206 | N16: =SUM(I16:M16) -> 0 | O16: =H16-N16 -> 206
A17: Chanteneige | B17: =SUM('Semaine 3'!O17) -> 78 | H17: =SUM(B17:G17) -> 78 | N17: =SUM(I17:M17) -> 0 | O17: =H17-N17 -> 78
A18: Chevre | B18: =SUM('Semaine 3'!O18) -> 3 | H18: =SUM(B18:G18) -> 3 | N18: =SUM(I18:M18) -> 0 | O18: =H18-N18 -> 3
A19: Crème épaisse | B19: =SUM('Semaine 3'!O19) -> 15 | H19: =SUM(B19:G19) -> 15 | N19: =SUM(I19:M19) -> 0 | O19: =H19-N19 -> 15
A20: Creme pistache | B20: =SUM('Semaine 3'!O20) -> 0 | H20: =SUM(B20:G20) -> 0 | N20: =SUM(I20:M20) -> 0 | O20: =H20-N20 -> 0
A21: Creme renversee | B21: =SUM('Semaine 3'!O21) -> 0 | H21: =SUM(B21:G21) -> 0 | N21: =SUM(I21:M21) -> 0 | O21: =H21-N21 -> 0
... A54: Yaourt semoule | B54: =SUM('Semaine 3'!O54) -> 0 | H54: =SUM(B54:G54) -> 0 | N54: =SUM(I54:M54) -> 0 | O54: =H54-N54 -> 0
A55: ='Semaine 3'!A55 -> carre de lest | B55: =SUM('Semaine 3'!O55) -> 0 | H55: =SUM(B55:G55) -> 0 | N55: =SUM(I55:M55) -> 0 | O55: =H55-N55 -> 0
A56: ='Semaine 3'!A56 -> kiri | B56: =SUM('Semaine 3'!O56) -> 560 | H56: =SUM(B56:G56) -> 560 | N56: =SUM(I56:M56) -> 0 | O56: =H56-N56 -> 560
A57: ='Semaine 3'!A57 -> yaourt sucre | B57: =SUM('Semaine 3'!O57) -> 0 | H57: =SUM(B57:G57) -> 0 | N57: =SUM(I57:M57) -> 0 | O57: =H57-N57 -> 0
A58: ='Semaine 3'!A58 -> liegeois cafe | B58: =SUM('Semaine 3'!O58) -> 0 | H58: =SUM(B58:G58) -> 0 | N58: =SUM(I58:M58) -> 0 | O58: =H58-N58 -> 0
A59: ='Semaine 3'!A59 -> creme caramel | B59: =SUM('Semaine 3'!O59) -> 0 | H59: =SUM(B59:G59) -> 0 | N59: =SUM(I59:M59) -> 0 | O59: =H59-N59 -> 0
A60: ='Semaine 3'!A60 -> creme vanille | B60: =SUM('Semaine 3'!O60) -> 0 | H60: =SUM(B60:G60) -> 0 | N60: =SUM(I60:M60) -> 0 | O60: =H60-N60 -> 0
A61: ='Semaine 3'!A61 -> riz au lait nature | B61: =SUM('Semaine 3'!O61) -> 8 | H61: =SUM(B61:G61) -> 8 | N61: =SUM(I61:M61) -> 0 | O61: =H61-N61 -> 8
A62: ='Semaine 3'!A62 -> chantilly | B62: =SUM('Semaine 3'!O62) -> 1 | H62: =SUM(B62:G62) -> 1 | N62: =SUM(I62:M62) -> 0 | O62: =H62-N62 -> 1
A63: ='Semaine 3'!A63 -> port salut | B63: =SUM('Semaine 3'!O63) -> 0 | H63: =SUM(B63:G63) -> 0 | N63: =SUM(I63:M63) -> 0 | O63: =H63-N63 -> 0
A64: ='Semaine 3'!A64 -> rouy | B64: =SUM('Semaine 3'!O64) -> 0 | H64: =SUM(B64:G64) -> 0 | N64: =SUM(I64:M64) -> 0 | O64: =H64-N64 -> 0
A65: ='Semaine 3'!A65 -> œuf poche | B65: =SUM('Semaine 3'!O65) -> 0 | H65: =SUM(B65:G65) -> 0 | N65: =SUM(I65:M65) -> 0 | O65: =H65-N65 -> 0
A66: ='Semaine 3'!A66 -> mimolette | B66: =SUM('Semaine 3'!O66) -> 0 | H66: =SUM(B66:G66) -> 0 | N66: =SUM(I66:M66) -> 0 | O66: =H66-N66 -> 0
E73: ENTREES | K73: SORTIES
A75: DENREE | B75: STOCK | C75: lundi | D75: mardi | E75: mercredi | F75: jeudi | G75: vendredi | H75: TOTAL | I75: lundi | J75: mardi | K75: mercredi | L75: jeudi | M75: vendredi | N75: TOTAL | O75: STOCK
G76: PRODUITS LAITIERS 2
A78: ='Semaine 3'!A78 -> danette choconoisette | B78: =SUM('Semaine 3'!O78) -> 0 | H78: =SUM(B78:G78) -> 0 | N78: =SUM(I78:M78) -> 0 | O78: =H78-N78 -> 0
A79: ='Semaine 3'!A79 -> mozarella | B79: =SUM('Semaine 3'!O79) -> 0 | H79: =SUM(B79:G79) -> 0 | N79: =SUM(I79:M79) -> 0 | O79: =H79-N79 -> 0
A80: ='Semaine 3'!A80 -> pointe de brie | B80: =SUM('Semaine 3'!O80) -> 0 | H80: =SUM(B80:G80) -> 0 | N80: =SUM(I80:M80) -> 0 | O80: =H80-N80 -> 0
A81: ='Semaine 3'!A81 -> emmental 250gr | B81: =SUM('Semaine 3'!O81) -> 0 | H81: =SUM(B81:G81) -> 0 | N81: =SUM(I81:M81) -> 0 | O81: =H81-N81 -> 0
A82: ='Semaine 3'!A82 -> harengt 600gr | B82: =SUM('Semaine 3'!O82) -> 0 | H82: =SUM(B82:G82) -> 0 | N82: =SUM(I82:M82) -> 0 | O82: =H82-N82 -> 0
A83: ='Semaine 3'!A83 -> emmental rape | B83: =SUM('Semaine 3'!O83) -> 0 | H83: =SUM(B83:G83) -> 0 | N83: =SUM(I83:M83) -> 0 | O83: =H83-N83 -> 0
A84: ='Semaine 3'!A84 -> danette pistache | B84: =SUM('Semaine 3'!O84) -> 0 | H84: =SUM(B84:G84) -> 0 | N84: =SUM(I84:M84) -> 0 | O84: =H84-N84 -> 0
...
