Workbook

Sheet Semaine 1
G1: VILLE DE GRAND QUEVILLY
E3: Cuisine | G3: VS
E5: ENTREES | K5: SORTIES
A7: DENREE | B7: STOCK | C7: lundi | D7: mardi | E7: mercredi | F7: jeudi | G7: vendredi | H7: TOTAL | I7: lundi | J7: mardi | K7: mercredi | L7: jeudi | M7: vendredi | N7: TOTAL | O7: STOCK
G8: PRODUITS LAITIERS 1
A10: Babybel | B10: ='[1]Semaine 5'!O10 -> 0 | H10: =SUM(B10:G10) -> 0 | N10: =SUM(I10:M10) -> 0 | O10: =H10-N10 -> 0
A11: Beurre | B11: ='[1]Semaine 5'!O11 -> 27.25 | H11: =SUM(B11:G11) -> 27.25 | N11: =SUM(I11:M11) -> 0 | O11: =H11-N11 -> 27.25
A12: Beurre ind | B12: ='[1]Semaine 5'!O12 -> 4 | H12: =SUM(B12:G12) -> 4 | N12: =SUM(I12:M12) -> 0 | O12: =H12-N12 -> 4
A13: Bleu | B13: ='[1]Semaine 5'!O13 -> 0 | H13: =SUM(B13:G13) -> 0 | N13: =SUM(I13:M13) -> 0 | O13: =H13-N13 -> 0
A14: Bonde de bray | B14: ='[1]Semaine 5'!O14 -> 0 | H14: =SUM(B14:G14) -> 0 | N14: =SUM(I14:M14) -> 0 | O14: =H14-N14 -> 0
A15: Brie | B15: ='[1]Semaine 5'!O15 -> 0 | H15: =SUM(B15:G15) -> 0 | N15: =SUM(I15:M15) -> 0 | O15: =H15-N15 -> 0
A16: Camenbert | B16: ='[1]Semaine 5'!O16 -> 206 | H16: =SUM(B16:G16) -> 206 | N16: =SUM(I16:M16) -> 0 | O16: =H16-N16 -> 206
A17: Chanteneige | B17: ='[1]Semaine 5'!O17 -> 78 | H17: =SUM(B17:G17) -> 78 | N17: =SUM(I17:M17) -> 0 | O17: =H17-N17 -> 78
A18: Chevre | B18: ='[1]Semaine 5'!O18 -> 3 | H18: =SUM(B18:G18) -> 3 | N18: =SUM(I18:M18) -> 0 | O18: =H18-N18 -> 3
A19: Crème épaisse | B19: ='[1]Semaine 5'!O19 -> 15 | H19: =SUM(B19:G19) -> 15 | N19: =SUM(I19:M19) -> 0 | O19: =H19-N19 -> 15
A20: Creme pistache | B20: ='[1]Semaine 5'!O20 -> 0 | H20: =SUM(B20:G20) -> 0 | N20: =SUM(I20:M20) -> 0 | O20: =H20-N20 -> 0
A21: Creme renversee | B21: ='[1]Semaine 5'!O21 -> 0 | H21: =SUM(B21:G21) -> 0 | N21: =SUM(I21:M21) -> 0 | O21: =H21-N21 -> 0
... A54: Yaourt semoule | B54: ='[1]Semaine 5'!O54 -> 0 | H54: =SUM(B54:G54) -> 0 | N54: =SUM(I54:M54) -> 0 | O54: =H54-N54 -> 0
A55: ='[1]Semaine 5'!A55 -> carre de lest | B55: ='[1]Semaine 5'!O55 -> 0 | H55: =SUM(B55:G55) -> 0 | N55: =SUM(I55:M55) -> 0 | O55: =H55-N55 -> 0
A56: ='[1]Semaine 5'!A56 -> kiri | B56: ='[1]Semaine 5'!O56 -> 560 | H56: =SUM(B56:G56) -> 560 | N56: =SUM(I56:M56) -> 0 | O56: =H56-N56 -> 560
A57: ='[1]Semaine 5'!A57 -> yaourt sucre | B57: ='[1]Semaine 5'!O57 -> 0 | H57: =SUM(B57:G57) -> 0 | N57: =SUM(I57:M57) -> 0 | O57: =H57-N57 -> 0
A58: ='[1]Semaine 5'!A58 -> liegeois cafe | B58: ='[1]Semaine 5'!O58 -> 0 | H58: =SUM(B58:G58) -> 0 | N58: =SUM(I58:M58) -> 0 | O58: =H58-N58 -> 0
A59: ='[1]Semaine 5'!A59 -> creme caramel | B59: ='[1]Semaine 5'!O59 -> 0 | H59: =SUM(B59:G59) -> 0 | N59: =SUM(I59:M59) -> 0 | O59: =H59-N59 -> 0
A60: ='[1]Semaine 5'!A60 -> creme vanille | B60: ='[1]Semaine 5'!O60 -> 0 | H60: =SUM(B60:G60) -> 0 | N60: =SUM(I60:M60) -> 0 | O60: =H60-N60 -> 0
A61: ='[1]Semaine 5'!A61 -> riz au lait nature | B61: ='[1]Semaine 5'!O61 -> 8 | H61: =SUM(B61:G61) -> 8 | N61: =SUM(I61:M61) -> 0 | O61: =H61-N61 -> 8
A62: ='[1]Semaine 5'!A62 -> chantilly | B62: ='[1]Semaine 5'!O62 -> 1 | H62: =SUM(B62:G62) -> 1 | N62: =SUM(I62:M62) -> 0 | O62: =H62-N62 -> 1
A63: ='[1]Semaine 5'!A63 -> port salut | B63: ='[1]Semaine 5'!O63 -> 0 | H63: =SUM(B63:G63) -> 0 | N63: =SUM(I63:M63) -> 0 | O63: =H63-N63 -> 0
A64: ='[1]Semaine 5'!A64 -> rouy | B64: ='[1]Semaine 5'!O64 -> 0 | H64: =SUM(B64:G64) -> 0 | N64: =SUM(I64:M64) -> 0 | O64: =H64-N64 -> 0
A65: ='[1]Semaine 5'!A65 -> œuf poche | B65: ='[1]Semaine 5'!O65 -> 0 | H65: =SUM(B65:G65) -> 0 | N65: =SUM(I65:M65) -> 0 | O65: =H65-N65 -> 0
A66: ='[1]Semaine 5'!A66 -> mimolette | B66: ='[1]Semaine 5'!O66 -> 0 | H66: =SUM(B66:G66) -> 0 | N66: =SUM(I66:M66) -> 0 | O66: =H66-N66 -> 0
E73: ENTREES | K73: SORTIES
A75: DENREE | B75: STOCK | C75: lundi | D75: mardi | E75: mercredi | F75: jeudi | G75: vendredi | H75: TOTAL | I75: lundi | J75: mardi | K75: mercredi | L75: jeudi | M75: vendredi | N75: TOTAL | O75: STOCK
G76: PRODUITS LAITIERS 2
A78: ='[1]Semaine 5'!A78 -> danette choconoisette | B78: ='[1]Semaine 5'!O78 -> 0 | H78: =SUM(B78:G78) -> 0 | N78: =SUM(I78:M78) -> 0 | O78: =H78-N78 -> 0
A79: ='[1]Semaine 5'!A79 -> mozarella | B79: ='[1]Semaine 5'!O79 -> 0 | H79: =SUM(B79:G79) -> 0 | N79: =SUM(I79:M79) -> 0 | O79: =H79-N79 -> 0
A80: ='[1]Semaine 5'!A80 -> pointe de brie | B80: ='[1]Semaine 5'!O80 -> 0 | H80: =SUM(B80:G80) -> 0 | N80: =SUM(I80:M80) -> 0 | O80: =H80-N80 -> 0
A81: ='[1]Semaine 5'!A81 -> emmental 250gr | B81: ='[1]Semaine 5'!O81 -> 0 | H81: =SUM(B81:G81) -> 0 | N81: =SUM(I81:M81) -> 0 | O81: =H81-N81 -> 0
A82: ='[1]Semaine 5'!A82 -> harengt 600gr | B82: ='[1]Semaine 5'!O82 -> 0 | H82: =SUM(B82:G82) -> 0 | N82: =SUM(I82:M82) -> 0 | O82: =H82-N82 -> 0
A83: ='[1]Semaine 5'!A83 -> emmental rape | B83: ='[1]Semaine 5'!O83 -> 0 | H83: =SUM(B83:G83) -> 0 | N83: =SUM(I83:M83) -> 0 | O83: =H83-N83 -> 0
A84: ='[1]Semaine 5'!A84 -> danette pistache | B84: ='[1]Semaine 5'!O84 -> 0 | H84: =SUM(B84:G84) -> 0 | N84: =SUM(I84:M84) -> 0 | O84: =H84-N84 -> 0
A85: ='[1]Semaine 5'!A85 -> creme anglaise | B85: ='[1]Semaine 5'!O85 -> 33 | H85: =SUM(B85:G85) -> 33 | N85: =SUM(I85:M85) -> 0 | O85: =H85-N85 -> 33
A86: ='[1]Semaine 5'!A86 -> coulommiers | B86: ='[1]Semaine 5'!O86 -> 0 | H86: =SUM(B86:G86) -> 0 | N86: =SUM(I86:M86) -> 0 | O86: =H86-N86 -> 0
A87: ='[1]Semaine 5'!A87 -> gouda piece | B87: ='[1]Semaine 5'!O87 -> 0 | H87: =SUM(B87:G87) -> 0 | N87: =SUM(I87:M87) -> 0 | O87: =H87-N87 -> 0
A88: ='[1]Semaine 5'!A88 -> creme praline | B88: ='[1]Semaine 5'!O88 -> 65 | H88: =SUM(B88:G88) -> 65 | N88: =SUM(I88:M88) -> 0 | O88: =H88-N88 -> 65
A89: ='[1]Semaine 5'!A89 -> flamby caramelouchoco | B89: ='[1]Semaine 5'!O89 -> 0 | H89: =SUM(B89:G89) -> 0 | N89: =SUM(I89:M89) -> 0 | O89: =H89-N89 -> 0
... A134: ='[1]Semaine 5'!A134 -> 0 | B134: ='[1]Semaine 5'!O134 -> 0 | H134: =SUM(B134:G134) -> 0 | N134: =SUM(I134:M134) -> 0 | O134: =H134-N134 -> 0
E138: ENTREES | K138: SORTIES
A140: DENREE | B140: STOCK | C140: lundi | D140: mardi | E140: mercredi | F140: jeudi | G140: vendredi | H140: TOTAL | I140: lundi | J140: mardi | K140: mercredi | L140: jeudi | M140: vendredi | N140: TOTAL | O140: STOCK
G141: EPICERIE 1
A143: Abricots au sirop 5/1 | B143: ='[1]Semaine 5'!O144 -> 0 | H143: =SUM(B143:G143) -> 0 | N143: =SUM(I143:M143) -> 0 | O143: =H143-N143 -> 0
A144: Aluminum | B144: ='[1]Semaine 5'!O145 -> 0 | H144: =SUM(B144:G144) -> 0 | N144: =SUM(I144:M144) -> 0 | O144: =H144-N144 -> 0
A145: Ananas au sirop 3/1 | B145: ='[1]Semaine 5'!O146 -> 5 | H145: =SUM(B145:G145) -> 5 | N145: =SUM(I145:M145) -> 0 | O145: =H145-N145 -> 5
A146: ananas couper 3/1 | B146: 5 | H146: =SUM(B146:G146) -> 5 | N146: =SUM(I146:M146) -> 0 | O146: =H146-N146 -> 5
A147: arome patrelle | B147: 0 | H147: =SUM(B147:G147) -> 0 | N147: =SUM(I147:M147) -> 0 | O147: =H147-N147 -> 0
A148: barre chocolat | B148: 61 | C148: 330 | H148: =SUM(B148:G148) -> 391 | N148: =SUM(I148:M148) -> 0 | O148: =H148-N148 -> 391
A149: basilic | B149: 0 | H149: =SUM(B149:G149) -> 0 | N149: =SUM(I149:M149) -> 0 | O149: =H149-N149 -> 0
A150: Bouillon de bœuf | B150: 0 | H150: =SUM(B150:G150) -> 0 | N150: =SUM(I150:M150) -> 0 | O150: =H150-N150 -> 0
A151: Bouillon de volaille | B151: 4 | H151: =SUM(B151:G151) -> 4 | N151: =SUM(I151:M151) -> 0 | O151: =H151-N151 -> 4
A152: Café moulu | B152: 22 | C152: 9 | H152: =SUM(B152:G152) -> 31 | N152: =SUM(I152:M152) -> 0 | O152: =H152-N152 -> 31
A153: cereale sac | B153: 0 | C153: 8 | H153: =SUM(B153:G153) -> 8 | N153: =SUM(I153:M153) -> 0 | O153: =H153-N153 -> 8
A154: cidre | B154: 3 | C154: 12 | H154: =SUM(B154:G154) -> 15 | N154: =SUM(I154:M154) -> 0 | O154: =H154-N154 -> 15
A155: Cocktail de fruits 5/1 | B155: 6 | H155: =SUM(B155:G155) -> 6 | N155: =SUM(I155:M155) -> 0 | O155: =H155-N155 -> 6
A156: Compote poires 5/1 | B156: 3 | H156: =SUM(B156:G156) -> 3 | N156: =SUM(I156:M156) -> 0 | O156: =H156-N156 -> 3
A157: compote pom mad | B157: 0 | H157: =SUM(B157:G157) -> 0 | N157: =SUM(I157:M157) -> 0 | O157: =H157-N157 -> 0
A158: compote pomme ind | B158: 274 | C158: 360 | H158: =SUM(B158:G158) -> 634 | N158: =SUM(I158:M158) -> 0 | O158: =H158-N158 -> 634
A159: Compote pomme pat | B159: 0 | H159: =SUM(B159:G159) -> 0 | N159: =SUM(I159:M159) -> 0 | O159: =H159-N159 -> 0
A160: Conc.tomates 4/4 | B160: 5 | C160: 12 | H160: =SUM(B160:G160) -> 17 | I160: 2 | N160: =SUM(I160:M160) -> 2 | O160: =H160-N160 -> 15
A161: conc.tomates 5/1 | B161: 2 | C161: 3 | H161: =SUM(B161:G161) -> 5 | I161: 1 | N161: =SUM(I161:M161) -> 1 | O161: =H161-N161 -> 4
A162: confiture | B162: 68 | C162: 120 | H162: =SUM(B162:G162) -> 188 | N162: =SUM(I162:M162) -> 0 | O162: =H162-N162 -> 188
A163: Coquillette | B163: 11 | H163: =SUM(B163:G163) -> 11 | N163: =SUM(I163:M163) -> 0 | O163: =H163-N163 -> 11
A164: cornichon | B164: 11 | C164: 3 | H164: =SUM(B164:G164) -> 14 | N164: =SUM(I164:M164) -> 0 | O164: =H164-N164 -> 14
A165: Couronnement ail | B165: 5 | H165: =SUM(B165:G165) -> 5 | N165: =SUM(I165:M165) -> 0 | O165: =H165-N165 -> 5
A166: couronnement basilic | B166: 1 | H166: =SUM(B166:G166) -> 1 | N166: =SUM(I166:M166) -> 0 | O166: =H166-N166 -> 1
A167: couronnement oignon | B167: 7 | H167: =SUM(B167:G167) -> 7 | N167: =SUM(I167:M167) -> 0 | O167: =H167-N167 -> 7
A168: Court bouillon | B168: 3 | H168: =SUM(B168:G168) -> 3 | N168: =SUM(I168:M168) -> 0 | O168: =H168-N168 -> 3
A169: creme anglaise | B169: 0 | H169: =SUM(B169:G169) -> 0 | N169: =SUM(I169:M169) -> 0 | O169: =H169-N169 -> 0
A170: creme balsamique | B170: 0 | C170: 6 | H170: =SUM(B170:G170) -> 6 | N170: =SUM(I170:M170) -> 0 | O170: =H170-N170 -> 6
A171: Crème chocolat 3/1 | B171: 2 | H171: =SUM(B171:G171) -> 2 | N171: =SUM(I171:M171) -> 0 | O171: =H171-N171 -> 2
A172: creme de marron 4/4 | B172: 0 | H172: =SUM(B172:G172) -> 0 | N172: =SUM(I172:M172) -> 0 | O172: =H172-N172 -> 0
A173: creme patissiere | B173: 0 | H173: =SUM(B173:G173) -> 0 | N173: =SUM(I173:M173) -> 0 | O173: =H173-N173 -> 0
A174: creme pistache 5/1 | B174: 0 | H174: =SUM(B174:G174) -> 0 | N174: =SUM(I174:M174) -> 0 | O174: =H174-N174 -> 0
A175: creme praline 3/1 | B175: 0 | H175: =SUM(B175:G175) -> 0 | N175: =SUM(I175:M175) -> 0 | O175: =H175-N175 -> 0
A176: Crème vanille 3/1 | B176: 2 | H176: =SUM(B176:G176) -> 2 | N176: =SUM(I176:M176) -> 0 | O176: =H176-N176 -> 2
A177: cumin entier | B177: ='[1]Semaine 5'!O178 -> 0 | H177: =SUM(B177:G177) -> 0 | N177: =SUM(I177:M177) -> 0 | O177: =H177-N177 -> 0
A178: curcuma | B178: ='[1]Semaine 5'!O179 -> 0 | H178: =SUM(B178:G178) -> 0 | N178: =SUM(I178:M178) -> 0 | O178: =H178-N178 -> 0
A179: curry | B179: ='[1]Semaine 5'!O180 -> 0 | H179: =SUM(B179:G179) -> 0 | N179: =SUM(I179:M179) -> 0 | O179: =H179-N179 -> 0
A180: Ebly | B180: 0 | H180: =SUM(B180:G180) -> 0 | N180: =SUM(I180:M180) -> 0 | O180: =H180-N180 -> 0
A181: estragon | B181: 1 | H181: =SUM(B181:G181) -> 1 | N181: =SUM(I181:M181) -> 0 | O181: =H181-N181 -> 1
A182: Farine | B182: 32 | H182: =SUM(B182:G182) -> 32 | N182: =SUM(I182:M182) -> 0 | O182: =H182-N182 -> 32
A183: fideua | B183: 0 | H183: =SUM(B183:G183) -> 0 | N183: =SUM(I183:M183) -> 0 | O183: =H183-N183 -> 0
A184: Film 45 cm | B184: 1 | H184: =SUM(B184:G184) -> 1 | N184: =SUM(I184:M184) -> 0 | O184: =H184-N184 -> 1
A185: film 30 cm | B185: 3 | H185: =SUM(B185:G185) -> 3 | N185: =SUM(I185:M185) -> 0 | O185: =H185-N185 -> 3
A186: Flocons P.D.T | B186: 12 | C186: 40 | H186: =SUM(B186:G186) -> 52 | N186: =SUM(I186:M186) -> 0 | O186: =H186-N186 -> 52
A187: Fond blanc veau | B187: 0 | H187: =SUM(B187:G187) -> 0 | N187: =SUM(I187:M187) -> 0 | O187: =H187-N187 -> 0
A188: Fond brun lié chef | B188: 3 | C188: 6 | H188: =SUM(B188:G188) -> 9 | N188: =SUM(I188:M188) -> 0 | O188: =H188-N188 -> 9
A189: Fond de volaille chef | B189: 2 | C189: 6 | H189: =SUM(B189:G189) -> 8 | N189: =SUM(I189:M189) -> 0 | O189: =H189-N189 -> 8
A190: fraise | B190: 3 | H190: =SUM(B190:G190) -> 3 | N190: =SUM(I190:M190) -> 0 | O190: =H190-N190 -> 3
A191: Fumet de poisson | B191: 6 | H191: =SUM(B191:G191) -> 6 | N191: =SUM(I191:M191) -> 0 | O191: =H191-N191 -> 6
A192: grany | B192: 0 | H192: =SUM(B192:G192) -> 0 | N192: =SUM(I192:M192) -> 0 | O192: =H192-N192 -> 0
A193: Gros sel | B193: 22 | H193: =SUM(B193:G193) -> 22 | N193: =SUM(I193:M193) -> 0 | O193: =H193-N193 -> 22
...

Sheet Semaine 2
G1: VILLE DE GRAND QUEVILLY
E3: Cuisine | G3: VS
E5: ENTREES | K5: SORTIES
A7: DENREE | B7: STOCK | C7: lundi | D7: mardi | E7: mercredi | F7: jeudi | G7: vendredi | H7: TOTAL | I7: lundi | J7: mardi | K7: mercredi | L7: jeudi | M7: vendredi | N7: TOTAL | O7: STOCK
G8: PRODUITS LAITIERS 1
A10: Babybel | B10: =SUM('Semaine 1'!O10) -> 0 | H10: =SUM(B10:G10) -> 0 | N10: =SUM(I10:M10) -> 0 | O10: =H10-N10 -> 0
A11: Beurre | B11: =SUM('Semaine 1'!O11) -> 27.25 | H11: =SUM(B11:G11) -> 27.25 | N11: =SUM(I11:M11) -> 0 | O11: =H11-N11 -> 27.25
A12: Beurre ind | B12: =SUM('Semaine 1'!O12) -> 4 | H12: =SUM(B12:G12) -> 4 | N12: =SUM(I12:M12) -> 0 | O12: =H12-N12 -> 4
A13: Bleu | B13: =SUM('Semaine 1'!O13) -> 0 | H13: =SUM(B13:G13) -> 0 | N13: =SUM(I13:M13) -> 0 | O13: =H13-N13 -> 0
A14: Bonde de bray | B14: =SUM('Semaine 1'!O14) -> 0 | H14: =SUM(B14:G14) -> 0 | N14: =SUM(I14:M14) -> 0 | O14: =H14-N14 -> 0
A15: Brie | B15: =SUM('Semaine 1'!O15) -> 0 | H15: =SUM(B15:G15) -> 0 | N15: =SUM(I15:M15) -> 0 | O15: =H15-N15 -> 0
A16: Camenbert | B16: =SUM('Semaine 1'!O16) -> 206 | H16: =SUM(B16:G16) -> 206 | N16: =SUM(I16:M16) -> 0 | O16: =H16-N16 -> 206
A17: Chanteneige | B17: =SUM('Semaine 1'!O17) -> 78 | H17: =SUM(B17:G17) -> 78 | N17: =SUM(I17:M17) -> 0 | O17: =H17-N17 -> 78
A18: Chevre | B18: =SUM('Semaine 1'!O18) -> 3 | H18: =SUM(B18:G18) -> 3 | N18: =SUM(I18:M18) -> 0 | O18: =H18-N18 -> 3
A19: Crème épaisse | B19: =SUM('Semaine 1'!O19) -> 15 | H19: =SUM(B19:G19) -> 15 | N19: =SUM(I19:M19) -> 0 | O19: =H19-N19 -> 15
A20: Creme pistache | B20: =SUM('Semaine 1'!O20) -> 0 | H20: =SUM(B20:G20) -> 0 | N20: =SUM(I20:M20) -> 0 | O20: =H20-N20 -> 0
A21: Creme renversee | B21: =SUM('Semaine 1'!O21) -> 0 | H21: =SUM(B21:G21) -> 0 | N21: =SUM(I21:M21) -> 0 | O21: =H21-N21 -> 0
... A54: Yaourt semoule | B54: =SUM('Semaine 1'!O54) -> 0 | H54: =SUM(B54:G54) -> 0 | N54: =SUM(I54:M54) -> 0 | O54: =H54-N54 -> 0
A55: ='Semaine 1'!A55 -> carre de lest | B55: =SUM('Semaine 1'!O55) -> 0 | H55: =SUM(B55:G55) -> 0 | N55: =SUM(I55:M55) -> 0 | O55: =H55-N55 -> 0
A56: ='Semaine 1'!A56 -> kiri | B56: =SUM('Semaine 1'!O56) -> 560 | H56: =SUM(B56:G56) -> 560 | N56: =SUM(I56:M56) -> 0 | O56: =H56-N56 -> 560
A57: ='Semaine 1'!A57 -> yaourt sucre | B57: =SUM('Semaine 1'!O57) -> 0 | H57: =SUM(B57:G57) -> 0 | N57: =SUM(I57:M57) -> 0 | O57: =H57-N57 -> 0
A58: ='Semaine 1'!A58 -> liegeois cafe | B58: =SUM('Semaine 1'!O58) -> 0 | H58: =SUM(B58:G58) -> 0 | N58: =SUM(I58:M58) -> 0 | O58: =H58-N58 -> 0
A59: ='Semaine 1'!A59 -> creme caramel | B59: =SUM('Semaine 1'!O59) -> 0 | H59: =SUM(B59:G59) -> 0 | N59: =SUM(I59:M59) -> 0 | O59: =H59-N59 -> 0
A60: ='Semaine 1'!A60 -> creme vanille | B60: =SUM('Semaine 1'!O60) -> 0 | H60: =SUM(B60:G60) -> 0 | N60: =SUM(I60:M60) -> 0 | O60: =H60-N60 -> 0
A61: ='Semaine 1'!A61 -> riz au lait nature | B61: =SUM('Semaine 1'!O61) -> 8 | H61: =SUM(B61:G61) -> 8 | N61: =SUM(I61:M61) -> 0 | O61: =H61-N61 -> 8
A62: ='Semaine 1'!A62 -> chantilly | B62: =SUM('Semaine 1'!O62) -> 1 | H62: =SUM(B62:G62) -> 1 | N62: =SUM(I62:M62) -> 0 | O62: =H62-N62 -> 1
A63: ='Semaine 1'!A63 -> port salut | B63: =SUM('Semaine 1'!O63) -> 0 | H63: =SUM(B63:G63) -> 0 | N63: =SUM(I63:M63) -> 0 | O63: =H63-N63 -> 0
A64: ='Semaine 1'!A64 -> rouy | B64: =SUM('Semaine 1'!O64) -> 0 | H64: =SUM(B64:G64) -> 0 | N64: =SUM(I64:M64) -> 0 | O64: =H64-N64 -> 0
A65: ='Semaine 1'!A65 -> œuf poche | B65: =SUM('Semaine 1'!O65) -> 0 | H65: =SUM(B65:G65) -> 0 | N65: =SUM(I65:M65) -> 0 | O65: =H65-N65 -> 0
A66: ='Semaine 1'!A66 -> mimolette | B66: =SUM('Semaine 1'!O66) -> 0 | H66: =SUM(B66:G66) -> 0 | N66: =SUM(I66:M66) -> 0 | O66: =H66-N66 -> 0
E73: ENTREES | K73: SORTIES
A75: DENREE | B75: STOCK | C75: lundi | D75: mardi | E75: mercredi | F75: jeudi | G75: vendredi | H75: TOTAL | I75: lundi | J75: mardi | K75: mercredi | L75: jeudi | M75: vendredi | N75: TOTAL | O75: STOCK
G76: PRODUITS LAITIERS 2
A78: ='Semaine 1'!A78 -> danette choconoisette | B78: =SUM('Semaine 1'!O78) -> 0 | H78: =SUM(B78:G78) -> 0 | N78: =SUM(I78:M78) -> 0 | O78: =H78-N78 -> 0
A79: ='Semaine 1'!A79 -> mozarella | B79: =SUM('Semaine 1'!O79) -> 0 | H79: =SUM(B79:G79) -> 0 | N79: =SUM(I79:M79) -> 0 | O79: =H79-N79 -> 0
A80: ='Semaine 1'!A80 -> pointe de brie | B80: =SUM('Semaine 1'!O80) -> 0 | H80: =SUM(B80:G80) -> 0 | N80: =SUM(I80:M80) -> 0 | O80: =H80-N80 -> 0
A81: ='Semaine 1'!A81 -> emmental 250gr | B81: =SUM('Semaine 1'!O81) -> 0 | H81: =SUM(B81:G81) -> 0 | N81: =SUM(I81:M81) -> 0 | O81: =H81-N81 -> 0
A82: ='Semaine 1'!A82 -> harengt 600gr | B82: =SUM('Semaine 1'!O82) -> 0 | H82: =SUM(B82:G82) -> 0 | N82: =SUM(I82:M82) -> 0 | O82: =H82-N82 -> 0
A83: ='Semaine 1'!A83 -> emmental rape | B83: =SUM('Semaine 1'!O83) -> 0 | H83: =SUM(B83:G83) -> 0 | N83: =SUM(I83:M83) -> 0 | O83: =H83-N83 -> 0
A84: ='Semaine 1'!A84 -> danette pistache | B84: =SUM('Semaine 1'!O84) -> 0 | H84: =SUM(B84:G84) -> 0 | N84: =SUM(I84:M84) -> 0 | O84: =H84-N84 -> 0
A85: ='Semaine 1'!A85 -> creme anglaise | B85: =SUM('Semaine 1'!O85) -> 33 | H85: =SUM(B85:G85) -> 33 | N85: =SUM(I85:M85) -> 0 | O85: =H85-N85 -> 33
A86: ='Semaine 1'!A86 -> coulommiers | B86: =SUM('Semaine 1'!O86) -> 0 | H86: =SUM(B86:G86) -> 0 | N86: =SUM(I86:M86) -> 0 | O86: =H86-N86 -> 0
A87: ='Semaine 1'!A87 -> gouda piece | B87: =SUM('Semaine 1'!O87) -> 0 | H87: =SUM(B87:G87) -> 0 | N87: =SUM(I87:M87) -> 0 | O87: =H87-N87 -> 0
A88: ='Semaine 1'!A88 -> creme praline | B88: =SUM('Semaine 1'!O88) -> 65 | H88: =SUM(B88:G88) -> 65 | N88: =SUM(I88:M88) -> 0 | O88: =H88-N88 -> 65
A89: ='Semaine 1'!A89 -> flamby caramelouchoco | B89: =SUM('Semaine 1'!O89) -> 0 | H89: =SUM(B89:G89) -> 0 | N89: =SUM(I89:M89) -> 0 | O89: =H89-N89 -> 0
... A134: ='Semaine 1'!A134 -> 0 | B134: =SUM('Semaine 1'!O134) -> 0 | H134: =SUM(B134:G134) -> 0 | N134: =SUM(I134:M134) -> 0 | O134: =H134-N134 -> 0
E138: ENTREES | K138: SORTIES
A140: DENREE | B140: STOCK | C140: lundi | D140: mardi | E140: mercredi | F140: jeudi | G140: vendredi | H140: TOTAL | I140: lundi | J140: mardi | K140: mercredi | L140: jeudi | M140: vendredi | N140: TOTAL | O140: STOCK
G141: EPICERIE 1
A143: Abricots au sirop 5/1 | B143: =SUM('Semaine 1'!O143) -> 0 | H143: =SUM(B143:G143) -> 0 | N143: =SUM(I143:M143) -> 0 | O143: =H143-N143 -> 0
A144: Aluminum | B144: =SUM('Semaine 1'!O144) -> 0 | H144: =SUM(B144:G144) -> 0 | N144: =SUM(I144:M144) -> 0 | O144: =H144-N144 -> 0
A145: Ananas au sirop 3/1 | B145: =SUM('Semaine 1'!O145) -> 5 | H145: =SUM(B145:G145) -> 5 | N145: =SUM(I145:M145) -> 0 | O145: =H145-N145 -> 5
A146: ananas couper 3/1 | B146: =SUM('Semaine 1'!O146) -> 5 | H146: =SUM(B146:G146) -> 5 | N146: =SUM(I146:M146) -> 0 | O146: =H146-N146 -> 5
A147: arome patrelle | B147: =SUM('Semaine 1'!O147) -> 0 | H147: =SUM(B147:G147) -> 0 | N147: =SUM(I147:M147) -> 0 | O147: =H147-N147 -> 0
A148: barre chocolat | B148: =SUM('Semaine 1'!O148) -> 391 | H148: =SUM(B148:G148) -> 391 | N148: =SUM(I148:M148) -> 0 | O148: =H148-N148 -> 391
A149: basilic | B149: =SUM('Semaine 1'!O149) -> 0 | H149: =SUM(B149:G149) -> 0 | N149: =SUM(I149:M149) -> 0 | O149: =H149-N149 -> 0
A150: Bouillon de bœuf | B150: =SUM('Semaine 1'!O150) -> 0 | H150: =SUM(B150:G150) -> 0 | N150: =SUM(I150:M150) -> 0 | O150: =H150-N150 -> 0
A151: Bouillon de volaille | B151: =SUM('Semaine 1'!O151) -> 4 | H151: =SUM(B151:G151) -> 4 | N151: =SUM(I151:M151) -> 0 | O151: =H151-N151 -> 4
A152: Café moulu | B152: =SUM('Semaine 1'!O152) -> 31 | H152: =SUM(B152:G152) -> 31 | N152: =SUM(I152:M152) -> 0 | O152: =H152-N152 -> 31
A153: cereale sac | B153: =SUM('Semaine 1'!O153) -> 8 | H153: =SUM(B153:G153) -> 8 | N153: =SUM(I153:M153) -> 0 | O153: =H153-N153 -> 8
A154: cidre | B154: =SUM('Semaine 1'!O154) -> 15 | H154: =SUM(B154:G154) -> 15 | N154: =SUM(I154:M154) -> 0 | O154: =H154-N154 -> 15
... A205: miel | B205: =SUM('Semaine 1'!O205) -> 0 | H205: =SUM(B205:G205) -> 0 | N205: =SUM(I205:M205) -> 0 | O205: =H205-N205 -> 0
E211: ENTREES | K211: SORTIES
A213: DENREE | B213: STOCK | C213: lundi | D213: mardi | E213: mercredi | F213: jeudi | G213: vendredi | H213: TOTAL | I213: lundi | J213: mardi | K213: mercredi | L213: jeudi | M213: vendredi | N213: TOTAL | O213: STOCK
G214: EPICERIE 2
A216: jus de citron | B216: =SUM('Semaine 1'!O216) -> 3 | H216: =SUM(B216:G216) -> 3 | N216: =SUM(I216:M216) -> 0 | O216: =H216-N216 -> 3
A217: jus de poulet | B217: =SUM('Semaine 1'!O217) -> 0 | H217: =SUM(B217:G217) -> 0 | N217: =SUM(I217:M217) -> 0 | O217: =H217-N217 -> 0
A218: jus dorange | B218: =SUM('Semaine 1'!O218) -> 71 | H218: =SUM(B218:G218) -> 71 | N218: =SUM(I218:M218) -> 0 | O218: =H218-N218 -> 71
A219: jus dorange brique | B219: =SUM('Semaine 1'!O219) -> 0 | H219: =SUM(B219:G219) -> 0 | N219: =SUM(I219:M219) -> 0 | O219: =H219-N219 -> 0
A220: ketchup | B220: =SUM('Semaine 1'!O220) -> 0 | H220: =SUM(B220:G220) -> 0 | N220: =SUM(I220:M220) -> 0 | O220: =H220-N220 -> 0
A221: Lasagne | B221: =SUM('Semaine 1'!O221) -> 6 | H221: =SUM(B221:G221) -> 6 | N221: =SUM(I221:M221) -> 0 | O221: =H221-N221 -> 6
A222: laurier | B222: =SUM('Semaine 1'!O222) -> 1 | H222: =SUM(B222:G222) -> 1 | N222: =SUM(I222:M222) -> 0 | O222: =H222-N222 -> 1
A223: Lentilles | B223: =SUM('Semaine 1'!O223) -> 42 | H223: =SUM(B223:G223) -> 42 | N223: =SUM(I223:M223) -> 0 | O223: =H223-N223 -> 42
A224: lentille beluga | B224: =SUM('Semaine 1'!O224) -> 0 | H224: =SUM(B224:G224) -> 0 | N224: =SUM(I224:M224) -> 0 | O224: =H224-N224 -> 0
A225: Macaroni | B225: =SUM('Semaine 1'!O225) -> 10 | H225: =SUM(B225:G225) -> 10 | N225: =SUM(I225:M225) -> 0 | O225: =H225-N225 -> 10
A226: macedoine 4/4 | B226: =SUM('Semaine 1'!O226) -> 4 | H226: =SUM(B226:G226) -> 4 | N226: =SUM(I226:M226) -> 0 | O226: =H226-N226 -> 4
A227: Macédoine 5/1 | B227: =SUM('Semaine 1'!O227) -> 18 | H227: =SUM(B227:G227) -> 18 | N227: =SUM(I227:M227) -> 0 | O227: =H227-N227 -> 18
... A265: Vinaigre de vin | B265: =SUM('Semaine 1'!O265) -> 52 | H265: =SUM(B265:G265) -> 52 | N265: =SUM(I265:M265) -> 0 | O265: =H265-N265 -> 52
A266: ='Semaine 1'!A266 -> sirop peche | B266: =SUM('Semaine 1'!O266) -> 3 | H266: =SUM(B266:G266) -> 3 | N266: =SUM(I266:M266) -> 0 | O266: =H266-N266 -> 3
A267: ='Semaine 1'!A267 -> pate a tartiner | B267: =SUM('Semaine 1'!O267) -> 71 | H267: =SUM(B267:G267) -> 71 | N267: =SUM(I267:M267) -> 0 | O267: =H267-N267 -> 71
A268: ='Semaine 1'!A268 -> artichaud 4/4 | B268: =SUM('Semaine 1'!O268) -> 19 | H268: =SUM(B268:G268) -> 19 | N268: =SUM(I268:M268) -> 0 | O268: =H268-N268 -> 19
A269: ='Semaine 1'!A269 -> palmiers | B269: =SUM('Semaine 1'!O269) -> 0 | H269: =SUM(B269:G269) -> 0 | N269: =SUM(I269:M269) -> 0 | O269: =H269-N269 -> 0
A270: ='Semaine 1'!A270 -> miel ind | B270: =SUM('Semaine 1'!O270) -> 140 | H270: =SUM(B270:G270) -> 140 | N270: =SUM(I270:M270) -> 0 | O270: =H270-N270 -> 140
A271: ='Semaine 1'!A271 -> champignon 4/4 | B271: =SUM('Semaine 1'!O271) -> 8 | H271: =SUM(B271:G271) -> 8 | N271: =SUM(I271:M271) -> 0 | O271: =H271-N271 -> 8
A272: ='Semaine 1'!A272 -> Tomates pelées 4/4 | B272: =SUM('Semaine 1'!O272) -> 21 | H272: =SUM(B272:G272) -> 21 | N272: =SUM(I272:M272) -> 0 | O272: =H272-N272 -> 21
A273: ='Semaine 1'!A273 -> moelleux citron | B273: =SUM('Semaine 1'!O273) -> 0 | H273: =SUM(B273:G273) -> 0 | N273: =SUM(I273:M273) -> 0 | O273: =H273-N273 -> 0
A274: ='Semaine 1'!A274 -> olive verte 4/4 | B274: =SUM('Semaine 1'!O274) -> 5 | H274: =SUM(B274:G274) -> 5 | N274: =SUM(I274:M274) -> 0 | O274: =H274-N274 -> 5
A275: ='Semaine 1'!A275 -> petit pois carotte5/1 | B275: =SUM('Semaine 1'!O275) -> 1 | H275: =SUM(B275:G275) -> 1 | N275: =SUM(I275:M275) -> 0 | O275: =H275-N275 -> 1
A276: ='Semaine 1'!A276 -> piment doux | B276: =SUM('Semaine 1'!O276) -> 0 | H276: =SUM(B276:G276) -> 0 | N276: =SUM(I276:M276) -> 0 | O276: =H276-N276 -> 0
A277: ='Semaine 1'!A277 -> aluminium | B277: =SUM('Semaine 1'!O277) -> 7 | H277: =SUM(B277:G277) -> 7 | N277: =SUM(I277:M277) -> 0 | O277: =H277-N277 -> 7
... A281: ='Semaine 1'!A281 -> coulis de tomate | B281: =SUM('Semaine 1'!O281) -> 13 | H281: =SUM(B281:G281) -> 13 | N281: =SUM(I281:M281) -> 0 | O281: =H281-N281 -> 13
E284: ENTREES | K284: SORTIES
A286: DENREE | B286: STOCK | C286: lundi | D286: mardi | E286: mercredi | F286: jeudi | G286: vendredi | H286: TOTAL | I286: lundi | J286: mardi | K286: mercredi | L286: jeudi | M286: vendredi | N286: TOTAL | O286: STOCK
G287: EPICERIE 3
A289: ='Semaine 1'!A289 -> taboulet garniture5/1 | B289: =SUM('Semaine 1'!O289) -> 3 | H289: =SUM(B289:G289) -> 3 | N289: =SUM(I289:M289) -> 0 | O289: =H289-N289 -> 3
A290: ='Semaine 1'!A290 -> champi a la grec5/1 | B290: =SUM('Semaine 1'!O290) -> 9 | H290: =SUM(B290:G290) -> 9 | N290: =SUM(I290:M290) -> 0 | O290: =H290-N290 -> 9
A291: ='Semaine 1'!A291 -> roux blanc | B291: =SUM('Semaine 1'!O291) -> 6 | H291: =SUM(B291:G291) -> 6 | N291: =SUM(I291:M291) -> 0 | O291: =H291-N291 -> 6
A292: ='Semaine 1'!A292 -> bechamel knorr | B292: =SUM('Semaine 1'!O292) -> 2 | H292: =SUM(B292:G292) -> 2 | N292: =SUM(I292:M292) -> 0 | O292: =H292-N292 -> 2
A293: ='Semaine 1'!A293 -> ketchup flacon | B293: =SUM('Semaine 1'!O293) -> 0 | H293: =SUM(B293:G293) -> 0 | N293: =SUM(I293:M293) -> 0 | O293: =H293-N293 -> 0
A294: ='Semaine 1'!A294 -> mayonnaise flacon | B294: =SUM('Semaine 1'!O294) -> 0 | H294: =SUM(B294:G294) -> 0 | N294: =SUM(I294:M294) -> 0 | O294: =H294-N294 -> 0
...

Sheet Semaine 3
G1: VILLE DE GRAND QUEVILLY
E3: Cuisine | G3: VS
E5: ENTREES | K5: SORTIES
A7: DENREE | B7: STOCK | C7: lundi | D7: mardi | E7: mercredi | F7: jeudi | G7: vendredi | H7: TOTAL | I7: lundi | J7: mardi | K7: mercredi | L7: jeudi | M7: vendredi | N7: TOTAL | O7: STOCK
G8: PRODUITS LAITIERS 1
A10: Babybel | B10: =SUM('Semaine 2'!O10) -> 0 | H10: =SUM(B10:G10) -> 0 | N10: =SUM(I10:M10) -> 0 | O10: =H10-N10 -> 0
A11: Beurre | B11: =SUM('Semaine 2'!O11) -> 27.25 | H11: =SUM(B11:G11) -> 27.25 | N11: =SUM(I11:M11) -> 0 | O11: =H11-N11 -> 27.25
A12: Beurre ind | B12: =SUM('Semaine 2'!O12) -> 4 | H12: =SUM(B12:G12) -> 4 | N12: =SUM(I12:M12) -> 0 | O12: =H12-N12 -> 4
A13: Bleu | B13: =SUM('Semaine 2'!O13) -> 0 | H13: =SUM(B13:G13) -> 0 | N13: =SUM(I13:M13) -> 0 | O13: =H13-N13 -> 0
A14: Bonde de bray | B14: =SUM('Semaine 2'!O14) -> 0 | H14: =SUM(B14:G14) -> 0 | N14: =SUM(I14:M14) -> 0 | O14: =H14-N14 -> 0
A15: Brie | B15: =SUM('Semaine 2'!O15) -> 0 | H15: =SUM(B15:G15) -> 0 | N15: =SUM(I15:M15) -> 0 | O15: =H15-N15 -> 0
A16: Camenbert | B16: =SUM('Semaine 2'!O16) -> 206 | H16: =SUM(B16:G16) -> 206 | N16: =SUM(I16:M16) -> 0 | O16: =H16-N16 -> 206
A17: Chanteneige | B17: =SUM('Semaine 2'!O17) -> 78 | H17: =SUM(B17:G17) -> 78 | N17: =SUM(I17:M17) -> 0 | O17: =H17-N17 -> 78
A18: Chevre | B18: =SUM('Semaine 2'!O18) -> 3 | H18: =SUM(B18:G18) -> 3 | N18: =SUM(I18:M18) -> 0 | O18: =H18-N18 -> 3
A19: Crème épaisse | B19: =SUM('Semaine 2'!O19) -> 15 | H19: =SUM(B19:G19) -> 15 | N19: =SUM(I19:M19) -> 0 | O19: =H19-N19 -> 15
A20: Creme pistache | B20: =SUM('Semaine 2'!O20) -> 0 | H20: =SUM(B20:G20) -> 0 | N20: =SUM(I20:M20) -> 0 | O20: =H20-N20 -> 0
A21: Creme renversee | B21: =SUM('Semaine 2'!O21) -> 0 | H21: =SUM(B21:G21) -> 0 | N21: =SUM(I21:M21) -> 0 | O21: =H21-N21 -> 0
... A54: Yaourt semoule | B54: =SUM('Semaine 2'!O54) -> 0 | H54: =SUM(B54:G54) -> 0 | N54: =SUM(I54:M54) -> 0 | O54: =H54-N54 -> 0
A55: ='Semaine 2'!A55 -> carre de lest | B55: =SUM('Semaine 2'!O55) -> 0 | H55: =SUM(B55:G55) -> 0 | N55: =SUM(I55:M55) -> 0 | O55: =H55-N55 -> 0
A56: ='Semaine 2'!A56 -> kiri | B56: =SUM('Semaine 2'!O56) -> 560 | H56: =SUM(B56:G56) -> 560 | N56: =SUM(I56:M56) -> 0 | O56: =H56-N56 -> 560
A57: ='Semaine 2'!A57 -> yaourt sucre | B57: =SUM('Semaine 2'!O57) -> 0 | H57: =SUM(B57:G57) -> 0 | N57: =SUM(I57:M57) -> 0 | O57: =H57-N57 -> 0
A58: ='Semaine 2'!A58 -> liegeois cafe | B58: =SUM('Semaine 2'!O58) -> 0 | H58: =SUM(B58:G58) -> 0 | N58: =SUM(I58:M58) -> 0 | O58: =H58-N58 -> 0
A59: ='Semaine 2'!A59 -> creme caramel | B59: =SUM('Semaine 2'!O59) -> 0 | H59: =SUM(B59:G59) -> 0 | N59: =SUM(I59:M59) -> 0 | O59: =H59-N59 -> 0
A60: ='Semaine 2'!A60 -> creme vanille | B60: =SUM('Semaine 2'!O60) -> 0 | H60: =SUM(B60:G60) -> 0 | N60: =SUM(I60:M60) -> 0 | O60: =H60-N60 -> 0
A61: ='Semaine 2'!A61 -> riz au lait nature | B61: =SUM('Semaine 2'!O61) -> 8 | H61: =SUM(B61:G61) -> 8 | N61: =SUM(I61:M61) -> 0 | O61: =H61-N61 -> 8
A62: ='Semaine 2'!A62 -> chantilly | B62: =SUM('Semaine 2'!O62) -> 1 | H62: =SUM(B62:G62) -> 1 | N62: =SUM(I62:M62) -> 0 | O62: =H62-N62 -> 1
A63: ='Semaine 2'!A63 -> port salut | B63: =SUM('Semaine 2'!O63) -> 0 | H63: =SUM(B63:G63) -> 0 | N63: =SUM(I63:M63) -> 0 | O63: =H63-N63 -> 0
A64: ='Semaine 2'!A64 -> rouy | B64: =SUM('Semaine 2'!O64) -> 0 | H64: =SUM(B64:G64) -> 0 | N64: =SUM(I64:M64) -> 0 | O64: =H64-N64 -> 0
A65: ='Semaine 2'!A65 -> œuf poche | B65: =SUM('Semaine 2'!O65) -> 0 | H65: =SUM(B65:G65) -> 0 | N65: =SUM(I65:M65) -> 0 | O65: =H65-N65 -> 0
A66: ='Semaine 2'!A66 -> mimolette | B66: =SUM('Semaine 2'!O66) -> 0 | H66: =SUM(B66:G66) -> 0 | N66: =SUM(I66:M66) -> 0 | O66: =H66-N66 -> 0
E73: ENTREES | K73: SORTIES
A75: DENREE | B75: STOCK | C75: lundi | D75: mardi | E75: mercredi | F75: jeudi | G75: vendredi | H75: TOTAL | I75: lundi | J75: mardi | K75: mercredi | L75: jeudi | M75: vendredi | N75: TOTAL | O75: STOCK
G76: PRODUITS LAITIERS 2
A78: ='Semaine 2'!A78 -> danette choconoisette | B78: =SUM('Semaine 2'!O78) -> 0 | H78: =SUM(B78:G78) -> 0 | N78: =SUM(I78:M78) -> 0 | O78: =H78-N78 -> 0
A79: ='Semaine 2'!A79 -> mozarella | B79: =SUM('Semaine 2'!O79) -> 0 | H79: =SUM(B79:G79) -> 0 | N79: =SUM(I79:M79) -> 0 | O79: =H79-N79 -> 0
A80: ='Semaine 2'!A80 -> pointe de brie | B80: =SUM('Semaine 2'!O80) -> 0 | H80: =SUM(B80:G80) -> 0 | N80: =SUM(I80:M80) -> 0 | O80: =H80-N80 -> 0
A81: ='Semaine 2'!A81 -> emmental 250gr | B81: =SUM('Semaine 2'!O81) -> 0 | H81: =SUM(B81:G81) -> 0 | N81: =SUM(I81:M81) -> 0 | O81: =H81-N81 -> 0
A82: ='Semaine 2'!A82 -> harengt 600gr | B82: =SUM('Semaine 2'!O82) -> 0 | H82: =SUM(B82:G82) -> 0 | N82: =SUM(I82:M82) -> 0 | O82: =H82-N82 -> 0
A83: ='Semaine 2'!A83 -> emmental rape | B83: =SUM('Semaine 2'!O83) -> 0 | H83: =SUM(B83:G83) -> 0 | N83: =SUM(I83:M83) -> 0 | O83: =H83-N83 -> 0
A84: ='Semaine 2'!A84 -> danette pistache | B84: =SUM('Semaine 2'!O84) -> 0 | H84: =SUM(B84:G84) -> 0 | N84: =SUM(I84:M84) -> 0 | O84: =H84-N84 -> 0
A85: ='Semaine 2'!A85 -> creme anglaise | B85: =SUM('Semaine 2'!O85) -> 33 | H85: =SUM(B85:G85) -> 33 | N85: =SUM(I85:M85) -> 0 | O85: =H85-N85 -> 33
A86: ='Semaine 2'!A86 -> coulommiers | B86: =SUM('Semaine 2'!O86) -> 0 | H86: =SUM(B86:G86) -> 0 | N86: =SUM(I86:M86) -> 0 | O86: =H86-N86 -> 0
A87: ='Semaine 2'!A87 -> gouda piece | B87: =SUM('Semaine 2'!O87) -> 0 | H87: =SUM(B87:G87) -> 0 | N87: =SUM(I87:M87) -> 0 | O87: =H87-N87 -> 0
A88: ='Semaine 2'!A88 -> creme praline | B88: =SUM('Semaine 2'!O88) -> 65 | H88: =SUM(B88:G88) -> 65 | N88: =SUM(I88:M88) -> 0 | O88: =H88-N88 -> 65
A89: ='Semaine 2'!A89 -> flamby caramelouchoco | B89: =SUM('Semaine 2'!O89) -> 0 | H89: =SUM(B89:G89) -> 0 | N89: =SUM(I89:M89) -> 0 | O89: =H89-N89 -> 0
... A134: ='Semaine 2'!A134 -> 0 | B134: =SUM('Semaine 2'!O134) -> 0 | H134: =SUM(B134:G134) -> 0 | N134: =SUM(I134:M134) -> 0 | O134: =H134-N134 -> 0
E138: ENTREES | K138: SORTIES
A140: DENREE | B140: STOCK | C140: lundi | D140: mardi | E140: mercredi | F140: jeudi | G140: vendredi | H140: TOTAL | I140: lundi | J140: mardi | K140: mercredi | L140: jeudi | M140: vendredi | N140: TOTAL | O140: STOCK
G141: EPICERIE 1
A143: Abricots au sirop 5/1 | B143: =SUM('Semaine 2'!O143) -> 0 | H143: =SUM(B143:G143) -> 0 | N143: =SUM(I143:M143) -> 0 | O143: =H143-N143 -> 0
A144: Aluminum | B144: =SUM('Semaine 2'!O144) -> 0 | H144: =SUM(B144:G144) -> 0 | N144: =SUM(I144:M144) -> 0 | O144: =H144-N144 -> 0
A145: Ananas au sirop 3/1 | B145: =SUM('Semaine 2'!O145) -> 5 | H145: =SUM(B145:G145) -> 5 | N145: =SUM(I145:M145) -> 0 | O145: =H145-N145 -> 5
A146: ananas couper 3/1 | B146: =SUM('Semaine 2'!O146) -> 5 | H146: =SUM(B146:G146) -> 5 | N146: =SUM(I146:M146) -> 0 | O146: =H146-N146 -> 5
A147: arome patrelle | B147: =SUM('Semaine 2'!O147) -> 0 | H147: =SUM(B147:G147) -> 0 | N147: =SUM(I147:M147) -> 0 | O147: =H147-N147 -> 0
A148: barre chocolat | B148: =SUM('Semaine 2'!O148) -> 391 | H148: =SUM(B148:G148) -> 391 | N148: =SUM(I148:M148) -> 0 | O148: =H148-N148 -> 391
A149: basilic | B149: =SUM('Semaine 2'!O149) -> 0 | H149: =SUM(B149:G149) -> 0 | N149: =SUM(I149:M149) -> 0 | O149: =H149-N149 -> 0
A150: Bouillon de bœuf | B150: =SUM('Semaine 2'!O150) -> 0 | H150: =SUM(B150:G150) -> 0 | N150: =SUM(I150:M150) -> 0 | O150: =H150-N150 -> 0
A151: Bouillon de volaille | B151: =SUM('Semaine 2'!O151) -> 4 | H151: =SUM(B151:G151) -> 4 | N151: =SUM(I151:M151) -> 0 | O151: =H151-N151 -> 4
A152: Café moulu | B152: =SUM('Semaine 2'!O152) -> 31 | H152: =SUM(B152:G152) -> 31 | N152: =SUM(I152:M152) -> 0 | O152: =H152-N152 -> 31
A153: cereale sac | B153: =SUM('Semaine 2'!O153) -> 8 | H153: =SUM(B153:G153) -> 8 | N153: =SUM(I153:M153) -> 0 | O153: =H153-N153 -> 8
A154: cidre | B154: =SUM('Semaine 2'!O154) -> 15 | H154: =SUM(B154:G154) -> 15 | N154: =SUM(I154:M154) -> 0 | O154: =H154-N154 -> 15
... A203: jus de veau | B203: =SUM('Semaine 2'!O203) -> 7 | H203: =SUM(B203:G203) -> 7 | N203: =SUM(I203:M203) -> 0 | O203: =H203-N203 -> 7
A204: lentille beluga | B204: =SUM('Semaine 1'!O204) -> 0 | H204: =SUM(B204:G204) -> 0 | N204: =SUM(I204:M204) -> 0 | O204: =H204-N204 -> 0
A205: miel | B205: =SUM('Semaine 1'!O205) -> 0 | H205: =SUM(B205:G205) -> 0 | N205: =SUM(I205:M205) -> 0 | O205: =H205-N205 -> 0
E211: ENTREES | K211: SORTIES
A213: DENREE | B213: STOCK | C213: lundi | D213: mardi | E213: mercredi | F213: jeudi | G213: vendredi | H213: TOTAL | I213: lundi | J213: mardi | K213: mercredi | L213: jeudi | M213: vendredi | N213: TOTAL | O213: STOCK
G214: EPICERIE 2
A216: jus de citron | B216: =SUM('Semaine 2'!O216) -> 3 | H216: =SUM(B216:G216) -> 3 | N216: =SUM(I216:M216) -> 0 | O216: =H216-N216 -> 3
A217: jus de poulet | B217: =SUM('Semaine 2'!O217) -> 0 | H217: =SUM(B217:G217) -> 0 | N217: =SUM(I217:M217) -> 0 | O217: =H217-N217 -> 0
A218: jus dorange | B218: =SUM('Semaine 2'!O218) -> 71 | H218: =SUM(B218:G218) -> 71 | N218: =SUM(I218:M218) -> 0 | O218: =H218-N218 -> 71
A219: jus dorange brique | B219: =SUM('Semaine 2'!O219) -> 0 | H219: =SUM(B219:G219) -> 0 | N219: =SUM(I219:M219) -> 0 | O219: =H219-N219 -> 0
A220: ketchup | B220: =SUM('Semaine 2'!O220) -> 0 | H220: =SUM(B220:G220) -> 0 | N220: =SUM(I220:M220) -> 0 | O220: =H220-N220 -> 0
A221: Lasagne | B221: =SUM('Semaine 2'!O221) -> 6 | H221: =SUM(B221:G221) -> 6 | N221: =SUM(I221:M221) -> 0 | O221: =H221-N221 -> 6
A222: laurier | B222: =SUM('Semaine 2'!O222) -> 1 | H222: =SUM(B222:G222) -> 1 | N222: =SUM(I222:M222) -> 0 | O222: =H222-N222 -> 1
A223: Lentilles | B223: =SUM('Semaine 2'!O223) -> 42 | H223: =SUM(B223:G223) -> 42 | N223: =SUM(I223:M223) -> 0 | O223: =H223-N223 -> 42
A224: lentille beluga | B224: =SUM('Semaine 2'!O224) -> 0 | H224: =SUM(B224:G224) -> 0 | N224: =SUM(I224:M224) -> 0 | O224: =H224-N224 -> 0
A225: Macaroni | B225: =SUM('Semaine 2'!O225) -> 10 | H225: =SUM(B225:G225) -> 10 | N225: =SUM(I225:M225) -> 0 | O225: =H225-N225 -> 10
A226: macedoine 4/4 | B226: =SUM('Semaine 2'!O226) -> 4 | H226: =SUM(B226:G226) -> 4 | N226: =SUM(I226:M226) -> 0 | O226: =H226-N226 -> 4
A227: Macédoine 5/1 | B227: =SUM('Semaine 2'!O227) -> 18 | H227: =SUM(B227:G227) -> 18 | N227: =SUM(I227:M227) -> 0 | O227: =H227-N227 -> 18
... A265: Vinaigre de vin | B265: =SUM('Semaine 2'!O265) -> 52 | H265: =SUM(B265:G265) -> 52 | N265: =SUM(I265:M265) -> 0 | O265: =H265-N265 -> 52
A266: ='Semaine 2'!A266 -> sirop peche | B266: =SUM('Semaine 2'!O266) -> 3 | H266: =SUM(B266:G266) -> 3 | N266: =SUM(I266:M266) -> 0 | O266: =H266-N266 -> 3
A267: ='Semaine 2'!A267 -> pate a tartiner | B267: =SUM('Semaine 2'!O267) -> 71 | H267: =SUM(B267:G267) -> 71 | N267: =SUM(I267:M267) -> 0 | O267: =H267-N267 -> 71
A268: ='Semaine 2'!A268 -> artichaud 4/4 | B268: =SUM('Semaine 2'!O268) -> 19 | H268: =SUM(B268:G268) -> 19 | N268: =SUM(I268:M268) -> 0 | O268: =H268-N268 -> 19
A269: ='Semaine 2'!A269 -> palmiers | B269: =SUM('Semaine 2'!O269) -> 0 | H269: =SUM(B269:G269) -> 0 | N269: =SUM(I269:M269) -> 0 | O269: =H269-N269 -> 0
A270: ='Semaine 2'!A270 -> miel ind | B270: =SUM('Semaine 2'!O270) -> 140 | H270: =SUM(B270:G270) -> 140 | N270: =SUM(I270:M270) -> 0 | O270: =H270-N270 -> 140
A271: ='Semaine 2'!A271 -> champignon 4/4 | B271: =SUM('Semaine 2'!O271) -> 8 | H271: =SUM(B271:G271) -> 8 | N271: =SUM(I271:M271) -> 0 | O271: =H271-N271 -> 8
A272: ='Semaine 2'!A272 -> Tomates pelées 4/4 | B272: =SUM('Semaine 2'!O272) -> 21 | H272: =SUM(B272:G272) -> 21 | N272: =SUM(I272:M272) -> 0 | O272: =H272-N272 -> 21
A273: ='Semaine 2'!A273 -> moelleux citron | B273: =SUM('Semaine 2'!O273) -> 0 | H273: =SUM(B273:G273) -> 0 | N273: =SUM(I273:M273) -> 0 | O273: =H273-N273 -> 0
A274: ='Semaine 2'!A274 -> olive verte 4/4 | B274: =SUM('Semaine 2'!O274) -> 5 | H274: =SUM(B274:G274) -> 5 | N274: =SUM(I274:M274) -> 0 | O274: =H274-N274 -> 5
A275: ='Semaine 2'!A275 -> petit pois carotte5/1 | B275: =SUM('Semaine 2'!O275) -> 1 | H275: =SUM(B275:G275) -> 1 | N275: =SUM(I275:M275) -> 0 | O275: =H275-N275 -> 1
A276: ='Semaine 2'!A276 -> piment doux | B276: =SUM('Semaine 2'!O276) -> 0 | H276: =SUM(B276:G276) -> 0 | N276: =SUM(I276:M276) -> 0 | O276: =H276-N276 -> 0
A277: ='Semaine 2'!A277 -> aluminium | B277: =SUM('Semaine 2'!O277) -> 7 | H277: =SUM(B277:G277) -> 7 | N277: =SUM(I277:M277) -> 0 | O277: =H277-N277 -> 7
... A281: ='Semaine 2'!A281 -> coulis de tomate | B281: =SUM('Semaine 2'!O281) -> 13 | H281: =SUM(B281:G281) -> 13 | N281: =SUM(I281:M281) -> 0 | O281: =H281-N281 -> 13
E284: ENTREES | K284: SORTIES
A286: DENREE | B286: STOCK | C286: lundi | D286: mardi | E286: mercredi | F286: jeudi | G286: vendredi | H286: TOTAL | I286: lundi | J286: mardi | K286: mercredi | L286: jeudi | M286: vendredi | N286: TOTAL | O286: STOCK
G287: EPICERIE 3
A289: ='Semaine 2'!A289 -> taboulet garniture5/1 | B289: =SUM('Semaine 2'!O289) -> 3 | H289: =SUM(B289:G289) -> 3 | N289: =SUM(I289:M289) -> 0 | O289: =H289-N289 -> 3
A290: ='Semaine 2'!A290 -> champi a la grec5/1 | B290: =SUM('Semaine 2'!O290) -> 9 | H290: =SUM(B290:G290) -> 9 | N290: =SUM(I290:M290) -> 0 | O290: =H290-N290 -> 9
A291: ='Semaine 2'!A291 -> roux blanc | B291: =SUM('Semaine 2'!O291) -> 6 | H291: =SUM(B291:G291) -> 6 | N291: =SUM(I291:M291) -> 0 | O291: =H291-N291 -> 6
A292: ='Semaine 2'!A292 -> bechamel knorr | B292: =SUM('Semaine 2'!O292) -> 2 | H292: =SUM(B292:G292) -> 2 | N292: =SUM(I292:M292) -> 0 | O292: =H292-N292 -> 2
...

Sheet Semaine 4
G1: VILLE DE GRAND QUEVILLY
E3: Cuisine | G3: VS
E5: ENTREES | K5: SORTIES
A7: DENREE | B7: STOCK | C7: lundi | D7: mardi | E7: mercredi | F7: jeudi | G7: vendredi | H7: TOTAL | I7: lundi | J7: mardi | K7: mercredi | L7: jeudi | M7: vendredi | N7: TOTAL | O7: STOCK
G8: PRODUITS LAITIERS 1
A10: Babybel | B10: =SUM('Semaine 3'!O10) -> 0 | H10: =SUM(B10:G10) -> 0 | N10: =SUM(I10:M10) -> 0 | O10: =H10-N10 -> 0
A11: Beurre | B11: =SUM('Semaine 3'!O11) -> 27.25 | H11: =SUM(B11:G11) -> 27.25 | N11: =SUM(I11:M11) -> 0 | O11: =H11-N11 -> 27.25
A12: Beurre ind | B12: =SUM('Semaine 3'!O12) -> 4 | H12: =SUM(B12:G12) -> 4 | N12: =SUM(I12:M12) -> 0 | O12: =H12-N12 -> 4
A13: Bleu | B13: =SUM('Semaine 3'!O13) -> 0 | H13: =SUM(B13:G13) -> 0 | N13: =SUM(I13:M13) -> 0 | O13: =H13-N13 -> 0
A14: Bonde de bray | B14: =SUM('Semaine 3'!O14) -> 0 | H14: =SUM(B14:G14) -> 0 | N14: =SUM(I14:M14) -> 0 | O14: =H14-N14 -> 0
A15: Brie | B15: =SUM('Semaine 3'!O15) -> 0 | H15: =SUM(B15:G15) -> 0 | N15: =SUM(I15:M15) -> 0 | O15: =H15-N15 -> 0
A16: Camenbert | B16: =SUM('Semaine 3'!O16) -> 206 | H16: =SUM(B16:G16) -> 206 | N16: =SUM(I16:M16) -> 0 | O16: =H16-N16 -> 206
A17: Chanteneige | B17: =SUM('Semaine 3'!O17) -> 78 | H17: =SUM(B17:G17) -> 78 | N17: =SUM(I17:M17) -> 0 | O17: =H17-N17 -> 78
A18: Chevre | B18: =SUM('Semaine 3'!O18) -> 3 | H18: =SUM(B18:G18) -> 3 | N18: =SUM(I18:M18) -> 0 | O18: =H18-N18 -> 3
A19: Crème épaisse | B19: =SUM('Semaine 3'!O19) -> 15 | H19: =SUM(B19:G19) -> 15 | N19: =SUM(I19:M19) -> 0 | O19: =H19-N19 -> 15
A20: Creme pistache | B20: =SUM('Semaine 3'!O20) -> 0 | H20: =SUM(B20:G20) -> 0 | N20: =SUM(I20:M20) -> 0 | O20: =H20-N20 -> 0
A21: Creme renversee | B21: =SUM('Semaine 3'!O21) -> 0 | H21: =SUM(B21:G21) -> 0 | N21: =SUM(I21:M21) -> 0 | O21: =H21-N21 -> 0
... A54: Yaourt semoule | B54: =SUM('Semaine 3'!O54) -> 0 | H54: =SUM(B54:G54) -> 0 | N54: =SUM(I54:M54) -> 0 | O54: =H54-N54 -> 0
A55: ='Semaine 3'!A55 -> carre de lest | B55: =SUM('Semaine 3'!O55) -> 0 | H55: =SUM(B55:G55) -> 0 | N55: =SUM(I55:M55) -> 0 | O55: =H55-N55 -> 0
A56: ='Semaine 3'!A56 -> kiri | B56: =SUM('Semaine 3'!O56) -> 560 | H56: =SUM(B56:G56) -> 560 | N56: =SUM(I56:M56) -> 0 | O56: =H56-N56 -> 560
A57: ='Semaine 3'!A57 -> yaourt sucre | B57: =SUM('Semaine 3'!O57) -> 0 | H57: =SUM(B57:G57) -> 0 | N57: =SUM(I57:M57) -> 0 | O57: =H57-N57 -> 0
A58: ='Semaine 3'!A58 -> liegeois cafe | B58: =SUM('Semaine 3'!O58) -> 0 | H58: =SUM(B58:G58) -> 0 | N58: =SUM(I58:M58) -> 0 | O58: =H58-N58 -> 0
A59: ='Semaine 3'!A59 -> creme caramel | B59: =SUM('Semaine 3'!O59) -> 0 | H59: =SUM(B59:G59) -> 0 | N59: =SUM(I59:M59) -> 0 | O59: =H59-N59 -> 0
A60: ='Semaine 3'!A60 -> creme vanille | B60: =SUM('Semaine 3'!O60) -> 0 | H60: =SUM(B60:G60) -> 0 | N60: =SUM(I60:M60) -> 0 | O60: =H60-N60 -> 0
A61: ='Semaine 3'!A61 -> riz au lait nature | B61: =SUM('Semaine 3'!O61) -> 8 | H61: =SUM(B61:G61) -> 8 | N61: =SUM(I61:M61) -> 0 | O61: =H61-N61 -> 8
A62: ='Semaine 3'!A62 -> chantilly | B62: =SUM('Semaine 3'!O62) -> 1 | H62: =SUM(B62:G62) -> 1 | N62: =SUM(I62:M62) -> 0 | O62: =H62-N62 -> 1
A63: ='Semaine 3'!A63 -> port salut | B63: =SUM('Semaine 3'!O63) -> 0 | H63: =SUM(B63:G63) -> 0 | N63: =SUM(I63:M63) -> 0 | O63: =H63-N63 -> 0
A64: ='Semaine 3'!A64 -> rouy | B64: =SUM('Semaine 3'!O64) -> 0 | H64: =SUM(B64:G64) -> 0 | N64: =SUM(I64:M64) -> 0 | O64: =H64-N64 -> 0
A65: ='Semaine 3'!A65 -> œuf poche | B65: =SUM('Semaine 3'!O65) -> 0 | H65: =SUM(B65:G65) -> 0 | N65: =SUM(I65:M65) -> 0 | O65: =H65-N65 -> 0
A66: ='Semaine 3'!A66 -> mimolette | B66: =SUM('Semaine 3'!O66) -> 0 | H66: =SUM(B66:G66) -> 0 | N66: =SUM(I66:M66) -> 0 | O66: =H66-N66 -> 0
E73: ENTREES | K73: SORTIES
A75: DENREE | B75: STOCK | C75: lundi | D75: mardi | E75: mercredi | F75: jeudi | G75: vendredi | H75: TOTAL | I75: lundi | J75: mardi | K75: mercredi | L75: jeudi | M75: vendredi | N75: TOTAL | O75: STOCK
G76: PRODUITS LAITIERS 2
A78: ='Semaine 3'!A78 -> danette choconoisette | B78: =SUM('Semaine 3'!O78) -> 0 | H78: =SUM(B78:G78) -> 0 | N78: =SUM(I78:M78) -> 0 | O78: =H78-N78 -> 0
A79: ='Semaine 3'!A79 -> mozarella | B79: =SUM('Semaine 3'!O79) -> 0 | H79: =SUM(B79:G79) -> 0 | N79: =SUM(I79:M79) -> 0 | O79: =H79-N79 -> 0
A80: ='Semaine 3'!A80 -> pointe de brie | B80: =SUM('Semaine 3'!O80) -> 0 | H80: =SUM(B80:G80) -> 0 | N80: =SUM(I80:M80) -> 0 | O80: =H80-N80 -> 0
A81: ='Semaine 3'!A81 -> emmental 250gr | B81: =SUM('Semaine 3'!O81) -> 0 | H81: =SUM(B81:G81) -> 0 | N81: =SUM(I81:M81) -> 0 | O81: =H81-N81 -> 0
A82: ='Semaine 3'!A82 -> harengt 600gr | B82: =SUM('Semaine 3'!O82) -> 0 | H82: =SUM(B82:G82) -> 0 | N82: =SUM(I82:M82) -> 0 | O82: =H82-N82 -> 0
A83: ='Semaine 3'!A83 -> emmental rape | B83: =SUM('Semaine 3'!O83) -> 0 | H83: =SUM(B83:G83) -> 0 | N83: =SUM(I83:M83) -> 0 | O83: =H83-N83 -> 0
A84: ='Semaine 3'!A84 -> danette pistache | B84: =SUM('Semaine 3'!O84) -> 0 | H84: =SUM(B84:G84) -> 0 | N84: =SUM(I84:M84) -> 0 | O84: =H84-N84 -> 0
A85: ='Semaine 3'!A85 -> creme anglaise | B85: =SUM('Semaine 3'!O85) -> 33 | H85: =SUM(B85:G85) -> 33 | N85: =SUM(I85:M85) -> 0 | O85: =H85-N85 -> 33
A86: ='Semaine 3'!A86 -> coulommiers | B86: =SUM('Semaine 3'!O86) -> 0 | H86: =SUM(B86:G86) -> 0 | N86: =SUM(I86:M86) -> 0 | O86: =H86-N86 -> 0
A87: ='Semaine 3'!A87 -> gouda piece | B87: =SUM('Semaine 3'!O87) -> 0 | H87: =SUM(B87:G87) -> 0 | N87: =SUM(I87:M87) -> 0 | O87: =H87-N87 -> 0
A88: ='Semaine 3'!A88 -> creme praline | B88: =SUM('Semaine 3'!O88) -> 65 | H88: =SUM(B88:G88) -> 65 | N88: =SUM(I88:M88) -> 0 | O88: =H88-N88 -> 65
A89: ='Semaine 3'!A89 -> flamby caramelouchoco | B89: =SUM('Semaine 3'!O89) -> 0 | H89: =SUM(B89:G89) -> 0 | N89: =SUM(I89:M89) -> 0 | O89: =H89-N89 -> 0
... A134: ='Semaine 3'!A134 -> 0 | B134: =SUM('Semaine 3'!O134) -> 0 | H134: =SUM(B134:G134) -> 0 | N134: =SUM(I134:M134) -> 0 | O134: =H134-N134 -> 0
E138: ENTREES | K138: SORTIES
A140: DENREE | B140: STOCK | C140: lundi | D140: mardi | E140: mercredi | F140: jeudi | G140: vendredi | H140: TOTAL | I140: lundi | J140: mardi | K140: mercredi | L140: jeudi | M140: vendredi | N140: TOTAL | O140: STOCK
G141: EPICERIE 1
A143: Abricots au sirop 5/1 | B143: =SUM('Semaine 3'!O143) -> 0 | H143: =SUM(B143:G143) -> 0 | N143: =SUM(I143:M143) -> 0 | O143: =H143-N143 -> 0
A144: Aluminum | B144: =SUM('Semaine 2'!O144) -> 0 | H144: =SUM(B144:G144) -> 0 | N144: =SUM(I144:M144) -> 0 | O144: =H144-N144 -> 0
A145: Ananas au sirop 3/1 | B145: =SUM('Semaine 2'!O145) -> 5 | H145: =SUM(B145:G145) -> 5 | N145: =SUM(I145:M145) -> 0 | O145: =H145-N145 -> 5
A146: ananas couper 3/1 | B146: =SUM('Semaine 3'!O146) -> 5 | H146: =SUM(B146:G146) -> 5 | N146: =SUM(I146:M146) -> 0 | O146: =H146-N146 -> 5
A147: arome patrelle | B147: =SUM('Semaine 3'!O147) -> 0 | H147: =SUM(B147:G147) -> 0 | N147: =SUM(I147:M147) -> 0 | O147: =H147-N147 -> 0
A148: barre chocolat | B148: =SUM('Semaine 3'!O148) -> 391 | H148: =SUM(B148:G148) -> 391 | N148: =SUM(I148:M148) -> 0 | O148: =H148-N148 -> 391
A149: basilic | B149: =SUM('Semaine 3'!O149) -> 0 | H149: =SUM(B149:G149) -> 0 | N149: =SUM(I149:M149) -> 0 | O149: =H149-N149 -> 0
A150: Bouillon de bœuf | B150: =SUM('Semaine 3'!O150) -> 0 | H150: =SUM(B150:G150) -> 0 | N150: =SUM(I150:M150) -> 0 | O150: =H150-N150 -> 0
A151: Bouillon de volaille | B151: =SUM('Semaine 3'!O151) -> 4 | H151: =SUM(B151:G151) -> 4 | N151: =SUM(I151:M151) -> 0 | O151: =H151-N151 -> 4
A152: Café moulu | B152: =SUM('Semaine 3'!O152) -> 31 | H152: =SUM(B152:G152) -> 31 | N152: =SUM(I152:M152) -> 0 | O152: =H152-N152 -> 31
A153: cereale sac | B153: =SUM('Semaine 3'!O153) -> 8 | H153: =SUM(B153:G153) -> 8 | N153: =SUM(I153:M153) -> 0 | O153: =H153-N153 -> 8
A154: cidre | B154: =SUM('Semaine 3'!O154) -> 15 | H154: =SUM(B154:G154) -> 15 | N154: =SUM(I154:M154) -> 0 | O154: =H154-N154 -> 15
A155: Cocktail de fruits 5/1 | B155: =SUM('Semaine 3'!O155) -> 6 | H155: =SUM(B155:G155) -> 6 | N155: =SUM(I155:M155) -> 0 | O155: =H155-N155 -> 6
A156: Compote poires 5/1 | B156: =SUM('Semaine 3'!O156) -> 3 | H156: =SUM(B156:G156) -> 3 | N156: =SUM(I156:M156) -> 0 | O156: =H156-N156 -> 3
A157: compote pom mad | B157: =SUM('Semaine 3'!O157) -> 0 | H157: =SUM(B157:G157) -> 0 | N157: =SUM(I157:M157) -> 0 | O157: =H157-N157 -> 0
... A203: jus de veau | B203: =SUM('Semaine 3'!O203) -> 7 | H203: =SUM(B203:G203) -> 7 | N203: =SUM(I203:M203) -> 0 | O203: =H203-N203 -> 7
A204: lentille beluga | B204: =SUM('Semaine 1'!O204) -> 0 | H204: =SUM(B204:G204) -> 0 | N204: =SUM(I204:M204) -> 0 | O204: =H204-N204 -> 0
A205: miel | B205: =SUM('Semaine 1'!O205) -> 0 | H205: =SUM(B205:G205) -> 0 | N205: =SUM(I205:M205) -> 0 | O205: =H205-N205 -> 0
E211: ENTREES | K211: SORTIES
A213: DENREE | B213: STOCK | C213: lundi | D213: mardi | E213: mercredi | F213: jeudi | G213: vendredi | H213: TOTAL | I213: lundi | J213: mardi | K213: mercredi | L213: jeudi | M213: vendredi | N213: TOTAL | O213: STOCK
G214: EPICERIE 2
A216: jus de citron | B216: =SUM('Semaine 3'!O216) -> 3 | H216: =SUM(B216:G216) -> 3 | N216: =SUM(I216:M216) -> 0 | O216: =H216-N216 -> 3
A217: jus de poulet | B217: =SUM('Semaine 3'!O217) -> 0 | H217: =SUM(B217:G217) -> 0 | N217: =SUM(I217:M217) -> 0 | O217: =H217-N217 -> 0
A218: jus dorange | B218: =SUM('Semaine 3'!O218) -> 71 | H218: =SUM(B218:G218) -> 71 | N218: =SUM(I218:M218) -> 0 | O218: =H218-N218 -> 71
A219: jus dorange brique | B219: =SUM('Semaine 3'!O219) -> 0 | H219: =SUM(B219:G219) -> 0 | N219: =SUM(I219:M219) -> 0 | O219: =H219-N219 -> 0
A220: ketchup | B220: =SUM('Semaine 3'!O220) -> 0 | H220: =SUM(B220:G220) -> 0 | N220: =SUM(I220:M220) -> 0 | O220: =H220-N220 -> 0
A221: Lasagne | B221: =SUM('Semaine 3'!O221) -> 6 | H221: =SUM(B221:G221) -> 6 | N221: =SUM(I221:M221) -> 0 | O221: =H221-N221 -> 6
A222: laurier | B222: =SUM('Semaine 3'!O222) -> 1 | H222: =SUM(B222:G222) -> 1 | N222: =SUM(I222:M222) -> 0 | O222: =H222-N222 -> 1
A223: Lentilles | B223: =SUM('Semaine 3'!O223) -> 42 | H223: =SUM(B223:G223) -> 42 | N223: =SUM(I223:M223) -> 0 | O223: =H223-N223 -> 42
A224: lentille beluga | B224: =SUM('Semaine 3'!O224) -> 0 | H224: =SUM(B224:G224) -> 0 | N224: =SUM(I224:M224) -> 0 | O224: =H224-N224 -> 0
A225: Macaroni | B225: =SUM('Semaine 3'!O225) -> 10 | H225: =SUM(B225:G225) -> 10 | N225: =SUM(I225:M225) -> 0 | O225: =H225-N225 -> 10
A226: macedoine 4/4 | B226: =SUM('Semaine 3'!O226) -> 4 | H226: =SUM(B226:G226) -> 4 | N226: =SUM(I226:M226) -> 0 | O226: =H226-N226 -> 4
A227: Macédoine 5/1 | B227: =SUM('Semaine 3'!O227) -> 18 | H227: =SUM(B227:G227) -> 18 | N227: =SUM(I227:M227) -> 0 | O227: =H227-N227 -> 18
... A265: Vinaigre de vin | B265: =SUM('Semaine 3'!O265) -> 52 | H265: =SUM(B265:G265) -> 52 | N265: =SUM(I265:M265) -> 0 | O265: =H265-N265 -> 52
A266: ='Semaine 3'!A266 -> sirop peche | B266: =SUM('Semaine 3'!O266) -> 3 | H266: =SUM(B266:G266) -> 3 | N266: =SUM(I266:M266) -> 0 | O266: =H266-N266 -> 3
A267: ='Semaine 3'!A267 -> pate a tartiner | B267: =SUM('Semaine 3'!O267) -> 71 | H267: =SUM(B267:G267) -> 71 | N267: =SUM(I267:M267) -> 0 | O267: =H267-N267 -> 71
A268: ='Semaine 3'!A268 -> artichaud 4/4 | B268: =SUM('Semaine 3'!O268) -> 19 | H268: =SUM(B268:G268) -> 19 | N268: =SUM(I268:M268) -> 0 | O268: =H268-N268 -> 19
A269: ='Semaine 3'!A269 -> palmiers | B269: =SUM('Semaine 3'!O269) -> 0 | H269: =SUM(B269:G269) -> 0 | N269: =SUM(I269:M269) -> 0 | O269: =H269-N269 -> 0
A270: ='Semaine 3'!A270 -> miel ind | B270: =SUM('Semaine 3'!O270) -> 140 | H270: =SUM(B270:G270) -> 140 | N270: =SUM(I270:M270) -> 0 | O270: =H270-N270 -> 140
A271: ='Semaine 3'!A271 -> champignon 4/4 | B271: =SUM('Semaine 3'!O271) -> 8 | H271: =SUM(B271:G271) -> 8 | N271: =SUM(I271:M271) -> 0 | O271: =H271-N271 -> 8
A272: ='Semaine 3'!A272 -> Tomates pelées 4/4 | B272: =SUM('Semaine 3'!O272) -> 21 | H272: =SUM(B272:G272) -> 21 | N272: =SUM(I272:M272) -> 0 | O272: =H272-N272 -> 21
A273: ='Semaine 3'!A273 -> moelleux citron | B273: =SUM('Semaine 3'!O273) -> 0 | H273: =SUM(B273:G273) -> 0 | N273: =SUM(I273:M273) -> 0 | O273: =H273-N273 -> 0
A274: ='Semaine 3'!A274 -> olive verte 4/4 | B274: =SUM('Semaine 3'!O274) -> 5 | H274: =SUM(B274:G274) -> 5 | N274: =SUM(I274:M274) -> 0 | O274: =H274-N274 -> 5
A275: ='Semaine 3'!A275 -> petit pois carotte5/1 | B275: =SUM('Semaine 3'!O275) -> 1 | H275: =SUM(B275:G275) -> 1 | N275: =SUM(I275:M275) -> 0 | O275: =H275-N275 -> 1
A276: ='Semaine 3'!A276 -> piment doux | B276: =SUM('Semaine 3'!O276) -> 0 | H276: =SUM(B276:G276) -> 0 | N276: =SUM(I276:M276) -> 0 | O276: =H276-N276 -> 0
A277: ='Semaine 3'!A277 -> aluminium | B277: =SUM('Semaine 3'!O277) -> 7 | H277: =SUM(B277:G277) -> 7 | N277: =SUM(I277:M277) -> 0 | O277: =H277-N277 -> 7
... A281: ='Semaine 3'!A281 -> coulis de tomate | B281: =SUM('Semaine 3'!O281) -> 13 | H281: =SUM(B281:G281) -> 13 | N281: =SUM(I281:M281) -> 0 | O281: =H281-N281 -> 13
E284: ENTREES | K284: SORTIES
A286: DENREE | B286: STOCK | C286: lundi | D286: mardi | E286: mercredi | F286: jeudi | G286: vendredi | H286: TOTAL | I286: lundi | J286: mardi | K286: mercredi | L286: jeudi | M286: vendredi | N286: TOTAL | O286: STOCK
G287: EPICERIE 3
A289: ='Semaine 3'!A289 -> taboulet garniture5/1 | B289: =SUM('Semaine 3'!O289) -> 3 | H289: =SUM(B289:G289) -> 3 | N289: =SUM(I289:M289) -> 0 | O289: =H289-N289 -> 3
...
