Workbook
Name AST: OFFSET(Paramètres!$C$1,,,COUNTA(Paramètres!$C:$C),1)
Name CA: OFFSET(Paramètres!$D$1,,,COUNTA(Paramètres!$D:$D),1)
Name Feries: OFFSET(Paramètres!$A$1,,,COUNTA(Paramètres!$A:$A),1)
Name FL: OFFSET(Paramètres!$G$1,,,COUNTA(Paramètres!$G:$G),1)
Name GR: OFFSET(Paramètres!$I$1,,,COUNTA(Paramètres!$I:$I),1)
Name ML: OFFSET(Paramètres!$F$1,,,COUNTA(Paramètres!$F:$F),1)
Name Repos: OFFSET(Paramètres!$E$1,,,COUNTA(Paramètres!$E:$E),1)
Name RTT: OFFSET(Paramètres!$B$1,,,COUNTA(Paramètres!$B:$B),1)
Name Solidarité: OFFSET(Paramètres!$H$1,,,COUNTA(Paramètres!$H:$H),1)

Sheet Calendrier
A1: 2017
B3: =DATE($A$1,COLUMN()-1,1) -> 42736 | F3: =DATE($A$1,COLUMN()-4,1) -> 42767 | J3: =DATE($A$1,COLUMN()-7,1) -> 42795 | N3: =DATE($A$1,COLUMN()-10,1) -> 42826 | R3: =DATE($A$1,COLUMN()-13,1) -> 42856 | V3: =DATE($A$1,COLUMN()-16,1) -> 42887 | Z3: =DATE($A$1,COLUMN()-19,1) -> 42917 | AD3: =DATE($A$1,COLUMN()-22,1) -> 42948 | AH3: =DATE($A$1,COLUMN()-25,1) -> 42979 | AL3: =DATE($A$1,COLUMN()-28,1) -> 43009 | AP3: =DATE($A$1,COLUMN()-31,1) -> 43040 | AT3: =DATE($A$1,COLUMN()-34,1) -> 43070
B5: =DATE($A$1,COLUMN()-1,ROW()-4) -> 42736 | C5: =DATE($A$1,COLUMN()-2,ROW()-4) -> 42736 | D5: =IF(VLOOKUP(C5,Feries,1,FALSE),"férié",) -> férié | F5: =DATE($A$1,COLUMN()-4,ROW()-4) -> 42767 | G5: =DATE($A$1,COLUMN()-5,ROW()-4) -> 42767 | J5: =DATE($A$1,COLUMN()-7,ROW()-4) -> 42795 | K5: =DATE($A$1,COLUMN()-8,ROW()-4) -> 42795 | N5: =DATE($A$1,COLUMN()-10,ROW()-4) -> 42826 | O5: =DATE($A$1,COLUMN()-11,ROW()-4) -> 42826 | R5: =DATE($A$1,COLUMN()-13,ROW()-4) -> 42856 | S5: =DATE($A$1,COLUMN()-14,ROW()-4) -> 42856 | V5: =DATE($A$1,COLUMN()-16,ROW()-4) -> 42887 | W5: =DATE($A$1,COLUMN()-17,ROW()-4) -> 42887 | Z5: =DATE($A$1,COLUMN()-19,ROW()-4) -> 42917 | AA5: =DATE($A$1,COLUMN()-20,ROW()-4) -> 42917 | AD5: =DATE($A$1,COLUMN()-22,ROW()-4) -> 42948 | AE5: =DATE($A$1,COLUMN()-23,ROW()-4) -> 42948 | AH5: =DATE($A$1,COLUMN()-25,ROW()-4) -> 42979 | AI5: =DATE($A$1,COLUMN()-26,ROW()-4) -> 42979 | AL5: =DATE($A$1,COLUMN()-28,ROW()-4) -> 43009 | AM5: =DATE($A$1,COLUMN()-29,ROW()-4) -> 43009 | AP5: =DATE($A$1,COLUMN()-31,ROW()-4) -> 43040 | AQ5: =DATE($A$1,COLUMN()-32,ROW()-4) -> 43040 | AT5: =DATE($A$1,COLUMN()-34,ROW()-4) -> 43070 | AU5: =DATE($A$1,COLUMN()-35,ROW()-4) -> 43070
B6: =DATE($A$1,COLUMN()-1,ROW()-4) -> 42737 | C6: =DATE($A$1,COLUMN()-2,ROW()-4) -> 42737 | F6: =DATE($A$1,COLUMN()-4,ROW()-4) -> 42768 | G6: =DATE($A$1,COLUMN()-5,ROW()-4) -> 42768 | J6: =DATE($A$1,COLUMN()-7,ROW()-4) -> 42796 | K6: =DATE($A$1,COLUMN()-8,ROW()-4) -> 42796 | N6: =DATE($A$1,COLUMN()-10,ROW()-4) -> 42827 | O6: =DATE($A$1,COLUMN()-11,ROW()-4) -> 42827 | R6: =DATE($A$1,COLUMN()-13,ROW()-4) -> 42857 | S6: =DATE($A$1,COLUMN()-14,ROW()-4) -> 42857 | V6: =DATE($A$1,COLUMN()-16,ROW()-4) -> 42888 | W6: =DATE($A$1,COLUMN()-17,ROW()-4) -> 42888 | Z6: =DATE($A$1,COLUMN()-19,ROW()-4) -> 42918 | AA6: =DATE($A$1,COLUMN()-20,ROW()-4) -> 42918 | AD6: =DATE($A$1,COLUMN()-22,ROW()-4) -> 42949 | AE6: =DATE($A$1,COLUMN()-23,ROW()-4) -> 42949 | AH6: =DATE($A$1,COLUMN()-25,ROW()-4) -> 42980 | AI6: =DATE($A$1,COLUMN()-26,ROW()-4) -> 42980 | AL6: =DATE($A$1,COLUMN()-28,ROW()-4) -> 43010 | AM6: =DATE($A$1,COLUMN()-29,ROW()-4) -> 43010 | AP6: =DATE($A$1,COLUMN()-31,ROW()-4) -> 43041 | AQ6: =DATE($A$1,COLUMN()-32,ROW()-4) -> 43041 | AT6: =DATE($A$1,COLUMN()-34,ROW()-4) -> 43071 | AU6: =DATE($A$1,COLUMN()-35,ROW()-4) -> 43071
B7: =DATE($A$1,COLUMN()-1,ROW()-4) -> 42738 | C7: =DATE($A$1,COLUMN()-2,ROW()-4) -> 42738 | F7: =DATE($A$1,COLUMN()-4,ROW()-4) -> 42769 | G7: =DATE($A$1,COLUMN()-5,ROW()-4) -> 42769 | J7: =DATE($A$1,COLUMN()-7,ROW()-4) -> 42797 | K7: =DATE($A$1,COLUMN()-8,ROW()-4) -> 42797 | N7: =DATE($A$1,COLUMN()-10,ROW()-4) -> 42828 | O7: =DATE($A$1,COLUMN()-11,ROW()-4) -> 42828 | R7: =DATE($A$1,COLUMN()-13,ROW()-4) -> 42858 | S7: =DATE($A$1,COLUMN()-14,ROW()-4) -> 42858 | V7: =DATE($A$1,COLUMN()-16,ROW()-4) -> 42889 | W7: =DATE($A$1,COLUMN()-17,ROW()-4) -> 42889 | Z7: =DATE($A$1,COLUMN()-19,ROW()-4) -> 42919 | AA7: =DATE($A$1,COLUMN()-20,ROW()-4) -> 42919 | AD7: =DATE($A$1,COLUMN()-22,ROW()-4) -> 42950 | AE7: =DATE($A$1,COLUMN()-23,ROW()-4) -> 42950 | AH7: =DATE($A$1,COLUMN()-25,ROW()-4) -> 42981 | AI7: =DATE($A$1,COLUMN()-26,ROW()-4) -> 42981 | AL7: =DATE($A$1,COLUMN()-28,ROW()-4) -> 43011 | AM7: =DATE($A$1,COLUMN()-29,ROW()-4) -> 43011 | AP7: =DATE($A$1,COLUMN()-31,ROW()-4) -> 43042 | AQ7: =DATE($A$1,COLUMN()-32,ROW()-4) -> 43042 | AT7: =DATE($A$1,COLUMN()-34,ROW()-4) -> 43072 | AU7: =DATE($A$1,COLUMN()-35,ROW()-4) -> 43072
B8: =DATE($A$1,COLUMN()-1,ROW()-4) -> 42739 | C8: =DATE($A$1,COLUMN()-2,ROW()-4) -> 42739 | F8: =DATE($A$1,COLUMN()-4,ROW()-4) -> 42770 | G8: =DATE($A$1,COLUMN()-5,ROW()-4) -> 42770 | J8: =DATE($A$1,COLUMN()-7,ROW()-4) -> 42798 | K8: =DATE($A$1,COLUMN()-8,ROW()-4) -> 42798 | N8: =DATE($A$1,COLUMN()-10,ROW()-4) -> 42829 | O8: =DATE($A$1,COLUMN()-11,ROW()-4) -> 42829 | R8: =DATE($A$1,COLUMN()-13,ROW()-4) -> 42859 | S8: =DATE($A$1,COLUMN()-14,ROW()-4) -> 42859 | V8: =DATE($A$1,COLUMN()-16,ROW()-4) -> 42890 | W8: =DATE($A$1,COLUMN()-17,ROW()-4) -> 42890 | Z8: =DATE($A$1,COLUMN()-19,ROW()-4) -> 42920 | AA8: =DATE($A$1,COLUMN()-20,ROW()-4) -> 42920 | AD8: =DATE($A$1,COLUMN()-22,ROW()-4) -> 42951 | AE8: =DATE($A$1,COLUMN()-23,ROW()-4) -> 42951 | AH8: =DATE($A$1,COLUMN()-25,ROW()-4) -> 42982 | AI8: =DATE($A$1,COLUMN()-26,ROW()-4) -> 42982 | AL8: =DATE($A$1,COLUMN()-28,ROW()-4) -> 43012 | AM8: =DATE($A$1,COLUMN()-29,ROW()-4) -> 43012 | AP8: =DATE($A$1,COLUMN()-31,ROW()-4) -> 43043 | AQ8: =DATE($A$1,COLUMN()-32,ROW()-4) -> 43043 | AT8: =DATE($A$1,COLUMN()-34,ROW()-4) -> 43073 | AU8: =DATE($A$1,COLUMN()-35,ROW()-4) -> 43073
B9: =DATE($A$1,COLUMN()-1,ROW()-4) -> 42740 | C9: =DATE($A$1,COLUMN()-2,ROW()-4) -> 42740 | F9: =DATE($A$1,COLUMN()-4,ROW()-4) -> 42771 | G9: =DATE($A$1,COLUMN()-5,ROW()-4) -> 42771 | J9: =DATE($A$1,COLUMN()-7,ROW()-4) -> 42799 | K9: =DATE($A$1,COLUMN()-8,ROW()-4) -> 42799 | N9: =DATE($A$1,COLUMN()-10,ROW()-4) -> 42830 | O9: =DATE($A$1,COLUMN()-11,ROW()-4) -> 42830 | R9: =DATE($A$1,COLUMN()-13,ROW()-4) -> 42860 | S9: =DATE($A$1,COLUMN()-14,ROW()-4) -> 42860 | V9: =DATE($A$1,COLUMN()-16,ROW()-4) -> 42891 | W9: =DATE($A$1,COLUMN()-17,ROW()-4) -> 42891 | Z9: =DATE($A$1,COLUMN()-19,ROW()-4) -> 42921 | AA9: =DATE($A$1,COLUMN()-20,ROW()-4) -> 42921 | AD9: =DATE($A$1,COLUMN()-22,ROW()-4) -> 42952 | AE9: =DATE($A$1,COLUMN()-23,ROW()-4) -> 42952 | AH9: =DATE($A$1,COLUMN()-25,ROW()-4) -> 42983 | AI9: =DATE($A$1,COLUMN()-26,ROW()-4) -> 42983 | AL9: =DATE($A$1,COLUMN()-28,ROW()-4) -> 43013 | AM9: =DATE($A$1,COLUMN()-29,ROW()-4) -> 43013 | AP9: =DATE($A$1,COLUMN()-31,ROW()-4) -> 43044 | AQ9: =DATE($A$1,COLUMN()-32,ROW()-4) -> 43044 | AT9: =DATE($A$1,COLUMN()-34,ROW()-4) -> 43074 | AU9: =DATE($A$1,COLUMN()-35,ROW()-4) -> 43074
B10: =DATE($A$1,COLUMN()-1,ROW()-4) -> 42741 | C10: =DATE($A$1,COLUMN()-2,ROW()-4) -> 42741 | F10: =DATE($A$1,COLUMN()-4,ROW()-4) -> 42772 | G10: =DATE($A$1,COLUMN()-5,ROW()-4) -> 42772 | J10: =DATE($A$1,COLUMN()-7,ROW()-4) -> 42800 | K10: =DATE($A$1,COLUMN()-8,ROW()-4) -> 42800 | N10: =DATE($A$1,COLUMN()-10,ROW()-4) -> 42831 | O10: =DATE($A$1,COLUMN()-11,ROW()-4) -> 42831 | R10: =DATE($A$1,COLUMN()-13,ROW()-4) -> 42861 | S10: =DATE($A$1,COLUMN()-14,ROW()-4) -> 42861 | V10: =DATE($A$1,COLUMN()-16,ROW()-4) -> 42892 | W10: =DATE($A$1,COLUMN()-17,ROW()-4) -> 42892 | Z10: =DATE($A$1,COLUMN()-19,ROW()-4) -> 42922 | AA10: =DATE($A$1,COLUMN()-20,ROW()-4) -> 42922 | AD10: =DATE($A$1,COLUMN()-22,ROW()-4) -> 42953 | AE10: =DATE($A$1,COLUMN()-23,ROW()-4) -> 42953 | AH10: =DATE($A$1,COLUMN()-25,ROW()-4) -> 42984 | AI10: =DATE($A$1,COLUMN()-26,ROW()-4) -> 42984 | AL10: =DATE($A$1,COLUMN()-28,ROW()-4) -> 43014 | AM10: =DATE($A$1,COLUMN()-29,ROW()-4) -> 43014 | AP10: =DATE($A$1,COLUMN()-31,ROW()-4) -> 43045 | AQ10: =DATE($A$1,COLUMN()-32,ROW()-4) -> 43045 | AT10: =DATE($A$1,COLUMN()-34,ROW()-4) -> 43075 | AU10: =DATE($A$1,COLUMN()-35,ROW()-4) -> 43075
B11: =DATE($A$1,COLUMN()-1,ROW()-4) -> 42742 | C11: =DATE($A$1,COLUMN()-2,ROW()-4) -> 42742 | F11: =DATE($A$1,COLUMN()-4,ROW()-4) -> 42773 | G11: =DATE($A$1,COLUMN()-5,ROW()-4) -> 42773 | J11: =DATE($A$1,COLUMN()-7,ROW()-4) -> 42801 | K11: =DATE($A$1,COLUMN()-8,ROW()-4) -> 42801 | N11: =DATE($A$1,COLUMN()-10,ROW()-4) -> 42832 | O11: =DATE($A$1,COLUMN()-11,ROW()-4) -> 42832 | R11: =DATE($A$1,COLUMN()-13,ROW()-4) -> 42862 | S11: =DATE($A$1,COLUMN()-14,ROW()-4) -> 42862 | V11: =DATE($A$1,COLUMN()-16,ROW()-4) -> 42893 | W11: =DATE($A$1,COLUMN()-17,ROW()-4) -> 42893 | Z11: =DATE($A$1,COLUMN()-19,ROW()-4) -> 42923 | AA11: =DATE($A$1,COLUMN()-20,ROW()-4) -> 42923 | AD11: =DATE($A$1,COLUMN()-22,ROW()-4) -> 42954 | AE11: =DATE($A$1,COLUMN()-23,ROW()-4) -> 42954 | AH11: =DATE($A$1,COLUMN()-25,ROW()-4) -> 42985 | AI11: =DATE($A$1,COLUMN()-26,ROW()-4) -> 42985 | AL11: =DATE($A$1,COLUMN()-28,ROW()-4) -> 43015 | AM11: =DATE($A$1,COLUMN()-29,ROW()-4) -> 43015 | AP11: =DATE($A$1,COLUMN()-31,ROW()-4) -> 43046 | AQ11: =DATE($A$1,COLUMN()-32,ROW()-4) -> 43046 | AT11: =DATE($A$1,COLUMN()-34,ROW()-4) -> 43076 | AU11: =DATE($A$1,COLUMN()-35,ROW()-4) -> 43076
B12: =DATE($A$1,COLUMN()-1,ROW()-4) -> 42743 | C12: =DATE($A$1,COLUMN()-2,ROW()-4) -> 42743 | F12: =DATE($A$1,COLUMN()-4,ROW()-4) -> 42774 | G12: =DATE($A$1,COLUMN()-5,ROW()-4) -> 42774 | J12: =DATE($A$1,COLUMN()-7,ROW()-4) -> 42802 | K12: =DATE($A$1,COLUMN()-8,ROW()-4) -> 42802 | N12: =DATE($A$1,COLUMN()-10,ROW()-4) -> 42833 | O12: =DATE($A$1,COLUMN()-11,ROW()-4) -> 42833 | R12: =DATE($A$1,COLUMN()-13,ROW()-4) -> 42863 | S12: =DATE($A$1,COLUMN()-14,ROW()-4) -> 42863 | V12: =DATE($A$1,COLUMN()-16,ROW()-4) -> 42894 | W12: =DATE($A$1,COLUMN()-17,ROW()-4) -> 42894 | Z12: =DATE($A$1,COLUMN()-19,ROW()-4) -> 42924 | AA12: =DATE($A$1,COLUMN()-20,ROW()-4) -> 42924 | AD12: =DATE($A$1,COLUMN()-22,ROW()-4) -> 42955 | AE12: =DATE($A$1,COLUMN()-23,ROW()-4) -> 42955 | AH12: =DATE($A$1,COLUMN()-25,ROW()-4) -> 42986 | AI12: =DATE($A$1,COLUMN()-26,ROW()-4) -> 42986 | AL12: =DATE($A$1,COLUMN()-28,ROW()-4) -> 43016 | AM12: =DATE($A$1,COLUMN()-29,ROW()-4) -> 43016 | AP12: =DATE($A$1,COLUMN()-31,ROW()-4) -> 43047 | AQ12: =DATE($A$1,COLUMN()-32,ROW()-4) -> 43047 | AT12: =DATE($A$1,COLUMN()-34,ROW()-4) -> 43077 | AU12: =DATE($A$1,COLUMN()-35,ROW()-4) -> 43077
B13: =DATE($A$1,COLUMN()-1,ROW()-4) -> 42744 | C13: =DATE($A$1,COLUMN()-2,ROW()-4) -> 42744 | F13: =DATE($A$1,COLUMN()-4,ROW()-4) -> 42775 | G13: =DATE($A$1,COLUMN()-5,ROW()-4) -> 42775 | J13: =DATE($A$1,COLUMN()-7,ROW()-4) -> 42803 | K13: =DATE($A$1,COLUMN()-8,ROW()-4) -> 42803 | N13: =DATE($A$1,COLUMN()-10,ROW()-4) -> 42834 | O13: =DATE($A$1,COLUMN()-11,ROW()-4) -> 42834 | R13: =DATE($A$1,COLUMN()-13,ROW()-4) -> 42864 | S13: =DATE($A$1,COLUMN()-14,ROW()-4) -> 42864 | V13: =DATE($A$1,COLUMN()-16,ROW()-4) -> 42895 | W13: =DATE($A$1,COLUMN()-17,ROW()-4) -> 42895 | Z13: =DATE($A$1,COLUMN()-19,ROW()-4) -> 42925 | AA13: =DATE($A$1,COLUMN()-20,ROW()-4) -> 42925 | AD13: =DATE($A$1,COLUMN()-22,ROW()-4) -> 42956 | AE13: =DATE($A$1,COLUMN()-23,ROW()-4) -> 42956 | AH13: =DATE($A$1,COLUMN()-25,ROW()-4) -> 42987 | AI13: =DATE($A$1,COLUMN()-26,ROW()-4) -> 42987 | AL13: =DATE($A$1,COLUMN()-28,ROW()-4) -> 43017 | AM13: =DATE($A$1,COLUMN()-29,ROW()-4) -> 43017 | AP13: =DATE($A$1,COLUMN()-31,ROW()-4) -> 43048 | AQ13: =DATE($A$1,COLUMN()-32,ROW()-4) -> 43048 | AT13: =DATE($A$1,COLUMN()-34,ROW()-4) -> 43078 | AU13: =DATE($A$1,COLUMN()-35,ROW()-4) -> 43078
B14: =DATE($A$1,COLUMN()-1,ROW()-4) -> 42745 | C14: =DATE($A$1,COLUMN()-2,ROW()-4) -> 42745 | F14: =DATE($A$1,COLUMN()-4,ROW()-4) -> 42776 | G14: =DATE($A$1,COLUMN()-5,ROW()-4) -> 42776 | J14: =DATE($A$1,COLUMN()-7,ROW()-4) -> 42804 | K14: =DATE($A$1,COLUMN()-8,ROW()-4) -> 42804 | N14: =DATE($A$1,COLUMN()-10,ROW()-4) -> 42835 | O14: =DATE($A$1,COLUMN()-11,ROW()-4) -> 42835 | R14: =DATE($A$1,COLUMN()-13,ROW()-4) -> 42865 | S14: =DATE($A$1,COLUMN()-14,ROW()-4) -> 42865 | V14: =DATE($A$1,COLUMN()-16,ROW()-4) -> 42896 | W14: =DATE($A$1,COLUMN()-17,ROW()-4) -> 42896 | Z14: =DATE($A$1,COLUMN()-19,ROW()-4) -> 42926 | AA14: =DATE($A$1,COLUMN()-20,ROW()-4) -> 42926 | AD14: =DATE($A$1,COLUMN()-22,ROW()-4) -> 42957 | AE14: =DATE($A$1,COLUMN()-23,ROW()-4) -> 42957 | AH14: =DATE($A$1,COLUMN()-25,ROW()-4) -> 42988 | AI14: =DATE($A$1,COLUMN()-26,ROW()-4) -> 42988 | AL14: =DATE($A$1,COLUMN()-28,ROW()-4) -> 43018 | AM14: =DATE($A$1,COLUMN()-29,ROW()-4) -> 43018 | AP14: =DATE($A$1,COLUMN()-31,ROW()-4) -> 43049 | AQ14: =DATE($A$1,COLUMN()-32,ROW()-4) -> 43049 | AT14: =DATE($A$1,COLUMN()-34,ROW()-4) -> 43079 | AU14: =DATE($A$1,COLUMN()-35,ROW()-4) -> 43079
B15: =DATE($A$1,COLUMN()-1,ROW()-4) -> 42746 | C15: =DATE($A$1,COLUMN()-2,ROW()-4) -> 42746 | F15: =DATE($A$1,COLUMN()-4,ROW()-4) -> 42777 | G15: =DATE($A$1,COLUMN()-5,ROW()-4) -> 42777 | J15: =DATE($A$1,COLUMN()-7,ROW()-4) -> 42805 | K15: =DATE($A$1,COLUMN()-8,ROW()-4) -> 42805 | N15: =DATE($A$1,COLUMN()-10,ROW()-4) -> 42836 | O15: =DATE($A$1,COLUMN()-11,ROW()-4) -> 42836 | R15: =DATE($A$1,COLUMN()-13,ROW()-4) -> 42866 | S15: =DATE($A$1,COLUMN()-14,ROW()-4) -> 42866 | V15: =DATE($A$1,COLUMN()-16,ROW()-4) -> 42897 | W15: =DATE($A$1,COLUMN()-17,ROW()-4) -> 42897 | Z15: =DATE($A$1,COLUMN()-19,ROW()-4) -> 42927 | AA15: =DATE($A$1,COLUMN()-20,ROW()-4) -> 42927 | AD15: =DATE($A$1,COLUMN()-22,ROW()-4) -> 42958 | AE15: =DATE($A$1,COLUMN()-23,ROW()-4) -> 42958 | AH15: =DATE($A$1,COLUMN()-25,ROW()-4) -> 42989 | AI15: =DATE($A$1,COLUMN()-26,ROW()-4) -> 42989 | AL15: =DATE($A$1,COLUMN()-28,ROW()-4) -> 43019 | AM15: =DATE($A$1,COLUMN()-29,ROW()-4) -> 43019 | AP15: =DATE($A$1,COLUMN()-31,ROW()-4) -> 43050 | AQ15: =DATE($A$1,COLUMN()-32,ROW()-4) -> 43050 | AT15: =DATE($A$1,COLUMN()-34,ROW()-4) -> 43080 | AU15: =DATE($A$1,COLUMN()-35,ROW()-4) -> 43080
B16: =DATE($A$1,COLUMN()-1,ROW()-4) -> 42747 | C16: =DATE($A$1,COLUMN()-2,ROW()-4) -> 42747 | F16: =DATE($A$1,COLUMN()-4,ROW()-4) -> 42778 | G16: =DATE($A$1,COLUMN()-5,ROW()-4) -> 42778 | J16: =DATE($A$1,COLUMN()-7,ROW()-4) -> 42806 | K16: =DATE($A$1,COLUMN()-8,ROW()-4) -> 42806 | N16: =DATE($A$1,COLUMN()-10,ROW()-4) -> 42837 | O16: =DATE($A$1,COLUMN()-11,ROW()-4) -> 42837 | R16: =DATE($A$1,COLUMN()-13,ROW()-4) -> 42867 | S16: =DATE($A$1,COLUMN()-14,ROW()-4) -> 42867 | V16: =DATE($A$1,COLUMN()-16,ROW()-4) -> 42898 | W16: =DATE($A$1,COLUMN()-17,ROW()-4) -> 42898 | Z16: =DATE($A$1,COLUMN()-19,ROW()-4) -> 42928 | AA16: =DATE($A$1,COLUMN()-20,ROW()-4) -> 42928 | AD16: =DATE($A$1,COLUMN()-22,ROW()-4) -> 42959 | AE16: =DATE($A$1,COLUMN()-23,ROW()-4) -> 42959 | AH16: =DATE($A$1,COLUMN()-25,ROW()-4) -> 42990 | AI16: =DATE($A$1,COLUMN()-26,ROW()-4) -> 42990 | AL16: =DATE($A$1,COLUMN()-28,ROW()-4) -> 43020 | AM16: =DATE($A$1,COLUMN()-29,ROW()-4) -> 43020 | AP16: =DATE($A$1,COLUMN()-31,ROW()-4) -> 43051 | AQ16: =DATE($A$1,COLUMN()-32,ROW()-4) -> 43051 | AT16: =DATE($A$1,COLUMN()-34,ROW()-4) -> 43081 | AU16: =DATE($A$1,COLUMN()-35,ROW()-4) -> 43081
B17: =DATE($A$1,COLUMN()-1,ROW()-4) -> 42748 | C17: =DATE($A$1,COLUMN()-2,ROW()-4) -> 42748 | F17: =DATE($A$1,COLUMN()-4,ROW()-4) -> 42779 | G17: =DATE($A$1,COLUMN()-5,ROW()-4) -> 42779 | J17: =DATE($A$1,COLUMN()-7,ROW()-4) -> 42807 | K17: =DATE($A$1,COLUMN()-8,ROW()-4) -> 42807 | N17: =DATE($A$1,COLUMN()-10,ROW()-4) -> 42838 | O17: =DATE($A$1,COLUMN()-11,ROW()-4) -> 42838 | R17: =DATE($A$1,COLUMN()-13,ROW()-4) -> 42868 | S17: =DATE($A$1,COLUMN()-14,ROW()-4) -> 42868 | V17: =DATE($A$1,COLUMN()-16,ROW()-4) -> 42899 | W17: =DATE($A$1,COLUMN()-17,ROW()-4) -> 42899 | Z17: =DATE($A$1,COLUMN()-19,ROW()-4) -> 42929 | AA17: =DATE($A$1,COLUMN()-20,ROW()-4) -> 42929 | AD17: =DATE($A$1,COLUMN()-22,ROW()-4) -> 42960 | AE17: =DATE($A$1,COLUMN()-23,ROW()-4) -> 42960 | AH17: =DATE($A$1,COLUMN()-25,ROW()-4) -> 42991 | AI17: =DATE($A$1,COLUMN()-26,ROW()-4) -> 42991 | AL17: =DATE($A$1,COLUMN()-28,ROW()-4) -> 43021 | AM17: =DATE($A$1,COLUMN()-29,ROW()-4) -> 43021 | AP17: =DATE($A$1,COLUMN()-31,ROW()-4) -> 43052 | AQ17: =DATE($A$1,COLUMN()-32,ROW()-4) -> 43052 | AT17: =DATE($A$1,COLUMN()-34,ROW()-4) -> 43082 | AU17: =DATE($A$1,COLUMN()-35,ROW()-4) -> 43082
... B32: =DATE($A$1,COLUMN()-1,ROW()-4) -> 42763 | C32: =DATE($A$1,COLUMN()-2,ROW()-4) -> 42763 | F32: =DATE($A$1,COLUMN()-4,ROW()-4) -> 42794 | G32: =DATE($A$1,COLUMN()-5,ROW()-4) -> 42794 | J32: =DATE($A$1,COLUMN()-7,ROW()-4) -> 42822 | K32: =DATE($A$1,COLUMN()-8,ROW()-4) -> 42822 | N32: =DATE($A$1,COLUMN()-10,ROW()-4) -> 42853 | O32: =DATE($A$1,COLUMN()-11,ROW()-4) -> 42853 | R32: =DATE($A$1,COLUMN()-13,ROW()-4) -> 42883 | S32: =DATE($A$1,COLUMN()-14,ROW()-4) -> 42883 | V32: =DATE($A$1,COLUMN()-16,ROW()-4) -> 42914 | W32: =DATE($A$1,COLUMN()-17,ROW()-4) -> 42914 | Z32: =DATE($A$1,COLUMN()-19,ROW()-4) -> 42944 | AA32: =DATE($A$1,COLUMN()-20,ROW()-4) -> 42944 | AD32: =DATE($A$1,COLUMN()-22,ROW()-4) -> 42975 | AE32: =DATE($A$1,COLUMN()-23,ROW()-4) -> 42975 | AH32: =DATE($A$1,COLUMN()-25,ROW()-4) -> 43006 | AI32: =DATE($A$1,COLUMN()-26,ROW()-4) -> 43006 | AL32: =DATE($A$1,COLUMN()-28,ROW()-4) -> 43036 | AM32: =DATE($A$1,COLUMN()-29,ROW()-4) -> 43036 | AP32: =DATE($A$1,COLUMN()-31,ROW()-4) -> 43067 | AQ32: =DATE($A$1,COLUMN()-32,ROW()-4) -> 43067 | AT32: =DATE($A$1,COLUMN()-34,ROW()-4) -> 43097 | AU32: =DATE($A$1,COLUMN()-35,ROW()-4) -> 43097
B33: =DATE($A$1,COLUMN()-1,ROW()-4) -> 42764 | C33: =DATE($A$1,COLUMN()-2,ROW()-4) -> 42764 | F33: =IF(MONTH(DATE($A$1,COLUMN()-4,ROW()-4))=2,DATE($A$1,COLUMN()-4,ROW()-4),"") | G33: =IF(MONTH(DATE($A$1,COLUMN()-5,ROW()-4))=2,DATE($A$1,COLUMN()-5,ROW()-4),"") | H33: =IF(MONTH(DATE($A$1,COLUMN()-4,ROW()-4))=2,DATE($A$1,COLUMN()-4,ROW()-4),"") | J33: =DATE($A$1,COLUMN()-7,ROW()-4) -> 42823 | K33: =DATE($A$1,COLUMN()-8,ROW()-4) -> 42823 | N33: =DATE($A$1,COLUMN()-10,ROW()-4) -> 42854 | O33: =DATE($A$1,COLUMN()-11,ROW()-4) -> 42854 | R33: =DATE($A$1,COLUMN()-13,ROW()-4) -> 42884 | S33: =DATE($A$1,COLUMN()-14,ROW()-4) -> 42884 | V33: =DATE($A$1,COLUMN()-16,ROW()-4) -> 42915 | W33: =DATE($A$1,COLUMN()-17,ROW()-4) -> 42915 | Z33: =DATE($A$1,COLUMN()-19,ROW()-4) -> 42945 | AA33: =DATE($A$1,COLUMN()-20,ROW()-4) -> 42945 | AD33: =DATE($A$1,COLUMN()-22,ROW()-4) -> 42976 | AE33: =DATE($A$1,COLUMN()-23,ROW()-4) -> 42976 | AH33: =DATE($A$1,COLUMN()-25,ROW()-4) -> 43007 | AI33: =DATE($A$1,COLUMN()-26,ROW()-4) -> 43007 | AL33: =DATE($A$1,COLUMN()-28,ROW()-4) -> 43037 | AM33: =DATE($A$1,COLUMN()-29,ROW()-4) -> 43037 | AP33: =DATE($A$1,COLUMN()-31,ROW()-4) -> 43068 | AQ33: =DATE($A$1,COLUMN()-32,ROW()-4) -> 43068 | AT33: =DATE($A$1,COLUMN()-34,ROW()-4) -> 43098 | AU33: =DATE($A$1,COLUMN()-35,ROW()-4) -> 43098
B34: =DATE($A$1,COLUMN()-1,ROW()-4) -> 42765 | C34: =DATE($A$1,COLUMN()-2,ROW()-4) -> 42765 | J34: =DATE($A$1,COLUMN()-7,ROW()-4) -> 42824 | K34: =DATE($A$1,COLUMN()-8,ROW()-4) -> 42824 | N34: =DATE($A$1,COLUMN()-10,ROW()-4) -> 42855 | O34: =DATE($A$1,COLUMN()-11,ROW()-4) -> 42855 | R34: =DATE($A$1,COLUMN()-13,ROW()-4) -> 42885 | S34: =DATE($A$1,COLUMN()-14,ROW()-4) -> 42885 | V34: =DATE($A$1,COLUMN()-16,ROW()-4) -> 42916 | W34: =DATE($A$1,COLUMN()-17,ROW()-4) -> 42916 | Z34: =DATE($A$1,COLUMN()-19,ROW()-4) -> 42946 | AA34: =DATE($A$1,COLUMN()-20,ROW()-4) -> 42946 | AD34: =DATE($A$1,COLUMN()-22,ROW()-4) -> 42977 | AE34: =DATE($A$1,COLUMN()-23,ROW()-4) -> 42977 | AH34: =DATE($A$1,COLUMN()-25,ROW()-4) -> 43008 | AI34: =DATE($A$1,COLUMN()-26,ROW()-4) -> 43008 | AL34: =DATE($A$1,COLUMN()-28,ROW()-4) -> 43038 | AM34: =DATE($A$1,COLUMN()-29,ROW()-4) -> 43038 | AP34: =DATE($A$1,COLUMN()-31,ROW()-4) -> 43069 | AQ34: =DATE($A$1,COLUMN()-32,ROW()-4) -> 43069 | AT34: =DATE($A$1,COLUMN()-34,ROW()-4) -> 43099 | AU34: =DATE($A$1,COLUMN()-35,ROW()-4) -> 43099
B35: =DATE($A$1,COLUMN()-1,ROW()-4) -> 42766 | C35: =DATE($A$1,COLUMN()-2,ROW()-4) -> 42766 | J35: =DATE($A$1,COLUMN()-7,ROW()-4) -> 42825 | K35: =DATE($A$1,COLUMN()-8,ROW()-4) -> 42825 | R35: =DATE($A$1,COLUMN()-13,ROW()-4) -> 42886 | S35: =DATE($A$1,COLUMN()-14,ROW()-4) -> 42886 | Z35: =DATE($A$1,COLUMN()-19,ROW()-4) -> 42947 | AA35: =DATE($A$1,COLUMN()-20,ROW()-4) -> 42947 | AD35: =DATE($A$1,COLUMN()-22,ROW()-4) -> 42978 | AE35: =DATE($A$1,COLUMN()-23,ROW()-4) -> 42978 | AL35: =DATE($A$1,COLUMN()-28,ROW()-4) -> 43039 | AM35: =DATE($A$1,COLUMN()-29,ROW()-4) -> 43039 | AT35: =DATE($A$1,COLUMN()-34,ROW()-4) -> 43100 | AU35: =DATE($A$1,COLUMN()-35,ROW()-4) -> 43100

Sheet Paramètres
A1: Fériés | B1: RTT | C1: Astreinte | D1: Congés annuel | E1: Repos compensateur | F1: Malade | G1: Fête local | H1: Journée solidarité | I1: Grève
A2: =DATE(Calendrier!$A$1,1,1) -> 42736 | B2: 42737
A3: =DATE(Calendrier!$A$1,5,1) -> 42856 | B3: 42741
A4: =DATE(Calendrier!$A$1,5,8) -> 42863
A5: =DATE(Calendrier!$A$1,8,15) -> 42962
A6: =DATE(Calendrier!$A$1,11,1) -> 43040
A7: =DATE(Calendrier!$A$1,11,11) -> 43050
A8: =DATE(Calendrier!$A$1,12,25) -> 43094
A9: =DATE(Calendrier!$A$1,IF((25-MOD((11*MOD(Calendrier!$A$1-1900,19)+4-INT((7*MOD(Calendrier!$A$1-1900,19)+1)/19)),29)-MOD(Calendrier!$A$1-1900+INT((Calendrier!$A$1-1900)/4)+31-MOD((11*MOD(Calendrier!$A$1-1900,19)+4-INT((7*MOD(Calendrier!$A$1-1900,19)+1)/19)),29),7))>0,4,3),IF((25-MOD((11*MOD(Calendrier!$A$1-1900,19)+4-INT((7*MOD(Calendrier!$A$1-1900,19)+1)/19)),29)-MOD(Calendrier!$A$1-1900+INT((Calendrier!$A$1-1900)/4)+31-MOD((11*MOD(Calendrier!$A$1-1900,19)+4-INT((7*MOD(Calendrier!$A$1-1900,19)+1)/19)),29),7))>0,(25-MOD((11*MOD(Calendrier!$A$1-1900,19)+4-INT((7*MOD(Calendrier!$A$1-1900,19)+1)/19)),29)-MOD(Calendrier!$A$1-1900+INT((Calendrier!$A$1-1900)/4)+31-MOD((11*MOD(Calendrier!$A$1-1900,19)+4-INT((7*MOD(Calendrier!$A$1-1900,19)+1)/19)),29),7)),31+(25-MOD((11*MOD(Calendrier!$A$1-1900,19)+4-INT((7*MOD(Calendrier!$A$1-1900,19)+1)/19)),29)-MOD(Calendrier!$A$1-1900+INT((Calendrier!$A$1-1900)/4)+31-MOD((11*MOD(Calendrier!$A$1-1900,19)+4-INT((7*MOD(Calendrier!$A$1-1900,19)+1)/19)),29),7))))+1 -> 42842
A10: =A9+38 -> 42880
A11: =A9+49 -> 42891
