Workbook
Name Auteur: chiffrage!$AJ$7:$AJ$16
Name Delai: chiffrage!$AL$7:$AL$16
Name DensiteMatiere: Matiere!$A$4:$B$50
Name DesignationAchatQte: Composant!$B$3:$B$998
Name DesignationAuteur: chiffrage!$AJ$7:$AJ$27
Name DesignationComposant: Composant!$H$2:$H$198
Name DesignationDensiteMatiere: Matiere!$E$4:$I$250
Name DesignationMatiere: Matiere!$E$4:$E$251
Name DesignationOperation: listeop!$A$5:$A$1004
Name DesignationTS: listeop!$P$3:$P$27
Name Difficulte: chiffrage!$AN$7:$AN$14
Name InfosDeviseur: chiffrage!$AQ$7:$AQ$22
Name ListeOperation: listeop!$A$5:$L$344
Name Parametre: parametres!$A$1:$E$2
Name PrixComposant: Composant!$H$3:$I$254
Name TempsLaser: Laser!$F$2:$H$1000
Name Traitement: chiffrage!$AP$7:$AP$17
Name TypeMatiere: Matiere!$A$4:$A$50

Sheet 349A6898P001
C1: Devis :
C3: Plan : | K3: Chiffreur : | O3: 1 | U3: 1000000 | Z3: =COUNTA(Z4:Z10002) -> 96 | AA3: chiffrage | AD3: SEPARATEUR | AE3: -------
C4: Désignation : | O4: =CHAR(64+INT(ROW()/45)+1) -> A | Q4: Longueur (mm) | R4: Largeur (mm) | S4: Ep Mm | T4: Matière | V4: Poids | W4: M2 | Z4: 1 | AA4: TOTAL POIDS | AB4: TOTAL M2 | AD4: SELECTEUR | AE4: ------>
A5: Matière | B5: Longueur mm | C5: Largeur mm | D5: Ep mm | E5: Qté | F5: Poids Kg | G5: Prix Unitaire | H5: Total | I5: Prix/Kg Achat | J5: Informations | L5: M2 | M5: Poids | Q5: 138.95 | R5: 114.3 | S5: 1 | T5: acier | U5: =VLOOKUP(T5,DensiteMatiere,2,0) -> 7.8 | V5: =(Q5*R5*S5*U5)/1000000 -> 0.12387948 | W5: =Q5*R5*2/1000000 -> 0.03176397 | AA5: =V5+V97+V143+V189+V235+V281+V51 -> 1.8788795 | AB5: =W5+W51+W97+W143+W189+W235+W281 -> 0.07676397
A6: S235JR | B6: =V16 -> 146.20534 | C6: =W16 -> 116.7202 | D6: =S5 -> 1 | E6: 1 | F6: =B6*C6*D6*U5/$U$3 -> 0.13310791 | G6: =IF(F6="","",F6*I6) -> 0.086520141 | H6: =IF(G6="","",G6*E6) -> 0.086520141 | I6: =IF(ISERROR(VLOOKUP(A6,DesignationDensiteMatiere,2,0)),"",VLOOKUP(A6,DesignationDensiteMatiere,2,0)) -> 0.65 | J6: 1500*3000 | L6: =W5*E6 -> 0.03176397 | M6: =V5*E6 -> 0.12387948 | N6: A
H7: =IF(G7="","",G7*E7) | I7: =IF(ISERROR(VLOOKUP(A7,DesignationDensiteMatiere,2,0)),"",VLOOKUP(A7,DesignationDensiteMatiere,2,0)) | N7: B | Q7: Squelette X Y | T7: Pinces
H8: =IF(G8="","",G8*E8) | I8: =IF(ISERROR(VLOOKUP(A8,DesignationDensiteMatiere,2,0)),"",VLOOKUP(A8,DesignationDensiteMatiere,2,0)) | N8: C | Q8: 5 | R8: 5 | T8: 0 | AG8: Tps minute | AH8: 60 | AI8: Tps en seconde | AJ8: =60*5 -> 300 | AK8: Delai | AM8: Difficulte | AO8: Traitement | AP8: Infos | AQ8: =CONCATENATE(AM8,CHAR(13),CHAR(13),AK8,CHAR(13),CHAR(13),AO8) -> Difficulte_x000D__x000D_Delai_x000D__x000D_Traitement
H9: =IF(G9="","",G9*E9) | I9: =IF(ISERROR(VLOOKUP(A9,DesignationDensiteMatiere,2,0)),"",VLOOKUP(A9,DesignationDensiteMatiere,2,0)) | N9: D | AE9: centiemes h | AF9: 0.08 | AG9: =AF9*60 -> 4.8 | AH9: =(AH8*60)/3600 -> 1 | AI9: =AF9*3600 -> 288 | AJ9: =AJ8/3600 -> 0.083333333 | AK9: A convenir | AM9: Facile | AO9: Brute | AP9: PEI ESTI
H10: =IF(G10="","",G10*E10) | I10: =IF(ISERROR(VLOOKUP(A10,DesignationDensiteMatiere,2,0)),"",VLOOKUP(A10,DesignationDensiteMatiere,2,0)) | N10: E | P10: TOLE | V10: FORMAT IDEAL | AK10: 1 Semaine | AM10: Moyen | AO10: Epoxy | AP10: USI ESTI
H11: =IF(G11="","",G11*E11) | I11: =IF(ISERROR(VLOOKUP(A11,DesignationDensiteMatiere,2,0)),"",VLOOKUP(A11,DesignationDensiteMatiere,2,0)) | N11: F | O11: =MIN(T15,T16,T18,T19,T21,T22) -> 0.1404 | P11: Dispo | Q11: Longueur | R11: Largeur | S11: Qté/Tôle | T11: Poids/Piece | U11: % Chute | V11: longueur | W11: Largeur | X11: Poids | Y11: Poids Tole Kg | Z11: Pcs / L | AA11: Pcs / l | AK11: 2 Semaines | AM11: Complexe | AO11: Haute T° | AP11: PEI+USI ESTI
H12: =IF(G12="","",G12*E12) | I12: =IF(ISERROR(VLOOKUP(A12,DesignationDensiteMatiere,2,0)),"",VLOOKUP(A12,DesignationDensiteMatiere,2,0)) | N12: G | P12: x | Q12: 4000 | R12: 2000 | S12: =IF(P12="","",(INT((Q12/($Q5+$Q8)))*INT(((R12-$T8)/($R5+$R8))))) -> 432 | T12: =(Q12*R12*$S$5*$U$5)/S12/1000000 -> 0.14444444 | U12: =IF(P12="","",(($Q12*$R12)-(Q5*R5*$S12))/($Q12*$R12)) -> 0.14237281 | V12: =(Q12-Q8*Z12)/Z12 -> 141.58766 | W12: =(R12-R8*AA12)/AA12 -> 117.96751 | X12: =V12*W12*S5*U5/$U$3 -> 0.1302814 | Y12: =Q12*R12*S5*U5/1000000 -> 62.4 | Z12: =(Q12/(Q8+Q5))-0.5 -> 27.287426 | AA12: =(R12/(R5+R8))-0.5 -> 16.264459 | AK12: 3 Semaines | AO12: Zn
H13: =IF(G13="","",G13*E13) | I13: =IF(ISERROR(VLOOKUP(A13,DesignationDensiteMatiere,2,0)),"",VLOOKUP(A13,DesignationDensiteMatiere,2,0)) | N13: H | P13: x | Q13: 2000 | R13: 4000 | S13: =IF(P13="","",(INT((Q13/($Q5+$Q8)))*INT(((R13-$T8)/($R5+$R8))))) -> 429 | T13: =(Q13*R13*$S$5*$U$5)/S13/1000000 -> 0.14545455 | U13: =IF(P13="","",(($Q13*$R13)-(Q5*R5*$S13))/($Q13*$R13)) -> 0.14832855 | V13: =(Q13-Q8*Z13)/Z13 -> 144.32379 | W13: =(R13-R8*AA13)/AA13 -> 116.10599 | X13: =V13*W13*S5*U5/$U$3 -> 0.13070348 | Y13: =Q13*R13*S5*U5/1000000 -> 62.4 | Z13: =Q13/(Q5+Q8)-0.5 -> 13.393713 | AA13: =(R13/(R5+R8))-0.5 -> 33.028919 | AK13: 4 Semaines | AO13: Antirouille
A14: SST MP | H14: =SUM(H6:H13) -> 0.086520141 | L14: =SUM(L6:L13) -> 0.03176397 | M14: =SUM(M6:M13) -> 0.12387948 | AE14: Rectangle | AK14: 5 Semaines | AO14: Liquide
A15: Composants | B15: Qté | C15: Prix | H15: Total | I15: Informations | O15: =IF(T15=$O11,$AE$4,"") | P15: x | Q15: 3000 | R15: 1500 | S15: =IF(P15="","",(INT((Q15/($Q5:Q5+$Q8)))*INT(((R15-$T8)/($R5+$R8))))) -> 240 | T15: =(Q15*R15*$S$5*$U$5)/S15/1000000 -> 0.14625 | U15: =IF(P15="","",(($Q15:Q15*$R15)-(Q5*R5*$S15))/($Q15*$R15)) -> 0.1529608 | V15: =(Q15-Q8*Z15)/Z15 -> 142.48849 | W15: =(R15-R8*AA15)/AA15 -> 119.24064 | X15: =V15*W15*S5*U5/$U$3 -> 0.13252527 | Y15: =Q15*R15*S5*U5/1000000 -> 35.1 | Z15: =(Q15/(Q5+Q8))-0.5 -> 20.34057 | AA15: =(R15/(R5+R8))-0.5 -> 12.073345 | AE15: Matiere | AF15: Longueur mm | AG15: Largeur mm | AH15: Epaisseur mm | AI15: Poids Kg | AK15: 6 Semaines | AO15: tribofinition
C16: =IF(A16<>"",VLOOKUP(A16,PrixComposant,2,0),"") | H16: =IF(OR(B16="",B16=0),"",B16*C16) | O16: =IF(T16=$O11,$AE$4,"") -> ------> | P16: x | Q16: 1500 | R16: 3000 | S16: =IF(P16="","",(INT((Q16/($Q5+$Q8)))*INT(((R16-$T8)/($R5+$R8))))) -> 250 | T16: =(Q16*R16*$S$5*$U$5)/S16/1000000 -> 0.1404 | U16: =IF(P16="","",(($Q16*$R16)-(Q5*R5*$S16))/($Q16*$R16)) -> 0.1176675 | V16: =(Q16-Q8*Z16)/Z16 -> 146.20534 | W16: =(R16-R8*AA16)/AA16 -> 116.7202 | X16: =V16*W16*S5*U5/$U$3 -> 0.13310791 | Y16: =Q16*R16*S5*U5/1000000 -> 35.1 | Z16: =Q16/(Q5+Q8)-0.5 -> 9.9202848 | AA16: =(R16/(R5+R8))-0.5 -> 24.646689 | AE16: acier | AF16: 40 | AG16: 15 | AH16: 1 | AI16: =(AF16*AG16*VLOOKUP(AE16,DensiteMatiere,2,0)/1000)-IF(AH16>0,((AF16-2*AH16)*(AG16-2*AH16)*VLOOKUP(AE16,DensiteMatiere,2,0)/1000),0) -> 0.8268 | AK16: 7 Semaines | AO16: Polissage_elec
C17: =IF(A17<>"",VLOOKUP(A17,PrixComposant,2,0),"") | H17: =IF(OR(B17="",B17=0),"",B17*C17) | AE17: Rond | AK17: 8 Semaines | AO17: brunissage
C18: =IF(A18<>"",VLOOKUP(A18,PrixComposant,2,0),"") | H18: =IF(OR(B18="",B18=0),"",B18*C18) | O18: =IF(T18=$O11,$AE$4,"") | P18: x | Q18: 2500 | R18: 1250 | S18: =IF(P18="","",(INT((Q18/($Q5+$Q8)))*INT(((R18-$T8)/($R5+$R8))))) -> 170 | T18: =(Q18*R18*$S$5*$U$5)/S18/1000000 -> 0.14338235 | U18: =IF(P18="","",(($Q18*$R18)-(Q5*R5*$S18))/($Q18*$R18)) -> 0.13602002 | V18: =(Q18-Q8*Z18)/Z18 -> 143.21717 | W18: =(R18-R8*AA18)/AA18 -> 120.27828 | X18: =V18*W18*S5*U5/$U$3 -> 0.13436214 | Y18: =Q18*R18*S5*U5/1000000 -> 24.375 | Z18: =(Q18/(Q5+Q8))-0.5 -> 16.867141 | AA18: =(R18/(R5+$R$8))-0.5 -> 9.9777871 | AE18: Matiere | AF18: Diametre mm | AH18: Epaisseur mm | AI18: Poids Kg | AK18: 9 Semaines
C19: =IF(A19<>"",VLOOKUP(A19,PrixComposant,2,0),"") | H19: =IF(OR(B19="",B19=0),"",B19*C19) | O19: =IF(T19=$O11,$AE$4,"") | P19: x | Q19: 1250 | R19: 2500 | S19: =IF(P19="","",(INT((Q19/($Q5+$Q8)))*INT(((R19-$T8)/($R5+$R8))))) -> 160 | T19: =(Q19*R19*$S$5*$U$5)/S19/1000000 -> 0.15234375 | U19: =IF(P19="","",(($Q19*$R19)-(Q5*R5*$S19))/($Q19*$R19)) -> 0.18684237 | V19: =(Q19-Q8*Z19)/Z19 -> 147.74506 | W19: =(R19-R8*AA19)/AA19 -> 117.21608 | X19: =V19*W19*S5*U5/$U$3 -> 0.13508115 | Y19: =Q19*R19*S5*U5/1000000 -> 24.375 | Z19: =Q19/(Q5+Q8)-0.5 -> 8.1835707 | AA19: =(R19/(R5+R8))-0.5 -> 20.455574 | AE19: alu | AF19: 10 | AH19: 1 | AI19: =((PI()*POWER((AF19/2),2)*VLOOKUP(AE19,DensiteMatiere,2,0)/1000)-IF(AH19>0,(PI()*POWER(((AF19-2*AH19)/2),2)*VLOOKUP(AE19,DensiteMatiere,2,0)/1000),0))*1.04 -> 0.08233486 | AK19: 10 Semaines
C20: =IF(A20<>"",VLOOKUP(A20,PrixComposant,2,0),"") | H20: =IF(OR(B20="",B20=0),"",B20*C20)
C21: =IF(A21<>"",VLOOKUP(A21,PrixComposant,2,0),"") | H21: =IF(OR(B21="",B21=0),"",B21*C21) | O21: =IF(T21=$O11,$AE$4,"") | P21: x | Q21: 2000 | R21: 1000 | S21: =IF(P21="","",(INT((Q21/($Q5+$Q8)))*INT(((R21-$T8)/($R5+$R8))))) -> 104 | T21: =(Q21*R21*$S$5*$U$5)/S21/1000000 -> 0.15 | U21: =IF(P21="","",(($Q21*$R21)-(Q5*R5*$S21))/($Q21*$R21)) -> 0.17413678 | V21: =(Q21-Q8*Z21)/Z21 -> 144.32379 | W21: =(R21-R8*AA21)/AA21 -> 121.86766 | X21: =V21*W21*S5*U5/$U$3 -> 0.13718954 | Y21: =Q21*R21*S5*U5/1000000 -> 15.6 | Z21: =(Q21/(Q5+Q8))-0.5 -> 13.393713 | AA21: =(R21/(R5+R8))-0.5 -> 7.8822297
C22: =IF(A22<>"",VLOOKUP(A22,PrixComposant,2,0),"") | H22: =IF(OR(B22="",B22=0),"",B22*C22) | O22: =IF(T22=$O11,$AE$4,"") | P22: x | Q22: 1000 | R22: 2000 | S22: =IF(P22="","",(INT((Q22/($Q5+$Q8)))*INT(((R22-$T8)/($R5+$R8))))) -> 96 | T22: =(Q22*R22*$S$5*$U$5)/S22/1000000 -> 0.1625 | U22: =IF(P22="","",(($Q22*$R22)-(Q5*R5*$S22))/($Q22*$R22)) -> 0.23766472 | V22: =(Q22-Q8*Z22)/Z22 -> 150.11436 | W22: =(R22-R8*AA22)/AA22 -> 117.96751 | X22: =V22*W22*S5*U5/$U$3 -> 0.13812721 | Y22: =Q22*R22*S5*U5/1000000 -> 15.6 | Z22: =Q22/(Q5+Q8)-0.5 -> 6.4468565 | AA22: =(R22/(R5+R8))-0.5 -> 16.264459
A23: SST CP | H23: =SUM(H16:H22) -> 0
A24: TOTAL | G24: =1+K24 -> 1.25 | H24: =SUM(H23,H14)*G24 -> 0.10815018 | I24: =IF(H14=0,"PAS DE MATIERE","") | K24: 0.25 | P24: x | Q24: 500 | R24: 200 | S24: =IF(P24="","",(INT((Q24/($Q5+$Q8)))*INT(((R24-$T8)/($R5+$R8))))) -> 3 | T24: =(Q24*R24*$S$5*$U$5)/S24/1000000 -> 0.26 | U24: =IF(P24="","",(($Q24*$R24)-(Q5*R5*$S24))/($Q24*$R24)) -> 0.52354045 | V24: =(Q24-Q8*Z24)/Z24 -> 163.15607 | W24: =(R24-R8*AA24)/AA24 -> 165.00356 | X24: =V24*W24*S5*U5/$U$3 -> 0.20998639 | Y24: =Q24*R24*S5*U5/1000000 -> 0.78 | Z24: =(Q24/(Q5+Q8))-0.5 -> 2.9734283 | AA24: =(R24/(R5+R8))-0.5 -> 1.1764459
A25: OPERATIONS | B25: AIDE | C25: Nb Actions | D25: Taux PREP | E25: Tps PREP | F25: Cout prep | G25: Taux OP | H25: Base Op | I25: TPS OP | J25: Cout Op | K25: Pce/H | L25: TPS par op | M25: Pièce Aspect | P25: x | Q25: =R24 -> 200 | R25: =Q24 -> 500 | S25: =IF(P25="","",(INT((Q25/($Q5+$Q8)))*INT(((R25-$T8)/($R5+$R8))))) -> 4 | T25: =(Q25*R25*$S$5*$U$5)/S25/1000000 -> 0.195 | U25: =IF(P25="","",(($Q25*$R25)-(Q5*R5*$S25))/($Q25*$R25)) -> 0.3647206 | V25: =(Q25-Q8*Z25)/Z25 -> 219.87795 | W25: =(R25-R8*AA25)/AA25 -> 130.46043 | X25: =V25*W25*S5*U5/$U$3 -> 0.2237459 | Y25: =Q25*R25*S5*U5/1000000 -> 0.78 | Z25: =Q25/(Q5+Q8)-0.5 -> 0.88937131 | AA25: =(R25/(R5+R8))-0.5 -> 3.6911148
A26: Laser_LVD | B26: =IF(A26="","",VLOOKUP(A26,ListeOperation,5,FALSE)) -> Voir aide calcul | C26: 1 | D26: =IF(OR(A26="",LEFT(A26,1)="_"),"", VLOOKUP(A26,ListeOperation,2,FALSE)) -> 70 | E26: =IF(OR(A26="",LEFT(A26,1)="_"),"",VLOOKUP(A26,ListeOperation,4,FALSE)) -> 0.3 | F26: =IF(A26="","",IF(LEFT(A26,1)="_",VLOOKUP(A26,ListeOperation,2,0),IF(E26="",0,PRODUCT(E26,D26)))) -> 21 | G26: 90 | H26: =T38 -> 0.0025658212 | I26: =IF(OR(A26="",LEFT(A26,1)="_"),"",PRODUCT(C26,H26)) -> 0.0025658212 | J26: =IF(OR(C26="",C26=0,A26=""),"",IF(LEFT(A26,1)="_",VLOOKUP(A26,ListeOperation,3,0)*C26,PRODUCT(H26,G26,C26))) -> 0.23092391 | K26: =IF(H26*C26=0,"",60/L26) -> 389.73876 | L26: =IF(I26="","",I26*60)/IF(UPPER(LEFT(A26,3))="PEI",120,1) -> 0.15394927 | N26: =IF(ISERROR(SEARCH("laser",A26)),0,1)+IF(ISERROR(SEARCH("t500",A26)),0,1) -> 1 | S26: =IF(UPPER(S30)="OXYGENE","O2","NA") -> O2 | T26: =CONCATENATE(LOWER(T27),"-",S31,"-",T5,"-",S29,"-",S26) -> bystronic3015-0-acier-1-O2
B27: =IF(A27="","",VLOOKUP(A27,ListeOperation,5,FALSE)) | C27: =IF(A27<>"",1,"") | D27: =IF(OR(A27="",LEFT(A27,1)="_"),"", VLOOKUP(A27,ListeOperation,2,FALSE)) | E27: =IF(OR(A27="",LEFT(A27,1)="_"),"",VLOOKUP(A27,ListeOperation,4,FALSE)) | F27: =IF(A27="","",IF(LEFT(A27,1)="_",VLOOKUP(A27,ListeOperation,2,0),IF(E27="",0,PRODUCT(E27,D27)))) | G27: =IF(OR(A27="",LEFT(A27,1)="_"),"",VLOOKUP(A27,ListeOperation,3,FALSE)) | H27: =IF(A27="","",VLOOKUP(A27,ListeOperation,7,FALSE)) | I27: =IF(OR(A27="",LEFT(A27,1)="_"),"",PRODUCT(C27,H27)) | J27: =IF(OR(C27="",C27=0,A27=""),"",IF(LEFT(A27,1)="_",VLOOKUP(A27,ListeOperation,3,0)*C27,PRODUCT(H27,G27,C27))) | N27: =IF(ISERROR(SEARCH("laser",A27)),0,1)+IF(ISERROR(SEARCH("t500",A27)),0,1)+N26 -> 1 | T27: Bystronic3015 | U27: LVD
A28: Pliage<200 | B28: =IF(A28="","",VLOOKUP(A28,ListeOperation,5,FALSE)) -> Nbr de Plis | C28: 2 | D28: =IF(OR(A28="",LEFT(A28,1)="_"),"", VLOOKUP(A28,ListeOperation,2,FALSE)) -> 70 | E28: =IF(OR(A28="",LEFT(A28,1)="_"),"",VLOOKUP(A28,ListeOperation,4,FALSE)) -> 0.3 | F28: =IF(A28="","",IF(LEFT(A28,1)="_",VLOOKUP(A28,ListeOperation,2,0),IF(E28="",0,PRODUCT(E28,D28)))) -> 21 | G28: 50 | H28: =IF(A28="","",VLOOKUP(A28,ListeOperation,7,FALSE)) -> 0.004 | I28: =IF(OR(A28="",LEFT(A28,1)="_"),"",PRODUCT(C28,H28)) -> 0.008 | J28: =IF(OR(C28="",C28=0,A28=""),"",IF(LEFT(A28,1)="_",VLOOKUP(A28,ListeOperation,3,0)*C28,PRODUCT(H28,G28,C28))) -> 0.4 | K28: =IF(H28*C28=0,"",60/L28) -> 125 | L28: =IF(I28="","",I28*60)/IF(UPPER(LEFT(A28,3))="PEI",120,1) -> 0.48 | M28: 0 | N28: =IF(ISERROR(SEARCH("laser",A28)),0,1)+IF(ISERROR(SEARCH("t500",A28)),0,1)+N27 -> 1 | P28: LASER | T28: =IF(ISERROR(VLOOKUP(T26,TempsLaser,2,0)),"ERREUR",VLOOKUP(T26,TempsLaser,2,0)) -> 8650 | U28: vitesse
B29: =IF(A29="","",VLOOKUP(A29,ListeOperation,5,FALSE)) | C29: =IF(A29<>"",1,"") | D29: =IF(OR(A29="",LEFT(A29,1)="_"),"", VLOOKUP(A29,ListeOperation,2,FALSE)) | E29: =IF(OR(A29="",LEFT(A29,1)="_"),"",VLOOKUP(A29,ListeOperation,4,FALSE)) | F29: =IF(A29="","",IF(LEFT(A29,1)="_",VLOOKUP(A29,ListeOperation,2,0),IF(E29="",0,PRODUCT(E29,D29)))) | G29: =IF(OR(A29="",LEFT(A29,1)="_"),"",VLOOKUP(A29,ListeOperation,3,FALSE)) | H29: =IF(A29="","",VLOOKUP(A29,ListeOperation,7,FALSE)) | I29: =IF(OR(A29="",LEFT(A29,1)="_"),"",PRODUCT(C29,H29)) | J29: =IF(OR(C29="",C29=0,A29=""),"",IF(LEFT(A29,1)="_",VLOOKUP(A29,ListeOperation,3,0)*C29,PRODUCT(H29,G29,C29))) | N29: =IF(ISERROR(SEARCH("laser",A29)),0,1)+IF(ISERROR(SEARCH("t500",A29)),0,1)+N28 -> 1 | Q29: Épaisseur | S29: =IF(S5<1,1,IF(S5-INT(S5)=0,S5, IF(S5-INT(S5)<=0.5,0.5+INT(S5),1+INT(S5)))) -> 1 | T29: =IF(ISERROR(VLOOKUP(T26,TempsLaser,3,0)),"ERREUR",VLOOKUP(T26,TempsLaser,3,0)) -> 7100 | U29: vitesse d
A30: Taraudage | B30: =IF(A30="","",VLOOKUP(A30,ListeOperation,5,FALSE)) -> Nbr de taraudage | C30: 2 | D30: =IF(OR(A30="",LEFT(A30,1)="_"),"", VLOOKUP(A30,ListeOperation,2,FALSE)) -> 70 | E30: =IF(OR(A30="",LEFT(A30,1)="_"),"",VLOOKUP(A30,ListeOperation,4,FALSE)) -> 0.2 | F30: =IF(A30="","",IF(LEFT(A30,1)="_",VLOOKUP(A30,ListeOperation,2,0),IF(E30="",0,PRODUCT(E30,D30)))) -> 14 | G30: 50 | H30: =IF(A30="","",VLOOKUP(A30,ListeOperation,7,FALSE)*1) -> 0.0015 | I30: =IF(OR(A30="",LEFT(A30,1)="_"),"",PRODUCT(C30,H30)) -> 0.003 | J30: =IF(OR(C30="",C30=0,A30=""),"",IF(LEFT(A30,1)="_",VLOOKUP(A30,ListeOperation,3,0)*C30,PRODUCT(H30,G30,C30))) -> 0.15 | K30: =IF(H30*C30=0,"",60/L30) -> 333.33333 | L30: =IF(I30="","",I30*60)/IF(UPPER(LEFT(A30,3))="PEI",120,1) -> 0.18 | M30: 0 | N30: =IF(ISERROR(SEARCH("laser",A30)),0,1)+IF(ISERROR(SEARCH("t500",A30)),0,1)+N29 -> 1 | Q30: Gaz | S30: Oxygene
B31: =IF(A31="","",VLOOKUP(A31,ListeOperation,5,FALSE)) | C31: =IF(A31<>"",1,"") | D31: =IF(OR(A31="",LEFT(A31,1)="_"),"", VLOOKUP(A31,ListeOperation,2,FALSE)) | E31: =IF(OR(A31="",LEFT(A31,1)="_"),"",VLOOKUP(A31,ListeOperation,4,FALSE)) | F31: =IF(A31="","",IF(LEFT(A31,1)="_",VLOOKUP(A31,ListeOperation,2,0),IF(E31="",0,PRODUCT(E31,D31)))) | G31: =IF(OR(A31="",LEFT(A31,1)="_"),"",VLOOKUP(A31,ListeOperation,3,FALSE)) | H31: =IF(A31="","",VLOOKUP(A31,ListeOperation,7,FALSE)) | I31: =IF(OR(A31="",LEFT(A31,1)="_"),"",PRODUCT(C31,H31)) | J31: =IF(OR(C31="",C31=0,A31=""),"",IF(LEFT(A31,1)="_",VLOOKUP(A31,ListeOperation,3,0)*C31,PRODUCT(H31,G31,C31))) | N31: =IF(ISERROR(SEARCH("laser",A31)),0,1)+IF(ISERROR(SEARCH("t500",A31)),0,1)+N30 -> 1 | Q31: High Speed | S31: 0
B32: =IF(A32="","",VLOOKUP(A32,ListeOperation,5,FALSE)) | C32: =IF(A32<>"",1,"") | D32: =IF(OR(A32="",LEFT(A32,1)="_"),"", VLOOKUP(A32,ListeOperation,2,FALSE)) | E32: =IF(OR(A32="",LEFT(A32,1)="_"),"",VLOOKUP(A32,ListeOperation,4,FALSE)) | F32: =IF(A32="","",IF(LEFT(A32,1)="_",VLOOKUP(A32,ListeOperation,2,0),IF(E32="",0,PRODUCT(E32,D32)))) | G32: =IF(OR(A32="",LEFT(A32,1)="_"),"",VLOOKUP(A32,ListeOperation,3,FALSE)) | H32: =IF(A32="","",VLOOKUP(A32,ListeOperation,7,FALSE)) | I32: =IF(OR(A32="",LEFT(A32,1)="_"),"",PRODUCT(C32,H32)) | J32: =IF(OR(C32="",C32=0,A32=""),"",IF(LEFT(A32,1)="_",VLOOKUP(A32,ListeOperation,3,0)*C32,PRODUCT(H32,G32,C32))) | N32: =IF(ISERROR(SEARCH("laser",A32)),0,1)+IF(ISERROR(SEARCH("t500",A32)),0,1)+N31 -> 1 | Q32: Contours decoupés en mm | S32: =(Q5+R5)*2 -> 506.5 | T32: =(S32/T28)/60 -> 0.00097591522
B33: =IF(A33="","",VLOOKUP(A33,ListeOperation,5,FALSE)) | C33: =IF(A33<>"",1,"") | D33: =IF(OR(A33="",LEFT(A33,1)="_"),"", VLOOKUP(A33,ListeOperation,2,FALSE)) | E33: =IF(OR(A33="",LEFT(A33,1)="_"),"",VLOOKUP(A33,ListeOperation,4,FALSE)) | F33: =IF(A33="","",IF(LEFT(A33,1)="_",VLOOKUP(A33,ListeOperation,2,0),IF(E33="",0,PRODUCT(E33,D33)))) | G33: =IF(OR(A33="",LEFT(A33,1)="_"),"",VLOOKUP(A33,ListeOperation,3,FALSE)) | H33: =IF(A33="","",VLOOKUP(A33,ListeOperation,7,FALSE)) | I33: =IF(OR(A33="",LEFT(A33,1)="_"),"",PRODUCT(C33,H33)) | J33: =IF(OR(C33="",C33=0,A33=""),"",IF(LEFT(A33,1)="_",VLOOKUP(A33,ListeOperation,3,0)*C33,PRODUCT(H33,G33,C33))) | N33: =IF(ISERROR(SEARCH("laser",A33)),0,1)+IF(ISERROR(SEARCH("t500",A33)),0,1)+N32 -> 1 | Q33: nbre diam < 10 | S33: 2 | T33: =((S33*40)/T29)/60 -> 0.00018779343
B34: =IF(A34="","",VLOOKUP(A34,ListeOperation,5,FALSE)) | C34: =IF(A34<>"",1,"") | D34: =IF(OR(A34="",LEFT(A34,1)="_"),"", VLOOKUP(A34,ListeOperation,2,FALSE)) | E34: =IF(OR(A34="",LEFT(A34,1)="_"),"",VLOOKUP(A34,ListeOperation,4,FALSE)) | F34: =IF(A34="","",IF(LEFT(A34,1)="_",VLOOKUP(A34,ListeOperation,2,0),IF(E34="",0,PRODUCT(E34,D34)))) | G34: =IF(OR(A34="",LEFT(A34,1)="_"),"",VLOOKUP(A34,ListeOperation,3,FALSE)) | H34: =IF(A34="","",VLOOKUP(A34,ListeOperation,7,FALSE)) | I34: =IF(OR(A34="",LEFT(A34,1)="_"),"",PRODUCT(C34,H34)) | J34: =IF(OR(C34="",C34=0,A34=""),"",IF(LEFT(A34,1)="_",VLOOKUP(A34,ListeOperation,3,0)*C34,PRODUCT(H34,G34,C34))) | N34: =IF(ISERROR(SEARCH("laser",A34)),0,1)+IF(ISERROR(SEARCH("t500",A34)),0,1)+N33 -> 1 | Q34: Nbre d'amorçages | S34: 3 | T34: =U34*S29*S34 -> 0.00081 | U34: 0.00027
B35: =IF(A35="","",VLOOKUP(A35,ListeOperation,5,FALSE)) | C35: =IF(A35<>"",1,"") | D35: =IF(OR(A35="",LEFT(A35,1)="_"),"", VLOOKUP(A35,ListeOperation,2,FALSE)) | E35: =IF(OR(A35="",LEFT(A35,1)="_"),"",VLOOKUP(A35,ListeOperation,4,FALSE)) | F35: =IF(A35="","",IF(LEFT(A35,1)="_",VLOOKUP(A35,ListeOperation,2,0),IF(E35="",0,PRODUCT(E35,D35)))) | G35: =IF(OR(A35="",LEFT(A35,1)="_"),"",VLOOKUP(A35,ListeOperation,3,FALSE)) | H35: =IF(A35="","",VLOOKUP(A35,ListeOperation,7,FALSE)) | I35: =IF(OR(A35="",LEFT(A35,1)="_"),"",PRODUCT(C35,H35)) | J35: =IF(OR(C35="",C35=0,A35=""),"",IF(LEFT(A35,1)="_",VLOOKUP(A35,ListeOperation,3,0)*C35,PRODUCT(H35,G35,C35))) | N35: =IF(ISERROR(SEARCH("laser",A35)),0,1)+IF(ISERROR(SEARCH("t500",A35)),0,1)+N34 -> 1 | Q35: Nbre de trappe | S35: 0 | T35: 0
B36: =IF(A36="","",VLOOKUP(A36,ListeOperation,5,FALSE)) | C36: =IF(A36<>"",1,"") | D36: =IF(OR(A36="",LEFT(A36,1)="_"),"", VLOOKUP(A36,ListeOperation,2,FALSE)) | E36: =IF(OR(A36="",LEFT(A36,1)="_"),"",VLOOKUP(A36,ListeOperation,4,FALSE)) | F36: =IF(A36="","",IF(LEFT(A36,1)="_",VLOOKUP(A36,ListeOperation,2,0),IF(E36="",0,PRODUCT(E36,D36)))) | G36: =IF(OR(A36="",LEFT(A36,1)="_"),"",VLOOKUP(A36,ListeOperation,3,FALSE)) | H36: =IF(A36="","",VLOOKUP(A36,ListeOperation,7,FALSE)) | I36: =IF(OR(A36="",LEFT(A36,1)="_"),"",PRODUCT(C36,H36)) | J36: =IF(OR(C36="",C36=0,A36=""),"",IF(LEFT(A36,1)="_",VLOOKUP(A36,ListeOperation,3,0)*C36,PRODUCT(H36,G36,C36))) | N36: =IF(ISERROR(SEARCH("laser",A36)),0,1)+IF(ISERROR(SEARCH("t500",A36)),0,1)+N35 -> 1 | Q36: Nbrs d' evac manuelle | S36: 0 | T36: =U36*S36 -> 0 | U36: 0.0041
B37: =IF(A37="","",VLOOKUP(A37,ListeOperation,5,FALSE)) | C37: =IF(A37<>"",1,"") | D37: =IF(OR(A37="",LEFT(A37,1)="_"),"", VLOOKUP(A37,ListeOperation,2,FALSE)) | E37: =IF(OR(A37="",LEFT(A37,1)="_"),"",VLOOKUP(A37,ListeOperation,4,FALSE)) | F37: =IF(A37="","",IF(LEFT(A37,1)="_",VLOOKUP(A37,ListeOperation,2,0),IF(E37="",0,PRODUCT(E37,D37)))) | G37: =IF(OR(A37="",LEFT(A37,1)="_"),"",VLOOKUP(A37,ListeOperation,3,FALSE)) | H37: =IF(A37="","",VLOOKUP(A37,ListeOperation,7,FALSE)) | I37: =IF(OR(A37="",LEFT(A37,1)="_"),"",PRODUCT(C37,H37)) | J37: =IF(OR(C37="",C37=0,A37=""),"",IF(LEFT(A37,1)="_",VLOOKUP(A37,ListeOperation,3,0)*C37,PRODUCT(H37,G37,C37))) | N37: =IF(ISERROR(SEARCH("laser",A37)),0,1)+IF(ISERROR(SEARCH("t500",A37)),0,1)+N36 -> 1 | Q37: Vapo | S37: 0 | T37: =((S32+S33*10)/8000)/60*IF(S37,1,0) -> 0
B38: =IF(A38="","",VLOOKUP(A38,ListeOperation,5,FALSE)) | C38: =IF(A38<>"",1,"") | D38: =IF(OR(A38="",LEFT(A38,1)="_"),"", VLOOKUP(A38,ListeOperation,2,FALSE)) | E38: =IF(OR(A38="",LEFT(A38,1)="_"),"",VLOOKUP(A38,ListeOperation,4,FALSE)) | F38: =IF(A38="","",IF(LEFT(A38,1)="_",VLOOKUP(A38,ListeOperation,2,0),IF(E38="",0,PRODUCT(E38,D38)))) | G38: =IF(OR(A38="",LEFT(A38,1)="_"),"",VLOOKUP(A38,ListeOperation,3,FALSE)) | H38: =IF(A38="","",VLOOKUP(A38,ListeOperation,7,FALSE)) | I38: =IF(OR(A38="",LEFT(A38,1)="_"),"",PRODUCT(C38,H38)) | J38: =IF(OR(C38="",C38=0,A38=""),"",IF(LEFT(A38,1)="_",VLOOKUP(A38,ListeOperation,3,0)*C38,PRODUCT(H38,G38,C38))) | N38: =IF(ISERROR(SEARCH("laser",A38)),0,1)+IF(ISERROR(SEARCH("t500",A38)),0,1)+N37 -> 1 | O38: =P28 -> LASER | S38: a reporter | T38: =SUM(T32:T37)*1.3 -> 0.0025658212
B39: =IF(A39="","",VLOOKUP(A39,ListeOperation,5,FALSE)) | C39: =IF(A39<>"",1,"") | D39: =IF(OR(A39="",LEFT(A39,1)="_"),"", VLOOKUP(A39,ListeOperation,2,FALSE)) | E39: =IF(OR(A39="",LEFT(A39,1)="_"),"",VLOOKUP(A39,ListeOperation,4,FALSE)) | F39: =IF(A39="","",IF(LEFT(A39,1)="_",VLOOKUP(A39,ListeOperation,2,0),IF(E39="",0,PRODUCT(E39,D39)))) | G39: =IF(OR(A39="",LEFT(A39,1)="_"),"",VLOOKUP(A39,ListeOperation,3,FALSE)) | H39: =IF(A39="","",VLOOKUP(A39,ListeOperation,7,FALSE)) | I39: =IF(OR(A39="",LEFT(A39,1)="_"),"",PRODUCT(C39,H39)) | J39: =IF(OR(C39="",C39=0,A39=""),"",IF(LEFT(A39,1)="_",VLOOKUP(A39,ListeOperation,3,0)*C39,PRODUCT(H39,G39,C39))) | N39: =IF(ISERROR(SEARCH("laser",A39)),0,1)+IF(ISERROR(SEARCH("t500",A39)),0,1)+N38 -> 1
B40: =IF(A40="","",VLOOKUP(A40,ListeOperation,5,FALSE)) | C40: =IF(A40<>"",1,"") | D40: =IF(OR(A40="",LEFT(A40,1)="_"),"", VLOOKUP(A40,ListeOperation,2,FALSE)) | E40: =IF(OR(A40="",LEFT(A40,1)="_"),"",VLOOKUP(A40,ListeOperation,4,FALSE)) | F40: =IF(A40="","",IF(LEFT(A40,1)="_",VLOOKUP(A40,ListeOperation,2,0),IF(E40="",0,PRODUCT(E40,D40)))) | G40: =IF(OR(A40="",LEFT(A40,1)="_"),"",VLOOKUP(A40,ListeOperation,3,FALSE)) | H40: =IF(A40="","",VLOOKUP(A40,ListeOperation,7,FALSE)) | I40: =IF(OR(A40="",LEFT(A40,1)="_"),"",PRODUCT(C40,H40)) | J40: =IF(OR(C40="",C40=0,A40=""),"",IF(LEFT(A40,1)="_",VLOOKUP(A40,ListeOperation,3,0)*C40,PRODUCT(H40,G40,C40))) | N40: =IF(ISERROR(SEARCH("laser",A40)),0,1)+IF(ISERROR(SEARCH("t500",A40)),0,1)+N39 -> 1 | P40: Poinconnage
B41: =IF(A41="","",VLOOKUP(A41,ListeOperation,5,FALSE)) | C41: =IF(A41<>"",1,"") | D41: =IF(OR(A41="",LEFT(A41,1)="_"),"", VLOOKUP(A41,ListeOperation,2,FALSE)) | E41: =IF(OR(A41="",LEFT(A41,1)="_"),"",VLOOKUP(A41,ListeOperation,4,FALSE)) | F41: =IF(A41="","",IF(LEFT(A41,1)="_",VLOOKUP(A41,ListeOperation,2,0),IF(E41="",0,PRODUCT(E41,D41)))) | G41: =IF(OR(A41="",LEFT(A41,1)="_"),"",VLOOKUP(A41,ListeOperation,3,FALSE)) | H41: =IF(A41="","",VLOOKUP(A41,ListeOperation,7,FALSE)) | I41: =IF(OR(A41="",LEFT(A41,1)="_"),"",PRODUCT(C41,H41)) | J41: =IF(OR(C41="",C41=0,A41=""),"",IF(LEFT(A41,1)="_",VLOOKUP(A41,ListeOperation,3,0)*C41,PRODUCT(H41,G41,C41))) | N41: =IF(ISERROR(SEARCH("laser",A41)),0,1)+IF(ISERROR(SEARCH("t500",A41)),0,1)+N40 -> 1 | P41: Nbre d'outils-changements | R41: =#N/A -> #N/A | S41: 5 | T41: =(S41/S42)*U41 -> 0.015 | U41: 0.003
...

Sheet Accueil
A1: Chiffrage ATF 4.4 | H1: =IF(B1="","",VLOOKUP(B1,ListeOperation,7,FALSE))

Sheet chiffrage
L1: =CONCATENATE("Indice ","") -> Indice | N1: BOURGEOIS.C | P1: 1 | AA1: =COUNTA(AA2:AA10000) -> 4 | AB1: chiffrage | AE1: SEPARATEUR | AF1: =VLOOKUP("Par_1",Parametre,5,0) -> #N/A
C2: Infos | H2: =SI(B2="";"";RECHERCHEV(B2;ListeOperation;7;FAUX())) | M2: 0 | N2: =TODAY() -> 42619 | P2: =CHAR(64+INT(ROW()/45)+1) -> A | R2: Longueur (mm) | S2: Largeur (mm) | T2: Ep mm | U2: Matière | W2: Poids | X2: M2 | AA2: 1 | AB2: TOTAL POIDS | AC2: TOTAL M2 | AE2: SELECTEUR | AF2: =VLOOKUP("Par_2",Parametre,5,0) -> #N/A
B3: Matière | C3: Longueur Mm | D3: Largeur Mm | E3: Ep Mm | F3: Qté | G3: Poids Kg | H3: Prix Unitaire | I3: Total | J3: Prix/Kg Achat | K3: Informations | M3: M2 | N3: Poids | R3: 200 | S3: 100 | T3: 1 | U3: acier | V3: =VLOOKUP(U3,DensiteMatiere,2,0) -> 7.8 | W3: =(R3*S3*T3*V3)/1000000 -> 0.156 | X3: =R3*S3*2/1000000 -> 0.04 | AC3: =X3+X49+X94+X141+X187+X233+X279+X325 -> #VALUE!
A4: =IF(OR(B4="",B4="--------------"),"",CHAR(64+INT(ROW()-4)+1)) | G4: fdbdhb | H4: =IF(G4="","",G4*J4) -> #VALUE! | I4: =IF(H4="","",H4*F4) -> #VALUE! | J4: =IF(ISERROR(VLOOKUP(B4,DesignationDensiteMatiere,2,0)),"",VLOOKUP(B4,DesignationDensiteMatiere,2,0))
A5: =IF(OR(B5="",B5="--------------"),"",CHAR(64+INT(ROW()-4)+1)) | G5: =IF(OR($B5="--------------",$B5="",E5=""),"",CALCULPOIDS(C5,D5,E5,VLOOKUP(B5,DesignationDensiteMatiere,3,0))) | H5: =IF(G5="","",G5*J5) | I5: =IF(H5="","",H5*F5) | J5: =IF(ISERROR(VLOOKUP(B5,DesignationDensiteMatiere,2,0)),"",VLOOKUP(B5,DesignationDensiteMatiere,2,0)) | R5: Squelette X Y | U5: Pinces | AD5: Tps minute | AE5: 0.15 | AF5: Tps en seconde | AG5: 2000
A6: =IF(OR(B6="",B6="--------------"),"",CHAR(64+INT(ROW()-4)+1)) | G6: =IF(OR($B6="--------------",$B6="",E6=""),"",CALCULPOIDS(C6,D6,E6,VLOOKUP(B6,DesignationDensiteMatiere,3,0))) | H6: =IF(G6="","",G6*J6) | I6: =IF(H6="","",H6*F6) | J6: =IF(ISERROR(VLOOKUP(B6,DesignationDensiteMatiere,2,0)),"",VLOOKUP(B6,DesignationDensiteMatiere,2,0)) | R6: 10 | S6: 10 | U6: 0 | AB6: centiemes h | AC6: 0.0003 | AD6: =AC6*60 -> 0.018 | AE6: =(AE5*60)/3600 -> 0.0025 | AF6: =AC6*3600 -> 1.08 | AG6: =AG5/3600 -> 0.55555556 | AL6: Delai | AN6: Difficulte | AP6: Traitement | AQ6: Infos | AR6: =CONCATENATE(AN6,CHAR(13),CHAR(13),AL6,CHAR(13),CHAR(13),AP6) -> Difficulte_x000D__x000D_Delai_x000D__x000D_Traitement
A7: =IF(OR(B7="",B7="--------------"),"",CHAR(64+INT(ROW()-4)+1)) | G7: =IF(OR($B7="--------------",$B7="",E7=""),"",CALCULPOIDS(C7,D7,E7,VLOOKUP(B7,DesignationDensiteMatiere,3,0))) | H7: =IF(G7="","",G7*J7) | I7: =IF(H7="","",H7*F7) | J7: =IF(ISERROR(VLOOKUP(B7,DesignationDensiteMatiere,2,0)),"",VLOOKUP(B7,DesignationDensiteMatiere,2,0)) | AL7: A convenir | AN7: Facile | AP7: Brute | AQ7: PEI ESTI
A8: =IF(OR(B8="",B8="--------------"),"",CHAR(64+INT(ROW()-4)+1)) | G8: =IF(OR($B8="--------------",$B8="",E8=""),"",CALCULPOIDS(C8,D8,E8,VLOOKUP(B8,DesignationDensiteMatiere,3,0))) | H8: =IF(G8="","",G8*J8) | I8: =IF(H8="","",H8*F8) | J8: =IF(ISERROR(VLOOKUP(B8,DesignationDensiteMatiere,2,0)),"",VLOOKUP(B8,DesignationDensiteMatiere,2,0)) | Q8: TOLE | W8: FORMAT IDEAL | Z8: Poids Tole Kg | AL8: 1 Semaine | AN8: Moyen | AP8: Epoxy | AQ8: USI ESTI
A9: =IF(OR(B9="",B9="--------------"),"",CHAR(64+INT(ROW()-4)+1)) | G9: =IF(OR($B9="--------------",$B9="",E9=""),"",CALCULPOIDS(C9,D9,E9,VLOOKUP(B9,DesignationDensiteMatiere,3,0))) | H9: =IF(G9="","",G9*J9) | I9: =IF(H9="","",H9*F9) | J9: =IF(ISERROR(VLOOKUP(B9,DesignationDensiteMatiere,2,0)),"",VLOOKUP(B9,DesignationDensiteMatiere,2,0)) | P9: =MIN(U10,U11,U13,U14,U16,U17,U19,U20,U22,U23) -> #NAME? | Q9: Dispo | R9: Longueur (mm) | S9: Largeur | T9: Qté/Tôle | U9: Poids/Piece | V9: % Chute | W9: longueur | X9: Largeur | Y9: Poids | AL9: 2 Semaines | AN9: Complexe | AP9: Haute T° | AQ9: PEI+USI ESTI
A10: =IF(OR(B10="",B10="--------------"),"",CHAR(64+INT(ROW()-4)+1)) | G10: =IF(OR($B10="--------------",$B10="",E10=""),"",CALCULPOIDS(C10,D10,E10,VLOOKUP(B10,DesignationDensiteMatiere,3,0))) | H10: =IF(G10="","",G10*J10) | I10: =IF(H10="","",H10*F10) | J10: =IF(ISERROR(VLOOKUP(B10,DesignationDensiteMatiere,2,0)),"",VLOOKUP(B10,DesignationDensiteMatiere,2,0)) | P10: =IF(U10=$P9,$AF$2,"") -> #NAME? | R10: 4000 | S10: 2000 | T10: =IF(Q10="","",(INT((R10/($R3+$R6)))*INT(((S10-$U6)/($S3+$S6))))) | U10: =IF(OR(T10=0,T10=""),"",CALCULPOIDS(R10,S10,T3,V3)/T10) | V10: =IF(Q10="","",(($R10*$S10)-(R3*S3*$T10))/($R10*$S10)) | W10: =CALCUL_FORMATIDEAL(R10,0,R3,R6) -> #NAME? | X10: =CALCUL_FORMATIDEAL(S10,U6,S3,S6) -> #NAME? | Y10: =CALCULPOIDS(W10,X10,T3,V3) -> #NAME? | Z10: =CALCULPOIDS(R10,S10,T3,V3) -> #NAME? | AL10: 3 Semaines | AP10: Zn
A11: =IF(OR(B11="",B11="--------------"),"",CHAR(64+INT(ROW()-4)+1)) | G11: =IF(OR($B11="--------------",$B11="",E11=""),"",CALCULPOIDS(C11,D11,E11,VLOOKUP(B11,DesignationDensiteMatiere,3,0))) | H11: =IF(G11="","",G11*J11) | I11: =IF(H11="","",H11*F11) | J11: =IF(ISERROR(VLOOKUP(B11,DesignationDensiteMatiere,2,0)),"",VLOOKUP(B11,DesignationDensiteMatiere,2,0)) | P11: =IF(U11=$P9,$AF$2,"") -> #NAME? | R11: 2000 | S11: 4000 | T11: =IF(Q11="","",(INT((R11/($R3+$R6)))*INT(((S11-$U6)/($S3+$S6))))) | U11: =IF(OR(T11=0,T11=""),"",CALCULPOIDS(R11,S11,T3,V3)/T11) | V11: =IF(Q11="","",(($R11*$S11)-(R3*S3*$T11))/($R11*$S11)) | W11: =CALCUL_FORMATIDEAL(R11,0,R3,R6) -> #NAME? | X11: =CALCUL_FORMATIDEAL(S11,U6,S3,S6) -> #NAME? | Y11: =CALCULPOIDS(W11,X11,T3,V3) -> #NAME? | Z11: =CALCULPOIDS(R11,S11,T3,V3) -> #NAME? | AB11: Rectangle | AL11: 4 Semaines | AP11: Antirouille
B12: SST MP | I12: =SUM(I4:I11) -> #VALUE! | M12: =SUM(M4:M11) -> 0 | N12: =SUM(N4:N11) -> 0 | T12: =IF(UPPER(Q12)="X",(INT((R12/($R$8+$R$11)))*INT(((S12-$U$11)/($S$8+$S$11)))),"") | U12: =IF(OR(T12=0,T12=""),"",CALCULPOIDS(R12,S12,$T$3,V5)/T12) | AB12: Matiere | AC12: Longueur mm | AD12: Largeur mm | AE12: Epaisseur mm | AF12: Poids Kg | AL12: 5 Semaines | AP12: Liquide
B13: Composants | C13: Qté | D13: Prix | I13: Total | J13: Informations | P13: =IF(U13=$P9,$AF$2,"") -> #NAME? | Q13: x | R13: 3000 | S13: 1500 | T13: =IF(Q13="","",(INT((R13/($R3:R3+$R6)))*INT(((S13-$U6)/($S3+$S6))))) -> 182 | U13: =IF(OR(T13=0,T13=""),"",CALCULPOIDS(R13,S13,T3,V3)/T13) -> #NAME? | V13: =IF(Q13="","",(($R13:R13*$S13)-(R3*S3*$T13))/($R13*$S13)) -> 0.19111111 | W13: =CALCUL_FORMATIDEAL(R13,0,R3,R6) -> #NAME? | X13: =CALCUL_FORMATIDEAL(S13,U6,S3,S6) -> #NAME? | Y13: =CALCULPOIDS(W13,X13,T3,V3) -> #NAME? | Z13: =CALCULPOIDS(R13,S13,T3,V3) -> #NAME? | AB13: alu | AC13: 40 | AD13: 15 | AE13: 0 | AF13: =(AC13*AD13*VLOOKUP(AB13,DensiteMatiere,2,0)/1000)-IF(AE13>0,((AC13-2*AE13)*(AD13-2*AE13)*VLOOKUP(AB13,DensiteMatiere,2,0)/1000),0) -> 1.68 | AL13: 6 Semaines | AP13: tribofinition
D14: =IF(B14<>"",VLOOKUP(B14,PrixComposant,2,0),"") | I14: =IF(OR(C14="",C14=0),"",C14*D14) | P14: =IF(U14=$P9,$AF$2,"") -> #NAME? | Q14: x | R14: 1500 | S14: 3000 | T14: =IF(Q14="","",(INT((R14/($R3+$R6)))*INT(((S14-$U6)/($S3+$S6))))) -> 189 | U14: =IF(OR(T14=0,T14=""),"",CALCULPOIDS(R14,S14,T3,V3)/T14) -> #NAME? | V14: =IF(Q14="","",(($R14*$S14)-(R3*S3*$T14))/($R14*$S14)) -> 0.16 | W14: =CALCUL_FORMATIDEAL(R14,0,R3,R6) -> #NAME? | X14: =CALCUL_FORMATIDEAL(S14,U6,S3,S6) -> #NAME? | Y14: =CALCULPOIDS(W14,X14,T3,V3) -> #NAME? | Z14: =CALCULPOIDS(R14,S14,T3,V3) -> #NAME? | AB14: Rond | AL14: 7 Semaines | AP14: Polissage_elec
D15: =IF(B15<>"",VLOOKUP(B15,PrixComposant,2,0),"") | I15: =IF(OR(C15="",C15=0),"",C15*D15) | T15: =IF(Q15="","",(INT((R15/($R4:R4+$R7:R7)))*INT(((S15-$U7:U7)/($S4:S4+$S7:S7))))) | U15: =IF(OR(T15=0,T15=""),"",CALCULPOIDS(R15,S15,$T$3,V8)/T15) | AC15: Diametre mm | AE15: Epaisseur mm | AL15: 8 Semaines | AP15: brunissage
D16: =IF(B16<>"",VLOOKUP(B16,PrixComposant,2,0),"") | I16: =IF(OR(C16="",C16=0),"",C16*D16) | P16: =IF(U16=$P9,$AF$2,"") -> #NAME? | Q16: x | R16: 2500 | S16: 1250 | T16: =IF(Q16="","",(INT((R16/($R3+$R6)))*INT(((S16-$U6)/($S3+$S6))))) -> 121 | U16: =IF(OR(T16=0,T16=""),"",CALCULPOIDS(R16,S16,T3,V3)/T16) -> #NAME? | V16: =IF(Q16="","",(($R16*$S16)-(R3*S3*$T16))/($R16*$S16)) -> 0.2256 | W16: =CALCUL_FORMATIDEAL(R16,0,R3,R6) -> #NAME? | X16: =CALCUL_FORMATIDEAL(S16,U6,S3,S6) -> #NAME? | Y16: =CALCULPOIDS(W16,X16,T3,V3) -> #NAME? | Z16: =CALCULPOIDS(R16,S16,T3,V3) -> #NAME? | AB16: alu | AC16: 500 | AE16: 0 | AF16: =((PI()*POWER((AC16/2),2)*VLOOKUP(AB16,DensiteMatiere,2,0)/1000)-IF(AE16>0,(PI()*POWER(((AC16-2*AE16)/2),2)*VLOOKUP(AB16,DensiteMatiere,2,0)/1000),0))*1.04 -> 571.76986 | AL16: 9 Semaines
D17: =IF(B17<>"",VLOOKUP(B17,PrixComposant,2,0),"") | I17: =IF(OR(C17="",C17=0),"",C17*D17) | P17: =IF(U17=$P9,$AF$2,"") -> #NAME? | Q17: x | R17: 1250 | S17: 2500 | T17: =IF(Q17="","",(INT((R17/($R3+$R6)))*INT(((S17-$U6)/($S3+$S6))))) -> 110 | U17: =IF(OR(T17=0,T17=""),"",CALCULPOIDS(R17,S17,T3,V3)/T17) -> #NAME? | V17: =IF(Q17="","",(($R17*$S17)-(R3*S3*$T17))/($R17*$S17)) -> 0.296 | W17: =CALCUL_FORMATIDEAL(R17,0,R3,R6) -> #NAME? | X17: =CALCUL_FORMATIDEAL(S17,U6,S3,S6) -> #NAME? | Y17: =CALCULPOIDS(W17,X17,T3,V3) -> #NAME? | Z17: =CALCULPOIDS(R17,S17,T3,V3) -> #NAME? | AL17: 10 Semaines
D18: =IF(B18<>"",VLOOKUP(B18,PrixComposant,2,0),"") | I18: =IF(OR(C18="",C18=0),"",C18*D18) | T18: =IF(UPPER(Q18)="X",(INT((R18/($R$8+$R$11)))*INT(((S18-$U$11)/($S$8+$S$11)))),"") | U18: =IF(OR(T18=0,T18=""),"",CALCULPOIDS(R18,S18,$T$3,V9)/T18)
D19: =IF(B19<>"",VLOOKUP(B19,PrixComposant,2,0),"") | I19: =IF(OR(C19="",C19=0),"",C19*D19) | P19: =IF(U19=$P9,$AF$2,"") -> #NAME? | Q19: x | R19: 2000 | S19: 1000 | T19: =IF(Q19="","",(INT((R19/($R3+$R6)))*INT(((S19-$U6)/($S3+$S6))))) -> 81 | U19: =IF(OR(T19=0,T19=""),"",CALCULPOIDS(R19,S19,T3,V3)/T19) -> #NAME? | V19: =IF(Q19="","",(($R19*$S19)-(R3*S3*$T19))/($R19*$S19)) -> 0.19 | W19: =CALCUL_FORMATIDEAL(R19,0,R3,R6) -> #NAME? | X19: =CALCUL_FORMATIDEAL(S19,U6,S3,S6) -> #NAME? | Y19: =CALCULPOIDS(W19,X19,T3,V3) -> #NAME? | Z19: =CALCULPOIDS(R19,S19,T3,V3) -> #NAME?
C20: 1 | D20: =IF(B20<>"",VLOOKUP(B20,PrixComposant,2,0),"") | I20: =IF(OR(C20="",C20=0),"",C20*D20) -> #VALUE! | P20: =IF(U20=$P9,$AF$2,"") -> #NAME? | Q20: x | R20: 1000 | S20: 2000 | T20: =IF(Q20="","",(INT((R20/($R3+$R6)))*INT(((S20-$U6)/($S3+$S6))))) -> 72 | U20: =IF(OR(T20=0,T20=""),"",CALCULPOIDS(R20,S20,T3,V3)/T20) -> #NAME? | V20: =IF(Q20="","",(($R20*$S20)-(R3*S3*$T20))/($R20*$S20)) -> 0.28 | W20: =CALCUL_FORMATIDEAL(R20,0,R3,R6) -> #NAME? | X20: =CALCUL_FORMATIDEAL(S20,U6,S3,S6) -> #NAME? | Y20: =CALCULPOIDS(W20,X20,T3,V3) -> #NAME? | Z20: =CALCULPOIDS(R20,S20,T3,V3) -> #NAME?
B21: SST CP | I21: =SUM(I14:I20) -> #VALUE! | T21: =IF(UPPER(Q21)="X",(INT((R21/($R$8+$R$11)))*INT(((S21-$U$11)/($S$8+$S$11)))),"") | U21: =IF(OR(T21=0,T21=""),"",CALCULPOIDS(R21,S21,$T$3,V12)/T21)
A22: TOTAL | H22: =1+L22 -> 1.25 | I22: =SUM(I21,I12)*H22 -> #VALUE! | J22: =IF(I12=0,"PAS DE MATIERE","") -> #VALUE! | L22: 0.25 | P22: =IF(U22=$P9,$AF$2,"") -> #NAME? | Q22: x | R22: 500 | S22: 200 | T22: =IF(Q22="","",(INT((R22/($R3+$R6)))*INT(((S22-$U6)/($S3+$S6))))) -> 2 | U22: =IF(OR(T22=0,T22=""),"",CALCULPOIDS(R22,S22,T3,V3)/T22) -> #NAME? | V22: =IF(Q22="","",(($R22*$S22)-(R3*S3*$T22))/($R22*$S22)) -> 0.6 | W22: =CALCUL_FORMATIDEAL(R22,0,R3,R6) -> #NAME? | X22: =CALCUL_FORMATIDEAL(S22,0,S3,S6) -> #NAME? | Y22: =CALCULPOIDS(W22,X22,T3,V3) -> #NAME? | Z22: =CALCULPOIDS(R22,S22,T3,V3) -> #NAME?
A23: Commentaires | B23: OPERATIONS | C23: AIDE | D23: Nb Actions | E23: Tx PREP | F23: Tps PREP | G23: CT prep | H23: TH OP | I23: Base Op | J23: TPS OP | K23: CT op | L23: Pce/H | M23: TPS par op | N23: Pièce Aspect | P23: =IF(U23=$P9,$AF$2,"") -> #NAME? | Q23: x | R23: =S22 -> 200 | S23: =R22 -> 500 | T23: =IF(Q23="","",(INT((R23/($R3+$R6)))*INT(((S23-$U6)/($S3+$S6))))) -> 0 | U23: =IF(OR(T23=0,T23=""),"",CALCULPOIDS(R23,S23,T3,V3)/T23) | V23: =IF(Q23="","",(($R23*$S23)-(R3*S3*$T23))/($R23*$S23)) -> 1 | W23: =CALCUL_FORMATIDEAL(R23,U6,R3,R6) -> #NAME? | X23: =CALCUL_FORMATIDEAL(S23,0,S3,S6) -> #NAME? | Y23: =CALCULPOIDS(W23,X23,T3,V3) -> #NAME? | Z23: =CALCULPOIDS(R23,S23,T3,V3) -> #NAME?
C24: =IF(B24="","",VLOOKUP(B24,ListeOperation,5,FALSE)) | D24: =IF(B24<>"",1,"") | E24: =IF(OR(B24="",LEFT(B24,1)="_"),"", VLOOKUP(B24,ListeOperation,2,FALSE)) | F24: =IF(OR(B24="",LEFT(B24,1)="_"),"",VLOOKUP(B24,ListeOperation,4,FALSE)) | G24: =IF(B24="","",IF(LEFT(B24,1)="_",VLOOKUP(B24,ListeOperation,2,0),IF(F24="",0,PRODUCT(F24,E24)))) | H24: =IF(OR(B24="",LEFT(B24,1)="_"),"",VLOOKUP(B24,ListeOperation,3,FALSE)) | I24: =IF(B24="","",VLOOKUP(B24,ListeOperation,7,FALSE)) | J24: =IF(OR(B24="",LEFT(B24,1)="_"),"",PRODUCT(D24,I24)) | K24: =IF(OR(D24="",D24=0,B24=""),"",IF(LEFT(B24,1)="_",VLOOKUP(B24,ListeOperation,3,0)*D24,PRODUCT(I24,H24,D24))) | L24: =IF(I24*D24=0,"",60/M24) -> #VALUE! | M24: =IF(J24="","",J24*60)/IF(UPPER(LEFT(B24,3))="PEI",120,1) -> #VALUE! | O24: =IF(ISERROR(SEARCH("laser",B24)),0,1)+IF(ISERROR(SEARCH("t500",B24)),0,1) -> 0 | T24: =IF(UPPER(T28)="OXYGENE","O2","NA") -> O2 | U24: =CONCATENATE(LOWER(U25),"-",T29,"-",U3,"-",T27,"-",T24) -> bystronic3015-0-acier-1-O2 | W24: =CONCATENATE(LOWER(W25),"-",T29,"-",U3,"-",T27,"-",T24) -> bystronic4000-0-acier-1-O2 | Y24: =CONCATENATE(LOWER(Y25),"-",T29,"-",U3,"-",T27,"-",T24) -> amada-0-acier-1-O2 | Z24: =IF(UPPER(T28)="OXYGENE","O2","NA") -> O2
C25: =IF(B25="","",VLOOKUP(B25,ListeOperation,5,FALSE)) | D25: =IF(B25<>"",1,"") | E25: =IF(OR(B25="",LEFT(B25,1)="_"),"", VLOOKUP(B25,ListeOperation,2,FALSE)) | F25: =IF(OR(B25="",LEFT(B25,1)="_"),"",VLOOKUP(B25,ListeOperation,4,FALSE)) | G25: =IF(B25="","",IF(LEFT(B25,1)="_",VLOOKUP(B25,ListeOperation,2,0),IF(F25="",0,PRODUCT(F25,E25)))) | H25: =IF(OR(B25="",LEFT(B25,1)="_"),"",VLOOKUP(B25,ListeOperation,3,FALSE)) | I25: =IF(B25="","",VLOOKUP(B25,ListeOperation,7,FALSE)) | J25: =IF(OR(B25="",LEFT(B25,1)="_"),"",PRODUCT(D25,I25)) | K25: =IF(OR(D25="",D25=0,B25=""),"",IF(LEFT(B25,1)="_",VLOOKUP(B25,ListeOperation,3,0)*D25,PRODUCT(I25,H25,D25))) | L25: =IF(I25*D25=0,"",60/M25) -> #VALUE! | M25: =IF(J25="","",J25*60)/IF(UPPER(LEFT(B25,3))="PEI",120,1) -> #VALUE! | O25: =IF(ISERROR(SEARCH("laser",B25)),0,1)+IF(ISERROR(SEARCH("t500",B25)),0,1)+O24 -> 0 | U25: Bystronic3015 | V25: =#N/A -> #N/A | W25: Bystronic4000 | X25: 0 | Y25: Amada | Z25: 0
C26: =IF(B26="","",VLOOKUP(B26,ListeOperation,5,FALSE)) | D26: =IF(B26<>"",1,"") | E26: =IF(OR(B26="",LEFT(B26,1)="_"),"", VLOOKUP(B26,ListeOperation,2,FALSE)) | F26: =IF(OR(B26="",LEFT(B26,1)="_"),"",VLOOKUP(B26,ListeOperation,4,FALSE)) | G26: =IF(B26="","",IF(LEFT(B26,1)="_",VLOOKUP(B26,ListeOperation,2,0),IF(F26="",0,PRODUCT(F26,E26)))) | H26: =IF(OR(B26="",LEFT(B26,1)="_"),"",VLOOKUP(B26,ListeOperation,3,FALSE)) | I26: =IF(B26="","",VLOOKUP(B26,ListeOperation,7,FALSE)) | J26: =IF(OR(B26="",LEFT(B26,1)="_"),"",PRODUCT(D26,I26)) | K26: =IF(OR(D26="",D26=0,B26=""),"",IF(LEFT(B26,1)="_",VLOOKUP(B26,ListeOperation,3,0)*D26,PRODUCT(I26,H26,D26))) | L26: =IF(I26*D26=0,"",60/M26) -> #VALUE! | M26: =IF(J26="","",J26*60)/IF(UPPER(LEFT(B26,3))="PEI",120,1) -> #VALUE! | O26: =IF(ISERROR(SEARCH("laser",B26)),0,1)+IF(ISERROR(SEARCH("t500",B26)),0,1)+O25 -> 0 | Q26: LASER | U26: =IF(ISERROR(VLOOKUP(U24,TempsLaser,2,0)),"ERREUR",VLOOKUP(U24,TempsLaser,2,0)) -> 8650 | V26: vitesse | W26: =IF(ISERROR(VLOOKUP(W24,TempsLaser,2,0)),"ERREUR",VLOOKUP(W24,TempsLaser,2,0)) -> ERREUR | Y26: =IF(ISERROR(VLOOKUP(Y24,TempsLaser,2,0)),"ERREUR",VLOOKUP(Y24,TempsLaser,2,0)) -> 3800 | Z26: vitesse
C27: =IF(B27="","",VLOOKUP(B27,ListeOperation,5,FALSE)) | D27: =IF(B27<>"",1,"") | E27: =IF(OR(B27="",LEFT(B27,1)="_"),"", VLOOKUP(B27,ListeOperation,2,FALSE)) | F27: =IF(OR(B27="",LEFT(B27,1)="_"),"",VLOOKUP(B27,ListeOperation,4,FALSE)) | G27: =IF(B27="","",IF(LEFT(B27,1)="_",VLOOKUP(B27,ListeOperation,2,0),IF(F27="",0,PRODUCT(F27,E27)))) | H27: =IF(OR(B27="",LEFT(B27,1)="_"),"",VLOOKUP(B27,ListeOperation,3,FALSE)) | I27: =IF(B27="","",VLOOKUP(B27,ListeOperation,7,FALSE)) | J27: =IF(OR(B27="",LEFT(B27,1)="_"),"",PRODUCT(D27,I27)) | K27: =IF(OR(D27="",D27=0,B27=""),"",IF(LEFT(B27,1)="_",VLOOKUP(B27,ListeOperation,3,0)*D27,PRODUCT(I27,H27,D27))) | L27: =IF(I27*D27=0,"",60/M27) -> #VALUE! | M27: =IF(J27="","",J27*60)/IF(UPPER(LEFT(B27,3))="PEI",120,1) -> #VALUE! | O27: =IF(ISERROR(SEARCH("laser",B27)),0,1)+IF(ISERROR(SEARCH("t500",B27)),0,1)+O26 -> 0 | R27: Épaisseur | T27: =IF(T3<1,1,IF(T3-INT(T3)=0,T3, IF(T3-INT(T3)<=0.5,0.5+INT(T3),1+INT(T3)))) -> 1 | U27: =IF(ISERROR(VLOOKUP(U24,TempsLaser,3,0)),"ERREUR",VLOOKUP(U24,TempsLaser,3,0)) -> 7100 | V27: vitesse d | W27: =IF(ISERROR(VLOOKUP(W24,TempsLaser,3,0)),"ERREUR",VLOOKUP(W24,TempsLaser,3,0)) -> ERREUR | Y27: =IF(ISERROR(VLOOKUP(Y24,TempsLaser,3,0)),"ERREUR",VLOOKUP(Y24,TempsLaser,3,0)) -> 1101 | Z27: vitesse d
C28: =IF(B28="","",VLOOKUP(B28,ListeOperation,5,FALSE)) | D28: =IF(B28<>"",1,"") | E28: =IF(OR(B28="",LEFT(B28,1)="_"),"", VLOOKUP(B28,ListeOperation,2,FALSE)) | F28: =IF(OR(B28="",LEFT(B28,1)="_"),"",VLOOKUP(B28,ListeOperation,4,FALSE)) | G28: =IF(B28="","",IF(LEFT(B28,1)="_",VLOOKUP(B28,ListeOperation,2,0),IF(F28="",0,PRODUCT(F28,E28)))) | H28: =IF(OR(B28="",LEFT(B28,1)="_"),"",VLOOKUP(B28,ListeOperation,3,FALSE)) | I28: =IF(B28="","",VLOOKUP(B28,ListeOperation,7,FALSE)) | J28: =IF(OR(B28="",LEFT(B28,1)="_"),"",PRODUCT(D28,I28)) | K28: =IF(OR(D28="",D28=0,B28=""),"",IF(LEFT(B28,1)="_",VLOOKUP(B28,ListeOperation,3,0)*D28,PRODUCT(I28,H28,D28))) | L28: =IF(I28*D28=0,"",60/M28) -> #VALUE! | M28: =IF(J28="","",J28*60)/IF(UPPER(LEFT(B28,3))="PEI",120,1) -> #VALUE! | O28: =IF(ISERROR(SEARCH("laser",B28)),0,1)+IF(ISERROR(SEARCH("t500",B28)),0,1)+O27 -> 0 | R28: Gaz | T28: Oxygene
C29: =IF(B29="","",VLOOKUP(B29,ListeOperation,5,FALSE)) | D29: =IF(B29<>"",1,"") | E29: =IF(OR(B29="",LEFT(B29,1)="_"),"", VLOOKUP(B29,ListeOperation,2,FALSE)) | F29: =IF(OR(B29="",LEFT(B29,1)="_"),"",VLOOKUP(B29,ListeOperation,4,FALSE)) | G29: =IF(B29="","",IF(LEFT(B29,1)="_",VLOOKUP(B29,ListeOperation,2,0),IF(F29="",0,PRODUCT(F29,E29)))) | H29: =IF(OR(B29="",LEFT(B29,1)="_"),"",VLOOKUP(B29,ListeOperation,3,FALSE)) | I29: =IF(B29="","",VLOOKUP(B29,ListeOperation,7,FALSE)) | J29: =IF(OR(B29="",LEFT(B29,1)="_"),"",PRODUCT(D29,I29)) | K29: =IF(OR(D29="",D29=0,B29=""),"",IF(LEFT(B29,1)="_",VLOOKUP(B29,ListeOperation,3,0)*D29,PRODUCT(I29,H29,D29))) | L29: =IF(I29*D29=0,"",60/M29) -> #VALUE! | M29: =IF(J29="","",J29*60)/IF(UPPER(LEFT(B29,3))="PEI",120,1) -> #VALUE! | O29: =IF(ISERROR(SEARCH("laser",B29)),0,1)+IF(ISERROR(SEARCH("t500",B29)),0,1)+O28 -> 0 | R29: High Speed | T29: 0
C30: =IF(B30="","",VLOOKUP(B30,ListeOperation,5,FALSE)) | D30: =IF(B30<>"",1,"") | E30: =IF(OR(B30="",LEFT(B30,1)="_"),"", VLOOKUP(B30,ListeOperation,2,FALSE)) | F30: =IF(OR(B30="",LEFT(B30,1)="_"),"",VLOOKUP(B30,ListeOperation,4,FALSE)) | G30: =IF(B30="","",IF(LEFT(B30,1)="_",VLOOKUP(B30,ListeOperation,2,0),IF(F30="",0,PRODUCT(F30,E30)))) | H30: =IF(OR(B30="",LEFT(B30,1)="_"),"",VLOOKUP(B30,ListeOperation,3,FALSE)) | I30: =IF(B30="","",VLOOKUP(B30,ListeOperation,7,FALSE)) | J30: =IF(OR(B30="",LEFT(B30,1)="_"),"",PRODUCT(D30,I30)) | K30: =IF(OR(D30="",D30=0,B30=""),"",IF(LEFT(B30,1)="_",VLOOKUP(B30,ListeOperation,3,0)*D30,PRODUCT(I30,H30,D30))) | L30: =IF(I30*D30=0,"",60/M30) -> #VALUE! | M30: =IF(J30="","",J30*60)/IF(UPPER(LEFT(B30,3))="PEI",120,1) -> #VALUE! | O30: =IF(ISERROR(SEARCH("laser",B30)),0,1)+IF(ISERROR(SEARCH("t500",B30)),0,1)+O29 -> 0 | R30: Contours decoupés en mm | T30: =(R3+S3)*2 -> 600 | U30: =(T30/U26)/60 -> 0.0011560694 | W30: =(T30/W26)/60 -> #VALUE! | Y30: =(T30/Y26)/60 -> 0.0026315789
C31: =IF(B31="","",VLOOKUP(B31,ListeOperation,5,FALSE)) | D31: =IF(B31<>"",1,"") | E31: =IF(OR(B31="",LEFT(B31,1)="_"),"", VLOOKUP(B31,ListeOperation,2,FALSE)) | F31: =IF(OR(B31="",LEFT(B31,1)="_"),"",VLOOKUP(B31,ListeOperation,4,FALSE)) | G31: =IF(B31="","",IF(LEFT(B31,1)="_",VLOOKUP(B31,ListeOperation,2,0),IF(F31="",0,PRODUCT(F31,E31)))) | H31: =IF(OR(B31="",LEFT(B31,1)="_"),"",VLOOKUP(B31,ListeOperation,3,FALSE)) | I31: =IF(B31="","",VLOOKUP(B31,ListeOperation,7,FALSE)) | J31: =IF(OR(B31="",LEFT(B31,1)="_"),"",PRODUCT(D31,I31)) | K31: =IF(OR(D31="",D31=0,B31=""),"",IF(LEFT(B31,1)="_",VLOOKUP(B31,ListeOperation,3,0)*D31,PRODUCT(I31,H31,D31))) | L31: =IF(I31*D31=0,"",60/M31) -> #VALUE! | M31: =IF(J31="","",J31*60)/IF(UPPER(LEFT(B31,3))="PEI",120,1) -> #VALUE! | O31: =IF(ISERROR(SEARCH("laser",B31)),0,1)+IF(ISERROR(SEARCH("t500",B31)),0,1)+O30 -> 0 | R31: nbre diam < 10 | T31: 0 | U31: =((T31*40)/U27)/60 -> 0 | W31: =((T31*40)/W27)/60 -> #VALUE! | Y31: =((T31*40)/Y27)/60 -> 0
C32: =IF(B32="","",VLOOKUP(B32,ListeOperation,5,FALSE)) | D32: =IF(B32<>"",1,"") | E32: =IF(OR(B32="",LEFT(B32,1)="_"),"", VLOOKUP(B32,ListeOperation,2,FALSE)) | F32: =IF(OR(B32="",LEFT(B32,1)="_"),"",VLOOKUP(B32,ListeOperation,4,FALSE)) | G32: =IF(B32="","",IF(LEFT(B32,1)="_",VLOOKUP(B32,ListeOperation,2,0),IF(F32="",0,PRODUCT(F32,E32)))) | H32: =IF(OR(B32="",LEFT(B32,1)="_"),"",VLOOKUP(B32,ListeOperation,3,FALSE)) | I32: =IF(B32="","",VLOOKUP(B32,ListeOperation,7,FALSE)) | J32: =IF(OR(B32="",LEFT(B32,1)="_"),"",PRODUCT(D32,I32)) | K32: =IF(OR(D32="",D32=0,B32=""),"",IF(LEFT(B32,1)="_",VLOOKUP(B32,ListeOperation,3,0)*D32,PRODUCT(I32,H32,D32))) | L32: =IF(I32*D32=0,"",60/M32) -> #VALUE! | M32: =IF(J32="","",J32*60)/IF(UPPER(LEFT(B32,3))="PEI",120,1) -> #VALUE! | O32: =IF(ISERROR(SEARCH("laser",B32)),0,1)+IF(ISERROR(SEARCH("t500",B32)),0,1)+O31 -> 0 | R32: Nbre d'amorçages | T32: =T31+1 -> 1 | U32: =V32*T27*T32 -> 0.00027 | V32: 0.00027 | W32: =X32*T27*T32 -> 0.00027 | X32: 0.00027 | Y32: =Z32*T27*T32 -> 0.00027 | Z32: 0.00027
C33: =IF(B33="","",VLOOKUP(B33,ListeOperation,5,FALSE)) | D33: =IF(B33<>"",1,"") | E33: =IF(OR(B33="",LEFT(B33,1)="_"),"", VLOOKUP(B33,ListeOperation,2,FALSE)) | F33: =IF(OR(B33="",LEFT(B33,1)="_"),"",VLOOKUP(B33,ListeOperation,4,FALSE)) | G33: =IF(B33="","",IF(LEFT(B33,1)="_",VLOOKUP(B33,ListeOperation,2,0),IF(F33="",0,PRODUCT(F33,E33)))) | H33: =IF(OR(B33="",LEFT(B33,1)="_"),"",VLOOKUP(B33,ListeOperation,3,FALSE)) | I33: =IF(B33="","",VLOOKUP(B33,ListeOperation,7,FALSE)) | J33: =IF(OR(B33="",LEFT(B33,1)="_"),"",PRODUCT(D33,I33)) | K33: =IF(OR(D33="",D33=0,B33=""),"",IF(LEFT(B33,1)="_",VLOOKUP(B33,ListeOperation,3,0)*D33,PRODUCT(I33,H33,D33))) | L33: =IF(I33*D33=0,"",60/M33) -> #VALUE! | M33: =IF(J33="","",J33*60)/IF(UPPER(LEFT(B33,3))="PEI",120,1) -> #VALUE! | O33: =IF(ISERROR(SEARCH("laser",B33)),0,1)+IF(ISERROR(SEARCH("t500",B33)),0,1)+O32 -> 0 | R33: Nbre de trappe | T33: 0 | U33: 0 | W33: =X33*T33 -> 0 | X33: 0.0028 | Y33: =Z33*T33 -> 0 | Z33: 0.0028
C34: =IF(B34="","",VLOOKUP(B34,ListeOperation,5,FALSE)) | D34: =IF(B34<>"",1,"") | E34: =IF(OR(B34="",LEFT(B34,1)="_"),"", VLOOKUP(B34,ListeOperation,2,FALSE)) | F34: =IF(OR(B34="",LEFT(B34,1)="_"),"",VLOOKUP(B34,ListeOperation,4,FALSE)) | G34: =IF(B34="","",IF(LEFT(B34,1)="_",VLOOKUP(B34,ListeOperation,2,0),IF(F34="",0,PRODUCT(F34,E34)))) | H34: =IF(OR(B34="",LEFT(B34,1)="_"),"",VLOOKUP(B34,ListeOperation,3,FALSE)) | I34: =IF(B34="","",VLOOKUP(B34,ListeOperation,7,FALSE)) | J34: =IF(OR(B34="",LEFT(B34,1)="_"),"",PRODUCT(D34,I34)) | K34: =IF(OR(D34="",D34=0,B34=""),"",IF(LEFT(B34,1)="_",VLOOKUP(B34,ListeOperation,3,0)*D34,PRODUCT(I34,H34,D34))) | L34: =IF(I34*D34=0,"",60/M34) -> #VALUE! | M34: =IF(J34="","",J34*60)/IF(UPPER(LEFT(B34,3))="PEI",120,1) -> #VALUE! | O34: =IF(ISERROR(SEARCH("laser",B34)),0,1)+IF(ISERROR(SEARCH("t500",B34)),0,1)+O33 -> 0 | R34: Nbrs d' evac manuelle | T34: 0 | U34: =V34*T34 -> 0 | V34: =Z34 -> 0.0041 | W34: =X34*T34 -> 0 | X34: 0.0041 | Y34: =Z34*T34 -> 0 | Z34: 0.0041
C35: =IF(B35="","",VLOOKUP(B35,ListeOperation,5,FALSE)) | D35: =IF(B35<>"",1,"") | E35: =IF(OR(B35="",LEFT(B35,1)="_"),"", VLOOKUP(B35,ListeOperation,2,FALSE)) | F35: =IF(OR(B35="",LEFT(B35,1)="_"),"",VLOOKUP(B35,ListeOperation,4,FALSE)) | G35: =IF(B35="","",IF(LEFT(B35,1)="_",VLOOKUP(B35,ListeOperation,2,0),IF(F35="",0,PRODUCT(F35,E35)))) | H35: =IF(OR(B35="",LEFT(B35,1)="_"),"",VLOOKUP(B35,ListeOperation,3,FALSE)) | I35: =IF(B35="","",VLOOKUP(B35,ListeOperation,7,FALSE)) | J35: =IF(OR(B35="",LEFT(B35,1)="_"),"",PRODUCT(D35,I35)) | K35: =IF(OR(D35="",D35=0,B35=""),"",IF(LEFT(B35,1)="_",VLOOKUP(B35,ListeOperation,3,0)*D35,PRODUCT(I35,H35,D35))) | L35: =IF(I35*D35=0,"",60/M35) -> #VALUE! | M35: =IF(J35="","",J35*60)/IF(UPPER(LEFT(B35,3))="PEI",120,1) -> #VALUE! | O35: =IF(ISERROR(SEARCH("laser",B35)),0,1)+IF(ISERROR(SEARCH("t500",B35)),0,1)+O34 -> 0 | R35: Vapo | T35: 0 | U35: =((T30+T31*10)/8000)/60*IF(T35,1,0) -> 0 | W35: =((T30+T31*10)/3700)/60*IF(T35,1,0) -> 0 | Y35: =((T30+T31*10)/3700)/60*IF(T35,1,0) -> 0
C36: =IF(B36="","",VLOOKUP(B36,ListeOperation,5,FALSE)) | D36: =IF(B36<>"",1,"") | E36: =IF(OR(B36="",LEFT(B36,1)="_"),"", VLOOKUP(B36,ListeOperation,2,FALSE)) | F36: =IF(OR(B36="",LEFT(B36,1)="_"),"",VLOOKUP(B36,ListeOperation,4,FALSE)) | G36: =IF(B36="","",IF(LEFT(B36,1)="_",VLOOKUP(B36,ListeOperation,2,0),IF(F36="",0,PRODUCT(F36,E36)))) | H36: =IF(OR(B36="",LEFT(B36,1)="_"),"",VLOOKUP(B36,ListeOperation,3,FALSE)) | I36: =IF(B36="","",VLOOKUP(B36,ListeOperation,7,FALSE)) | J36: =IF(OR(B36="",LEFT(B36,1)="_"),"",PRODUCT(D36,I36)) | K36: =IF(OR(D36="",D36=0,B36=""),"",IF(LEFT(B36,1)="_",VLOOKUP(B36,ListeOperation,3,0)*D36,PRODUCT(I36,H36,D36))) | L36: =IF(I36*D36=0,"",60/M36) -> #VALUE! | M36: =IF(J36="","",J36*60)/IF(UPPER(LEFT(B36,3))="PEI",120,1) -> #VALUE! | O36: =IF(ISERROR(SEARCH("laser",B36)),0,1)+IF(ISERROR(SEARCH("t500",B36)),0,1)+O35 -> 0 | P36: =Q26 -> LASER | T36: a reporter | U36: =SUM(U30:U35)*1.3 -> 0.0018538902 | W36: =SUM(W30:W35)*1.2 -> #VALUE! | Y36: =SUM(Y30:Y35)*1.2 -> 0.0034818947
C37: =IF(B37="","",VLOOKUP(B37,ListeOperation,5,FALSE)) | D37: =IF(B37<>"",1,"") | E37: =IF(OR(B37="",LEFT(B37,1)="_"),"", VLOOKUP(B37,ListeOperation,2,FALSE)) | F37: =IF(OR(B37="",LEFT(B37,1)="_"),"",VLOOKUP(B37,ListeOperation,4,FALSE)) | G37: =IF(B37="","",IF(LEFT(B37,1)="_",VLOOKUP(B37,ListeOperation,2,0),IF(F37="",0,PRODUCT(F37,E37)))) | H37: =IF(OR(B37="",LEFT(B37,1)="_"),"",VLOOKUP(B37,ListeOperation,3,FALSE)) | I37: =IF(B37="","",VLOOKUP(B37,ListeOperation,7,FALSE)) | J37: =IF(OR(B37="",LEFT(B37,1)="_"),"",PRODUCT(D37,I37)) | K37: =IF(OR(D37="",D37=0,B37=""),"",IF(LEFT(B37,1)="_",VLOOKUP(B37,ListeOperation,3,0)*D37,PRODUCT(I37,H37,D37))) | L37: =IF(I37*D37=0,"",60/M37) -> #VALUE! | M37: =IF(J37="","",J37*60)/IF(UPPER(LEFT(B37,3))="PEI",120,1) -> #VALUE! | O37: =IF(ISERROR(SEARCH("laser",B37)),0,1)+IF(ISERROR(SEARCH("t500",B37)),0,1)+O36 -> 0
C38: =IF(B38="","",VLOOKUP(B38,ListeOperation,5,FALSE)) | D38: =IF(B38<>"",1,"") | E38: =IF(OR(B38="",LEFT(B38,1)="_"),"", VLOOKUP(B38,ListeOperation,2,FALSE)) | F38: =IF(OR(B38="",LEFT(B38,1)="_"),"",VLOOKUP(B38,ListeOperation,4,FALSE)) | G38: =IF(B38="","",IF(LEFT(B38,1)="_",VLOOKUP(B38,ListeOperation,2,0),IF(F38="",0,PRODUCT(F38,E38)))) | H38: =IF(OR(B38="",LEFT(B38,1)="_"),"",VLOOKUP(B38,ListeOperation,3,FALSE)) | I38: =IF(B38="","",VLOOKUP(B38,ListeOperation,7,FALSE)) | J38: =IF(OR(B38="",LEFT(B38,1)="_"),"",PRODUCT(D38,I38)) | K38: =IF(OR(D38="",D38=0,B38=""),"",IF(LEFT(B38,1)="_",VLOOKUP(B38,ListeOperation,3,0)*D38,PRODUCT(I38,H38,D38))) | L38: =IF(I38*D38=0,"",60/M38) -> #VALUE! | M38: =IF(J38="","",J38*60)/IF(UPPER(LEFT(B38,3))="PEI",120,1) -> #VALUE! | O38: =IF(ISERROR(SEARCH("laser",B38)),0,1)+IF(ISERROR(SEARCH("t500",B38)),0,1)+O37 -> 0 | Q38: Poinconnage
C39: =IF(B39="","",VLOOKUP(B39,ListeOperation,5,FALSE)) | D39: =IF(B39<>"",1,"") | E39: =IF(OR(B39="",LEFT(B39,1)="_"),"", VLOOKUP(B39,ListeOperation,2,FALSE)) | F39: =IF(OR(B39="",LEFT(B39,1)="_"),"",VLOOKUP(B39,ListeOperation,4,FALSE)) | G39: =IF(B39="","",IF(LEFT(B39,1)="_",VLOOKUP(B39,ListeOperation,2,0),IF(F39="",0,PRODUCT(F39,E39)))) | H39: =IF(OR(B39="",LEFT(B39,1)="_"),"",VLOOKUP(B39,ListeOperation,3,FALSE)) | I39: =IF(B39="","",VLOOKUP(B39,ListeOperation,7,FALSE)) | J39: =IF(OR(B39="",LEFT(B39,1)="_"),"",PRODUCT(D39,I39)) | K39: =IF(OR(D39="",D39=0,B39=""),"",IF(LEFT(B39,1)="_",VLOOKUP(B39,ListeOperation,3,0)*D39,PRODUCT(I39,H39,D39))) | L39: =IF(I39*D39=0,"",60/M39) -> #VALUE! | M39: =IF(J39="","",J39*60)/IF(UPPER(LEFT(B39,3))="PEI",120,1) -> #VALUE! | O39: =IF(ISERROR(SEARCH("laser",B39)),0,1)+IF(ISERROR(SEARCH("t500",B39)),0,1)+O38 -> 0 | Q39: Nbre d'outils-changements | S39: =#N/A -> #N/A | T39: 5 | U39: =(T39/T40)*V39 -> 0.015 | V39: 0.003
C40: =IF(B40="","",VLOOKUP(B40,ListeOperation,5,FALSE)) | D40: =IF(B40<>"",1,"") | E40: =IF(OR(B40="",LEFT(B40,1)="_"),"", VLOOKUP(B40,ListeOperation,2,FALSE)) | F40: =IF(OR(B40="",LEFT(B40,1)="_"),"",VLOOKUP(B40,ListeOperation,4,FALSE)) | G40: =IF(B40="","",IF(LEFT(B40,1)="_",VLOOKUP(B40,ListeOperation,2,0),IF(F40="",0,PRODUCT(F40,E40)))) | H40: =IF(OR(B40="",LEFT(B40,1)="_"),"",VLOOKUP(B40,ListeOperation,3,FALSE)) | I40: =IF(B40="","",VLOOKUP(B40,ListeOperation,7,FALSE)) | J40: =IF(OR(B40="",LEFT(B40,1)="_"),"",PRODUCT(D40,I40)) | K40: =IF(OR(D40="",D40=0,B40=""),"",IF(LEFT(B40,1)="_",VLOOKUP(B40,ListeOperation,3,0)*D40,PRODUCT(I40,H40,D40))) | L40: =IF(I40*D40=0,"",60/M40) -> #VALUE! | M40: =IF(J40="","",J40*60)/IF(UPPER(LEFT(B40,3))="PEI",120,1) -> #VALUE! | O40: =IF(ISERROR(SEARCH("laser",B40)),0,1)+IF(ISERROR(SEARCH("t500",B40)),0,1)+O39 -> 0 | Q40: Nbre de pieces sur la tole | T40: 1
...

Sheet Matiere
E1: =COUNTA(DesignationMatiere) -> 38
D2: PRIX
A3: Matiere | B3: Densité | D3: Matière | E3: Désignation | F3: Prix/Kg | G3: Densité | H3: Remarques
A4: acier | B4: 7.8 | C4: Lm 12/13 | D4: acier | E4: S235JR | F4: 0.65 | G4: =VLOOKUP(D4,$A$4:$B$17,2,0) -> 7.8 | H4: S235JR
A5: inox | B5: 7.8 | C5: Lm 12/13 | D5: acier | E5: XC10>3 | F5: 0.65 | G5: =VLOOKUP(D5,$A$4:$B$17,2,0) -> 7.8 | I5: s235jr
A6: alu | B6: 2.8 | C6: Lm 12/13 | D6: acier | E6: XC10>10 | F6: 0.65 | G6: =VLOOKUP(D6,$A$4:$B$17,2,0) -> 7.8
A7: laiton | B7: 8.5 | C7: Lm 12/13 | D7: acier | E7: S355JR | F7: 0.75 | G7: 8
A8: cuivre | B8: 9 | C8: Lm 12/13 | D8: acier | E8: GALVA | F8: 0.75 | G8: =VLOOKUP(D8,$A$4:$B$17,2,0) -> 7.8
A9: bronze | B9: 9 | C9: Lm 12/13 | D9: acier | E9: EZ | F9: 0.75 | G9: =VLOOKUP(D9,$A$4:$B$17,2,0) -> 7.8
A10: plexi | B10: 1.2 | D10: acier | E10: AUZINC | F10: 1 | G10: =VLOOKUP(D10,$A$4:$B$17,2,0) -> 7.8
D11: acier | E11: XC75 | F11: 6 | G11: =VLOOKUP(D11,$A$4:$B$17,2,0) -> 7.8
D12: acier | E12: --------------
D13: acier | E13: MEPLAT | F13: 0.9 | G13: =VLOOKUP(D13,$A$4:$B$17,2,0) -> 7.8
D14: acier | E14: --------------
C15: Lm 12/13 | D15: inox | E15: 304L | F15: 3 | G15: =VLOOKUP(D15,$A$4:$B$17,2,0) -> 7.8
D16: inox | E16: 304P 1PVC | F16: 3 | G16: =VLOOKUP(D16,$A$4:$B$17,2,0) -> 7.8
D17: inox | E17: 430 | F17: 2.5 | G17: =VLOOKUP(D17,$A$4:$B$17,2,0) -> 7.8
D18: inox | E18: 304G220 | F18: 3.5 | G18: =VLOOKUP(D18,$A$4:$B$17,2,0) -> 7.8
D19: inox | E19: 304_5WL | F19: 8 | G19: =VLOOKUP(D19,$A$4:$B$17,2,0) -> 7.8
D20: inox | E20: 316L | F20: 4.4 | G20: =VLOOKUP(D20,$A$4:$B$17,2,0) -> 7.8 | H20: 41340
D21: inox | E21: 321 | F21: 4.1 | G21: =VLOOKUP(D21,$A$4:$B$17,2,0) -> 7.8
D22: inox | E22: 301 4_4 dur | F22: 8.1 | G22: =VLOOKUP(D22,$A$4:$B$17,2,0) -> 7.8
E23: --------------
C24: Lm 12/13 | D24: alu | E24: AG3_5754 | F24: 3.2 | G24: =VLOOKUP(D24,$A$4:$B$17,2,0) -> 2.8
D25: alu | E25: AG3P 1PVC | F25: 3.2 | G25: =VLOOKUP(D25,$A$4:$B$17,2,0) -> 2.8
D26: alu | E26: AG3D 1.5/2 | F26: 4.5 | G26: =VLOOKUP(D26,$A$4:$B$17,2,0) -> 2.8
D27: alu | E27: AG3D 2/3 | F27: 5.5 | G27: =VLOOKUP(D27,$A$4:$B$17,2,0) -> 2.8
D28: alu | E28: AG3D 4/5.5 | F28: 5.5 | G28: =VLOOKUP(D28,$A$4:$B$17,2,0) -> 2.8
D29: alu | E29: AG3_duetH | F29: 5.6 | G29: =VLOOKUP(D29,$A$4:$B$17,2,0) -> 2.8
D30: alu | E30: AG6 | F30: 5 | G30: =VLOOKUP(D30,$A$4:$B$17,2,0) -> 2.8
D31: alu | E31: ALU5083-86 | F31: 2.7 | G31: =VLOOKUP(D31,$A$4:$B$17,2,0) -> 2.8
D32: alu | E32: ALUNOX | F32: 10 | G32: =VLOOKUP(D32,$A$4:$B$17,2,0) -> 2.8
D33: alu | E33: Alu-nature | F33: 6.5 | G33: =VLOOKUP(D33,$A$4:$B$17,2,0) -> 2.8
E34: --------------
D35: laiton | E35: LAITON | F35: 17 | G35: =VLOOKUP(D35,$A$4:$B$17,2,0) -> 8.5
E36: --------------
D37: cuivre | E37: cuivre | F37: 20.2 | G37: =VLOOKUP(D37,$A$4:$B$17,2,0) -> 9
E38: -------------- | H38: 3050x2050
D39: Plexi | E39: Plexi-poly | F39: 5.2 | G39: 1.2 | H39: 03/11 transparent ou opaque 1f prot M1-2000x1000
D40: pvc | E40: pvc | F40: 5 | G40: 1.4
...

Sheet Composant
B1: Achats par quantité | C1: =COUNTA(DesignationAchatQte) -> 0 | G1: =COUNTA(DesignationComposant) -> 24 | H1: Composants
B2: Designation | C2: Prix | D2: Qte | H2: Désignation | I2: Prix/U
H3: Ecrou ACIER_M3-M6 | I3: 0.15
H4: Ecrou ACIER_M8-M10 | I4: 0.25
H5: Ecrou INOX_M3-M5 | I5: 0.2
H6: Ecrou INOX_M6-M8 | I6: 0.3
H7: Gouj ACIER_M3-M5 | I7: 0.1
H8: Gouj ACIER_M6-M10 | I8: 0.2
H9: Gouj INOX_M3-M5 | I9: 0.15
H10: Gouj INOX_M6-M8 | I10: 0.3
H11: SERFIN acier_M3-M5 | I11: 0.15
H12: SERFIN acier_M6-M10 | I12: 0.35
H13: SERFIN inox_M3-M5 | I13: 0.35
H14: Colonnette_M3-M5 | I14: 0.4
... H16: RIVET | I16: 0.08
H17: Tube Inox | I17: 5 | J17: Prix au kg
H18: Tube Acier | I18: 1 | J18: Prix au kg
H19: Tube Alu | I19: 5 | J19: Prix au kg
H20: Rond Inox | I20: 5 | J20: Prix au kg
H21: Rond Acier | I21: 1 | J21: Prix au kg
H22: Rond Alu | I22: 7 | J22: Prix au kg
H23: Cornière Acier | I23: 660 | J23: Prix tonne
H24: Cornière Inox | J24: Prix au m
H26: =CONCATENATE("_",'349A6898P001'!C3) -> _Plan : | I26: ='349A6898P001'!H23 -> 0

Sheet listeop
A1: =COUNTA(DesignationOperation) -> 59
B3: Tx HOR | C3: Cout hor. Op | D3: TPS PREP | G3: Petie piece | H3: Grd piece | I3: Cadence heure | J3: TPS SEC | K3: TPS min | P3: Traitement de surface | Q3: Poids/M2 | R3: Forfait Mini | S3: Prix
A4: ------------------ | P4: Epoxy
A5: Laser_LVD | B5: 70 | C5: 110 | D5: 0.3 | E5: Voir aide calcul | F5: = | G5: 0 | H5: 1 | P5: Liquide
A6: T500R2_2 | B6: 80 | C6: 95 | D6: 0.5 | E6: Voir aide calcul | G6: =Laser!AB37 -> 0 | H6: 1 | P6: Zinguage
A7: ------------------ | B7: 0 | C7: 0 | D7: 0 | E7: 0 | F7: 0 | G7: 0 | P7: Cataphorese
A8: Cisaillage | B8: 70 | C8: 70 | D8: 0.3 | E8: Coupe /piece | G8: 0.003 | H8: 0.03 | I8: =IF(G8<>0,1/G8,0) -> 333.33333 | J8: =PRODUCT(G8,3600) -> 10.8 | K8: =J8/60 -> 0.18 | P8: Galvanisation
A9: Cisaillage_2OPS | B9: 70 | C9: 125 | D9: 0.4 | E9: Coupe /piece | G9: 0.005 | H9: 0.03 | I9: =IF(G9<>0,1/G9,0) -> 200 | J9: =PRODUCT(G9,3600) -> 18 | K9: =J9/60 -> 0.3 | P9: Epoxy Esti | Q9: M2 | R9: 80 | S9: 15
A10: ------------------ | B10: 0 | C10: 0 | D10: 0 | E10: 0 | F10: 0 | G10: 0 | H10: 0.03 | I10: =IF(G10<>0,1/G10,0) -> 0 | J10: =PRODUCT(G10,3600) -> 0 | K10: =J10/60 -> 0 | P10: Liquide Esti | Q10: M2 | R10: 80 | S10: 15
A11: Pliage<200 | B11: 70 | C11: 75 | D11: 0.3 | E11: Nbr de Plis | G11: 0.004 | H11: 0.03 | I11: =IF(G11<>0,1/G11,0) -> 250 | J11: =PRODUCT(G11,3600) -> 14.4 | K11: =J11/60 -> 0.24 | P11: Zinguage Esti | Q11: Poids | R11: 120 | S11: 3
A12: Pliage>200 | B12: 70 | C12: 80 | D12: 0.4 | E12: Nbr de Plis | G12: 0.006 | H12: 0.03 | I12: =IF(G12<>0,1/G12,0) -> 166.66667 | J12: =PRODUCT(G12,3600) -> 21.6 | K12: =J12/60 -> 0.36 | P12: Cataphorese Esti | Q12: Poids | R12: 120 | S12: 1.5
A13: Pliage_2OPS | B13: 90 | C13: 125 | D13: 0.5 | E13: Nbr de Plis | G13: 0.008 | H13: 0.03 | I13: =IF(G13<>0,1/G13,0) -> 125 | J13: =PRODUCT(G13,3600) -> 28.8 | K13: =J13/60 -> 0.48 | P13: Galvanisation Esti | Q13: Poids | R13: 230 | S13: 2.5 | T13: Prix <300Kg | U13: 1,4<500Kg | V13: 0,2<800Kg | W13: 1<1400Kg
A14: ------------------ | B14: 0 | C14: 0 | D14: 0 | E14: 0 | F14: 0 | G14: 0 | H14: 0.03 | I14: =IF(G14<>0,1/G14,0) -> 0 | J14: =PRODUCT(G14,3600) -> 0 | K14: =J14/60 -> 0 | P14: Brunissage | Q14: Poids | R14: 80 | S14: 2
