Workbook
Name Auteur: chiffrage!$AJ$7:$AJ$16
Name Delai: chiffrage!$AL$7:$AL$16
Name DensiteMatiere: Matiere!$A$4:$B$50
Name DesignationAchatQte: Composant!$B$3:$B$998
Name DesignationAuteur: chiffrage!$AJ$7:$AJ$27
Name DesignationComposant: Composant!$H$2:$H$198
Name DesignationDensiteMatiere: Matiere!$E$4:$I$250
Name DesignationMatiere: Matiere!$E$4:$E$251
Name DesignationOperation: listeop!$A$5:$A$1004
Name DesignationTS: listeop!$P$3:$P$27
Name Difficulte: chiffrage!$AN$7:$AN$14
Name InfosDeviseur: chiffrage!$AQ$7:$AQ$22
Name ListeOperation: listeop!$A$5:$L$344
Name Parametre: parametres!$A$1:$E$2
Name PrixComposant: Composant!$H$3:$I$254
Name TempsLaser: Laser!$F$2:$H$1000
Name Traitement: chiffrage!$AP$7:$AP$17
Name TypeMatiere: Matiere!$A$4:$A$50

Sheet 349A6898P001
C1: Devis :
C3: Plan : | K3: Chiffreur : | O3: 1 | U3: 1000000 | Z3: =COUNTA(Z4:Z10002) -> 96 | AA3: chiffrage | AD3: SEPARATEUR | AE3: -------
C4: Désignation : | O4: =CHAR(64+INT(ROW()/45)+1) -> A | Q4: Longueur (mm) | R4: Largeur (mm) | S4: Ep Mm | T4: Matière | V4: Poids | W4: M2 | Z4: 1 | AA4: TOTAL POIDS | AB4: TOTAL M2 | AD4: SELECTEUR | AE4: ------>
A5: Matière | B5: Longueur mm | C5: Largeur mm | D5: Ep mm | E5: Qté | F5: Poids Kg | G5: Prix Unitaire | H5: Total | I5: Prix/Kg Achat | J5: Informations | L5: M2 | M5: Poids | Q5: 138.95 | R5: 114.3 | S5: 1 | T5: acier | U5: =VLOOKUP(T5,DensiteMatiere,2,0) -> 7.8 | V5: =(Q5*R5*S5*U5)/1000000 -> 0.12387948 | W5: =Q5*R5*2/1000000 -> 0.03176397 | AA5: =V5+V97+V143+V189+V235+V281+V51 -> 1.8788795 | AB5: =W5+W51+W97+W143+W189+W235+W281 -> 0.07676397
A6: S235JR | B6: =V16 -> 146.20534 | C6: =W16 -> 116.7202 | D6: =S5 -> 1 | E6: 1 | F6: =B6*C6*D6*U5/$U$3 -> 0.13310791 | G6: =IF(F6="","",F6*I6) -> 0.086520141 | H6: =IF(G6="","",G6*E6) -> 0.086520141 | I6: =IF(ISERROR(VLOOKUP(A6,DesignationDensiteMatiere,2,0)),"",VLOOKUP(A6,DesignationDensiteMatiere,2,0)) -> 0.65 | J6: 1500*3000 | L6: =W5*E6 -> 0.03176397 | M6: =V5*E6 -> 0.12387948 | N6: A
H7: =IF(G7="","",G7*E7) | I7: =IF(ISERROR(VLOOKUP(A7,DesignationDensiteMatiere,2,0)),"",VLOOKUP(A7,DesignationDensiteMatiere,2,0)) | N7: B | Q7: Squelette X Y | T7: Pinces
H8: =IF(G8="","",G8*E8) | I8: =IF(ISERROR(VLOOKUP(A8,DesignationDensiteMatiere,2,0)),"",VLOOKUP(A8,DesignationDensiteMatiere,2,0)) | N8: C | Q8: 5 | R8: 5 | T8: 0 | AG8: Tps minute | AH8: 60 | AI8: Tps en seconde | AJ8: =60*5 -> 300 | AK8: Delai | AM8: Difficulte | AO8: Traitement | AP8: Infos | AQ8: =CONCATENATE(AM8,CHAR(13),CHAR(13),AK8,CHAR(13),CHAR(13),AO8) -> Difficulte_x000D__x000D_Delai_x000D__x000D_Traitement
H9: =IF(G9="","",G9*E9) | I9: =IF(ISERROR(VLOOKUP(A9,DesignationDensiteMatiere,2,0)),"",VLOOKUP(A9,DesignationDensiteMatiere,2,0)) | N9: D | AE9: centiemes h | AF9: 0.08 | AG9: =AF9*60 -> 4.8 | AH9: =(AH8*60)/3600 -> 1 | AI9: =AF9*3600 -> 288 | AJ9: =AJ8/3600 -> 0.083333333 | AK9: A convenir | AM9: Facile | AO9: Brute | AP9: PEI ESTI
H10: =IF(G10="","",G10*E10) | I10: =IF(ISERROR(VLOOKUP(A10,DesignationDensiteMatiere,2,0)),"",VLOOKUP(A10,DesignationDensiteMatiere,2,0)) | N10: E | P10: TOLE | V10: FORMAT IDEAL | AK10: 1 Semaine | AM10: Moyen | AO10: Epoxy | AP10: USI ESTI
H11: =IF(G11="","",G11*E11) | I11: =IF(ISERROR(VLOOKUP(A11,DesignationDensiteMatiere,2,0)),"",VLOOKUP(A11,DesignationDensiteMatiere,2,0)) | N11: F | O11: =MIN(T15,T16,T18,T19,T21,T22) -> 0.1404 | P11: Dispo | Q11: Longueur | R11: Largeur | S11: Qté/Tôle | T11: Poids/Piece | U11: % Chute | V11: longueur | W11: Largeur | X11: Poids | Y11: Poids Tole Kg | Z11: Pcs / L | AA11: Pcs / l | AK11: 2 Semaines | AM11: Complexe | AO11: Haute T° | AP11: PEI+USI ESTI
H12: =IF(G12="","",G12*E12) | I12: =IF(ISERROR(VLOOKUP(A12,DesignationDensiteMatiere,2,0)),"",VLOOKUP(A12,DesignationDensiteMatiere,2,0)) | N12: G | P12: x | Q12: 4000 | R12: 2000 | S12: =IF(P12="","",(INT((Q12/($Q5+$Q8)))*INT(((R12-$T8)/($R5+$R8))))) -> 432 | T12: =(Q12*R12*$S$5*$U$5)/S12/1000000 -> 0.14444444 | U12: =IF(P12="","",(($Q12*$R12)-(Q5*R5*$S12))/($Q12*$R12)) -> 0.14237281 | V12: =(Q12-Q8*Z12)/Z12 -> 141.58766 | W12: =(R12-R8*AA12)/AA12 -> 117.96751 | X12: =V12*W12*S5*U5/$U$3 -> 0.1302814 | Y12: =Q12*R12*S5*U5/1000000 -> 62.4 | Z12: =(Q12/(Q8+Q5))-0.5 -> 27.287426 | AA12: =(R12/(R5+R8))-0.5 -> 16.264459 | AK12: 3 Semaines | AO12: Zn
H13: =IF(G13="","",G13*E13) | I13: =IF(ISERROR(VLOOKUP(A13,DesignationDensiteMatiere,2,0)),"",VLOOKUP(A13,DesignationDensiteMatiere,2,0)) | N13: H | P13: x | Q13: 2000 | R13: 4000 | S13: =IF(P13="","",(INT((Q13/($Q5+$Q8)))*INT(((R13-$T8)/($R5+$R8))))) -> 429 | T13: =(Q13*R13*$S$5*$U$5)/S13/1000000 -> 0.14545455 | U13: =IF(P13="","",(($Q13*$R13)-(Q5*R5*$S13))/($Q13*$R13)) -> 0.14832855 | V13: =(Q13-Q8*Z13)/Z13 -> 144.32379 | W13: =(R13-R8*AA13)/AA13 -> 116.10599 | X13: =V13*W13*S5*U5/$U$3 -> 0.13070348 | Y13: =Q13*R13*S5*U5/1000000 -> 62.4 | Z13: =Q13/(Q5+Q8)-0.5 -> 13.393713 | AA13: =(R13/(R5+R8))-0.5 -> 33.028919 | AK13: 4 Semaines | AO13: Antirouille
A14: SST MP | H14: =SUM(H6:H13) -> 0.086520141 | L14: =SUM(L6:L13) -> 0.03176397 | M14: =SUM(M6:M13) -> 0.12387948 | AE14: Rectangle | AK14: 5 Semaines | AO14: Liquide
A15: Composants | B15: Qté | C15: Prix | H15: Total | I15: Informations | O15: =IF(T15=$O11,$AE$4,"") | P15: x | Q15: 3000 | R15: 1500 | S15: =IF(P15="","",(INT((Q15/($Q5:Q5+$Q8)))*INT(((R15-$T8)/($R5+$R8))))) -> 240 | T15: =(Q15*R15*$S$5*$U$5)/S15/1000000 -> 0.14625 | U15: =IF(P15="","",(($Q15:Q15*$R15)-(Q5*R5*$S15))/($Q15*$R15)) -> 0.1529608 | V15: =(Q15-Q8*Z15)/Z15 -> 142.48849 | W15: =(R15-R8*AA15)/AA15 -> 119.24064 | X15: =V15*W15*S5*U5/$U$3 -> 0.13252527 | Y15: =Q15*R15*S5*U5/1000000 -> 35.1 | Z15: =(Q15/(Q5+Q8))-0.5 -> 20.34057 | AA15: =(R15/(R5+R8))-0.5 -> 12.073345 | AE15: Matiere | AF15: Longueur mm | AG15: Largeur mm | AH15: Epaisseur mm | AI15: Poids Kg | AK15: 6 Semaines | AO15: tribofinition
C16: =IF(A16<>"",VLOOKUP(A16,PrixComposant,2,0),"") | H16: =IF(OR(B16="",B16=0),"",B16*C16) | O16: =IF(T16=$O11,$AE$4,"") -> ------> | P16: x | Q16: 1500 | R16: 3000 | S16: =IF(P16="","",(INT((Q16/($Q5+$Q8)))*INT(((R16-$T8)/($R5+$R8))))) -> 250 | T16: =(Q16*R16*$S$5*$U$5)/S16/1000000 -> 0.1404 | U16: =IF(P16="","",(($Q16*$R16)-(Q5*R5*$S16))/($Q16*$R16)) -> 0.1176675 | V16: =(Q16-Q8*Z16)/Z16 -> 146.20534 | W16: =(R16-R8*AA16)/AA16 -> 116.7202 | X16: =V16*W16*S5*U5/$U$3 -> 0.13310791 | Y16: =Q16*R16*S5*U5/1000000 -> 35.1 | Z16: =Q16/(Q5+Q8)-0.5 -> 9.9202848 | AA16: =(R16/(R5+R8))-0.5 -> 24.646689 | AE16: acier | AF16: 40 | AG16: 15 | AH16: 1 | AI16: =(AF16*AG16*VLOOKUP(AE16,DensiteMatiere,2,0)/1000)-IF(AH16>0,((AF16-2*AH16)*(AG16-2*AH16)*VLOOKUP(AE16,DensiteMatiere,2,0)/1000),0) -> 0.8268 | AK16: 7 Semaines | AO16: Polissage_elec
C17: =IF(A17<>"",VLOOKUP(A17,PrixComposant,2,0),"") | H17: =IF(OR(B17="",B17=0),"",B17*C17) | AE17: Rond | AK17: 8 Semaines | AO17: brunissage
C18: =IF(A18<>"",VLOOKUP(A18,PrixComposant,2,0),"") | H18: =IF(OR(B18="",B18=0),"",B18*C18) | O18: =IF(T18=$O11,$AE$4,"") | P18: x | Q18: 2500 | R18: 1250 | S18: =IF(P18="","",(INT((Q18/($Q5+$Q8)))*INT(((R18-$T8)/($R5+$R8))))) -> 170 | T18: =(Q18*R18*$S$5*$U$5)/S18/1000000 -> 0.14338235 | U18: =IF(P18="","",(($Q18*$R18)-(Q5*R5*$S18))/($Q18*$R18)) -> 0.13602002 | V18: =(Q18-Q8*Z18)/Z18 -> 143.21717 | W18: =(R18-R8*AA18)/AA18 -> 120.27828 | X18: =V18*W18*S5*U5/$U$3 -> 0.13436214 | Y18: =Q18*R18*S5*U5/1000000 -> 24.375 | Z18: =(Q18/(Q5+Q8))-0.5 -> 16.867141 | AA18: =(R18/(R5+$R$8))-0.5 -> 9.9777871 | AE18: Matiere | AF18: Diametre mm | AH18: Epaisseur mm | AI18: Poids Kg | AK18: 9 Semaines
C19: =IF(A19<>"",VLOOKUP(A19,PrixComposant,2,0),"") | H19: =IF(OR(B19="",B19=0),"",B19*C19) | O19: =IF(T19=$O11,$AE$4,"") | P19: x | Q19: 1250 | R19: 2500 | S19: =IF(P19="","",(INT((Q19/($Q5+$Q8)))*INT(((R19-$T8)/($R5+$R8))))) -> 160 | T19: =(Q19*R19*$S$5*$U$5)/S19/1000000 -> 0.15234375 | U19: =IF(P19="","",(($Q19*$R19)-(Q5*R5*$S19))/($Q19*$R19)) -> 0.18684237 | V19: =(Q19-Q8*Z19)/Z19 -> 147.74506 | W19: =(R19-R8*AA19)/AA19 -> 117.21608 | X19: =V19*W19*S5*U5/$U$3 -> 0.13508115 | Y19: =Q19*R19*S5*U5/1000000 -> 24.375 | Z19: =Q19/(Q5+Q8)-0.5 -> 8.1835707 | AA19: =(R19/(R5+R8))-0.5 -> 20.455574 | AE19: alu | AF19: 10 | AH19: 1 | AI19: =((PI()*POWER((AF19/2),2)*VLOOKUP(AE19,DensiteMatiere,2,0)/1000)-IF(AH19>0,(PI()*POWER(((AF19-2*AH19)/2),2)*VLOOKUP(AE19,DensiteMatiere,2,0)/1000),0))*1.04 -> 0.08233486 | AK19: 10 Semaines
C20: =IF(A20<>"",VLOOKUP(A20,PrixComposant,2,0),"") | H20: =IF(OR(B20="",B20=0),"",B20*C20)
C21: =IF(A21<>"",VLOOKUP(A21,PrixComposant,2,0),"") | H21: =IF(OR(B21="",B21=0),"",B21*C21) | O21: =IF(T21=$O11,$AE$4,"") | P21: x | Q21: 2000 | R21: 1000 | S21: =IF(P21="","",(INT((Q21/($Q5+$Q8)))*INT(((R21-$T8)/($R5+$R8))))) -> 104 | T21: =(Q21*R21*$S$5*$U$5)/S21/1000000 -> 0.15 | U21: =IF(P21="","",(($Q21*$R21)-(Q5*R5*$S21))/($Q21*$R21)) -> 0.17413678 | V21: =(Q21-Q8*Z21)/Z21 -> 144.32379 | W21: =(R21-R8*AA21)/AA21 -> 121.86766 | X21: =V21*W21*S5*U5/$U$3 -> 0.13718954 | Y21: =Q21*R21*S5*U5/1000000 -> 15.6 | Z21: =(Q21/(Q5+Q8))-0.5 -> 13.393713 | AA21: =(R21/(R5+R8))-0.5 -> 7.8822297
C22: =IF(A22<>"",VLOOKUP(A22,PrixComposant,2,0),"") | H22: =IF(OR(B22="",B22=0),"",B22*C22) | O22: =IF(T22=$O11,$AE$4,"") | P22: x | Q22: 1000 | R22: 2000 | S22: =IF(P22="","",(INT((Q22/($Q5+$Q8)))*INT(((R22-$T8)/($R5+$R8))))) -> 96 | T22: =(Q22*R22*$S$5*$U$5)/S22/1000000 -> 0.1625 | U22: =IF(P22="","",(($Q22*$R22)-(Q5*R5*$S22))/($Q22*$R22)) -> 0.23766472 | V22: =(Q22-Q8*Z22)/Z22 -> 150.11436 | W22: =(R22-R8*AA22)/AA22 -> 117.96751 | X22: =V22*W22*S5*U5/$U$3 -> 0.13812721 | Y22: =Q22*R22*S5*U5/1000000 -> 15.6 | Z22: =Q22/(Q5+Q8)-0.5 -> 6.4468565 | AA22: =(R22/(R5+R8))-0.5 -> 16.264459
A23: SST CP | H23: =SUM(H16:H22) -> 0
A24: TOTAL | G24: =1+K24 -> 1.25 | H24: =SUM(H23,H14)*G24 -> 0.10815018 | I24: =IF(H14=0,"PAS DE MATIERE","") | K24: 0.25 | P24: x | Q24: 500 | R24: 200 | S24: =IF(P24="","",(INT((Q24/($Q5+$Q8)))*INT(((R24-$T8)/($R5+$R8))))) -> 3 | T24: =(Q24*R24*$S$5*$U$5)/S24/1000000 -> 0.26 | U24: =IF(P24="","",(($Q24*$R24)-(Q5*R5*$S24))/($Q24*$R24)) -> 0.52354045 | V24: =(Q24-Q8*Z24)/Z24 -> 163.15607 | W24: =(R24-R8*AA24)/AA24 -> 165.00356 | X24: =V24*W24*S5*U5/$U$3 -> 0.20998639 | Y24: =Q24*R24*S5*U5/1000000 -> 0.78 | Z24: =(Q24/(Q5+Q8))-0.5 -> 2.9734283 | AA24: =(R24/(R5+R8))-0.5 -> 1.1764459
A25: OPERATIONS | B25: AIDE | C25: Nb Actions | D25: Taux PREP | E25: Tps PREP | F25: Cout prep | G25: Taux OP | H25: Base Op | I25: TPS OP | J25: Cout Op | K25: Pce/H | L25: TPS par op | M25: Pièce Aspect | P25: x | Q25: =R24 -> 200 | R25: =Q24 -> 500 | S25: =IF(P25="","",(INT((Q25/($Q5+$Q8)))*INT(((R25-$T8)/($R5+$R8))))) -> 4 | T25: =(Q25*R25*$S$5*$U$5)/S25/1000000 -> 0.195 | U25: =IF(P25="","",(($Q25*$R25)-(Q5*R5*$S25))/($Q25*$R25)) -> 0.3647206 | V25: =(Q25-Q8*Z25)/Z25 -> 219.87795 | W25: =(R25-R8*AA25)/AA25 -> 130.46043 | X25: =V25*W25*S5*U5/$U$3 -> 0.2237459 | Y25: =Q25*R25*S5*U5/1000000 -> 0.78 | Z25: =Q25/(Q5+Q8)-0.5 -> 0.88937131 | AA25: =(R25/(R5+R8))-0.5 -> 3.6911148
A26: Laser_LVD | B26: =IF(A26="","",VLOOKUP(A26,ListeOperation,5,FALSE)) -> Voir aide calcul | C26: 1 | D26: =IF(OR(A26="",LEFT(A26,1)="_"),"", VLOOKUP(A26,ListeOperation,2,FALSE)) -> 70 | E26: =IF(OR(A26="",LEFT(A26,1)="_"),"",VLOOKUP(A26,ListeOperation,4,FALSE)) -> 0.3 | F26: =IF(A26="","",IF(LEFT(A26,1)="_",VLOOKUP(A26,ListeOperation,2,0),IF(E26="",0,PRODUCT(E26,D26)))) -> 21 | G26: 90 | H26: =T38 -> 0.0025658212 | I26: =IF(OR(A26="",LEFT(A26,1)="_"),"",PRODUCT(C26,H26)) -> 0.0025658212 | J26: =IF(OR(C26="",C26=0,A26=""),"",IF(LEFT(A26,1)="_",VLOOKUP(A26,ListeOperation,3,0)*C26,PRODUCT(H26,G26,C26))) -> 0.23092391 | K26: =IF(H26*C26=0,"",60/L26) -> 389.73876 | L26: =IF(I26="","",I26*60)/IF(UPPER(LEFT(A26,3))="PEI",120,1) -> 0.15394927 | N26: =IF(ISERROR(SEARCH("laser",A26)),0,1)+IF(ISERROR(SEARCH("t500",A26)),0,1) -> 1 | S26: =IF(UPPER(S30)="OXYGENE","O2","NA") -> O2 | T26: =CONCATENATE(LOWER(T27),"-",S31,"-",T5,"-",S29,"-",S26) -> bystronic3015-0-acier-1-O2
B27: =IF(A27="","",VLOOKUP(A27,ListeOperation,5,FALSE)) | C27: =IF(A27<>"",1,"") | D27: =IF(OR(A27="",LEFT(A27,1)="_"),"", VLOOKUP(A27,ListeOperation,2,FALSE)) | E27: =IF(OR(A27="",LEFT(A27,1)="_"),"",VLOOKUP(A27,ListeOperation,4,FALSE)) | F27: =IF(A27="","",IF(LEFT(A27,1)="_",VLOOKUP(A27,ListeOperation,2,0),IF(E27="",0,PRODUCT(E27,D27)))) | G27: =IF(OR(A27="",LEFT(A27,1)="_"),"",VLOOKUP(A27,ListeOperation,3,FALSE)) | H27: =IF(A27="","",VLOOKUP(A27,ListeOperation,7,FALSE)) | I27: =IF(OR(A27="",LEFT(A27,1)="_"),"",PRODUCT(C27,H27)) | J27: =IF(OR(C27="",C27=0,A27=""),"",IF(LEFT(A27,1)="_",VLOOKUP(A27,ListeOperation,3,0)*C27,PRODUCT(H27,G27,C27))) | N27: =IF(ISERROR(SEARCH("laser",A27)),0,1)+IF(ISERROR(SEARCH("t500",A27)),0,1)+N26 -> 1 | T27: Bystronic3015 | U27: LVD
A28: Pliage<200 | B28: =IF(A28="","",VLOOKUP(A28,ListeOperation,5,FALSE)) -> Nbr de Plis | C28: 2 | D28: =IF(OR(A28="",LEFT(A28,1)="_"),"", VLOOKUP(A28,ListeOperation,2,FALSE)) -> 70 | E28: =IF(OR(A28="",LEFT(A28,1)="_"),"",VLOOKUP(A28,ListeOperation,4,FALSE)) -> 0.3 | F28: =IF(A28="","",IF(LEFT(A28,1)="_",VLOOKUP(A28,ListeOperation,2,0),IF(E28="",0,PRODUCT(E28,D28)))) -> 21 | G28: 50 | H28: =IF(A28="","",VLOOKUP(A28,ListeOperation,7,FALSE)) -> 0.004 | I28: =IF(OR(A28="",LEFT(A28,1)="_"),"",PRODUCT(C28,H28)) -> 0.008 | J28: =IF(OR(C28="",C28=0,A28=""),"",IF(LEFT(A28,1)="_",VLOOKUP(A28,ListeOperation,3,0)*C28,PRODUCT(H28,G28,C28))) -> 0.4 | K28: =IF(H28*C28=0,"",60/L28) -> 125 | L28: =IF(I28="","",I28*60)/IF(UPPER(LEFT(A28,3))="PEI",120,1) -> 0.48 | M28: 0 | N28: =IF(ISERROR(SEARCH("laser",A28)),0,1)+IF(ISERROR(SEARCH("t500",A28)),0,1)+N27 -> 1 | P28: LASER | T28: =IF(ISERROR(VLOOKUP(T26,TempsLaser,2,0)),"ERREUR",VLOOKUP(T26,TempsLaser,2,0)) -> 8650 | U28: vitesse
B29: =IF(A29="","",VLOOKUP(A29,ListeOperation,5,FALSE)) | C29: =IF(A29<>"",1,"") | D29: =IF(OR(A29="",LEFT(A29,1)="_"),"", VLOOKUP(A29,ListeOperation,2,FALSE)) | E29: =IF(OR(A29="",LEFT(A29,1)="_"),"",VLOOKUP(A29,ListeOperation,4,FALSE)) | F29: =IF(A29="","",IF(LEFT(A29,1)="_",VLOOKUP(A29,ListeOperation,2,0),IF(E29="",0,PRODUCT(E29,D29)))) | G29: =IF(OR(A29="",LEFT(A29,1)="_"),"",VLOOKUP(A29,ListeOperation,3,FALSE)) | H29: =IF(A29="","",VLOOKUP(A29,ListeOperation,7,FALSE)) | I29: =IF(OR(A29="",LEFT(A29,1)="_"),"",PRODUCT(C29,H29)) | J29: =IF(OR(C29="",C29=0,A29=""),"",IF(LEFT(A29,1)="_",VLOOKUP(A29,ListeOperation,3,0)*C29,PRODUCT(H29,G29,C29))) | N29: =IF(ISERROR(SEARCH("laser",A29)),0,1)+IF(ISERROR(SEARCH("t500",A29)),0,1)+N28 -> 1 | Q29: Épaisseur | S29: =IF(S5<1,1,IF(S5-INT(S5)=0,S5, IF(S5-INT(S5)<=0.5,0.5+INT(S5),1+INT(S5)))) -> 1 | T29: =IF(ISERROR(VLOOKUP(T26,TempsLaser,3,0)),"ERREUR",VLOOKUP(T26,TempsLaser,3,0)) -> 7100 | U29: vitesse d
A30: Taraudage | B30: =IF(A30="","",VLOOKUP(A30,ListeOperation,5,FALSE)) -> Nbr de taraudage | C30: 2 | D30: =IF(OR(A30="",LEFT(A30,1)="_"),"", VLOOKUP(A30,ListeOperation,2,FALSE)) -> 70 | E30: =IF(OR(A30="",LEFT(A30,1)="_"),"",VLOOKUP(A30,ListeOperation,4,FALSE)) -> 0.2 | F30: =IF(A30="","",IF(LEFT(A30,1)="_",VLOOKUP(A30,ListeOperation,2,0),IF(E30="",0,PRODUCT(E30,D30)))) -> 14 | G30: 50 | H30: =IF(A30="","",VLOOKUP(A30,ListeOperation,7,FALSE)*1) -> 0.0015 | I30: =IF(OR(A30="",LEFT(A30,1)="_"),"",PRODUCT(C30,H30)) -> 0.003 | J30: =IF(OR(C30="",C30=0,A30=""),"",IF(LEFT(A30,1)="_",VLOOKUP(A30,ListeOperation,3,0)*C30,PRODUCT(H30,G30,C30))) -> 0.15 | K30: =IF(H30*C30=0,"",60/L30) -> 333.33333 | L30: =IF(I30="","",I30*60)/IF(UPPER(LEFT(A30,3))="PEI",120,1) -> 0.18 | M30: 0 | N30: =IF(ISERROR(SEARCH("laser",A30)),0,1)+IF(ISERROR(SEARCH("t500",A30)),0,1)+N29 -> 1 | Q30: Gaz | S30: Oxygene
B31: =IF(A31="","",VLOOKUP(A31,ListeOperation,5,FALSE)) | C31: =IF(A31<>"",1,"") | D31: =IF(OR(A31="",LEFT(A31,1)="_"),"", VLOOKUP(A31,ListeOperation,2,FALSE)) | E31: =IF(OR(A31="",LEFT(A31,1)="_"),"",VLOOKUP(A31,ListeOperation,4,FALSE)) | F31: =IF(A31="","",IF(LEFT(A31,1)="_",VLOOKUP(A31,ListeOperation,2,0),IF(E31="",0,PRODUCT(E31,D31)))) | G31: =IF(OR(A31="",LEFT(A31,1)="_"),"",VLOOKUP(A31,ListeOperation,3,FALSE)) | H31: =IF(A31="","",VLOOKUP(A31,ListeOperation,7,FALSE)) | I31: =IF(OR(A31="",LEFT(A31,1)="_"),"",PRODUCT(C31,H31)) | J31: =IF(OR(C31="",C31=0,A31=""),"",IF(LEFT(A31,1)="_",VLOOKUP(A31,ListeOperation,3,0)*C31,PRODUCT(H31,G31,C31))) | N31: =IF(ISERROR(SEARCH("laser",A31)),0,1)+IF(ISERROR(SEARCH("t500",A31)),0,1)+N30 -> 1 | Q31: High Speed | S31: 0
B32: =IF(A32="","",VLOOKUP(A32,ListeOperation,5,FALSE)) | C32: =IF(A32<>"",1,"") | D32: =IF(OR(A32="",LEFT(A32,1)="_"),"", VLOOKUP(A32,ListeOperation,2,FALSE)) | E32: =IF(OR(A32="",LEFT(A32,1)="_"),"",VLOOKUP(A32,ListeOperation,4,FALSE)) | F32: =IF(A32="","",IF(LEFT(A32,1)="_",VLOOKUP(A32,ListeOperation,2,0),IF(E32="",0,PRODUCT(E32,D32)))) | G32: =IF(OR(A32="",LEFT(A32,1)="_"),"",VLOOKUP(A32,ListeOperation,3,FALSE)) | H32: =IF(A32="","",VLOOKUP(A32,ListeOperation,7,FALSE)) | I32: =IF(OR(A32="",LEFT(A32,1)="_"),"",PRODUCT(C32,H32)) | J32: =IF(OR(C32="",C32=0,A32=""),"",IF(LEFT(A32,1)="_",VLOOKUP(A32,ListeOperation,3,0)*C32,PRODUCT(H32,G32,C32))) | N32: =IF(ISERROR(SEARCH("laser",A32)),0,1)+IF(ISERROR(SEARCH("t500",A32)),0,1)+N31 -> 1 | Q32: Contours decoupés en mm | S32: =(Q5+R5)*2 -> 506.5 | T32: =(S32/T28)/60 -> 0.00097591522
B33: =IF(A33="","",VLOOKUP(A33,ListeOperation,5,FALSE)) | C33: =IF(A33<>"",1,"") | D33: =IF(OR(A33="",LEFT(A33,1)="_"),"", VLOOKUP(A33,ListeOperation,2,FALSE)) | E33: =IF(OR(A33="",LEFT(A33,1)="_"),"",VLOOKUP(A33,ListeOperation,4,FALSE)) | F33: =IF(A33="","",IF(LEFT(A33,1)="_",VLOOKUP(A33,ListeOperation,2,0),IF(E33="",0,PRODUCT(E33,D33)))) | G33: =IF(OR(A33="",LEFT(A33,1)="_"),"",VLOOKUP(A33,ListeOperation,3,FALSE)) | H33: =IF(A33="","",VLOOKUP(A33,ListeOperation,7,FALSE)) | I33: =IF(OR(A33="",LEFT(A33,1)="_"),"",PRODUCT(C33,H33)) | J33: =IF(OR(C33="",C33=0,A33=""),"",IF(LEFT(A33,1)="_",VLOOKUP(A33,ListeOperation,3,0)*C33,PRODUCT(H33,G33,C33))) | N33: =IF(ISERROR(SEARCH("laser",A33)),0,1)+IF(ISERROR(SEARCH("t500",A33)),0,1)+N32 -> 1 | Q33: nbre diam < 10 | S33: 2 | T33: =((S33*40)/T29)/60 -> 0.00018779343
B34: =IF(A34="","",VLOOKUP(A34,ListeOperation,5,FALSE)) | C34: =IF(A34<>"",1,"") | D34: =IF(OR(A34="",LEFT(A34,1)="_"),"", VLOOKUP(A34,ListeOperation,2,FALSE)) | E34: =IF(OR(A34="",LEFT(A34,1)="_"),"",VLOOKUP(A34,ListeOperation,4,FALSE)) | F34: =IF(A34="","",IF(LEFT(A34,1)="_",VLOOKUP(A34,ListeOperation,2,0),IF(E34="",0,PRODUCT(E34,D34)))) | G34: =IF(OR(A34="",LEFT(A34,1)="_"),"",VLOOKUP(A34,ListeOperation,3,FALSE)) | H34: =IF(A34="","",VLOOKUP(A34,ListeOperation,7,FALSE)) | I34: =IF(OR(A34="",LEFT(A34,1)="_"),"",PRODUCT(C34,H34)) | J34: =IF(OR(C34="",C34=0,A34=""),"",IF(LEFT(A34,1)="_",VLOOKUP(A34,ListeOperation,3,0)*C34,PRODUCT(H34,G34,C34))) | N34: =IF(ISERROR(SEARCH("laser",A34)),0,1)+IF(ISERROR(SEARCH("t500",A34)),0,1)+N33 -> 1 | Q34: Nbre d'amorçages | S34: 3 | T34: =U34*S29*S34 -> 0.00081 | U34: 0.00027
B35: =IF(A35="","",VLOOKUP(A35,ListeOperation,5,FALSE)) | C35: =IF(A35<>"",1,"") | D35: =IF(OR(A35="",LEFT(A35,1)="_"),"", VLOOKUP(A35,ListeOperation,2,FALSE)) | E35: =IF(OR(A35="",LEFT(A35,1)="_"),"",VLOOKUP(A35,ListeOperation,4,FALSE)) | F35: =IF(A35="","",IF(LEFT(A35,1)="_",VLOOKUP(A35,ListeOperation,2,0),IF(E35="",0,PRODUCT(E35,D35)))) | G35: =IF(OR(A35="",LEFT(A35,1)="_"),"",VLOOKUP(A35,ListeOperation,3,FALSE)) | H35: =IF(A35="","",VLOOKUP(A35,ListeOperation,7,FALSE)) | I35: =IF(OR(A35="",LEFT(A35,1)="_"),"",PRODUCT(C35,H35)) | J35: =IF(OR(C35="",C35=0,A35=""),"",IF(LEFT(A35,1)="_",VLOOKUP(A35,ListeOperation,3,0)*C35,PRODUCT(H35,G35,C35))) | N35: =IF(ISERROR(SEARCH("laser",A35)),0,1)+IF(ISERROR(SEARCH("t500",A35)),0,1)+N34 -> 1 | Q35: Nbre de trappe | S35: 0 | T35: 0
B36: =IF(A36="","",VLOOKUP(A36,ListeOperation,5,FALSE)) | C36: =IF(A36<>"",1,"") | D36: =IF(OR(A36="",LEFT(A36,1)="_"),"", VLOOKUP(A36,ListeOperation,2,FALSE)) | E36: =IF(OR(A36="",LEFT(A36,1)="_"),"",VLOOKUP(A36,ListeOperation,4,FALSE)) | F36: =IF(A36="","",IF(LEFT(A36,1)="_",VLOOKUP(A36,ListeOperation,2,0),IF(E36="",0,PRODUCT(E36,D36)))) | G36: =IF(OR(A36="",LEFT(A36,1)="_"),"",VLOOKUP(A36,ListeOperation,3,FALSE)) | H36: =IF(A36="","",VLOOKUP(A36,ListeOperation,7,FALSE)) | I36: =IF(OR(A36="",LEFT(A36,1)="_"),"",PRODUCT(C36,H36)) | J36: =IF(OR(C36="",C36=0,A36=""),"",IF(LEFT(A36,1)="_",VLOOKUP(A36,ListeOperation,3,0)*C36,PRODUCT(H36,G36,C36))) | N36: =IF(ISERROR(SEARCH("laser",A36)),0,1)+IF(ISERROR(SEARCH("t500",A36)),0,1)+N35 -> 1 | Q36: Nbrs d' evac manuelle | S36: 0 | T36: =U36*S36 -> 0 | U36: 0.0041
B37: =IF(A37="","",VLOOKUP(A37,ListeOperation,5,FALSE)) | C37: =IF(A37<>"",1,"") | D37: =IF(OR(A37="",LEFT(A37,1)="_"),"", VLOOKUP(A37,ListeOperation,2,FALSE)) | E37: =IF(OR(A37="",LEFT(A37,1)="_"),"",VLOOKUP(A37,ListeOperation,4,FALSE)) | F37: =IF(A37="","",IF(LEFT(A37,1)="_",VLOOKUP(A37,ListeOperation,2,0),IF(E37="",0,PRODUCT(E37,D37)))) | G37: =IF(OR(A37="",LEFT(A37,1)="_"),"",VLOOKUP(A37,ListeOperation,3,FALSE)) | H37: =IF(A37="","",VLOOKUP(A37,ListeOperation,7,FALSE)) | I37: =IF(OR(A37="",LEFT(A37,1)="_"),"",PRODUCT(C37,H37)) | J37: =IF(OR(C37="",C37=0,A37=""),"",IF(LEFT(A37,1)="_",VLOOKUP(A37,ListeOperation,3,0)*C37,PRODUCT(H37,G37,C37))) | N37: =IF(ISERROR(SEARCH("laser",A37)),0,1)+IF(ISERROR(SEARCH("t500",A37)),0,1)+N36 -> 1 | Q37: Vapo | S37: 0 | T37: =((S32+S33*10)/8000)/60*IF(S37,1,0) -> 0
B38: =IF(A38="","",VLOOKUP(A38,ListeOperation,5,FALSE)) | C38: =IF(A38<>"",1,"") | D38: =IF(OR(A38="",LEFT(A38,1)="_"),"", VLOOKUP(A38,ListeOperation,2,FALSE)) | E38: =IF(OR(A38="",LEFT(A38,1)="_"),"",VLOOKUP(A38,ListeOperation,4,FALSE)) | F38: =IF(A38="","",IF(LEFT(A38,1)="_",VLOOKUP(A38,ListeOperation,2,0),IF(E38="",0,PRODUCT(E38,D38)))) | G38: =IF(OR(A38="",LEFT(A38,1)="_"),"",VLOOKUP(A38,ListeOperation,3,FALSE)) | H38: =IF(A38="","",VLOOKUP(A38,ListeOperation,7,FALSE)) | I38: =IF(OR(A38="",LEFT(A38,1)="_"),"",PRODUCT(C38,H38)) | J38: =IF(OR(C38="",C38=0,A38=""),"",IF(LEFT(A38,1)="_",VLOOKUP(A38,ListeOperation,3,0)*C38,PRODUCT(H38,G38,C38))) | N38: =IF(ISERROR(SEARCH("laser",A38)),0,1)+IF(ISERROR(SEARCH("t500",A38)),0,1)+N37 -> 1 | O38: =P28 -> LASER | S38: a reporter | T38: =SUM(T32:T37)*1.3 -> 0.0025658212
B39: =IF(A39="","",VLOOKUP(A39,ListeOperation,5,FALSE)) | C39: =IF(A39<>"",1,"") | D39: =IF(OR(A39="",LEFT(A39,1)="_"),"", VLOOKUP(A39,ListeOperation,2,FALSE)) | E39: =IF(OR(A39="",LEFT(A39,1)="_"),"",VLOOKUP(A39,ListeOperation,4,FALSE)) | F39: =IF(A39="","",IF(LEFT(A39,1)="_",VLOOKUP(A39,ListeOperation,2,0),IF(E39="",0,PRODUCT(E39,D39)))) | G39: =IF(OR(A39="",LEFT(A39,1)="_"),"",VLOOKUP(A39,ListeOperation,3,FALSE)) | H39: =IF(A39="","",VLOOKUP(A39,ListeOperation,7,FALSE)) | I39: =IF(OR(A39="",LEFT(A39,1)="_"),"",PRODUCT(C39,H39)) | J39: =IF(OR(C39="",C39=0,A39=""),"",IF(LEFT(A39,1)="_",VLOOKUP(A39,ListeOperation,3,0)*C39,PRODUCT(H39,G39,C39))) | N39: =IF(ISERROR(SEARCH("laser",A39)),0,1)+IF(ISERROR(SEARCH("t500",A39)),0,1)+N38 -> 1
B40: =IF(A40="","",VLOOKUP(A40,ListeOperation,5,FALSE)) | C40: =IF(A40<>"",1,"") | D40: =IF(OR(A40="",LEFT(A40,1)="_"),"", VLOOKUP(A40,ListeOperation,2,FALSE)) | E40: =IF(OR(A40="",LEFT(A40,1)="_"),"",VLOOKUP(A40,ListeOperation,4,FALSE)) | F40: =IF(A40="","",IF(LEFT(A40,1)="_",VLOOKUP(A40,ListeOperation,2,0),IF(E40="",0,PRODUCT(E40,D40)))) | G40: =IF(OR(A40="",LEFT(A40,1)="_"),"",VLOOKUP(A40,ListeOperation,3,FALSE)) | H40: =IF(A40="","",VLOOKUP(A40,ListeOperation,7,FALSE)) | I40: =IF(OR(A40="",LEFT(A40,1)="_"),"",PRODUCT(C40,H40)) | J40: =IF(OR(C40="",C40=0,A40=""),"",IF(LEFT(A40,1)="_",VLOOKUP(A40,ListeOperation,3,0)*C40,PRODUCT(H40,G40,C40))) | N40: =IF(ISERROR(SEARCH("laser",A40)),0,1)+IF(ISERROR(SEARCH("t500",A40)),0,1)+N39 -> 1 | P40: Poinconnage
B41: =IF(A41="","",VLOOKUP(A41,ListeOperation,5,FALSE)) | C41: =IF(A41<>"",1,"") | D41: =IF(OR(A41="",LEFT(A41,1)="_"),"", VLOOKUP(A41,ListeOperation,2,FALSE)) | E41: =IF(OR(A41="",LEFT(A41,1)="_"),"",VLOOKUP(A41,ListeOperation,4,FALSE)) | F41: =IF(A41="","",IF(LEFT(A41,1)="_",VLOOKUP(A41,ListeOperation,2,0),IF(E41="",0,PRODUCT(E41,D41)))) | G41: =IF(OR(A41="",LEFT(A41,1)="_"),"",VLOOKUP(A41,ListeOperation,3,FALSE)) | H41: =IF(A41="","",VLOOKUP(A41,ListeOperation,7,FALSE)) | I41: =IF(OR(A41="",LEFT(A41,1)="_"),"",PRODUCT(C41,H41)) | J41: =IF(OR(C41="",C41=0,A41=""),"",IF(LEFT(A41,1)="_",VLOOKUP(A41,ListeOperation,3,0)*C41,PRODUCT(H41,G41,C41))) | N41: =IF(ISERROR(SEARCH("laser",A41)),0,1)+IF(ISERROR(SEARCH("t500",A41)),0,1)+N40 -> 1 | P41: Nbre d'outils-changements | R41: =#N/A -> #N/A | S41: 5 | T41: =(S41/S42)*U41 -> 0.015 | U41: 0.003
B42: =IF(A42="","",VLOOKUP(A42,ListeOperation,5,FALSE)) | C42: =IF(A42<>"",1,"") | D42: =IF(OR(A42="",LEFT(A42,1)="_"),"", VLOOKUP(A42,ListeOperation,2,FALSE)) | E42: =IF(OR(A42="",LEFT(A42,1)="_"),"",VLOOKUP(A42,ListeOperation,4,FALSE)) | F42: =IF(A42="","",IF(LEFT(A42,1)="_",VLOOKUP(A42,ListeOperation,2,0),IF(E42="",0,PRODUCT(E42,D42)))) | G42: =IF(OR(A42="",LEFT(A42,1)="_"),"",VLOOKUP(A42,ListeOperation,3,FALSE)) | H42: =IF(A42="","",VLOOKUP(A42,ListeOperation,7,FALSE)) | I42: =IF(OR(A42="",LEFT(A42,1)="_"),"",PRODUCT(C42,H42)) | J42: =IF(OR(C42="",C42=0,A42=""),"",IF(LEFT(A42,1)="_",VLOOKUP(A42,ListeOperation,3,0)*C42,PRODUCT(H42,G42,C42))) | N42: =IF(ISERROR(SEARCH("laser",A42)),0,1)+IF(ISERROR(SEARCH("t500",A42)),0,1)+N41 -> 1 | P42: Nbre de pieces sur la tole | S42: 1
B43: =IF(A43="","",VLOOKUP(A43,ListeOperation,5,FALSE)) | C43: =IF(A43<>"",1,"") | D43: =IF(OR(A43="",LEFT(A43,1)="_"),"", VLOOKUP(A43,ListeOperation,2,FALSE)) | E43: =IF(OR(A43="",LEFT(A43,1)="_"),"",VLOOKUP(A43,ListeOperation,4,FALSE)) | F43: =IF(A43="","",IF(LEFT(A43,1)="_",VLOOKUP(A43,ListeOperation,2,0),IF(E43="",0,PRODUCT(E43,D43)))) | G43: =IF(OR(A43="",LEFT(A43,1)="_"),"",VLOOKUP(A43,ListeOperation,3,FALSE)) | H43: =IF(A43="","",VLOOKUP(A43,ListeOperation,7,FALSE)) | I43: =IF(OR(A43="",LEFT(A43,1)="_"),"",PRODUCT(C43,H43)) | J43: =IF(OR(C43="",C43=0,A43=""),"",IF(LEFT(A43,1)="_",VLOOKUP(A43,ListeOperation,3,0)*C43,PRODUCT(H43,G43,C43))) | N43: =IF(ISERROR(SEARCH("laser",A43)),0,1)+IF(ISERROR(SEARCH("t500",A43)),0,1)+N42 -> 1 | P43: Nbre de coups de poincons | S43: =(Q5*2+R5*2)/50+50 -> 60.13 | T43: =S43*U43 -> 0.0084182 | U43: 0.00014
B44: =IF(A44="","",VLOOKUP(A44,ListeOperation,5,FALSE)) | C44: =IF(A44<>"",1,"") | D44: =IF(OR(A44="",LEFT(A44,1)="_"),"", VLOOKUP(A44,ListeOperation,2,FALSE)) | E44: =IF(OR(A44="",LEFT(A44,1)="_"),"",VLOOKUP(A44,ListeOperation,4,FALSE)) | F44: =IF(A44="","",IF(LEFT(A44,1)="_",VLOOKUP(A44,ListeOperation,2,0),IF(E44="",0,PRODUCT(E44,D44)))) | G44: =IF(OR(A44="",LEFT(A44,1)="_"),"",VLOOKUP(A44,ListeOperation,3,FALSE)) | H44: =IF(A44="","",VLOOKUP(A44,ListeOperation,7,FALSE)) | I44: =IF(OR(A44="",LEFT(A44,1)="_"),"",PRODUCT(C44,H44)) | J44: =IF(OR(C44="",C44=0,A44=""),"",IF(LEFT(A44,1)="_",VLOOKUP(A44,ListeOperation,3,0)*C44,PRODUCT(H44,G44,C44))) | N44: =IF(ISERROR(SEARCH("laser",A44)),0,1)+IF(ISERROR(SEARCH("t500",A44)),0,1)+N43 -> 1 | P44: Nbre de taraud-embout | S44: 0 | T44: =S44*U44 -> 0 | U44: 0.0008
B45: =IF(A45="","",VLOOKUP(A45,ListeOperation,5,FALSE)) | C45: =IF(A45<>"",1,"") | D45: =IF(OR(A45="",LEFT(A45,1)="_"),"", VLOOKUP(A45,ListeOperation,2,FALSE)) | E45: =IF(OR(A45="",LEFT(A45,1)="_"),"",VLOOKUP(A45,ListeOperation,4,FALSE)) | F45: =IF(A45="","",IF(LEFT(A45,1)="_",VLOOKUP(A45,ListeOperation,2,0),IF(E45="",0,PRODUCT(E45,D45)))) | G45: =IF(OR(A45="",LEFT(A45,1)="_"),"",VLOOKUP(A45,ListeOperation,3,FALSE)) | H45: =IF(A45="","",VLOOKUP(A45,ListeOperation,7,FALSE)) | I45: =IF(OR(A45="",LEFT(A45,1)="_"),"",PRODUCT(C45,H45)) | J45: =IF(OR(C45="",C45=0,A45=""),"",IF(LEFT(A45,1)="_",VLOOKUP(A45,ListeOperation,3,0)*C45,PRODUCT(H45,G45,C45))) | N45: =IF(ISERROR(SEARCH("laser",A45)),0,1)+IF(ISERROR(SEARCH("t500",A45)),0,1)+N44 -> 1 | P45: Nbr d'evacuations trappes | S45: 0 | T45: =S45*U45 -> 0 | U45: 0.0008
B46: =IF(A46="","",VLOOKUP(A46,ListeOperation,5,FALSE)) | C46: =IF(A46<>"",1,"") | D46: =IF(OR(A46="",LEFT(A46,1)="_"),"", VLOOKUP(A46,ListeOperation,2,FALSE)) | E46: =IF(OR(A46="",LEFT(A46,1)="_"),"",VLOOKUP(A46,ListeOperation,4,FALSE)) | F46: =IF(A46="","",IF(LEFT(A46,1)="_",VLOOKUP(A46,ListeOperation,2,0),IF(E46="",0,PRODUCT(E46,D46)))) | G46: =IF(OR(A46="",LEFT(A46,1)="_"),"",VLOOKUP(A46,ListeOperation,3,FALSE)) | H46: =IF(A46="","",VLOOKUP(A46,ListeOperation,7,FALSE)) | I46: =IF(OR(A46="",LEFT(A46,1)="_"),"",PRODUCT(C46,H46)) | J46: =IF(OR(C46="",C46=0,A46=""),"",IF(LEFT(A46,1)="_",VLOOKUP(A46,ListeOperation,3,0)*C46,PRODUCT(H46,G46,C46))) | N46: =IF(ISERROR(SEARCH("laser",A46)),0,1)+IF(ISERROR(SEARCH("t500",A46)),0,1)+N45 -> 1 | P46: Nbre d'evac Trumalift-manuel/piece | S46: 1 | T46: =S46*U46 -> 0.005 | U46: 0.005
E47: =SUM(E26:E46) -> 0.8 | F47: =SUM(F26:F46) -> 56 | I47: =SUM(I26:I46) -> 0.013565821 | J47: =SUM(J26:J46) -> 0.78092391 | L47: =IF(I47="","",I47*60)*IF(LEFT(A47,3)="pei",0.5,1) -> 0.81394927 | P47: Chargement tole | S47: 1 | T47: =U47*(S47/S42) -> 0.007 | U47: 0.007
A48: Méthodes | B48: 0.15 | C48: =PRODUCT(B48,60) -> 9 | D48: FAD | E48: 5 | G48: OUTILLAGE | H48: 0 | O48: =P40 -> Poinconnage | Q48: TEMPS PREP | R48: =SUM(0.2,PRODUCT(0.08,S41)) -> 0.6 | S48: a reporter | T48: =SUM(T41:T47)*1.3 -> 0.04604366 | U48: =PRODUCT(T48,3600) -> 165.75718
A49: Trt de Surface | B49: Zinguage | C49: Galvanisation | D49: Usinage | E49: Parts Achat Trait/Usi | F49: Part Achats Total | G49: Hrs fab | H49: Total par série | I49: P U Brut | J49: Qté | K49: Coef | L49: PU VENTE
E50: =IF(AND(J50>0,I50<>0),(A50+B50+C50+D50)/I50,"") -> 0 | F50: =IF(AND(J50>0,I50<>0),(($H$24*(1-$K$24))+A50+B50+C50+D50)/I50,"") -> 0.01206601 | G50: =IF(J50>0,PRODUCT($I$47,J50)+$E$47/J50,"") -> 0.22945652 | H50: =IF(J50>0,L50*J50,"") -> 112.93644 | I50: =IF(J50>0,SUM(B69,((A50+B50+C50+D50)*1.25),$J$47,$H$24),"") -> 6.7224074 | J50: 12 | K50: 40 | L50: =IF(J50>0,(I50*K50%)+I50,"") -> 9.4113704 | N50: =IF(M14=0,"",L50/M14) -> 75.971986 | O50: =CHAR(64+INT(ROW()/45)+1) -> B | Q50: Longueur (mm) | R50: Largeur (mm) | S50: Ep mm | T50: Matière | V50: Poids | W50: M2 | Z50: 1
E51: =IF(AND(J51>0,I51<>0),(A51+B51+C51+D51)/I51,"") -> 0 | F51: =IF(AND(J51>0,I51<>0),(($H$24*(1-$K$24))+A51+B51+C51+D51)/I51,"") -> 0.01206601 | G51: =IF(J51>0,PRODUCT($I$47,J51)+$E$47/J51,"") -> 0.22945652 | H51: =IF(J51>0,L51*J51,"") -> 108.903 | I51: =IF(J51>0,SUM(B70,((A51+B51+C51+D51)*1.25),$J$47,$H$24),"") -> 6.7224074 | J51: 12 | K51: 35 | L51: =IF(J51>0,(I51*K51%)+I51,"") -> 9.07525 | N51: =IF(M14=0,"",L51/M14) -> 73.258701 | Q51: 150 | R51: 150 | S51: 10 | T51: acier | U51: =VLOOKUP(T51,DensiteMatiere,2,0) -> 7.8 | V51: =(Q51*R51*S51*U51)/1000000 -> 1.755 | W51: =Q51*R51*2/1000000 -> 0.045
E52: =IF(AND(J52>0,I52<>0),(A52+B52+C52+D52)/I52,"") -> 0 | F52: =IF(AND(J52>0,I52<>0),(($H$24*(1-$K$24))+A52+B52+C52+D52)/I52,"") -> 0.01206601 | G52: =IF(J52>0,PRODUCT($I$47,J52)+$E$47/J52,"") -> 0.22945652 | H52: =IF(J52>0,L52*J52,"") -> 104.86956 | I52: =IF(J52>0,SUM(B71,((A52+B52+C52+D52)*1.25),$J$47,$H$24),"") -> 6.7224074 | J52: 12 | K52: 30 | L52: =IF(J52>0,(I52*K52%)+I52,"") -> 8.7391296 | N52: =IF(M14=0,"",L52/M14) -> 70.545416
E53: =IF(AND(J53>0,I53<>0),(A53+B53+C53+D53)/I53,"") -> 0 | F53: =IF(AND(J53>0,I53<>0),(($H$24*(1-$K$24))+A53+B53+C53+D53)/I53,"") -> 0.01206601 | G53: =IF(J53>0,PRODUCT($I$47,J53)+$E$47/J53,"") -> 0.22945652 | H53: =IF(J53>0,L53*J53,"") -> 96.802667 | I53: =IF(J53>0,SUM(B72,((A53+B53+C53+D53)*1.25),$J$47,$H$24),"") -> 6.7224074 | J53: 12 | K53: 20 | L53: =IF(J53>0,(I53*K53%)+I53,"") -> 8.0668889 | N53: =IF(M14=0,"",L53/M14) -> 65.118845 | Q53: Squelette X Y | T53: Pinces
E54: =IF(AND(J54>0,I54<>0),(A54+B54+C54+D54)/I54,"") -> 0 | F54: =IF(AND(J54>0,I54<>0),(($H$24*(1-$K$24))+A54+B54+C54+D54)/I54,"") -> 0.01206601 | G54: =IF(J54>0,PRODUCT($I$47,J54)+$E$47/J54,"") -> 0.22945652 | H54: =IF(J54>0,L54*J54,"") -> 88.735778 | I54: =IF(J54>0,SUM(B73,((A54+B54+C54+D54)*1.25),$J$47,$H$24),"") -> 6.7224074 | J54: 12 | K54: 10 | L54: =IF(J54>0,(I54*K54%)+I54,"") -> 7.3946482 | N54: =IF(M14=0,"",L54/M14) -> 59.692275 | Q54: 10 | R54: 10 | T54: 0
E55: =IF(AND(J55>0,I55<>0),(A55+B55+C55+D55)/I55,"") -> 0 | F55: =IF(AND(J55>0,I55<>0),(($H$24*(1-$K$24))+A55+B55+C55+D55)/I55,"") -> 0.01206601 | G55: =IF(J55>0,PRODUCT($I$47,J55)+$E$47/J55,"") -> 0.22945652 | H55: =IF(J55>0,L55*J55,"") -> 84.702334 | I55: =IF(J55>0,SUM(B74,((A55+B55+C55+D55)*1.25),$J$47,$H$24),"") -> 6.7224074 | J55: 12 | K55: 5 | L55: =IF(J55>0,(I55*K55%)+I55,"") -> 7.0585278 | N55: =IF(M14=0,"",L55/M14) -> 56.97899
A56: INFORMATIONS CLIENT | P56: TOLE | V56: FORMAT IDEAL
O57: =MIN(T61,T62,T64,T65,T67,T68) -> 2.1666667 | P57: Dispo | Q57: Longueur (mm) | R57: Largeur | S57: Qté/Tôle | T57: Poids/Piece | U57: % Chute | V57: longueur | W57: Largeur | X57: Poids | Y57: Poids Tole Kg | Z57: Pcs / L | AA57: Pcs / l
L58: Difficulté : | M58: Facile | P58: x | Q58: 4000 | R58: 2000 | S58: =IF(P58="","",(INT((Q58/($Q51+$Q54)))*INT(((R58-$T54)/($R51+$R54))))) -> 300 | T58: =(Q58*R58*S51*U51)/S58/1000000 -> 2.08 | U58: =IF(P58="","",(($Q58*$R58)-(Q51*R51*$S58))/($Q58*$R58)) -> 0.15625 | V58: =(Q58-Q54*Z58)/Z58 -> 153.26531 | W58: =(R58-R54*AA58)/AA58 -> 156.66667 | X58: =V58*W58*S51*U51/$U$3 -> 1.872902 | Y58: =Q58*R58*S51*U51/1000000 -> 624 | Z58: =(Q58/(Q54+Q51))-0.5 -> 24.5 | AA58: =(R58/(R51+R54))-0.5 -> 12
L59: Délai | M59: 7 Semaines | P59: x | Q59: 2000 | R59: 4000 | S59: =IF(P59="","",(INT((Q59/($Q51+$Q54)))*INT(((R59-$T54)/($R51+$R54))))) -> 300 | T59: =(Q59*R59*S51*U51)/S59/1000000 -> 2.08 | U59: =IF(P59="","",(($Q59*$R59)-(Q51*R51*$S59))/($Q59*$R59)) -> 0.15625 | V59: =(Q59-Q54*Z59)/Z59 -> 156.66667 | W59: =(R59-R54*AA59)/AA59 -> 153.26531 | X59: =V59*W59*S51*U51/$U$3 -> 1.872902 | Y59: =Q59*R59*S51*U51/1000000 -> 624 | Z59: =Q59/(Q51+Q54)-0.5 -> 12 | AA59: =(R59/(R51+R54))-0.5 -> 24.5
L60: Trait | M60: Brute
O61: =IF(T61=$O57,$AE$4,"") -> ------> | P61: x | Q61: 3000 | R61: 1500 | S61: =IF(P61="","",(INT((Q61/($Q51:Q51+$Q54)))*INT(((R61-$T54)/($R51+$R54))))) -> 162 | T61: =(Q61*R61*S51*U51)/S61/1000000 -> 2.1666667 | U61: =IF(P61="","",(($Q61:Q61*$R61)-(Q51*R51*$S61))/($Q61*$R61)) -> 0.19 | V61: =(Q61-Q54*Z61)/Z61 -> 154.38356 | W61: =(R61-R54*AA61)/AA61 -> 159.01408 | X61: =V61*W61*S51*U51/$U$3 -> 1.9148345 | Y61: =Q61*R61*S51*U51/1000000 -> 351 | Z61: =(Q61/(Q51+Q54))-0.5 -> 18.25 | AA61: =(R61/(R51+R54))-0.5 -> 8.875
O62: =IF(T62=$O57,$AE$4,"") -> ------> | P62: x | Q62: 1500 | R62: 3000 | S62: =IF(P62="","",(INT((Q62/($Q51+$Q54)))*INT(((R62-$T54)/($R51+$R54))))) -> 162 | T62: =(Q62*R62*S51*U51)/S62/1000000 -> 2.1666667 | U62: =IF(P62="","",(($Q62*$R62)-(Q51*R51*$S62))/($Q62*$R62)) -> 0.19 | V62: =(Q62-Q54*Z62)/Z62 -> 159.01408 | W62: =(R62-R54*AA62)/AA62 -> 154.38356 | X62: =V62*W62*S51*U51/$U$3 -> 1.9148345 | Y62: =Q62*R62*S51*U51/1000000 -> 351 | Z62: =Q62/(Q51+Q54)-0.5 -> 8.875 | AA62: =(R62/(R51+R54))-0.5 -> 18.25
O64: =IF(T64=$O57,$AE$4,"") | P64: x | Q64: 2500 | R64: 1250 | S64: =IF(P64="","",(INT((Q64/($Q51+$Q54)))*INT(((R64-$T54)/($R51+$R54))))) -> 105 | T64: =(Q64*R64*S51*U51)/S64/1000000 -> 2.3214286 | U64: =IF(P64="","",(($Q64*$R64)-(Q51*R51*$S64))/($Q64*$R64)) -> 0.244 | V64: =(Q64-Q54*Z64)/Z64 -> 155.28926 | W64: =(R64-R54*AA64)/AA64 -> 155.2452 | X64: =V64*W64*S51*U51/$U$3 -> 1.8804171 | Y64: =Q64*R64*S51*U51/1000000 -> 243.75 | Z64: =(Q64/(Q51+Q54))-0.5 -> 15.125 | AA64: =(R64/(R51+$R$8))-0.5 -> 7.5645161
M65: demande SC du 30/07/12 | O65: =IF(T65=$O57,$AE$4,"") | P65: x | Q65: 1250 | R65: 2500 | S65: =IF(P65="","",(INT((Q65/($Q51+$Q54)))*INT(((R65-$T54)/($R51+$R54))))) -> 105 | T65: =(Q65*R65*S51*U51)/S65/1000000 -> 2.3214286 | U65: =IF(P65="","",(($Q65*$R65)-(Q51*R51*$S65))/($Q65*$R65)) -> 0.244 | V65: =(Q65-Q54*Z65)/Z65 -> 160.94017 | W65: =(R65-R54*AA65)/AA65 -> 155.28926 | X65: =V65*W65*S51*U51/$U$3 -> 1.9493978 | Y65: =Q65*R65*S51*U51/1000000 -> 243.75 | Z65: =Q65/(Q51+Q54)-0.5 -> 7.3125 | AA65: =(R65/(R51+R54))-0.5 -> 15.125
M66: 1 à 2 pièces : Coef 1.40
M67: 5 Pièces : Coef 1.35 | O67: =IF(T67=$O57,$AE$4,"") -> ------> | P67: x | Q67: 2000 | R67: 1000 | S67: =IF(P67="","",(INT((Q67/($Q51+$Q54)))*INT(((R67-$T54)/($R51+$R54))))) -> 72 | T67: =(Q67*R67*S51*U51)/S67/1000000 -> 2.1666667 | U67: =IF(P67="","",(($Q67*$R67)-(Q51*R51*$S67))/($Q67*$R67)) -> 0.19 | V67: =(Q67-Q54*Z67)/Z67 -> 156.66667 | W67: =(R67-R54*AA67)/AA67 -> 163.91304 | X67: =V67*W67*S51*U51/$U$3 -> 2.0030174 | Y67: =Q67*R67*S51*U51/1000000 -> 156 | Z67: =(Q67/(Q51+Q54))-0.5 -> 12 | AA67: =(R67/(R51+R54))-0.5 -> 5.75
B68: CP avec BE et FAD | M68: 10p à 20p : Coef 1.30 | O68: =IF(T68=$O57,$AE$4,"") -> ------> | P68: x | Q68: 1000 | R68: 2000 | S68: =IF(P68="","",(INT((Q68/($Q51+$Q54)))*INT(((R68-$T54)/($R51+$R54))))) -> 72 | T68: =(Q68*R68*S51*U51)/S68/1000000 -> 2.1666667 | U68: =IF(P68="","",(($Q68*$R68)-(Q51*R51*$S68))/($Q68*$R68)) -> 0.19 | V68: =(Q68-Q54*Z68)/Z68 -> 163.91304 | W68: =(R68-R54*AA68)/AA68 -> 156.66667 | X68: =V68*W68*S51*U51/$U$3 -> 2.0030174 | Y68: =Q68*R68*S51*U51/1000000 -> 156 | Z68: =Q68/(Q51+Q54)-0.5 -> 5.75 | AA68: =(R68/(R51+R54))-0.5 -> 12
B69: =IF(J50<>0,(SUM($F$47,$E$48,$C$48,$H$48)/J50),0) -> 5.8333333 | M69: Au dela 200p : Mini 1.20
B70: =IF(J51<>0,(SUM($F$47,$E$48,$C$48,$H$48)/J51),0) -> 5.8333333 | P70: x | Q70: 500 | R70: 200 | S70: =IF(P70="","",(INT((Q70/($Q51+$Q54)))*INT(((R70-$T54)/($R51+$R54))))) -> 3 | T70: =(Q70*R70*S51*U51)/S70/1000000 -> 2.6 | U70: =IF(P70="","",(($Q70*$R70)-(Q51*R51*$S70))/($Q70*$R70)) -> 0.325 | V70: =(Q70-Q54*Z70)/Z70 -> 180.47619 | W70: =(R70-R54*AA70)/AA70 -> 256.66667 | X70: =V70*W70*S51*U51/$U$3 -> 3.6131333 | Y70: =Q70*R70*S51*U51/1000000 -> 7.8 | Z70: =(Q70/(Q51+Q54))-0.5 -> 2.625 | AA70: =(R70/(R51+R54))-0.5 -> 0.75
B71: =IF(J52<>0,(SUM($F$47,$E$48,$C$48,$H$48)/J52),0) -> 5.8333333 | P71: x | Q71: =R70 -> 200 | R71: =Q70 -> 500 | S71: =IF(P71="","",(INT((Q71/($Q51+$Q54)))*INT(((R71-$T54)/($R51+$R54))))) -> 3 | T71: =(Q71*R71*S51*U51)/S71/1000000 -> 2.6 | U71: =IF(P71="","",(($Q71*$R71)-(Q51*R51*$S71))/($Q71*$R71)) -> 0.325 | V71: =(Q71-Q54*Z71)/Z71 -> 256.66667 | W71: =(R71-R54*AA71)/AA71 -> 180.47619 | X71: =V71*W71*S51*U51/$U$3 -> 3.6131333 | Y71: =Q71*R71*S51*U51/1000000 -> 7.8 | Z71: =Q71/(Q51+Q54)-0.5 -> 0.75 | AA71: =(R71/(R51+R54))-0.5 -> 2.625
B72: =IF(J53<>0,(SUM($F$47,$E$48,$C$48,$H$48)/J53),0) -> 5.8333333 | S72: =IF(UPPER(S76)="OXYGENE","O2","NA") -> O2 | T72: =CONCATENATE(LOWER(T73),"-",S77,"-",T51,"-",S75,"-",S72) -> bystronic3015-0-acier-10-O2
B73: =IF(J54<>0,(SUM($F$47,$E$48,$C$48,$H$48)/J54),0) -> 5.8333333 | T73: Bystronic3015 | U73: =#N/A -> #N/A
B74: =IF(J55<>0,(SUM($F$47,$E$48,$C$48,$H$48)/J55),0) -> 5.8333333 | P74: LASER | T74: =IF(ISERROR(VLOOKUP(T72,TempsLaser,2,0)),"ERREUR",VLOOKUP(T72,TempsLaser,2,0)) -> 1500 | U74: vitesse
Q75: Épaisseur | S75: =IF(S51<1,1,IF(S51-INT(S51)=0,S51, IF(S51-INT(S51)<=0.5,0.5+INT(S51),1+INT(S51)))) -> 10 | T75: =IF(ISERROR(VLOOKUP(T72,TempsLaser,3,0)),"ERREUR",VLOOKUP(T72,TempsLaser,3,0)) -> 1000 | U75: vitesse d
Q76: Gaz | S76: Oxygene
Q77: High Speed | S77: 0
Q78: Contours decoupés en mm | S78: =(Q51+R51)*2 -> 600 | T78: =(S78/T74)/60 -> 0.0066666667
Q79: nbre diam < 10 | S79: 0 | T79: =((S79*40)/T75)/60 -> 0
Q80: Nbre d'amorçages | S80: =S79+1 -> 1 | T80: =U80*S75*S80 -> 0.0027 | U80: 0.00027
Q81: Nbre de trappe | S81: 0 | T81: 0
Q82: Nbrs d' evac manuelle | S82: 0 | T82: =U82*S82 -> 0 | U82: 0.0041
Q83: Vapo | S83: 0 | T83: =((S78+S79*10)/8000)/60*IF(S83,1,0) -> 0
O84: =P74 -> LASER | S84: a reporter | T84: =SUM(T78:T83)*1.3 -> 0.012176667
P86: Poinconnage
P87: Nbre d'outils-changements | R87: =#N/A -> #N/A | S87: 5 | T87: =(S87/S88)*U87 -> 0.015 | U87: 0.003
P88: Nbre de pieces sur la tole | S88: 1
P89: Nbre de coups de poincons | S89: =(Q51*2+R51*2)/50+50 -> 62 | T89: =S89*U89 -> 0.00868 | U89: 0.00014
P90: Nbre de taraud-embout | S90: 0 | T90: =S90*U90 -> 0 | U90: 0.0008
P91: Nbr d'evacuations trappes | S91: 0 | T91: =S91*U91 -> 0 | U91: 0.0008
P92: Nbre d'evac Trumalift-manuel/piece | S92: 1 | T92: =S92*U92 -> 0.005 | U92: 0.005
P93: Chargement tole | S93: 1 | T93: =U93*(S93/S88) -> 0.007 | U93: 0.007
O94: =P86 -> Poinconnage | Q94: TEMPS PREP | R94: =SUM(0.2,PRODUCT(0.08,S87)) -> 0.6 | S94: a reporter | T94: =SUM(T87:T93)*1.3 -> 0.046384 | U94: =PRODUCT(T94,3600) -> 166.9824
O96: =CHAR(64+INT(ROW()/45)+1) -> C | Q96: Longueur (mm) | R96: Largeur (mm) | S96: Ep mm | T96: Matière | V96: Poids | W96: M2 | Z96: 1
Q97: 0 | R97: 0 | S97: 0 | T97: acier | U97: =VLOOKUP(T97,DensiteMatiere,2,0) -> 7.8 | V97: =(Q97*R97*S97*U97)/1000000 -> 0 | W97: =Q97*R97*2/1000000 -> 0
Q99: Squelette X Y | T99: Pinces
Q100: 5 | R100: 5 | T100: 0
P102: TOLE | V102: FORMAT IDEAL
O103: =MIN(T107,T108,T110,T111,T113,T114) -> 0 | P103: Dispo | Q103: Longueur (mm) | R103: Largeur | S103: Qté/Tôle | T103: Poids/Piece | U103: % Chute | V103: longueur | W103: Largeur | X103: Poids | Y103: Poids Tole Kg | Z103: Pcs / L | AA103: Pcs / l
P104: x | Q104: 4000 | R104: 2000 | S104: =IF(P104="","",(INT((Q104/($Q97+$Q100)))*INT(((R104-$T100)/($R97+$R100))))) -> 320000 | T104: =(Q104*R104*S97*U97)/S104/1000000 -> 0 | U104: =IF(P104="","",(($Q104*$R104)-(Q97*R97*$S104))/($Q104*$R104)) -> 1 | V104: =(Q104-Q100*Z104)/Z104 -> 0.0031269543 | W104: =(R104-R100*AA104)/AA104 -> 0.0062578223 | X104: =V104*W104*S97*U97/$U$3 -> 0 | Y104: =Q104*R104*S97*U97/1000000 -> 0 | Z104: =(Q104/(Q100+Q97))-0.5 -> 799.5 | AA104: =(R104/(R97+R100))-0.5 -> 399.5
P105: x | Q105: 2000 | R105: 4000 | S105: =IF(P105="","",(INT((Q105/($Q97+$Q100)))*INT(((R105-$T100)/($R97+$R100))))) -> 320000 | T105: =(Q105*R105*S97*U97)/S105/1000000 -> 0 | U105: =IF(P105="","",(($Q105*$R105)-(Q97*R97*$S105))/($Q105*$R105)) -> 1 | V105: =(Q105-Q100*Z105)/Z105 -> 0.0062578223 | W105: =(R105-R100*AA105)/AA105 -> 0.0031269543 | X105: =V105*W105*S97*U97/$U$3 -> 0 | Y105: =Q105*R105*S97*U97/1000000 -> 0 | Z105: =Q105/(Q97+Q100)-0.5 -> 399.5 | AA105: =(R105/(R97+R100))-0.5 -> 799.5
O107: =IF(T107=$O103,$AE$4,"") -> ------> | P107: x | Q107: 3000 | R107: 1500 | S107: =IF(P107="","",(INT((Q107/($Q97:Q97+$Q100)))*INT(((R107-$T100)/($R97+$R100))))) -> 180000 | T107: =(Q107*R107*S97*U97)/S107/1000000 -> 0 | U107: =IF(P107="","",(($Q107:Q107*$R107)-(Q97*R97*$S107))/($Q107*$R107)) -> 1 | V107: =(Q107-Q100*Z107)/Z107 -> 0.0041701418 | W107: =(R107-R100*AA107)/AA107 -> 0.0083472454 | X107: =V107*W107*S97*U97/$U$3 -> 0 | Y107: =Q107*R107*S97*U97/1000000 -> 0 | Z107: =(Q107/(Q97+Q100))-0.5 -> 599.5 | AA107: =(R107/(R97+R100))-0.5 -> 299.5
...

Sheet Accueil
A1: Chiffrage ATF 4.4 | H1: =IF(B1="","",VLOOKUP(B1,ListeOperation,7,FALSE))

Sheet chiffrage
L1: =CONCATENATE("Indice ","") -> Indice | N1: BOURGEOIS.C | P1: 1 | AA1: =COUNTA(AA2:AA10000) -> 4 | AB1: chiffrage | AE1: SEPARATEUR | AF1: =VLOOKUP("Par_1",Parametre,5,0) -> #N/A
C2: Infos | H2: =SI(B2="";"";RECHERCHEV(B2;ListeOperation;7;FAUX())) | M2: 0 | N2: =TODAY() -> 42619 | P2: =CHAR(64+INT(ROW()/45)+1) -> A | R2: Longueur (mm) | S2: Largeur (mm) | T2: Ep mm | U2: Matière | W2: Poids | X2: M2 | AA2: 1 | AB2: TOTAL POIDS | AC2: TOTAL M2 | AE2: SELECTEUR | AF2: =VLOOKUP("Par_2",Parametre,5,0) -> #N/A
B3: Matière | C3: Longueur Mm | D3: Largeur Mm | E3: Ep Mm | F3: Qté | G3: Poids Kg | H3: Prix Unitaire | I3: Total | J3: Prix/Kg Achat | K3: Informations | M3: M2 | N3: Poids | R3: 200 | S3: 100 | T3: 1 | U3: acier | V3: =VLOOKUP(U3,DensiteMatiere,2,0) -> 7.8 | W3: =(R3*S3*T3*V3)/1000000 -> 0.156 | X3: =R3*S3*2/1000000 -> 0.04 | AC3: =X3+X49+X94+X141+X187+X233+X279+X325 -> #VALUE!
A4: =IF(OR(B4="",B4="--------------"),"",CHAR(64+INT(ROW()-4)+1)) | G4: fdbdhb | H4: =IF(G4="","",G4*J4) -> #VALUE! | I4: =IF(H4="","",H4*F4) -> #VALUE! | J4: =IF(ISERROR(VLOOKUP(B4,DesignationDensiteMatiere,2,0)),"",VLOOKUP(B4,DesignationDensiteMatiere,2,0))
A5: =IF(OR(B5="",B5="--------------"),"",CHAR(64+INT(ROW()-4)+1)) | G5: =IF(OR($B5="--------------",$B5="",E5=""),"",CALCULPOIDS(C5,D5,E5,VLOOKUP(B5,DesignationDensiteMatiere,3,0))) | H5: =IF(G5="","",G5*J5) | I5: =IF(H5="","",H5*F5) | J5: =IF(ISERROR(VLOOKUP(B5,DesignationDensiteMatiere,2,0)),"",VLOOKUP(B5,DesignationDensiteMatiere,2,0)) | R5: Squelette X Y | U5: Pinces | AD5: Tps minute | AE5: 0.15 | AF5: Tps en seconde | AG5: 2000
A6: =IF(OR(B6="",B6="--------------"),"",CHAR(64+INT(ROW()-4)+1)) | G6: =IF(OR($B6="--------------",$B6="",E6=""),"",CALCULPOIDS(C6,D6,E6,VLOOKUP(B6,DesignationDensiteMatiere,3,0))) | H6: =IF(G6="","",G6*J6) | I6: =IF(H6="","",H6*F6) | J6: =IF(ISERROR(VLOOKUP(B6,DesignationDensiteMatiere,2,0)),"",VLOOKUP(B6,DesignationDensiteMatiere,2,0)) | R6: 10 | S6: 10 | U6: 0 | AB6: centiemes h | AC6: 0.0003 | AD6: =AC6*60 -> 0.018 | AE6: =(AE5*60)/3600 -> 0.0025 | AF6: =AC6*3600 -> 1.08 | AG6: =AG5/3600 -> 0.55555556 | AL6: Delai | AN6: Difficulte | AP6: Traitement | AQ6: Infos | AR6: =CONCATENATE(AN6,CHAR(13),CHAR(13),AL6,CHAR(13),CHAR(13),AP6) -> Difficulte_x000D__x000D_Delai_x000D__x000D_Traitement
A7: =IF(OR(B7="",B7="--------------"),"",CHAR(64+INT(ROW()-4)+1)) | G7: =IF(OR($B7="--------------",$B7="",E7=""),"",CALCULPOIDS(C7,D7,E7,VLOOKUP(B7,DesignationDensiteMatiere,3,0))) | H7: =IF(G7="","",G7*J7) | I7: =IF(H7="","",H7*F7) | J7: =IF(ISERROR(VLOOKUP(B7,DesignationDensiteMatiere,2,0)),"",VLOOKUP(B7,DesignationDensiteMatiere,2,0)) | AL7: A convenir | AN7: Facile | AP7: Brute | AQ7: PEI ESTI
A8: =IF(OR(B8="",B8="--------------"),"",CHAR(64+INT(ROW()-4)+1)) | G8: =IF(OR($B8="--------------",$B8="",E8=""),"",CALCULPOIDS(C8,D8,E8,VLOOKUP(B8,DesignationDensiteMatiere,3,0))) | H8: =IF(G8="","",G8*J8) | I8: =IF(H8="","",H8*F8) | J8: =IF(ISERROR(VLOOKUP(B8,DesignationDensiteMatiere,2,0)),"",VLOOKUP(B8,DesignationDensiteMatiere,2,0)) | Q8: TOLE | W8: FORMAT IDEAL | Z8: Poids Tole Kg | AL8: 1 Semaine | AN8: Moyen | AP8: Epoxy | AQ8: USI ESTI
A9: =IF(OR(B9="",B9="--------------"),"",CHAR(64+INT(ROW()-4)+1)) | G9: =IF(OR($B9="--------------",$B9="",E9=""),"",CALCULPOIDS(C9,D9,E9,VLOOKUP(B9,DesignationDensiteMatiere,3,0))) | H9: =IF(G9="","",G9*J9) | I9: =IF(H9="","",H9*F9) | J9: =IF(ISERROR(VLOOKUP(B9,DesignationDensiteMatiere,2,0)),"",VLOOKUP(B9,DesignationDensiteMatiere,2,0)) | P9: =MIN(U10,U11,U13,U14,U16,U17,U19,U20,U22,U23) -> #NAME? | Q9: Dispo | R9: Longueur (mm) | S9: Largeur | T9: Qté/Tôle | U9: Poids/Piece | V9: % Chute | W9: longueur | X9: Largeur | Y9: Poids | AL9: 2 Semaines | AN9: Complexe | AP9: Haute T° | AQ9: PEI+USI ESTI
A10: =IF(OR(B10="",B10="--------------"),"",CHAR(64+INT(ROW()-4)+1)) | G10: =IF(OR($B10="--------------",$B10="",E10=""),"",CALCULPOIDS(C10,D10,E10,VLOOKUP(B10,DesignationDensiteMatiere,3,0))) | H10: =IF(G10="","",G10*J10) | I10: =IF(H10="","",H10*F10) | J10: =IF(ISERROR(VLOOKUP(B10,DesignationDensiteMatiere,2,0)),"",VLOOKUP(B10,DesignationDensiteMatiere,2,0)) | P10: =IF(U10=$P9,$AF$2,"") -> #NAME? | R10: 4000 | S10: 2000 | T10: =IF(Q10="","",(INT((R10/($R3+$R6)))*INT(((S10-$U6)/($S3+$S6))))) | U10: =IF(OR(T10=0,T10=""),"",CALCULPOIDS(R10,S10,T3,V3)/T10) | V10: =IF(Q10="","",(($R10*$S10)-(R3*S3*$T10))/($R10*$S10)) | W10: =CALCUL_FORMATIDEAL(R10,0,R3,R6) -> #NAME? | X10: =CALCUL_FORMATIDEAL(S10,U6,S3,S6) -> #NAME? | Y10: =CALCULPOIDS(W10,X10,T3,V3) -> #NAME? | Z10: =CALCULPOIDS(R10,S10,T3,V3) -> #NAME? | AL10: 3 Semaines | AP10: Zn
A11: =IF(OR(B11="",B11="--------------"),"",CHAR(64+INT(ROW()-4)+1)) | G11: =IF(OR($B11="--------------",$B11="",E11=""),"",CALCULPOIDS(C11,D11,E11,VLOOKUP(B11,DesignationDensiteMatiere,3,0))) | H11: =IF(G11="","",G11*J11) | I11: =IF(H11="","",H11*F11) | J11: =IF(ISERROR(VLOOKUP(B11,DesignationDensiteMatiere,2,0)),"",VLOOKUP(B11,DesignationDensiteMatiere,2,0)) | P11: =IF(U11=$P9,$AF$2,"") -> #NAME? | R11: 2000 | S11: 4000 | T11: =IF(Q11="","",(INT((R11/($R3+$R6)))*INT(((S11-$U6)/($S3+$S6))))) | U11: =IF(OR(T11=0,T11=""),"",CALCULPOIDS(R11,S11,T3,V3)/T11) | V11: =IF(Q11="","",(($R11*$S11)-(R3*S3*$T11))/($R11*$S11)) | W11: =CALCUL_FORMATIDEAL(R11,0,R3,R6) -> #NAME? | X11: =CALCUL_FORMATIDEAL(S11,U6,S3,S6) -> #NAME? | Y11: =CALCULPOIDS(W11,X11,T3,V3) -> #NAME? | Z11: =CALCULPOIDS(R11,S11,T3,V3) -> #NAME? | AB11: Rectangle | AL11: 4 Semaines | AP11: Antirouille
B12: SST MP | I12: =SUM(I4:I11) -> #VALUE! | M12: =SUM(M4:M11) -> 0 | N12: =SUM(N4:N11) -> 0 | T12: =IF(UPPER(Q12)="X",(INT((R12/($R$8+$R$11)))*INT(((S12-$U$11)/($S$8+$S$11)))),"") | U12: =IF(OR(T12=0,T12=""),"",CALCULPOIDS(R12,S12,$T$3,V5)/T12) | AB12: Matiere | AC12: Longueur mm | AD12: Largeur mm | AE12: Epaisseur mm | AF12: Poids Kg | AL12: 5 Semaines | AP12: Liquide
B13: Composants | C13: Qté | D13: Prix | I13: Total | J13: Informations | P13: =IF(U13=$P9,$AF$2,"") -> #NAME? | Q13: x | R13: 3000 | S13: 1500 | T13: =IF(Q13="","",(INT((R13/($R3:R3+$R6)))*INT(((S13-$U6)/($S3+$S6))))) -> 182 | U13: =IF(OR(T13=0,T13=""),"",CALCULPOIDS(R13,S13,T3,V3)/T13) -> #NAME? | V13: =IF(Q13="","",(($R13:R13*$S13)-(R3*S3*$T13))/($R13*$S13)) -> 0.19111111 | W13: =CALCUL_FORMATIDEAL(R13,0,R3,R6) -> #NAME? | X13: =CALCUL_FORMATIDEAL(S13,U6,S3,S6) -> #NAME? | Y13: =CALCULPOIDS(W13,X13,T3,V3) -> #NAME? | Z13: =CALCULPOIDS(R13,S13,T3,V3) -> #NAME? | AB13: alu | AC13: 40 | AD13: 15 | AE13: 0 | AF13: =(AC13*AD13*VLOOKUP(AB13,DensiteMatiere,2,0)/1000)-IF(AE13>0,((AC13-2*AE13)*(AD13-2*AE13)*VLOOKUP(AB13,DensiteMatiere,2,0)/1000),0) -> 1.68 | AL13: 6 Semaines | AP13: tribofinition
D14: =IF(B14<>"",VLOOKUP(B14,PrixComposant,2,0),"") | I14: =IF(OR(C14="",C14=0),"",C14*D14) | P14: =IF(U14=$P9,$AF$2,"") -> #NAME? | Q14: x | R14: 1500 | S14: 3000 | T14: =IF(Q14="","",(INT((R14/($R3+$R6)))*INT(((S14-$U6)/($S3+$S6))))) -> 189 | U14: =IF(OR(T14=0,T14=""),"",CALCULPOIDS(R14,S14,T3,V3)/T14) -> #NAME? | V14: =IF(Q14="","",(($R14*$S14)-(R3*S3*$T14))/($R14*$S14)) -> 0.16 | W14: =CALCUL_FORMATIDEAL(R14,0,R3,R6) -> #NAME? | X14: =CALCUL_FORMATIDEAL(S14,U6,S3,S6) -> #NAME? | Y14: =CALCULPOIDS(W14,X14,T3,V3) -> #NAME? | Z14: =CALCULPOIDS(R14,S14,T3,V3) -> #NAME? | AB14: Rond | AL14: 7 Semaines | AP14: Polissage_elec
D15: =IF(B15<>"",VLOOKUP(B15,PrixComposant,2,0),"") | I15: =IF(OR(C15="",C15=0),"",C15*D15) | T15: =IF(Q15="","",(INT((R15/($R4:R4+$R7:R7)))*INT(((S15-$U7:U7)/($S4:S4+$S7:S7))))) | U15: =IF(OR(T15=0,T15=""),"",CALCULPOIDS(R15,S15,$T$3,V8)/T15) | AC15: Diametre mm | AE15: Epaisseur mm | AL15: 8 Semaines | AP15: brunissage
D16: =IF(B16<>"",VLOOKUP(B16,PrixComposant,2,0),"") | I16: =IF(OR(C16="",C16=0),"",C16*D16) | P16: =IF(U16=$P9,$AF$2,"") -> #NAME? | Q16: x | R16: 2500 | S16: 1250 | T16: =IF(Q16="","",(INT((R16/($R3+$R6)))*INT(((S16-$U6)/($S3+$S6))))) -> 121 | U16: =IF(OR(T16=0,T16=""),"",CALCULPOIDS(R16,S16,T3,V3)/T16) -> #NAME? | V16: =IF(Q16="","",(($R16*$S16)-(R3*S3*$T16))/($R16*$S16)) -> 0.2256 | W16: =CALCUL_FORMATIDEAL(R16,0,R3,R6) -> #NAME? | X16: =CALCUL_FORMATIDEAL(S16,U6,S3,S6) -> #NAME? | Y16: =CALCULPOIDS(W16,X16,T3,V3) -> #NAME? | Z16: =CALCULPOIDS(R16,S16,T3,V3) -> #NAME? | AB16: alu | AC16: 500 | AE16: 0 | AF16: =((PI()*POWER((AC16/2),2)*VLOOKUP(AB16,DensiteMatiere,2,0)/1000)-IF(AE16>0,(PI()*POWER(((AC16-2*AE16)/2),2)*VLOOKUP(AB16,DensiteMatiere,2,0)/1000),0))*1.04 -> 571.76986 | AL16: 9 Semaines
D17: =IF(B17<>"",VLOOKUP(B17,PrixComposant,2,0),"") | I17: =IF(OR(C17="",C17=0),"",C17*D17) | P17: =IF(U17=$P9,$AF$2,"") -> #NAME? | Q17: x | R17: 1250 | S17: 2500 | T17: =IF(Q17="","",(INT((R17/($R3+$R6)))*INT(((S17-$U6)/($S3+$S6))))) -> 110 | U17: =IF(OR(T17=0,T17=""),"",CALCULPOIDS(R17,S17,T3,V3)/T17) -> #NAME? | V17: =IF(Q17="","",(($R17*$S17)-(R3*S3*$T17))/($R17*$S17)) -> 0.296 | W17: =CALCUL_FORMATIDEAL(R17,0,R3,R6) -> #NAME? | X17: =CALCUL_FORMATIDEAL(S17,U6,S3,S6) -> #NAME? | Y17: =CALCULPOIDS(W17,X17,T3,V3) -> #NAME? | Z17: =CALCULPOIDS(R17,S17,T3,V3) -> #NAME? | AL17: 10 Semaines
D18: =IF(B18<>"",VLOOKUP(B18,PrixComposant,2,0),"") | I18: =IF(OR(C18="",C18=0),"",C18*D18) | T18: =IF(UPPER(Q18)="X",(INT((R18/($R$8+$R$11)))*INT(((S18-$U$11)/($S$8+$S$11)))),"") | U18: =IF(OR(T18=0,T18=""),"",CALCULPOIDS(R18,S18,$T$3,V9)/T18)
D19: =IF(B19<>"",VLOOKUP(B19,PrixComposant,2,0),"") | I19: =IF(OR(C19="",C19=0),"",C19*D19) | P19: =IF(U19=$P9,$AF$2,"") -> #NAME? | Q19: x | R19: 2000 | S19: 1000 | T19: =IF(Q19="","",(INT((R19/($R3+$R6)))*INT(((S19-$U6)/($S3+$S6))))) -> 81 | U19: =IF(OR(T19=0,T19=""),"",CALCULPOIDS(R19,S19,T3,V3)/T19) -> #NAME? | V19: =IF(Q19="","",(($R19*$S19)-(R3*S3*$T19))/($R19*$S19)) -> 0.19 | W19: =CALCUL_FORMATIDEAL(R19,0,R3,R6) -> #NAME? | X19: =CALCUL_FORMATIDEAL(S19,U6,S3,S6) -> #NAME? | Y19: =CALCULPOIDS(W19,X19,T3,V3) -> #NAME? | Z19: =CALCULPOIDS(R19,S19,T3,V3) -> #NAME?
C20: 1 | D20: =IF(B20<>"",VLOOKUP(B20,PrixComposant,2,0),"") | I20: =IF(OR(C20="",C20=0),"",C20*D20) -> #VALUE! | P20: =IF(U20=$P9,$AF$2,"") -> #NAME? | Q20: x | R20: 1000 | S20: 2000 | T20: =IF(Q20="","",(INT((R20/($R3+$R6)))*INT(((S20-$U6)/($S3+$S6))))) -> 72 | U20: =IF(OR(T20=0,T20=""),"",CALCULPOIDS(R20,S20,T3,V3)/T20) -> #NAME? | V20: =IF(Q20="","",(($R20*$S20)-(R3*S3*$T20))/($R20*$S20)) -> 0.28 | W20: =CALCUL_FORMATIDEAL(R20,0,R3,R6) -> #NAME? | X20: =CALCUL_FORMATIDEAL(S20,U6,S3,S6) -> #NAME? | Y20: =CALCULPOIDS(W20,X20,T3,V3) -> #NAME? | Z20: =CALCULPOIDS(R20,S20,T3,V3) -> #NAME?
B21: SST CP | I21: =SUM(I14:I20) -> #VALUE! | T21: =IF(UPPER(Q21)="X",(INT((R21/($R$8+$R$11)))*INT(((S21-$U$11)/($S$8+$S$11)))),"") | U21: =IF(OR(T21=0,T21=""),"",CALCULPOIDS(R21,S21,$T$3,V12)/T21)
A22: TOTAL | H22: =1+L22 -> 1.25 | I22: =SUM(I21,I12)*H22 -> #VALUE! | J22: =IF(I12=0,"PAS DE MATIERE","") -> #VALUE! | L22: 0.25 | P22: =IF(U22=$P9,$AF$2,"") -> #NAME? | Q22: x | R22: 500 | S22: 200 | T22: =IF(Q22="","",(INT((R22/($R3+$R6)))*INT(((S22-$U6)/($S3+$S6))))) -> 2 | U22: =IF(OR(T22=0,T22=""),"",CALCULPOIDS(R22,S22,T3,V3)/T22) -> #NAME? | V22: =IF(Q22="","",(($R22*$S22)-(R3*S3*$T22))/($R22*$S22)) -> 0.6 | W22: =CALCUL_FORMATIDEAL(R22,0,R3,R6) -> #NAME? | X22: =CALCUL_FORMATIDEAL(S22,0,S3,S6) -> #NAME? | Y22: =CALCULPOIDS(W22,X22,T3,V3) -> #NAME? | Z22: =CALCULPOIDS(R22,S22,T3,V3) -> #NAME?
A23: Commentaires | B23: OPERATIONS | C23: AIDE | D23: Nb Actions | E23: Tx PREP | F23: Tps PREP | G23: CT prep | H23: TH OP | I23: Base Op | J23: TPS OP | K23: CT op | L23: Pce/H | M23: TPS par op | N23: Pièce Aspect | P23: =IF(U23=$P9,$AF$2,"") -> #NAME? | Q23: x | R23: =S22 -> 200 | S23: =R22 -> 500 | T23: =IF(Q23="","",(INT((R23/($R3+$R6)))*INT(((S23-$U6)/($S3+$S6))))) -> 0 | U23: =IF(OR(T23=0,T23=""),"",CALCULPOIDS(R23,S23,T3,V3)/T23) | V23: =IF(Q23="","",(($R23*$S23)-(R3*S3*$T23))/($R23*$S23)) -> 1 | W23: =CALCUL_FORMATIDEAL(R23,U6,R3,R6) -> #NAME? | X23: =CALCUL_FORMATIDEAL(S23,0,S3,S6) -> #NAME? | Y23: =CALCULPOIDS(W23,X23,T3,V3) -> #NAME? | Z23: =CALCULPOIDS(R23,S23,T3,V3) -> #NAME?
C24: =IF(B24="","",VLOOKUP(B24,ListeOperation,5,FALSE)) | D24: =IF(B24<>"",1,"") | E24: =IF(OR(B24="",LEFT(B24,1)="_"),"", VLOOKUP(B24,ListeOperation,2,FALSE)) | F24: =IF(OR(B24="",LEFT(B24,1)="_"),"",VLOOKUP(B24,ListeOperation,4,FALSE)) | G24: =IF(B24="","",IF(LEFT(B24,1)="_",VLOOKUP(B24,ListeOperation,2,0),IF(F24="",0,PRODUCT(F24,E24)))) | H24: =IF(OR(B24="",LEFT(B24,1)="_"),"",VLOOKUP(B24,ListeOperation,3,FALSE)) | I24: =IF(B24="","",VLOOKUP(B24,ListeOperation,7,FALSE)) | J24: =IF(OR(B24="",LEFT(B24,1)="_"),"",PRODUCT(D24,I24)) | K24: =IF(OR(D24="",D24=0,B24=""),"",IF(LEFT(B24,1)="_",VLOOKUP(B24,ListeOperation,3,0)*D24,PRODUCT(I24,H24,D24))) | L24: =IF(I24*D24=0,"",60/M24) -> #VALUE! | M24: =IF(J24="","",J24*60)/IF(UPPER(LEFT(B24,3))="PEI",120,1) -> #VALUE! | O24: =IF(ISERROR(SEARCH("laser",B24)),0,1)+IF(ISERROR(SEARCH("t500",B24)),0,1) -> 0 | T24: =IF(UPPER(T28)="OXYGENE","O2","NA") -> O2 | U24: =CONCATENATE(LOWER(U25),"-",T29,"-",U3,"-",T27,"-",T24) -> bystronic3015-0-acier-1-O2 | W24: =CONCATENATE(LOWER(W25),"-",T29,"-",U3,"-",T27,"-",T24) -> bystronic4000-0-acier-1-O2 | Y24: =CONCATENATE(LOWER(Y25),"-",T29,"-",U3,"-",T27,"-",T24) -> amada-0-acier-1-O2 | Z24: =IF(UPPER(T28)="OXYGENE","O2","NA") -> O2
C25: =IF(B25="","",VLOOKUP(B25,ListeOperation,5,FALSE)) | D25: =IF(B25<>"",1,"") | E25: =IF(OR(B25="",LEFT(B25,1)="_"),"", VLOOKUP(B25,ListeOperation,2,FALSE)) | F25: =IF(OR(B25="",LEFT(B25,1)="_"),"",VLOOKUP(B25,ListeOperation,4,FALSE)) | G25: =IF(B25="","",IF(LEFT(B25,1)="_",VLOOKUP(B25,ListeOperation,2,0),IF(F25="",0,PRODUCT(F25,E25)))) | H25: =IF(OR(B25="",LEFT(B25,1)="_"),"",VLOOKUP(B25,ListeOperation,3,FALSE)) | I25: =IF(B25="","",VLOOKUP(B25,ListeOperation,7,FALSE)) | J25: =IF(OR(B25="",LEFT(B25,1)="_"),"",PRODUCT(D25,I25)) | K25: =IF(OR(D25="",D25=0,B25=""),"",IF(LEFT(B25,1)="_",VLOOKUP(B25,ListeOperation,3,0)*D25,PRODUCT(I25,H25,D25))) | L25: =IF(I25*D25=0,"",60/M25) -> #VALUE! | M25: =IF(J25="","",J25*60)/IF(UPPER(LEFT(B25,3))="PEI",120,1) -> #VALUE! | O25: =IF(ISERROR(SEARCH("laser",B25)),0,1)+IF(ISERROR(SEARCH("t500",B25)),0,1)+O24 -> 0 | U25: Bystronic3015 | V25: =#N/A -> #N/A | W25: Bystronic4000 | X25: 0 | Y25: Amada | Z25: 0
C26: =IF(B26="","",VLOOKUP(B26,ListeOperation,5,FALSE)) | D26: =IF(B26<>"",1,"") | E26: =IF(OR(B26="",LEFT(B26,1)="_"),"", VLOOKUP(B26,ListeOperation,2,FALSE)) | F26: =IF(OR(B26="",LEFT(B26,1)="_"),"",VLOOKUP(B26,ListeOperation,4,FALSE)) | G26: =IF(B26="","",IF(LEFT(B26,1)="_",VLOOKUP(B26,ListeOperation,2,0),IF(F26="",0,PRODUCT(F26,E26)))) | H26: =IF(OR(B26="",LEFT(B26,1)="_"),"",VLOOKUP(B26,ListeOperation,3,FALSE)) | I26: =IF(B26="","",VLOOKUP(B26,ListeOperation,7,FALSE)) | J26: =IF(OR(B26="",LEFT(B26,1)="_"),"",PRODUCT(D26,I26)) | K26: =IF(OR(D26="",D26=0,B26=""),"",IF(LEFT(B26,1)="_",VLOOKUP(B26,ListeOperation,3,0)*D26,PRODUCT(I26,H26,D26))) | L26: =IF(I26*D26=0,"",60/M26) -> #VALUE! | M26: =IF(J26="","",J26*60)/IF(UPPER(LEFT(B26,3))="PEI",120,1) -> #VALUE! | O26: =IF(ISERROR(SEARCH("laser",B26)),0,1)+IF(ISERROR(SEARCH("t500",B26)),0,1)+O25 -> 0 | Q26: LASER | U26: =IF(ISERROR(VLOOKUP(U24,TempsLaser,2,0)),"ERREUR",VLOOKUP(U24,TempsLaser,2,0)) -> 8650 | V26: vitesse | W26: =IF(ISERROR(VLOOKUP(W24,TempsLaser,2,0)),"ERREUR",VLOOKUP(W24,TempsLaser,2,0)) -> ERREUR | Y26: =IF(ISERROR(VLOOKUP(Y24,TempsLaser,2,0)),"ERREUR",VLOOKUP(Y24,TempsLaser,2,0)) -> 3800 | Z26: vitesse
C27: =IF(B27="","",VLOOKUP(B27,ListeOperation,5,FALSE)) | D27: =IF(B27<>"",1,"") | E27: =IF(OR(B27="",LEFT(B27,1)="_"),"", VLOOKUP(B27,ListeOperation,2,FALSE)) | F27: =IF(OR(B27="",LEFT(B27,1)="_"),"",VLOOKUP(B27,ListeOperation,4,FALSE)) | G27: =IF(B27="","",IF(LEFT(B27,1)="_",VLOOKUP(B27,ListeOperation,2,0),IF(F27="",0,PRODUCT(F27,E27)))) | H27: =IF(OR(B27="",LEFT(B27,1)="_"),"",VLOOKUP(B27,ListeOperation,3,FALSE)) | I27: =IF(B27="","",VLOOKUP(B27,ListeOperation,7,FALSE)) | J27: =IF(OR(B27="",LEFT(B27,1)="_"),"",PRODUCT(D27,I27)) | K27: =IF(OR(D27="",D27=0,B27=""),"",IF(LEFT(B27,1)="_",VLOOKUP(B27,ListeOperation,3,0)*D27,PRODUCT(I27,H27,D27))) | L27: =IF(I27*D27=0,"",60/M27) -> #VALUE! | M27: =IF(J27="","",J27*60)/IF(UPPER(LEFT(B27,3))="PEI",120,1) -> #VALUE! | O27: =IF(ISERROR(SEARCH("laser",B27)),0,1)+IF(ISERROR(SEARCH("t500",B27)),0,1)+O26 -> 0 | R27: Épaisseur | T27: =IF(T3<1,1,IF(T3-INT(T3)=0,T3, IF(T3-INT(T3)<=0.5,0.5+INT(T3),1+INT(T3)))) -> 1 | U27: =IF(ISERROR(VLOOKUP(U24,TempsLaser,3,0)),"ERREUR",VLOOKUP(U24,TempsLaser,3,0)) -> 7100 | V27: vitesse d | W27: =IF(ISERROR(VLOOKUP(W24,TempsLaser,3,0)),"ERREUR",VLOOKUP(W24,TempsLaser,3,0)) -> ERREUR | Y27: =IF(ISERROR(VLOOKUP(Y24,TempsLaser,3,0)),"ERREUR",VLOOKUP(Y24,TempsLaser,3,0)) -> 1101 | Z27: vitesse d
C28: =IF(B28="","",VLOOKUP(B28,ListeOperation,5,FALSE)) | D28: =IF(B28<>"",1,"") | E28: =IF(OR(B28="",LEFT(B28,1)="_"),"", VLOOKUP(B28,ListeOperation,2,FALSE)) | F28: =IF(OR(B28="",LEFT(B28,1)="_"),"",VLOOKUP(B28,ListeOperation,4,FALSE)) | G28: =IF(B28="","",IF(LEFT(B28,1)="_",VLOOKUP(B28,ListeOperation,2,0),IF(F28="",0,PRODUCT(F28,E28)))) | H28: =IF(OR(B28="",LEFT(B28,1)="_"),"",VLOOKUP(B28,ListeOperation,3,FALSE)) | I28: =IF(B28="","",VLOOKUP(B28,ListeOperation,7,FALSE)) | J28: =IF(OR(B28="",LEFT(B28,1)="_"),"",PRODUCT(D28,I28)) | K28: =IF(OR(D28="",D28=0,B28=""),"",IF(LEFT(B28,1)="_",VLOOKUP(B28,ListeOperation,3,0)*D28,PRODUCT(I28,H28,D28))) | L28: =IF(I28*D28=0,"",60/M28) -> #VALUE! | M28: =IF(J28="","",J28*60)/IF(UPPER(LEFT(B28,3))="PEI",120,1) -> #VALUE! | O28: =IF(ISERROR(SEARCH("laser",B28)),0,1)+IF(ISERROR(SEARCH("t500",B28)),0,1)+O27 -> 0 | R28: Gaz | T28: Oxygene
C29: =IF(B29="","",VLOOKUP(B29,ListeOperation,5,FALSE)) | D29: =IF(B29<>"",1,"") | E29: =IF(OR(B29="",LEFT(B29,1)="_"),"", VLOOKUP(B29,ListeOperation,2,FALSE)) | F29: =IF(OR(B29="",LEFT(B29,1)="_"),"",VLOOKUP(B29,ListeOperation,4,FALSE)) | G29: =IF(B29="","",IF(LEFT(B29,1)="_",VLOOKUP(B29,ListeOperation,2,0),IF(F29="",0,PRODUCT(F29,E29)))) | H29: =IF(OR(B29="",LEFT(B29,1)="_"),"",VLOOKUP(B29,ListeOperation,3,FALSE)) | I29: =IF(B29="","",VLOOKUP(B29,ListeOperation,7,FALSE)) | J29: =IF(OR(B29="",LEFT(B29,1)="_"),"",PRODUCT(D29,I29)) | K29: =IF(OR(D29="",D29=0,B29=""),"",IF(LEFT(B29,1)="_",VLOOKUP(B29,ListeOperation,3,0)*D29,PRODUCT(I29,H29,D29))) | L29: =IF(I29*D29=0,"",60/M29) -> #VALUE! | M29: =IF(J29="","",J29*60)/IF(UPPER(LEFT(B29,3))="PEI",120,1) -> #VALUE! | O29: =IF(ISERROR(SEARCH("laser",B29)),0,1)+IF(ISERROR(SEARCH("t500",B29)),0,1)+O28 -> 0 | R29: High Speed | T29: 0
C30: =IF(B30="","",VLOOKUP(B30,ListeOperation,5,FALSE)) | D30: =IF(B30<>"",1,"") | E30: =IF(OR(B30="",LEFT(B30,1)="_"),"", VLOOKUP(B30,ListeOperation,2,FALSE)) | F30: =IF(OR(B30="",LEFT(B30,1)="_"),"",VLOOKUP(B30,ListeOperation,4,FALSE)) | G30: =IF(B30="","",IF(LEFT(B30,1)="_",VLOOKUP(B30,ListeOperation,2,0),IF(F30="",0,PRODUCT(F30,E30)))) | H30: =IF(OR(B30="",LEFT(B30,1)="_"),"",VLOOKUP(B30,ListeOperation,3,FALSE)) | I30: =IF(B30="","",VLOOKUP(B30,ListeOperation,7,FALSE)) | J30: =IF(OR(B30="",LEFT(B30,1)="_"),"",PRODUCT(D30,I30)) | K30: =IF(OR(D30="",D30=0,B30=""),"",IF(LEFT(B30,1)="_",VLOOKUP(B30,ListeOperation,3,0)*D30,PRODUCT(I30,H30,D30))) | L30: =IF(I30*D30=0,"",60/M30) -> #VALUE! | M30: =IF(J30="","",J30*60)/IF(UPPER(LEFT(B30,3))="PEI",120,1) -> #VALUE! | O30: =IF(ISERROR(SEARCH("laser",B30)),0,1)+IF(ISERROR(SEARCH("t500",B30)),0,1)+O29 -> 0 | R30: Contours decoupés en mm | T30: =(R3+S3)*2 -> 600 | U30: =(T30/U26)/60 -> 0.0011560694 | W30: =(T30/W26)/60 -> #VALUE! | Y30: =(T30/Y26)/60 -> 0.0026315789
C31: =IF(B31="","",VLOOKUP(B31,ListeOperation,5,FALSE)) | D31: =IF(B31<>"",1,"") | E31: =IF(OR(B31="",LEFT(B31,1)="_"),"", VLOOKUP(B31,ListeOperation,2,FALSE)) | F31: =IF(OR(B31="",LEFT(B31,1)="_"),"",VLOOKUP(B31,ListeOperation,4,FALSE)) | G31: =IF(B31="","",IF(LEFT(B31,1)="_",VLOOKUP(B31,ListeOperation,2,0),IF(F31="",0,PRODUCT(F31,E31)))) | H31: =IF(OR(B31="",LEFT(B31,1)="_"),"",VLOOKUP(B31,ListeOperation,3,FALSE)) | I31: =IF(B31="","",VLOOKUP(B31,ListeOperation,7,FALSE)) | J31: =IF(OR(B31="",LEFT(B31,1)="_"),"",PRODUCT(D31,I31)) | K31: =IF(OR(D31="",D31=0,B31=""),"",IF(LEFT(B31,1)="_",VLOOKUP(B31,ListeOperation,3,0)*D31,PRODUCT(I31,H31,D31))) | L31: =IF(I31*D31=0,"",60/M31) -> #VALUE! | M31: =IF(J31="","",J31*60)/IF(UPPER(LEFT(B31,3))="PEI",120,1) -> #VALUE! | O31: =IF(ISERROR(SEARCH("laser",B31)),0,1)+IF(ISERROR(SEARCH("t500",B31)),0,1)+O30 -> 0 | R31: nbre diam < 10 | T31: 0 | U31: =((T31*40)/U27)/60 -> 0 | W31: =((T31*40)/W27)/60 -> #VALUE! | Y31: =((T31*40)/Y27)/60 -> 0
C32: =IF(B32="","",VLOOKUP(B32,ListeOperation,5,FALSE)) | D32: =IF(B32<>"",1,"") | E32: =IF(OR(B32="",LEFT(B32,1)="_"),"", VLOOKUP(B32,ListeOperation,2,FALSE)) | F32: =IF(OR(B32="",LEFT(B32,1)="_"),"",VLOOKUP(B32,ListeOperation,4,FALSE)) | G32: =IF(B32="","",IF(LEFT(B32,1)="_",VLOOKUP(B32,ListeOperation,2,0),IF(F32="",0,PRODUCT(F32,E32)))) | H32: =IF(OR(B32="",LEFT(B32,1)="_"),"",VLOOKUP(B32,ListeOperation,3,FALSE)) | I32: =IF(B32="","",VLOOKUP(B32,ListeOperation,7,FALSE)) | J32: =IF(OR(B32="",LEFT(B32,1)="_"),"",PRODUCT(D32,I32)) | K32: =IF(OR(D32="",D32=0,B32=""),"",IF(LEFT(B32,1)="_",VLOOKUP(B32,ListeOperation,3,0)*D32,PRODUCT(I32,H32,D32))) | L32: =IF(I32*D32=0,"",60/M32) -> #VALUE! | M32: =IF(J32="","",J32*60)/IF(UPPER(LEFT(B32,3))="PEI",120,1) -> #VALUE! | O32: =IF(ISERROR(SEARCH("laser",B32)),0,1)+IF(ISERROR(SEARCH("t500",B32)),0,1)+O31 -> 0 | R32: Nbre d'amorçages | T32: =T31+1 -> 1 | U32: =V32*T27*T32 -> 0.00027 | V32: 0.00027 | W32: =X32*T27*T32 -> 0.00027 | X32: 0.00027 | Y32: =Z32*T27*T32 -> 0.00027 | Z32: 0.00027
C33: =IF(B33="","",VLOOKUP(B33,ListeOperation,5,FALSE)) | D33: =IF(B33<>"",1,"") | E33: =IF(OR(B33="",LEFT(B33,1)="_"),"", VLOOKUP(B33,ListeOperation,2,FALSE)) | F33: =IF(OR(B33="",LEFT(B33,1)="_"),"",VLOOKUP(B33,ListeOperation,4,FALSE)) | G33: =IF(B33="","",IF(LEFT(B33,1)="_",VLOOKUP(B33,ListeOperation,2,0),IF(F33="",0,PRODUCT(F33,E33)))) | H33: =IF(OR(B33="",LEFT(B33,1)="_"),"",VLOOKUP(B33,ListeOperation,3,FALSE)) | I33: =IF(B33="","",VLOOKUP(B33,ListeOperation,7,FALSE)) | J33: =IF(OR(B33="",LEFT(B33,1)="_"),"",PRODUCT(D33,I33)) | K33: =IF(OR(D33="",D33=0,B33=""),"",IF(LEFT(B33,1)="_",VLOOKUP(B33,ListeOperation,3,0)*D33,PRODUCT(I33,H33,D33))) | L33: =IF(I33*D33=0,"",60/M33) -> #VALUE! | M33: =IF(J33="","",J33*60)/IF(UPPER(LEFT(B33,3))="PEI",120,1) -> #VALUE! | O33: =IF(ISERROR(SEARCH("laser",B33)),0,1)+IF(ISERROR(SEARCH("t500",B33)),0,1)+O32 -> 0 | R33: Nbre de trappe | T33: 0 | U33: 0 | W33: =X33*T33 -> 0 | X33: 0.0028 | Y33: =Z33*T33 -> 0 | Z33: 0.0028
C34: =IF(B34="","",VLOOKUP(B34,ListeOperation,5,FALSE)) | D34: =IF(B34<>"",1,"") | E34: =IF(OR(B34="",LEFT(B34,1)="_"),"", VLOOKUP(B34,ListeOperation,2,FALSE)) | F34: =IF(OR(B34="",LEFT(B34,1)="_"),"",VLOOKUP(B34,ListeOperation,4,FALSE)) | G34: =IF(B34="","",IF(LEFT(B34,1)="_",VLOOKUP(B34,ListeOperation,2,0),IF(F34="",0,PRODUCT(F34,E34)))) | H34: =IF(OR(B34="",LEFT(B34,1)="_"),"",VLOOKUP(B34,ListeOperation,3,FALSE)) | I34: =IF(B34="","",VLOOKUP(B34,ListeOperation,7,FALSE)) | J34: =IF(OR(B34="",LEFT(B34,1)="_"),"",PRODUCT(D34,I34)) | K34: =IF(OR(D34="",D34=0,B34=""),"",IF(LEFT(B34,1)="_",VLOOKUP(B34,ListeOperation,3,0)*D34,PRODUCT(I34,H34,D34))) | L34: =IF(I34*D34=0,"",60/M34) -> #VALUE! | M34: =IF(J34="","",J34*60)/IF(UPPER(LEFT(B34,3))="PEI",120,1) -> #VALUE! | O34: =IF(ISERROR(SEARCH("laser",B34)),0,1)+IF(ISERROR(SEARCH("t500",B34)),0,1)+O33 -> 0 | R34: Nbrs d' evac manuelle | T34: 0 | U34: =V34*T34 -> 0 | V34: =Z34 -> 0.0041 | W34: =X34*T34 -> 0 | X34: 0.0041 | Y34: =Z34*T34 -> 0 | Z34: 0.0041
C35: =IF(B35="","",VLOOKUP(B35,ListeOperation,5,FALSE)) | D35: =IF(B35<>"",1,"") | E35: =IF(OR(B35="",LEFT(B35,1)="_"),"", VLOOKUP(B35,ListeOperation,2,FALSE)) | F35: =IF(OR(B35="",LEFT(B35,1)="_"),"",VLOOKUP(B35,ListeOperation,4,FALSE)) | G35: =IF(B35="","",IF(LEFT(B35,1)="_",VLOOKUP(B35,ListeOperation,2,0),IF(F35="",0,PRODUCT(F35,E35)))) | H35: =IF(OR(B35="",LEFT(B35,1)="_"),"",VLOOKUP(B35,ListeOperation,3,FALSE)) | I35: =IF(B35="","",VLOOKUP(B35,ListeOperation,7,FALSE)) | J35: =IF(OR(B35="",LEFT(B35,1)="_"),"",PRODUCT(D35,I35)) | K35: =IF(OR(D35="",D35=0,B35=""),"",IF(LEFT(B35,1)="_",VLOOKUP(B35,ListeOperation,3,0)*D35,PRODUCT(I35,H35,D35))) | L35: =IF(I35*D35=0,"",60/M35) -> #VALUE! | M35: =IF(J35="","",J35*60)/IF(UPPER(LEFT(B35,3))="PEI",120,1) -> #VALUE! | O35: =IF(ISERROR(SEARCH("laser",B35)),0,1)+IF(ISERROR(SEARCH("t500",B35)),0,1)+O34 -> 0 | R35: Vapo | T35: 0 | U35: =((T30+T31*10)/8000)/60*IF(T35,1,0) -> 0 | W35: =((T30+T31*10)/3700)/60*IF(T35,1,0) -> 0 | Y35: =((T30+T31*10)/3700)/60*IF(T35,1,0) -> 0
C36: =IF(B36="","",VLOOKUP(B36,ListeOperation,5,FALSE)) | D36: =IF(B36<>"",1,"") | E36: =IF(OR(B36="",LEFT(B36,1)="_"),"", VLOOKUP(B36,ListeOperation,2,FALSE)) | F36: =IF(OR(B36="",LEFT(B36,1)="_"),"",VLOOKUP(B36,ListeOperation,4,FALSE)) | G36: =IF(B36="","",IF(LEFT(B36,1)="_",VLOOKUP(B36,ListeOperation,2,0),IF(F36="",0,PRODUCT(F36,E36)))) | H36: =IF(OR(B36="",LEFT(B36,1)="_"),"",VLOOKUP(B36,ListeOperation,3,FALSE)) | I36: =IF(B36="","",VLOOKUP(B36,ListeOperation,7,FALSE)) | J36: =IF(OR(B36="",LEFT(B36,1)="_"),"",PRODUCT(D36,I36)) | K36: =IF(OR(D36="",D36=0,B36=""),"",IF(LEFT(B36,1)="_",VLOOKUP(B36,ListeOperation,3,0)*D36,PRODUCT(I36,H36,D36))) | L36: =IF(I36*D36=0,"",60/M36) -> #VALUE! | M36: =IF(J36="","",J36*60)/IF(UPPER(LEFT(B36,3))="PEI",120,1) -> #VALUE! | O36: =IF(ISERROR(SEARCH("laser",B36)),0,1)+IF(ISERROR(SEARCH("t500",B36)),0,1)+O35 -> 0 | P36: =Q26 -> LASER | T36: a reporter | U36: =SUM(U30:U35)*1.3 -> 0.0018538902 | W36: =SUM(W30:W35)*1.2 -> #VALUE! | Y36: =SUM(Y30:Y35)*1.2 -> 0.0034818947
C37: =IF(B37="","",VLOOKUP(B37,ListeOperation,5,FALSE)) | D37: =IF(B37<>"",1,"") | E37: =IF(OR(B37="",LEFT(B37,1)="_"),"", VLOOKUP(B37,ListeOperation,2,FALSE)) | F37: =IF(OR(B37="",LEFT(B37,1)="_"),"",VLOOKUP(B37,ListeOperation,4,FALSE)) | G37: =IF(B37="","",IF(LEFT(B37,1)="_",VLOOKUP(B37,ListeOperation,2,0),IF(F37="",0,PRODUCT(F37,E37)))) | H37: =IF(OR(B37="",LEFT(B37,1)="_"),"",VLOOKUP(B37,ListeOperation,3,FALSE)) | I37: =IF(B37="","",VLOOKUP(B37,ListeOperation,7,FALSE)) | J37: =IF(OR(B37="",LEFT(B37,1)="_"),"",PRODUCT(D37,I37)) | K37: =IF(OR(D37="",D37=0,B37=""),"",IF(LEFT(B37,1)="_",VLOOKUP(B37,ListeOperation,3,0)*D37,PRODUCT(I37,H37,D37))) | L37: =IF(I37*D37=0,"",60/M37) -> #VALUE! | M37: =IF(J37="","",J37*60)/IF(UPPER(LEFT(B37,3))="PEI",120,1) -> #VALUE! | O37: =IF(ISERROR(SEARCH("laser",B37)),0,1)+IF(ISERROR(SEARCH("t500",B37)),0,1)+O36 -> 0
C38: =IF(B38="","",VLOOKUP(B38,ListeOperation,5,FALSE)) | D38: =IF(B38<>"",1,"") | E38: =IF(OR(B38="",LEFT(B38,1)="_"),"", VLOOKUP(B38,ListeOperation,2,FALSE)) | F38: =IF(OR(B38="",LEFT(B38,1)="_"),"",VLOOKUP(B38,ListeOperation,4,FALSE)) | G38: =IF(B38="","",IF(LEFT(B38,1)="_",VLOOKUP(B38,ListeOperation,2,0),IF(F38="",0,PRODUCT(F38,E38)))) | H38: =IF(OR(B38="",LEFT(B38,1)="_"),"",VLOOKUP(B38,ListeOperation,3,FALSE)) | I38: =IF(B38="","",VLOOKUP(B38,ListeOperation,7,FALSE)) | J38: =IF(OR(B38="",LEFT(B38,1)="_"),"",PRODUCT(D38,I38)) | K38: =IF(OR(D38="",D38=0,B38=""),"",IF(LEFT(B38,1)="_",VLOOKUP(B38,ListeOperation,3,0)*D38,PRODUCT(I38,H38,D38))) | L38: =IF(I38*D38=0,"",60/M38) -> #VALUE! | M38: =IF(J38="","",J38*60)/IF(UPPER(LEFT(B38,3))="PEI",120,1) -> #VALUE! | O38: =IF(ISERROR(SEARCH("laser",B38)),0,1)+IF(ISERROR(SEARCH("t500",B38)),0,1)+O37 -> 0 | Q38: Poinconnage
C39: =IF(B39="","",VLOOKUP(B39,ListeOperation,5,FALSE)) | D39: =IF(B39<>"",1,"") | E39: =IF(OR(B39="",LEFT(B39,1)="_"),"", VLOOKUP(B39,ListeOperation,2,FALSE)) | F39: =IF(OR(B39="",LEFT(B39,1)="_"),"",VLOOKUP(B39,ListeOperation,4,FALSE)) | G39: =IF(B39="","",IF(LEFT(B39,1)="_",VLOOKUP(B39,ListeOperation,2,0),IF(F39="",0,PRODUCT(F39,E39)))) | H39: =IF(OR(B39="",LEFT(B39,1)="_"),"",VLOOKUP(B39,ListeOperation,3,FALSE)) | I39: =IF(B39="","",VLOOKUP(B39,ListeOperation,7,FALSE)) | J39: =IF(OR(B39="",LEFT(B39,1)="_"),"",PRODUCT(D39,I39)) | K39: =IF(OR(D39="",D39=0,B39=""),"",IF(LEFT(B39,1)="_",VLOOKUP(B39,ListeOperation,3,0)*D39,PRODUCT(I39,H39,D39))) | L39: =IF(I39*D39=0,"",60/M39) -> #VALUE! | M39: =IF(J39="","",J39*60)/IF(UPPER(LEFT(B39,3))="PEI",120,1) -> #VALUE! | O39: =IF(ISERROR(SEARCH("laser",B39)),0,1)+IF(ISERROR(SEARCH("t500",B39)),0,1)+O38 -> 0 | Q39: Nbre d'outils-changements | S39: =#N/A -> #N/A | T39: 5 | U39: =(T39/T40)*V39 -> 0.015 | V39: 0.003
C40: =IF(B40="","",VLOOKUP(B40,ListeOperation,5,FALSE)) | D40: =IF(B40<>"",1,"") | E40: =IF(OR(B40="",LEFT(B40,1)="_"),"", VLOOKUP(B40,ListeOperation,2,FALSE)) | F40: =IF(OR(B40="",LEFT(B40,1)="_"),"",VLOOKUP(B40,ListeOperation,4,FALSE)) | G40: =IF(B40="","",IF(LEFT(B40,1)="_",VLOOKUP(B40,ListeOperation,2,0),IF(F40="",0,PRODUCT(F40,E40)))) | H40: =IF(OR(B40="",LEFT(B40,1)="_"),"",VLOOKUP(B40,ListeOperation,3,FALSE)) | I40: =IF(B40="","",VLOOKUP(B40,ListeOperation,7,FALSE)) | J40: =IF(OR(B40="",LEFT(B40,1)="_"),"",PRODUCT(D40,I40)) | K40: =IF(OR(D40="",D40=0,B40=""),"",IF(LEFT(B40,1)="_",VLOOKUP(B40,ListeOperation,3,0)*D40,PRODUCT(I40,H40,D40))) | L40: =IF(I40*D40=0,"",60/M40) -> #VALUE! | M40: =IF(J40="","",J40*60)/IF(UPPER(LEFT(B40,3))="PEI",120,1) -> #VALUE! | O40: =IF(ISERROR(SEARCH("laser",B40)),0,1)+IF(ISERROR(SEARCH("t500",B40)),0,1)+O39 -> 0 | Q40: Nbre de pieces sur la tole | T40: 1
C41: =IF(B41="","",VLOOKUP(B41,ListeOperation,5,FALSE)) | D41: =IF(B41<>"",1,"") | E41: =IF(OR(B41="",LEFT(B41,1)="_"),"", VLOOKUP(B41,ListeOperation,2,FALSE)) | F41: =IF(OR(B41="",LEFT(B41,1)="_"),"",VLOOKUP(B41,ListeOperation,4,FALSE)) | G41: =IF(B41="","",IF(LEFT(B41,1)="_",VLOOKUP(B41,ListeOperation,2,0),IF(F41="",0,PRODUCT(F41,E41)))) | H41: =IF(OR(B41="",LEFT(B41,1)="_"),"",VLOOKUP(B41,ListeOperation,3,FALSE)) | I41: =IF(B41="","",VLOOKUP(B41,ListeOperation,7,FALSE)) | J41: =IF(OR(B41="",LEFT(B41,1)="_"),"",PRODUCT(D41,I41)) | K41: =IF(OR(D41="",D41=0,B41=""),"",IF(LEFT(B41,1)="_",VLOOKUP(B41,ListeOperation,3,0)*D41,PRODUCT(I41,H41,D41))) | L41: =IF(I41*D41=0,"",60/M41) -> #VALUE! | M41: =IF(J41="","",J41*60)/IF(UPPER(LEFT(B41,3))="PEI",120,1) -> #VALUE! | O41: =IF(ISERROR(SEARCH("laser",B41)),0,1)+IF(ISERROR(SEARCH("t500",B41)),0,1)+O40 -> 0 | Q41: Nbre de coups de poincons | T41: =(R3*2+S3*2)/50+50 -> 62 | U41: =T41*V41 -> 0.00868 | V41: 0.00014
C42: =IF(B42="","",VLOOKUP(B42,ListeOperation,5,FALSE)) | D42: =IF(B42<>"",1,"") | E42: =IF(OR(B42="",LEFT(B42,1)="_"),"", VLOOKUP(B42,ListeOperation,2,FALSE)) | F42: =IF(OR(B42="",LEFT(B42,1)="_"),"",VLOOKUP(B42,ListeOperation,4,FALSE)) | G42: =IF(B42="","",IF(LEFT(B42,1)="_",VLOOKUP(B42,ListeOperation,2,0),IF(F42="",0,PRODUCT(F42,E42)))) | H42: =IF(OR(B42="",LEFT(B42,1)="_"),"",VLOOKUP(B42,ListeOperation,3,FALSE)) | I42: =IF(B42="","",VLOOKUP(B42,ListeOperation,7,FALSE)) | J42: =IF(OR(B42="",LEFT(B42,1)="_"),"",PRODUCT(D42,I42)) | K42: =IF(OR(D42="",D42=0,B42=""),"",IF(LEFT(B42,1)="_",VLOOKUP(B42,ListeOperation,3,0)*D42,PRODUCT(I42,H42,D42))) | L42: =IF(I42*D42=0,"",60/M42) -> #VALUE! | M42: =IF(J42="","",J42*60)/IF(UPPER(LEFT(B42,3))="PEI",120,1) -> #VALUE! | O42: =IF(ISERROR(SEARCH("laser",B42)),0,1)+IF(ISERROR(SEARCH("t500",B42)),0,1)+O41 -> 0 | Q42: Nbre de taraud-embout | T42: 0 | U42: =T42*V42 -> 0 | V42: 0.0008
C43: =IF(B43="","",VLOOKUP(B43,ListeOperation,5,FALSE)) | D43: =IF(B43<>"",1,"") | E43: =IF(OR(B43="",LEFT(B43,1)="_"),"", VLOOKUP(B43,ListeOperation,2,FALSE)) | F43: =IF(OR(B43="",LEFT(B43,1)="_"),"",VLOOKUP(B43,ListeOperation,4,FALSE)) | G43: =IF(B43="","",IF(LEFT(B43,1)="_",VLOOKUP(B43,ListeOperation,2,0),IF(F43="",0,PRODUCT(F43,E43)))) | H43: =IF(OR(B43="",LEFT(B43,1)="_"),"",VLOOKUP(B43,ListeOperation,3,FALSE)) | I43: =IF(B43="","",VLOOKUP(B43,ListeOperation,7,FALSE)) | J43: =IF(OR(B43="",LEFT(B43,1)="_"),"",PRODUCT(D43,I43)) | K43: =IF(OR(D43="",D43=0,B43=""),"",IF(LEFT(B43,1)="_",VLOOKUP(B43,ListeOperation,3,0)*D43,PRODUCT(I43,H43,D43))) | L43: =IF(I43*D43=0,"",60/M43) -> #VALUE! | M43: =IF(J43="","",J43*60)/IF(UPPER(LEFT(B43,3))="PEI",120,1) -> #VALUE! | O43: =IF(ISERROR(SEARCH("laser",B43)),0,1)+IF(ISERROR(SEARCH("t500",B43)),0,1)+O42 -> 0 | Q43: Nbr d'evacuations trappes | T43: 0 | U43: =T43*V43 -> 0 | V43: 0.0008
C44: =IF(B44="","",VLOOKUP(B44,ListeOperation,5,FALSE)) | D44: =IF(B44<>"",1,"") | E44: =IF(OR(B44="",LEFT(B44,1)="_"),"", VLOOKUP(B44,ListeOperation,2,FALSE)) | F44: =IF(OR(B44="",LEFT(B44,1)="_"),"",VLOOKUP(B44,ListeOperation,4,FALSE)) | G44: =IF(B44="","",IF(LEFT(B44,1)="_",VLOOKUP(B44,ListeOperation,2,0),IF(F44="",0,PRODUCT(F44,E44)))) | H44: =IF(OR(B44="",LEFT(B44,1)="_"),"",VLOOKUP(B44,ListeOperation,3,FALSE)) | I44: =IF(B44="","",VLOOKUP(B44,ListeOperation,7,FALSE)) | J44: =IF(OR(B44="",LEFT(B44,1)="_"),"",PRODUCT(D44,I44)) | K44: =IF(OR(D44="",D44=0,B44=""),"",IF(LEFT(B44,1)="_",VLOOKUP(B44,ListeOperation,3,0)*D44,PRODUCT(I44,H44,D44))) | L44: =IF(I44*D44=0,"",60/M44) -> #VALUE! | M44: =IF(J44="","",J44*60)/IF(UPPER(LEFT(B44,3))="PEI",120,1) -> #VALUE! | O44: =IF(ISERROR(SEARCH("laser",B44)),0,1)+IF(ISERROR(SEARCH("t500",B44)),0,1)+O43 -> 0 | Q44: Nbre d'evac Trumalift-manuel/piece | T44: 1 | U44: =T44*V44 -> 0.005 | V44: 0.005
F45: =SUM(F24:F44) -> 0 | G45: =SUM(G24:G44) -> 0 | J45: =SUM(J24:J44) -> 0 | K45: =SUM(K24:K44) -> 0 | M45: =IF(J45="","",J45*60)*IF(LEFT(B45,3)="pei",0.5,1) -> 0 | Q45: Chargement tole | T45: 1 | U45: =V45*(T45/T40) -> 0.007 | V45: 0.007
B46: Études-Méthodes | C46: 0.08 | D46: =PRODUCT(C46,60) -> 4.8 | E46: FAD | F46: 5 | H46: OUTILLAGE | P46: =Q38 -> Poinconnage | R46: TEMPS PREP | S46: =SUM(0.2,PRODUCT(0.08,T39)) -> 0.6 | T46: a reporter | U46: =SUM(U39:U45)*1.3 -> 0.046384 | V46: =PRODUCT(U46,3600) -> 166.9824
B47: Trt de surface | C47: Trt de Surface | D47: Trt de Surface | E47: Usinage | F47: Parts Achat Trait/Usi | G47: Part Achats Total | H47: Hrs fab | I47: Total par série | J47: P U Brut | K47: Qté | L47: Coef | M47: PU VENTE | N47: MR +
F48: =IF(AND(K48>0,J48<>0),(B48+C48+D48+E48)/J48,"") -> #VALUE! | G48: =IF(AND(K48>0,J48<>0),(($I$22*(1-$L$22))+B48+C48+D48+E48)/J48,"") -> #VALUE! | H48: =IF(K48>0,PRODUCT($J$45,K48)+$F$45/K48,"") -> 0 | I48: =IF(K48>0,M48*K48,"") -> #VALUE! | J48: =IF(K48>0,SUM(C67,((B48+C48+D48+E48)*1.25),$K$45,$I$22),"") -> #VALUE! | K48: 1 | L48: 40 | M48: =IF(K48>0,(J48*L48%)+J48,"") -> #VALUE! | O48: =IF(N12=0,"",M48/N12) | P48: =CHAR(64+INT(ROW()/45)+1) -> B | R48: Longueur (mm) | S48: Largeur (mm) | T48: Ep mm | U48: Matière | W48: Poids | X48: M2 | AA48: 1
F49: =IF(AND(K49>0,J49<>0),(B49+C49+D49+E49)/J49,"") -> #VALUE! | G49: =IF(AND(K49>0,J49<>0),(($I$22*(1-$L$22))+B49+C49+D49+E49)/J49,"") -> #VALUE! | H49: =IF(K49>0,PRODUCT($J$45,K49)+$F$45/K49,"") -> 0 | I49: =IF(K49>0,M49*K49,"") -> #VALUE! | J49: =IF(K49>0,SUM(C68,((B49+C49+D49+E49)*1.25),$K$45,$I$22),"") -> #VALUE! | K49: 5 | L49: 35 | M49: =IF(K49>0,(J49*L49%)+J49,"") -> #VALUE! | O49: =IF(N12=0,"",M49/N12) | R49: 200 | S49: 100 | T49: 1 | U49: acier | V49: =VLOOKUP(U49,DensiteMatiere,2,0) -> 7.8 | W49: =(R49*S49*T49*V49)/1000000 -> 0.156 | X49: =R49*S49*2/1000000 -> 0.04
F50: =IF(AND(K50>0,J50<>0),(B50+C50+D50+E50)/J50,"") -> #VALUE! | G50: =IF(AND(K50>0,J50<>0),(($I$22*(1-$L$22))+B50+C50+D50+E50)/J50,"") -> #VALUE! | H50: =IF(K50>0,PRODUCT($J$45,K50)+$F$45/K50,"") -> 0 | I50: =IF(K50>0,M50*K50,"") -> #VALUE! | J50: =IF(K50>0,SUM(C69,((B50+C50+D50+E50)*1.25),$K$45,$I$22),"") -> #VALUE! | K50: 10 | L50: 30 | M50: =IF(K50>0,(J50*L50%)+J50,"") -> #VALUE! | O50: =IF(N12=0,"",M50/N12)
F51: =IF(AND(K51>0,J51<>0),(B51+C51+D51+E51)/J51,"") -> #VALUE! | G51: =IF(AND(K51>0,J51<>0),(($I$22*(1-$L$22))+B51+C51+D51+E51)/J51,"") -> #VALUE! | H51: =IF(K51>0,PRODUCT($J$45,K51)+$F$45/K51,"") -> 0 | I51: =IF(K51>0,M51*K51,"") -> #VALUE! | J51: =IF(K51>0,SUM(C70,((B51+C51+D51+E51)*1.25),$K$45,$I$22),"") -> #VALUE! | K51: 20 | L51: 20 | M51: =IF(K51>0,(J51*L51%)+J51,"") -> #VALUE! | O51: =IF(N12=0,"",M51/N12) | R51: Squelette X Y | U51: Pinces
F52: =IF(AND(K52>0,J52<>0),(B52+C52+D52+E52)/J52,"") -> #VALUE! | G52: =IF(AND(K52>0,J52<>0),(($I$22*(1-$L$22))+B52+C52+D52+E52)/J52,"") -> #VALUE! | H52: =IF(K52>0,PRODUCT($J$45,K52)+$F$45/K52,"") -> 0 | I52: =IF(K52>0,M52*K52,"") -> #VALUE! | J52: =IF(K52>0,SUM(C71,((B52+C52+D52+E52)*1.25),$K$45,$I$22),"") -> #VALUE! | K52: 50 | L52: 20 | M52: =IF(K52>0,(J52*L52%)+J52,"") -> #VALUE! | O52: =IF(N12=0,"",M52/N12) | R52: 10 | S52: 10 | U52: 0
F53: =IF(AND(K53>0,J53<>0),(B53+C53+D53+E53)/J53,"") -> #VALUE! | G53: =IF(AND(K53>0,J53<>0),(($I$22*(1-$L$22))+B53+C53+D53+E53)/J53,"") -> #VALUE! | H53: =IF(K53>0,PRODUCT($J$45,K53)+$F$45/K53,"") -> 0 | I53: =IF(K53>0,M53*K53,"") -> #VALUE! | J53: =IF(K53>0,SUM(C72,((B53+C53+D53+E53)*1.25),$K$45,$I$22),"") -> #VALUE! | K53: 100 | L53: 20 | M53: =IF(K53>0,(J53*L53%)+J53,"") -> #VALUE! | O53: =IF(N12=0,"",M53/N12)
A54: INFORMATIONS CLIENT | Q54: TOLE | W54: FORMAT IDEAL | Z54: Poids Tole Kg
B55: , selon plan En Ep mm, finition : Dimension : xx mm | P55: =MIN(U56,U57,U59,U60,U62,U63,U65,U66,U68,U69) -> #NAME? | Q55: Dispo | R55: Longueur (mm) | S55: Largeur | T55: Qté/Tôle | U55: Poids/Piece | V55: % Chute | W55: longueur | X55: Largeur | Y55: Poids
M56: Difficulté : | N56: Facile | P56: =IF(U56=$P55,$AF$2,"") -> #NAME? | R56: 4000 | S56: 2000 | T56: =IF(Q56="","",(INT((R56/($R49+$R52)))*INT(((S56-$U52)/($S49+$S52))))) | U56: =IF(OR(T56=0,T56=""),"",CALCULPOIDS(R56,S56,T49,V49)/T56) | V56: =IF(Q56="","",(($R56*$S56)-(R49*S49*$T56))/($R56*$S56)) | W56: =CALCUL_FORMATIDEAL(R56,0,R49,R52) -> #NAME? | X56: =CALCUL_FORMATIDEAL(S56,U52,S49,S52) -> #NAME? | Y56: =CALCULPOIDS(W56,X56,T49,V49) -> #NAME? | Z56: =CALCULPOIDS(R56,S56,T49,V49) -> #NAME?
M57: Délai | N57: A convenir | P57: =IF(U57=$P55,$AF$2,"") -> #NAME? | R57: 2000 | S57: 4000 | T57: =IF(Q57="","",(INT((R57/($R49+$R52)))*INT(((S57-$U52)/($S49+$S52))))) | U57: =IF(OR(T57=0,T57=""),"",CALCULPOIDS(R57,S57,T49,V49)/T57) | V57: =IF(Q57="","",(($R57*$S57)-(R49*S49*$T57))/($R57*$S57)) | W57: =CALCUL_FORMATIDEAL(R57,0,R49,R52) -> #NAME? | X57: =CALCUL_FORMATIDEAL(S57,U52,S49,S52) -> #NAME? | Y57: =CALCULPOIDS(W57,X57,T49,V49) -> #NAME? | Z57: =CALCULPOIDS(R57,S57,T49,V49) -> #NAME?
M58: Trait | N58: Brute | T58: =IF(UPPER(Q58)="X",(INT((R58/($R$8+$R$11)))*INT(((S58-$U$11)/($S$8+$S$11)))),"") | U58: =IF(OR(T58=0,T58=""),"",CALCULPOIDS(R58,S58,$T$3,V51)/T58)
P59: =IF(U59=$P55,$AF$2,"") -> #NAME? | Q59: x | R59: 3000 | S59: 1500 | T59: =IF(Q59="","",(INT((R59/($R49:R49+$R52)))*INT(((S59-$U52)/($S49+$S52))))) -> 182 | U59: =IF(OR(T59=0,T59=""),"",CALCULPOIDS(R59,S59,T49,V49)/T59) -> #NAME? | V59: =IF(Q59="","",(($R59:R59*$S59)-(R49*S49*$T59))/($R59*$S59)) -> 0.19111111 | W59: =CALCUL_FORMATIDEAL(R59,0,R49,R52) -> #NAME? | X59: =CALCUL_FORMATIDEAL(S59,U52,S49,S52) -> #NAME? | Y59: =CALCULPOIDS(W59,X59,T49,V49) -> #NAME? | Z59: =CALCULPOIDS(R59,S59,T49,V49) -> #NAME?
P60: =IF(U60=$P55,$AF$2,"") -> #NAME? | Q60: x | R60: 1500 | S60: 3000 | T60: =IF(Q60="","",(INT((R60/($R49+$R52)))*INT(((S60-$U52)/($S49+$S52))))) -> 189 | U60: =IF(OR(T60=0,T60=""),"",CALCULPOIDS(R60,S60,T49,V49)/T60) -> #NAME? | V60: =IF(Q60="","",(($R60*$S60)-(R49*S49*$T60))/($R60*$S60)) -> 0.16 | W60: =CALCUL_FORMATIDEAL(R60,0,R49,R52) -> #NAME? | X60: =CALCUL_FORMATIDEAL(S60,U52,S49,S52) -> #NAME? | Y60: =CALCULPOIDS(W60,X60,T49,V49) -> #NAME? | Z60: =CALCULPOIDS(R60,S60,T49,V49) -> #NAME?
T61: =IF(Q61="","",(INT((R61/($R50:R50+$R53:R53)))*INT(((S61-$U53:U53)/($S50:S50+$S53:S53))))) | U61: =IF(OR(T61=0,T61=""),"",CALCULPOIDS(R61,S61,$T$3,V54)/T61)
P62: =IF(U62=$P55,$AF$2,"") -> #NAME? | Q62: x | R62: 2500 | S62: 1250 | T62: =IF(Q62="","",(INT((R62/($R49+$R52)))*INT(((S62-$U52)/($S49+$S52))))) -> 121 | U62: =IF(OR(T62=0,T62=""),"",CALCULPOIDS(R62,S62,T49,V49)/T62) -> #NAME? | V62: =IF(Q62="","",(($R62*$S62)-(R49*S49*$T62))/($R62*$S62)) -> 0.2256 | W62: =CALCUL_FORMATIDEAL(R62,0,R49,R52) -> #NAME? | X62: =CALCUL_FORMATIDEAL(S62,U52,S49,S52) -> #NAME? | Y62: =CALCULPOIDS(W62,X62,T49,V49) -> #NAME? | Z62: =CALCULPOIDS(R62,S62,T49,V49) -> #NAME?
N63: demande SC du 30/07/12 | P63: =IF(U63=$P55,$AF$2,"") -> #NAME? | Q63: x | R63: 1250 | S63: 2500 | T63: =IF(Q63="","",(INT((R63/($R49+$R52)))*INT(((S63-$U52)/($S49+$S52))))) -> 110 | U63: =IF(OR(T63=0,T63=""),"",CALCULPOIDS(R63,S63,T49,V49)/T63) -> #NAME? | V63: =IF(Q63="","",(($R63*$S63)-(R49*S49*$T63))/($R63*$S63)) -> 0.296 | W63: =CALCUL_FORMATIDEAL(R63,0,R49,R52) -> #NAME? | X63: =CALCUL_FORMATIDEAL(S63,U52,S49,S52) -> #NAME? | Y63: =CALCULPOIDS(W63,X63,T49,V49) -> #NAME? | Z63: =CALCULPOIDS(R63,S63,T49,V49) -> #NAME?
N64: 1 à 2 pièces : Coef 1.40 | T64: =IF(UPPER(Q64)="X",(INT((R64/($R$8+$R$11)))*INT(((S64-$U$11)/($S$8+$S$11)))),"") | U64: =IF(OR(T64=0,T64=""),"",CALCULPOIDS(R64,S64,$T$3,V55)/T64)
N65: 5 Pièces : Coef 1.35 | P65: =IF(U65=$P55,$AF$2,"") -> #NAME? | Q65: x | R65: 2000 | S65: 1000 | T65: =IF(Q65="","",(INT((R65/($R49+$R52)))*INT(((S65-$U52)/($S49+$S52))))) -> 81 | U65: =IF(OR(T65=0,T65=""),"",CALCULPOIDS(R65,S65,T49,V49)/T65) -> #NAME? | V65: =IF(Q65="","",(($R65*$S65)-(R49*S49*$T65))/($R65*$S65)) -> 0.19 | W65: =CALCUL_FORMATIDEAL(R65,0,R49,R52) -> #NAME? | X65: =CALCUL_FORMATIDEAL(S65,U52,S49,S52) -> #NAME? | Y65: =CALCULPOIDS(W65,X65,T49,V49) -> #NAME? | Z65: =CALCULPOIDS(R65,S65,T49,V49) -> #NAME?
C66: CP avec BE et FAD | N66: 10p à 20p : Coef 1.30 | P66: =IF(U66=$P55,$AF$2,"") -> #NAME? | Q66: x | R66: 1000 | S66: 2000 | T66: =IF(Q66="","",(INT((R66/($R49+$R52)))*INT(((S66-$U52)/($S49+$S52))))) -> 72 | U66: =IF(OR(T66=0,T66=""),"",CALCULPOIDS(R66,S66,T49,V49)/T66) -> #NAME? | V66: =IF(Q66="","",(($R66*$S66)-(R49*S49*$T66))/($R66*$S66)) -> 0.28 | W66: =CALCUL_FORMATIDEAL(R66,0,R49,R52) -> #NAME? | X66: =CALCUL_FORMATIDEAL(S66,U52,S49,S52) -> #NAME? | Y66: =CALCULPOIDS(W66,X66,T49,V49) -> #NAME? | Z66: =CALCULPOIDS(R66,S66,T49,V49) -> #NAME?
C67: =IF(K48<>0,(SUM($G$45,$F$46,$D$46,$I$46)/K48),0) -> 9.8 | N67: Au dela 200p : Mini 1.20 | T67: =IF(UPPER(Q67)="X",(INT((R67/($R$8+$R$11)))*INT(((S67-$U$11)/($S$8+$S$11)))),"") | U67: =IF(OR(T67=0,T67=""),"",CALCULPOIDS(R67,S67,$T$3,V58)/T67)
C68: =IF(K49<>0,(SUM($G$45,$F$46,$D$46,$I$46)/K49),0) -> 1.96 | P68: =IF(U68=$P55,$AF$2,"") -> #NAME? | Q68: x | R68: 500 | S68: 200 | T68: =IF(Q68="","",(INT((R68/($R49+$R52)))*INT(((S68-$U52)/($S49+$S52))))) -> 2 | U68: =IF(OR(T68=0,T68=""),"",CALCULPOIDS(R68,S68,T49,V49)/T68) -> #NAME? | V68: =IF(Q68="","",(($R68*$S68)-(R49*S49*$T68))/($R68*$S68)) -> 0.6 | W68: =CALCUL_FORMATIDEAL(R68,0,R49,R52) -> #NAME? | X68: =CALCUL_FORMATIDEAL(S68,0,S49,S52) -> #NAME? | Y68: =CALCULPOIDS(W68,X68,T49,V49) -> #NAME? | Z68: =CALCULPOIDS(R68,S68,T49,V49) -> #NAME?
C69: =IF(K50<>0,(SUM($G$45,$F$46,$D$46,$I$46)/K50),0) -> 0.98 | P69: =IF(U69=$P55,$AF$2,"") -> #NAME? | Q69: x | R69: =S68 -> 200 | S69: =R68 -> 500 | T69: =IF(Q69="","",(INT((R69/($R49+$R52)))*INT(((S69-$U52)/($S49+$S52))))) -> 0 | U69: =IF(OR(T69=0,T69=""),"",CALCULPOIDS(R69,S69,T49,V49)/T69) | V69: =IF(Q69="","",(($R69*$S69)-(R49*S49*$T69))/($R69*$S69)) -> 1 | W69: =CALCUL_FORMATIDEAL(R69,U52,R49,R52) -> #NAME? | X69: =CALCUL_FORMATIDEAL(S69,0,S49,S52) -> #NAME? | Y69: =CALCULPOIDS(W69,X69,T49,V49) -> #NAME? | Z69: =CALCULPOIDS(R69,S69,T49,V49) -> #NAME?
C70: =IF(K51<>0,(SUM($G$45,$F$46,$D$46,$I$46)/K51),0) -> 0.49 | T70: =IF(UPPER(T74)="OXYGENE","O2","NA") -> O2 | U70: =CONCATENATE(LOWER(U71),"-",T75,"-",U49,"-",T73,"-",T70) -> bystronic3015-0-acier-1-O2 | W70: =CONCATENATE(LOWER(W71),"-",T75,"-",U49,"-",T73,"-",T70) -> bystronic4000-0-acier-1-O2 | Y70: =CONCATENATE(LOWER(Y71),"-",T75,"-",U49,"-",T73,"-",T70) -> amada-0-acier-1-O2 | Z70: =IF(UPPER(T74)="OXYGENE","O2","NA") -> O2
C71: =IF(K52<>0,(SUM($G$45,$F$46,$D$46,$I$46)/K52),0) -> 0.196 | U71: Bystronic3015 | V71: =#N/A -> #N/A | W71: Bystronic4000 | X71: 0 | Y71: Amada | Z71: 0
C72: =IF(K53<>0,(SUM($G$45,$F$46,$D$46,$I$46)/K53),0) -> 0.098 | Q72: LASER | U72: =IF(ISERROR(VLOOKUP(U70,TempsLaser,2,0)),"ERREUR",VLOOKUP(U70,TempsLaser,2,0)) -> 8650 | V72: vitesse | W72: =IF(ISERROR(VLOOKUP(W70,TempsLaser,2,0)),"ERREUR",VLOOKUP(W70,TempsLaser,2,0)) -> ERREUR | Y72: =IF(ISERROR(VLOOKUP(Y70,TempsLaser,2,0)),"ERREUR",VLOOKUP(Y70,TempsLaser,2,0)) -> 3800 | Z72: vitesse
R73: Épaisseur | T73: =IF(T49<1,1,IF(T49-INT(T49)=0,T49, IF(T49-INT(T49)<=0.5,0.5+INT(T49),1+INT(T49)))) -> 1 | U73: =IF(ISERROR(VLOOKUP(U70,TempsLaser,3,0)),"ERREUR",VLOOKUP(U70,TempsLaser,3,0)) -> 7100 | V73: vitesse d | W73: =IF(ISERROR(VLOOKUP(W70,TempsLaser,3,0)),"ERREUR",VLOOKUP(W70,TempsLaser,3,0)) -> ERREUR | Y73: =IF(ISERROR(VLOOKUP(Y70,TempsLaser,3,0)),"ERREUR",VLOOKUP(Y70,TempsLaser,3,0)) -> 1101 | Z73: vitesse d
R74: Gaz | T74: Oxygene
R75: High Speed | T75: 0
R76: Contours decoupés en mm | T76: =(R49+S49)*2 -> 600 | U76: =(T76/U72)/60 -> 0.0011560694 | W76: =(T76/W72)/60 -> #VALUE! | Y76: =(T76/Y72)/60 -> 0.0026315789
R77: nbre diam < 10 | T77: 0 | U77: =((T77*40)/U73)/60 -> 0 | W77: =((T77*40)/W73)/60 -> #VALUE! | Y77: =((T77*40)/Y73)/60 -> 0
R78: Nbre d'amorçages | T78: =T77+1 -> 1 | U78: =V78*T73*T78 -> 0.00027 | V78: 0.00027 | W78: =X78*T73*T78 -> 0.00027 | X78: 0.00027 | Y78: =Z78*T73*T78 -> 0.00027 | Z78: 0.00027
R79: Nbre de trappe | T79: 0 | U79: 0 | W79: =X79*T79 -> 0 | X79: 0.0028 | Y79: =Z79*T79 -> 0 | Z79: 0.0028
R80: Nbrs d' evac manuelle | T80: 0 | U80: =V80*T80 -> 0 | V80: =Z80 -> 0.0041 | W80: =X80*T80 -> 0 | X80: 0.0041 | Y80: =Z80*T80 -> 0 | Z80: 0.0041
R81: Vapo | T81: 0 | U81: =((T76+T77*10)/8000)/60*IF(T81,1,0) -> 0 | W81: =((T76+T77*10)/3700)/60*IF(T81,1,0) -> 0 | Y81: =((T76+T77*10)/3700)/60*IF(T81,1,0) -> 0
P82: =Q72 -> LASER | T82: a reporter | U82: =SUM(U76:U81)*1.3 -> 0.0018538902 | W82: =SUM(W76:W81)*1.2 -> #VALUE! | Y82: =SUM(Y76:Y81)*1.2 -> 0.0034818947
Q84: Poinconnage
Q85: Nbre d'outils-changements | S85: =#N/A -> #N/A | T85: 5 | U85: =(T85/T86)*V85 -> 0.015 | V85: 0.003
Q86: Nbre de pieces sur la tole | T86: 1
Q87: Nbre de coups de poincons | T87: =(R49*2+S49*2)/50+50 -> 62 | U87: =T87*V87 -> 0.00868 | V87: 0.00014
Q88: Nbre de taraud-embout | T88: 0 | U88: =T88*V88 -> 0 | V88: 0.0008
Q89: Nbr d'evacuations trappes | T89: 0 | U89: =T89*V89 -> 0 | V89: 0.0008
Q90: Nbre d'evac Trumalift-manuel/piece | T90: 1 | U90: =T90*V90 -> 0.005 | V90: 0.005
Q91: Chargement tole | T91: 1 | U91: =V91*(T91/T86) -> 0.007 | V91: 0.007
P92: =Q84 -> Poinconnage | R92: TEMPS PREP | S92: =SUM(0.2,PRODUCT(0.08,T85)) -> 0.6 | T92: a reporter | U92: =SUM(U85:U91)*1.3 -> 0.046384 | V92: =PRODUCT(U92,3600) -> 166.9824
P94: =CHAR(64+INT(ROW()/45)+1) -> C | R94: Longueur (mm) | S94: Largeur (mm) | T94: Ep mm | U94: Matière | W94: Poids | X94: M2 | AA94: 1
R95: 200 | S95: 100 | T95: 1 | U95: acier | V95: =VLOOKUP(U95,DensiteMatiere,2,0) -> 7.8 | W95: =(R95*S95*T95*V95)/1000000 -> 0.156 | X95: =R95*S95*2/1000000 -> 0.04
R97: Squelette X Y | U97: Pinces
R98: 10 | S98: 10 | U98: 0
Q100: TOLE | W100: FORMAT IDEAL | Z100: Poids Tole Kg
P101: =MIN(U102,U103,U105,U106,U108,U109,U111,U112,U114,U115) -> #NAME? | Q101: Dispo | R101: Longueur (mm) | S101: Largeur | T101: Qté/Tôle | U101: Poids/Piece | V101: % Chute | W101: longueur | X101: Largeur | Y101: Poids
P102: =IF(U102=$P101,$AF$2,"") -> #NAME? | R102: 4000 | S102: 2000 | T102: =IF(Q102="","",(INT((R102/($R95+$R98)))*INT(((S102-$U98)/($S95+$S98))))) | U102: =IF(OR(T102=0,T102=""),"",CALCULPOIDS(R102,S102,T95,V95)/T102) | V102: =IF(Q102="","",(($R102*$S102)-(R95*S95*$T102))/($R102*$S102)) | W102: =CALCUL_FORMATIDEAL(R102,0,R95,R98) -> #NAME? | X102: =CALCUL_FORMATIDEAL(S102,U98,S95,S98) -> #NAME? | Y102: =CALCULPOIDS(W102,X102,T95,V95) -> #NAME? | Z102: =CALCULPOIDS(R102,S102,T95,V95) -> #NAME?
P103: =IF(U103=$P101,$AF$2,"") -> #NAME? | R103: 2000 | S103: 4000 | T103: =IF(Q103="","",(INT((R103/($R95+$R98)))*INT(((S103-$U98)/($S95+$S98))))) | U103: =IF(OR(T103=0,T103=""),"",CALCULPOIDS(R103,S103,T95,V95)/T103) | V103: =IF(Q103="","",(($R103*$S103)-(R95*S95*$T103))/($R103*$S103)) | W103: =CALCUL_FORMATIDEAL(R103,0,R95,R98) -> #NAME? | X103: =CALCUL_FORMATIDEAL(S103,U98,S95,S98) -> #NAME? | Y103: =CALCULPOIDS(W103,X103,T95,V95) -> #NAME? | Z103: =CALCULPOIDS(R103,S103,T95,V95) -> #NAME?
T104: =IF(UPPER(Q104)="X",(INT((R104/($R$8+$R$11)))*INT(((S104-$U$11)/($S$8+$S$11)))),"") | U104: =IF(OR(T104=0,T104=""),"",CALCULPOIDS(R104,S104,$T$3,V97)/T104)
...

Sheet Matiere
E1: =COUNTA(DesignationMatiere) -> 38
D2: PRIX
A3: Matiere | B3: Densité | D3: Matière | E3: Désignation | F3: Prix/Kg | G3: Densité | H3: Remarques
A4: acier | B4: 7.8 | C4: Lm 12/13 | D4: acier | E4: S235JR | F4: 0.65 | G4: =VLOOKUP(D4,$A$4:$B$17,2,0) -> 7.8 | H4: S235JR
A5: inox | B5: 7.8 | C5: Lm 12/13 | D5: acier | E5: XC10>3 | F5: 0.65 | G5: =VLOOKUP(D5,$A$4:$B$17,2,0) -> 7.8 | I5: s235jr
A6: alu | B6: 2.8 | C6: Lm 12/13 | D6: acier | E6: XC10>10 | F6: 0.65 | G6: =VLOOKUP(D6,$A$4:$B$17,2,0) -> 7.8
A7: laiton | B7: 8.5 | C7: Lm 12/13 | D7: acier | E7: S355JR | F7: 0.75 | G7: 8
A8: cuivre | B8: 9 | C8: Lm 12/13 | D8: acier | E8: GALVA | F8: 0.75 | G8: =VLOOKUP(D8,$A$4:$B$17,2,0) -> 7.8
A9: bronze | B9: 9 | C9: Lm 12/13 | D9: acier | E9: EZ | F9: 0.75 | G9: =VLOOKUP(D9,$A$4:$B$17,2,0) -> 7.8
A10: plexi | B10: 1.2 | D10: acier | E10: AUZINC | F10: 1 | G10: =VLOOKUP(D10,$A$4:$B$17,2,0) -> 7.8
D11: acier | E11: XC75 | F11: 6 | G11: =VLOOKUP(D11,$A$4:$B$17,2,0) -> 7.8
D12: acier | E12: --------------
D13: acier | E13: MEPLAT | F13: 0.9 | G13: =VLOOKUP(D13,$A$4:$B$17,2,0) -> 7.8
D14: acier | E14: --------------
C15: Lm 12/13 | D15: inox | E15: 304L | F15: 3 | G15: =VLOOKUP(D15,$A$4:$B$17,2,0) -> 7.8
D16: inox | E16: 304P 1PVC | F16: 3 | G16: =VLOOKUP(D16,$A$4:$B$17,2,0) -> 7.8
D17: inox | E17: 430 | F17: 2.5 | G17: =VLOOKUP(D17,$A$4:$B$17,2,0) -> 7.8
D18: inox | E18: 304G220 | F18: 3.5 | G18: =VLOOKUP(D18,$A$4:$B$17,2,0) -> 7.8
D19: inox | E19: 304_5WL | F19: 8 | G19: =VLOOKUP(D19,$A$4:$B$17,2,0) -> 7.8
D20: inox | E20: 316L | F20: 4.4 | G20: =VLOOKUP(D20,$A$4:$B$17,2,0) -> 7.8 | H20: 41340
D21: inox | E21: 321 | F21: 4.1 | G21: =VLOOKUP(D21,$A$4:$B$17,2,0) -> 7.8
D22: inox | E22: 301 4_4 dur | F22: 8.1 | G22: =VLOOKUP(D22,$A$4:$B$17,2,0) -> 7.8
E23: --------------
C24: Lm 12/13 | D24: alu | E24: AG3_5754 | F24: 3.2 | G24: =VLOOKUP(D24,$A$4:$B$17,2,0) -> 2.8
D25: alu | E25: AG3P 1PVC | F25: 3.2 | G25: =VLOOKUP(D25,$A$4:$B$17,2,0) -> 2.8
D26: alu | E26: AG3D 1.5/2 | F26: 4.5 | G26: =VLOOKUP(D26,$A$4:$B$17,2,0) -> 2.8
D27: alu | E27: AG3D 2/3 | F27: 5.5 | G27: =VLOOKUP(D27,$A$4:$B$17,2,0) -> 2.8
D28: alu | E28: AG3D 4/5.5 | F28: 5.5 | G28: =VLOOKUP(D28,$A$4:$B$17,2,0) -> 2.8
D29: alu | E29: AG3_duetH | F29: 5.6 | G29: =VLOOKUP(D29,$A$4:$B$17,2,0) -> 2.8
D30: alu | E30: AG6 | F30: 5 | G30: =VLOOKUP(D30,$A$4:$B$17,2,0) -> 2.8
D31: alu | E31: ALU5083-86 | F31: 2.7 | G31: =VLOOKUP(D31,$A$4:$B$17,2,0) -> 2.8
D32: alu | E32: ALUNOX | F32: 10 | G32: =VLOOKUP(D32,$A$4:$B$17,2,0) -> 2.8
D33: alu | E33: Alu-nature | F33: 6.5 | G33: =VLOOKUP(D33,$A$4:$B$17,2,0) -> 2.8
E34: --------------
D35: laiton | E35: LAITON | F35: 17 | G35: =VLOOKUP(D35,$A$4:$B$17,2,0) -> 8.5
E36: --------------
D37: cuivre | E37: cuivre | F37: 20.2 | G37: =VLOOKUP(D37,$A$4:$B$17,2,0) -> 9
E38: -------------- | H38: 3050x2050
D39: Plexi | E39: Plexi-poly | F39: 5.2 | G39: 1.2 | H39: 03/11 transparent ou opaque 1f prot M1-2000x1000
D40: pvc | E40: pvc | F40: 5 | G40: 1.4
E41: =CONCATENATE("_",'349A6898P001'!C3) -> _Plan : | F41: ='349A6898P001'!H14 -> 0.086520141 | G41: 0 | H41: ='349A6898P001'!L14 -> 0.03176397 | I41: ='349A6898P001'!M14 -> 0.12387948

Sheet Composant
B1: Achats par quantité | C1: =COUNTA(DesignationAchatQte) -> 0 | G1: =COUNTA(DesignationComposant) -> 24 | H1: Composants
B2: Designation | C2: Prix | D2: Qte | H2: Désignation | I2: Prix/U
H3: Ecrou ACIER_M3-M6 | I3: 0.15
H4: Ecrou ACIER_M8-M10 | I4: 0.25
H5: Ecrou INOX_M3-M5 | I5: 0.2
H6: Ecrou INOX_M6-M8 | I6: 0.3
H7: Gouj ACIER_M3-M5 | I7: 0.1
H8: Gouj ACIER_M6-M10 | I8: 0.2
H9: Gouj INOX_M3-M5 | I9: 0.15
H10: Gouj INOX_M6-M8 | I10: 0.3
H11: SERFIN acier_M3-M5 | I11: 0.15
H12: SERFIN acier_M6-M10 | I12: 0.35
H13: SERFIN inox_M3-M5 | I13: 0.35
H14: Colonnette_M3-M5 | I14: 0.4
... H16: RIVET | I16: 0.08
H17: Tube Inox | I17: 5 | J17: Prix au kg
H18: Tube Acier | I18: 1 | J18: Prix au kg
H19: Tube Alu | I19: 5 | J19: Prix au kg
H20: Rond Inox | I20: 5 | J20: Prix au kg
H21: Rond Acier | I21: 1 | J21: Prix au kg
H22: Rond Alu | I22: 7 | J22: Prix au kg
H23: Cornière Acier | I23: 660 | J23: Prix tonne
H24: Cornière Inox | J24: Prix au m
H26: =CONCATENATE("_",'349A6898P001'!C3) -> _Plan : | I26: ='349A6898P001'!H23 -> 0

Sheet listeop
A1: =COUNTA(DesignationOperation) -> 59
B3: Tx HOR | C3: Cout hor. Op | D3: TPS PREP | G3: Petie piece | H3: Grd piece | I3: Cadence heure | J3: TPS SEC | K3: TPS min | P3: Traitement de surface | Q3: Poids/M2 | R3: Forfait Mini | S3: Prix
A4: ------------------ | P4: Epoxy
A5: Laser_LVD | B5: 70 | C5: 110 | D5: 0.3 | E5: Voir aide calcul | F5: = | G5: 0 | H5: 1 | P5: Liquide
A6: T500R2_2 | B6: 80 | C6: 95 | D6: 0.5 | E6: Voir aide calcul | G6: =Laser!AB37 -> 0 | H6: 1 | P6: Zinguage
A7: ------------------ | B7: 0 | C7: 0 | D7: 0 | E7: 0 | F7: 0 | G7: 0 | P7: Cataphorese
A8: Cisaillage | B8: 70 | C8: 70 | D8: 0.3 | E8: Coupe /piece | G8: 0.003 | H8: 0.03 | I8: =IF(G8<>0,1/G8,0) -> 333.33333 | J8: =PRODUCT(G8,3600) -> 10.8 | K8: =J8/60 -> 0.18 | P8: Galvanisation
A9: Cisaillage_2OPS | B9: 70 | C9: 125 | D9: 0.4 | E9: Coupe /piece | G9: 0.005 | H9: 0.03 | I9: =IF(G9<>0,1/G9,0) -> 200 | J9: =PRODUCT(G9,3600) -> 18 | K9: =J9/60 -> 0.3 | P9: Epoxy Esti | Q9: M2 | R9: 80 | S9: 15
A10: ------------------ | B10: 0 | C10: 0 | D10: 0 | E10: 0 | F10: 0 | G10: 0 | H10: 0.03 | I10: =IF(G10<>0,1/G10,0) -> 0 | J10: =PRODUCT(G10,3600) -> 0 | K10: =J10/60 -> 0 | P10: Liquide Esti | Q10: M2 | R10: 80 | S10: 15
A11: Pliage<200 | B11: 70 | C11: 75 | D11: 0.3 | E11: Nbr de Plis | G11: 0.004 | H11: 0.03 | I11: =IF(G11<>0,1/G11,0) -> 250 | J11: =PRODUCT(G11,3600) -> 14.4 | K11: =J11/60 -> 0.24 | P11: Zinguage Esti | Q11: Poids | R11: 120 | S11: 3
A12: Pliage>200 | B12: 70 | C12: 80 | D12: 0.4 | E12: Nbr de Plis | G12: 0.006 | H12: 0.03 | I12: =IF(G12<>0,1/G12,0) -> 166.66667 | J12: =PRODUCT(G12,3600) -> 21.6 | K12: =J12/60 -> 0.36 | P12: Cataphorese Esti | Q12: Poids | R12: 120 | S12: 1.5
A13: Pliage_2OPS | B13: 90 | C13: 125 | D13: 0.5 | E13: Nbr de Plis | G13: 0.008 | H13: 0.03 | I13: =IF(G13<>0,1/G13,0) -> 125 | J13: =PRODUCT(G13,3600) -> 28.8 | K13: =J13/60 -> 0.48 | P13: Galvanisation Esti | Q13: Poids | R13: 230 | S13: 2.5 | T13: Prix <300Kg | U13: 1,4<500Kg | V13: 0,2<800Kg | W13: 1<1400Kg
A14: ------------------ | B14: 0 | C14: 0 | D14: 0 | E14: 0 | F14: 0 | G14: 0 | H14: 0.03 | I14: =IF(G14<>0,1/G14,0) -> 0 | J14: =PRODUCT(G14,3600) -> 0 | K14: =J14/60 -> 0 | P14: Brunissage | Q14: Poids | R14: 80 | S14: 2
A15: Débit | B15: 70 | C15: 70 | D15: 0.3 | E15: L mm Hmax 50 | G15: 0.0005 | H15: 0.03 | I15: =IF(G15<>0,1/G15,0) -> 2000 | J15: =PRODUCT(G15,3600) -> 1.8 | K15: =J15/60 -> 0.03 | P15: Poilssage_electro | Q15: Poids | R15: 80 | S15: 4
A16: Cintrage | B16: 70 | C16: 70 | D16: 0.5 | E16: Pour 1 Rayon | G16: 0.0166 | H16: 0.03 | I16: =IF(G16<>0,1/G16,0) -> 60.240964 | J16: =PRODUCT(G16,3600) -> 59.76 | K16: =J16/60 -> 0.996
A17: Cintrage-rouleuse | B17: 70 | C17: 70 | D17: 0.5 | E17: Pour 1 passage | G17: 0.02 | H17: 0.03 | I17: =IF(G17<>0,1/G17,0) -> 50 | J17: =PRODUCT(G17,3600) -> 72 | K17: =J17/60 -> 1.2
A18: Gueule loup | B18: 70 | C18: 70 | D18: 0.2 | E18: Pour 1 gueule | G18: 0.003 | H18: 0.03 | I18: =IF(G18<>0,1/G18,0) -> 333.33333 | J18: =PRODUCT(G18,3600) -> 10.8 | K18: =J18/60 -> 0.18
A19: Planeuse | B19: 70 | C19: 70 | D19: 0.3 | E19: Pour 1 passage | G19: 0.003 | H19: 0.03 | I19: =IF(G19<>0,1/G19,0) -> 333.33333 | J19: =PRODUCT(G19,3600) -> 10.8 | K19: =J19/60 -> 0.18
A20: ------------------ | B20: 70 | C20: 0 | D20: 0 | E20: 0 | F20: 0 | G20: 0 | H20: 0.03 | I20: =IF(G20<>0,1/G20,0) -> 0 | J20: =PRODUCT(G20,3600) -> 0 | K20: =J20/60 -> 0
A21: KST | B21: 70 | C21: 70 | D21: 0.3 | E21: 1 coup d'outil | G21: 0.005 | H21: 0.03 | I21: =IF(G21<>0,1/G21,0) -> 200 | J21: =PRODUCT(G21,3600) -> 18 | K21: =J21/60 -> 0.3
A22: KST L>1500 | B22: 70 | C22: 70 | D22: 0.3 | E22: 1 coup d'outil | G22: 0.008 | H22: 0.03 | I22: =IF(G22<>0,1/G22,0) -> 125 | J22: =PRODUCT(G22,3600) -> 28.8 | K22: =J22/60 -> 0.48
A23: Grugoire | B23: 70 | C23: 70 | D23: 0.3 | E23: 1 coup d'outil | G23: 0.004 | H23: 0.03 | I23: =IF(G23<>0,1/G23,0) -> 250 | J23: =PRODUCT(G23,3600) -> 14.4 | K23: =J23/60 -> 0.24
A24: Grugoire L>1500 | B24: 70 | C24: 70 | D24: 0.3 | E24: 1 coup d'outil | G24: 0.01 | H24: 0.03 | I24: =IF(G24<>0,1/G24,0) -> 100 | J24: =PRODUCT(G24,3600) -> 36 | K24: =J24/60 -> 0.6
A25: ------------------ | B25: 70 | C25: 70 | D25: 0 | E25: 0 | F25: 0 | G25: 0 | H25: 0.03 | I25: =IF(G25<>0,1/G25,0) -> 0 | J25: =PRODUCT(G25,3600) -> 0 | K25: =J25/60 -> 0
A26: Ebavurage | B26: 70 | C26: 70 | D26: 0.2 | E26: L mm | G26: 1.5e-05 | H26: 0.03 | I26: =IF(G26<>0,1/G26,0) -> 66666.667 | J26: =PRODUCT(G26,3600) -> 0.054 | K26: =J26/60 -> 0.0009
A27: Ebavurage L>1500 | B27: 70 | C27: 70 | D27: 0.2 | E27: L mm | G27: 3.5e-05 | H27: 0.03 | I27: =IF(G27<>0,1/G27,0) -> 28571.429 | J27: =PRODUCT(G27,3600) -> 0.126 | K27: =J27/60 -> 0.0021
A28: ------------------ | B28: 70 | C28: 70 | D28: 0 | E28: 0 | F28: 0 | G28: 0 | H28: 0.03 | I28: =IF(G28<>0,1/G28,0) -> 0 | J28: =PRODUCT(G28,3600) -> 0 | K28: =J28/60 -> 0
A29: Sertiss_PEM | B29: 70 | C29: 70 | D29: 0.3 | E29: Nbr d'insert | G29: 0.003 | H29: 0.03 | I29: =IF(G29<>0,1/G29,0) -> 333.33333 | J29: =PRODUCT(G29,3600) -> 10.8 | K29: =J29/60 -> 0.18
A30: Sertissage PEM>1000 | B30: 70 | C30: 70 | D30: 0.3 | E30: Nbr d'insert | G30: 0.005 | H30: 0.03 | I30: =IF(G30<>0,1/G30,0) -> 200 | J30: =PRODUCT(G30,3600) -> 18 | K30: =J30/60 -> 0.3
A31: Sertissage PEM_2OPS | B31: 70 | C31: 70 | D31: 0.3 | E31: Nbr d'insert | G31: 0.009 | H31: 0.03 | I31: =IF(G31<>0,1/G31,0) -> 111.11111 | J31: =PRODUCT(G31,3600) -> 32.4 | K31: =J31/60 -> 0.54
A32: Sertissage pneu. | B32: 70 | C32: 70 | D32: 0.3 | E32: Nbr d'insert | G32: 0.005 | H32: 0.03 | I32: =IF(G32<>0,1/G32,0) -> 200 | J32: =PRODUCT(G32,3600) -> 18 | K32: =J32/60 -> 0.3
A33: ------------------ | B33: 70 | C33: 70 | D33: 0 | E33: 0 | F33: 0 | G33: 0 | H33: 0.03 | I33: =IF(G33<>0,1/G33,0) -> 0 | J33: =PRODUCT(G33,3600) -> 0 | K33: =J33/60 -> 0
A34: Percage | B34: 70 | C34: 70 | D34: 0.2 | E34: Nbre de trous | G34: 0.003 | H34: 0.03 | I34: =IF(G34<>0,1/G34,0) -> 333.33333 | J34: =PRODUCT(G34,3600) -> 10.8 | K34: =J34/60 -> 0.18
A35: Alesage | B35: 70 | C35: 70 | D35: 0.2 | E35: Nbre de trous | F35: 0 | G35: 0.008 | H35: 0.03 | I35: =IF(G35<>0,1/G35,0) -> 125 | J35: =PRODUCT(G35,3600) -> 28.8 | K35: =J35/60 -> 0.48
A36: Filletage | B36: 70 | C36: 70 | D36: 0.2 | E36: L en mm filletee | G36: 0.0017 | H36: 0.03 | I36: =IF(G36<>0,1/G36,0) -> 588.23529 | J36: =PRODUCT(G36,3600) -> 6.12 | K36: =J36/60 -> 0.102
A37: Taraudage | B37: 70 | C37: 70 | D37: 0.2 | E37: Nbr de taraudage | G37: 0.0015 | H37: 0.03 | I37: =IF(G37<>0,1/G37,0) -> 666.66667 | J37: =PRODUCT(G37,3600) -> 5.4 | K37: =J37/60 -> 0.09
A38: Fraisurage | B38: 70 | C38: 70 | D38: 0.2 | E38: Nbr de fraisurage | G38: 0.008 | H38: 0.03 | I38: =IF(G38<>0,1/G38,0) -> 125 | J38: =PRODUCT(G38,3600) -> 28.8 | K38: =J38/60 -> 0.48
A39: Soudure KSM | B39: 70 | C39: 70 | D39: 0.3 | E39: Nbr d'insert | G39: 0.005 | H39: 0.03 | I39: =IF(G39<>0,1/G39,0) -> 200 | J39: =PRODUCT(G39,3600) -> 18 | K39: =J39/60 -> 0.3
A40: Soudure KSM_2ops | B40: 70 | C40: 70 | D40: 0.3 | E40: Nbr d'insert | G40: 0.007 | H40: 0.03 | I40: =IF(G40<>0,1/G40,0) -> 142.85714 | J40: =PRODUCT(G40,3600) -> 25.2 | K40: =J40/60 -> 0.42
A41: ------------------ | B41: 70 | C41: 70 | D41: 0 | E41: 0 | F41: 0 | G41: 0 | H41: 0.03 | I41: =IF(G41<>0,1/G41,0) -> 0 | J41: =PRODUCT(G41,3600) -> 0 | K41: =J41/60 -> 0
A42: Roulage Mannuel | B42: 70 | C42: 70 | D42: 0.3 | E42: diam mini 34 | G42: 0.015 | H42: 0.03 | I42: =IF(G42<>0,1/G42,0) -> 66.666667 | J42: =PRODUCT(G42,3600) -> 54 | K42: =J42/60 -> 0.9
A43: Roulage Electrique | B43: 70 | C43: 70 | D43: 0.3 | E43: diam mini 79 | G43: 0.02 | H43: 0.03 | I43: =IF(G43<>0,1/G43,0) -> 50 | J43: =PRODUCT(G43,3600) -> 72 | K43: =J43/60 -> 1.2
A44: ------------------ | B44: 70 | C44: 70 | D44: 0 | E44: 0 | F44: 0 | G44: 0 | H44: 0.03 | I44: =IF(G44<>0,1/G44,0) -> 0 | J44: =PRODUCT(G44,3600) -> 0 | K44: =J44/60 -> 0
A45: Soudure Point | B45: 70 | C45: 70 | D45: 0.3 | E45: Nbr de point | G45: 0.003 | H45: 0.03 | I45: =IF(G45<>0,1/G45,0) -> 333.33333 | J45: =PRODUCT(G45,3600) -> 10.8 | K45: =J45/60 -> 0.18
A46: Soudure MIG | B46: 70 | C46: 80 | D46: 0.3 | E46: L soud en mm | G46: 0.0003 | H46: 0.03 | I46: =IF(G46<>0,1/G46,0) -> 3333.3333 | J46: =PRODUCT(G46,3600) -> 1.08 | K46: =J46/60 -> 0.018
A47: Soudure MIG>2000 | B47: 100 | C47: 80 | D47: 0.3 | E47: L soud en mm | G47: 0.0004 | H47: 0.03 | I47: =IF(G47<>0,1/G47,0) -> 2500 | J47: =PRODUCT(G47,3600) -> 1.44 | K47: =J47/60 -> 0.024
A48: Soudure TIG | B48: 70 | C48: 90 | D48: 0.3 | E48: L soud en mm | G48: 0.0005 | H48: 0.03 | I48: =IF(G48<>0,1/G48,0) -> 2000 | J48: =PRODUCT(G48,3600) -> 1.8 | K48: =J48/60 -> 0.03
A49: Soudure Alu | B49: 70 | C49: 90 | D49: 0.3 | E49: L soud en mm | G49: 0.00055 | H49: 0.03 | I49: =IF(G49<>0,1/G49,0) -> 1818.1818 | J49: =PRODUCT(G49,3600) -> 1.98 | K49: =J49/60 -> 0.033
A50: Ragréage | B50: 70 | C50: 70 | D50: 0.15 | E50: L ragréée mm | G50: 0.00025 | H50: 0.03 | I50: =IF(G50<>0,1/G50,0) -> 4000 | J50: =PRODUCT(G50,3600) -> 0.9 | K50: =J50/60 -> 0.015
A51: ------------------ | B51: 70 | C51: 70 | D51: 0 | E51: 0 | F51: 0 | G51: 0 | H51: 0.03 | I51: =IF(G51<>0,1/G51,0) -> 0 | J51: =PRODUCT(G51,3600) -> 0 | K51: =J51/60 -> 0
A52: Montage | B52: 70 | C52: 70 | D52: 0.3 | E52: tps minute | G52: 0.017 | H52: 0.03 | I52: =IF(G52<>0,1/G52,0) -> 58.823529 | J52: =PRODUCT(G52,3600) -> 61.2 | K52: =J52/60 -> 1.02
A53: Trowal | B53: 70 | C53: 70 | D53: 0.2 | E53: tps piece | G53: 0.004 | H53: 0.03 | I53: =IF(G53<>0,1/G53,0) -> 250 | J53: =PRODUCT(G53,3600) -> 14.4 | K53: =J53/60 -> 0.24
A54: Microbillage_verni | B54: 70 | C54: 70 | D54: 0.15 | E54: m2 | G54: 0.55 | H54: 0.03 | I54: =IF(G54<>0,1/G54,0) -> 1.8181818 | J54: =PRODUCT(G54,3600) -> 1980 | K54: =J54/60 -> 33
A55: divers | B55: 70 | C55: 70 | D55: 0.2 | E55: tps minute | G55: 0.017 | H55: 0.03 | I55: =IF(G55<>0,1/G55,0) -> 58.823529 | J55: =PRODUCT(G55,3600) -> 61.2 | K55: =J55/60 -> 1.02
A56: Sablage | B56: 70 | C56: 70 | D56: 0.2 | E56: m2 | G56: 0.3 | H56: 0.03 | I56: =IF(G56<>0,1/G56,0) -> 3.3333333 | J56: =PRODUCT(G56,3600) -> 1080 | K56: =J56/60 -> 18
A57: Etamage | B57: 70 | C57: 70 | D57: 0.2 | E57: tps minute | G57: 0.017 | H57: 0.03 | I57: =IF(G57<>0,1/G57,0) -> 58.823529 | J57: =PRODUCT(G57,3600) -> 61.2 | K57: =J57/60 -> 1.02
A58: ------------------ | B58: 70 | C58: 70 | D58: 0 | E58: 0 | F58: 0 | G58: 0 | H58: 0.03 | I58: =IF(G58<>0,1/G58,0) -> 0 | J58: =PRODUCT(G58,3600) -> 0 | K58: =J58/60 -> 0
A59: Peinture Ht° klute | B59: 60 | C59: 11.82 | D59: 0.2 | E59: Metre carre | G59: 1 | H59: 1 | I59: =IF(G59<>0,1/G59,0) -> 1 | J59: =PRODUCT(G59,3600) -> 3600 | K59: =J59/60 -> 60 | M59: 0.34
A60: Pei Noir Ht° 450 | B60: 60 | C60: 11 | D60: 0.2 | E60: Metre carre | G60: =4.1/5 -> 0.82 | H60: =4.8/14 -> 0.34285714 | I60: =IF(G60<>0,1/G60,0) -> 1.2195122 | J60: =PRODUCT(G60,3600) -> 2952 | K60: =J60/60 -> 49.2 | L60: px/m2 | M60: =0.65 -> 0.65
A61: Pei Gris Ht° 650 | B61: 60 | C61: 11 | D61: 0.2 | E61: Metre carre | G61: =10.8/6 -> 1.8 | H61: =4.8/14 -> 0.34285714 | I61: =IF(G61<>0,1/G61,0) -> 0.55555556 | J61: =PRODUCT(G61,3600) -> 6480 | K61: =J61/60 -> 108 | L61: px/m2 | M61: 1.75
A62: Peinture Liquide | B62: 60 | C62: 11 | D62: 0.2 | E62: Metre carre | G62: =10.5*1.25/8 -> 1.640625 | H62: =10.5*1.25/8 -> 1.640625 | I62: =IF(G62<>0,1/G62,0) -> 0.60952381 | J62: =PRODUCT(G62,3600) -> 5906.25 | K62: =J62/60 -> 98.4375
A63: =CONCATENATE("_",'349A6898P001'!C3) -> _Plan : | B63: ='349A6898P001'!F47 -> 56 | C63: ='349A6898P001'!J47 -> 0.78092391

Sheet Laser
A1: Machine | B1: Option HighSpeed | C1: Matiere | D1: Epaisseur | E1: Gaz | G1: Vitesse Ext | H1: Vitesse Int
A2: bystronic3015 | B2: 1 | C2: acier | D2: 1 | E2: O2 | F2: =CONCATENATE(A2,"-",B2,"-",C2,"-",D2,"-",E2) -> bystronic3015-1-acier-1-O2 | G2: =J2*1000 -> 15000 | H2: =K2*1000 -> 10000 | J2: =(20+10)/2 -> 15 | K2: 10
A3: bystronic3015 | B3: 0 | C3: acier | D3: 1 | E3: O2 | F3: =CONCATENATE(A3,"-",B3,"-",C3,"-",D3,"-",E3) -> bystronic3015-0-acier-1-O2 | G3: =J3*1000 -> 8650 | H3: =K3*1000 -> 7100 | J3: =(10.2+7.1)/2 -> 8.65 | K3: 7.1
A4: bystronic3015 | B4: 1 | C4: acier | D4: 1.5 | E4: O2 | F4: =CONCATENATE(A4,"-",B4,"-",C4,"-",D4,"-",E4) -> bystronic3015-1-acier-1,5-O2 | G4: =J4*1000 -> 8250 | H4: =K4*1000 -> 5500 | J4: =(11+5.5)/2 -> 8.25 | K4: 5.5
A5: bystronic3015 | B5: 0 | C5: acier | D5: 1.5 | E5: O2 | F5: =CONCATENATE(A5,"-",B5,"-",C5,"-",D5,"-",E5) -> bystronic3015-0-acier-1,5-O2 | G5: =J5*1000 -> 7400 | H5: =K5*1000 -> 6100 | J5: =(8.7+6.1)/2 -> 7.4 | K5: 6.1
A6: bystronic3015 | B6: 0 | C6: acier | D6: 2 | E6: O2 | F6: =CONCATENATE(A6,"-",B6,"-",C6,"-",D6,"-",E6) -> bystronic3015-0-acier-2-O2 | G6: =J6*1000 -> 5800 | H6: =K6*1000 -> 4800 | J6: =(6.8+4.8)/2 -> 5.8 | K6: 4.8
A7: bystronic3015 | B7: 0 | C7: acier | D7: 3 | E7: O2 | F7: =CONCATENATE(A7,"-",B7,"-",C7,"-",D7,"-",E7) -> bystronic3015-0-acier-3-O2 | G7: =J7*1000 -> 4000 | H7: =K7*1000 -> 3300 | J7: =(4.7+3.3)/2 -> 4 | K7: 3.3
A8: bystronic3015 | B8: 0 | C8: acier | D8: 4 | E8: O2 | F8: =CONCATENATE(A8,"-",B8,"-",C8,"-",D8,"-",E8) -> bystronic3015-0-acier-4-O2 | G8: =J8*1000 -> 3000 | H8: =K8*1000 -> 2500 | J8: =(3.5+2.5)/2 -> 3 | K8: 2.5
A9: bystronic3015 | B9: 0 | C9: acier | D9: 5 | E9: O2 | F9: =CONCATENATE(A9,"-",B9,"-",C9,"-",D9,"-",E9) -> bystronic3015-0-acier-5-O2 | G9: =J9*1000 -> 2300 | H9: =K9*1000 -> 1900 | J9: =(2.7+1.9)/2 -> 2.3 | K9: 1.9
A10: bystronic3015 | B10: 0 | C10: acier | D10: 6 | E10: O2 | F10: =CONCATENATE(A10,"-",B10,"-",C10,"-",D10,"-",E10) -> bystronic3015-0-acier-6-O2 | G10: =J10*1000 -> 1572.5 | H10: =K10*1000 -> 1500 | J10: =(2.2+1.5)/2*0.85 -> 1.5725 | K10: 1.5
A11: bystronic3015 | B11: 0 | C11: acier | D11: 8 | E11: O2 | F11: =CONCATENATE(A11,"-",B11,"-",C11,"-",D11,"-",E11) -> bystronic3015-0-acier-8-O2 | G11: =J11*1000 -> 800 | H11: =K11*1000 -> 800 | J11: =(1.2+0.8)/2*0.8 -> 0.8 | K11: 0.8
A12: bystronic3015 | B12: 0 | C12: acier | D12: 10 | E12: O2 | F12: =CONCATENATE(A12,"-",B12,"-",C12,"-",D12,"-",E12) -> bystronic3015-0-acier-10-O2 | G12: =J12*1000 -> 1500 | H12: =K12*1000 -> 1000 | J12: 1.5 | K12: 1
A13: bystronic3015 | B13: 0 | C13: acier | D13: 1 | E13: NA | F13: =CONCATENATE(A13,"-",B13,"-",C13,"-",D13,"-",E13) -> bystronic3015-0-acier-1-NA | G13: =J13*1000 -> 7250 | H13: =K13*1000 -> 6000 | J13: =(8.5+6)/2 -> 7.25 | K13: 6
A14: bystronic3015 | B14: 0 | C14: acier | D14: 1.5 | E14: NA | F14: =CONCATENATE(A14,"-",B14,"-",C14,"-",D14,"-",E14) -> bystronic3015-0-acier-1,5-NA | G14: =J14*1000 -> 6300 | H14: =K14*1000 -> 5200 | J14: =(7.4+5.2)/2 -> 6.3 | K14: 5.2
A15: bystronic3015 | B15: 0 | C15: acier | D15: 2 | E15: NA | F15: =CONCATENATE(A15,"-",B15,"-",C15,"-",D15,"-",E15) -> bystronic3015-0-acier-2-NA | G15: =J15*1000 -> 5250 | H15: =K15*1000 -> 4300 | J15: =(6.2+4.3)/2 -> 5.25 | K15: 4.3
A16: bystronic3015 | B16: 0 | C16: acier | D16: 2.5 | E16: NA | F16: =CONCATENATE(A16,"-",B16,"-",C16,"-",D16,"-",E16) -> bystronic3015-0-acier-2,5-NA | G16: =J16*1000 -> 4500 | H16: =K16*1000 -> 3700 | J16: =(5.3+3.7)/2 -> 4.5 | K16: 3.7
A17: bystronic3015 | B17: 0 | C17: acier | D17: 3 | E17: NA | F17: =CONCATENATE(A17,"-",B17,"-",C17,"-",D17,"-",E17) -> bystronic3015-0-acier-3-NA | G17: =J17*1000 -> 3650 | H17: =K17*1000 -> 3000 | J17: =(4.3+3)/2 -> 3.65 | K17: 3
A18: bystronic3015 | B18: 0 | C18: acier | D18: 4 | E18: NA | F18: =CONCATENATE(A18,"-",B18,"-",C18,"-",D18,"-",E18) -> bystronic3015-0-acier-4-NA | G18: =J18*1000 -> 3550 | H18: =K18*1000 -> 2900 | J18: =(4.2+2.9)/2 -> 3.55 | K18: 2.9
A19: bystronic3015 | B19: 0 | C19: acier | D19: 5 | E19: NA | F19: =CONCATENATE(A19,"-",B19,"-",C19,"-",D19,"-",E19) -> bystronic3015-0-acier-5-NA | G19: =J19*1000 -> 5150 | H19: =K19*1000 -> 2700 | J19: =(3.8+2.7/2) -> 5.15 | K19: 2.7
A20: bystronic3015 | B20: 0 | C20: acier | D20: 6 | E20: NA | F20: =CONCATENATE(A20,"-",B20,"-",C20,"-",D20,"-",E20) -> bystronic3015-0-acier-6-NA | G20: =J20*1000 -> 2380 | H20: =K20*1000 -> 2300 | J20: =(3.3+2.3)/2*0.85 -> 2.38 | K20: 2.3
A21: bystronic3015 | B21: 0 | C21: acier | D21: 8 | E21: NA | F21: =CONCATENATE(A21,"-",B21,"-",C21,"-",D21,"-",E21) -> bystronic3015-0-acier-8-NA | G21: =J21*1000 -> 1760 | H21: =K21*1000 -> 1800 | J21: =(2.6+1.8)/2*0.8 -> 1.76 | K21: 1.8
A22: bystronic3015 | B22: 0 | C22: acier | D22: 10 | E22: NA | F22: =CONCATENATE(A22,"-",B22,"-",C22,"-",D22,"-",E22) -> bystronic3015-0-acier-10-NA | G22: =J22*1000 -> 1530 | H22: =K22*1000 -> 1500 | J22: =(2.1+1.5)/2*0.85 -> 1.53 | K22: 1.5 | V22: 0
A23: bystronic3015 | B23: 0 | C23: acier | D23: 12 | E23: NA | F23: =CONCATENATE(A23,"-",B23,"-",C23,"-",D23,"-",E23) -> bystronic3015-0-acier-12-NA | G23: =J23*1000 -> 1200 | H23: =K23*1000 -> 1200 | J23: =(1.8+1.2)/2*0.8 -> 1.2 | K23: 1.2
A24: bystronic3015 | B24: 0 | C24: acier | D24: 15 | E24: NA | F24: =CONCATENATE(A24,"-",B24,"-",C24,"-",D24,"-",E24) -> bystronic3015-0-acier-15-NA | G24: =J24*1000 -> 1000 | H24: =K24*1000 -> 1000 | J24: =(1.5+1)/2*0.8 -> 1 | K24: 1
A25: bystronic3015 | B25: 0 | C25: acier | D25: 20 | E25: NA | F25: =CONCATENATE(A25,"-",B25,"-",C25,"-",D25,"-",E25) -> bystronic3015-0-acier-20-NA | G25: =J25*1000 -> 850 | H25: =K25*1000 -> 700 | J25: =(1+0.7)/2 -> 0.85 | K25: 0.7
A26: bystronic3015 | B26: 1 | C26: inox | D26: 1 | E26: NA | F26: =CONCATENATE(A26,"-",B26,"-",C26,"-",D26,"-",E26) -> bystronic3015-1-inox-1-NA | G26: =J26*1000 -> 16500 | H26: =K26*1000 -> 11000 | J26: =(22+11)/2 -> 16.5 | K26: 11
A27: bystronic3015 | B27: 0 | C27: inox | D27: 1 | E27: NA | F27: =CONCATENATE(A27,"-",B27,"-",C27,"-",D27,"-",E27) -> bystronic3015-0-inox-1-NA | G27: =J27*1000 -> 8150 | H27: =K27*1000 -> 6100 | J27: =(10.2+6.1)/2 -> 8.15 | K27: 6.1
A28: bystronic3015 | B28: 1 | C28: inox | D28: 1.5 | E28: NA | F28: =CONCATENATE(A28,"-",B28,"-",C28,"-",D28,"-",E28) -> bystronic3015-1-inox-1,5-NA | G28: =J28*1000 -> 9000 | H28: =K28*1000 -> 6000 | J28: =(12+6)/2 -> 9 | K28: 6
A29: bystronic3015 | B29: 0 | C29: inox | D29: 1.5 | E29: NA | F29: =CONCATENATE(A29,"-",B29,"-",C29,"-",D29,"-",E29) -> bystronic3015-0-inox-1,5-NA | G29: =J29*1000 -> 6900 | H29: =K29*1000 -> 5200 | J29: =(8.6+5.2)/2 -> 6.9 | K29: 5.2
A30: bystronic3015 | B30: 0 | C30: inox | D30: 2 | E30: NA | F30: =CONCATENATE(A30,"-",B30,"-",C30,"-",D30,"-",E30) -> bystronic3015-0-inox-2-NA | G30: =J30*1000 -> 5500 | H30: =K30*1000 -> 4100 | J30: =(6.9+4.1)/2 -> 5.5 | K30: 4.1
A31: bystronic3015 | B31: 0 | C31: inox | D31: 2.5 | E31: NA | F31: =CONCATENATE(A31,"-",B31,"-",C31,"-",D31,"-",E31) -> bystronic3015-0-inox-2,5-NA | G31: =J31*1000 -> 4300 | H31: =K31*1000 -> 3200 | J31: =(5.4+3.2)/2 -> 4.3 | K31: 3.2
A32: bystronic3015 | B32: 0 | C32: inox | D32: 3 | E32: NA | F32: =CONCATENATE(A32,"-",B32,"-",C32,"-",D32,"-",E32) -> bystronic3015-0-inox-3-NA | G32: =J32*1000 -> 3450 | H32: =K32*1000 -> 2600 | J32: =(4.3+2.6)/2 -> 3.45 | K32: 2.6
A33: bystronic3015 | B33: 0 | C33: inox | D33: 4 | E33: NA | F33: =CONCATENATE(A33,"-",B33,"-",C33,"-",D33,"-",E33) -> bystronic3015-0-inox-4-NA | G33: =J33*1000 -> 2800 | H33: =K33*1000 -> 2100 | J33: =(3.5+2.1)/2 -> 2.8 | K33: 2.1
A34: bystronic3015 | B34: 0 | C34: inox | D34: 5 | E34: NA | F34: =CONCATENATE(A34,"-",B34,"-",C34,"-",D34,"-",E34) -> bystronic3015-0-inox-5-NA | G34: =J34*1000 -> 2300 | H34: =K34*1000 -> 1700 | J34: =(2.9+1.7)/2 -> 2.3 | K34: 1.7
A35: bystronic3015 | B35: 0 | C35: inox | D35: 6 | E35: NA | F35: =CONCATENATE(A35,"-",B35,"-",C35,"-",D35,"-",E35) -> bystronic3015-0-inox-6-NA | G35: =J35*1000 -> 1615 | H35: =K35*1000 -> 1400 | J35: =(2.4+1.4)/2*0.85 -> 1.615 | K35: 1.4
A36: bystronic3015 | B36: 0 | C36: inox | D36: 8 | E36: NA | F36: =CONCATENATE(A36,"-",B36,"-",C36,"-",D36,"-",E36) -> bystronic3015-0-inox-8-NA | G36: =J36*1000 -> 1080 | H36: =K36*1000 -> 1000 | J36: =(1.7+1)/2*0.8 -> 1.08 | K36: 1
A37: bystronic3015 | B37: 0 | C37: inox | D37: 10 | E37: NA | F37: =CONCATENATE(A37,"-",B37,"-",C37,"-",D37,"-",E37) -> bystronic3015-0-inox-10-NA | G37: =J37*1000 -> 765 | H37: =K37*1000 -> 700 | J37: =(1.1+0.7)/2*0.85 -> 0.765 | K37: 0.7
A38: bystronic3015 | B38: 0 | C38: inox | D38: 12 | E38: NA | F38: =CONCATENATE(A38,"-",B38,"-",C38,"-",D38,"-",E38) -> bystronic3015-0-inox-12-NA | G38: =J38*1000 -> 440 | H38: =K38*1000 -> 400 | J38: =(0.7+0.4)/2*0.8 -> 0.44 | K38: 0.4
A39: bystronic3015 | B39: 0 | C39: inox | D39: 15 | E39: NA | F39: =CONCATENATE(A39,"-",B39,"-",C39,"-",D39,"-",E39) -> bystronic3015-0-inox-15-NA | G39: =J39*1000 -> 240 | H39: =K39*1000 -> 200 | J39: =(0.4+0.2)/2*0.8 -> 0.24 | K39: 0.2
A40: bystronic3015 | B40: 1 | C40: alu | D40: 1 | E40: NA | F40: =CONCATENATE(A40,"-",B40,"-",C40,"-",D40,"-",E40) -> bystronic3015-1-alu-1-NA | G40: =J40*1000 -> 18750 | H40: =K40*1000 -> 12500 | J40: =(25+12.5)/2 -> 18.75 | K40: 12.5
A41: bystronic3015 | B41: 0 | C41: alu | D41: 1 | E41: NA | F41: =CONCATENATE(A41,"-",B41,"-",C41,"-",D41,"-",E41) -> bystronic3015-0-alu-1-NA | G41: =J41*1000 -> 8800 | H41: =K41*1000 -> 6600 | J41: =(11+6.6)/2 -> 8.8 | K41: 6.6
A42: bystronic3015 | B42: 1 | C42: alu | D42: 1.5 | E42: NA | F42: =CONCATENATE(A42,"-",B42,"-",C42,"-",D42,"-",E42) -> bystronic3015-1-alu-1,5-NA | G42: =J42*1000 -> 10500 | H42: =K42*1000 -> 7000 | J42: =(14+7)/2 -> 10.5 | K42: 7
A43: bystronic3015 | B43: 0 | C43: alu | D43: 1.5 | E43: NA | F43: =CONCATENATE(A43,"-",B43,"-",C43,"-",D43,"-",E43) -> bystronic3015-0-alu-1,5-NA | G43: =J43*1000 -> 7500 | H43: =K43*1000 -> 5600 | J43: =(9.4+5.6)/2 -> 7.5 | K43: 5.6
A44: bystronic3015 | B44: 0 | C44: alu | D44: 2 | E44: NA | F44: =CONCATENATE(A44,"-",B44,"-",C44,"-",D44,"-",E44) -> bystronic3015-0-alu-2-NA | G44: =J44*1000 -> 6150 | H44: =K44*1000 -> 4600 | J44: =(7.7+4.6)/2 -> 6.15 | K44: 4.6
A45: bystronic3015 | B45: 0 | C45: alu | D45: 2.5 | E45: NA | F45: =CONCATENATE(A45,"-",B45,"-",C45,"-",D45,"-",E45) -> bystronic3015-0-alu-2,5-NA | G45: =J45*1000 -> 4900 | H45: =K45*1000 -> 3700 | J45: =(6.1+3.7)/2 -> 4.9 | K45: 3.7
A46: bystronic3015 | B46: 0 | C46: alu | D46: 3 | E46: NA | F46: =CONCATENATE(A46,"-",B46,"-",C46,"-",D46,"-",E46) -> bystronic3015-0-alu-3-NA | G46: =J46*1000 -> 4000 | H46: =K46*1000 -> 3000 | J46: =(5+3)/2 -> 4 | K46: 3
A47: bystronic3015 | B47: 0 | C47: alu | D47: 4 | E47: NA | F47: =CONCATENATE(A47,"-",B47,"-",C47,"-",D47,"-",E47) -> bystronic3015-0-alu-4-NA | G47: =J47*1000 -> 3100 | H47: =K47*1000 -> 2300 | J47: =(3.9+2.3)/2 -> 3.1 | K47: 2.3
A48: bystronic3015 | B48: 0 | C48: alu | D48: 5 | E48: NA | F48: =CONCATENATE(A48,"-",B48,"-",C48,"-",D48,"-",E48) -> bystronic3015-0-alu-5-NA | G48: =J48*1000 -> 2250 | H48: =K48*1000 -> 1700 | J48: =(2.8+1.7)/2 -> 2.25 | K48: 1.7
A49: bystronic3015 | B49: 0 | C49: alu | D49: 6 | E49: NA | F49: =CONCATENATE(A49,"-",B49,"-",C49,"-",D49,"-",E49) -> bystronic3015-0-alu-6-NA | G49: =J49*1000 -> 1275 | H49: =K49*1000 -> 1100 | J49: =(1.9+1.1)/2*0.85 -> 1.275 | K49: 1.1
A50: bystronic3015 | B50: 0 | C50: alu | D50: 8 | E50: NA | F50: =CONCATENATE(A50,"-",B50,"-",C50,"-",D50,"-",E50) -> bystronic3015-0-alu-8-NA | G50: =J50*1000 -> 560 | H50: =K50*1000 -> 500 | J50: =(0.9+0.5)/2*0.8 -> 0.56 | K50: 0.5
A51: bystronic3015 | B51: 0 | C51: alu | D51: 10 | E51: NA | F51: =CONCATENATE(A51,"-",B51,"-",C51,"-",D51,"-",E51) -> bystronic3015-0-alu-10-NA | G51: =J51*1000 -> 467.5 | H51: =K51*1000 -> 400 | J51: =(0.7+0.4)/2*0.85 -> 0.4675 | K51: 0.4
A52: bystronic3015 | B52: 0 | C52: acier | D52: 2.5 | E52: O2 | F52: =CONCATENATE(A52,"-",B52,"-",C52,"-",D52,"-",E52) -> bystronic3015-0-acier-2,5-O2 | G52: =J52*1000 -> 4000 | H52: =K52*1000 -> 3300 | J52: =(4.7+3.3)/2 -> 4 | K52: 3.3
A53: amada | B53: 0 | C53: acier | D53: 2.5 | E53: O2 | F53: =CONCATENATE(A53,"-",B53,"-",C53,"-",D53,"-",E53) -> amada-0-acier-2,5-O2 | G53: 1900 | H53: 800
A54: amada | B54: 0 | C54: acier | D54: 1 | E54: O2 | F54: =CONCATENATE(A54,"-",B54,"-",C54,"-",D54,"-",E54) -> amada-0-acier-1-O2 | G54: 3800 | H54: 1101
A55: amada | B55: 0 | C55: Ez | D55: 1 | E55: O2 | F55: =CONCATENATE(A55,"-",B55,"-",C55,"-",D55,"-",E55) -> amada-0-Ez-1-O2 | G55: 2500 | H55: 900
A56: amada | B56: 0 | C56: inox | D56: 1 | E56: O2 | F56: =CONCATENATE(A56,"-",B56,"-",C56,"-",D56,"-",E56) -> amada-0-inox-1-O2 | G56: 2300 | H56: 1200
A57: amada | B57: 0 | C57: GALVA | D57: 1 | E57: O2 | F57: =CONCATENATE(A57,"-",B57,"-",C57,"-",D57,"-",E57) -> amada-0-GALVA-1-O2 | G57: 1800 | H57: 600
A58: amada | B58: 0 | C58: alu | D58: 1 | E58: O2 | F58: =CONCATENATE(A58,"-",B58,"-",C58,"-",D58,"-",E58) -> amada-0-alu-1-O2 | G58: 1500 | H58: 800
A59: amada | B59: 0 | C59: VAPO | D59: 1 | E59: O2 | F59: =CONCATENATE(A59,"-",B59,"-",C59,"-",D59,"-",E59) -> amada-0-VAPO-1-O2 | G59: 3800 | H59: 3800
A60: amada | B60: 0 | C60: Plexi AIR | D60: 1 | E60: O2 | F60: =CONCATENATE(A60,"-",B60,"-",C60,"-",D60,"-",E60) -> amada-0-Plexi AIR-1-O2 | G60: 4000 | H60: 4000
A61: amada | B61: 0 | C61: acier | D61: 1.5 | E61: O2 | F61: =CONCATENATE(A61,"-",B61,"-",C61,"-",D61,"-",E61) -> amada-0-acier-1,5-O2 | G61: 3000 | H61: 1000
A62: amada | B62: 0 | C62: ez | D62: 1.5 | E62: O2 | F62: =CONCATENATE(A62,"-",B62,"-",C62,"-",D62,"-",E62) -> amada-0-ez-1,5-O2 | G62: 2800 | H62: 700
A63: amada | B63: 0 | C63: inox | D63: 1.5 | E63: O2 | F63: =CONCATENATE(A63,"-",B63,"-",C63,"-",D63,"-",E63) -> amada-0-inox-1,5-O2 | G63: 2000 | H63: 1200
A64: amada | B64: 0 | C64: galva | D64: 1.5 | E64: O2 | F64: =CONCATENATE(A64,"-",B64,"-",C64,"-",D64,"-",E64) -> amada-0-galva-1,5-O2 | G64: 1700 | H64: 500
... A88: amada | B88: 0 | C88: Plexi AIR | D88: 10 | E88: O2 | F88: =CONCATENATE(A88,"-",B88,"-",C88,"-",D88,"-",E88) -> amada-0-Plexi AIR-10-O2 | G88: 1600 | H88: 1600

Sheet parametres
B1: Sommier B. | C1: Index | D1: Designation | E1: valeur
A2: =CONCATENATE(B2,"_",C2) -> Mat_0 | B2: Mat | C2: 0 | D2: Zone de detection de modification | E2: B4:B11
A3: =CONCATENATE(B3,"_",C3) -> Mat_1 | B3: Mat | C3: 1 | D3: Nombre de calcul | E3: AA1
A4: =CONCATENATE(B4,"_",C4) -> Mat_2 | B4: Mat | C4: 2 | D4: Zone de Calcul Matiere originale | E4: P2:AA47
A5: =CONCATENATE(B5,"_",C5) -> Mat_3 | B5: Mat | C5: 3 | D5: Zone de Calcul Matiere originale | E5: P1:AA65536
A6: =CONCATENATE(B6,"_",C6) -> Mat_4 | B6: Mat | C6: 4 | D6: Mat Ligne Padding Calcul | E6: 1
A7: =CONCATENATE(B7,"_",C7) -> Mat_5 | B7: Mat | C7: 5 | D7: Colonne Format Ideal X | E7: W
A8: =CONCATENATE(B8,"_",C8) -> Mat_6 | B8: Mat | C8: 6 | D8: Colonne Format Ideal Y | E8: X
A9: =CONCATENATE(B9,"_",C9) -> Mat_7 | B9: Mat | C9: 7 | D9: Colonne Epaisseur | E9: T
A10: =CONCATENATE(B10,"_",C10) -> Mat_8 | B10: Mat | C10: 8 | D10: Colonne Poids | E10: W
A11: =CONCATENATE(B11,"_",C11) -> Mat_9 | B11: Mat | C11: 9 | D11: Colonne M2 | E11: X
A12: =CONCATENATE(B12,"_",C12) -> Mat_10 | B12: Mat | C12: 10 | D12: Somme M2 | E12: M12
A13: =CONCATENATE(B13,"_",C13) -> Mat_11 | B13: Mat | C13: 11 | D13: Somme Poids | E13: N12
A14: =CONCATENATE(B14,"_",C14) -> Mat_12 | B14: Mat | C14: 12 | D14: Nombre de Matiere | E14: E1
A15: =CONCATENATE(B15,"_",C15) -> Mat_13 | B15: Mat | C15: 13 | D15: Somme Matiere | E15: I12
A16: =CONCATENATE(B16,"_",C16) -> Mat_14 | B16: Mat | C16: 14 | D16: Somme Composant | E16: I21
A17: =CONCATENATE(B17,"_",C17) -> Ope_0 | B17: Ope | C17: 0 | D17: Zone de detection de modification | E17: B24:B44
A18: =CONCATENATE(B18,"_",C18) -> Ope_1 | B18: Ope | C18: 1 | D18: Colonne Bystronic 3015 | E18: U
... A21: =CONCATENATE(B21,"_",C21) -> Ope_4 | B21: Ope | C21: 4 | D21: ColonneTR500 | E21: U
A22: =CONCATENATE(B22,"_",C22) -> Ope_5 | B22: Ope | C22: 5 | D22: Colonne Temp | E22: 30
A23: =CONCATENATE(B23,"_",C23) -> Ope_6 | B23: Ope | C23: 6 | D23: Colonne Type Machine | E23: 40
A24: =CONCATENATE(B24,"_",C24) -> Ope_7 | B24: Ope | C24: 7 | D24: Colonne Protection Pei | E24: N
A25: =CONCATENATE(B25,"_",C25) -> Ope_8 | B25: Ope | C25: 8 | D25: Nombre Operation | E25: A1
A26: =CONCATENATE(B26,"_",C26) -> Ope_9 | B26: Ope | C26: 9 | D26: Somme Preparation | E26: G45
A27: =CONCATENATE(B27,"_",C27) -> Ope_10 | B27: Ope | C27: 10 | D27: Somme Cout Operation | E27: K45
A28: =CONCATENATE(B28,"_",C28) -> Chi_0 | B28: Chi | C28: 0 | D28: Zone de detection Traitement de surface | E28: B47:D47
A29: =CONCATENATE(B29,"_",C29) -> Chi_1 | B29: Chi | C29: 1 | D29: Colonne Quantite | E29: K
A30: =CONCATENATE(B30,"_",C30) -> Chi_2 | B30: Chi | C30: 2 | D30: Nombre Achat Qte | E30: C1
A31: =CONCATENATE(B31,"_",C31) -> Com_0 | B31: Com | C31: 0 | D31: Nombre de Composants | E31: G1
A32: =CONCATENATE(B32,"_",C32) -> Com_1 | B32: Com | C32: 1 | D32: Zone de detection Composant | E32: B14:B20
A33: =CONCATENATE(B33,"_",C33) -> Par_0 | B33: Par | C33: 0 | D33: Feuille de chiffrage | E33: chiffrage
A34: =CONCATENATE(B34,"_",C34) -> Par_1 | B34: Par | C34: 1 | D34: Separateur | E34: --------------
A35: =CONCATENATE(B35,"_",C35) -> Par_2 | B35: Par | C35: 2 | D35: Selecteur | E35: ---->
... A42: =CONCATENATE(B42,"_",C42) -> Par_9 | B42: Par | C42: 9 | D42: Zone Densite Matiere | E42: A4:A20
A43: =CONCATENATE(B43,"_",C43) -> Par_10 | B43: Par | C43: 10
A44: =CONCATENATE(B44,"_",C44) -> _
A45: =CONCATENATE(B45,"_",C45) -> _
A46: =CONCATENATE(B46,"_",C46) -> _
A47: =CONCATENATE(B47,"_",C47) -> _
A48: =CONCATENATE(B48,"_",C48) -> _
A49: =CONCATENATE(B49,"_",C49) -> _
A50: =CONCATENATE(B50,"_",C50) -> _
A51: =CONCATENATE(B51,"_",C51) -> _
A52: =CONCATENATE(B52,"_",C52) -> _
A53: =CONCATENATE(B53,"_",C53) -> _
A54: =CONCATENATE(B54,"_",C54) -> _
A55: =CONCATENATE(B55,"_",C55) -> _
... A119: =CONCATENATE(B119,"_",C119) -> _
