Workbook

Sheet Extraction MCI
A1: N | B1: Noms | C1: Direction | D1: Lieux | E1: PR | F1: ce que je voudrai rajouter
A2: 63230 | B2: CONTROLE | C2: Vers Bordeaux | D2: BPV Nord | E2: 058+500
A3: 63231 | B3: OBSTACLE | C3: Vers Bordeaux | D3: BAU, VD, VM, VG | E3: 046+000
A4: 63232 | B4: STATIONNEMENT | C4: Vers Bordeaux | D4: Aire | E4: 039+700 | F4: fouchette aire entre 039+700 et 039+900
A5: 63233 | B5: STATIONNEMENT | C5: Vers Bordeaux | D5: Aire | E5: 069+500 | F5: fouchette aire entre 069+500 et 069+700
A6: 63234 | B6: STATIONNEMENT | C6: Vers Bordeaux | D6: Aire | E6: 089+950 | F6: fouchette aire entre 089+950 et 090+000
A7: 63235 | B7: STATIONNEMENT | C7: Vers Bordeaux | D7: Aire | E7: 126+500 | F7: fourchette aire entre 126+500 et 126+700
A8: 63236 | B8: TRAVAUX | C8: Vers Bayonne | D8: BAU, VD | E8: 058+500
A9: 63237 | B9: TRAVAUX | C9: Vers Bordeaux | D9: BAU, VD | E9: 058+500
A10: 63238 | B10: TRAVAUX | C10: Vers Bayonne | D10: BAU, VD | E10: 001+650
A11: 63239 | B11: PANNE | C11: Vers Bordeaux | D11: Aire | E11: 069+500 | F11: fouchette aire entre 069+500 et 069+700
A12: 63240 | B12: STATIONNEMENT | C12: Vers Bayonne | D12: BAU, Diffuseur | E12: 062+200
A13: 63241 | B13: TRAVAUX | C13: Vers Bordeaux | D13: BAU, VD | E13: 135+300
A14: 63242 | B14: STATIONNEMENT | C14: Vers Bordeaux | D14: VD | E14: 070+600
A15: 63243 | B15: STATIONNEMENT | C15: Vers Bayonne | D15: TPC | E15: 092+507
A16: 63244 | B16: STATIONNEMENT | C16: Vers Bordeaux | D16: VD | E16: 046+996
A17: 63245 | B17: STATIONNEMENT | C17: Vers Bayonne | D17: BAU, VD, VM, VG | E17: 115+000
A18: 63246 | B18: STATIONNEMENT | C18: Vers Bayonne | D18: BAU | E18: 115+000
A19: 63247 | B19: STATIONNEMENT | C19: Vers Bayonne | D19: BAU | E19: 117+260
A20: 63248 | B20: STATIONNEMENT | C20: Vers Bayonne | D20: BAU | E20: 131+810
A21: 63249 | B21: PANNE | C21: Vers Bordeaux | D21: BAU, Diffuseur | E21: 002+450
A22: 63250 | B22: CONTRÔLE DOUANE | C22: Vers Bordeaux | D22: BPV Sud | E22: 123+250
A23: 63251 | B23: PANNE | C23: Vers Bayonne | D23: BAU | E23: 113+800
... A25: 63254 | B25: STATIONNEMENT | C25: Vers Bayonne | D25: BAU | E25: 093+000
A26: 63255 | B26: PANNE | C26: Vers Bayonne | D26: Aire | E26: 039+700 | F26: fouchette aire entre 039+700 et 039+900

Sheet Filtrage
A1: N | B1: NOMS | C1: Aire | D1: PR | E1: Lieux | F1: Sens
A2: ='Extraction MCI'!A2 -> 63230 | B2: ='Extraction MCI'!B2 -> CONTROLE | C2: ='Extraction MCI'!D2 -> BPV Nord | D2: ='Extraction MCI'!E2 -> 058+500 | E2: =IF(AND(C2="Aire",D2="039+700",F2=1),"AIRE N1",IF(AND(C2="Aire",D2="039+700",F2=2),"AIRE N2",IF(AND(C2="Aire",D2="056+850",F2=1),"AIRE N3",IF(AND(C2="Aire",D2="056+850",F2=2),"AIRE N4",IF(AND(C2="Aire",D2="069+500",F2=1),"AIRE N5",IF(AND(C2="Aire",D2="069+500",F2=2),"AIRE N6",IF(AND(C2="Aire",D2="089+950",F2=1),"AIRE N7",IF(AND(C2="Aire",D2="089+950",F2=2),"AIRE N8",IF(AND(C2="Aire",D2="109+400",F2=1),"AIRE N9",IF(AND(C2="Aire",D2="109+400",F2=2),"AIRE N10",IF(AND(C2="Aire",D2="126+500",F2=1),"AIRE N11",IF(AND(C2="Aire",D2="126+500",F2=2),"AIRE N12",IF(AND(C2="Aire",D2="058+500",F2=1),"AIRE N13",IF(AND(C2="Aire",D2="058+500",F2=2),"AIRE N14",IF(AND(C2="Aire",D2="123+250",F2=1),"AIRE N15",IF(AND(C2="Aire",D2="123+250",F2=2),"AIRE N16",C2)))))))))))))))) -> BPV Nord | F2: =IF('Extraction MCI'!C2="Vers Bordeaux",1,2) -> 1
A3: ='Extraction MCI'!A3 -> 63231 | B3: ='Extraction MCI'!B3 -> OBSTACLE | C3: ='Extraction MCI'!D3 -> BAU, VD, VM, VG | D3: ='Extraction MCI'!E3 -> 046+000 | E3: =IF(AND(C3="Aire",D3="039+700",F3=1),"AIRE N1",IF(AND(C3="Aire",D3="039+700",F3=2),"AIRE N2",IF(AND(C3="Aire",D3="056+850",F3=1),"AIRE N3",IF(AND(C3="Aire",D3="056+850",F3=2),"AIRE N4",IF(AND(C3="Aire",D3="069+500",F3=1),"AIRE N5",IF(AND(C3="Aire",D3="069+500",F3=2),"AIRE N6",IF(AND(C3="Aire",D3="089+950",F3=1),"AIRE N7",IF(AND(C3="Aire",D3="089+950",F3=2),"AIRE N8",IF(AND(C3="Aire",D3="109+400",F3=1),"AIRE N9",IF(AND(C3="Aire",D3="109+400",F3=2),"AIRE N10",IF(AND(C3="Aire",D3="126+500",F3=1),"AIRE N11",IF(AND(C3="Aire",D3="126+500",F3=2),"AIRE N12",IF(AND(C3="Aire",D3="058+500",F3=1),"AIRE N13",IF(AND(C3="Aire",D3="058+500",F3=2),"AIRE N14",IF(AND(C3="Aire",D3="123+250",F3=1),"AIRE N15",IF(AND(C3="Aire",D3="123+250",F3=2),"AIRE N16",C3)))))))))))))))) -> BAU, VD, VM, VG | F3: =IF('Extraction MCI'!C3="Vers Bordeaux",1,2) -> 1
A4: ='Extraction MCI'!A4 -> 63232 | B4: ='Extraction MCI'!B4 -> STATIONNEMENT | C4: ='Extraction MCI'!D4 -> Aire | D4: ='Extraction MCI'!E4 -> 039+700 | E4: =IF(AND(C4="Aire",D4="039+700",F4=1),"AIRE N1",IF(AND(C4="Aire",D4="039+700",F4=2),"AIRE N2",IF(AND(C4="Aire",D4="056+850",F4=1),"AIRE N3",IF(AND(C4="Aire",D4="056+850",F4=2),"AIRE N4",IF(AND(C4="Aire",D4="069+500",F4=1),"AIRE N5",IF(AND(C4="Aire",D4="069+500",F4=2),"AIRE N6",IF(AND(C4="Aire",D4="089+950",F4=1),"AIRE N7",IF(AND(C4="Aire",D4="089+950",F4=2),"AIRE N8",IF(AND(C4="Aire",D4="109+400",F4=1),"AIRE N9",IF(AND(C4="Aire",D4="109+400",F4=2),"AIRE N10",IF(AND(C4="Aire",D4="126+500",F4=1),"AIRE N11",IF(AND(C4="Aire",D4="126+500",F4=2),"AIRE N12",IF(AND(C4="Aire",D4="058+500",F4=1),"AIRE N13",IF(AND(C4="Aire",D4="058+500",F4=2),"AIRE N14",IF(AND(C4="Aire",D4="123+250",F4=1),"AIRE N15",IF(AND(C4="Aire",D4="123+250",F4=2),"AIRE N16",C4)))))))))))))))) -> AIRE N1 | F4: =IF('Extraction MCI'!C4="Vers Bordeaux",1,2) -> 1
A5: ='Extraction MCI'!A5 -> 63233 | B5: ='Extraction MCI'!B5 -> STATIONNEMENT | C5: ='Extraction MCI'!D5 -> Aire | D5: ='Extraction MCI'!E5 -> 069+500 | E5: =IF(AND(C5="Aire",D5="039+700",F5=1),"AIRE N1",IF(AND(C5="Aire",D5="039+700",F5=2),"AIRE N2",IF(AND(C5="Aire",D5="056+850",F5=1),"AIRE N3",IF(AND(C5="Aire",D5="056+850",F5=2),"AIRE N4",IF(AND(C5="Aire",D5="069+500",F5=1),"AIRE N5",IF(AND(C5="Aire",D5="069+500",F5=2),"AIRE N6",IF(AND(C5="Aire",D5="089+950",F5=1),"AIRE N7",IF(AND(C5="Aire",D5="089+950",F5=2),"AIRE N8",IF(AND(C5="Aire",D5="109+400",F5=1),"AIRE N9",IF(AND(C5="Aire",D5="109+400",F5=2),"AIRE N10",IF(AND(C5="Aire",D5="126+500",F5=1),"AIRE N11",IF(AND(C5="Aire",D5="126+500",F5=2),"AIRE N12",IF(AND(C5="Aire",D5="058+500",F5=1),"AIRE N13",IF(AND(C5="Aire",D5="058+500",F5=2),"AIRE N14",IF(AND(C5="Aire",D5="123+250",F5=1),"AIRE N15",IF(AND(C5="Aire",D5="123+250",F5=2),"AIRE N16",C5)))))))))))))))) -> AIRE N5 | F5: =IF('Extraction MCI'!C5="Vers Bordeaux",1,2) -> 1
A6: ='Extraction MCI'!A6 -> 63234 | B6: ='Extraction MCI'!B6 -> STATIONNEMENT | C6: ='Extraction MCI'!D6 -> Aire | D6: ='Extraction MCI'!E6 -> 089+950 | E6: =IF(AND(C6="Aire",D6="039+700",F6=1),"AIRE N1",IF(AND(C6="Aire",D6="039+700",F6=2),"AIRE N2",IF(AND(C6="Aire",D6="056+850",F6=1),"AIRE N3",IF(AND(C6="Aire",D6="056+850",F6=2),"AIRE N4",IF(AND(C6="Aire",D6="069+500",F6=1),"AIRE N5",IF(AND(C6="Aire",D6="069+500",F6=2),"AIRE N6",IF(AND(C6="Aire",D6="089+950",F6=1),"AIRE N7",IF(AND(C6="Aire",D6="089+950",F6=2),"AIRE N8",IF(AND(C6="Aire",D6="109+400",F6=1),"AIRE N9",IF(AND(C6="Aire",D6="109+400",F6=2),"AIRE N10",IF(AND(C6="Aire",D6="126+500",F6=1),"AIRE N11",IF(AND(C6="Aire",D6="126+500",F6=2),"AIRE N12",IF(AND(C6="Aire",D6="058+500",F6=1),"AIRE N13",IF(AND(C6="Aire",D6="058+500",F6=2),"AIRE N14",IF(AND(C6="Aire",D6="123+250",F6=1),"AIRE N15",IF(AND(C6="Aire",D6="123+250",F6=2),"AIRE N16",C6)))))))))))))))) -> AIRE N7 | F6: =IF('Extraction MCI'!C6="Vers Bordeaux",1,2) -> 1
A7: ='Extraction MCI'!A7 -> 63235 | B7: ='Extraction MCI'!B7 -> STATIONNEMENT | C7: ='Extraction MCI'!D7 -> Aire | D7: ='Extraction MCI'!E7 -> 126+500 | E7: =IF(AND(C7="Aire",D7="039+700",F7=1),"AIRE N1",IF(AND(C7="Aire",D7="039+700",F7=2),"AIRE N2",IF(AND(C7="Aire",D7="056+850",F7=1),"AIRE N3",IF(AND(C7="Aire",D7="056+850",F7=2),"AIRE N4",IF(AND(C7="Aire",D7="069+500",F7=1),"AIRE N5",IF(AND(C7="Aire",D7="069+500",F7=2),"AIRE N6",IF(AND(C7="Aire",D7="089+950",F7=1),"AIRE N7",IF(AND(C7="Aire",D7="089+950",F7=2),"AIRE N8",IF(AND(C7="Aire",D7="109+400",F7=1),"AIRE N9",IF(AND(C7="Aire",D7="109+400",F7=2),"AIRE N10",IF(AND(C7="Aire",D7="126+500",F7=1),"AIRE N11",IF(AND(C7="Aire",D7="126+500",F7=2),"AIRE N12",IF(AND(C7="Aire",D7="058+500",F7=1),"AIRE N13",IF(AND(C7="Aire",D7="058+500",F7=2),"AIRE N14",IF(AND(C7="Aire",D7="123+250",F7=1),"AIRE N15",IF(AND(C7="Aire",D7="123+250",F7=2),"AIRE N16",C7)))))))))))))))) -> AIRE N11 | F7: =IF('Extraction MCI'!C7="Vers Bordeaux",1,2) -> 1
A8: ='Extraction MCI'!A8 -> 63236 | B8: ='Extraction MCI'!B8 -> TRAVAUX | C8: ='Extraction MCI'!D8 -> BAU, VD | D8: ='Extraction MCI'!E8 -> 058+500 | E8: =IF(AND(C8="Aire",D8="039+700",F8=1),"AIRE N1",IF(AND(C8="Aire",D8="039+700",F8=2),"AIRE N2",IF(AND(C8="Aire",D8="056+850",F8=1),"AIRE N3",IF(AND(C8="Aire",D8="056+850",F8=2),"AIRE N4",IF(AND(C8="Aire",D8="069+500",F8=1),"AIRE N5",IF(AND(C8="Aire",D8="069+500",F8=2),"AIRE N6",IF(AND(C8="Aire",D8="089+950",F8=1),"AIRE N7",IF(AND(C8="Aire",D8="089+950",F8=2),"AIRE N8",IF(AND(C8="Aire",D8="109+400",F8=1),"AIRE N9",IF(AND(C8="Aire",D8="109+400",F8=2),"AIRE N10",IF(AND(C8="Aire",D8="126+500",F8=1),"AIRE N11",IF(AND(C8="Aire",D8="126+500",F8=2),"AIRE N12",IF(AND(C8="Aire",D8="058+500",F8=1),"AIRE N13",IF(AND(C8="Aire",D8="058+500",F8=2),"AIRE N14",IF(AND(C8="Aire",D8="123+250",F8=1),"AIRE N15",IF(AND(C8="Aire",D8="123+250",F8=2),"AIRE N16",C8)))))))))))))))) -> BAU, VD | F8: =IF('Extraction MCI'!C8="Vers Bordeaux",1,2) -> 2
A9: ='Extraction MCI'!A9 -> 63237 | B9: ='Extraction MCI'!B9 -> TRAVAUX | C9: ='Extraction MCI'!D9 -> BAU, VD | D9: ='Extraction MCI'!E9 -> 058+500 | E9: =IF(AND(C9="Aire",D9="039+700",F9=1),"AIRE N1",IF(AND(C9="Aire",D9="039+700",F9=2),"AIRE N2",IF(AND(C9="Aire",D9="056+850",F9=1),"AIRE N3",IF(AND(C9="Aire",D9="056+850",F9=2),"AIRE N4",IF(AND(C9="Aire",D9="069+500",F9=1),"AIRE N5",IF(AND(C9="Aire",D9="069+500",F9=2),"AIRE N6",IF(AND(C9="Aire",D9="089+950",F9=1),"AIRE N7",IF(AND(C9="Aire",D9="089+950",F9=2),"AIRE N8",IF(AND(C9="Aire",D9="109+400",F9=1),"AIRE N9",IF(AND(C9="Aire",D9="109+400",F9=2),"AIRE N10",IF(AND(C9="Aire",D9="126+500",F9=1),"AIRE N11",IF(AND(C9="Aire",D9="126+500",F9=2),"AIRE N12",IF(AND(C9="Aire",D9="058+500",F9=1),"AIRE N13",IF(AND(C9="Aire",D9="058+500",F9=2),"AIRE N14",IF(AND(C9="Aire",D9="123+250",F9=1),"AIRE N15",IF(AND(C9="Aire",D9="123+250",F9=2),"AIRE N16",C9)))))))))))))))) -> BAU, VD | F9: =IF('Extraction MCI'!C9="Vers Bordeaux",1,2) -> 1
A10: ='Extraction MCI'!A10 -> 63238 | B10: ='Extraction MCI'!B10 -> TRAVAUX | C10: ='Extraction MCI'!D10 -> BAU, VD | D10: ='Extraction MCI'!E10 -> 001+650 | E10: =IF(AND(C10="Aire",D10="039+700",F10=1),"AIRE N1",IF(AND(C10="Aire",D10="039+700",F10=2),"AIRE N2",IF(AND(C10="Aire",D10="056+850",F10=1),"AIRE N3",IF(AND(C10="Aire",D10="056+850",F10=2),"AIRE N4",IF(AND(C10="Aire",D10="069+500",F10=1),"AIRE N5",IF(AND(C10="Aire",D10="069+500",F10=2),"AIRE N6",IF(AND(C10="Aire",D10="089+950",F10=1),"AIRE N7",IF(AND(C10="Aire",D10="089+950",F10=2),"AIRE N8",IF(AND(C10="Aire",D10="109+400",F10=1),"AIRE N9",IF(AND(C10="Aire",D10="109+400",F10=2),"AIRE N10",IF(AND(C10="Aire",D10="126+500",F10=1),"AIRE N11",IF(AND(C10="Aire",D10="126+500",F10=2),"AIRE N12",IF(AND(C10="Aire",D10="058+500",F10=1),"AIRE N13",IF(AND(C10="Aire",D10="058+500",F10=2),"AIRE N14",IF(AND(C10="Aire",D10="123+250",F10=1),"AIRE N15",IF(AND(C10="Aire",D10="123+250",F10=2),"AIRE N16",C10)))))))))))))))) -> BAU, VD | F10: =IF('Extraction MCI'!C10="Vers Bordeaux",1,2) -> 2
A11: ='Extraction MCI'!A11 -> 63239 | B11: ='Extraction MCI'!B11 -> PANNE | C11: ='Extraction MCI'!D11 -> Aire | D11: ='Extraction MCI'!E11 -> 069+500 | E11: =IF(AND(C11="Aire",D11="039+700",F11=1),"AIRE N1",IF(AND(C11="Aire",D11="039+700",F11=2),"AIRE N2",IF(AND(C11="Aire",D11="056+850",F11=1),"AIRE N3",IF(AND(C11="Aire",D11="056+850",F11=2),"AIRE N4",IF(AND(C11="Aire",D11="069+500",F11=1),"AIRE N5",IF(AND(C11="Aire",D11="069+500",F11=2),"AIRE N6",IF(AND(C11="Aire",D11="089+950",F11=1),"AIRE N7",IF(AND(C11="Aire",D11="089+950",F11=2),"AIRE N8",IF(AND(C11="Aire",D11="109+400",F11=1),"AIRE N9",IF(AND(C11="Aire",D11="109+400",F11=2),"AIRE N10",IF(AND(C11="Aire",D11="126+500",F11=1),"AIRE N11",IF(AND(C11="Aire",D11="126+500",F11=2),"AIRE N12",IF(AND(C11="Aire",D11="058+500",F11=1),"AIRE N13",IF(AND(C11="Aire",D11="058+500",F11=2),"AIRE N14",IF(AND(C11="Aire",D11="123+250",F11=1),"AIRE N15",IF(AND(C11="Aire",D11="123+250",F11=2),"AIRE N16",C11)))))))))))))))) -> AIRE N5 | F11: =IF('Extraction MCI'!C11="Vers Bordeaux",1,2) -> 1
A12: ='Extraction MCI'!A12 -> 63240 | B12: ='Extraction MCI'!B12 -> STATIONNEMENT | C12: ='Extraction MCI'!D12 -> BAU, Diffuseur | D12: ='Extraction MCI'!E12 -> 062+200 | E12: =IF(AND(C12="Aire",D12="039+700",F12=1),"AIRE N1",IF(AND(C12="Aire",D12="039+700",F12=2),"AIRE N2",IF(AND(C12="Aire",D12="056+850",F12=1),"AIRE N3",IF(AND(C12="Aire",D12="056+850",F12=2),"AIRE N4",IF(AND(C12="Aire",D12="069+500",F12=1),"AIRE N5",IF(AND(C12="Aire",D12="069+500",F12=2),"AIRE N6",IF(AND(C12="Aire",D12="089+950",F12=1),"AIRE N7",IF(AND(C12="Aire",D12="089+950",F12=2),"AIRE N8",IF(AND(C12="Aire",D12="109+400",F12=1),"AIRE N9",IF(AND(C12="Aire",D12="109+400",F12=2),"AIRE N10",IF(AND(C12="Aire",D12="126+500",F12=1),"AIRE N11",IF(AND(C12="Aire",D12="126+500",F12=2),"AIRE N12",IF(AND(C12="Aire",D12="058+500",F12=1),"AIRE N13",IF(AND(C12="Aire",D12="058+500",F12=2),"AIRE N14",IF(AND(C12="Aire",D12="123+250",F12=1),"AIRE N15",IF(AND(C12="Aire",D12="123+250",F12=2),"AIRE N16",C12)))))))))))))))) -> BAU, Diffuseur | F12: =IF('Extraction MCI'!C12="Vers Bordeaux",1,2) -> 2
A13: ='Extraction MCI'!A13 -> 63241 | B13: ='Extraction MCI'!B13 -> TRAVAUX | C13: ='Extraction MCI'!D13 -> BAU, VD | D13: ='Extraction MCI'!E13 -> 135+300 | E13: =IF(AND(C13="Aire",D13="039+700",F13=1),"AIRE N1",IF(AND(C13="Aire",D13="039+700",F13=2),"AIRE N2",IF(AND(C13="Aire",D13="056+850",F13=1),"AIRE N3",IF(AND(C13="Aire",D13="056+850",F13=2),"AIRE N4",IF(AND(C13="Aire",D13="069+500",F13=1),"AIRE N5",IF(AND(C13="Aire",D13="069+500",F13=2),"AIRE N6",IF(AND(C13="Aire",D13="089+950",F13=1),"AIRE N7",IF(AND(C13="Aire",D13="089+950",F13=2),"AIRE N8",IF(AND(C13="Aire",D13="109+400",F13=1),"AIRE N9",IF(AND(C13="Aire",D13="109+400",F13=2),"AIRE N10",IF(AND(C13="Aire",D13="126+500",F13=1),"AIRE N11",IF(AND(C13="Aire",D13="126+500",F13=2),"AIRE N12",IF(AND(C13="Aire",D13="058+500",F13=1),"AIRE N13",IF(AND(C13="Aire",D13="058+500",F13=2),"AIRE N14",IF(AND(C13="Aire",D13="123+250",F13=1),"AIRE N15",IF(AND(C13="Aire",D13="123+250",F13=2),"AIRE N16",C13)))))))))))))))) -> BAU, VD | F13: =IF('Extraction MCI'!C13="Vers Bordeaux",1,2) -> 1
... A100: ='Extraction MCI'!A100 -> 0 | B100: ='Extraction MCI'!B100 -> 0 | C100: ='Extraction MCI'!D100 -> 0 | D100: ='Extraction MCI'!E100 -> 0 | E100: =IF(AND(C100="Aire",D100="039+700",F100=1),"AIRE N1",IF(AND(C100="Aire",D100="039+700",F100=2),"AIRE N2",IF(AND(C100="Aire",D100="056+850",F100=1),"AIRE N3",IF(AND(C100="Aire",D100="056+850",F100=2),"AIRE N4",IF(AND(C100="Aire",D100="069+500",F100=1),"AIRE N5",IF(AND(C100="Aire",D100="069+500",F100=2),"AIRE N6",IF(AND(C100="Aire",D100="089+950",F100=1),"AIRE N7",IF(AND(C100="Aire",D100="089+950",F100=2),"AIRE N8",IF(AND(C100="Aire",D100="109+400",F100=1),"AIRE N9",IF(AND(C100="Aire",D100="109+400",F100=2),"AIRE N10",IF(AND(C100="Aire",D100="126+500",F100=1),"AIRE N11",IF(AND(C100="Aire",D100="126+500",F100=2),"AIRE N12",IF(AND(C100="Aire",D100="058+500",F100=1),"AIRE N13",IF(AND(C100="Aire",D100="058+500",F100=2),"AIRE N14",IF(AND(C100="Aire",D100="123+250",F100=1),"AIRE N15",IF(AND(C100="Aire",D100="123+250",F100=2),"AIRE N16",C100)))))))))))))))) -> 0 | F100: =IF('Extraction MCI'!C100="Vers Bordeaux",1,2) -> 2
