Workbook

Sheet Extraction MCI

Sheet Filtrage
A1: N | B1: NOMS | C1: Aire | D1: PR | E1: Lieux | F1: Sens
A2: ='Extraction MCI'!A2 -> 0 | B2: ='Extraction MCI'!B2 -> 0 | C2: ='Extraction MCI'!P2 -> 0 | D2: ='Extraction MCI'!Q2 -> 0 | E2: =IF(AND(C2="Aire",D2="039+700",F2=1),"AIRE N1",IF(AND(C2="Aire",D2="039+700",F2=2),"AIRE N2",IF(AND(C2="Aire",D2="056+850",F2=1),"AIRE N3",IF(AND(C2="Aire",D2="056+850",F2=2),"AIRE N4",IF(AND(C2="Aire",D2="069+500",F2=1),"AIRE N5",IF(AND(C2="Aire",D2="069+500",F2=2),"AIRE N6",IF(AND(C2="Aire",D2="089+950",F2=1),"AIRE N7",IF(AND(C2="Aire",D2="089+950",F2=2),"AIRE N8",IF(AND(C2="Aire",D2="109+400",F2=1),"AIRE N9",IF(AND(C2="Aire",D2="109+400",F2=2),"AIRE N10",IF(AND(C2="Aire",D2="126+500",F2=1),"AIRE N11",IF(AND(C2="Aire",D2="126+500",F2=2),"AIRE N12",IF(AND(C2="Aire",D2="058+500",F2=1),"AIRE N13",IF(AND(C2="Aire",D2="058+500",F2=2),"AIRE N14",IF(AND(C2="Aire",D2="123+250",F2=1),"AIRE N15",IF(AND(C2="Aire",D2="123+250",F2=2),"AIRE N16",C2)))))))))))))))) -> 0 | F2: =IF('Extraction MCI'!N2="Direction",1,2) -> 2
A3: ='Extraction MCI'!A3 -> 0 | B3: ='Extraction MCI'!B3 -> 0 | C3: ='Extraction MCI'!P3 -> 0 | D3: ='Extraction MCI'!Q3 -> 0 | E3: =IF(AND(C3="Aire",D3="039+700",F3=1),"AIRE N1",IF(AND(C3="Aire",D3="039+700",F3=2),"AIRE N2",IF(AND(C3="Aire",D3="056+850",F3=1),"AIRE N3",IF(AND(C3="Aire",D3="056+850",F3=2),"AIRE N4",IF(AND(C3="Aire",D3="069+500",F3=1),"AIRE N5",IF(AND(C3="Aire",D3="069+500",F3=2),"AIRE N6",IF(AND(C3="Aire",D3="089+950",F3=1),"AIRE N7",IF(AND(C3="Aire",D3="089+950",F3=2),"AIRE N8",IF(AND(C3="Aire",D3="109+400",F3=1),"AIRE N9",IF(AND(C3="Aire",D3="109+400",F3=2),"AIRE N10",IF(AND(C3="Aire",D3="126+500",F3=1),"AIRE N11",IF(AND(C3="Aire",D3="126+500",F3=2),"AIRE N12",IF(AND(C3="Aire",D3="058+500",F3=1),"AIRE N13",IF(AND(C3="Aire",D3="058+500",F3=2),"AIRE N14",IF(AND(C3="Aire",D3="123+250",F3=1),"AIRE N15",IF(AND(C3="Aire",D3="123+250",F3=2),"AIRE N16",C3)))))))))))))))) -> 0 | F3: =IF('Extraction MCI'!N3="Direction",1,2) -> 2
A4: ='Extraction MCI'!A4 -> 0 | B4: ='Extraction MCI'!B4 -> 0 | C4: ='Extraction MCI'!P4 -> 0 | D4: ='Extraction MCI'!Q4 -> 0 | E4: =IF(AND(C4="Aire",D4="039+700",F4=1),"AIRE N1",IF(AND(C4="Aire",D4="039+700",F4=2),"AIRE N2",IF(AND(C4="Aire",D4="056+850",F4=1),"AIRE N3",IF(AND(C4="Aire",D4="056+850",F4=2),"AIRE N4",IF(AND(C4="Aire",D4="069+500",F4=1),"AIRE N5",IF(AND(C4="Aire",D4="069+500",F4=2),"AIRE N6",IF(AND(C4="Aire",D4="089+950",F4=1),"AIRE N7",IF(AND(C4="Aire",D4="089+950",F4=2),"AIRE N8",IF(AND(C4="Aire",D4="109+400",F4=1),"AIRE N9",IF(AND(C4="Aire",D4="109+400",F4=2),"AIRE N10",IF(AND(C4="Aire",D4="126+500",F4=1),"AIRE N11",IF(AND(C4="Aire",D4="126+500",F4=2),"AIRE N12",IF(AND(C4="Aire",D4="058+500",F4=1),"AIRE N13",IF(AND(C4="Aire",D4="058+500",F4=2),"AIRE N14",IF(AND(C4="Aire",D4="123+250",F4=1),"AIRE N15",IF(AND(C4="Aire",D4="123+250",F4=2),"AIRE N16",C4)))))))))))))))) -> 0 | F4: =IF('Extraction MCI'!N4="Direction",1,2) -> 2
A5: ='Extraction MCI'!A5 -> 0 | B5: ='Extraction MCI'!B5 -> 0 | C5: ='Extraction MCI'!P5 -> 0 | D5: ='Extraction MCI'!Q5 -> 0 | E5: =IF(AND(C5="Aire",D5="039+700",F5=1),"AIRE N1",IF(AND(C5="Aire",D5="039+700",F5=2),"AIRE N2",IF(AND(C5="Aire",D5="056+850",F5=1),"AIRE N3",IF(AND(C5="Aire",D5="056+850",F5=2),"AIRE N4",IF(AND(C5="Aire",D5="069+500",F5=1),"AIRE N5",IF(AND(C5="Aire",D5="069+500",F5=2),"AIRE N6",IF(AND(C5="Aire",D5="089+950",F5=1),"AIRE N7",IF(AND(C5="Aire",D5="089+950",F5=2),"AIRE N8",IF(AND(C5="Aire",D5="109+400",F5=1),"AIRE N9",IF(AND(C5="Aire",D5="109+400",F5=2),"AIRE N10",IF(AND(C5="Aire",D5="126+500",F5=1),"AIRE N11",IF(AND(C5="Aire",D5="126+500",F5=2),"AIRE N12",IF(AND(C5="Aire",D5="058+500",F5=1),"AIRE N13",IF(AND(C5="Aire",D5="058+500",F5=2),"AIRE N14",IF(AND(C5="Aire",D5="123+250",F5=1),"AIRE N15",IF(AND(C5="Aire",D5="123+250",F5=2),"AIRE N16",C5)))))))))))))))) -> 0 | F5: =IF('Extraction MCI'!N5="Direction",1,2) -> 2
A6: ='Extraction MCI'!A6 -> 0 | B6: ='Extraction MCI'!B6 -> 0 | C6: ='Extraction MCI'!P6 -> 0 | D6: ='Extraction MCI'!Q6 -> 0 | E6: =IF(AND(C6="Aire",D6="039+700",F6=1),"AIRE N1",IF(AND(C6="Aire",D6="039+700",F6=2),"AIRE N2",IF(AND(C6="Aire",D6="056+850",F6=1),"AIRE N3",IF(AND(C6="Aire",D6="056+850",F6=2),"AIRE N4",IF(AND(C6="Aire",D6="069+500",F6=1),"AIRE N5",IF(AND(C6="Aire",D6="069+500",F6=2),"AIRE N6",IF(AND(C6="Aire",D6="089+950",F6=1),"AIRE N7",IF(AND(C6="Aire",D6="089+950",F6=2),"AIRE N8",IF(AND(C6="Aire",D6="109+400",F6=1),"AIRE N9",IF(AND(C6="Aire",D6="109+400",F6=2),"AIRE N10",IF(AND(C6="Aire",D6="126+500",F6=1),"AIRE N11",IF(AND(C6="Aire",D6="126+500",F6=2),"AIRE N12",IF(AND(C6="Aire",D6="058+500",F6=1),"AIRE N13",IF(AND(C6="Aire",D6="058+500",F6=2),"AIRE N14",IF(AND(C6="Aire",D6="123+250",F6=1),"AIRE N15",IF(AND(C6="Aire",D6="123+250",F6=2),"AIRE N16",C6)))))))))))))))) -> 0 | F6: =IF('Extraction MCI'!N6="Direction",1,2) -> 2
A7: ='Extraction MCI'!A7 -> 0 | B7: ='Extraction MCI'!B7 -> 0 | C7: ='Extraction MCI'!P7 -> 0 | D7: ='Extraction MCI'!Q7 -> 0 | E7: =IF(AND(C7="Aire",D7="039+700",F7=1),"AIRE N1",IF(AND(C7="Aire",D7="039+700",F7=2),"AIRE N2",IF(AND(C7="Aire",D7="056+850",F7=1),"AIRE N3",IF(AND(C7="Aire",D7="056+850",F7=2),"AIRE N4",IF(AND(C7="Aire",D7="069+500",F7=1),"AIRE N5",IF(AND(C7="Aire",D7="069+500",F7=2),"AIRE N6",IF(AND(C7="Aire",D7="089+950",F7=1),"AIRE N7",IF(AND(C7="Aire",D7="089+950",F7=2),"AIRE N8",IF(AND(C7="Aire",D7="109+400",F7=1),"AIRE N9",IF(AND(C7="Aire",D7="109+400",F7=2),"AIRE N10",IF(AND(C7="Aire",D7="126+500",F7=1),"AIRE N11",IF(AND(C7="Aire",D7="126+500",F7=2),"AIRE N12",IF(AND(C7="Aire",D7="058+500",F7=1),"AIRE N13",IF(AND(C7="Aire",D7="058+500",F7=2),"AIRE N14",IF(AND(C7="Aire",D7="123+250",F7=1),"AIRE N15",IF(AND(C7="Aire",D7="123+250",F7=2),"AIRE N16",C7)))))))))))))))) -> 0 | F7: =IF('Extraction MCI'!N7="Direction",1,2) -> 2
A8: ='Extraction MCI'!A8 -> 0 | B8: ='Extraction MCI'!B8 -> 0 | C8: ='Extraction MCI'!P8 -> 0 | D8: ='Extraction MCI'!Q8 -> 0 | E8: =IF(AND(C8="Aire",D8="039+700",F8=1),"AIRE N1",IF(AND(C8="Aire",D8="039+700",F8=2),"AIRE N2",IF(AND(C8="Aire",D8="056+850",F8=1),"AIRE N3",IF(AND(C8="Aire",D8="056+850",F8=2),"AIRE N4",IF(AND(C8="Aire",D8="069+500",F8=1),"AIRE N5",IF(AND(C8="Aire",D8="069+500",F8=2),"AIRE N6",IF(AND(C8="Aire",D8="089+950",F8=1),"AIRE N7",IF(AND(C8="Aire",D8="089+950",F8=2),"AIRE N8",IF(AND(C8="Aire",D8="109+400",F8=1),"AIRE N9",IF(AND(C8="Aire",D8="109+400",F8=2),"AIRE N10",IF(AND(C8="Aire",D8="126+500",F8=1),"AIRE N11",IF(AND(C8="Aire",D8="126+500",F8=2),"AIRE N12",IF(AND(C8="Aire",D8="058+500",F8=1),"AIRE N13",IF(AND(C8="Aire",D8="058+500",F8=2),"AIRE N14",IF(AND(C8="Aire",D8="123+250",F8=1),"AIRE N15",IF(AND(C8="Aire",D8="123+250",F8=2),"AIRE N16",C8)))))))))))))))) -> 0 | F8: =IF('Extraction MCI'!N8="Direction",1,2) -> 2
A9: ='Extraction MCI'!A9 -> 0 | B9: ='Extraction MCI'!B9 -> 0 | C9: ='Extraction MCI'!P9 -> 0 | D9: ='Extraction MCI'!Q9 -> 0 | E9: =IF(AND(C9="Aire",D9="039+700",F9=1),"AIRE N1",IF(AND(C9="Aire",D9="039+700",F9=2),"AIRE N2",IF(AND(C9="Aire",D9="056+850",F9=1),"AIRE N3",IF(AND(C9="Aire",D9="056+850",F9=2),"AIRE N4",IF(AND(C9="Aire",D9="069+500",F9=1),"AIRE N5",IF(AND(C9="Aire",D9="069+500",F9=2),"AIRE N6",IF(AND(C9="Aire",D9="089+950",F9=1),"AIRE N7",IF(AND(C9="Aire",D9="089+950",F9=2),"AIRE N8",IF(AND(C9="Aire",D9="109+400",F9=1),"AIRE N9",IF(AND(C9="Aire",D9="109+400",F9=2),"AIRE N10",IF(AND(C9="Aire",D9="126+500",F9=1),"AIRE N11",IF(AND(C9="Aire",D9="126+500",F9=2),"AIRE N12",IF(AND(C9="Aire",D9="058+500",F9=1),"AIRE N13",IF(AND(C9="Aire",D9="058+500",F9=2),"AIRE N14",IF(AND(C9="Aire",D9="123+250",F9=1),"AIRE N15",IF(AND(C9="Aire",D9="123+250",F9=2),"AIRE N16",C9)))))))))))))))) -> 0 | F9: =IF('Extraction MCI'!N9="Direction",1,2) -> 2
A10: ='Extraction MCI'!A10 -> 0 | B10: ='Extraction MCI'!B10 -> 0 | C10: ='Extraction MCI'!P10 -> 0 | D10: ='Extraction MCI'!Q10 -> 0 | E10: =IF(AND(C10="Aire",D10="039+700",F10=1),"AIRE N1",IF(AND(C10="Aire",D10="039+700",F10=2),"AIRE N2",IF(AND(C10="Aire",D10="056+850",F10=1),"AIRE N3",IF(AND(C10="Aire",D10="056+850",F10=2),"AIRE N4",IF(AND(C10="Aire",D10="069+500",F10=1),"AIRE N5",IF(AND(C10="Aire",D10="069+500",F10=2),"AIRE N6",IF(AND(C10="Aire",D10="089+950",F10=1),"AIRE N7",IF(AND(C10="Aire",D10="089+950",F10=2),"AIRE N8",IF(AND(C10="Aire",D10="109+400",F10=1),"AIRE N9",IF(AND(C10="Aire",D10="109+400",F10=2),"AIRE N10",IF(AND(C10="Aire",D10="126+500",F10=1),"AIRE N11",IF(AND(C10="Aire",D10="126+500",F10=2),"AIRE N12",IF(AND(C10="Aire",D10="058+500",F10=1),"AIRE N13",IF(AND(C10="Aire",D10="058+500",F10=2),"AIRE N14",IF(AND(C10="Aire",D10="123+250",F10=1),"AIRE N15",IF(AND(C10="Aire",D10="123+250",F10=2),"AIRE N16",C10)))))))))))))))) -> 0 | F10: =IF('Extraction MCI'!N10="Direction",1,2) -> 2
A11: ='Extraction MCI'!A11 -> 0 | B11: ='Extraction MCI'!B11 -> 0 | C11: ='Extraction MCI'!P11 -> 0 | D11: ='Extraction MCI'!Q11 -> 0 | E11: =IF(AND(C11="Aire",D11="039+700",F11=1),"AIRE N1",IF(AND(C11="Aire",D11="039+700",F11=2),"AIRE N2",IF(AND(C11="Aire",D11="056+850",F11=1),"AIRE N3",IF(AND(C11="Aire",D11="056+850",F11=2),"AIRE N4",IF(AND(C11="Aire",D11="069+500",F11=1),"AIRE N5",IF(AND(C11="Aire",D11="069+500",F11=2),"AIRE N6",IF(AND(C11="Aire",D11="089+950",F11=1),"AIRE N7",IF(AND(C11="Aire",D11="089+950",F11=2),"AIRE N8",IF(AND(C11="Aire",D11="109+400",F11=1),"AIRE N9",IF(AND(C11="Aire",D11="109+400",F11=2),"AIRE N10",IF(AND(C11="Aire",D11="126+500",F11=1),"AIRE N11",IF(AND(C11="Aire",D11="126+500",F11=2),"AIRE N12",IF(AND(C11="Aire",D11="058+500",F11=1),"AIRE N13",IF(AND(C11="Aire",D11="058+500",F11=2),"AIRE N14",IF(AND(C11="Aire",D11="123+250",F11=1),"AIRE N15",IF(AND(C11="Aire",D11="123+250",F11=2),"AIRE N16",C11)))))))))))))))) -> 0 | F11: =IF('Extraction MCI'!N11="Direction",1,2) -> 2
A12: ='Extraction MCI'!A12 -> 0 | B12: ='Extraction MCI'!B12 -> 0 | C12: ='Extraction MCI'!P12 -> 0 | D12: ='Extraction MCI'!Q12 -> 0 | E12: =IF(AND(C12="Aire",D12="039+700",F12=1),"AIRE N1",IF(AND(C12="Aire",D12="039+700",F12=2),"AIRE N2",IF(AND(C12="Aire",D12="056+850",F12=1),"AIRE N3",IF(AND(C12="Aire",D12="056+850",F12=2),"AIRE N4",IF(AND(C12="Aire",D12="069+500",F12=1),"AIRE N5",IF(AND(C12="Aire",D12="069+500",F12=2),"AIRE N6",IF(AND(C12="Aire",D12="089+950",F12=1),"AIRE N7",IF(AND(C12="Aire",D12="089+950",F12=2),"AIRE N8",IF(AND(C12="Aire",D12="109+400",F12=1),"AIRE N9",IF(AND(C12="Aire",D12="109+400",F12=2),"AIRE N10",IF(AND(C12="Aire",D12="126+500",F12=1),"AIRE N11",IF(AND(C12="Aire",D12="126+500",F12=2),"AIRE N12",IF(AND(C12="Aire",D12="058+500",F12=1),"AIRE N13",IF(AND(C12="Aire",D12="058+500",F12=2),"AIRE N14",IF(AND(C12="Aire",D12="123+250",F12=1),"AIRE N15",IF(AND(C12="Aire",D12="123+250",F12=2),"AIRE N16",C12)))))))))))))))) -> 0 | F12: =IF('Extraction MCI'!N12="Direction",1,2) -> 2
A13: ='Extraction MCI'!A13 -> 0 | B13: ='Extraction MCI'!B13 -> 0 | C13: ='Extraction MCI'!P13 -> 0 | D13: ='Extraction MCI'!Q13 -> 0 | E13: =IF(AND(C13="Aire",D13="039+700",F13=1),"AIRE N1",IF(AND(C13="Aire",D13="039+700",F13=2),"AIRE N2",IF(AND(C13="Aire",D13="056+850",F13=1),"AIRE N3",IF(AND(C13="Aire",D13="056+850",F13=2),"AIRE N4",IF(AND(C13="Aire",D13="069+500",F13=1),"AIRE N5",IF(AND(C13="Aire",D13="069+500",F13=2),"AIRE N6",IF(AND(C13="Aire",D13="089+950",F13=1),"AIRE N7",IF(AND(C13="Aire",D13="089+950",F13=2),"AIRE N8",IF(AND(C13="Aire",D13="109+400",F13=1),"AIRE N9",IF(AND(C13="Aire",D13="109+400",F13=2),"AIRE N10",IF(AND(C13="Aire",D13="126+500",F13=1),"AIRE N11",IF(AND(C13="Aire",D13="126+500",F13=2),"AIRE N12",IF(AND(C13="Aire",D13="058+500",F13=1),"AIRE N13",IF(AND(C13="Aire",D13="058+500",F13=2),"AIRE N14",IF(AND(C13="Aire",D13="123+250",F13=1),"AIRE N15",IF(AND(C13="Aire",D13="123+250",F13=2),"AIRE N16",C13)))))))))))))))) -> 0 | F13: =IF('Extraction MCI'!N13="Direction",1,2) -> 2
... A100: ='Extraction MCI'!A100 -> 0 | B100: ='Extraction MCI'!B100 -> 0 | C100: ='Extraction MCI'!P100 -> 0 | D100: ='Extraction MCI'!Q100 -> 0 | E100: =IF(AND(C100="Aire",D100="039+700",F100=1),"AIRE N1",IF(AND(C100="Aire",D100="039+700",F100=2),"AIRE N2",IF(AND(C100="Aire",D100="056+850",F100=1),"AIRE N3",IF(AND(C100="Aire",D100="056+850",F100=2),"AIRE N4",IF(AND(C100="Aire",D100="069+500",F100=1),"AIRE N5",IF(AND(C100="Aire",D100="069+500",F100=2),"AIRE N6",IF(AND(C100="Aire",D100="089+950",F100=1),"AIRE N7",IF(AND(C100="Aire",D100="089+950",F100=2),"AIRE N8",IF(AND(C100="Aire",D100="109+400",F100=1),"AIRE N9",IF(AND(C100="Aire",D100="109+400",F100=2),"AIRE N10",IF(AND(C100="Aire",D100="126+500",F100=1),"AIRE N11",IF(AND(C100="Aire",D100="126+500",F100=2),"AIRE N12",IF(AND(C100="Aire",D100="058+500",F100=1),"AIRE N13",IF(AND(C100="Aire",D100="058+500",F100=2),"AIRE N14",IF(AND(C100="Aire",D100="123+250",F100=1),"AIRE N15",IF(AND(C100="Aire",D100="123+250",F100=2),"AIRE N16",C100)))))))))))))))) -> 0 | F100: =IF('Extraction MCI'!N100="Direction",1,2) -> 2
