Workbook

Sheet Participants
B1: EAN13 | C1: EAN12 | D1: Nom | E1: Prénom | F1: Pseudo | G1: Email | H1: Code barre | I1: Inscription payée ? | J1: Repas Sam. Midi ? | K1: Table | L1: Siège | M1: Conc. | N1: Présenté ?
A2: 2ACPKBR*dejjdd+ | B2: {=IF(LEN(C2)=12,C2&MOD(10-SUM(MID(C2,{2;4;6;8;10;12},1)*3+MID(C2,{1;3;5;7;9;11},1)),10),"")} -> 2025017349933 | C2: 202501734993 | D2: Nom1 | E2: Prénom1 | F2: Pseudo1 | H2: =A2 -> 2ACPKBR*dejjdd+ | I2: Oui | J2: Oui | M2: =K2&L2 | N2: Non
A3: 2ACPKBP*iaaicf+ | B3: {=IF(LEN(C3)=12,C3&MOD(10-SUM(MID(C3,{2;4;6;8;10;12},1)*3+MID(C3,{1;3;5;7;9;11},1)),10),"")} -> 2025015800825 | C3: 202501580082 | D3: Nom2 | E3: Prénom2 | F3: Pseudo2 | H3: =A3 -> 2ACPKBP*iaaicf+ | I3: Oui | J3: Oui | M3: =K3&L3 | N3: Non
A4: 2ACPKBQ*cbfghd+ | B4: {=IF(LEN(C4)=12,C4&MOD(10-SUM(MID(C4,{2;4;6;8;10;12},1)*3+MID(C4,{1;3;5;7;9;11},1)),10),"")} -> 2025016215673 | C4: 202501621567 | D4: Nom3 | E4: Prénom3 | F4: Pseudo3 | H4: =A4 -> 2ACPKBQ*cbfghd+ | I4: Oui | J4: Oui | N4: Non
A5: 2ACPKBN*gagagb+ | B5: {=IF(LEN(C5)=12,C5&MOD(10-SUM(MID(C5,{2;4;6;8;10;12},1)*3+MID(C5,{1;3;5;7;9;11},1)),10),"")} -> 2025013606061 | C5: 202501360606 | D5: Nom4 | E5: Prénom4 | F5: Pseudo4 | H5: =A5 -> 2ACPKBN*gagagb+ | I5: Oui | J5: Non | N5: Non
A6: 2ACPKBN*hbhfdi+ | B6: {=IF(LEN(C6)=12,C6&MOD(10-SUM(MID(C6,{2;4;6;8;10;12},1)*3+MID(C6,{1;3;5;7;9;11},1)),10),"")} -> 2025013717538 | C6: 202501371753 | D6: Nom5 | E6: Prénom5 | F6: Pseudo5 | H6: =A6 -> 2ACPKBN*hbhfdi+ | I6: Non | J6: Non | N6: Non
B7: {=IF(LEN(C7)=12,C7&MOD(10-SUM(MID(C7,{2;4;6;8;10;12},1)*3+MID(C7,{1;3;5;7;9;11},1)),10),"")} | N7: Non
B8: {=IF(LEN(C8)=12,C8&MOD(10-SUM(MID(C8,{2;4;6;8;10;12},1)*3+MID(C8,{1;3;5;7;9;11},1)),10),"")} | N8: Non
B9: {=IF(LEN(C9)=12,C9&MOD(10-SUM(MID(C9,{2;4;6;8;10;12},1)*3+MID(C9,{1;3;5;7;9;11},1)),10),"")} | N9: Non
B10: {=IF(LEN(C10)=12,C10&MOD(10-SUM(MID(C10,{2;4;6;8;10;12},1)*3+MID(C10,{1;3;5;7;9;11},1)),10),"")} | N10: Non
B11: {=IF(LEN(C11)=12,C11&MOD(10-SUM(MID(C11,{2;4;6;8;10;12},1)*3+MID(C11,{1;3;5;7;9;11},1)),10),"")} | N11: Non
B12: {=IF(LEN(C12)=12,C12&MOD(10-SUM(MID(C12,{2;4;6;8;10;12},1)*3+MID(C12,{1;3;5;7;9;11},1)),10),"")} | N12: Non
B13: {=IF(LEN(C13)=12,C13&MOD(10-SUM(MID(C13,{2;4;6;8;10;12},1)*3+MID(C13,{1;3;5;7;9;11},1)),10),"")} | N13: Non
B14: {=IF(LEN(C14)=12,C14&MOD(10-SUM(MID(C14,{2;4;6;8;10;12},1)*3+MID(C14,{1;3;5;7;9;11},1)),10),"")} | N14: Non
B15: {=IF(LEN(C15)=12,C15&MOD(10-SUM(MID(C15,{2;4;6;8;10;12},1)*3+MID(C15,{1;3;5;7;9;11},1)),10),"")} | N15: Non
B16: {=IF(LEN(C16)=12,C16&MOD(10-SUM(MID(C16,{2;4;6;8;10;12},1)*3+MID(C16,{1;3;5;7;9;11},1)),10),"")} | N16: Non
B17: {=IF(LEN(C17)=12,C17&MOD(10-SUM(MID(C17,{2;4;6;8;10;12},1)*3+MID(C17,{1;3;5;7;9;11},1)),10),"")} | N17: Non
B18: {=IF(LEN(C18)=12,C18&MOD(10-SUM(MID(C18,{2;4;6;8;10;12},1)*3+MID(C18,{1;3;5;7;9;11},1)),10),"")} | N18: Non
... B150: {=IF(LEN(C150)=12,C150&MOD(10-SUM(MID(C150,{2;4;6;8;10;12},1)*3+MID(C150,{1;3;5;7;9;11},1)),10),"")} | N150: Non

Sheet Controle
B1: Code barre
B4: Pseudo | C4: =IF(LEN($C$1)>0,VLOOKUP($C$1,Participants!$A$1:$N$150,6,FALSE),"")
B5: Nom | C5: =IF(LEN($C$1)>0,VLOOKUP($C$1,Participants!$A$1:$N$150,4,FALSE),"") | J5: Est numérique ?
B6: Prénom | C6: =IF(LEN($C$1)>0,VLOOKUP($C$1,Participants!$A$1:$N$150,5,FALSE),"") | I6: C1 | J6: =ISNUMBER(Participants!C1) -> FALSE
B7: Table | C7: =IF(LEN($C$1)>0,VLOOKUP($C$1,Participants!$A$1:$N$150,11,FALSE),"") | I7: D1 | J7: =ISNUMBER(Participants!D1) -> FALSE
B8: Siège | C8: =IF(LEN($C$1)>0,VLOOKUP($C$1,Participants!$A$1:$N$150,12,FALSE),"") | I8: B2 (autre onglet) | J8: =ISNUMBER(Participants!B2) -> FALSE
B9: Repas | C9: =IF(LEN($C$1)>0,VLOOKUP($C$1,Participants!$A$1:$N$150,10,FALSE),"") | I9: C2 (autre onglet) | J9: =ISNUMBER(Participants!C2) -> FALSE
B10: Enregistré ? | C10: =IF(LEN($C$1)>0,VLOOKUP($C$1,Participants!$A$1:$N$150,14,FALSE),"") | I10: NBCAR de C1 | J10: =LEN(C1) -> 0
