Workbook
Name Domicile: [1]TABLE!$A$2:$A$50

Sheet Feuil1
A1: bastia | B1: Journée | C1: Saison | D1: Date | E1: Enjeu | F1: Budget | G1: Entraîneur | H1: Domicile | I1: Nbre Victoire Domicile | J1: Nbre Nul Domicile | K1: Nbre Défaite Domicile | L1: Résultat | M1: Equivalent pt | N1: Favori cote | O1: Favori budget | P1: Score | Q1: Côte 1 | R1: Côte 2 | S1: Côte 3 | T1: Score | U1: Favori budget | V1: Favori cote | W1: Equivalent pt | X1: Résultat | Y1: Extérieur | Z1: Entraîneur | AA1: Budget
B2: 1 | C2: 2016/2017 | D2: 42594 | E2: Ligue 1 | F2: =IF(H2="","",VLOOKUP(H2,[2]Budget!A:B,2,FALSE)) -> 145000000 | G2: =IF(H2="","",VLOOKUP(H2,[2]Entraîneur!A:C,2,FALSE)) -> Leonardo Jardim | H2: Monaco | I2: =IF(F2="","",COUNTIFS(L:L,"Victoire",H:H,H2,E:E,E2)) -> 1 | J2: =IF(F2="","",COUNTIFS(L:L,"Nul",H:H,H2,E:E,E2)) -> 1 | K2: =IF(F2="","",COUNTIFS(L:L,"Défaite",H:H,H2,E:E,E2)) -> 0 | L2: =IF(P2="","",IF(P2=T2,"Nul",IF(P2>T2,"Victoire",IF(P2<T2,"Défaite")))) -> Nul | M2: =IF(L2="","",IF(L2="Défaite","0",IF(L2="Nul","1",IF(L2="Victoire","3")))) -> 1 | N2: =IF(Q2="","",IF(Q2<S2,"OUI","NON")) -> OUI | O2: =IF(F2="","",IF(F2>=AA2,"OUI","NON")) -> OUI | P2: 2 | Q2: 1.65 | R2: 3.6 | S2: 5.5 | T2: 2 | U2: =IF(AA2="","",IF(AA2>=F2,"OUI","NON")) -> NON | V2: =IF(S2="","",IF(S2<Q2,"OUI","NON")) -> NON | W2: =IF(X2="","",IF(X2="Défaite","0",IF(X2="Nul","1",IF(X2="Victoire","3")))) -> 1 | X2: =IF(T2="","",IF(L2="Nul","Nul",IF(L2="Victoire","Défaite",IF(L2="Défaite","Victoire")))) -> Nul | Y2: Guingamp | Z2: =IF(Y2="","",VLOOKUP(Y2,[2]Entraîneur!A:C,2,FALSE)) -> Antoine KOMBOUARÉ | AA2: =IF(Y2="","",VLOOKUP(Y2,[2]Budget!A:B,2,FALSE)) -> 26000000
B3: 1 | C3: 2016/2017 | D3: 42594 | E3: Ligue 1 | F3: =IF(H3="","",VLOOKUP(H3,[2]Budget!A:B,2,FALSE)) -> 28000000 | G3: =IF(H3="","",VLOOKUP(H3,[2]Entraîneur!A:C,2,FALSE)) -> François CICCOLINI | H3: Bastia | I3: =IF(F3="","",COUNTIFS(L:L,"Victoire",H:H,H3,E:E,E3)) -> 1 | J3: =IF(F3="","",COUNTIFS(L:L,"Nul",H:H,H3,E:E,E3)) -> 0 | K3: =IF(F3="","",COUNTIFS(L:L,"Défaite",H:H,H3,E:E,E3)) -> 1 | L3: =IF(P3="","",IF(P3=T3,"Nul",IF(P3>T3,"Victoire",IF(P3<T3,"Défaite")))) -> Défaite | M3: =IF(L3="","",IF(L3="Défaite","0",IF(L3="Nul","1",IF(L3="Victoire","3")))) -> 0 | N3: =IF(Q3="","",IF(Q3<S3,"OUI","NON")) -> NON | O3: =IF(F3="","",IF(F3>=AA3,"OUI","NON")) -> NON | P3: 0 | Q3: 10 | R3: 1.8 | S3: 1.3 | T3: 1 | U3: =IF(AA3="","",IF(AA3>=F3,"OUI","NON")) -> OUI | V3: =IF(S3="","",IF(S3<Q3,"OUI","NON")) -> OUI | W3: =IF(X3="","",IF(X3="Défaite","0",IF(X3="Nul","1",IF(X3="Victoire","3")))) -> 3 | X3: =IF(T3="","",IF(L3="Nul","Nul",IF(L3="Victoire","Défaite",IF(L3="Défaite","Victoire")))) -> Victoire | Y3: PSG | Z3: =IF(Y3="","",VLOOKUP(Y3,[2]Entraîneur!A:C,2,FALSE)) -> Unaï Emery | AA3: =IF(Y3="","",VLOOKUP(Y3,[2]Budget!A:B,2,FALSE)) -> 500000000
B4: 1 | C4: 2016/2017 | D4: 42595 | E4: Ligue 1 | F4: =IF(H4="","",VLOOKUP(H4,[2]Budget!A:B,2,FALSE)) -> 42000000 | G4: =IF(H4="","",VLOOKUP(H4,[2]Entraîneur!A:C,2,FALSE)) -> Frédéric HANTZ | H4: Montpellier | I4: =IF(F4="","",COUNTIFS(L:L,"Victoire",H:H,H4,E:E,E4)) -> 1 | J4: =IF(F4="","",COUNTIFS(L:L,"Nul",H:H,H4,E:E,E4)) -> 1 | K4: =IF(F4="","",COUNTIFS(L:L,"Défaite",H:H,H4,E:E,E4)) -> 0 | L4: =IF(P4="","",IF(P4=T4,"Nul",IF(P4>T4,"Victoire",IF(P4<T4,"Défaite")))) -> Victoire | M4: =IF(L4="","",IF(L4="Défaite","0",IF(L4="Nul","1",IF(L4="Victoire","3")))) -> 3 | N4: =IF(Q4="","",IF(Q4<S4,"OUI","NON")) -> OUI | O4: =IF(F4="","",IF(F4>=AA4,"OUI","NON")) -> OUI | P4: 1 | Q4: 1.85 | R4: 3.25 | S4: 4.6 | T4: 0 | U4: =IF(AA4="","",IF(AA4>=F4,"OUI","NON")) -> NON | V4: =IF(S4="","",IF(S4<Q4,"OUI","NON")) -> NON | W4: =IF(X4="","",IF(X4="Défaite","0",IF(X4="Nul","1",IF(X4="Victoire","3")))) -> 0 | X4: =IF(T4="","",IF(L4="Nul","Nul",IF(L4="Victoire","Défaite",IF(L4="Défaite","Victoire")))) -> Défaite | Y4: Angers | Z4: =IF(Y4="","",VLOOKUP(Y4,[2]Entraîneur!A:C,2,FALSE)) -> Stéphane MOULIN | AA4: =IF(Y4="","",VLOOKUP(Y4,[2]Budget!A:B,2,FALSE)) -> 25000000
B5: 1 | C5: 2016/2017 | D5: 42595 | E5: Ligue 1 | F5: =IF(H5="","",VLOOKUP(H5,[2]Budget!A:B,2,FALSE)) -> 30000000 | G5: =IF(H5="","",VLOOKUP(H5,[2]Entraîneur!A:C,2,FALSE)) -> Philippe HINSCHBERGER | H5: Metz | I5: =IF(F5="","",COUNTIFS(L:L,"Victoire",H:H,H5,E:E,E5)) -> 2 | J5: =IF(F5="","",COUNTIFS(L:L,"Nul",H:H,H5,E:E,E5)) -> 0 | K5: =IF(F5="","",COUNTIFS(L:L,"Défaite",H:H,H5,E:E,E5)) -> 0 | L5: =IF(P5="","",IF(P5=T5,"Nul",IF(P5>T5,"Victoire",IF(P5<T5,"Défaite")))) -> Victoire | M5: =IF(L5="","",IF(L5="Défaite","0",IF(L5="Nul","1",IF(L5="Victoire","3")))) -> 3 | N5: =IF(Q5="","",IF(Q5<S5,"OUI","NON")) -> NON | O5: =IF(F5="","",IF(F5>=AA5,"OUI","NON")) -> NON | P5: 3 | Q5: 3.75 | R5: 3.1 | S5: 2.1 | T5: 2 | U5: =IF(AA5="","",IF(AA5>=F5,"OUI","NON")) -> OUI | V5: =IF(S5="","",IF(S5<Q5,"OUI","NON")) -> OUI | W5: =IF(X5="","",IF(X5="Défaite","0",IF(X5="Nul","1",IF(X5="Victoire","3")))) -> 0 | X5: =IF(T5="","",IF(L5="Nul","Nul",IF(L5="Victoire","Défaite",IF(L5="Défaite","Victoire")))) -> Défaite | Y5: Lille | Z5: =IF(Y5="","",VLOOKUP(Y5,[2]Entraîneur!A:C,2,FALSE)) -> Frédéric Antonetti | AA5: =IF(Y5="","",VLOOKUP(Y5,[2]Budget!A:B,2,FALSE)) -> 75000000
B6: 1 | C6: 2016/2017 | D6: 42595 | E6: Ligue 1 | F6: =IF(H6="","",VLOOKUP(H6,[2]Budget!A:B,2,FALSE)) -> 30000000 | G6: =IF(H6="","",VLOOKUP(H6,[2]Entraîneur!A:C,2,FALSE)) -> Patrice GARANDE | H6: Caen | I6: =IF(F6="","",COUNTIFS(L:L,"Victoire",H:H,H6,E:E,E6)) -> 2 | J6: =IF(F6="","",COUNTIFS(L:L,"Nul",H:H,H6,E:E,E6)) -> 0 | K6: =IF(F6="","",COUNTIFS(L:L,"Défaite",H:H,H6,E:E,E6)) -> 1 | L6: =IF(P6="","",IF(P6=T6,"Nul",IF(P6>T6,"Victoire",IF(P6<T6,"Défaite")))) -> Victoire | M6: =IF(L6="","",IF(L6="Défaite","0",IF(L6="Nul","1",IF(L6="Victoire","3")))) -> 3 | N6: =IF(Q6="","",IF(Q6<S6,"OUI","NON")) -> OUI | O6: =IF(F6="","",IF(F6>=AA6,"OUI","NON")) -> NON | P6: 3 | Q6: 2.2 | R6: 3.25 | S6: 3.3 | T6: 2 | U6: =IF(AA6="","",IF(AA6>=F6,"OUI","NON")) -> OUI | V6: =IF(S6="","",IF(S6<Q6,"OUI","NON")) -> NON | W6: =IF(X6="","",IF(X6="Défaite","0",IF(X6="Nul","1",IF(X6="Victoire","3")))) -> 0 | X6: =IF(T6="","",IF(L6="Nul","Nul",IF(L6="Victoire","Défaite",IF(L6="Défaite","Victoire")))) -> Défaite | Y6: Lorient | Z6: =IF(Y6="","",VLOOKUP(Y6,[2]Entraîneur!A:C,2,FALSE)) -> Sylvain Ripoll | AA6: =IF(Y6="","",VLOOKUP(Y6,[2]Budget!A:B,2,FALSE)) -> 36000000 | AC6: Bastia | AD6: Ligue 1
B7: 1 | C7: 2016/2017 | D7: 42595 | E7: Ligue 1 | F7: =IF(H7="","",VLOOKUP(H7,[2]Budget!A:B,2,FALSE)) -> 26000000 | G7: =IF(H7="","",VLOOKUP(H7,[2]Entraîneur!A:C,2,FALSE)) -> Olivier DALL'OGLIO | H7: Dijon | I7: =IF(F7="","",COUNTIFS(L:L,"Victoire",H:H,H7,E:E,E7)) -> 1 | J7: =IF(F7="","",COUNTIFS(L:L,"Nul",H:H,H7,E:E,E7)) -> 0 | K7: =IF(F7="","",COUNTIFS(L:L,"Défaite",H:H,H7,E:E,E7)) -> 1 | L7: =IF(P7="","",IF(P7=T7,"Nul",IF(P7>T7,"Victoire",IF(P7<T7,"Défaite")))) -> Défaite | M7: =IF(L7="","",IF(L7="Défaite","0",IF(L7="Nul","1",IF(L7="Victoire","3")))) -> 0 | N7: =IF(Q7="","",IF(Q7<S7,"OUI","NON")) -> OUI | O7: =IF(F7="","",IF(F7>=AA7,"OUI","NON")) -> NON | P7: 0 | Q7: 2.45 | R7: 3 | S7: 3.25 | T7: 1 | U7: =IF(AA7="","",IF(AA7>=F7,"OUI","NON")) -> OUI | V7: =IF(S7="","",IF(S7<Q7,"OUI","NON")) -> NON | W7: =IF(X7="","",IF(X7="Défaite","0",IF(X7="Nul","1",IF(X7="Victoire","3")))) -> 3 | X7: =IF(T7="","",IF(L7="Nul","Nul",IF(L7="Victoire","Défaite",IF(L7="Défaite","Victoire")))) -> Victoire | Y7: Nantes | Z7: =IF(Y7="","",VLOOKUP(Y7,[2]Entraîneur!A:C,2,FALSE)) -> René Girard | AA7: =IF(Y7="","",VLOOKUP(Y7,[2]Budget!A:B,2,FALSE)) -> 40000000 | AC7: Jours de repos | AD7: % Victoire | AE7: % Nul | AF7: % Défaite
B8: 1 | C8: 2016/2017 | D8: 42595 | E8: Ligue 1 | F8: =IF(H8="","",VLOOKUP(H8,[2]Budget!A:B,2,FALSE)) -> 60000000 | G8: =IF(H8="","",VLOOKUP(H8,[2]Entraîneur!A:C,2,FALSE)) -> Jocelyn GOURVENNEC | H8: Bordeaux | I8: =IF(F8="","",COUNTIFS(L:L,"Victoire",H:H,H8,E:E,E8)) -> 2 | J8: =IF(F8="","",COUNTIFS(L:L,"Nul",H:H,H8,E:E,E8)) -> 0 | K8: =IF(F8="","",COUNTIFS(L:L,"Défaite",H:H,H8,E:E,E8)) -> 0 | L8: =IF(P8="","",IF(P8=T8,"Nul",IF(P8>T8,"Victoire",IF(P8<T8,"Défaite")))) -> Victoire | M8: =IF(L8="","",IF(L8="Défaite","0",IF(L8="Nul","1",IF(L8="Victoire","3")))) -> 3 | N8: =IF(Q8="","",IF(Q8<S8,"OUI","NON")) -> OUI | O8: =IF(F8="","",IF(F8>=AA8,"OUI","NON")) -> NON | P8: 3 | Q8: 2.25 | R8: 3 | S8: 3.4 | T8: 2 | U8: =IF(AA8="","",IF(AA8>=F8,"OUI","NON")) -> OUI | V8: =IF(S8="","",IF(S8<Q8,"OUI","NON")) -> NON | W8: =IF(X8="","",IF(X8="Défaite","0",IF(X8="Nul","1",IF(X8="Victoire","3")))) -> 0 | X8: =IF(T8="","",IF(L8="Nul","Nul",IF(L8="Victoire","Défaite",IF(L8="Défaite","Victoire")))) -> Défaite | Y8: St Etienne | Z8: =IF(Y8="","",VLOOKUP(Y8,[2]Entraîneur!A:C,2,FALSE)) -> Christophe Galtier | AA8: =IF(Y8="","",VLOOKUP(Y8,[2]Budget!A:B,2,FALSE)) -> 70000000 | AC8: 1
B9: 1 | C9: 2016/2017 | D9: 42596 | E9: Ligue 1 | F9: =IF(H9="","",VLOOKUP(H9,[2]Budget!A:B,2,FALSE)) -> 30000000 | G9: =IF(H9="","",VLOOKUP(H9,[2]Entraîneur!A:C,2,FALSE)) -> Pablo Correa | H9: Nancy | I9: =IF(F9="","",COUNTIFS(L:L,"Victoire",H:H,H9,E:E,E9)) -> 0 | J9: =IF(F9="","",COUNTIFS(L:L,"Nul",H:H,H9,E:E,E9)) -> 0 | K9: =IF(F9="","",COUNTIFS(L:L,"Défaite",H:H,H9,E:E,E9)) -> 2 | L9: =IF(P9="","",IF(P9=T9,"Nul",IF(P9>T9,"Victoire",IF(P9<T9,"Défaite")))) -> Défaite | M9: =IF(L9="","",IF(L9="Défaite","0",IF(L9="Nul","1",IF(L9="Victoire","3")))) -> 0 | N9: =IF(Q9="","",IF(Q9<S9,"OUI","NON")) -> NON | O9: =IF(F9="","",IF(F9>=AA9,"OUI","NON")) -> NON | P9: 0 | Q9: 2.9 | R9: 3.25 | S9: 2.45 | T9: 3 | U9: =IF(AA9="","",IF(AA9>=F9,"OUI","NON")) -> OUI | V9: =IF(S9="","",IF(S9<Q9,"OUI","NON")) -> OUI | W9: =IF(X9="","",IF(X9="Défaite","0",IF(X9="Nul","1",IF(X9="Victoire","3")))) -> 3 | X9: =IF(T9="","",IF(L9="Nul","Nul",IF(L9="Victoire","Défaite",IF(L9="Défaite","Victoire")))) -> Victoire | Y9: Lyon | Z9: =IF(Y9="","",VLOOKUP(Y9,[2]Entraîneur!A:C,2,FALSE)) -> Bruno Genesio | AA9: =IF(Y9="","",VLOOKUP(Y9,[2]Budget!A:B,2,FALSE)) -> 250000000 | AC9: 2
B10: 1 | C10: 2016/2017 | D10: 42596 | E10: Ligue 1 | F10: =IF(H10="","",VLOOKUP(H10,[2]Budget!A:B,2,FALSE)) -> 42000000 | G10: =IF(H10="","",VLOOKUP(H10,[2]Entraîneur!A:C,2,FALSE)) -> Lucien FAVRE | H10: Nice | I10: =IF(F10="","",COUNTIFS(L:L,"Victoire",H:H,H10,E:E,E10)) -> 2 | J10: =IF(F10="","",COUNTIFS(L:L,"Nul",H:H,H10,E:E,E10)) -> 1 | K10: =IF(F10="","",COUNTIFS(L:L,"Défaite",H:H,H10,E:E,E10)) -> 0 | L10: =IF(P10="","",IF(P10=T10,"Nul",IF(P10>T10,"Victoire",IF(P10<T10,"Défaite")))) -> Victoire | M10: =IF(L10="","",IF(L10="Défaite","0",IF(L10="Nul","1",IF(L10="Victoire","3")))) -> 3 | N10: =IF(Q10="","",IF(Q10<S10,"OUI","NON")) -> OUI | O10: =IF(F10="","",IF(F10>=AA10,"OUI","NON")) -> NON | P10: 1 | Q10: 2.35 | R10: 3.2 | S10: 3.1 | T10: 0 | U10: =IF(AA10="","",IF(AA10>=F10,"OUI","NON")) -> OUI | V10: =IF(S10="","",IF(S10<Q10,"OUI","NON")) -> NON | W10: =IF(X10="","",IF(X10="Défaite","0",IF(X10="Nul","1",IF(X10="Victoire","3")))) -> 0 | X10: =IF(T10="","",IF(L10="Nul","Nul",IF(L10="Victoire","Défaite",IF(L10="Défaite","Victoire")))) -> Défaite | Y10: Rennes | Z10: =IF(Y10="","",VLOOKUP(Y10,[2]Entraîneur!A:C,2,FALSE)) -> Christian Gourcuff | AA10: =IF(Y10="","",VLOOKUP(Y10,[2]Budget!A:B,2,FALSE)) -> 50000000 | AC10: 3
B11: 1 | C11: 2016/2017 | D11: 42596 | E11: Ligue 1 | F11: =IF(H11="","",VLOOKUP(H11,[2]Budget!A:B,2,FALSE)) -> 100000000 | G11: =IF(H11="","",VLOOKUP(H11,[2]Entraîneur!A:C,2,FALSE)) -> Franck PASSI | H11: Marseille | I11: =IF(F11="","",COUNTIFS(L:L,"Victoire",H:H,H11,E:E,E11)) -> 1 | J11: =IF(F11="","",COUNTIFS(L:L,"Nul",H:H,H11,E:E,E11)) -> 1 | K11: =IF(F11="","",COUNTIFS(L:L,"Défaite",H:H,H11,E:E,E11)) -> 0 | L11: =IF(P11="","",IF(P11=T11,"Nul",IF(P11>T11,"Victoire",IF(P11<T11,"Défaite")))) -> Nul | M11: =IF(L11="","",IF(L11="Défaite","0",IF(L11="Nul","1",IF(L11="Victoire","3")))) -> 1 | N11: =IF(Q11="","",IF(Q11<S11,"OUI","NON")) -> OUI | O11: =IF(F11="","",IF(F11>=AA11,"OUI","NON")) -> OUI | P11: 0 | Q11: 2.05 | R11: 3.2 | S11: 3.8 | T11: 0 | U11: =IF(AA11="","",IF(AA11>=F11,"OUI","NON")) -> NON | V11: =IF(S11="","",IF(S11<Q11,"OUI","NON")) -> NON | W11: =IF(X11="","",IF(X11="Défaite","0",IF(X11="Nul","1",IF(X11="Victoire","3")))) -> 1 | X11: =IF(T11="","",IF(L11="Nul","Nul",IF(L11="Victoire","Défaite",IF(L11="Défaite","Victoire")))) -> Nul | Y11: Toulouse | Z11: =IF(Y11="","",VLOOKUP(Y11,[2]Entraîneur!A:C,2,FALSE)) -> Pascal Dupraz | AA11: =IF(Y11="","",VLOOKUP(Y11,[2]Budget!A:B,2,FALSE)) -> 35000000 | AC11: 4
B12: 2 | C12: 2016/2017 | D12: 42601 | E12: Ligue 1 | F12: =IF(H12="","",VLOOKUP(H12,[2]Budget!A:B,2,FALSE)) -> 250000000 | G12: =IF(H12="","",VLOOKUP(H12,[2]Entraîneur!A:C,2,FALSE)) -> Bruno Genesio | H12: Lyon | I12: =IF(F12="","",COUNTIFS(L:L,"Victoire",H:H,H12,E:E,E12)) -> 1 | J12: =IF(F12="","",COUNTIFS(L:L,"Nul",H:H,H12,E:E,E12)) -> 0 | K12: =IF(F12="","",COUNTIFS(L:L,"Défaite",H:H,H12,E:E,E12)) -> 1 | L12: =IF(P12="","",IF(P12=T12,"Nul",IF(P12>T12,"Victoire",IF(P12<T12,"Défaite")))) -> Victoire | M12: =IF(L12="","",IF(L12="Défaite","0",IF(L12="Nul","1",IF(L12="Victoire","3")))) -> 3 | N12: =IF(Q12="","",IF(Q12<S12,"OUI","NON")) -> OUI | O12: =IF(F12="","",IF(F12>=AA12,"OUI","NON")) -> OUI | P12: 2 | Q12: 1.33 | R12: 5 | S12: 8.25 | T12: 0 | U12: =IF(AA12="","",IF(AA12>=F12,"OUI","NON")) -> NON | V12: =IF(S12="","",IF(S12<Q12,"OUI","NON")) -> NON | W12: =IF(X12="","",IF(X12="Défaite","0",IF(X12="Nul","1",IF(X12="Victoire","3")))) -> 0 | X12: =IF(T12="","",IF(L12="Nul","Nul",IF(L12="Victoire","Défaite",IF(L12="Défaite","Victoire")))) -> Défaite | Y12: Caen | Z12: =IF(Y12="","",VLOOKUP(Y12,[2]Entraîneur!A:C,2,FALSE)) -> Patrice GARANDE | AA12: =IF(Y12="","",VLOOKUP(Y12,[2]Budget!A:B,2,FALSE)) -> 30000000 | AC12: 5
B13: 2 | C13: 2016/2017 | D13: 42602 | E13: Coupe de France | F13: =IF(H13="","",VLOOKUP(H13,[2]Budget!A:B,2,FALSE)) -> 36000000 | G13: =IF(H13="","",VLOOKUP(H13,[2]Entraîneur!A:C,2,FALSE)) -> Sylvain Ripoll | H13: Lorient | I13: =IF(F13="","",COUNTIFS(L:L,"Victoire",H:H,H13,E:E,E13)) -> 0 | J13: =IF(F13="","",COUNTIFS(L:L,"Nul",H:H,H13,E:E,E13)) -> 0 | K13: =IF(F13="","",COUNTIFS(L:L,"Défaite",H:H,H13,E:E,E13)) -> 1 | L13: =IF(P13="","",IF(P13=T13,"Nul",IF(P13>T13,"Victoire",IF(P13<T13,"Défaite")))) -> Défaite | M13: =IF(L13="","",IF(L13="Défaite","0",IF(L13="Nul","1",IF(L13="Victoire","3")))) -> 0 | N13: =IF(Q13="","",IF(Q13<S13,"OUI","NON")) -> OUI | O13: =IF(F13="","",IF(F13>=AA13,"OUI","NON")) -> OUI | P13: 0 | Q13: 2.1 | R13: 3.1 | S13: 3.8 | T13: 3 | U13: =IF(AA13="","",IF(AA13>=F13,"OUI","NON")) -> NON | V13: =IF(S13="","",IF(S13<Q13,"OUI","NON")) -> NON | W13: =IF(X13="","",IF(X13="Défaite","0",IF(X13="Nul","1",IF(X13="Victoire","3")))) -> 3 | X13: =IF(T13="","",IF(L13="Nul","Nul",IF(L13="Victoire","Défaite",IF(L13="Défaite","Victoire")))) -> Victoire | Y13: Bastia | Z13: =IF(Y13="","",VLOOKUP(Y13,[2]Entraîneur!A:C,2,FALSE)) -> François CICCOLINI | AA13: =IF(Y13="","",VLOOKUP(Y13,[2]Budget!A:B,2,FALSE)) -> 28000000 | AC13: 6 | AG13: Réponses attendues
B14: 2 | C14: 2016/2017 | D14: 42602 | E14: Ligue 1 | F14: =IF(H14="","",VLOOKUP(H14,[2]Budget!A:B,2,FALSE)) -> 35000000 | G14: =IF(H14="","",VLOOKUP(H14,[2]Entraîneur!A:C,2,FALSE)) -> Pascal Dupraz | H14: Toulouse | I14: =IF(F14="","",COUNTIFS(L:L,"Victoire",H:H,H14,E:E,E14)) -> 1 | J14: =IF(F14="","",COUNTIFS(L:L,"Nul",H:H,H14,E:E,E14)) -> 0 | K14: =IF(F14="","",COUNTIFS(L:L,"Défaite",H:H,H14,E:E,E14)) -> 0 | L14: =IF(P14="","",IF(P14=T14,"Nul",IF(P14>T14,"Victoire",IF(P14<T14,"Défaite")))) -> Victoire | M14: =IF(L14="","",IF(L14="Défaite","0",IF(L14="Nul","1",IF(L14="Victoire","3")))) -> 3 | N14: =IF(Q14="","",IF(Q14<S14,"OUI","NON")) -> OUI | O14: =IF(F14="","",IF(F14>=AA14,"OUI","NON")) -> NON | P14: 4 | Q14: 2.55 | R14: 3.1 | S14: 2.85 | T14: 1 | U14: =IF(AA14="","",IF(AA14>=F14,"OUI","NON")) -> OUI | V14: =IF(S14="","",IF(S14<Q14,"OUI","NON")) -> NON | W14: =IF(X14="","",IF(X14="Défaite","0",IF(X14="Nul","1",IF(X14="Victoire","3")))) -> 0 | X14: =IF(T14="","",IF(L14="Nul","Nul",IF(L14="Victoire","Défaite",IF(L14="Défaite","Victoire")))) -> Défaite | Y14: Bordeaux | Z14: =IF(Y14="","",VLOOKUP(Y14,[2]Entraîneur!A:C,2,FALSE)) -> Jocelyn GOURVENNEC | AA14: =IF(Y14="","",VLOOKUP(Y14,[2]Budget!A:B,2,FALSE)) -> 60000000 | AC14: 7 | AD14: 0 | AE14: 0 | AF14: 1
B15: 2 | C15: 2016/2017 | D15: 42602 | E15: Ligue 1 | F15: =IF(H15="","",VLOOKUP(H15,[2]Budget!A:B,2,FALSE)) -> 75000000 | G15: =IF(H15="","",VLOOKUP(H15,[2]Entraîneur!A:C,2,FALSE)) -> Frédéric Antonetti | H15: Lille | I15: =IF(F15="","",COUNTIFS(L:L,"Victoire",H:H,H15,E:E,E15)) -> 1 | J15: =IF(F15="","",COUNTIFS(L:L,"Nul",H:H,H15,E:E,E15)) -> 0 | K15: =IF(F15="","",COUNTIFS(L:L,"Défaite",H:H,H15,E:E,E15)) -> 1 | L15: =IF(P15="","",IF(P15=T15,"Nul",IF(P15>T15,"Victoire",IF(P15<T15,"Défaite")))) -> Victoire | M15: =IF(L15="","",IF(L15="Défaite","0",IF(L15="Nul","1",IF(L15="Victoire","3")))) -> 3 | N15: =IF(Q15="","",IF(Q15<S15,"OUI","NON")) -> OUI | O15: =IF(F15="","",IF(F15>=AA15,"OUI","NON")) -> OUI | P15: 1 | Q15: 1.75 | R15: 3.25 | S15: 5.6 | T15: 0 | U15: =IF(AA15="","",IF(AA15>=F15,"OUI","NON")) -> NON | V15: =IF(S15="","",IF(S15<Q15,"OUI","NON")) -> NON | W15: =IF(X15="","",IF(X15="Défaite","0",IF(X15="Nul","1",IF(X15="Victoire","3")))) -> 0 | X15: =IF(T15="","",IF(L15="Nul","Nul",IF(L15="Victoire","Défaite",IF(L15="Défaite","Victoire")))) -> Défaite | Y15: Dijon | Z15: =IF(Y15="","",VLOOKUP(Y15,[2]Entraîneur!A:C,2,FALSE)) -> Olivier DALL'OGLIO | AA15: =IF(Y15="","",VLOOKUP(Y15,[2]Budget!A:B,2,FALSE)) -> 26000000 | AC15: 8
B16: 2 | C16: 2016/2017 | D16: 42602 | E16: Ligue 1 | F16: =IF(H16="","",VLOOKUP(H16,[2]Budget!A:B,2,FALSE)) -> 40000000 | G16: =IF(H16="","",VLOOKUP(H16,[2]Entraîneur!A:C,2,FALSE)) -> René Girard | H16: Nantes | I16: =IF(F16="","",COUNTIFS(L:L,"Victoire",H:H,H16,E:E,E16)) -> 0 | J16: =IF(F16="","",COUNTIFS(L:L,"Nul",H:H,H16,E:E,E16)) -> 0 | K16: =IF(F16="","",COUNTIFS(L:L,"Défaite",H:H,H16,E:E,E16)) -> 2 | L16: =IF(P16="","",IF(P16=T16,"Nul",IF(P16>T16,"Victoire",IF(P16<T16,"Défaite")))) -> Défaite | M16: =IF(L16="","",IF(L16="Défaite","0",IF(L16="Nul","1",IF(L16="Victoire","3")))) -> 0 | N16: =IF(Q16="","",IF(Q16<S16,"OUI","NON")) -> OUI | O16: =IF(F16="","",IF(F16>=AA16,"OUI","NON")) -> NON | P16: 0 | Q16: 2.35 | R16: 3 | S16: 3.3 | T16: 1 | U16: =IF(AA16="","",IF(AA16>=F16,"OUI","NON")) -> OUI | V16: =IF(S16="","",IF(S16<Q16,"OUI","NON")) -> NON | W16: =IF(X16="","",IF(X16="Défaite","0",IF(X16="Nul","1",IF(X16="Victoire","3")))) -> 3 | X16: =IF(T16="","",IF(L16="Nul","Nul",IF(L16="Victoire","Défaite",IF(L16="Défaite","Victoire")))) -> Victoire | Y16: Monaco | Z16: =IF(Y16="","",VLOOKUP(Y16,[2]Entraîneur!A:C,2,FALSE)) -> Leonardo Jardim | AA16: =IF(Y16="","",VLOOKUP(Y16,[2]Budget!A:B,2,FALSE)) -> 145000000 | AC16: 9
B17: 2 | C17: 2016/2017 | D17: 42602 | E17: Ligue 1 | F17: =IF(H17="","",VLOOKUP(H17,[2]Budget!A:B,2,FALSE)) -> 50000000 | G17: =IF(H17="","",VLOOKUP(H17,[2]Entraîneur!A:C,2,FALSE)) -> Christian Gourcuff | H17: Rennes | I17: =IF(F17="","",COUNTIFS(L:L,"Victoire",H:H,H17,E:E,E17)) -> 2 | J17: =IF(F17="","",COUNTIFS(L:L,"Nul",H:H,H17,E:E,E17)) -> 0 | K17: =IF(F17="","",COUNTIFS(L:L,"Défaite",H:H,H17,E:E,E17)) -> 0 | L17: =IF(P17="","",IF(P17=T17,"Nul",IF(P17>T17,"Victoire",IF(P17<T17,"Défaite")))) -> Victoire | M17: =IF(L17="","",IF(L17="Défaite","0",IF(L17="Nul","1",IF(L17="Victoire","3")))) -> 3 | N17: =IF(Q17="","",IF(Q17<S17,"OUI","NON")) -> OUI | O17: =IF(F17="","",IF(F17>=AA17,"OUI","NON")) -> OUI | P17: 2 | Q17: 2 | R17: 3.25 | S17: 3.9 | T17: 0 | U17: =IF(AA17="","",IF(AA17>=F17,"OUI","NON")) -> NON | V17: =IF(S17="","",IF(S17<Q17,"OUI","NON")) -> NON | W17: =IF(X17="","",IF(X17="Défaite","0",IF(X17="Nul","1",IF(X17="Victoire","3")))) -> 0 | X17: =IF(T17="","",IF(L17="Nul","Nul",IF(L17="Victoire","Défaite",IF(L17="Défaite","Victoire")))) -> Défaite | Y17: Nancy | Z17: =IF(Y17="","",VLOOKUP(Y17,[2]Entraîneur!A:C,2,FALSE)) -> Pablo Correa | AA17: =IF(Y17="","",VLOOKUP(Y17,[2]Budget!A:B,2,FALSE)) -> 30000000 | AC17: 10
B18: 2 | C18: 2016/2017 | D18: 42602 | E18: Ligue 1 | F18: =IF(H18="","",VLOOKUP(H18,[2]Budget!A:B,2,FALSE)) -> 25000000 | G18: =IF(H18="","",VLOOKUP(H18,[2]Entraîneur!A:C,2,FALSE)) -> Stéphane MOULIN | H18: Angers | I18: =IF(F18="","",COUNTIFS(L:L,"Victoire",H:H,H18,E:E,E18)) -> 1 | J18: =IF(F18="","",COUNTIFS(L:L,"Nul",H:H,H18,E:E,E18)) -> 0 | K18: =IF(F18="","",COUNTIFS(L:L,"Défaite",H:H,H18,E:E,E18)) -> 1 | L18: =IF(P18="","",IF(P18=T18,"Nul",IF(P18>T18,"Victoire",IF(P18<T18,"Défaite")))) -> Défaite | M18: =IF(L18="","",IF(L18="Défaite","0",IF(L18="Nul","1",IF(L18="Victoire","3")))) -> 0 | N18: =IF(Q18="","",IF(Q18<S18,"OUI","NON")) -> OUI | O18: =IF(F18="","",IF(F18>=AA18,"OUI","NON")) -> NON | P18: 0 | Q18: 2.65 | R18: 2.8 | S18: 3.1 | T18: 1 | U18: =IF(AA18="","",IF(AA18>=F18,"OUI","NON")) -> OUI | V18: =IF(S18="","",IF(S18<Q18,"OUI","NON")) -> NON | W18: =IF(X18="","",IF(X18="Défaite","0",IF(X18="Nul","1",IF(X18="Victoire","3")))) -> 3 | X18: =IF(T18="","",IF(L18="Nul","Nul",IF(L18="Victoire","Défaite",IF(L18="Défaite","Victoire")))) -> Victoire | Y18: Nice | Z18: =IF(Y18="","",VLOOKUP(Y18,[2]Entraîneur!A:C,2,FALSE)) -> Lucien FAVRE | AA18: =IF(Y18="","",VLOOKUP(Y18,[2]Budget!A:B,2,FALSE)) -> 42000000 | AC18: + de 10 | AD18: 1
B19: 2 | C19: 2016/2017 | D19: 42603 | E19: Ligue 1 | F19: =IF(H19="","",VLOOKUP(H19,[2]Budget!A:B,2,FALSE)) -> 26000000 | G19: =IF(H19="","",VLOOKUP(H19,[2]Entraîneur!A:C,2,FALSE)) -> Antoine KOMBOUARÉ | H19: Guingamp | I19: =IF(F19="","",COUNTIFS(L:L,"Victoire",H:H,H19,E:E,E19)) -> 1 | J19: =IF(F19="","",COUNTIFS(L:L,"Nul",H:H,H19,E:E,E19)) -> 1 | K19: =IF(F19="","",COUNTIFS(L:L,"Défaite",H:H,H19,E:E,E19)) -> 0 | L19: =IF(P19="","",IF(P19=T19,"Nul",IF(P19>T19,"Victoire",IF(P19<T19,"Défaite")))) -> Victoire | M19: =IF(L19="","",IF(L19="Défaite","0",IF(L19="Nul","1",IF(L19="Victoire","3")))) -> 3 | N19: =IF(Q19="","",IF(Q19<S19,"OUI","NON")) -> NON | O19: =IF(F19="","",IF(F19>=AA19,"OUI","NON")) -> NON | P19: 2 | Q19: 2.8 | R19: 3.1 | S19: 2.6 | T19: 1 | U19: =IF(AA19="","",IF(AA19>=F19,"OUI","NON")) -> OUI | V19: =IF(S19="","",IF(S19<Q19,"OUI","NON")) -> OUI | W19: =IF(X19="","",IF(X19="Défaite","0",IF(X19="Nul","1",IF(X19="Victoire","3")))) -> 0 | X19: =IF(T19="","",IF(L19="Nul","Nul",IF(L19="Victoire","Défaite",IF(L19="Défaite","Victoire")))) -> Défaite | Y19: Marseille | Z19: =IF(Y19="","",VLOOKUP(Y19,[2]Entraîneur!A:C,2,FALSE)) -> Franck PASSI | AA19: =IF(Y19="","",VLOOKUP(Y19,[2]Budget!A:B,2,FALSE)) -> 100000000
B20: 2 | C20: 2016/2017 | D20: 42603 | E20: Ligue 1 | F20: =IF(H20="","",VLOOKUP(H20,[2]Budget!A:B,2,FALSE)) -> 500000000 | G20: =IF(H20="","",VLOOKUP(H20,[2]Entraîneur!A:C,2,FALSE)) -> Unaï Emery | H20: PSG | I20: =IF(F20="","",COUNTIFS(L:L,"Victoire",H:H,H20,E:E,E20)) -> 1 | J20: =IF(F20="","",COUNTIFS(L:L,"Nul",H:H,H20,E:E,E20)) -> 1 | K20: =IF(F20="","",COUNTIFS(L:L,"Défaite",H:H,H20,E:E,E20)) -> 0 | L20: =IF(P20="","",IF(P20=T20,"Nul",IF(P20>T20,"Victoire",IF(P20<T20,"Défaite")))) -> Victoire | M20: =IF(L20="","",IF(L20="Défaite","0",IF(L20="Nul","1",IF(L20="Victoire","3")))) -> 3 | N20: =IF(Q20="","",IF(Q20<S20,"OUI","NON")) -> OUI | O20: =IF(F20="","",IF(F20>=AA20,"OUI","NON")) -> OUI | P20: 3 | Q20: 1.1 | R20: 9 | S20: 25 | T20: 0 | U20: =IF(AA20="","",IF(AA20>=F20,"OUI","NON")) -> NON | V20: =IF(S20="","",IF(S20<Q20,"OUI","NON")) -> NON | W20: =IF(X20="","",IF(X20="Défaite","0",IF(X20="Nul","1",IF(X20="Victoire","3")))) -> 0 | X20: =IF(T20="","",IF(L20="Nul","Nul",IF(L20="Victoire","Défaite",IF(L20="Défaite","Victoire")))) -> Défaite | Y20: Metz | Z20: =IF(Y20="","",VLOOKUP(Y20,[2]Entraîneur!A:C,2,FALSE)) -> Philippe HINSCHBERGER | AA20: =IF(Y20="","",VLOOKUP(Y20,[2]Budget!A:B,2,FALSE)) -> 30000000
B21: 2 | C21: 2016/2017 | D21: 42603 | E21: Ligue 1 | F21: =IF(H21="","",VLOOKUP(H21,[2]Budget!A:B,2,FALSE)) -> 70000000 | G21: =IF(H21="","",VLOOKUP(H21,[2]Entraîneur!A:C,2,FALSE)) -> Christophe Galtier | H21: St Etienne | I21: =IF(F21="","",COUNTIFS(L:L,"Victoire",H:H,H21,E:E,E21)) -> 1 | J21: =IF(F21="","",COUNTIFS(L:L,"Nul",H:H,H21,E:E,E21)) -> 1 | K21: =IF(F21="","",COUNTIFS(L:L,"Défaite",H:H,H21,E:E,E21)) -> 0 | L21: =IF(P21="","",IF(P21=T21,"Nul",IF(P21>T21,"Victoire",IF(P21<T21,"Défaite")))) -> Victoire | M21: =IF(L21="","",IF(L21="Défaite","0",IF(L21="Nul","1",IF(L21="Victoire","3")))) -> 3 | N21: =IF(Q21="","",IF(Q21<S21,"OUI","NON")) -> OUI | O21: =IF(F21="","",IF(F21>=AA21,"OUI","NON")) -> OUI | P21: 3 | Q21: 2.3 | R21: 3 | S21: 3.4 | T21: 1 | U21: =IF(AA21="","",IF(AA21>=F21,"OUI","NON")) -> NON | V21: =IF(S21="","",IF(S21<Q21,"OUI","NON")) -> NON | W21: =IF(X21="","",IF(X21="Défaite","0",IF(X21="Nul","1",IF(X21="Victoire","3")))) -> 0 | X21: =IF(T21="","",IF(L21="Nul","Nul",IF(L21="Victoire","Défaite",IF(L21="Défaite","Victoire")))) -> Défaite | Y21: Montpellier | Z21: =IF(Y21="","",VLOOKUP(Y21,[2]Entraîneur!A:C,2,FALSE)) -> Frédéric HANTZ | AA21: =IF(Y21="","",VLOOKUP(Y21,[2]Budget!A:B,2,FALSE)) -> 42000000 | AC21: SI la cellule AC6 = Bastia alors | AE21: et que AD6 = Ligue 1
B22: 3 | C22: 2016/2017 | D22: 42608 | E22: Ligue 1 | F22: =IF(H22="","",VLOOKUP(H22,[2]Budget!A:B,2,FALSE)) -> 100000000 | G22: =IF(H22="","",VLOOKUP(H22,[2]Entraîneur!A:C,2,FALSE)) -> Franck PASSI | H22: Marseille | I22: =IF(F22="","",COUNTIFS(L:L,"Victoire",H:H,H22,E:E,E22)) -> 1 | J22: =IF(F22="","",COUNTIFS(L:L,"Nul",H:H,H22,E:E,E22)) -> 1 | K22: =IF(F22="","",COUNTIFS(L:L,"Défaite",H:H,H22,E:E,E22)) -> 0 | L22: =IF(P22="","",IF(P22=T22,"Nul",IF(P22>T22,"Victoire",IF(P22<T22,"Défaite")))) -> Victoire | M22: =IF(L22="","",IF(L22="Défaite","0",IF(L22="Nul","1",IF(L22="Victoire","3")))) -> 3 | N22: =IF(Q22="","",IF(Q22<S22,"OUI","NON")) -> OUI | O22: =IF(F22="","",IF(F22>=AA22,"OUI","NON")) -> OUI | P22: 2 | Q22: 1.82 | R22: 3.5 | S22: 4.5 | T22: 0 | U22: =IF(AA22="","",IF(AA22>=F22,"OUI","NON")) -> NON | V22: =IF(S22="","",IF(S22<Q22,"OUI","NON")) -> NON | W22: =IF(X22="","",IF(X22="Défaite","0",IF(X22="Nul","1",IF(X22="Victoire","3")))) -> 0 | X22: =IF(T22="","",IF(L22="Nul","Nul",IF(L22="Victoire","Défaite",IF(L22="Défaite","Victoire")))) -> Défaite | Y22: Lorient | Z22: =IF(Y22="","",VLOOKUP(Y22,[2]Entraîneur!A:C,2,FALSE)) -> Sylvain Ripoll | AA22: =IF(Y22="","",VLOOKUP(Y22,[2]Budget!A:B,2,FALSE)) -> 36000000 | AC22: Réponses attendues :
B23: 3 | C23: 2016/2017 | D23: 42609 | E23: Ligue 1 | F23: =IF(H23="","",VLOOKUP(H23,[2]Budget!A:B,2,FALSE)) -> 30000000 | G23: =IF(H23="","",VLOOKUP(H23,[2]Entraîneur!A:C,2,FALSE)) -> Philippe HINSCHBERGER | H23: Metz | I23: =IF(F23="","",COUNTIFS(L:L,"Victoire",H:H,H23,E:E,E23)) -> 2 | J23: =IF(F23="","",COUNTIFS(L:L,"Nul",H:H,H23,E:E,E23)) -> 0 | K23: =IF(F23="","",COUNTIFS(L:L,"Défaite",H:H,H23,E:E,E23)) -> 0 | L23: =IF(P23="","",IF(P23=T23,"Nul",IF(P23>T23,"Victoire",IF(P23<T23,"Défaite")))) -> Victoire | M23: =IF(L23="","",IF(L23="Défaite","0",IF(L23="Nul","1",IF(L23="Victoire","3")))) -> 3 | N23: =IF(Q23="","",IF(Q23<S23,"OUI","NON")) -> OUI | O23: =IF(F23="","",IF(F23>=AA23,"OUI","NON")) -> OUI | P23: 2 | Q23: 2.35 | R23: 3.1 | S23: 3.25 | T23: 0 | U23: =IF(AA23="","",IF(AA23>=F23,"OUI","NON")) -> NON | V23: =IF(S23="","",IF(S23<Q23,"OUI","NON")) -> NON | W23: =IF(X23="","",IF(X23="Défaite","0",IF(X23="Nul","1",IF(X23="Victoire","3")))) -> 0 | X23: =IF(T23="","",IF(L23="Nul","Nul",IF(L23="Victoire","Défaite",IF(L23="Défaite","Victoire")))) -> Défaite | Y23: Angers | Z23: =IF(Y23="","",VLOOKUP(Y23,[2]Entraîneur!A:C,2,FALSE)) -> Stéphane MOULIN | AA23: =IF(Y23="","",VLOOKUP(Y23,[2]Budget!A:B,2,FALSE)) -> 25000000 | AC23: 1er match : | AD23: 12/08/2016
B24: 3 | C24: 2016/2017 | D24: 42609 | E24: Ligue 1 | F24: =IF(H24="","",VLOOKUP(H24,[2]Budget!A:B,2,FALSE)) -> 30000000 | G24: =IF(H24="","",VLOOKUP(H24,[2]Entraîneur!A:C,2,FALSE)) -> Patrice GARANDE | H24: Caen | I24: =IF(F24="","",COUNTIFS(L:L,"Victoire",H:H,H24,E:E,E24)) -> 2 | J24: =IF(F24="","",COUNTIFS(L:L,"Nul",H:H,H24,E:E,E24)) -> 0 | K24: =IF(F24="","",COUNTIFS(L:L,"Défaite",H:H,H24,E:E,E24)) -> 1 | L24: =IF(P24="","",IF(P24=T24,"Nul",IF(P24>T24,"Victoire",IF(P24<T24,"Défaite")))) -> Victoire | M24: =IF(L24="","",IF(L24="Défaite","0",IF(L24="Nul","1",IF(L24="Victoire","3")))) -> 3 | N24: =IF(Q24="","",IF(Q24<S24,"OUI","NON")) -> OUI | O24: =IF(F24="","",IF(F24>=AA24,"OUI","NON")) -> OUI | P24: 2 | Q24: 2.15 | R24: 3.1 | S24: 3.6 | T24: 0 | U24: =IF(AA24="","",IF(AA24>=F24,"OUI","NON")) -> NON | V24: =IF(S24="","",IF(S24<Q24,"OUI","NON")) -> NON | W24: =IF(X24="","",IF(X24="Défaite","0",IF(X24="Nul","1",IF(X24="Victoire","3")))) -> 0 | X24: =IF(T24="","",IF(L24="Nul","Nul",IF(L24="Victoire","Défaite",IF(L24="Défaite","Victoire")))) -> Défaite | Y24: Bastia | Z24: =IF(Y24="","",VLOOKUP(Y24,[2]Entraîneur!A:C,2,FALSE)) -> François CICCOLINI | AA24: =IF(Y24="","",VLOOKUP(Y24,[2]Budget!A:B,2,FALSE)) -> 28000000 | AC24: 2e match : | AD24: 20/08/2016 | AE24: donc | AF24: 8 jours de repos | AH24: => Coupe de France | AI24: => Le match n'est pas comptée puisque la case AD6 = Ligue 1
B25: 3 | C25: 2016/2017 | D25: 42609 | E25: Ligue 1 | F25: =IF(H25="","",VLOOKUP(H25,[2]Budget!A:B,2,FALSE)) -> 30000000 | G25: =IF(H25="","",VLOOKUP(H25,[2]Entraîneur!A:C,2,FALSE)) -> Pablo Correa | H25: Nancy | I25: =IF(F25="","",COUNTIFS(L:L,"Victoire",H:H,H25,E:E,E25)) -> 0 | J25: =IF(F25="","",COUNTIFS(L:L,"Nul",H:H,H25,E:E,E25)) -> 0 | K25: =IF(F25="","",COUNTIFS(L:L,"Défaite",H:H,H25,E:E,E25)) -> 2 | L25: =IF(P25="","",IF(P25=T25,"Nul",IF(P25>T25,"Victoire",IF(P25<T25,"Défaite")))) -> Défaite | M25: =IF(L25="","",IF(L25="Défaite","0",IF(L25="Nul","1",IF(L25="Victoire","3")))) -> 0 | N25: =IF(Q25="","",IF(Q25<S25,"OUI","NON")) -> OUI | O25: =IF(F25="","",IF(F25>=AA25,"OUI","NON")) -> OUI | P25: 0 | Q25: 2.1 | R25: 3.25 | S25: 3.5 | T25: 2 | U25: =IF(AA25="","",IF(AA25>=F25,"OUI","NON")) -> NON | V25: =IF(S25="","",IF(S25<Q25,"OUI","NON")) -> NON | W25: =IF(X25="","",IF(X25="Défaite","0",IF(X25="Nul","1",IF(X25="Victoire","3")))) -> 3 | X25: =IF(T25="","",IF(L25="Nul","Nul",IF(L25="Victoire","Défaite",IF(L25="Défaite","Victoire")))) -> Victoire | Y25: Guingamp | Z25: =IF(Y25="","",VLOOKUP(Y25,[2]Entraîneur!A:C,2,FALSE)) -> Antoine KOMBOUARÉ | AA25: =IF(Y25="","",VLOOKUP(Y25,[2]Budget!A:B,2,FALSE)) -> 26000000 | AC25: 3e match : | AD25: 27/08/2016 | AE25: donc | AF25: 7 jours de repos | AH25: => Défaite
B26: 3 | C26: 2016/2017 | D26: 42609 | E26: Ligue 1 | F26: =IF(H26="","",VLOOKUP(H26,[2]Budget!A:B,2,FALSE)) -> 42000000 | G26: =IF(H26="","",VLOOKUP(H26,[2]Entraîneur!A:C,2,FALSE)) -> Lucien FAVRE | H26: Nice | I26: =IF(F26="","",COUNTIFS(L:L,"Victoire",H:H,H26,E:E,E26)) -> 2 | J26: =IF(F26="","",COUNTIFS(L:L,"Nul",H:H,H26,E:E,E26)) -> 1 | K26: =IF(F26="","",COUNTIFS(L:L,"Défaite",H:H,H26,E:E,E26)) -> 0 | L26: =IF(P26="","",IF(P26=T26,"Nul",IF(P26>T26,"Victoire",IF(P26<T26,"Défaite")))) -> Nul | M26: =IF(L26="","",IF(L26="Défaite","0",IF(L26="Nul","1",IF(L26="Victoire","3")))) -> 1 | N26: =IF(Q26="","",IF(Q26<S26,"OUI","NON")) -> OUI | O26: =IF(F26="","",IF(F26>=AA26,"OUI","NON")) -> NON | P26: 1 | Q26: 2.55 | R26: 3 | S26: 3.1 | T26: 1 | U26: =IF(AA26="","",IF(AA26>=F26,"OUI","NON")) -> OUI | V26: =IF(S26="","",IF(S26<Q26,"OUI","NON")) -> NON | W26: =IF(X26="","",IF(X26="Défaite","0",IF(X26="Nul","1",IF(X26="Victoire","3")))) -> 1 | X26: =IF(T26="","",IF(L26="Nul","Nul",IF(L26="Victoire","Défaite",IF(L26="Défaite","Victoire")))) -> Nul | Y26: Lille | Z26: =IF(Y26="","",VLOOKUP(Y26,[2]Entraîneur!A:C,2,FALSE)) -> Frédéric Antonetti | AA26: =IF(Y26="","",VLOOKUP(Y26,[2]Budget!A:B,2,FALSE)) -> 75000000 | AC26: 4e match : | AD26: 10/09/2016 | AE26: donc | AF26: + 10 jours de repos | AH26: => Victoire
B27: 3 | C27: 2016/2017 | D27: 42609 | E27: Ligue 1 | F27: =IF(H27="","",VLOOKUP(H27,[2]Budget!A:B,2,FALSE)) -> 26000000 | G27: =IF(H27="","",VLOOKUP(H27,[2]Entraîneur!A:C,2,FALSE)) -> Olivier DALL'OGLIO | H27: Dijon | I27: =IF(F27="","",COUNTIFS(L:L,"Victoire",H:H,H27,E:E,E27)) -> 1 | J27: =IF(F27="","",COUNTIFS(L:L,"Nul",H:H,H27,E:E,E27)) -> 0 | K27: =IF(F27="","",COUNTIFS(L:L,"Défaite",H:H,H27,E:E,E27)) -> 1 | L27: =IF(P27="","",IF(P27=T27,"Nul",IF(P27>T27,"Victoire",IF(P27<T27,"Défaite")))) -> Victoire | M27: =IF(L27="","",IF(L27="Défaite","0",IF(L27="Nul","1",IF(L27="Victoire","3")))) -> 3 | N27: =IF(Q27="","",IF(Q27<S27,"OUI","NON")) -> NON | O27: =IF(F27="","",IF(F27>=AA27,"OUI","NON")) -> NON | P27: 4 | Q27: 4.75 | R27: 3.5 | S27: 1.75 | T27: 2 | U27: =IF(AA27="","",IF(AA27>=F27,"OUI","NON")) -> OUI | V27: =IF(S27="","",IF(S27<Q27,"OUI","NON")) -> OUI | W27: =IF(X27="","",IF(X27="Défaite","0",IF(X27="Nul","1",IF(X27="Victoire","3")))) -> 0 | X27: =IF(T27="","",IF(L27="Nul","Nul",IF(L27="Victoire","Défaite",IF(L27="Défaite","Victoire")))) -> Défaite | Y27: Lyon | Z27: =IF(Y27="","",VLOOKUP(Y27,[2]Entraîneur!A:C,2,FALSE)) -> Bruno Genesio | AA27: =IF(Y27="","",VLOOKUP(Y27,[2]Budget!A:B,2,FALSE)) -> 250000000
B28: 3 | C28: 2016/2017 | D28: 42609 | E28: Ligue 1 | F28: =IF(H28="","",VLOOKUP(H28,[2]Budget!A:B,2,FALSE)) -> 42000000 | G28: =IF(H28="","",VLOOKUP(H28,[2]Entraîneur!A:C,2,FALSE)) -> Frédéric HANTZ | H28: Montpellier | I28: =IF(F28="","",COUNTIFS(L:L,"Victoire",H:H,H28,E:E,E28)) -> 1 | J28: =IF(F28="","",COUNTIFS(L:L,"Nul",H:H,H28,E:E,E28)) -> 1 | K28: =IF(F28="","",COUNTIFS(L:L,"Défaite",H:H,H28,E:E,E28)) -> 0 | L28: =IF(P28="","",IF(P28=T28,"Nul",IF(P28>T28,"Victoire",IF(P28<T28,"Défaite")))) -> Nul | M28: =IF(L28="","",IF(L28="Défaite","0",IF(L28="Nul","1",IF(L28="Victoire","3")))) -> 1 | N28: =IF(Q28="","",IF(Q28<S28,"OUI","NON")) -> OUI | O28: =IF(F28="","",IF(F28>=AA28,"OUI","NON")) -> NON | P28: 1 | Q28: 2.3 | R28: 3.1 | S28: 3.25 | T28: 1 | U28: =IF(AA28="","",IF(AA28>=F28,"OUI","NON")) -> OUI | V28: =IF(S28="","",IF(S28<Q28,"OUI","NON")) -> NON | W28: =IF(X28="","",IF(X28="Défaite","0",IF(X28="Nul","1",IF(X28="Victoire","3")))) -> 1 | X28: =IF(T28="","",IF(L28="Nul","Nul",IF(L28="Victoire","Défaite",IF(L28="Défaite","Victoire")))) -> Nul | Y28: Rennes | Z28: =IF(Y28="","",VLOOKUP(Y28,[2]Entraîneur!A:C,2,FALSE)) -> Christian Gourcuff | AA28: =IF(Y28="","",VLOOKUP(Y28,[2]Budget!A:B,2,FALSE)) -> 50000000
B29: 3 | C29: 2016/2017 | D29: 42610 | E29: Ligue 1 | F29: =IF(H29="","",VLOOKUP(H29,[2]Budget!A:B,2,FALSE)) -> 60000000 | G29: =IF(H29="","",VLOOKUP(H29,[2]Entraîneur!A:C,2,FALSE)) -> Jocelyn GOURVENNEC | H29: Bordeaux | I29: =IF(F29="","",COUNTIFS(L:L,"Victoire",H:H,H29,E:E,E29)) -> 2 | J29: =IF(F29="","",COUNTIFS(L:L,"Nul",H:H,H29,E:E,E29)) -> 0 | K29: =IF(F29="","",COUNTIFS(L:L,"Défaite",H:H,H29,E:E,E29)) -> 0 | L29: =IF(P29="","",IF(P29=T29,"Nul",IF(P29>T29,"Victoire",IF(P29<T29,"Défaite")))) -> Victoire | M29: =IF(L29="","",IF(L29="Défaite","0",IF(L29="Nul","1",IF(L29="Victoire","3")))) -> 3 | N29: =IF(Q29="","",IF(Q29<S29,"OUI","NON")) -> OUI | O29: =IF(F29="","",IF(F29>=AA29,"OUI","NON")) -> OUI | P29: 1 | Q29: 2.1 | R29: 3.1 | S29: 3.75 | T29: 0 | U29: =IF(AA29="","",IF(AA29>=F29,"OUI","NON")) -> NON | V29: =IF(S29="","",IF(S29<Q29,"OUI","NON")) -> NON | W29: =IF(X29="","",IF(X29="Défaite","0",IF(X29="Nul","1",IF(X29="Victoire","3")))) -> 0 | X29: =IF(T29="","",IF(L29="Nul","Nul",IF(L29="Victoire","Défaite",IF(L29="Défaite","Victoire")))) -> Défaite | Y29: Nantes | Z29: =IF(Y29="","",VLOOKUP(Y29,[2]Entraîneur!A:C,2,FALSE)) -> René Girard | AA29: =IF(Y29="","",VLOOKUP(Y29,[2]Budget!A:B,2,FALSE)) -> 40000000 | AC29: En sachant que la base de données (tableau à gauche) va être complétée toutes les semaines à chaque journée de championnat
B30: 3 | C30: 2016/2017 | D30: 42610 | E30: Ligue 1 | F30: =IF(H30="","",VLOOKUP(H30,[2]Budget!A:B,2,FALSE)) -> 145000000 | G30: =IF(H30="","",VLOOKUP(H30,[2]Entraîneur!A:C,2,FALSE)) -> Leonardo Jardim | H30: Monaco | I30: =IF(F30="","",COUNTIFS(L:L,"Victoire",H:H,H30,E:E,E30)) -> 1 | J30: =IF(F30="","",COUNTIFS(L:L,"Nul",H:H,H30,E:E,E30)) -> 1 | K30: =IF(F30="","",COUNTIFS(L:L,"Défaite",H:H,H30,E:E,E30)) -> 0 | L30: =IF(P30="","",IF(P30=T30,"Nul",IF(P30>T30,"Victoire",IF(P30<T30,"Défaite")))) -> Victoire | M30: =IF(L30="","",IF(L30="Défaite","0",IF(L30="Nul","1",IF(L30="Victoire","3")))) -> 3 | N30: =IF(Q30="","",IF(Q30<S30,"OUI","NON")) -> NON | O30: =IF(F30="","",IF(F30>=AA30,"OUI","NON")) -> NON | P30: 3 | Q30: 4.5 | R30: 3.7 | S30: 1.75 | T30: 1 | U30: =IF(AA30="","",IF(AA30>=F30,"OUI","NON")) -> OUI | V30: =IF(S30="","",IF(S30<Q30,"OUI","NON")) -> OUI | W30: =IF(X30="","",IF(X30="Défaite","0",IF(X30="Nul","1",IF(X30="Victoire","3")))) -> 0 | X30: =IF(T30="","",IF(L30="Nul","Nul",IF(L30="Victoire","Défaite",IF(L30="Défaite","Victoire")))) -> Défaite | Y30: PSG | Z30: =IF(Y30="","",VLOOKUP(Y30,[2]Entraîneur!A:C,2,FALSE)) -> Unaï Emery | AA30: =IF(Y30="","",VLOOKUP(Y30,[2]Budget!A:B,2,FALSE)) -> 500000000
B31: 3 | C31: 2016/2017 | D31: 42610 | E31: Ligue 1 | F31: =IF(H31="","",VLOOKUP(H31,[2]Budget!A:B,2,FALSE)) -> 70000000 | G31: =IF(H31="","",VLOOKUP(H31,[2]Entraîneur!A:C,2,FALSE)) -> Christophe Galtier | H31: St Etienne | I31: =IF(F31="","",COUNTIFS(L:L,"Victoire",H:H,H31,E:E,E31)) -> 1 | J31: =IF(F31="","",COUNTIFS(L:L,"Nul",H:H,H31,E:E,E31)) -> 1 | K31: =IF(F31="","",COUNTIFS(L:L,"Défaite",H:H,H31,E:E,E31)) -> 0 | L31: =IF(P31="","",IF(P31=T31,"Nul",IF(P31>T31,"Victoire",IF(P31<T31,"Défaite")))) -> Nul | M31: =IF(L31="","",IF(L31="Défaite","0",IF(L31="Nul","1",IF(L31="Victoire","3")))) -> 1 | N31: =IF(Q31="","",IF(Q31<S31,"OUI","NON")) -> OUI | O31: =IF(F31="","",IF(F31>=AA31,"OUI","NON")) -> OUI | P31: 0 | Q31: 2.15 | R31: 3.2 | S31: 3.6 | T31: 0 | U31: =IF(AA31="","",IF(AA31>=F31,"OUI","NON")) -> NON | V31: =IF(S31="","",IF(S31<Q31,"OUI","NON")) -> NON | W31: =IF(X31="","",IF(X31="Défaite","0",IF(X31="Nul","1",IF(X31="Victoire","3")))) -> 1 | X31: =IF(T31="","",IF(L31="Nul","Nul",IF(L31="Victoire","Défaite",IF(L31="Défaite","Victoire")))) -> Nul | Y31: Toulouse | Z31: =IF(Y31="","",VLOOKUP(Y31,[2]Entraîneur!A:C,2,FALSE)) -> Pascal Dupraz | AA31: =IF(Y31="","",VLOOKUP(Y31,[2]Budget!A:B,2,FALSE)) -> 35000000
B32: 4 | C32: 2016/2017 | D32: 42622 | E32: Ligue 1 | F32: =IF(H32="","",VLOOKUP(H32,[2]Budget!A:B,2,FALSE)) -> 500000000 | G32: =IF(H32="","",VLOOKUP(H32,[2]Entraîneur!A:C,2,FALSE)) -> Unaï Emery | H32: PSG | I32: =IF(F32="","",COUNTIFS(L:L,"Victoire",H:H,H32,E:E,E32)) -> 1 | J32: =IF(F32="","",COUNTIFS(L:L,"Nul",H:H,H32,E:E,E32)) -> 1 | K32: =IF(F32="","",COUNTIFS(L:L,"Défaite",H:H,H32,E:E,E32)) -> 0 | L32: =IF(P32="","",IF(P32=T32,"Nul",IF(P32>T32,"Victoire",IF(P32<T32,"Défaite")))) -> Nul | M32: =IF(L32="","",IF(L32="Défaite","0",IF(L32="Nul","1",IF(L32="Victoire","3")))) -> 1 | N32: =IF(Q32="","",IF(Q32<S32,"OUI","NON")) -> OUI | O32: =IF(F32="","",IF(F32>=AA32,"OUI","NON")) -> OUI | P32: 1 | Q32: 1.28 | R32: 5.1 | S32: 10.5 | T32: 1 | U32: =IF(AA32="","",IF(AA32>=F32,"OUI","NON")) -> NON | V32: =IF(S32="","",IF(S32<Q32,"OUI","NON")) -> NON | W32: =IF(X32="","",IF(X32="Défaite","0",IF(X32="Nul","1",IF(X32="Victoire","3")))) -> 1 | X32: =IF(T32="","",IF(L32="Nul","Nul",IF(L32="Victoire","Défaite",IF(L32="Défaite","Victoire")))) -> Nul | Y32: St Etienne | Z32: =IF(Y32="","",VLOOKUP(Y32,[2]Entraîneur!A:C,2,FALSE)) -> Christophe Galtier | AA32: =IF(Y32="","",VLOOKUP(Y32,[2]Budget!A:B,2,FALSE)) -> 70000000
B33: 4 | C33: 2016/2017 | D33: 42623 | E33: Ligue 1 | F33: =IF(H33="","",VLOOKUP(H33,[2]Budget!A:B,2,FALSE)) -> 250000000 | G33: =IF(H33="","",VLOOKUP(H33,[2]Entraîneur!A:C,2,FALSE)) -> Bruno Genesio | H33: Lyon | I33: =IF(F33="","",COUNTIFS(L:L,"Victoire",H:H,H33,E:E,E33)) -> 1 | J33: =IF(F33="","",COUNTIFS(L:L,"Nul",H:H,H33,E:E,E33)) -> 0 | K33: =IF(F33="","",COUNTIFS(L:L,"Défaite",H:H,H33,E:E,E33)) -> 1 | L33: =IF(P33="","",IF(P33=T33,"Nul",IF(P33>T33,"Victoire",IF(P33<T33,"Défaite")))) -> Défaite | M33: =IF(L33="","",IF(L33="Défaite","0",IF(L33="Nul","1",IF(L33="Victoire","3")))) -> 0 | N33: =IF(Q33="","",IF(Q33<S33,"OUI","NON")) -> OUI | O33: =IF(F33="","",IF(F33>=AA33,"OUI","NON")) -> OUI | P33: 1 | Q33: 1.68 | R33: 3.7 | S33: 5.1 | T33: 3 | U33: =IF(AA33="","",IF(AA33>=F33,"OUI","NON")) -> NON | V33: =IF(S33="","",IF(S33<Q33,"OUI","NON")) -> NON | W33: =IF(X33="","",IF(X33="Défaite","0",IF(X33="Nul","1",IF(X33="Victoire","3")))) -> 3 | X33: =IF(T33="","",IF(L33="Nul","Nul",IF(L33="Victoire","Défaite",IF(L33="Défaite","Victoire")))) -> Victoire | Y33: Bordeaux | Z33: =IF(Y33="","",VLOOKUP(Y33,[2]Entraîneur!A:C,2,FALSE)) -> Jocelyn GOURVENNEC | AA33: =IF(Y33="","",VLOOKUP(Y33,[2]Budget!A:B,2,FALSE)) -> 60000000
B34: 4 | C34: 2016/2017 | D34: 42623 | E34: Ligue 1 | F34: =IF(H34="","",VLOOKUP(H34,[2]Budget!A:B,2,FALSE)) -> 36000000 | G34: =IF(H34="","",VLOOKUP(H34,[2]Entraîneur!A:C,2,FALSE)) -> Sylvain Ripoll | H34: Lorient | I34: =IF(F34="","",COUNTIFS(L:L,"Victoire",H:H,H34,E:E,E34)) -> 0 | J34: =IF(F34="","",COUNTIFS(L:L,"Nul",H:H,H34,E:E,E34)) -> 0 | K34: =IF(F34="","",COUNTIFS(L:L,"Défaite",H:H,H34,E:E,E34)) -> 1 | L34: =IF(P34="","",IF(P34=T34,"Nul",IF(P34>T34,"Victoire",IF(P34<T34,"Défaite")))) -> Défaite | M34: =IF(L34="","",IF(L34="Défaite","0",IF(L34="Nul","1",IF(L34="Victoire","3")))) -> 0 | N34: =IF(Q34="","",IF(Q34<S34,"OUI","NON")) -> OUI | O34: =IF(F34="","",IF(F34>=AA34,"OUI","NON")) -> OUI | P34: 0 | Q34: 2.3 | R34: 3.1 | S34: 3.25 | T34: 2 | U34: =IF(AA34="","",IF(AA34>=F34,"OUI","NON")) -> NON | V34: =IF(S34="","",IF(S34<Q34,"OUI","NON")) -> NON | W34: =IF(X34="","",IF(X34="Défaite","0",IF(X34="Nul","1",IF(X34="Victoire","3")))) -> 3 | X34: =IF(T34="","",IF(L34="Nul","Nul",IF(L34="Victoire","Défaite",IF(L34="Défaite","Victoire")))) -> Victoire | Y34: Nancy | Z34: =IF(Y34="","",VLOOKUP(Y34,[2]Entraîneur!A:C,2,FALSE)) -> Pablo Correa | AA34: =IF(Y34="","",VLOOKUP(Y34,[2]Budget!A:B,2,FALSE)) -> 30000000
B35: 4 | C35: 2016/2017 | D35: 42623 | E35: Ligue 1 | F35: =IF(H35="","",VLOOKUP(H35,[2]Budget!A:B,2,FALSE)) -> 75000000 | G35: =IF(H35="","",VLOOKUP(H35,[2]Entraîneur!A:C,2,FALSE)) -> Frédéric Antonetti | H35: Lille | I35: =IF(F35="","",COUNTIFS(L:L,"Victoire",H:H,H35,E:E,E35)) -> 1 | J35: =IF(F35="","",COUNTIFS(L:L,"Nul",H:H,H35,E:E,E35)) -> 0 | K35: =IF(F35="","",COUNTIFS(L:L,"Défaite",H:H,H35,E:E,E35)) -> 1 | L35: =IF(P35="","",IF(P35=T35,"Nul",IF(P35>T35,"Victoire",IF(P35<T35,"Défaite")))) -> Défaite | M35: =IF(L35="","",IF(L35="Défaite","0",IF(L35="Nul","1",IF(L35="Victoire","3")))) -> 0 | N35: =IF(Q35="","",IF(Q35<S35,"OUI","NON")) -> OUI | O35: =IF(F35="","",IF(F35>=AA35,"OUI","NON")) -> NON | P35: 1 | Q35: 2.5 | R35: 3 | S35: 3.1 | T35: 4 | U35: =IF(AA35="","",IF(AA35>=F35,"OUI","NON")) -> OUI | V35: =IF(S35="","",IF(S35<Q35,"OUI","NON")) -> NON | W35: =IF(X35="","",IF(X35="Défaite","0",IF(X35="Nul","1",IF(X35="Victoire","3")))) -> 3 | X35: =IF(T35="","",IF(L35="Nul","Nul",IF(L35="Victoire","Défaite",IF(L35="Défaite","Victoire")))) -> Victoire | Y35: Monaco | Z35: =IF(Y35="","",VLOOKUP(Y35,[2]Entraîneur!A:C,2,FALSE)) -> Leonardo Jardim | AA35: =IF(Y35="","",VLOOKUP(Y35,[2]Budget!A:B,2,FALSE)) -> 145000000
B36: 4 | C36: 2016/2017 | D36: 42623 | E36: Ligue 1 | F36: =IF(H36="","",VLOOKUP(H36,[2]Budget!A:B,2,FALSE)) -> 28000000 | G36: =IF(H36="","",VLOOKUP(H36,[2]Entraîneur!A:C,2,FALSE)) -> François CICCOLINI | H36: Bastia | I36: =IF(F36="","",COUNTIFS(L:L,"Victoire",H:H,H36,E:E,E36)) -> 1 | J36: =IF(F36="","",COUNTIFS(L:L,"Nul",H:H,H36,E:E,E36)) -> 0 | K36: =IF(F36="","",COUNTIFS(L:L,"Défaite",H:H,H36,E:E,E36)) -> 1 | L36: =IF(P36="","",IF(P36=T36,"Nul",IF(P36>T36,"Victoire",IF(P36<T36,"Défaite")))) -> Victoire | M36: =IF(L36="","",IF(L36="Défaite","0",IF(L36="Nul","1",IF(L36="Victoire","3")))) -> 3 | N36: =IF(Q36="","",IF(Q36<S36,"OUI","NON")) -> OUI | O36: =IF(F36="","",IF(F36>=AA36,"OUI","NON")) -> NON | P36: 2 | Q36: 2.7 | R36: 3 | S36: 2.75 | T36: 1 | U36: =IF(AA36="","",IF(AA36>=F36,"OUI","NON")) -> OUI | V36: =IF(S36="","",IF(S36<Q36,"OUI","NON")) -> NON | W36: =IF(X36="","",IF(X36="Défaite","0",IF(X36="Nul","1",IF(X36="Victoire","3")))) -> 0 | X36: =IF(T36="","",IF(L36="Nul","Nul",IF(L36="Victoire","Défaite",IF(L36="Défaite","Victoire")))) -> Défaite | Y36: Toulouse | Z36: =IF(Y36="","",VLOOKUP(Y36,[2]Entraîneur!A:C,2,FALSE)) -> Pascal Dupraz | AA36: =IF(Y36="","",VLOOKUP(Y36,[2]Budget!A:B,2,FALSE)) -> 35000000
B37: 4 | C37: 2016/2017 | D37: 42623 | E37: Ligue 1 | F37: =IF(H37="","",VLOOKUP(H37,[2]Budget!A:B,2,FALSE)) -> 25000000 | G37: =IF(H37="","",VLOOKUP(H37,[2]Entraîneur!A:C,2,FALSE)) -> Stéphane MOULIN | H37: Angers | I37: =IF(F37="","",COUNTIFS(L:L,"Victoire",H:H,H37,E:E,E37)) -> 1 | J37: =IF(F37="","",COUNTIFS(L:L,"Nul",H:H,H37,E:E,E37)) -> 0 | K37: =IF(F37="","",COUNTIFS(L:L,"Défaite",H:H,H37,E:E,E37)) -> 1 | L37: =IF(P37="","",IF(P37=T37,"Nul",IF(P37>T37,"Victoire",IF(P37<T37,"Défaite")))) -> Victoire | M37: =IF(L37="","",IF(L37="Défaite","0",IF(L37="Nul","1",IF(L37="Victoire","3")))) -> 3 | N37: =IF(Q37="","",IF(Q37<S37,"OUI","NON")) -> OUI | O37: =IF(F37="","",IF(F37>=AA37,"OUI","NON")) -> NON | P37: 3 | Q37: 2.2 | R37: 3.1 | S37: 3.5 | T37: 1 | U37: =IF(AA37="","",IF(AA37>=F37,"OUI","NON")) -> OUI | V37: =IF(S37="","",IF(S37<Q37,"OUI","NON")) -> NON | W37: =IF(X37="","",IF(X37="Défaite","0",IF(X37="Nul","1",IF(X37="Victoire","3")))) -> 0 | X37: =IF(T37="","",IF(L37="Nul","Nul",IF(L37="Victoire","Défaite",IF(L37="Défaite","Victoire")))) -> Défaite | Y37: Dijon | Z37: =IF(Y37="","",VLOOKUP(Y37,[2]Entraîneur!A:C,2,FALSE)) -> Olivier DALL'OGLIO | AA37: =IF(Y37="","",VLOOKUP(Y37,[2]Budget!A:B,2,FALSE)) -> 26000000
B38: 4 | C38: 2016/2017 | D38: 42623 | E38: Ligue 1 | F38: =IF(H38="","",VLOOKUP(H38,[2]Budget!A:B,2,FALSE)) -> 26000000 | G38: =IF(H38="","",VLOOKUP(H38,[2]Entraîneur!A:C,2,FALSE)) -> Antoine KOMBOUARÉ | H38: Guingamp | I38: =IF(F38="","",COUNTIFS(L:L,"Victoire",H:H,H38,E:E,E38)) -> 1 | J38: =IF(F38="","",COUNTIFS(L:L,"Nul",H:H,H38,E:E,E38)) -> 1 | K38: =IF(F38="","",COUNTIFS(L:L,"Défaite",H:H,H38,E:E,E38)) -> 0 | L38: =IF(P38="","",IF(P38=T38,"Nul",IF(P38>T38,"Victoire",IF(P38<T38,"Défaite")))) -> Nul | M38: =IF(L38="","",IF(L38="Défaite","0",IF(L38="Nul","1",IF(L38="Victoire","3")))) -> 1 | N38: =IF(Q38="","",IF(Q38<S38,"OUI","NON")) -> OUI | O38: =IF(F38="","",IF(F38>=AA38,"OUI","NON")) -> NON | P38: 1 | Q38: 2.3 | R38: 3.1 | S38: 3.25 | T38: 1 | U38: =IF(AA38="","",IF(AA38>=F38,"OUI","NON")) -> OUI | V38: =IF(S38="","",IF(S38<Q38,"OUI","NON")) -> NON | W38: =IF(X38="","",IF(X38="Défaite","0",IF(X38="Nul","1",IF(X38="Victoire","3")))) -> 1 | X38: =IF(T38="","",IF(L38="Nul","Nul",IF(L38="Victoire","Défaite",IF(L38="Défaite","Victoire")))) -> Nul | Y38: Montpellier | Z38: =IF(Y38="","",VLOOKUP(Y38,[2]Entraîneur!A:C,2,FALSE)) -> Frédéric HANTZ | AA38: =IF(Y38="","",VLOOKUP(Y38,[2]Budget!A:B,2,FALSE)) -> 42000000
B39: 4 | C39: 2016/2017 | D39: 42624 | E39: Ligue 1 | F39: =IF(H39="","",VLOOKUP(H39,[2]Budget!A:B,2,FALSE)) -> 40000000 | G39: =IF(H39="","",VLOOKUP(H39,[2]Entraîneur!A:C,2,FALSE)) -> René Girard | H39: Nantes | I39: =IF(F39="","",COUNTIFS(L:L,"Victoire",H:H,H39,E:E,E39)) -> 0 | J39: =IF(F39="","",COUNTIFS(L:L,"Nul",H:H,H39,E:E,E39)) -> 0 | K39: =IF(F39="","",COUNTIFS(L:L,"Défaite",H:H,H39,E:E,E39)) -> 2 | L39: =IF(P39="","",IF(P39=T39,"Nul",IF(P39>T39,"Victoire",IF(P39<T39,"Défaite")))) -> Défaite | M39: =IF(L39="","",IF(L39="Défaite","0",IF(L39="Nul","1",IF(L39="Victoire","3")))) -> 0 | N39: =IF(Q39="","",IF(Q39<S39,"OUI","NON")) -> OUI | O39: =IF(F39="","",IF(F39>=AA39,"OUI","NON")) -> OUI | P39: 0 | Q39: 1.72 | R39: 3.4 | S39: 5.5 | T39: 3 | U39: =IF(AA39="","",IF(AA39>=F39,"OUI","NON")) -> NON | V39: =IF(S39="","",IF(S39<Q39,"OUI","NON")) -> NON | W39: =IF(X39="","",IF(X39="Défaite","0",IF(X39="Nul","1",IF(X39="Victoire","3")))) -> 3 | X39: =IF(T39="","",IF(L39="Nul","Nul",IF(L39="Victoire","Défaite",IF(L39="Défaite","Victoire")))) -> Victoire | Y39: Metz | Z39: =IF(Y39="","",VLOOKUP(Y39,[2]Entraîneur!A:C,2,FALSE)) -> Philippe HINSCHBERGER | AA39: =IF(Y39="","",VLOOKUP(Y39,[2]Budget!A:B,2,FALSE)) -> 30000000
B40: 4 | C40: 2016/2017 | D40: 42624 | E40: Ligue 1 | F40: =IF(H40="","",VLOOKUP(H40,[2]Budget!A:B,2,FALSE)) -> 50000000 | G40: =IF(H40="","",VLOOKUP(H40,[2]Entraîneur!A:C,2,FALSE)) -> Christian Gourcuff | H40: Rennes | I40: =IF(F40="","",COUNTIFS(L:L,"Victoire",H:H,H40,E:E,E40)) -> 2 | J40: =IF(F40="","",COUNTIFS(L:L,"Nul",H:H,H40,E:E,E40)) -> 0 | K40: =IF(F40="","",COUNTIFS(L:L,"Défaite",H:H,H40,E:E,E40)) -> 0 | L40: =IF(P40="","",IF(P40=T40,"Nul",IF(P40>T40,"Victoire",IF(P40<T40,"Défaite")))) -> Victoire | M40: =IF(L40="","",IF(L40="Défaite","0",IF(L40="Nul","1",IF(L40="Victoire","3")))) -> 3 | N40: =IF(Q40="","",IF(Q40<S40,"OUI","NON")) -> OUI | O40: =IF(F40="","",IF(F40>=AA40,"OUI","NON")) -> OUI | P40: 2 | Q40: 1.95 | R40: 3.4 | S40: 3.8 | T40: 0 | U40: =IF(AA40="","",IF(AA40>=F40,"OUI","NON")) -> NON | V40: =IF(S40="","",IF(S40<Q40,"OUI","NON")) -> NON | W40: =IF(X40="","",IF(X40="Défaite","0",IF(X40="Nul","1",IF(X40="Victoire","3")))) -> 0 | X40: =IF(T40="","",IF(L40="Nul","Nul",IF(L40="Victoire","Défaite",IF(L40="Défaite","Victoire")))) -> Défaite | Y40: Caen | Z40: =IF(Y40="","",VLOOKUP(Y40,[2]Entraîneur!A:C,2,FALSE)) -> Patrice GARANDE | AA40: =IF(Y40="","",VLOOKUP(Y40,[2]Budget!A:B,2,FALSE)) -> 30000000
...
