Workbook
Name Dispo: OFFSET(Affectation!$C$2,0,0,COUNTA(Affectation!$C$2:$C$26)-COUNTBLANK(Affectation!$C$2:$C$26),1)
Name ListeNoms: Planning!$A$4:$A$31
Name Personnel: OFFSET(Affectation!$A$2,0,0,COUNTA(Affectation!$A$1:$A$26)-1,1)

Sheet Planning
A1: Nbre de Personnel | D1: N. J. saison | E1: =COUNTA(G3:CZ3) -> 98 | F1: Vérification | G1: =COUNTA(G4:G35) -> 4 | H1: =COUNTA(H4:H35) -> 25 | I1: =COUNTA(I4:I35) -> 25 | J1: =COUNTA(J4:J35) -> 25 | K1: =COUNTA(K4:K35) -> 25 | L1: =COUNTA(L4:L35) -> 23 | M1: =COUNTA(M4:M35) -> 4 | N1: =COUNTA(N4:N35) -> 0 | ... CZ1: =COUNTA(CZ4:CZ35) -> 0
A2: =COUNTA(A4:A31) -> 25 | G2: Décembre - Semaine 51 | N2: Janvier - Semaine 1 | U2: Janvier - Semaine 2 | AB2: Janvier - Semaine 3 | AI2: Janvier - Semaine 4 | AP2: Janvier - Semaine 5 | AW2: Février - Semaine 6 | BD2: Février - Semaine 7 | BK2: Février - Semaine 8 | BR2: Février - Semaine 9 | BY2: Mars - Semaine10 | CF2: Mars - Semaine 11 | CM2: Mars - Semaine 12 | CT2: Mars - Semaine 13
A3: PERSONNEL | B3: Colonne a masquer | D3: SECTEUR | E3: APPAREILS | G3: Lundi 22 | H3: Mardi 23 | I3: Mercredi 24 | J3: Jeudi 25 | K3: Vendredi 26 | L3: Samedi 27 | M3: Dimanche 28 | N3: Lundi 29 | O3: Mardi 30 | P3: Mercredi 31 | Q3: Jeudi 1 | R3: Vendredi 2 | S3: Samedi 3 | T3: Dimanche 4 | U3: Lundi 5 | V3: Mardi 6 | W3: Mercredi 7 | X3: Jeudi 8 | Y3: Vendredi 9 | Z3: Samedi 10 | AA3: Dimanche 11 | AB3: Lundi 12 | AC3: Mardi 13 | AD3: Mercredi 14 | AE3: Jeudi 15 | AF3: Vendredi 16 | AG3: Samedi 17 | AH3: Dimanche 18 | AI3: Lundi 19 | AJ3: Mardi 20 | AK3: Mercredi 21 | AL3: Jeudi 22 | AM3: Vendredi 23 | AN3: Samedi 24 | AO3: Dimanche 25 | AP3: Lundi 26 | AQ3: Mardi 27 | AR3: Mercredi 28 | AS3: Jeudi 29 | AT3: Vendredi 30 | AU3: Samedi 31 | AV3: Dimanche 1 | AW3: Lundi 2 | AX3: Mardi 3 | AY3: Mercredi 4 | AZ3: Jeudi 5 | BA3: Vendredi 6 | BB3: Samedi | BC3: Dimanche 8 | BD3: Lundi 9 | BE3: Mardi 10 | BF3: Mercredi 11 | BG3: Jeudi 12 | BH3: Vendredi 13 | BI3: Samedi 14 | BJ3: Dimanche 15 | BK3: Lundi 16 | BL3: Mardi 17 | BM3: Mercredi 18 | BN3: Jeudi 19 | BO3: Vendredi 20 | BP3: Samedi 21 | BQ3: Dimanche 22 | BR3: Lundi 23 | BS3: Mardi 24 | BT3: Mercredi 25 | BU3: Jeudi 26 | BV3: Vendredi 27 | BW3: Samedi 28 | BX3: Dimanche 1 | BY3: Lundi 2 | BZ3: Mardi 3 | CA3: Mercredi 4 | CB3: Jeudi 5 | CC3: Vendredi 6 | CD3: Samedi | CE3: Dimanche 8 | CF3: Lundi 9 | CG3: Mardi 10 | CH3: Mercredi 11 | CI3: Jeudi 12 | CJ3: Vendredi 13 | CK3: Samedi 14 | CL3: Dimanche 15 | CM3: Lundi 16 | CN3: Mardi 17 | CO3: Mercredi 18 | CP3: Jeudi 19 | CQ3: Vendredi 20 | CR3: Samedi 21 | CS3: Dimanche 22 | CT3: Lundi 23 | CU3: Mardi 24 | CV3: Mercredi 25 | CW3: Jeudi 26 | CX3: Vendredi 27 | CY3: Samedi 28 | CZ3: Dimanche 29
A4: Didier Bourillon | B4: =IF(COUNTIF($G$4:$G$35,A4)>0,"",A4) | D4: SAINT JEAN | E4: PITCHOUNETS | G4: Didier Bourillon | H4: Laura Charlier | I4: Monique Vicédo | J4: Monique Vicédo | K4: Laura Charlier | L4: Laura Charlier
A5: Emmanuel Amoros | B5: =IF(COUNTIF($G$4:$G$35,A5)>0,"",A5) | E5: GRAVES | G5: Emmanuel Amoros | H5: Stephen Albouy | I5: Stephen Albouy | J5: Stephen Albouy | K5: Monique Vicédo | L5: Monique Vicédo
A6: Fabien Aillaud | B6: =IF(COUNTIF($G$4:$G$35,A6)>0,"",A6) | E6: MAISONETTES | G6: Fabien Aillaud | H6: Philippe Deschaux | I6: Flavien Amoros | J6: Flavien Amoros | K6: Philippe Deschaux | L6: Philippe Deschaux
A7: Flavien Amoros | B7: =IF(COUNTIF($G$4:$G$35,A7)>0,"",A7) | E7: VIEUX COURTIER | G7: Flavien Amoros
A8: J. François Marchetti | B8: =IF(COUNTIF($G$4:$G$35,A8)>0,"",A8) -> J. François Marchetti | E8: COMBE | H8: Didier Bourillon | I8: Didier Bourillon | J8: Didier Bourillon | K8: Flavien Amoros | L8: Flavien Amoros | M8: Rémi Renaudat
A9: J. Philippe Chatelard-Toinet | B9: =IF(COUNTIF($G$4:$G$35,A9)>0,"",A9) -> J. Philippe Chatelard-Toinet | E9: BARRIERE | K9: Lionel Lebre | L9: Lionel Lebre
A10: Joseph Usson | B10: =IF(COUNTIF($G$4:$G$35,A10)>0,"",A10) -> Joseph Usson | E10: TSD | F10: CONDUCTEUR | H10: Michel Hiltenbrand | I10: Philippe Leclerq | J10: Philippe Leclerq | K10: Michel Hiltenbrand | L10: Michel Hiltenbrand | M10: Stephen Albouy
A11: Kévin Marchetti | B11: =IF(COUNTIF($G$4:$G$35,A11)>0,"",A11) -> Kévin Marchetti | F11: VIGIE | H11: Rémi Renaudat | I11: Pascal Amiot | J11: Pascal Amiot | K11: Rémi Renaudat | L11: Rémi Renaudat | M11: Philippe Leclerq
A12: Laura Charlier | B12: =IF(COUNTIF($G$4:$G$35,A12)>0,"",A12) -> Laura Charlier | F12: AIDE - VIGIE | H12: Nicolas Werry | I12: Nicolas Werry | J12: Nicolas Werry | K12: J. François Marchetti | L12: Pascal Amiot
A13: Laurent Lefevre | B13: =IF(COUNTIF($G$4:$G$35,A13)>0,"",A13) -> Laurent Lefevre | F13: CONTRÔLE | H13: Patricia Gras | I13: Patricia Gras | J13: Patricia Gras | K13: Pascal Amiot | L13: Nicolas Werry
A14: Lionel Lebre | B14: =IF(COUNTIF($G$4:$G$35,A14)>0,"",A14) -> Lionel Lebre | E14: VALLONS | F14: CONDUCTEUR
A15: Maxime Leclerq | B15: =IF(COUNTIF($G$4:$G$35,A15)>0,"",A15) -> Maxime Leclerq | F15: VIGIE
A16: Michel Aubert | B16: =IF(COUNTIF($G$4:$G$35,A16)>0,"",A16) -> Michel Aubert | D16: DORMILLOUSE | E16: LOUP | H16: Michel Aubert | I16: Robert Chalandon | J16: Robert Chalandon | K16: Michel Aubert | L16: Michel Aubert
A17: Michel Hiltenbrand | B17: =IF(COUNTIF($G$4:$G$35,A17)>0,"",A17) -> Michel Hiltenbrand | E17: DORMILLOUSE | H17: Kévin Marchetti | I17: Kévin Marchetti | J17: Kévin Marchetti | K17: Robert Chalandon | L17: Robert Chalandon
A18: Monique Vicédo | B18: =IF(COUNTIF($G$4:$G$35,A18)>0,"",A18) -> Monique Vicédo | E18: LACS | F18: CONDUCTEUR | H18: Emmanuel Amoros | I18: Fabien Aillaud | J18: Fabien Aillaud | K18: Emmanuel Amoros | L18: Emmanuel Amoros
A19: Nicolas Werry | B19: =IF(COUNTIF($G$4:$G$35,A19)>0,"",A19) -> Nicolas Werry | F19: VIGIE | H19: Laurent Lefevre | I19: J. François Marchetti | J19: J. François Marchetti | K19: Laurent Lefevre | L19: Laurent Lefevre
A20: Patricia Gras | B20: =IF(COUNTIF($G$4:$G$35,A20)>0,"",A20) -> Patricia Gras | F20: DOUBLAGE | L20: J. François Marchetti
A21: Pascal Amiot | B21: =IF(COUNTIF($G$4:$G$35,A21)>0,"",A21) -> Pascal Amiot | E21: BRECHE | F21: CONDUCTEUR | H21: Maxime Leclerq | I21: Maxime Leclerq | J21: Maxime Leclerq | K21: Philippe Leclerq | L21: Philippe Leclerq
A22: Patrick Magal | B22: =IF(COUNTIF($G$4:$G$35,A22)>0,"",A22) -> Patrick Magal | F22: AIDE CONDUCTEUR | H22: Paul Guillemy | I22: Lionel Lebre | J22: Lionel Lebre | K22: Paul Guillemy | L22: Paul Guillemy
A23: Paul Guillemy | B23: =IF(COUNTIF($G$4:$G$35,A23)>0,"",A23) -> Paul Guillemy | F23: VIGIE BRECHE | H23: Patrick Magal | I23: Joseph Usson | J23: Joseph Usson | K23: Patrick Magal | L23: Patrick Magal
A24: Philippe Deschaux | B24: =IF(COUNTIF($G$4:$G$35,A24)>0,"",A24) -> Philippe Deschaux | F24: VIGIE RETOUR | H24: J. Philippe Chatelard-Toinet | I24: J. Philippe Chatelard-Toinet | J24: J. Philippe Chatelard-Toinet | K24: Joseph Usson | L24: J. Philippe Chatelard-Toinet
A25: Philippe Leclerq | B25: =IF(COUNTIF($G$4:$G$35,A25)>0,"",A25) -> Philippe Leclerq | E25: SNOWPARK | L25: Joseph Usson | M25: Joseph Usson
A26: Rémi Renaudat | B26: =IF(COUNTIF($G$4:$G$35,A26)>0,"",A26) -> Rémi Renaudat | D26: CONGES | H26: Fabien Aillaud | I26: Laura Charlier | J26: Laura Charlier | K26: Stephen Albouy | L26: Stephen Albouy
A27: Robert Chalandon | B27: =IF(COUNTIF($G$4:$G$35,A27)>0,"",A27) -> Robert Chalandon | H27: Flavien Amoros | I27: Philippe Deschaux | J27: Philippe Deschaux | K27: Didier Bourillon | L27: Kévin Marchetti
A28: Stephen Albouy | B28: =IF(COUNTIF($G$4:$G$35,A28)>0,"",A28) -> Stephen Albouy | H28: J. François Marchetti | I28: Michel Hiltenbrand | J28: Michel Hiltenbrand | K28: J. Philippe Chatelard-Toinet | L28: Patricia Gras
H29: Joseph Usson | I29: Michel Aubert | J29: Michel Aubert | K29: Nicolas Werry | L29: Flavien Amoros
H30: Lionel Lebre | I30: Patrick Magal | J30: Patrick Magal | K30: Patricia Gras
H31: Pascal Amiot | I31: Paul Guillemy | J31: Paul Guillemy | K31: Fabien Aillaud
H32: Philippe Leclerq | I32: Laurent Lefevre | J32: Laurent Lefevre | K32: Kévin Marchetti
H33: Robert Chalandon | I33: Rémi Renaudat | J33: Rémi Renaudat | K33: Maxime Leclerq
H34: Monique Vicédo | I34: Emmanuel Amoros | J34: Emmanuel Amoros

Sheet Jours Travaillés
A1: Nombre de jours Saisons | B1: =Planning!E1 -> 98
A2: Personnel | B2: Jours Travaillés | C2: Jours de Repos | D2: Date d'embauche
A3: =Planning!A4 -> Didier Bourillon | B3: =COUNTIF(Planning!G4:CZ25,"Didier Bourillon") -> 4 | C3: =COUNTIF(Planning!G26:CZ35,"Didier Bourillon") -> 1
A4: =Planning!A5 -> Emmanuel Amoros | B4: =COUNTIF(Planning!G4:CZ25,"Emmanuel Amoros") -> 4 | C4: =COUNTIF(Planning!G26:CZ35,"Emmanuel Amoros") -> 2
A5: =Planning!A6 -> Fabien Aillaud | B5: =COUNTIF(Planning!G4:CZ25,"Fabien Aillaud") -> 3 | C5: =COUNTIF(Planning!G26:CZ35,"Fabien Aillaud") -> 2
A6: =Planning!A7 -> Flavien Amoros | B6: =COUNTIF(Planning!G4:CZ25,"Flavien Amoros") -> 5 | C6: =COUNTIF(Planning!G26:CZ35,"Flavien Amoros") -> 2
A7: =Planning!A8 -> J. François Marchetti | B7: =COUNTIF(Planning!G4:CZ25,"J. François Marchetti") -> 4 | C7: =COUNTIF(Planning!G26:CZ35,"J. François Marchetti") -> 1
A8: =Planning!A9 -> J. Philippe Chatelard-Toinet | B8: =COUNTIF(Planning!G4:CZ25,"J. Philippe Chatelard-Toinet") -> 4 | C8: =COUNTIF(Planning!G26:CZ35,"J. Philippe Chatelard-Toinet") -> 1
A9: =Planning!A10 -> Joseph Usson | B9: =COUNTIF(Planning!G4:CZ25,"Joseph Usson") -> 5 | C9: =COUNTIF(Planning!G26:CZ35,"Joseph Usson") -> 1
A10: =Planning!A11 -> Kévin Marchetti | B10: =COUNTIF(Planning!G4:CZ25,"Kévin Marchetti") -> 3 | C10: =COUNTIF(Planning!G26:CZ35,"Kévin Marchetti") -> 2
A11: =Planning!A12 -> Laura Charlier | B11: =COUNTIF(Planning!G4:CZ25,"Laura Charlier") -> 3 | C11: =COUNTIF(Planning!G26:CZ35,"Laura Charlier") -> 2
A12: =Planning!A14 -> Lionel Lebre | B12: =COUNTIF(Planning!G4:CZ25,"Lionel Lebre") -> 4 | C12: =COUNTIF(Planning!G26:CZ35,"Lionel Lebre") -> 1
A13: =Planning!A15 -> Maxime Leclerq | B13: =COUNTIF(Planning!G4:CZ25,"Maxime Leclerq") -> 3 | C13: =COUNTIF(Planning!G26:CZ35,"Maxime Leclerq") -> 1
A14: =Planning!A16 -> Michel Aubert | B14: =COUNTIF(Planning!G4:CZ25,"Michel Aubert") -> 3 | C14: =COUNTIF(Planning!G26:CZ35,"Michel Aubert") -> 2
A15: =Planning!A17 -> Michel Hiltenbrand | B15: =COUNTIF(Planning!G4:CZ25,"Michel Hiltenbrand") -> 3 | C15: =COUNTIF(Planning!G26:CZ35,"Michel Hiltenbrand") -> 2
A16: =Planning!A18 -> Monique Vicédo | B16: =COUNTIF(Planning!G4:CZ25,"Monique Vicédo") -> 4 | C16: =COUNTIF(Planning!G26:CZ35,"Monique Vicédo") -> 1
A17: =Planning!A19 -> Nicolas Werry | B17: =COUNTIF(Planning!G4:CZ25,"Nicolas Werry") -> 4 | C17: =COUNTIF(Planning!G26:CZ35,"Nicolas Werry") -> 1
A18: =Planning!A20 -> Patricia Gras | B18: =COUNTIF(Planning!G4:CZ25,"Patricia Gras") -> 3 | C18: =COUNTIF(Planning!G26:CZ35,"Patricia Gras") -> 2
A19: =Planning!A21 -> Pascal Amiot | B19: =COUNTIF(Planning!G4:CZ25,"Pascal Amiot") -> 4 | C19: =COUNTIF(Planning!G26:CZ35,"Pascal Amiot") -> 1
A20: =Planning!A22 -> Patrick Magal | B20: =COUNTIF(Planning!G4:CZ25,"Patrick Magal") -> 3 | C20: =COUNTIF(Planning!G26:CZ35,"Patrick Magal") -> 2
A21: =Planning!A23 -> Paul Guillemy | B21: =COUNTIF(Planning!G4:CZ25,"Paul Guillemy") -> 3 | C21: =COUNTIF(Planning!G26:CZ35,"Paul Guillemy") -> 2
A22: =Planning!A24 -> Philippe Deschaux | B22: =COUNTIF(Planning!G4:CZ25,"Philippe Deschaux") -> 3 | C22: =COUNTIF(Planning!G26:CZ35,"Philippe Deschaux") -> 2
A23: =Planning!A25 -> Philippe Leclerq | B23: =COUNTIF(Planning!G4:CZ25,"Philippe Leclerq") -> 5 | C23: =COUNTIF(Planning!G26:CZ35,"Philippe Leclerq") -> 1
A24: =Planning!A26 -> Rémi Renaudat | B24: =COUNTIF(Planning!G4:CZ25,"Rémi Renaudat") -> 4 | C24: =COUNTIF(Planning!G26:CZ35,"Rémi Renaudat") -> 2
A25: =Planning!A27 -> Robert Chalandon | B25: =COUNTIF(Planning!G4:CZ25,"Robert Chalandon") -> 4 | C25: =COUNTIF(Planning!G26:CZ35,"Robert Chalandon") -> 1
A26: =Planning!A28 -> Stephen Albouy | B26: =COUNTIF(Planning!G4:CZ25,"Stephen Albouy") -> 4 | C26: =COUNTIF(Planning!G26:CZ35,"Stephen Albouy") -> 2
A27: =Planning!A29 -> 0
A28: =Planning!A30 -> 0
A29: =Planning!A31 -> 0

Sheet Affectation
A1: Personnel | B1: Ligne | C1: Disponible | D1: Adr | E1: Col
A2: Didier Bourillon | B2: =IF(COUNTIF(INDIRECT("Planning!"&$E$2&"4:"&$E$2&"35"),A2)>=1,"",ROW()) -> #VALUE! | C2: =IF(ROW(A2)-ROW(A$2)+1>COUNT(B$2:B$26),"",INDEX(A:A,SMALL(B$2:B$26,1+ROW(A2)-ROW(A$2)))) | D2: R5C4:R5C5 | E2: =SUBSTITUTE(ADDRESS(1,RIGHT(D2,LEN(D2)-FIND("C",D2,1)),4),"1","") -> #VALUE!
A3: Emmanuel Amoros | B3: =IF(COUNTIF(INDIRECT("Planning!"&$E$2&"4:"&$E$2&"35"),A3)>=1,"",ROW()) -> #VALUE! | C3: =IF(ROW(A3)-ROW(A$2)+1>COUNT(B$2:B$26),"",INDEX(A:A,SMALL(B$2:B$26,1+ROW(A3)-ROW(A$2))))
A4: Fabien Aillaud | B4: =IF(COUNTIF(INDIRECT("Planning!"&$E$2&"4:"&$E$2&"35"),A4)>=1,"",ROW()) -> #VALUE! | C4: =IF(ROW(A4)-ROW(A$2)+1>COUNT(B$2:B$26),"",INDEX(A:A,SMALL(B$2:B$26,1+ROW(A4)-ROW(A$2))))
A5: Flavien Amoros | B5: =IF(COUNTIF(INDIRECT("Planning!"&$E$2&"4:"&$E$2&"35"),A5)>=1,"",ROW()) -> #VALUE! | C5: =IF(ROW(A5)-ROW(A$2)+1>COUNT(B$2:B$26),"",INDEX(A:A,SMALL(B$2:B$26,1+ROW(A5)-ROW(A$2))))
A6: J. François Marchetti | B6: =IF(COUNTIF(INDIRECT("Planning!"&$E$2&"4:"&$E$2&"35"),A6)>=1,"",ROW()) -> #VALUE! | C6: =IF(ROW(A6)-ROW(A$2)+1>COUNT(B$2:B$26),"",INDEX(A:A,SMALL(B$2:B$26,1+ROW(A6)-ROW(A$2))))
A7: J. Philippe Chatelard-Toinet | B7: =IF(COUNTIF(INDIRECT("Planning!"&$E$2&"4:"&$E$2&"35"),A7)>=1,"",ROW()) -> #VALUE! | C7: =IF(ROW(A7)-ROW(A$2)+1>COUNT(B$2:B$26),"",INDEX(A:A,SMALL(B$2:B$26,1+ROW(A7)-ROW(A$2))))
A8: Joseph Usson | B8: =IF(COUNTIF(INDIRECT("Planning!"&$E$2&"4:"&$E$2&"35"),A8)>=1,"",ROW()) -> #VALUE! | C8: =IF(ROW(A8)-ROW(A$2)+1>COUNT(B$2:B$26),"",INDEX(A:A,SMALL(B$2:B$26,1+ROW(A8)-ROW(A$2))))
A9: Kévin Marchetti | B9: =IF(COUNTIF(INDIRECT("Planning!"&$E$2&"4:"&$E$2&"35"),A9)>=1,"",ROW()) -> #VALUE! | C9: =IF(ROW(A9)-ROW(A$2)+1>COUNT(B$2:B$26),"",INDEX(A:A,SMALL(B$2:B$26,1+ROW(A9)-ROW(A$2))))
A10: Laura Charlier | B10: =IF(COUNTIF(INDIRECT("Planning!"&$E$2&"4:"&$E$2&"35"),A10)>=1,"",ROW()) -> #VALUE! | C10: =IF(ROW(A10)-ROW(A$2)+1>COUNT(B$2:B$26),"",INDEX(A:A,SMALL(B$2:B$26,1+ROW(A10)-ROW(A$2))))
A11: Laurent Lefevre | B11: =IF(COUNTIF(INDIRECT("Planning!"&$E$2&"4:"&$E$2&"35"),A11)>=1,"",ROW()) -> #VALUE! | C11: =IF(ROW(A11)-ROW(A$2)+1>COUNT(B$2:B$26),"",INDEX(A:A,SMALL(B$2:B$26,1+ROW(A11)-ROW(A$2))))
A12: Lionel Lebre | B12: =IF(COUNTIF(INDIRECT("Planning!"&$E$2&"4:"&$E$2&"35"),A12)>=1,"",ROW()) -> #VALUE! | C12: =IF(ROW(A12)-ROW(A$2)+1>COUNT(B$2:B$26),"",INDEX(A:A,SMALL(B$2:B$26,1+ROW(A12)-ROW(A$2))))
A13: Maxime Leclerq | B13: =IF(COUNTIF(INDIRECT("Planning!"&$E$2&"4:"&$E$2&"35"),A13)>=1,"",ROW()) -> #VALUE! | C13: =IF(ROW(A13)-ROW(A$2)+1>COUNT(B$2:B$26),"",INDEX(A:A,SMALL(B$2:B$26,1+ROW(A13)-ROW(A$2))))
A14: Michel Aubert | B14: =IF(COUNTIF(INDIRECT("Planning!"&$E$2&"4:"&$E$2&"35"),A14)>=1,"",ROW()) -> #VALUE! | C14: =IF(ROW(A14)-ROW(A$2)+1>COUNT(B$2:B$26),"",INDEX(A:A,SMALL(B$2:B$26,1+ROW(A14)-ROW(A$2))))
... A26: Stephen Albouy | B26: =IF(COUNTIF(INDIRECT("Planning!"&$E$2&"4:"&$E$2&"35"),A26)>=1,"",ROW()) -> #VALUE! | C26: =IF(ROW(A26)-ROW(A$2)+1>COUNT(B$2:B$26),"",INDEX(A:A,SMALL(B$2:B$26,1+ROW(A26)-ROW(A$2))))
