Workbook

Sheet Saisie
D4: Jour | E4: Mois | F4: Année
D5: 1 | E5: 1 | F5: 1900
E8: Numérologie en Base 22
E12: RS | I12: PES | M12: RH
E13: =data!S5 -> 21 | I13: =data!P5 -> 13 | M13: =data!U5 -> 7
G18: CES | I18: NE | K18: CIS
G19: =data!AL5 -> 11 | I19: =data!AA5 -> 11 | K19: =data!AP5 -> 2
N21: QS
N22: =data!AH5 -> 13
E24: NR | G24: Année | I24: Mois | K24: Jour | M24: PP
E25: =data!W5 -> 8 | G25: =data!B5 -> 10 | I25: =data!I5 -> 1 | K25: =data!J5 -> 1 | M25: =data!M5 -> 12
N27: QE
N28: =data!AJ5 -> 5
G30: CED | I30: ND | K30: CID
G31: =data!AO5 -> 9 | I31: =data!AD5 -> 9 | K31: =data!AS5 -> 22
E36: NF | I36: PED | M36: RE
E37: =data!AF5 -> 5 | I37: =data!AE5 -> 13 | M37: =data!AG5 -> 1

Sheet ThèmeS
A1: =data!$K$5 -> 1 | B1: =data!$I$5 -> 1 | C1: =Saisie!F5 -> 1900 | H1: Nb A | L1: =data!$K$5 -> 1 | M1: =data!$I$5 -> 1 | N1: =C1+1 -> 1901 | W1: =data!$K$5 -> 1 | X1: =data!$I$5 -> 1 | Y1: =N1+1 -> 1902 | AH1: =data!$K$5 -> 1 | AI1: =data!$I$5 -> 1 | AJ1: =Y1+1 -> 1903 | AS1: =data!$K$5 -> 1 | AT1: =data!$I$5 -> 1 | AU1: =AJ1+1 -> 1904
A2: RS | E2: PES | I2: RH | L2: RS | P2: PES | T2: RH | W2: RS | AA2: PES | AE2: RH | AH2: RS | AL2: PES | AP2: RH | AS2: RS | AW2: PES | BA2: RH
A3: =data!S5 -> 21 | E3: =data!P5 -> 13 | I3: =data!U5 -> 7
C5: CES | E5: NE | G5: CIS | N5: CES | P5: NE | R5: CIS | Y5: CES | AA5: NE | AC5: CIS | AJ5: CES | AL5: NE | AN5: CIS | AU5: CES | AW5: NE | AY5: CIS
C6: =data!AL5 -> 11 | E6: =data!AA5 -> 11 | G6: =data!AP5 -> 2
J7: QS | U7: QS | AF7: QS | AQ7: QS | BB7: QS
J8: =data!AH5 -> 13
A9: NR | C9: Année | E9: Mois | G9: Jour | I9: PP | L9: NR | N9: Année | P9: Mois | R9: Jour | T9: PP | W9: NR | Y9: Année | AA9: Mois | AC9: Jour | AE9: PP | AH9: NR | AJ9: Année | AL9: Mois | AN9: Jour | AP9: PP | AS9: NR | AU9: Année | AW9: Mois | AY9: Jour | BA9: PP
A10: =data!W5 -> 8 | C10: =data!B5 -> 10 | E10: =data!I5 -> 1 | G10: =data!J5 -> 1 | I10: =data!M5 -> 12
J11: QE | U11: QE | AF11: QE | AQ11: QE | BB11: QE
J12: =data!AJ5 -> 5
C13: CED | E13: ND | G13: CID | N13: CED | P13: ND | R13: CID | Y13: CED | AA13: ND | AC13: CID | AJ13: CED | AL13: ND | AN13: CID | AU13: CED | AW13: ND | AY13: CID
C14: =data!AO5 -> 9 | E14: =data!AD5 -> 9 | G14: =data!AS5 -> 22
A16: NF | E16: PED | I16: RE | L16: NF | P16: PED | T16: RE | W16: NF | AA16: PED | AE16: RE | AH16: NF | AL16: PED | AP16: RE | AS16: NF | AW16: PED | BA16: RE
A17: =data!AF5 -> 5 | E17: =data!AE5 -> 13 | I17: =data!AG5 -> 1
A19: =data!$K$5 -> 1 | B19: =data!$I$5 -> 1 | C19: =AU1+1 -> 1905 | L19: =data!$K$5 -> 1 | M19: =data!$I$5 -> 1 | N19: =C19+1 -> 1906 | W19: =data!$K$5 -> 1 | X19: =data!$I$5 -> 1 | Y19: =N19+1 -> 1907 | AH19: =data!$K$5 -> 1 | AI19: =data!$I$5 -> 1 | AJ19: =Y19+1 -> 1908 | AS19: =data!$K$5 -> 1 | AT19: =data!$I$5 -> 1 | AU19: =AJ19+1 -> 1909
A20: RS | E20: PES | I20: RH | L20: RS | P20: PES | T20: RH | W20: RS | AA20: PES | AE20: RH | AH20: RS | AL20: PES | AP20: RH | AS20: RS | AW20: PES | BA20: RH
C23: CES | E23: NE | G23: CIS | N23: CES | P23: NE | R23: CIS | Y23: CES | AA23: NE | AC23: CIS | AJ23: CES | AL23: NE | AN23: CIS | AU23: CES | AW23: NE | AY23: CIS
J25: QS | U25: QS | AF25: QS | AQ25: QS | BB25: QS
A27: NR | C27: Année | E27: Mois | G27: Jour | I27: PP | L27: NR | N27: Année | P27: Mois | R27: Jour | T27: PP | W27: NR | Y27: Année | AA27: Mois | AC27: Jour | AE27: PP | AH27: NR | AJ27: Année | AL27: Mois | AN27: Jour | AP27: PP | AS27: NR | AU27: Année | AW27: Mois | AY27: Jour | BA27: PP
J29: QE | U29: QE | AF29: QE | AQ29: QE | BB29: QE
C31: CED | E31: ND | G31: CID | N31: CED | P31: ND | R31: CID | Y31: CED | AA31: ND | AC31: CID | AJ31: CED | AL31: ND | AN31: CID | AU31: CED | AW31: ND | AY31: CID
A34: NF | E34: PED | I34: RE | L34: NF | P34: PED | T34: RE | W34: NF | AA34: PED | AE34: RE | AH34: NF | AL34: PED | AP34: RE | AS34: NF | AW34: PED | BA34: RE
A37: =data!$K$5 -> 1 | B37: =data!$I$5 -> 1 | C37: =AU19+1 -> 1910 | L37: =data!$K$5 -> 1 | M37: =data!$I$5 -> 1 | N37: =C37+1 -> 1911 | W37: =data!$K$5 -> 1 | X37: =data!$I$5 -> 1 | Y37: =N37+1 -> 1912 | AH37: =data!$K$5 -> 1 | AI37: =data!$I$5 -> 1 | AJ37: =Y37+1 -> 1913 | AS37: =data!$K$5 -> 1 | AT37: =data!$I$5 -> 1 | AU37: =AJ37+1 -> 1914
A38: RS | E38: PES | I38: RH | L38: RS | P38: PES | T38: RH | W38: RS | AA38: PES | AE38: RH | AH38: RS | AL38: PES | AP38: RH | AS38: RS | AW38: PES | BA38: RH
C41: CES | E41: NE | G41: CIS | N41: CES | P41: NE | R41: CIS | Y41: CES | AA41: NE | AC41: CIS | AJ41: CES | AL41: NE | AN41: CIS | AU41: CES | AW41: NE | AY41: CIS
J43: QS | U43: QS | AF43: QS | AQ43: QS | BB43: QS
A45: NR | C45: Année | E45: Mois | G45: Jour | I45: PP | L45: NR | N45: Année | P45: Mois | R45: Jour | T45: PP | W45: NR | Y45: Année | AA45: Mois | AC45: Jour | AE45: PP | AH45: NR | AJ45: Année | AL45: Mois | AN45: Jour | AP45: PP | AS45: NR | AU45: Année | AW45: Mois | AY45: Jour | BA45: PP
J47: QE | U47: QE | AF47: QE | AQ47: QE | BB47: QE
C49: CED | E49: ND | G49: CID | N49: CED | P49: ND | R49: CID | Y49: CED | AA49: ND | AC49: CID | AJ49: CED | AL49: ND | AN49: CID | AU49: CED | AW49: ND | AY49: CID
A52: NF | E52: PED | I52: RE | L52: NF | P52: PED | T52: RE | W52: NF | AA52: PED | AE52: RE | AH52: NF | AL52: PED | AP52: RE | AS52: NF | AW52: PED | BA52: RE
A55: =data!$K$5 -> 1 | B55: =data!$I$5 -> 1 | C55: =AU37+1 -> 1915 | L55: =data!$K$5 -> 1 | M55: =data!$I$5 -> 1 | N55: =C55+1 -> 1916 | W55: =data!$K$5 -> 1 | X55: =data!$I$5 -> 1 | Y55: =N55+1 -> 1917 | AH55: =data!$K$5 -> 1 | AI55: =data!$I$5 -> 1 | AJ55: =Y55+1 -> 1918 | AS55: =data!$K$5 -> 1 | AT55: =data!$I$5 -> 1 | AU55: =AJ55+1 -> 1919
A56: RS | E56: PES | I56: RH | L56: RS | P56: PES | T56: RH | W56: RS | AA56: PES | AE56: RH | AH56: RS | AL56: PES | AP56: RH | AS56: RS | AW56: PES | BA56: RH
C59: CES | E59: NE | G59: CIS | N59: CES | P59: NE | R59: CIS | Y59: CES | AA59: NE | AC59: CIS | AJ59: CES | AL59: NE | AN59: CIS | AU59: CES | AW59: NE | AY59: CIS
J61: QS | U61: QS | AF61: QS | AQ61: QS | BB61: QS
A63: NR | C63: Année | E63: Mois | G63: Jour | I63: PP | L63: NR | N63: Année | P63: Mois | R63: Jour | T63: PP | W63: NR | Y63: Année | AA63: Mois | AC63: Jour | AE63: PP | AH63: NR | AJ63: Année | AL63: Mois | AN63: Jour | AP63: PP | AS63: NR | AU63: Année | AW63: Mois | AY63: Jour | BA63: PP
J65: QE | U65: QE | AF65: QE | AQ65: QE | BB65: QE
C67: CED | E67: ND | G67: CID | N67: CED | P67: ND | R67: CID | Y67: CED | AA67: ND | AC67: CID | AJ67: CED | AL67: ND | AN67: CID | AU67: CED | AW67: ND | AY67: CID
A70: NF | E70: PED | I70: RE | L70: NF | P70: PED | T70: RE | W70: NF | AA70: PED | AE70: RE | AH70: NF | AL70: PED | AP70: RE | AS70: NF | AW70: PED | BA70: RE
A73: =data!$K$5 -> 1 | B73: =data!$I$5 -> 1 | C73: =AU55+1 -> 1920 | L73: =data!$K$5 -> 1 | M73: =data!$I$5 -> 1 | N73: =C73+1 -> 1921 | W73: =data!$K$5 -> 1 | X73: =data!$I$5 -> 1 | Y73: =N73+1 -> 1922 | AH73: =data!$K$5 -> 1 | AI73: =data!$I$5 -> 1 | AJ73: =Y73+1 -> 1923 | AS73: =data!$K$5 -> 1 | AT73: =data!$I$5 -> 1 | AU73: =AJ73+1 -> 1924
A74: RS | E74: PES | I74: RH | L74: RS | P74: PES | T74: RH | W74: RS | AA74: PES | AE74: RH | AH74: RS | AL74: PES | AP74: RH | AS74: RS | AW74: PES | BA74: RH
C77: CES | E77: NE | G77: CIS | N77: CES | P77: NE | R77: CIS | Y77: CES | AA77: NE | AC77: CIS | AJ77: CES | AL77: NE | AN77: CIS | AU77: CES | AW77: NE | AY77: CIS
J79: QS | U79: QS | AF79: QS | AQ79: QS | BB79: QS
A81: NR | C81: Année | E81: Mois | G81: Jour | I81: PP | L81: NR | N81: Année | P81: Mois | R81: Jour | T81: PP | W81: NR | Y81: Année | AA81: Mois | AC81: Jour | AE81: PP | AH81: NR | AJ81: Année | AL81: Mois | AN81: Jour | AP81: PP | AS81: NR | AU81: Année | AW81: Mois | AY81: Jour | BA81: PP
J83: QE | U83: QE | AF83: QE | AQ83: QE | BB83: QE
C85: CED | E85: ND | G85: CID | N85: CED | P85: ND | R85: CID | Y85: CED | AA85: ND | AC85: CID | AJ85: CED | AL85: ND | AN85: CID | AU85: CED | AW85: ND | AY85: CID
A88: NF | E88: PED | I88: RE | L88: NF | P88: PED | T88: RE | W88: NF | AA88: PED | AE88: RE | AH88: NF | AL88: PED | AP88: RE | AS88: NF | AW88: PED | BA88: RE
A91: =data!$K$5 -> 1 | B91: =data!$I$5 -> 1 | C91: =AU73+1 -> 1925 | L91: =data!$K$5 -> 1 | M91: =data!$I$5 -> 1 | N91: =C91+1 -> 1926 | W91: =data!$K$5 -> 1 | X91: =data!$I$5 -> 1 | Y91: =N91+1 -> 1927 | AH91: =data!$K$5 -> 1 | AI91: =data!$I$5 -> 1 | AJ91: =Y91+1 -> 1928 | AS91: =data!$K$5 -> 1 | AT91: =data!$I$5 -> 1 | AU91: =AJ91+1 -> 1929
A92: RS | E92: PES | I92: RH | L92: RS | P92: PES | T92: RH | W92: RS | AA92: PES | AE92: RH | AH92: RS | AL92: PES | AP92: RH | AS92: RS | AW92: PES | BA92: RH
C95: CES | E95: NE | G95: CIS | N95: CES | P95: NE | R95: CIS | Y95: CES | AA95: NE | AC95: CIS | AJ95: CES | AL95: NE | AN95: CIS | AU95: CES | AW95: NE | AY95: CIS
J97: QS | U97: QS | AF97: QS | AQ97: QS | BB97: QS
A99: NR | C99: Année | E99: Mois | G99: Jour | I99: PP | L99: NR | N99: Année | P99: Mois | R99: Jour | T99: PP | W99: NR | Y99: Année | AA99: Mois | AC99: Jour | AE99: PP | AH99: NR | AJ99: Année | AL99: Mois | AN99: Jour | AP99: PP | AS99: NR | AU99: Année | AW99: Mois | AY99: Jour | BA99: PP
J101: QE | U101: QE | AF101: QE | AQ101: QE | BB101: QE
C103: CED | E103: ND | G103: CID | N103: CED | P103: ND | R103: CID | Y103: CED | AA103: ND | AC103: CID | AJ103: CED | AL103: ND | AN103: CID | AU103: CED | AW103: ND | AY103: CID
A106: NF | E106: PED | I106: RE | L106: NF | P106: PED | T106: RE | W106: NF | AA106: PED | AE106: RE | AH106: NF | AL106: PED | AP106: RE | AS106: NF | AW106: PED | BA106: RE
A109: =data!$K$5 -> 1 | B109: =data!$I$5 -> 1 | C109: =AU91+1 -> 1930 | L109: =data!$K$5 -> 1 | M109: =data!$I$5 -> 1 | N109: =C109+1 -> 1931 | W109: =data!$K$5 -> 1 | X109: =data!$I$5 -> 1 | Y109: =N109+1 -> 1932 | AH109: =data!$K$5 -> 1 | AI109: =data!$I$5 -> 1 | AJ109: =Y109+1 -> 1933 | AS109: =data!$K$5 -> 1 | AT109: =data!$I$5 -> 1 | AU109: =AJ109+1 -> 1934
A110: RS | E110: PES | I110: RH | L110: RS | P110: PES | T110: RH | W110: RS | AA110: PES | AE110: RH | AH110: RS | AL110: PES | AP110: RH | AS110: RS | AW110: PES | BA110: RH
C113: CES | E113: NE | G113: CIS | N113: CES | P113: NE | R113: CIS | Y113: CES | AA113: NE | AC113: CIS | AJ113: CES | AL113: NE | AN113: CIS | AU113: CES | AW113: NE | AY113: CIS
J115: QS | U115: QS | AF115: QS | AQ115: QS | BB115: QS
A117: NR | C117: Année | E117: Mois | G117: Jour | I117: PP | L117: NR | N117: Année | P117: Mois | R117: Jour | T117: PP | W117: NR | Y117: Année | AA117: Mois | AC117: Jour | AE117: PP | AH117: NR | AJ117: Année | AL117: Mois | AN117: Jour | AP117: PP | AS117: NR | AU117: Année | AW117: Mois | AY117: Jour | BA117: PP
J119: QE | U119: QE | AF119: QE | AQ119: QE | BB119: QE
C121: CED | E121: ND | G121: CID | N121: CED | P121: ND | R121: CID | Y121: CED | AA121: ND | AC121: CID | AJ121: CED | AL121: ND | AN121: CID | AU121: CED | AW121: ND | AY121: CID
A124: NF | E124: PED | I124: RE | L124: NF | P124: PED | T124: RE | W124: NF | AA124: PED | AE124: RE | AH124: NF | AL124: PED | AP124: RE | AS124: NF | AW124: PED | BA124: RE
A127: =data!$K$5 -> 1 | B127: =data!$I$5 -> 1 | C127: =AU109+1 -> 1935 | L127: =data!$K$5 -> 1 | M127: =data!$I$5 -> 1 | N127: =C127+1 -> 1936 | W127: =data!$K$5 -> 1 | X127: =data!$I$5 -> 1 | Y127: =N127+1 -> 1937 | AH127: =data!$K$5 -> 1 | AI127: =data!$I$5 -> 1 | AJ127: =Y127+1 -> 1938 | AS127: =data!$K$5 -> 1 | AT127: =data!$I$5 -> 1 | AU127: =AJ127+1 -> 1939
A128: RS | E128: PES | I128: RH | L128: RS | P128: PES | T128: RH | W128: RS | AA128: PES | AE128: RH | AH128: RS | AL128: PES | AP128: RH | AS128: RS | AW128: PES | BA128: RH
C131: CES | E131: NE | G131: CIS | N131: CES | P131: NE | R131: CIS | Y131: CES | AA131: NE | AC131: CIS | AJ131: CES | AL131: NE | AN131: CIS | AU131: CES | AW131: NE | AY131: CIS
J133: QS | U133: QS | AF133: QS | AQ133: QS | BB133: QS
A135: NR | C135: Année | E135: Mois | G135: Jour | I135: PP | L135: NR | N135: Année | P135: Mois | R135: Jour | T135: PP | W135: NR | Y135: Année | AA135: Mois | AC135: Jour | AE135: PP | AH135: NR | AJ135: Année | AL135: Mois | AN135: Jour | AP135: PP | AS135: NR | AU135: Année | AW135: Mois | AY135: Jour | BA135: PP
J137: QE | U137: QE | AF137: QE | AQ137: QE | BB137: QE
C139: CED | E139: ND | G139: CID | N139: CED | P139: ND | R139: CID | Y139: CED | AA139: ND | AC139: CID | AJ139: CED | AL139: ND | AN139: CID | AU139: CED | AW139: ND | AY139: CID
A142: NF | E142: PED | I142: RE | L142: NF | P142: PED | T142: RE | W142: NF | AA142: PED | AE142: RE | AH142: NF | AL142: PED | AP142: RE | AS142: NF | AW142: PED | BA142: RE
A145: =data!$K$5 -> 1 | B145: =data!$I$5 -> 1 | C145: =AU127+1 -> 1940 | L145: =data!$K$5 -> 1 | M145: =data!$I$5 -> 1 | N145: =C145+1 -> 1941 | W145: =data!$K$5 -> 1 | X145: =data!$I$5 -> 1 | Y145: =N145+1 -> 1942 | AH145: =data!$K$5 -> 1 | AI145: =data!$I$5 -> 1 | AJ145: =Y145+1 -> 1943 | AS145: =data!$K$5 -> 1 | AT145: =data!$I$5 -> 1 | AU145: =AJ145+1 -> 1944
A146: RS | E146: PES | I146: RH | L146: RS | P146: PES | T146: RH | W146: RS | AA146: PES | AE146: RH | AH146: RS | AL146: PES | AP146: RH | AS146: RS | AW146: PES | BA146: RH
C149: CES | E149: NE | G149: CIS | N149: CES | P149: NE | R149: CIS | Y149: CES | AA149: NE | AC149: CIS | AJ149: CES | AL149: NE | AN149: CIS | AU149: CES | AW149: NE | AY149: CIS
J151: QS | U151: QS | AF151: QS | AQ151: QS | BB151: QS
A153: NR | C153: Année | E153: Mois | G153: Jour | I153: PP | L153: NR | N153: Année | P153: Mois | R153: Jour | T153: PP | W153: NR | Y153: Année | AA153: Mois | AC153: Jour | AE153: PP | AH153: NR | AJ153: Année | AL153: Mois | AN153: Jour | AP153: PP | AS153: NR | AU153: Année | AW153: Mois | AY153: Jour | BA153: PP
J155: QE | U155: QE | AF155: QE | AQ155: QE | BB155: QE
C157: CED | E157: ND | G157: CID | N157: CED | P157: ND | R157: CID | Y157: CED | AA157: ND | AC157: CID | AJ157: CED | AL157: ND | AN157: CID | AU157: CED | AW157: ND | AY157: CID
A160: NF | E160: PED | I160: RE | L160: NF | P160: PED | T160: RE | W160: NF | AA160: PED | AE160: RE | AH160: NF | AL160: PED | AP160: RE | AS160: NF | AW160: PED | BA160: RE
A163: =data!$K$5 -> 1 | B163: =data!$I$5 -> 1 | C163: =AU145+1 -> 1945 | L163: =data!$K$5 -> 1 | M163: =data!$I$5 -> 1 | N163: =C163+1 -> 1946 | W163: =data!$K$5 -> 1 | X163: =data!$I$5 -> 1 | Y163: =N163+1 -> 1947 | AH163: =data!$K$5 -> 1 | AI163: =data!$I$5 -> 1 | AJ163: =Y163+1 -> 1948 | AS163: =data!$K$5 -> 1 | AT163: =data!$I$5 -> 1 | AU163: =AJ163+1 -> 1949
A164: RS | E164: PES | I164: RH | L164: RS | P164: PES | T164: RH | W164: RS | AA164: PES | AE164: RH | AH164: RS | AL164: PES | AP164: RH | AS164: RS | AW164: PES | BA164: RH
C167: CES | E167: NE | G167: CIS | N167: CES | P167: NE | R167: CIS | Y167: CES | AA167: NE | AC167: CIS | AJ167: CES | AL167: NE | AN167: CIS | AU167: CES | AW167: NE | AY167: CIS
J169: QS | U169: QS | AF169: QS | AQ169: QS | BB169: QS
A171: NR | C171: Année | E171: Mois | G171: Jour | I171: PP | L171: NR | N171: Année | P171: Mois | R171: Jour | T171: PP | W171: NR | Y171: Année | AA171: Mois | AC171: Jour | AE171: PP | AH171: NR | AJ171: Année | AL171: Mois | AN171: Jour | AP171: PP | AS171: NR | AU171: Année | AW171: Mois | AY171: Jour | BA171: PP
J173: QE | U173: QE | AF173: QE | AQ173: QE | BB173: QE
C175: CED | E175: ND | G175: CID | N175: CED | P175: ND | R175: CID | Y175: CED | AA175: ND | AC175: CID | AJ175: CED | AL175: ND | AN175: CID | AU175: CED | AW175: ND | AY175: CID
A178: NF | E178: PED | I178: RE | L178: NF | P178: PED | T178: RE | W178: NF | AA178: PED | AE178: RE | AH178: NF | AL178: PED | AP178: RE | AS178: NF | AW178: PED | BA178: RE
A181: =data!$K$5 -> 1 | B181: =data!$I$5 -> 1 | C181: =AU163+1 -> 1950 | L181: =data!$K$5 -> 1 | M181: =data!$I$5 -> 1 | N181: =C181+1 -> 1951 | W181: =data!$K$5 -> 1 | X181: =data!$I$5 -> 1 | Y181: =N181+1 -> 1952 | AH181: =data!$K$5 -> 1 | AI181: =data!$I$5 -> 1 | AJ181: =Y181+1 -> 1953 | AS181: =data!$K$5 -> 1 | AT181: =data!$I$5 -> 1 | AU181: =AJ181+1 -> 1954
A182: RS | E182: PES | I182: RH | L182: RS | P182: PES | T182: RH | W182: RS | AA182: PES | AE182: RH | AH182: RS | AL182: PES | AP182: RH | AS182: RS | AW182: PES | BA182: RH
C185: CES | E185: NE | G185: CIS | N185: CES | P185: NE | R185: CIS | Y185: CES | AA185: NE | AC185: CIS | AJ185: CES | AL185: NE | AN185: CIS | AU185: CES | AW185: NE | AY185: CIS
J187: QS | U187: QS | AF187: QS | AQ187: QS | BB187: QS
A189: NR | C189: Année | E189: Mois | G189: Jour | I189: PP | L189: NR | N189: Année | P189: Mois | R189: Jour | T189: PP | W189: NR | Y189: Année | AA189: Mois | AC189: Jour | AE189: PP | AH189: NR | AJ189: Année | AL189: Mois | AN189: Jour | AP189: PP | AS189: NR | AU189: Année | AW189: Mois | AY189: Jour | BA189: PP
J191: QE | U191: QE | AF191: QE | AQ191: QE | BB191: QE
C193: CED | E193: ND | G193: CID | N193: CED | P193: ND | R193: CID | Y193: CED | AA193: ND | AC193: CID | AJ193: CED | AL193: ND | AN193: CID | AU193: CED | AW193: ND | AY193: CID
A196: NF | E196: PED | I196: RE | L196: NF | P196: PED | T196: RE | W196: NF | AA196: PED | AE196: RE | AH196: NF | AL196: PED | AP196: RE | AS196: NF | AW196: PED | BA196: RE
A199: =data!$K$5 -> 1 | B199: =data!$I$5 -> 1 | C199: =AU181+1 -> 1955 | L199: =data!$K$5 -> 1 | M199: =data!$I$5 -> 1 | N199: =C199+1 -> 1956 | W199: =data!$K$5 -> 1 | X199: =data!$I$5 -> 1 | Y199: =N199+1 -> 1957 | AH199: =data!$K$5 -> 1 | AI199: =data!$I$5 -> 1 | AJ199: =Y199+1 -> 1958 | AS199: =data!$K$5 -> 1 | AT199: =data!$I$5 -> 1 | AU199: =AJ199+1 -> 1959
A200: RS | E200: PES | I200: RH | L200: RS | P200: PES | T200: RH | W200: RS | AA200: PES | AE200: RH | AH200: RS | AL200: PES | AP200: RH | AS200: RS | AW200: PES | BA200: RH
C203: CES | E203: NE | G203: CIS | N203: CES | P203: NE | R203: CIS | Y203: CES | AA203: NE | AC203: CIS | AJ203: CES | AL203: NE | AN203: CIS | AU203: CES | AW203: NE | AY203: CIS
J205: QS | U205: QS | AF205: QS | AQ205: QS | BB205: QS
A207: NR | C207: Année | E207: Mois | G207: Jour | I207: PP | L207: NR | N207: Année | P207: Mois | R207: Jour | T207: PP | W207: NR | Y207: Année | AA207: Mois | AC207: Jour | AE207: PP | AH207: NR | AJ207: Année | AL207: Mois | AN207: Jour | AP207: PP | AS207: NR | AU207: Année | AW207: Mois | AY207: Jour | BA207: PP
...

Sheet data
B2: numb22
B4: Année | I4: Mois | J4: Jour | M4: PP | P4: PES | S4: RS | U4: RH | W4: NR | AA4: NE | AD4: ND | AE4: PED | AF4: NF | AG4: RE | AH4: QS | AJ4: QE | AL4: CES | AO4: CED | AP4: CIS | AS4: CID
A5: =Saisie!F5 -> 1900 | B5: =IF(G5=26,"26/8",IF(G5=30,"30/3",H5)) -> 10 | C5: =LEFT(A5,2) -> 19 | D5: =LEFT(C5,1)+RIGHT(C5,1) -> 10 | E5: =RIGHT(A5,2) -> 00 | F5: =LEFT(E5,1)+RIGHT(E5,1) -> 0 | G5: =F5+D5 -> 10 | H5: =IF((G5<23),G5,RIGHT(G5,1)+LEFT(G5,1)) -> 10 | I5: =Saisie!$E$5 -> 1 | J5: =IF(K5=26,"26/8",IF(K5=30,"30/3",L5)) -> 1 | K5: =Saisie!$D$5 -> 1 | L5: =IF(K5<23,K5,RIGHT(K5,1)+LEFT(K5,1)) -> 1 | M5: =IF(N5=26,"26/8",IF(N5=30,"30/3",IF(N5=33,"33/6",IF(N5=40,"40/4",IF(N5=44,"44/8",IF(I5+L5+H5<23,I5+L5+H5,RIGHT(I5+L5+H5,1)+LEFT(I5+L5+H5,1))))))) -> 12 | N5: =L5+I5+H5 -> 12 | O5: =IF((ABS(N5)<23),N5,RIGHT(N5,1)+LEFT(N5,1)) -> 12 | P5: =IF(Q5=26,"26/8",IF(Q5=30,"30/3",IF(Q5=33,"33/6",IF(Q5=40,"40/4",IF(Q5=44,"44/8",IF(Q5<23,Q5,RIGHT(Q5,1)+LEFT(Q5,1))))))) -> 13 | Q5: =AR5+AN5 -> 13 | R5: =IF(Q5>22,RIGHT(Q5,1)+LEFT(Q5,1),Q5) -> 13 | S5: =IF(T5=26,"26/8",IF(T5=30,"30/3",IF(T5=33,"33/6",IF(T5=40,"40/4",IF(T5=44,"44/8",IF(T5<23,T5,RIGHT(T5,1)+LEFT(T5,1))))))) -> 21 | T5: =R5+W5 -> 21 | U5: =IF(V5=26,"26/8",IF(V5=30,"30/3",IF(V5=33,"33/6",IF(V5=40,"40/4",IF(V5=44,"44/8",IF(V5<23,V5,RIGHT(V5,1)+LEFT(V5,1))))))) -> 7 | V5: =R5+O5 -> 25 | W5: =IF(Z5=0,"22",Z5) -> 8 | X5: =MAX(L5,I5,H5)-(((L5+H5+I5)-(MAX(L5,H5,I5)+MIN(L5,H5,I5)))) -> 9 | Y5: =IF(X5=0,"22",X5) -> 9 | Z5: =ABS(Y5-MIN(L5,I5,H5)) -> 8 | AA5: =IF(AB5=26,"26/8",IF(AB5=30,"30/3",IF(AB5=33,"33/6",IF(AB5=40,"40/4",IF(AB5=44,"44/8",IF(AB5<23,AB5,RIGHT(AB5,1)+LEFT(AB5,1))))))) -> 11 | AB5: =L5+H5 -> 11 | AC5: =IF(AB5>22,RIGHT(AB5,1)+LEFT(AB5,1),AB5) -> 11 | AD5: =IF(H5-L5=0,"22",ABS(H5-L5)) -> 9 | AE5: =IF(AO5-AS5=0,"22",ABS(AO5-AS5)) -> 13 | AF5: =IF(W5-AE5=0,"22",ABS(W5-AE5)) -> 5 | AG5: =IF(AE5-O5=0,"22",ABS(AE5-O5)) -> 1 | AH5: =IF(AI5=26,"26/8",IF(AI5=30,"30/3",IF(AI5=33,"33/6",IF(AI5=40,"40/4",IF(AI5=44,"44/8",IF(AI5<23,AI5,RIGHT(AI5,1)+LEFT(AI5,1))))))) -> 13 | AI5: =O5+I5 -> 13 | AJ5: =IF(AK5=26,"26/8",IF(AK5=30,"30/3",IF(AK5=33,"33/6",IF(AK5=40,"40/4",IF(AK5=44,"44/8",IF(AK5<23,AK5,RIGHT(AK5,1)+LEFT(AK5,1))))))) -> 5 | AK5: =O5+AC5 -> 23 | AL5: =IF(AM5=26,"26/8",IF(AM5=30,"30/3",IF(AM5=33,"33/6",IF(AM5=40,"40/4",IF(AM5=44,"44/8",IF(AM5<23,AM5,RIGHT(AM5,1)+LEFT(AM5,1))))))) -> 11 | AM5: =I5+H5 -> 11 | AN5: =IF(AM5>22,RIGHT(AM5,1)+LEFT(AM5,1),AM5) -> 11 | AO5: =IF(H5-I5=0,"22",ABS(H5-I5)) -> 9 | AP5: =IF(AQ5=26,"26/8",IF(AQ5=30,"30/3",IF(AQ5=33,"33/6",IF(AQ5=40,"40/4",IF(AQ5=44,"44/8",IF(AQ5<23,AQ5,RIGHT(AQ5,1)+LEFT(AQ5,1))))))) -> 2 | AQ5: =L5+I5 -> 2 | AR5: =IF(AQ5>22,RIGHT(AQ5,1)+LEFT(AQ5,1),AQ5) -> 2 | AS5: =IF(I5-K5=0,"22",ABS(I5-K5)) -> 22
A6: =A5+1 -> 1901 | B6: =IF(G6=26,"26/8",IF(G6=30,"30/3",H6)) -> 11 | C6: =LEFT(A6,2) -> 19 | D6: =LEFT(C6,1)+RIGHT(C6,1) -> 10 | E6: =RIGHT(A6,2) -> 01 | F6: =LEFT(E6,1)+RIGHT(E6,1) -> 1 | G6: =F6+D6 -> 11 | H6: =IF((G6<23),G6,RIGHT(G6,1)+LEFT(G6,1)) -> 11 | I6: =Saisie!$E$5 -> 1 | J6: =IF(K6=26,"26/8",IF(K6=30,"30/3",L6)) -> 1 | K6: =Saisie!$D$5 -> 1 | L6: =IF(K6<23,K6,RIGHT(K6,1)+LEFT(K6,1)) -> 1 | M6: =IF(N6=26,"26/8",IF(N6=30,"30/3",IF(N6=33,"33/6",IF(N6=40,"40/4",IF(N6=44,"44/8",IF(I6+L6+H6<23,I6+L6+H6,RIGHT(I6+L6+H6,1)+LEFT(I6+L6+H6,1))))))) -> 13 | N6: =L6+I6+H6 -> 13 | O6: =IF((ABS(N6)<23),N6,RIGHT(N6,1)+LEFT(N6,1)) -> 13 | P6: =IF(Q6=26,"26/8",IF(Q6=30,"30/3",IF(Q6=33,"33/6",IF(Q6=40,"40/4",IF(Q6=44,"44/8",IF(Q6<23,Q6,RIGHT(Q6,1)+LEFT(Q6,1))))))) -> 14 | Q6: =AR6+AN6 -> 14 | R6: =IF(Q6>22,RIGHT(Q6,1)+LEFT(Q6,1),Q6) -> 14 | S6: =IF(T6=26,"26/8",IF(T6=30,"30/3",IF(T6=33,"33/6",IF(T6=40,"40/4",IF(T6=44,"44/8",IF(T6<23,T6,RIGHT(T6,1)+LEFT(T6,1))))))) -> 5 | T6: =R6+W6 -> 23 | U6: =IF(V6=26,"26/8",IF(V6=30,"30/3",IF(V6=33,"33/6",IF(V6=40,"40/4",IF(V6=44,"44/8",IF(V6<23,V6,RIGHT(V6,1)+LEFT(V6,1))))))) -> 9 | V6: =R6+O6 -> 27 | W6: =IF(Z6=0,"22",Z6) -> 9 | X6: =MAX(L6,I6,H6)-(((L6+H6+I6)-(MAX(L6,H6,I6)+MIN(L6,H6,I6)))) -> 10 | Y6: =IF(X6=0,"22",X6) -> 10 | Z6: =ABS(Y6-MIN(L6,I6,H6)) -> 9 | AA6: =IF(AB6=26,"26/8",IF(AB6=30,"30/3",IF(AB6=33,"33/6",IF(AB6=40,"40/4",IF(AB6=44,"44/8",IF(AB6<23,AB6,RIGHT(AB6,1)+LEFT(AB6,1))))))) -> 12 | AB6: =L6+H6 -> 12 | AC6: =IF(AB6>22,RIGHT(AB6,1)+LEFT(AB6,1),AB6) -> 12 | AD6: =IF(H6-L6=0,"22",ABS(H6-L6)) -> 10 | AE6: =IF(AO6-AS6=0,"22",ABS(AO6-AS6)) -> 12 | AF6: =IF(W6-AE6=0,"22",ABS(W6-AE6)) -> 3 | AG6: =IF(AE6-O6=0,"22",ABS(AE6-O6)) -> 1 | AH6: =IF(AI6=26,"26/8",IF(AI6=30,"30/3",IF(AI6=33,"33/6",IF(AI6=40,"40/4",IF(AI6=44,"44/8",IF(AI6<23,AI6,RIGHT(AI6,1)+LEFT(AI6,1))))))) -> 14 | AI6: =O6+I6 -> 14 | AJ6: =IF(AK6=26,"26/8",IF(AK6=30,"30/3",IF(AK6=33,"33/6",IF(AK6=40,"40/4",IF(AK6=44,"44/8",IF(AK6<23,AK6,RIGHT(AK6,1)+LEFT(AK6,1))))))) -> 7 | AK6: =O6+AC6 -> 25 | AL6: =IF(AM6=26,"26/8",IF(AM6=30,"30/3",IF(AM6=33,"33/6",IF(AM6=40,"40/4",IF(AM6=44,"44/8",IF(AM6<23,AM6,RIGHT(AM6,1)+LEFT(AM6,1))))))) -> 12 | AM6: =I6+H6 -> 12 | AN6: =IF(AM6>22,RIGHT(AM6,1)+LEFT(AM6,1),AM6) -> 12 | AO6: =IF(H6-I6=0,"22",ABS(H6-I6)) -> 10 | AP6: =IF(AQ6=26,"26/8",IF(AQ6=30,"30/3",IF(AQ6=33,"33/6",IF(AQ6=40,"40/4",IF(AQ6=44,"44/8",IF(AQ6<23,AQ6,RIGHT(AQ6,1)+LEFT(AQ6,1))))))) -> 2 | AQ6: =L6+I6 -> 2 | AR6: =IF(AQ6>22,RIGHT(AQ6,1)+LEFT(AQ6,1),AQ6) -> 2 | AS6: =IF(I6-K6=0,"22",ABS(I6-K6)) -> 22
A7: =A6+1 -> 1902 | B7: =IF(G7=26,"26/8",IF(G7=30,"30/3",H7)) -> 12 | C7: =LEFT(A7,2) -> 19 | D7: =LEFT(C7,1)+RIGHT(C7,1) -> 10 | E7: =RIGHT(A7,2) -> 02 | F7: =LEFT(E7,1)+RIGHT(E7,1) -> 2 | G7: =F7+D7 -> 12 | H7: =IF((G7<23),G7,RIGHT(G7,1)+LEFT(G7,1)) -> 12 | I7: =Saisie!$E$5 -> 1 | J7: =IF(K7=26,"26/8",IF(K7=30,"30/3",L7)) -> 1 | K7: =Saisie!$D$5 -> 1 | L7: =IF(K7<23,K7,RIGHT(K7,1)+LEFT(K7,1)) -> 1 | M7: =IF(N7=26,"26/8",IF(N7=30,"30/3",IF(N7=33,"33/6",IF(N7=40,"40/4",IF(N7=44,"44/8",IF(I7+L7+H7<23,I7+L7+H7,RIGHT(I7+L7+H7,1)+LEFT(I7+L7+H7,1))))))) -> 14 | N7: =L7+I7+H7 -> 14 | O7: =IF((ABS(N7)<23),N7,RIGHT(N7,1)+LEFT(N7,1)) -> 14 | P7: =IF(Q7=26,"26/8",IF(Q7=30,"30/3",IF(Q7=33,"33/6",IF(Q7=40,"40/4",IF(Q7=44,"44/8",IF(Q7<23,Q7,RIGHT(Q7,1)+LEFT(Q7,1))))))) -> 15 | Q7: =AR7+AN7 -> 15 | R7: =IF(Q7>22,RIGHT(Q7,1)+LEFT(Q7,1),Q7) -> 15 | S7: =IF(T7=26,"26/8",IF(T7=30,"30/3",IF(T7=33,"33/6",IF(T7=40,"40/4",IF(T7=44,"44/8",IF(T7<23,T7,RIGHT(T7,1)+LEFT(T7,1))))))) -> 7 | T7: =R7+W7 -> 25 | U7: =IF(V7=26,"26/8",IF(V7=30,"30/3",IF(V7=33,"33/6",IF(V7=40,"40/4",IF(V7=44,"44/8",IF(V7<23,V7,RIGHT(V7,1)+LEFT(V7,1))))))) -> 11 | V7: =R7+O7 -> 29 | W7: =IF(Z7=0,"22",Z7) -> 10 | X7: =MAX(L7,I7,H7)-(((L7+H7+I7)-(MAX(L7,H7,I7)+MIN(L7,H7,I7)))) -> 11 | Y7: =IF(X7=0,"22",X7) -> 11 | Z7: =ABS(Y7-MIN(L7,I7,H7)) -> 10 | AA7: =IF(AB7=26,"26/8",IF(AB7=30,"30/3",IF(AB7=33,"33/6",IF(AB7=40,"40/4",IF(AB7=44,"44/8",IF(AB7<23,AB7,RIGHT(AB7,1)+LEFT(AB7,1))))))) -> 13 | AB7: =L7+H7 -> 13 | AC7: =IF(AB7>22,RIGHT(AB7,1)+LEFT(AB7,1),AB7) -> 13 | AD7: =IF(H7-L7=0,"22",ABS(H7-L7)) -> 11 | AE7: =IF(AO7-AS7=0,"22",ABS(AO7-AS7)) -> 11 | AF7: =IF(W7-AE7=0,"22",ABS(W7-AE7)) -> 1 | AG7: =IF(AE7-O7=0,"22",ABS(AE7-O7)) -> 3 | AH7: =IF(AI7=26,"26/8",IF(AI7=30,"30/3",IF(AI7=33,"33/6",IF(AI7=40,"40/4",IF(AI7=44,"44/8",IF(AI7<23,AI7,RIGHT(AI7,1)+LEFT(AI7,1))))))) -> 15 | AI7: =O7+I7 -> 15 | AJ7: =IF(AK7=26,"26/8",IF(AK7=30,"30/3",IF(AK7=33,"33/6",IF(AK7=40,"40/4",IF(AK7=44,"44/8",IF(AK7<23,AK7,RIGHT(AK7,1)+LEFT(AK7,1))))))) -> 9 | AK7: =O7+AC7 -> 27 | AL7: =IF(AM7=26,"26/8",IF(AM7=30,"30/3",IF(AM7=33,"33/6",IF(AM7=40,"40/4",IF(AM7=44,"44/8",IF(AM7<23,AM7,RIGHT(AM7,1)+LEFT(AM7,1))))))) -> 13 | AM7: =I7+H7 -> 13 | AN7: =IF(AM7>22,RIGHT(AM7,1)+LEFT(AM7,1),AM7) -> 13 | AO7: =IF(H7-I7=0,"22",ABS(H7-I7)) -> 11 | AP7: =IF(AQ7=26,"26/8",IF(AQ7=30,"30/3",IF(AQ7=33,"33/6",IF(AQ7=40,"40/4",IF(AQ7=44,"44/8",IF(AQ7<23,AQ7,RIGHT(AQ7,1)+LEFT(AQ7,1))))))) -> 2 | AQ7: =L7+I7 -> 2 | AR7: =IF(AQ7>22,RIGHT(AQ7,1)+LEFT(AQ7,1),AQ7) -> 2 | AS7: =IF(I7-K7=0,"22",ABS(I7-K7)) -> 22
A8: =A7+1 -> 1903 | B8: =IF(G8=26,"26/8",IF(G8=30,"30/3",H8)) -> 13 | C8: =LEFT(A8,2) -> 19 | D8: =LEFT(C8,1)+RIGHT(C8,1) -> 10 | E8: =RIGHT(A8,2) -> 03 | F8: =LEFT(E8,1)+RIGHT(E8,1) -> 3 | G8: =F8+D8 -> 13 | H8: =IF((G8<23),G8,RIGHT(G8,1)+LEFT(G8,1)) -> 13 | I8: =Saisie!$E$5 -> 1 | J8: =IF(K8=26,"26/8",IF(K8=30,"30/3",L8)) -> 1 | K8: =Saisie!$D$5 -> 1 | L8: =IF(K8<23,K8,RIGHT(K8,1)+LEFT(K8,1)) -> 1 | M8: =IF(N8=26,"26/8",IF(N8=30,"30/3",IF(N8=33,"33/6",IF(N8=40,"40/4",IF(N8=44,"44/8",IF(I8+L8+H8<23,I8+L8+H8,RIGHT(I8+L8+H8,1)+LEFT(I8+L8+H8,1))))))) -> 15 | N8: =L8+I8+H8 -> 15 | O8: =IF((ABS(N8)<23),N8,RIGHT(N8,1)+LEFT(N8,1)) -> 15 | P8: =IF(Q8=26,"26/8",IF(Q8=30,"30/3",IF(Q8=33,"33/6",IF(Q8=40,"40/4",IF(Q8=44,"44/8",IF(Q8<23,Q8,RIGHT(Q8,1)+LEFT(Q8,1))))))) -> 16 | Q8: =AR8+AN8 -> 16 | R8: =IF(Q8>22,RIGHT(Q8,1)+LEFT(Q8,1),Q8) -> 16 | S8: =IF(T8=26,"26/8",IF(T8=30,"30/3",IF(T8=33,"33/6",IF(T8=40,"40/4",IF(T8=44,"44/8",IF(T8<23,T8,RIGHT(T8,1)+LEFT(T8,1))))))) -> 9 | T8: =R8+W8 -> 27 | U8: =IF(V8=26,"26/8",IF(V8=30,"30/3",IF(V8=33,"33/6",IF(V8=40,"40/4",IF(V8=44,"44/8",IF(V8<23,V8,RIGHT(V8,1)+LEFT(V8,1))))))) -> 4 | V8: =R8+O8 -> 31 | W8: =IF(Z8=0,"22",Z8) -> 11 | X8: =MAX(L8,I8,H8)-(((L8+H8+I8)-(MAX(L8,H8,I8)+MIN(L8,H8,I8)))) -> 12 | Y8: =IF(X8=0,"22",X8) -> 12 | Z8: =ABS(Y8-MIN(L8,I8,H8)) -> 11 | AA8: =IF(AB8=26,"26/8",IF(AB8=30,"30/3",IF(AB8=33,"33/6",IF(AB8=40,"40/4",IF(AB8=44,"44/8",IF(AB8<23,AB8,RIGHT(AB8,1)+LEFT(AB8,1))))))) -> 14 | AB8: =L8+H8 -> 14 | AC8: =IF(AB8>22,RIGHT(AB8,1)+LEFT(AB8,1),AB8) -> 14 | AD8: =IF(H8-L8=0,"22",ABS(H8-L8)) -> 12 | AE8: =IF(AO8-AS8=0,"22",ABS(AO8-AS8)) -> 10 | AF8: =IF(W8-AE8=0,"22",ABS(W8-AE8)) -> 1 | AG8: =IF(AE8-O8=0,"22",ABS(AE8-O8)) -> 5 | AH8: =IF(AI8=26,"26/8",IF(AI8=30,"30/3",IF(AI8=33,"33/6",IF(AI8=40,"40/4",IF(AI8=44,"44/8",IF(AI8<23,AI8,RIGHT(AI8,1)+LEFT(AI8,1))))))) -> 16 | AI8: =O8+I8 -> 16 | AJ8: =IF(AK8=26,"26/8",IF(AK8=30,"30/3",IF(AK8=33,"33/6",IF(AK8=40,"40/4",IF(AK8=44,"44/8",IF(AK8<23,AK8,RIGHT(AK8,1)+LEFT(AK8,1))))))) -> 11 | AK8: =O8+AC8 -> 29 | AL8: =IF(AM8=26,"26/8",IF(AM8=30,"30/3",IF(AM8=33,"33/6",IF(AM8=40,"40/4",IF(AM8=44,"44/8",IF(AM8<23,AM8,RIGHT(AM8,1)+LEFT(AM8,1))))))) -> 14 | AM8: =I8+H8 -> 14 | AN8: =IF(AM8>22,RIGHT(AM8,1)+LEFT(AM8,1),AM8) -> 14 | AO8: =IF(H8-I8=0,"22",ABS(H8-I8)) -> 12 | AP8: =IF(AQ8=26,"26/8",IF(AQ8=30,"30/3",IF(AQ8=33,"33/6",IF(AQ8=40,"40/4",IF(AQ8=44,"44/8",IF(AQ8<23,AQ8,RIGHT(AQ8,1)+LEFT(AQ8,1))))))) -> 2 | AQ8: =L8+I8 -> 2 | AR8: =IF(AQ8>22,RIGHT(AQ8,1)+LEFT(AQ8,1),AQ8) -> 2 | AS8: =IF(I8-K8=0,"22",ABS(I8-K8)) -> 22
A9: =A8+1 -> 1904 | B9: =IF(G9=26,"26/8",IF(G9=30,"30/3",H9)) -> 14 | C9: =LEFT(A9,2) -> 19 | D9: =LEFT(C9,1)+RIGHT(C9,1) -> 10 | E9: =RIGHT(A9,2) -> 04 | F9: =LEFT(E9,1)+RIGHT(E9,1) -> 4 | G9: =F9+D9 -> 14 | H9: =IF((G9<23),G9,RIGHT(G9,1)+LEFT(G9,1)) -> 14 | I9: =Saisie!$E$5 -> 1 | J9: =IF(K9=26,"26/8",IF(K9=30,"30/3",L9)) -> 1 | K9: =Saisie!$D$5 -> 1 | L9: =IF(K9<23,K9,RIGHT(K9,1)+LEFT(K9,1)) -> 1 | M9: =IF(N9=26,"26/8",IF(N9=30,"30/3",IF(N9=33,"33/6",IF(N9=40,"40/4",IF(N9=44,"44/8",IF(I9+L9+H9<23,I9+L9+H9,RIGHT(I9+L9+H9,1)+LEFT(I9+L9+H9,1))))))) -> 16 | N9: =L9+I9+H9 -> 16 | O9: =IF((ABS(N9)<23),N9,RIGHT(N9,1)+LEFT(N9,1)) -> 16 | P9: =IF(Q9=26,"26/8",IF(Q9=30,"30/3",IF(Q9=33,"33/6",IF(Q9=40,"40/4",IF(Q9=44,"44/8",IF(Q9<23,Q9,RIGHT(Q9,1)+LEFT(Q9,1))))))) -> 17 | Q9: =AR9+AN9 -> 17 | R9: =IF(Q9>22,RIGHT(Q9,1)+LEFT(Q9,1),Q9) -> 17 | S9: =IF(T9=26,"26/8",IF(T9=30,"30/3",IF(T9=33,"33/6",IF(T9=40,"40/4",IF(T9=44,"44/8",IF(T9<23,T9,RIGHT(T9,1)+LEFT(T9,1))))))) -> 11 | T9: =R9+W9 -> 29 | U9: =IF(V9=26,"26/8",IF(V9=30,"30/3",IF(V9=33,"33/6",IF(V9=40,"40/4",IF(V9=44,"44/8",IF(V9<23,V9,RIGHT(V9,1)+LEFT(V9,1))))))) -> 33/6 | V9: =R9+O9 -> 33 | W9: =IF(Z9=0,"22",Z9) -> 12 | X9: =MAX(L9,I9,H9)-(((L9+H9+I9)-(MAX(L9,H9,I9)+MIN(L9,H9,I9)))) -> 13 | Y9: =IF(X9=0,"22",X9) -> 13 | Z9: =ABS(Y9-MIN(L9,I9,H9)) -> 12 | AA9: =IF(AB9=26,"26/8",IF(AB9=30,"30/3",IF(AB9=33,"33/6",IF(AB9=40,"40/4",IF(AB9=44,"44/8",IF(AB9<23,AB9,RIGHT(AB9,1)+LEFT(AB9,1))))))) -> 15 | AB9: =L9+H9 -> 15 | AC9: =IF(AB9>22,RIGHT(AB9,1)+LEFT(AB9,1),AB9) -> 15 | AD9: =IF(H9-L9=0,"22",ABS(H9-L9)) -> 13 | AE9: =IF(AO9-AS9=0,"22",ABS(AO9-AS9)) -> 9 | AF9: =IF(W9-AE9=0,"22",ABS(W9-AE9)) -> 3 | AG9: =IF(AE9-O9=0,"22",ABS(AE9-O9)) -> 7 | AH9: =IF(AI9=26,"26/8",IF(AI9=30,"30/3",IF(AI9=33,"33/6",IF(AI9=40,"40/4",IF(AI9=44,"44/8",IF(AI9<23,AI9,RIGHT(AI9,1)+LEFT(AI9,1))))))) -> 17 | AI9: =O9+I9 -> 17 | AJ9: =IF(AK9=26,"26/8",IF(AK9=30,"30/3",IF(AK9=33,"33/6",IF(AK9=40,"40/4",IF(AK9=44,"44/8",IF(AK9<23,AK9,RIGHT(AK9,1)+LEFT(AK9,1))))))) -> 4 | AK9: =O9+AC9 -> 31 | AL9: =IF(AM9=26,"26/8",IF(AM9=30,"30/3",IF(AM9=33,"33/6",IF(AM9=40,"40/4",IF(AM9=44,"44/8",IF(AM9<23,AM9,RIGHT(AM9,1)+LEFT(AM9,1))))))) -> 15 | AM9: =I9+H9 -> 15 | AN9: =IF(AM9>22,RIGHT(AM9,1)+LEFT(AM9,1),AM9) -> 15 | AO9: =IF(H9-I9=0,"22",ABS(H9-I9)) -> 13 | AP9: =IF(AQ9=26,"26/8",IF(AQ9=30,"30/3",IF(AQ9=33,"33/6",IF(AQ9=40,"40/4",IF(AQ9=44,"44/8",IF(AQ9<23,AQ9,RIGHT(AQ9,1)+LEFT(AQ9,1))))))) -> 2 | AQ9: =L9+I9 -> 2 | AR9: =IF(AQ9>22,RIGHT(AQ9,1)+LEFT(AQ9,1),AQ9) -> 2 | AS9: =IF(I9-K9=0,"22",ABS(I9-K9)) -> 22
A10: =A9+1 -> 1905 | B10: =IF(G10=26,"26/8",IF(G10=30,"30/3",H10)) -> 15 | C10: =LEFT(A10,2) -> 19 | D10: =LEFT(C10,1)+RIGHT(C10,1) -> 10 | E10: =RIGHT(A10,2) -> 05 | F10: =LEFT(E10,1)+RIGHT(E10,1) -> 5 | G10: =F10+D10 -> 15 | H10: =IF((G10<23),G10,RIGHT(G10,1)+LEFT(G10,1)) -> 15 | I10: =Saisie!$E$5 -> 1 | J10: =IF(K10=26,"26/8",IF(K10=30,"30/3",L10)) -> 1 | K10: =Saisie!$D$5 -> 1 | L10: =IF(K10<23,K10,RIGHT(K10,1)+LEFT(K10,1)) -> 1 | M10: =IF(N10=26,"26/8",IF(N10=30,"30/3",IF(N10=33,"33/6",IF(N10=40,"40/4",IF(N10=44,"44/8",IF(I10+L10+H10<23,I10+L10+H10,RIGHT(I10+L10+H10,1)+LEFT(I10+L10+H10,1))))))) -> 17 | N10: =L10+I10+H10 -> 17 | O10: =IF((ABS(N10)<23),N10,RIGHT(N10,1)+LEFT(N10,1)) -> 17 | P10: =IF(Q10=26,"26/8",IF(Q10=30,"30/3",IF(Q10=33,"33/6",IF(Q10=40,"40/4",IF(Q10=44,"44/8",IF(Q10<23,Q10,RIGHT(Q10,1)+LEFT(Q10,1))))))) -> 18 | Q10: =AR10+AN10 -> 18 | R10: =IF(Q10>22,RIGHT(Q10,1)+LEFT(Q10,1),Q10) -> 18 | S10: =IF(T10=26,"26/8",IF(T10=30,"30/3",IF(T10=33,"33/6",IF(T10=40,"40/4",IF(T10=44,"44/8",IF(T10<23,T10,RIGHT(T10,1)+LEFT(T10,1))))))) -> 4 | T10: =R10+W10 -> 31 | U10: =IF(V10=26,"26/8",IF(V10=30,"30/3",IF(V10=33,"33/6",IF(V10=40,"40/4",IF(V10=44,"44/8",IF(V10<23,V10,RIGHT(V10,1)+LEFT(V10,1))))))) -> 8 | V10: =R10+O10 -> 35 | W10: =IF(Z10=0,"22",Z10) -> 13 | X10: =MAX(L10,I10,H10)-(((L10+H10+I10)-(MAX(L10,H10,I10)+MIN(L10,H10,I10)))) -> 14 | Y10: =IF(X10=0,"22",X10) -> 14 | Z10: =ABS(Y10-MIN(L10,I10,H10)) -> 13 | AA10: =IF(AB10=26,"26/8",IF(AB10=30,"30/3",IF(AB10=33,"33/6",IF(AB10=40,"40/4",IF(AB10=44,"44/8",IF(AB10<23,AB10,RIGHT(AB10,1)+LEFT(AB10,1))))))) -> 16 | AB10: =L10+H10 -> 16 | AC10: =IF(AB10>22,RIGHT(AB10,1)+LEFT(AB10,1),AB10) -> 16 | AD10: =IF(H10-L10=0,"22",ABS(H10-L10)) -> 14 | AE10: =IF(AO10-AS10=0,"22",ABS(AO10-AS10)) -> 8 | AF10: =IF(W10-AE10=0,"22",ABS(W10-AE10)) -> 5 | AG10: =IF(AE10-O10=0,"22",ABS(AE10-O10)) -> 9 | AH10: =IF(AI10=26,"26/8",IF(AI10=30,"30/3",IF(AI10=33,"33/6",IF(AI10=40,"40/4",IF(AI10=44,"44/8",IF(AI10<23,AI10,RIGHT(AI10,1)+LEFT(AI10,1))))))) -> 18 | AI10: =O10+I10 -> 18 | AJ10: =IF(AK10=26,"26/8",IF(AK10=30,"30/3",IF(AK10=33,"33/6",IF(AK10=40,"40/4",IF(AK10=44,"44/8",IF(AK10<23,AK10,RIGHT(AK10,1)+LEFT(AK10,1))))))) -> 33/6 | AK10: =O10+AC10 -> 33 | AL10: =IF(AM10=26,"26/8",IF(AM10=30,"30/3",IF(AM10=33,"33/6",IF(AM10=40,"40/4",IF(AM10=44,"44/8",IF(AM10<23,AM10,RIGHT(AM10,1)+LEFT(AM10,1))))))) -> 16 | AM10: =I10+H10 -> 16 | AN10: =IF(AM10>22,RIGHT(AM10,1)+LEFT(AM10,1),AM10) -> 16 | AO10: =IF(H10-I10=0,"22",ABS(H10-I10)) -> 14 | AP10: =IF(AQ10=26,"26/8",IF(AQ10=30,"30/3",IF(AQ10=33,"33/6",IF(AQ10=40,"40/4",IF(AQ10=44,"44/8",IF(AQ10<23,AQ10,RIGHT(AQ10,1)+LEFT(AQ10,1))))))) -> 2 | AQ10: =L10+I10 -> 2 | AR10: =IF(AQ10>22,RIGHT(AQ10,1)+LEFT(AQ10,1),AQ10) -> 2 | AS10: =IF(I10-K10=0,"22",ABS(I10-K10)) -> 22
A11: =A10+1 -> 1906 | B11: =IF(G11=26,"26/8",IF(G11=30,"30/3",H11)) -> 16 | C11: =LEFT(A11,2) -> 19 | D11: =LEFT(C11,1)+RIGHT(C11,1) -> 10 | E11: =RIGHT(A11,2) -> 06 | F11: =LEFT(E11,1)+RIGHT(E11,1) -> 6 | G11: =F11+D11 -> 16 | H11: =IF((G11<23),G11,RIGHT(G11,1)+LEFT(G11,1)) -> 16 | I11: =Saisie!$E$5 -> 1 | J11: =IF(K11=26,"26/8",IF(K11=30,"30/3",L11)) -> 1 | K11: =Saisie!$D$5 -> 1 | L11: =IF(K11<23,K11,RIGHT(K11,1)+LEFT(K11,1)) -> 1 | M11: =IF(N11=26,"26/8",IF(N11=30,"30/3",IF(N11=33,"33/6",IF(N11=40,"40/4",IF(N11=44,"44/8",IF(I11+L11+H11<23,I11+L11+H11,RIGHT(I11+L11+H11,1)+LEFT(I11+L11+H11,1))))))) -> 18 | N11: =L11+I11+H11 -> 18 | O11: =IF((ABS(N11)<23),N11,RIGHT(N11,1)+LEFT(N11,1)) -> 18 | P11: =IF(Q11=26,"26/8",IF(Q11=30,"30/3",IF(Q11=33,"33/6",IF(Q11=40,"40/4",IF(Q11=44,"44/8",IF(Q11<23,Q11,RIGHT(Q11,1)+LEFT(Q11,1))))))) -> 19 | Q11: =AR11+AN11 -> 19 | R11: =IF(Q11>22,RIGHT(Q11,1)+LEFT(Q11,1),Q11) -> 19 | S11: =IF(T11=26,"26/8",IF(T11=30,"30/3",IF(T11=33,"33/6",IF(T11=40,"40/4",IF(T11=44,"44/8",IF(T11<23,T11,RIGHT(T11,1)+LEFT(T11,1))))))) -> 33/6 | T11: =R11+W11 -> 33 | U11: =IF(V11=26,"26/8",IF(V11=30,"30/3",IF(V11=33,"33/6",IF(V11=40,"40/4",IF(V11=44,"44/8",IF(V11<23,V11,RIGHT(V11,1)+LEFT(V11,1))))))) -> 10 | V11: =R11+O11 -> 37 | W11: =IF(Z11=0,"22",Z11) -> 14 | X11: =MAX(L11,I11,H11)-(((L11+H11+I11)-(MAX(L11,H11,I11)+MIN(L11,H11,I11)))) -> 15 | Y11: =IF(X11=0,"22",X11) -> 15 | Z11: =ABS(Y11-MIN(L11,I11,H11)) -> 14 | AA11: =IF(AB11=26,"26/8",IF(AB11=30,"30/3",IF(AB11=33,"33/6",IF(AB11=40,"40/4",IF(AB11=44,"44/8",IF(AB11<23,AB11,RIGHT(AB11,1)+LEFT(AB11,1))))))) -> 17 | AB11: =L11+H11 -> 17 | AC11: =IF(AB11>22,RIGHT(AB11,1)+LEFT(AB11,1),AB11) -> 17 | AD11: =IF(H11-L11=0,"22",ABS(H11-L11)) -> 15 | AE11: =IF(AO11-AS11=0,"22",ABS(AO11-AS11)) -> 7 | AF11: =IF(W11-AE11=0,"22",ABS(W11-AE11)) -> 7 | AG11: =IF(AE11-O11=0,"22",ABS(AE11-O11)) -> 11 | AH11: =IF(AI11=26,"26/8",IF(AI11=30,"30/3",IF(AI11=33,"33/6",IF(AI11=40,"40/4",IF(AI11=44,"44/8",IF(AI11<23,AI11,RIGHT(AI11,1)+LEFT(AI11,1))))))) -> 19 | AI11: =O11+I11 -> 19 | AJ11: =IF(AK11=26,"26/8",IF(AK11=30,"30/3",IF(AK11=33,"33/6",IF(AK11=40,"40/4",IF(AK11=44,"44/8",IF(AK11<23,AK11,RIGHT(AK11,1)+LEFT(AK11,1))))))) -> 8 | AK11: =O11+AC11 -> 35 | AL11: =IF(AM11=26,"26/8",IF(AM11=30,"30/3",IF(AM11=33,"33/6",IF(AM11=40,"40/4",IF(AM11=44,"44/8",IF(AM11<23,AM11,RIGHT(AM11,1)+LEFT(AM11,1))))))) -> 17 | AM11: =I11+H11 -> 17 | AN11: =IF(AM11>22,RIGHT(AM11,1)+LEFT(AM11,1),AM11) -> 17 | AO11: =IF(H11-I11=0,"22",ABS(H11-I11)) -> 15 | AP11: =IF(AQ11=26,"26/8",IF(AQ11=30,"30/3",IF(AQ11=33,"33/6",IF(AQ11=40,"40/4",IF(AQ11=44,"44/8",IF(AQ11<23,AQ11,RIGHT(AQ11,1)+LEFT(AQ11,1))))))) -> 2 | AQ11: =L11+I11 -> 2 | AR11: =IF(AQ11>22,RIGHT(AQ11,1)+LEFT(AQ11,1),AQ11) -> 2 | AS11: =IF(I11-K11=0,"22",ABS(I11-K11)) -> 22
A12: =A11+1 -> 1907 | B12: =IF(G12=26,"26/8",IF(G12=30,"30/3",H12)) -> 17 | C12: =LEFT(A12,2) -> 19 | D12: =LEFT(C12,1)+RIGHT(C12,1) -> 10 | E12: =RIGHT(A12,2) -> 07 | F12: =LEFT(E12,1)+RIGHT(E12,1) -> 7 | G12: =F12+D12 -> 17 | H12: =IF((G12<23),G12,RIGHT(G12,1)+LEFT(G12,1)) -> 17 | I12: =Saisie!$E$5 -> 1 | J12: =IF(K12=26,"26/8",IF(K12=30,"30/3",L12)) -> 1 | K12: =Saisie!$D$5 -> 1 | L12: =IF(K12<23,K12,RIGHT(K12,1)+LEFT(K12,1)) -> 1 | M12: =IF(N12=26,"26/8",IF(N12=30,"30/3",IF(N12=33,"33/6",IF(N12=40,"40/4",IF(N12=44,"44/8",IF(I12+L12+H12<23,I12+L12+H12,RIGHT(I12+L12+H12,1)+LEFT(I12+L12+H12,1))))))) -> 19 | N12: =L12+I12+H12 -> 19 | O12: =IF((ABS(N12)<23),N12,RIGHT(N12,1)+LEFT(N12,1)) -> 19 | P12: =IF(Q12=26,"26/8",IF(Q12=30,"30/3",IF(Q12=33,"33/6",IF(Q12=40,"40/4",IF(Q12=44,"44/8",IF(Q12<23,Q12,RIGHT(Q12,1)+LEFT(Q12,1))))))) -> 20 | Q12: =AR12+AN12 -> 20 | R12: =IF(Q12>22,RIGHT(Q12,1)+LEFT(Q12,1),Q12) -> 20 | S12: =IF(T12=26,"26/8",IF(T12=30,"30/3",IF(T12=33,"33/6",IF(T12=40,"40/4",IF(T12=44,"44/8",IF(T12<23,T12,RIGHT(T12,1)+LEFT(T12,1))))))) -> 8 | T12: =R12+W12 -> 35 | U12: =IF(V12=26,"26/8",IF(V12=30,"30/3",IF(V12=33,"33/6",IF(V12=40,"40/4",IF(V12=44,"44/8",IF(V12<23,V12,RIGHT(V12,1)+LEFT(V12,1))))))) -> 12 | V12: =R12+O12 -> 39 | W12: =IF(Z12=0,"22",Z12) -> 15 | X12: =MAX(L12,I12,H12)-(((L12+H12+I12)-(MAX(L12,H12,I12)+MIN(L12,H12,I12)))) -> 16 | Y12: =IF(X12=0,"22",X12) -> 16 | Z12: =ABS(Y12-MIN(L12,I12,H12)) -> 15 | AA12: =IF(AB12=26,"26/8",IF(AB12=30,"30/3",IF(AB12=33,"33/6",IF(AB12=40,"40/4",IF(AB12=44,"44/8",IF(AB12<23,AB12,RIGHT(AB12,1)+LEFT(AB12,1))))))) -> 18 | AB12: =L12+H12 -> 18 | AC12: =IF(AB12>22,RIGHT(AB12,1)+LEFT(AB12,1),AB12) -> 18 | AD12: =IF(H12-L12=0,"22",ABS(H12-L12)) -> 16 | AE12: =IF(AO12-AS12=0,"22",ABS(AO12-AS12)) -> 6 | AF12: =IF(W12-AE12=0,"22",ABS(W12-AE12)) -> 9 | AG12: =IF(AE12-O12=0,"22",ABS(AE12-O12)) -> 13 | AH12: =IF(AI12=26,"26/8",IF(AI12=30,"30/3",IF(AI12=33,"33/6",IF(AI12=40,"40/4",IF(AI12=44,"44/8",IF(AI12<23,AI12,RIGHT(AI12,1)+LEFT(AI12,1))))))) -> 20 | AI12: =O12+I12 -> 20 | AJ12: =IF(AK12=26,"26/8",IF(AK12=30,"30/3",IF(AK12=33,"33/6",IF(AK12=40,"40/4",IF(AK12=44,"44/8",IF(AK12<23,AK12,RIGHT(AK12,1)+LEFT(AK12,1))))))) -> 10 | AK12: =O12+AC12 -> 37 | AL12: =IF(AM12=26,"26/8",IF(AM12=30,"30/3",IF(AM12=33,"33/6",IF(AM12=40,"40/4",IF(AM12=44,"44/8",IF(AM12<23,AM12,RIGHT(AM12,1)+LEFT(AM12,1))))))) -> 18 | AM12: =I12+H12 -> 18 | AN12: =IF(AM12>22,RIGHT(AM12,1)+LEFT(AM12,1),AM12) -> 18 | AO12: =IF(H12-I12=0,"22",ABS(H12-I12)) -> 16 | AP12: =IF(AQ12=26,"26/8",IF(AQ12=30,"30/3",IF(AQ12=33,"33/6",IF(AQ12=40,"40/4",IF(AQ12=44,"44/8",IF(AQ12<23,AQ12,RIGHT(AQ12,1)+LEFT(AQ12,1))))))) -> 2 | AQ12: =L12+I12 -> 2 | AR12: =IF(AQ12>22,RIGHT(AQ12,1)+LEFT(AQ12,1),AQ12) -> 2 | AS12: =IF(I12-K12=0,"22",ABS(I12-K12)) -> 22
A13: =A12+1 -> 1908 | B13: =IF(G13=26,"26/8",IF(G13=30,"30/3",H13)) -> 18 | C13: =LEFT(A13,2) -> 19 | D13: =LEFT(C13,1)+RIGHT(C13,1) -> 10 | E13: =RIGHT(A13,2) -> 08 | F13: =LEFT(E13,1)+RIGHT(E13,1) -> 8 | G13: =F13+D13 -> 18 | H13: =IF((G13<23),G13,RIGHT(G13,1)+LEFT(G13,1)) -> 18 | I13: =Saisie!$E$5 -> 1 | J13: =IF(K13=26,"26/8",IF(K13=30,"30/3",L13)) -> 1 | K13: =Saisie!$D$5 -> 1 | L13: =IF(K13<23,K13,RIGHT(K13,1)+LEFT(K13,1)) -> 1 | M13: =IF(N13=26,"26/8",IF(N13=30,"30/3",IF(N13=33,"33/6",IF(N13=40,"40/4",IF(N13=44,"44/8",IF(I13+L13+H13<23,I13+L13+H13,RIGHT(I13+L13+H13,1)+LEFT(I13+L13+H13,1))))))) -> 20 | N13: =L13+I13+H13 -> 20 | O13: =IF((ABS(N13)<23),N13,RIGHT(N13,1)+LEFT(N13,1)) -> 20 | P13: =IF(Q13=26,"26/8",IF(Q13=30,"30/3",IF(Q13=33,"33/6",IF(Q13=40,"40/4",IF(Q13=44,"44/8",IF(Q13<23,Q13,RIGHT(Q13,1)+LEFT(Q13,1))))))) -> 21 | Q13: =AR13+AN13 -> 21 | R13: =IF(Q13>22,RIGHT(Q13,1)+LEFT(Q13,1),Q13) -> 21 | S13: =IF(T13=26,"26/8",IF(T13=30,"30/3",IF(T13=33,"33/6",IF(T13=40,"40/4",IF(T13=44,"44/8",IF(T13<23,T13,RIGHT(T13,1)+LEFT(T13,1))))))) -> 10 | T13: =R13+W13 -> 37 | U13: =IF(V13=26,"26/8",IF(V13=30,"30/3",IF(V13=33,"33/6",IF(V13=40,"40/4",IF(V13=44,"44/8",IF(V13<23,V13,RIGHT(V13,1)+LEFT(V13,1))))))) -> 5 | V13: =R13+O13 -> 41 | W13: =IF(Z13=0,"22",Z13) -> 16 | X13: =MAX(L13,I13,H13)-(((L13+H13+I13)-(MAX(L13,H13,I13)+MIN(L13,H13,I13)))) -> 17 | Y13: =IF(X13=0,"22",X13) -> 17 | Z13: =ABS(Y13-MIN(L13,I13,H13)) -> 16 | AA13: =IF(AB13=26,"26/8",IF(AB13=30,"30/3",IF(AB13=33,"33/6",IF(AB13=40,"40/4",IF(AB13=44,"44/8",IF(AB13<23,AB13,RIGHT(AB13,1)+LEFT(AB13,1))))))) -> 19 | AB13: =L13+H13 -> 19 | AC13: =IF(AB13>22,RIGHT(AB13,1)+LEFT(AB13,1),AB13) -> 19 | AD13: =IF(H13-L13=0,"22",ABS(H13-L13)) -> 17 | AE13: =IF(AO13-AS13=0,"22",ABS(AO13-AS13)) -> 5 | AF13: =IF(W13-AE13=0,"22",ABS(W13-AE13)) -> 11 | AG13: =IF(AE13-O13=0,"22",ABS(AE13-O13)) -> 15 | AH13: =IF(AI13=26,"26/8",IF(AI13=30,"30/3",IF(AI13=33,"33/6",IF(AI13=40,"40/4",IF(AI13=44,"44/8",IF(AI13<23,AI13,RIGHT(AI13,1)+LEFT(AI13,1))))))) -> 21 | AI13: =O13+I13 -> 21 | AJ13: =IF(AK13=26,"26/8",IF(AK13=30,"30/3",IF(AK13=33,"33/6",IF(AK13=40,"40/4",IF(AK13=44,"44/8",IF(AK13<23,AK13,RIGHT(AK13,1)+LEFT(AK13,1))))))) -> 12 | AK13: =O13+AC13 -> 39 | AL13: =IF(AM13=26,"26/8",IF(AM13=30,"30/3",IF(AM13=33,"33/6",IF(AM13=40,"40/4",IF(AM13=44,"44/8",IF(AM13<23,AM13,RIGHT(AM13,1)+LEFT(AM13,1))))))) -> 19 | AM13: =I13+H13 -> 19 | AN13: =IF(AM13>22,RIGHT(AM13,1)+LEFT(AM13,1),AM13) -> 19 | AO13: =IF(H13-I13=0,"22",ABS(H13-I13)) -> 17 | AP13: =IF(AQ13=26,"26/8",IF(AQ13=30,"30/3",IF(AQ13=33,"33/6",IF(AQ13=40,"40/4",IF(AQ13=44,"44/8",IF(AQ13<23,AQ13,RIGHT(AQ13,1)+LEFT(AQ13,1))))))) -> 2 | AQ13: =L13+I13 -> 2 | AR13: =IF(AQ13>22,RIGHT(AQ13,1)+LEFT(AQ13,1),AQ13) -> 2 | AS13: =IF(I13-K13=0,"22",ABS(I13-K13)) -> 22
A14: =A13+1 -> 1909 | B14: =IF(G14=26,"26/8",IF(G14=30,"30/3",H14)) -> 19 | C14: =LEFT(A14,2) -> 19 | D14: =LEFT(C14,1)+RIGHT(C14,1) -> 10 | E14: =RIGHT(A14,2) -> 09 | F14: =LEFT(E14,1)+RIGHT(E14,1) -> 9 | G14: =F14+D14 -> 19 | H14: =IF((G14<23),G14,RIGHT(G14,1)+LEFT(G14,1)) -> 19 | I14: =Saisie!$E$5 -> 1 | J14: =IF(K14=26,"26/8",IF(K14=30,"30/3",L14)) -> 1 | K14: =Saisie!$D$5 -> 1 | L14: =IF(K14<23,K14,RIGHT(K14,1)+LEFT(K14,1)) -> 1 | M14: =IF(N14=26,"26/8",IF(N14=30,"30/3",IF(N14=33,"33/6",IF(N14=40,"40/4",IF(N14=44,"44/8",IF(I14+L14+H14<23,I14+L14+H14,RIGHT(I14+L14+H14,1)+LEFT(I14+L14+H14,1))))))) -> 21 | N14: =L14+I14+H14 -> 21 | O14: =IF((ABS(N14)<23),N14,RIGHT(N14,1)+LEFT(N14,1)) -> 21 | P14: =IF(Q14=26,"26/8",IF(Q14=30,"30/3",IF(Q14=33,"33/6",IF(Q14=40,"40/4",IF(Q14=44,"44/8",IF(Q14<23,Q14,RIGHT(Q14,1)+LEFT(Q14,1))))))) -> 22 | Q14: =AR14+AN14 -> 22 | R14: =IF(Q14>22,RIGHT(Q14,1)+LEFT(Q14,1),Q14) -> 22 | S14: =IF(T14=26,"26/8",IF(T14=30,"30/3",IF(T14=33,"33/6",IF(T14=40,"40/4",IF(T14=44,"44/8",IF(T14<23,T14,RIGHT(T14,1)+LEFT(T14,1))))))) -> 12 | T14: =R14+W14 -> 39 | U14: =IF(V14=26,"26/8",IF(V14=30,"30/3",IF(V14=33,"33/6",IF(V14=40,"40/4",IF(V14=44,"44/8",IF(V14<23,V14,RIGHT(V14,1)+LEFT(V14,1))))))) -> 7 | V14: =R14+O14 -> 43 | W14: =IF(Z14=0,"22",Z14) -> 17 | X14: =MAX(L14,I14,H14)-(((L14+H14+I14)-(MAX(L14,H14,I14)+MIN(L14,H14,I14)))) -> 18 | Y14: =IF(X14=0,"22",X14) -> 18 | Z14: =ABS(Y14-MIN(L14,I14,H14)) -> 17 | AA14: =IF(AB14=26,"26/8",IF(AB14=30,"30/3",IF(AB14=33,"33/6",IF(AB14=40,"40/4",IF(AB14=44,"44/8",IF(AB14<23,AB14,RIGHT(AB14,1)+LEFT(AB14,1))))))) -> 20 | AB14: =L14+H14 -> 20 | AC14: =IF(AB14>22,RIGHT(AB14,1)+LEFT(AB14,1),AB14) -> 20 | AD14: =IF(H14-L14=0,"22",ABS(H14-L14)) -> 18 | AE14: =IF(AO14-AS14=0,"22",ABS(AO14-AS14)) -> 4 | AF14: =IF(W14-AE14=0,"22",ABS(W14-AE14)) -> 13 | AG14: =IF(AE14-O14=0,"22",ABS(AE14-O14)) -> 17 | AH14: =IF(AI14=26,"26/8",IF(AI14=30,"30/3",IF(AI14=33,"33/6",IF(AI14=40,"40/4",IF(AI14=44,"44/8",IF(AI14<23,AI14,RIGHT(AI14,1)+LEFT(AI14,1))))))) -> 22 | AI14: =O14+I14 -> 22 | AJ14: =IF(AK14=26,"26/8",IF(AK14=30,"30/3",IF(AK14=33,"33/6",IF(AK14=40,"40/4",IF(AK14=44,"44/8",IF(AK14<23,AK14,RIGHT(AK14,1)+LEFT(AK14,1))))))) -> 5 | AK14: =O14+AC14 -> 41 | AL14: =IF(AM14=26,"26/8",IF(AM14=30,"30/3",IF(AM14=33,"33/6",IF(AM14=40,"40/4",IF(AM14=44,"44/8",IF(AM14<23,AM14,RIGHT(AM14,1)+LEFT(AM14,1))))))) -> 20 | AM14: =I14+H14 -> 20 | AN14: =IF(AM14>22,RIGHT(AM14,1)+LEFT(AM14,1),AM14) -> 20 | AO14: =IF(H14-I14=0,"22",ABS(H14-I14)) -> 18 | AP14: =IF(AQ14=26,"26/8",IF(AQ14=30,"30/3",IF(AQ14=33,"33/6",IF(AQ14=40,"40/4",IF(AQ14=44,"44/8",IF(AQ14<23,AQ14,RIGHT(AQ14,1)+LEFT(AQ14,1))))))) -> 2 | AQ14: =L14+I14 -> 2 | AR14: =IF(AQ14>22,RIGHT(AQ14,1)+LEFT(AQ14,1),AQ14) -> 2 | AS14: =IF(I14-K14=0,"22",ABS(I14-K14)) -> 22
A15: =A14+1 -> 1910 | B15: =IF(G15=26,"26/8",IF(G15=30,"30/3",H15)) -> 11 | C15: =LEFT(A15,2) -> 19 | D15: =LEFT(C15,1)+RIGHT(C15,1) -> 10 | E15: =RIGHT(A15,2) -> 10 | F15: =LEFT(E15,1)+RIGHT(E15,1) -> 1 | G15: =F15+D15 -> 11 | H15: =IF((G15<23),G15,RIGHT(G15,1)+LEFT(G15,1)) -> 11 | I15: =Saisie!$E$5 -> 1 | J15: =IF(K15=26,"26/8",IF(K15=30,"30/3",L15)) -> 1 | K15: =Saisie!$D$5 -> 1 | L15: =IF(K15<23,K15,RIGHT(K15,1)+LEFT(K15,1)) -> 1 | M15: =IF(N15=26,"26/8",IF(N15=30,"30/3",IF(N15=33,"33/6",IF(N15=40,"40/4",IF(N15=44,"44/8",IF(I15+L15+H15<23,I15+L15+H15,RIGHT(I15+L15+H15,1)+LEFT(I15+L15+H15,1))))))) -> 13 | N15: =L15+I15+H15 -> 13 | O15: =IF((ABS(N15)<23),N15,RIGHT(N15,1)+LEFT(N15,1)) -> 13 | P15: =IF(Q15=26,"26/8",IF(Q15=30,"30/3",IF(Q15=33,"33/6",IF(Q15=40,"40/4",IF(Q15=44,"44/8",IF(Q15<23,Q15,RIGHT(Q15,1)+LEFT(Q15,1))))))) -> 14 | Q15: =AR15+AN15 -> 14 | R15: =IF(Q15>22,RIGHT(Q15,1)+LEFT(Q15,1),Q15) -> 14 | S15: =IF(T15=26,"26/8",IF(T15=30,"30/3",IF(T15=33,"33/6",IF(T15=40,"40/4",IF(T15=44,"44/8",IF(T15<23,T15,RIGHT(T15,1)+LEFT(T15,1))))))) -> 5 | T15: =R15+W15 -> 23 | U15: =IF(V15=26,"26/8",IF(V15=30,"30/3",IF(V15=33,"33/6",IF(V15=40,"40/4",IF(V15=44,"44/8",IF(V15<23,V15,RIGHT(V15,1)+LEFT(V15,1))))))) -> 9 | V15: =R15+O15 -> 27 | W15: =IF(Z15=0,"22",Z15) -> 9 | X15: =MAX(L15,I15,H15)-(((L15+H15+I15)-(MAX(L15,H15,I15)+MIN(L15,H15,I15)))) -> 10 | Y15: =IF(X15=0,"22",X15) -> 10 | Z15: =ABS(Y15-MIN(L15,I15,H15)) -> 9 | AA15: =IF(AB15=26,"26/8",IF(AB15=30,"30/3",IF(AB15=33,"33/6",IF(AB15=40,"40/4",IF(AB15=44,"44/8",IF(AB15<23,AB15,RIGHT(AB15,1)+LEFT(AB15,1))))))) -> 12 | AB15: =L15+H15 -> 12 | AC15: =IF(AB15>22,RIGHT(AB15,1)+LEFT(AB15,1),AB15) -> 12 | AD15: =IF(H15-L15=0,"22",ABS(H15-L15)) -> 10 | AE15: =IF(AO15-AS15=0,"22",ABS(AO15-AS15)) -> 12 | AF15: =IF(W15-AE15=0,"22",ABS(W15-AE15)) -> 3 | AG15: =IF(AE15-O15=0,"22",ABS(AE15-O15)) -> 1 | AH15: =IF(AI15=26,"26/8",IF(AI15=30,"30/3",IF(AI15=33,"33/6",IF(AI15=40,"40/4",IF(AI15=44,"44/8",IF(AI15<23,AI15,RIGHT(AI15,1)+LEFT(AI15,1))))))) -> 14 | AI15: =O15+I15 -> 14 | AJ15: =IF(AK15=26,"26/8",IF(AK15=30,"30/3",IF(AK15=33,"33/6",IF(AK15=40,"40/4",IF(AK15=44,"44/8",IF(AK15<23,AK15,RIGHT(AK15,1)+LEFT(AK15,1))))))) -> 7 | AK15: =O15+AC15 -> 25 | AL15: =IF(AM15=26,"26/8",IF(AM15=30,"30/3",IF(AM15=33,"33/6",IF(AM15=40,"40/4",IF(AM15=44,"44/8",IF(AM15<23,AM15,RIGHT(AM15,1)+LEFT(AM15,1))))))) -> 12 | AM15: =I15+H15 -> 12 | AN15: =IF(AM15>22,RIGHT(AM15,1)+LEFT(AM15,1),AM15) -> 12 | AO15: =IF(H15-I15=0,"22",ABS(H15-I15)) -> 10 | AP15: =IF(AQ15=26,"26/8",IF(AQ15=30,"30/3",IF(AQ15=33,"33/6",IF(AQ15=40,"40/4",IF(AQ15=44,"44/8",IF(AQ15<23,AQ15,RIGHT(AQ15,1)+LEFT(AQ15,1))))))) -> 2 | AQ15: =L15+I15 -> 2 | AR15: =IF(AQ15>22,RIGHT(AQ15,1)+LEFT(AQ15,1),AQ15) -> 2 | AS15: =IF(I15-K15=0,"22",ABS(I15-K15)) -> 22
A16: =A15+1 -> 1911 | B16: =IF(G16=26,"26/8",IF(G16=30,"30/3",H16)) -> 12 | C16: =LEFT(A16,2) -> 19 | D16: =LEFT(C16,1)+RIGHT(C16,1) -> 10 | E16: =RIGHT(A16,2) -> 11 | F16: =LEFT(E16,1)+RIGHT(E16,1) -> 2 | G16: =F16+D16 -> 12 | H16: =IF((G16<23),G16,RIGHT(G16,1)+LEFT(G16,1)) -> 12 | I16: =Saisie!$E$5 -> 1 | J16: =IF(K16=26,"26/8",IF(K16=30,"30/3",L16)) -> 1 | K16: =Saisie!$D$5 -> 1 | L16: =IF(K16<23,K16,RIGHT(K16,1)+LEFT(K16,1)) -> 1 | M16: =IF(N16=26,"26/8",IF(N16=30,"30/3",IF(N16=33,"33/6",IF(N16=40,"40/4",IF(N16=44,"44/8",IF(I16+L16+H16<23,I16+L16+H16,RIGHT(I16+L16+H16,1)+LEFT(I16+L16+H16,1))))))) -> 14 | N16: =L16+I16+H16 -> 14 | O16: =IF((ABS(N16)<23),N16,RIGHT(N16,1)+LEFT(N16,1)) -> 14 | P16: =IF(Q16=26,"26/8",IF(Q16=30,"30/3",IF(Q16=33,"33/6",IF(Q16=40,"40/4",IF(Q16=44,"44/8",IF(Q16<23,Q16,RIGHT(Q16,1)+LEFT(Q16,1))))))) -> 15 | Q16: =AR16+AN16 -> 15 | R16: =IF(Q16>22,RIGHT(Q16,1)+LEFT(Q16,1),Q16) -> 15 | S16: =IF(T16=26,"26/8",IF(T16=30,"30/3",IF(T16=33,"33/6",IF(T16=40,"40/4",IF(T16=44,"44/8",IF(T16<23,T16,RIGHT(T16,1)+LEFT(T16,1))))))) -> 7 | T16: =R16+W16 -> 25 | U16: =IF(V16=26,"26/8",IF(V16=30,"30/3",IF(V16=33,"33/6",IF(V16=40,"40/4",IF(V16=44,"44/8",IF(V16<23,V16,RIGHT(V16,1)+LEFT(V16,1))))))) -> 11 | V16: =R16+O16 -> 29 | W16: =IF(Z16=0,"22",Z16) -> 10 | X16: =MAX(L16,I16,H16)-(((L16+H16+I16)-(MAX(L16,H16,I16)+MIN(L16,H16,I16)))) -> 11 | Y16: =IF(X16=0,"22",X16) -> 11 | Z16: =ABS(Y16-MIN(L16,I16,H16)) -> 10 | AA16: =IF(AB16=26,"26/8",IF(AB16=30,"30/3",IF(AB16=33,"33/6",IF(AB16=40,"40/4",IF(AB16=44,"44/8",IF(AB16<23,AB16,RIGHT(AB16,1)+LEFT(AB16,1))))))) -> 13 | AB16: =L16+H16 -> 13 | AC16: =IF(AB16>22,RIGHT(AB16,1)+LEFT(AB16,1),AB16) -> 13 | AD16: =IF(H16-L16=0,"22",ABS(H16-L16)) -> 11 | AE16: =IF(AO16-AS16=0,"22",ABS(AO16-AS16)) -> 11 | AF16: =IF(W16-AE16=0,"22",ABS(W16-AE16)) -> 1 | AG16: =IF(AE16-O16=0,"22",ABS(AE16-O16)) -> 3 | AH16: =IF(AI16=26,"26/8",IF(AI16=30,"30/3",IF(AI16=33,"33/6",IF(AI16=40,"40/4",IF(AI16=44,"44/8",IF(AI16<23,AI16,RIGHT(AI16,1)+LEFT(AI16,1))))))) -> 15 | AI16: =O16+I16 -> 15 | AJ16: =IF(AK16=26,"26/8",IF(AK16=30,"30/3",IF(AK16=33,"33/6",IF(AK16=40,"40/4",IF(AK16=44,"44/8",IF(AK16<23,AK16,RIGHT(AK16,1)+LEFT(AK16,1))))))) -> 9 | AK16: =O16+AC16 -> 27 | AL16: =IF(AM16=26,"26/8",IF(AM16=30,"30/3",IF(AM16=33,"33/6",IF(AM16=40,"40/4",IF(AM16=44,"44/8",IF(AM16<23,AM16,RIGHT(AM16,1)+LEFT(AM16,1))))))) -> 13 | AM16: =I16+H16 -> 13 | AN16: =IF(AM16>22,RIGHT(AM16,1)+LEFT(AM16,1),AM16) -> 13 | AO16: =IF(H16-I16=0,"22",ABS(H16-I16)) -> 11 | AP16: =IF(AQ16=26,"26/8",IF(AQ16=30,"30/3",IF(AQ16=33,"33/6",IF(AQ16=40,"40/4",IF(AQ16=44,"44/8",IF(AQ16<23,AQ16,RIGHT(AQ16,1)+LEFT(AQ16,1))))))) -> 2 | AQ16: =L16+I16 -> 2 | AR16: =IF(AQ16>22,RIGHT(AQ16,1)+LEFT(AQ16,1),AQ16) -> 2 | AS16: =IF(I16-K16=0,"22",ABS(I16-K16)) -> 22
A17: =A16+1 -> 1912 | B17: =IF(G17=26,"26/8",IF(G17=30,"30/3",H17)) -> 13 | C17: =LEFT(A17,2) -> 19 | D17: =LEFT(C17,1)+RIGHT(C17,1) -> 10 | E17: =RIGHT(A17,2) -> 12 | F17: =LEFT(E17,1)+RIGHT(E17,1) -> 3 | G17: =F17+D17 -> 13 | H17: =IF((G17<23),G17,RIGHT(G17,1)+LEFT(G17,1)) -> 13 | I17: =Saisie!$E$5 -> 1 | J17: =IF(K17=26,"26/8",IF(K17=30,"30/3",L17)) -> 1 | K17: =Saisie!$D$5 -> 1 | L17: =IF(K17<23,K17,RIGHT(K17,1)+LEFT(K17,1)) -> 1 | M17: =IF(N17=26,"26/8",IF(N17=30,"30/3",IF(N17=33,"33/6",IF(N17=40,"40/4",IF(N17=44,"44/8",IF(I17+L17+H17<23,I17+L17+H17,RIGHT(I17+L17+H17,1)+LEFT(I17+L17+H17,1))))))) -> 15 | N17: =L17+I17+H17 -> 15 | O17: =IF((ABS(N17)<23),N17,RIGHT(N17,1)+LEFT(N17,1)) -> 15 | P17: =IF(Q17=26,"26/8",IF(Q17=30,"30/3",IF(Q17=33,"33/6",IF(Q17=40,"40/4",IF(Q17=44,"44/8",IF(Q17<23,Q17,RIGHT(Q17,1)+LEFT(Q17,1))))))) -> 16 | Q17: =AR17+AN17 -> 16 | R17: =IF(Q17>22,RIGHT(Q17,1)+LEFT(Q17,1),Q17) -> 16 | S17: =IF(T17=26,"26/8",IF(T17=30,"30/3",IF(T17=33,"33/6",IF(T17=40,"40/4",IF(T17=44,"44/8",IF(T17<23,T17,RIGHT(T17,1)+LEFT(T17,1))))))) -> 9 | T17: =R17+W17 -> 27 | U17: =IF(V17=26,"26/8",IF(V17=30,"30/3",IF(V17=33,"33/6",IF(V17=40,"40/4",IF(V17=44,"44/8",IF(V17<23,V17,RIGHT(V17,1)+LEFT(V17,1))))))) -> 4 | V17: =R17+O17 -> 31 | W17: =IF(Z17=0,"22",Z17) -> 11 | X17: =MAX(L17,I17,H17)-(((L17+H17+I17)-(MAX(L17,H17,I17)+MIN(L17,H17,I17)))) -> 12 | Y17: =IF(X17=0,"22",X17) -> 12 | Z17: =ABS(Y17-MIN(L17,I17,H17)) -> 11 | AA17: =IF(AB17=26,"26/8",IF(AB17=30,"30/3",IF(AB17=33,"33/6",IF(AB17=40,"40/4",IF(AB17=44,"44/8",IF(AB17<23,AB17,RIGHT(AB17,1)+LEFT(AB17,1))))))) -> 14 | AB17: =L17+H17 -> 14 | AC17: =IF(AB17>22,RIGHT(AB17,1)+LEFT(AB17,1),AB17) -> 14 | AD17: =IF(H17-L17=0,"22",ABS(H17-L17)) -> 12 | AE17: =IF(AO17-AS17=0,"22",ABS(AO17-AS17)) -> 10 | AF17: =IF(W17-AE17=0,"22",ABS(W17-AE17)) -> 1 | AG17: =IF(AE17-O17=0,"22",ABS(AE17-O17)) -> 5 | AH17: =IF(AI17=26,"26/8",IF(AI17=30,"30/3",IF(AI17=33,"33/6",IF(AI17=40,"40/4",IF(AI17=44,"44/8",IF(AI17<23,AI17,RIGHT(AI17,1)+LEFT(AI17,1))))))) -> 16 | AI17: =O17+I17 -> 16 | AJ17: =IF(AK17=26,"26/8",IF(AK17=30,"30/3",IF(AK17=33,"33/6",IF(AK17=40,"40/4",IF(AK17=44,"44/8",IF(AK17<23,AK17,RIGHT(AK17,1)+LEFT(AK17,1))))))) -> 11 | AK17: =O17+AC17 -> 29 | AL17: =IF(AM17=26,"26/8",IF(AM17=30,"30/3",IF(AM17=33,"33/6",IF(AM17=40,"40/4",IF(AM17=44,"44/8",IF(AM17<23,AM17,RIGHT(AM17,1)+LEFT(AM17,1))))))) -> 14 | AM17: =I17+H17 -> 14 | AN17: =IF(AM17>22,RIGHT(AM17,1)+LEFT(AM17,1),AM17) -> 14 | AO17: =IF(H17-I17=0,"22",ABS(H17-I17)) -> 12 | AP17: =IF(AQ17=26,"26/8",IF(AQ17=30,"30/3",IF(AQ17=33,"33/6",IF(AQ17=40,"40/4",IF(AQ17=44,"44/8",IF(AQ17<23,AQ17,RIGHT(AQ17,1)+LEFT(AQ17,1))))))) -> 2 | AQ17: =L17+I17 -> 2 | AR17: =IF(AQ17>22,RIGHT(AQ17,1)+LEFT(AQ17,1),AQ17) -> 2 | AS17: =IF(I17-K17=0,"22",ABS(I17-K17)) -> 22
... A104: =A103+1 -> 1999 | B104: =IF(G104=26,"26/8",IF(G104=30,"30/3",H104)) -> 10 | C104: =LEFT(A104,2) -> 19 | D104: =LEFT(C104,1)+RIGHT(C104,1) -> 10 | E104: =RIGHT(A104,2) -> 99 | F104: =LEFT(E104,1)+RIGHT(E104,1) -> 18 | G104: =F104+D104 -> 28 | H104: =IF((G104<23),G104,RIGHT(G104,1)+LEFT(G104,1)) -> 10 | I104: =Saisie!$E$5 -> 1 | J104: =IF(K104=26,"26/8",IF(K104=30,"30/3",L104)) -> 1 | K104: =Saisie!$D$5 -> 1 | L104: =IF(K104<23,K104,RIGHT(K104,1)+LEFT(K104,1)) -> 1 | M104: =IF(N104=26,"26/8",IF(N104=30,"30/3",IF(N104=33,"33/6",IF(N104=40,"40/4",IF(N104=44,"44/8",IF(I104+L104+H104<23,I104+L104+H104,RIGHT(I104+L104+H104,1)+LEFT(I104+L104+H104,1))))))) -> 12 | N104: =L104+I104+H104 -> 12 | O104: =IF((ABS(N104)<23),N104,RIGHT(N104,1)+LEFT(N104,1)) -> 12 | P104: =IF(Q104=26,"26/8",IF(Q104=30,"30/3",IF(Q104=33,"33/6",IF(Q104=40,"40/4",IF(Q104=44,"44/8",IF(Q104<23,Q104,RIGHT(Q104,1)+LEFT(Q104,1))))))) -> 13 | Q104: =AR104+AN104 -> 13 | R104: =IF(Q104>22,RIGHT(Q104,1)+LEFT(Q104,1),Q104) -> 13 | S104: =IF(T104=26,"26/8",IF(T104=30,"30/3",IF(T104=33,"33/6",IF(T104=40,"40/4",IF(T104=44,"44/8",IF(T104<23,T104,RIGHT(T104,1)+LEFT(T104,1))))))) -> 21 | T104: =R104+W104 -> 21 | U104: =IF(V104=26,"26/8",IF(V104=30,"30/3",IF(V104=33,"33/6",IF(V104=40,"40/4",IF(V104=44,"44/8",IF(V104<23,V104,RIGHT(V104,1)+LEFT(V104,1))))))) -> 7 | V104: =R104+O104 -> 25 | W104: =IF(Z104=0,"22",Z104) -> 8 | X104: =MAX(L104,I104,H104)-(((L104+H104+I104)-(MAX(L104,H104,I104)+MIN(L104,H104,I104)))) -> 9 | Y104: =IF(X104=0,"22",X104) -> 9 | Z104: =ABS(Y104-MIN(L104,I104,H104)) -> 8 | AA104: =IF(AB104=26,"26/8",IF(AB104=30,"30/3",IF(AB104=33,"33/6",IF(AB104=40,"40/4",IF(AB104=44,"44/8",IF(AB104<23,AB104,RIGHT(AB104,1)+LEFT(AB104,1))))))) -> 11 | AB104: =L104+H104 -> 11 | AC104: =IF(AB104>22,RIGHT(AB104,1)+LEFT(AB104,1),AB104) -> 11 | AD104: =IF(H104-L104=0,"22",ABS(H104-L104)) -> 9 | AE104: =IF(AO104-AS104=0,"22",ABS(AO104-AS104)) -> 13 | AF104: =IF(W104-AE104=0,"22",ABS(W104-AE104)) -> 5 | AG104: =IF(AE104-O104=0,"22",ABS(AE104-O104)) -> 1 | AH104: =IF(AI104=26,"26/8",IF(AI104=30,"30/3",IF(AI104=33,"33/6",IF(AI104=40,"40/4",IF(AI104=44,"44/8",IF(AI104<23,AI104,RIGHT(AI104,1)+LEFT(AI104,1))))))) -> 13 | AI104: =O104+I104 -> 13 | AJ104: =IF(AK104=26,"26/8",IF(AK104=30,"30/3",IF(AK104=33,"33/6",IF(AK104=40,"40/4",IF(AK104=44,"44/8",IF(AK104<23,AK104,RIGHT(AK104,1)+LEFT(AK104,1))))))) -> 5 | AK104: =O104+AC104 -> 23 | AL104: =IF(AM104=26,"26/8",IF(AM104=30,"30/3",IF(AM104=33,"33/6",IF(AM104=40,"40/4",IF(AM104=44,"44/8",IF(AM104<23,AM104,RIGHT(AM104,1)+LEFT(AM104,1))))))) -> 11 | AM104: =I104+H104 -> 11 | AN104: =IF(AM104>22,RIGHT(AM104,1)+LEFT(AM104,1),AM104) -> 11 | AO104: =IF(H104-I104=0,"22",ABS(H104-I104)) -> 9 | AP104: =IF(AQ104=26,"26/8",IF(AQ104=30,"30/3",IF(AQ104=33,"33/6",IF(AQ104=40,"40/4",IF(AQ104=44,"44/8",IF(AQ104<23,AQ104,RIGHT(AQ104,1)+LEFT(AQ104,1))))))) -> 2 | AQ104: =L104+I104 -> 2 | AR104: =IF(AQ104>22,RIGHT(AQ104,1)+LEFT(AQ104,1),AQ104) -> 2 | AS104: =IF(I104-K104=0,"22",ABS(I104-K104)) -> 22
