Workbook
Name dept: Listes!$L$1
Name Liste: #REF!
Name LISTEGROUPEALARME: Listes!$L$1:$S$1
Name SousListe: OFFSET(#REF!,,,COUNTA(#REF!)-1)
Name SOUSLISTEFINAL: Listes!$K$3

Sheet Remontée
A5: Exemple tableau final
A10: BUS | B10: RIO | C10: ZONE | D10: CODE | E10: N° Groupe Alarme | F10: Groupe Alarme | G10: FONCTION | H10: TYPE | I10: EQUIPEMENT | K10: LIEU
E11: A1 | F11: =HLOOKUP(E11,Listes!$L$1:$S$2,2,FALSE) -> Bureau
E12: A2 | F12: =HLOOKUP(E12,Listes!$L$1:$S$2,2,FALSE) -> HALL
E13: A3 | F13: =HLOOKUP(E13,Listes!$L$1:$S$2,2,FALSE) -> Cuisine
E14: A4 | F14: =HLOOKUP(E14,Listes!$L$1:$S$2,2,FALSE) -> Couloir
E15: A5 | F15: =HLOOKUP(E15,Listes!$L$1:$S$2,2,FALSE) -> Salle de réunion
E16: A6 | F16: =HLOOKUP(E16,Listes!$L$1:$S$2,2,FALSE) -> WC
E17: A2 | F17: =HLOOKUP(E17,Listes!$L$1:$S$2,2,FALSE) -> HALL
E18: A1 | F18: =HLOOKUP(E18,Listes!$L$1:$S$2,2,FALSE) -> Bureau
E19: A1 | F19: =HLOOKUP(E19,Listes!$L$1:$S$2,2,FALSE) -> Bureau
E20: A2 | F20: =HLOOKUP(E20,Listes!$L$1:$S$2,2,FALSE) -> HALL
E21: A3 | F21: =HLOOKUP(E21,Listes!$L$1:$S$2,2,FALSE) -> Cuisine
E22: A4 | F22: =HLOOKUP(E22,Listes!$L$1:$S$2,2,FALSE) -> Couloir
... E43: A8 | F43: =HLOOKUP(E43,Listes!$L$1:$S$2,2,FALSE) -> Local

Sheet Listes
L1: A1 | M1: A2 | N1: A3 | O1: A4 | P1: A5 | Q1: A6 | R1: A7 | S1: A8
L2: Bureau | M2: HALL | N2: Cuisine | O2: Couloir | P2: Salle de réunion | Q2: WC | R2: Stockage | S2: Local
A3: Numéro groupe alarme | B3: Groupe d'alarme | L3: Bureau1 | M3: Hall 1 | N3: Cuisine1 | O3: Couloir1 | P3: Salle de réunion1 | Q3: WC1 | R3: Stockage1 | S3: Local1
A4: A1 | B4: Bureau | L4: Bureau2 | M4: Hall 2 | N4: Cuisine2 | O4: Couloir2 | P4: Salle de réunion2 | Q4: WC2 | R4: Stockage2 | S4: Local2
A5: A2 | B5: HALL | L5: Bureau3 | M5: Hall 3 | N5: Cuisine3 | O5: Couloir3 | P5: Salle de réunion3 | Q5: WC3 | R5: Stockage3 | S5: Local3
A6: A3 | B6: Cusine | L6: Bureau4 | M6: Hall 4 | N6: Cuisine4 | O6: Couloir4 | P6: Salle de réunion4 | Q6: WC4 | R6: Stockage4 | S6: Local4
A7: A4 | B7: Couloir | L7: Bureau5 | M7: Hall 5 | N7: Cuisine5 | O7: Couloir5 | P7: Salle de réunion5 | Q7: WC5 | R7: Stockage5 | S7: Local5
A8: A5 | B8: Salle de réunion | L8: Bureau6 | M8: Hall 6 | N8: Cuisine6 | O8: Couloir6 | P8: Salle de réunion6 | Q8: WC6 | R8: Stockage6 | S8: Local6
A9: A6 | B9: WC | L9: Bureau7 | M9: Hall 7 | N9: Cuisine7 | O9: Couloir7 | P9: Salle de réunion7 | Q9: WC7 | R9: Stockage7 | S9: Local7
A10: A7 | B10: Stockage | L10: Bureau8 | M10: Hall 8 | N10: Cuisine8 | O10: Couloir8 | P10: Salle de réunion8 | Q10: WC8 | R10: Stockage8 | S10: Local8
A11: A8 | B11: Local | L11: Bureau9 | M11: Hall 9 | N11: Cuisine9 | O11: Couloir9 | P11: Salle de réunion9 | Q11: WC9 | R11: Stockage9 | S11: Local9
L12: Bureau10 | M12: Hall 10 | N12: Cuisine10 | O12: Couloir10 | P12: Salle de réunion10 | Q12: WC10 | R12: Stockage10 | S12: Local10
L13: Bureau11 | M13: Hall 11 | N13: Cuisine11 | O13: Couloir11 | P13: Salle de réunion11 | Q13: WC11 | R13: Stockage11 | S13: Local11
L14: Bureau12 | M14: Hall 12 | N14: Cuisine12 | O14: Couloir12 | P14: Salle de réunion12 | Q14: WC12 | R14: Stockage12 | S14: Local12
L15: Bureau13 | M15: Hall 13 | N15: Cuisine13 | O15: Couloir13 | P15: Salle de réunion13 | Q15: WC13 | R15: Stockage13 | S15: Local13
L16: Bureau14 | M16: Hall 14 | N16: Cuisine14 | O16: Couloir14 | P16: Salle de réunion14 | Q16: WC14 | R16: Stockage14 | S16: Local14
L17: Bureau15 | M17: Hall 15 | N17: Cuisine15 | O17: Couloir15 | P17: Salle de réunion15 | Q17: WC15 | R17: Stockage15 | S17: Local15
L18: Bureau16 | M18: Hall 16 | N18: Cuisine16 | O18: Couloir16 | P18: Salle de réunion16 | Q18: WC16 | R18: Stockage16 | S18: Local16
L19: Bureau17 | M19: Hall 17 | N19: Cuisine17 | O19: Couloir17 | P19: Salle de réunion17 | Q19: WC17 | R19: Stockage17 | S19: Local17
L20: Bureau18 | M20: Hall 18 | N20: Cuisine18 | O20: Couloir18 | P20: Salle de réunion18 | Q20: WC18 | R20: Stockage18 | S20: Local18
L21: Bureau19 | M21: Hall 19 | N21: Cuisine19 | O21: Couloir19 | P21: Salle de réunion19 | Q21: WC19 | R21: Stockage19 | S21: Local19
L22: Bureau20 | M22: Hall 20 | N22: Cuisine20 | O22: Couloir20 | P22: Salle de réunion20 | Q22: WC20 | R22: Stockage20 | S22: Local20
L23: Bureau21 | M23: Hall 21 | N23: Cuisine21 | O23: Couloir21 | P23: Salle de réunion21 | Q23: WC21 | R23: Stockage21 | S23: Local21
L24: Bureau22 | M24: Hall 22 | N24: Cuisine22 | O24: Couloir22 | P24: Salle de réunion22 | Q24: WC22 | R24: Stockage22 | S24: Local22
