Workbook

Sheet Feuil1
D2: Poste | E2: PJ | F2: FT | G2: Nbr | H2: cm
D3: 54 | E3: vb | F3: S3 | G3: 89 | H3: 47
D4: 11 | E4: cx | F4: B3 | G4: 210 | H4: 41
D5: 2 | E5: qz | F5: S1 | G5: 250 | H5: 97
D6: 24 | E6: mm | F6: S2 | G6: 500 | H6: 82
D7: 9 | E7: kl | F7: C4 | G7: 501 | H7: 12
D8: 17 | E8: po | F8: C1 | G8: 503 | H8: 79
D9: 43 | E9: yt | F9: P1 | G9: 508 | H9: 59
D10: 19 | E10: rt | F10: C2 | G10: 510 | H10: 61
D11: 18 | E11: oi | F11: C3 | G11: 530 | H11: 75
D12: 10 | E12: er | F12: G1 | G12: 1017 | H12: 41
D13: 25 | E13: mf | F13: P3 | G13: 5265 | H13: 67
D14: 20 | E14: po | F14: G3 | G14: 7030 | H14: 47
... D25: 23 | E25: hl | F25: C5 | G25: 2520 | H25: 53

Sheet Feuil2
D2: Résultat souhaité | F2: Poste | G2: PJ | H2: FT | I2: Nbr | J2: cm
D3: 16 | F3: {=INDEX(Feuil1!$D$3:$D$25,MATCH($G$4:$G$25&$H$4:$H$25&$I$4:$I$25&$J$4:$J$25,Feuil1!$E$3:$E$25&Feuil1!$F$3:$F$25&Feuil1!$G$3:$G$25&Feuil1!$H$3:$H$25,0))} -> 20 | G3: po | H3: B4 | I3: 8154 | J3: 81
D4: 20 | F4: {=INDEX(Feuil1!$D$3:$D$25,MATCH($G$4:$G$25&$H$4:$H$25&$I$4:$I$25&$J$4:$J$25,Feuil1!$E$3:$E$25&Feuil1!$F$3:$F$25&Feuil1!$G$3:$G$25&Feuil1!$H$3:$H$25,0))} -> 20 | G4: po | H4: G3 | I4: 7030 | J4: 47
D5: 21 | F5: {=INDEX(Feuil1!$D$3:$D$25,MATCH($G$4:$G$25&$H$4:$H$25&$I$4:$I$25&$J$4:$J$25,Feuil1!$E$3:$E$25&Feuil1!$F$3:$F$25&Feuil1!$G$3:$G$25&Feuil1!$H$3:$H$25,0))} -> 20 | G5: xc | H5: G2 | I5: 7842 | J5: 60
D6: 15 | F6: {=INDEX(Feuil1!$D$3:$D$25,MATCH($G$4:$G$25&$H$4:$H$25&$I$4:$I$25&$J$4:$J$25,Feuil1!$E$3:$E$25&Feuil1!$F$3:$F$25&Feuil1!$G$3:$G$25&Feuil1!$H$3:$H$25,0))} -> 20 | G6: df | H6: P2 | I6: 8111 | J6: 55
D7: 82 | F7: {=INDEX(Feuil1!$D$3:$D$25,MATCH($G$4:$G$25&$H$4:$H$25&$I$4:$I$25&$J$4:$J$25,Feuil1!$E$3:$E$25&Feuil1!$F$3:$F$25&Feuil1!$G$3:$G$25&Feuil1!$H$3:$H$25,0))} -> 20 | G7: ex | H7: G4 | I7: 9028 | J7: 39
D8: 60 | F8: {=INDEX(Feuil1!$D$3:$D$25,MATCH($G$4:$G$25&$H$4:$H$25&$I$4:$I$25&$J$4:$J$25,Feuil1!$E$3:$E$25&Feuil1!$F$3:$F$25&Feuil1!$G$3:$G$25&Feuil1!$H$3:$H$25,0))} -> 20 | G8: aq | H8: B1 | I8: 9029 | J8: 89
D9: 1 | F9: {=INDEX(Feuil1!$D$3:$D$25,MATCH($G$4:$G$25&$H$4:$H$25&$I$4:$I$25&$J$4:$J$25,Feuil1!$E$3:$E$25&Feuil1!$F$3:$F$25&Feuil1!$G$3:$G$25&Feuil1!$H$3:$H$25,0))} -> 20 | G9: po | H9: B2 | I9: 9064 | J9: 25
D10: 4 | F10: {=INDEX(Feuil1!$D$3:$D$25,MATCH($G$4:$G$25&$H$4:$H$25&$I$4:$I$25&$J$4:$J$25,Feuil1!$E$3:$E$25&Feuil1!$F$3:$F$25&Feuil1!$G$3:$G$25&Feuil1!$H$3:$H$25,0))} -> 20 | G10: pr | H10: S4 | I10: 9065 | J10: 3
D11: 25 | F11: {=INDEX(Feuil1!$D$3:$D$25,MATCH($G$4:$G$25&$H$4:$H$25&$I$4:$I$25&$J$4:$J$25,Feuil1!$E$3:$E$25&Feuil1!$F$3:$F$25&Feuil1!$G$3:$G$25&Feuil1!$H$3:$H$25,0))} -> 20 | G11: mf | H11: P3 | I11: 5265 | J11: 67
D12: 7 | F12: {=INDEX(Feuil1!$D$3:$D$25,MATCH($G$4:$G$25&$H$4:$H$25&$I$4:$I$25&$J$4:$J$25,Feuil1!$E$3:$E$25&Feuil1!$F$3:$F$25&Feuil1!$G$3:$G$25&Feuil1!$H$3:$H$25,0))} -> 20 | G12: uy | H12: S3 | I12: 6370 | J12: 50
D13: 14 | F13: {=INDEX(Feuil1!$D$3:$D$25,MATCH($G$4:$G$25&$H$4:$H$25&$I$4:$I$25&$J$4:$J$25,Feuil1!$E$3:$E$25&Feuil1!$F$3:$F$25&Feuil1!$G$3:$G$25&Feuil1!$H$3:$H$25,0))} -> 20 | G13: tf | H13: S4 | I13: 8992 | J13: 18
D14: 62 | F14: {=INDEX(Feuil1!$D$3:$D$25,MATCH($G$4:$G$25&$H$4:$H$25&$I$4:$I$25&$J$4:$J$25,Feuil1!$E$3:$E$25&Feuil1!$F$3:$F$25&Feuil1!$G$3:$G$25&Feuil1!$H$3:$H$25,0))} -> 20 | G14: fc | H14: C2 | I14: 8472 | J14: 40
... D25: 10 | F25: {=INDEX(Feuil1!$D$3:$D$25,MATCH($G$4:$G$25&$H$4:$H$25&$I$4:$I$25&$J$4:$J$25,Feuil1!$E$3:$E$25&Feuil1!$F$3:$F$25&Feuil1!$G$3:$G$25&Feuil1!$H$3:$H$25,0))} -> 20 | G25: er | H25: G1 | I25: 1017 | J25: 41
