Workbook
Name DebN: TIMEVALUE("22:00")
Name FinN: TIMEVALUE("06:00")

Sheet  HRS EFF. EMPLOYES JUILLET
B1: SARL Pacific Services Company
Y2: REFERENCES:
B5: 42552 | D5: AIRIMA RIMONA | L5: BASLY YANNICK | Z5: Heures base par sem. : | AC5: =PARAMETRES!F2 -> 1.625
B6: JUILLET | C6: Date | D6: Début | E6: Fin | F6: Hrs effect. Jrs | G6: Total journée | H6: Nbres heures de nuits | I6: CHANTIER | J6: CLIENT | K6: VILLE | L6: Début | M6: Fin | N6: Hrs effect. Jrs | O6: Total journée | P6: Nbres heures de nuits | Q6: CHANTIER | R6: CLIENT | S6: VILLE | Z6: Heures employés/sem. : | AC6: =PARAMETRES!F3 -> 1.1666667
Z7: Heures compl. : | AC7: =PARAMETRES!F4 -> 0.45833333
B8: =C8 -> 42548 | C8: 42548 | F8: =MOD(E8-D8,1) -> 0 | G8: =SUM(F8:F13) -> 0 | H8: =IF(AND(D8<$AC$14,D8>=$AD$14),IF(E8>D8,IF(E8<=$AC$14,0,MOD(E8-$AC$14,1)),IF(E8>=$AD$14,MOD($AD$14-$AC$14,1),MOD(E8-$AC$14,1))),IF(D8>=$AC$14,IF(OR(E8>D8,E8<=$AD$14),MOD(E8-D8,1),IF(E8<=$AC$14,MOD($AD$14-D8,1),MOD($AD$14-D8,1)+MOD(E8-$AC$14,1))),IF(OR(E8<D8,E8>$AC$14),MOD($AD$14-D8,1)+MOD(E8-$AC$14,1),IF(E8<$AD$14,MOD(E8-D8,1),MOD($AD$14-D8,1))))) -> 0 | N8: =MOD(M8-L8,1) -> 0 | O8: =SUM(N8:N13) -> 0 | P8: =IF(AND(L8<$AC$14,L8>=$AD$14),IF(M8>L8,IF(M8<=$AC$14,0,MOD(M8-$AC$14,1)),IF(M8>=$AD$14,MOD($AD$14-$AC$14,1),MOD(M8-$AC$14,1))),IF(L8>=$AC$14,IF(OR(M8>L8,M8<=$AD$14),MOD(M8-L8,1),IF(M8<=$AC$14,MOD($AD$14-L8,1),MOD($AD$14-L8,1)+MOD(M8-$AC$14,1))),IF(OR(M8<L8,M8>$AC$14),MOD($AD$14-L8,1)+MOD(M8-$AC$14,1),IF(M8<$AD$14,MOD(M8-L8,1),MOD($AD$14-L8,1))))) -> 0 | AB8: heures/jrs: | AC8: 0.25
F9: =MOD(E9-D9,1) -> 0 | H9: =IF(AND(D9<$AC$14,D9>=$AD$14),IF(E9>D9,IF(E9<=$AC$14,0,MOD(E9-$AC$14,1)),IF(E9>=$AD$14,MOD($AD$14-$AC$14,1),MOD(E9-$AC$14,1))),IF(D9>=$AC$14,IF(OR(E9>D9,E9<=$AD$14),MOD(E9-D9,1),IF(E9<=$AC$14,MOD($AD$14-D9,1),MOD($AD$14-D9,1)+MOD(E9-$AC$14,1))),IF(OR(E9<D9,E9>$AC$14),MOD($AD$14-D9,1)+MOD(E9-$AC$14,1),IF(E9<$AD$14,MOD(E9-D9,1),MOD($AD$14-D9,1))))) -> 0 | N9: =MOD(M9-L9,1) -> 0 | P9: =IF(AND(L9<$AC$14,L9>=$AD$14),IF(M9>L9,IF(M9<=$AC$14,0,MOD(M9-$AC$14,1)),IF(M9>=$AD$14,MOD($AD$14-$AC$14,1),MOD(M9-$AC$14,1))),IF(L9>=$AC$14,IF(OR(M9>L9,M9<=$AD$14),MOD(M9-L9,1),IF(M9<=$AC$14,MOD($AD$14-L9,1),MOD($AD$14-L9,1)+MOD(M9-$AC$14,1))),IF(OR(M9<L9,M9>$AC$14),MOD($AD$14-L9,1)+MOD(M9-$AC$14,1),IF(M9<$AD$14,MOD(M9-L9,1),MOD($AD$14-L9,1))))) -> 0 | AB9: hrs/vend.: | AC9: 0.16666667
F10: =MOD(E10-D10,1) -> 0 | H10: =IF(AND(D10<$AC$14,D10>=$AD$14),IF(E10>D10,IF(E10<=$AC$14,0,MOD(E10-$AC$14,1)),IF(E10>=$AD$14,MOD($AD$14-$AC$14,1),MOD(E10-$AC$14,1))),IF(D10>=$AC$14,IF(OR(E10>D10,E10<=$AD$14),MOD(E10-D10,1),IF(E10<=$AC$14,MOD($AD$14-D10,1),MOD($AD$14-D10,1)+MOD(E10-$AC$14,1))),IF(OR(E10<D10,E10>$AC$14),MOD($AD$14-D10,1)+MOD(E10-$AC$14,1),IF(E10<$AD$14,MOD(E10-D10,1),MOD($AD$14-D10,1))))) -> 0 | N10: =MOD(M10-L10,1) -> 0 | P10: =IF(AND(L10<$AC$14,L10>=$AD$14),IF(M10>L10,IF(M10<=$AC$14,0,MOD(M10-$AC$14,1)),IF(M10>=$AD$14,MOD($AD$14-$AC$14,1),MOD(M10-$AC$14,1))),IF(L10>=$AC$14,IF(OR(M10>L10,M10<=$AD$14),MOD(M10-L10,1),IF(M10<=$AC$14,MOD($AD$14-L10,1),MOD($AD$14-L10,1)+MOD(M10-$AC$14,1))),IF(OR(M10<L10,M10>$AC$14),MOD($AD$14-L10,1)+MOD(M10-$AC$14,1),IF(M10<$AD$14,MOD(M10-L10,1),MOD($AD$14-L10,1))))) -> 0
F11: =MOD(E11-D11,1) -> 0 | H11: =IF(AND(D11<$AC$14,D11>=$AD$14),IF(E11>D11,IF(E11<=$AC$14,0,MOD(E11-$AC$14,1)),IF(E11>=$AD$14,MOD($AD$14-$AC$14,1),MOD(E11-$AC$14,1))),IF(D11>=$AC$14,IF(OR(E11>D11,E11<=$AD$14),MOD(E11-D11,1),IF(E11<=$AC$14,MOD($AD$14-D11,1),MOD($AD$14-D11,1)+MOD(E11-$AC$14,1))),IF(OR(E11<D11,E11>$AC$14),MOD($AD$14-D11,1)+MOD(E11-$AC$14,1),IF(E11<$AD$14,MOD(E11-D11,1),MOD($AD$14-D11,1))))) -> 0 | N11: =MOD(M11-L11,1) -> 0 | P11: =IF(AND(L11<$AC$14,L11>=$AD$14),IF(M11>L11,IF(M11<=$AC$14,0,MOD(M11-$AC$14,1)),IF(M11>=$AD$14,MOD($AD$14-$AC$14,1),MOD(M11-$AC$14,1))),IF(L11>=$AC$14,IF(OR(M11>L11,M11<=$AD$14),MOD(M11-L11,1),IF(M11<=$AC$14,MOD($AD$14-L11,1),MOD($AD$14-L11,1)+MOD(M11-$AC$14,1))),IF(OR(M11<L11,M11>$AC$14),MOD($AD$14-L11,1)+MOD(M11-$AC$14,1),IF(M11<$AD$14,MOD(M11-L11,1),MOD($AD$14-L11,1))))) -> 0 | AB11: Heures sup. de 40 à 44H: | AC11: =PARAMETRES!F5 -> 0.20833333
F12: =MOD(E12-D12,1) -> 0 | H12: =IF(AND(D12<$AC$14,D12>=$AD$14),IF(E12>D12,IF(E12<=$AC$14,0,MOD(E12-$AC$14,1)),IF(E12>=$AD$14,MOD($AD$14-$AC$14,1),MOD(E12-$AC$14,1))),IF(D12>=$AC$14,IF(OR(E12>D12,E12<=$AD$14),MOD(E12-D12,1),IF(E12<=$AC$14,MOD($AD$14-D12,1),MOD($AD$14-D12,1)+MOD(E12-$AC$14,1))),IF(OR(E12<D12,E12>$AC$14),MOD($AD$14-D12,1)+MOD(E12-$AC$14,1),IF(E12<$AD$14,MOD(E12-D12,1),MOD($AD$14-D12,1))))) -> 0 | N12: =MOD(M12-L12,1) -> 0 | P12: =IF(AND(L12<$AC$14,L12>=$AD$14),IF(M12>L12,IF(M12<=$AC$14,0,MOD(M12-$AC$14,1)),IF(M12>=$AD$14,MOD($AD$14-$AC$14,1),MOD(M12-$AC$14,1))),IF(L12>=$AC$14,IF(OR(M12>L12,M12<=$AD$14),MOD(M12-L12,1),IF(M12<=$AC$14,MOD($AD$14-L12,1),MOD($AD$14-L12,1)+MOD(M12-$AC$14,1))),IF(OR(M12<L12,M12>$AC$14),MOD($AD$14-L12,1)+MOD(M12-$AC$14,1),IF(M12<$AD$14,MOD(M12-L12,1),MOD($AD$14-L12,1))))) -> 0 | AB12: Heures sup. de 45 à 48H: | AC12: =PARAMETRES!F6 -> 0.16666667
F13: =MOD(E13-D13,1) -> 0 | H13: =IF(AND(D13<$AC$14,D13>=$AD$14),IF(E13>D13,IF(E13<=$AC$14,0,MOD(E13-$AC$14,1)),IF(E13>=$AD$14,MOD($AD$14-$AC$14,1),MOD(E13-$AC$14,1))),IF(D13>=$AC$14,IF(OR(E13>D13,E13<=$AD$14),MOD(E13-D13,1),IF(E13<=$AC$14,MOD($AD$14-D13,1),MOD($AD$14-D13,1)+MOD(E13-$AC$14,1))),IF(OR(E13<D13,E13>$AC$14),MOD($AD$14-D13,1)+MOD(E13-$AC$14,1),IF(E13<$AD$14,MOD(E13-D13,1),MOD($AD$14-D13,1))))) -> 0 | N13: =MOD(M13-L13,1) -> 0 | P13: =IF(AND(L13<$AC$14,L13>=$AD$14),IF(M13>L13,IF(M13<=$AC$14,0,MOD(M13-$AC$14,1)),IF(M13>=$AD$14,MOD($AD$14-$AC$14,1),MOD(M13-$AC$14,1))),IF(L13>=$AC$14,IF(OR(M13>L13,M13<=$AD$14),MOD(M13-L13,1),IF(M13<=$AC$14,MOD($AD$14-L13,1),MOD($AD$14-L13,1)+MOD(M13-$AC$14,1))),IF(OR(M13<L13,M13>$AC$14),MOD($AD$14-L13,1)+MOD(M13-$AC$14,1),IF(M13<$AD$14,MOD(M13-L13,1),MOD($AD$14-L13,1))))) -> 0 | AB13: Heures sup. au-delà de 48H: | AC13: =PARAMETRES!F7 -> 0.375
B14: =C14 -> 42549 | C14: 42549 | F14: =MOD(E14-D14,1) -> 0 | G14: =SUM(F14:F19) -> 0 | H14: =IF(AND(D14<$AC$14,D14>=$AD$14),IF(E14>D14,IF(E14<=$AC$14,0,MOD(E14-$AC$14,1)),IF(E14>=$AD$14,MOD($AD$14-$AC$14,1),MOD(E14-$AC$14,1))),IF(D14>=$AC$14,IF(OR(E14>D14,E14<=$AD$14),MOD(E14-D14,1),IF(E14<=$AC$14,MOD($AD$14-D14,1),MOD($AD$14-D14,1)+MOD(E14-$AC$14,1))),IF(OR(E14<D14,E14>$AC$14),MOD($AD$14-D14,1)+MOD(E14-$AC$14,1),IF(E14<$AD$14,MOD(E14-D14,1),MOD($AD$14-D14,1))))) -> 0 | N14: =MOD(M14-L14,1) -> 0 | O14: =SUM(N14:N19) -> 0 | P14: =IF(AND(L14<$AC$14,L14>=$AD$14),IF(M14>L14,IF(M14<=$AC$14,0,MOD(M14-$AC$14,1)),IF(M14>=$AD$14,MOD($AD$14-$AC$14,1),MOD(M14-$AC$14,1))),IF(L14>=$AC$14,IF(OR(M14>L14,M14<=$AD$14),MOD(M14-L14,1),IF(M14<=$AC$14,MOD($AD$14-L14,1),MOD($AD$14-L14,1)+MOD(M14-$AC$14,1))),IF(OR(M14<L14,M14>$AC$14),MOD($AD$14-L14,1)+MOD(M14-$AC$14,1),IF(M14<$AD$14,MOD(M14-L14,1),MOD($AD$14-L14,1))))) -> 0 | AB14: Heures nuits de 21H à 6h: | AC14: =TIMEVALUE("21:00") -> 0.875 | AD14: =TIMEVALUE("6:00") -> 0.25
F15: =MOD(E15-D15,1) -> 0 | H15: =IF(AND(D15<$AC$14,D15>=$AD$14),IF(E15>D15,IF(E15<=$AC$14,0,MOD(E15-$AC$14,1)),IF(E15>=$AD$14,MOD($AD$14-$AC$14,1),MOD(E15-$AC$14,1))),IF(D15>=$AC$14,IF(OR(E15>D15,E15<=$AD$14),MOD(E15-D15,1),IF(E15<=$AC$14,MOD($AD$14-D15,1),MOD($AD$14-D15,1)+MOD(E15-$AC$14,1))),IF(OR(E15<D15,E15>$AC$14),MOD($AD$14-D15,1)+MOD(E15-$AC$14,1),IF(E15<$AD$14,MOD(E15-D15,1),MOD($AD$14-D15,1))))) -> 0 | N15: =MOD(M15-L15,1) -> 0 | P15: =IF(AND(L15<$AC$14,L15>=$AD$14),IF(M15>L15,IF(M15<=$AC$14,0,MOD(M15-$AC$14,1)),IF(M15>=$AD$14,MOD($AD$14-$AC$14,1),MOD(M15-$AC$14,1))),IF(L15>=$AC$14,IF(OR(M15>L15,M15<=$AD$14),MOD(M15-L15,1),IF(M15<=$AC$14,MOD($AD$14-L15,1),MOD($AD$14-L15,1)+MOD(M15-$AC$14,1))),IF(OR(M15<L15,M15>$AC$14),MOD($AD$14-L15,1)+MOD(M15-$AC$14,1),IF(M15<$AD$14,MOD(M15-L15,1),MOD($AD$14-L15,1))))) -> 0 | AB15: Heures jours de 6H à 20h:
F16: =MOD(E16-D16,1) -> 0 | H16: =IF(AND(D16<$AC$14,D16>=$AD$14),IF(E16>D16,IF(E16<=$AC$14,0,MOD(E16-$AC$14,1)),IF(E16>=$AD$14,MOD($AD$14-$AC$14,1),MOD(E16-$AC$14,1))),IF(D16>=$AC$14,IF(OR(E16>D16,E16<=$AD$14),MOD(E16-D16,1),IF(E16<=$AC$14,MOD($AD$14-D16,1),MOD($AD$14-D16,1)+MOD(E16-$AC$14,1))),IF(OR(E16<D16,E16>$AC$14),MOD($AD$14-D16,1)+MOD(E16-$AC$14,1),IF(E16<$AD$14,MOD(E16-D16,1),MOD($AD$14-D16,1))))) -> 0 | N16: =MOD(M16-L16,1) -> 0 | P16: =IF(AND(L16<$AC$14,L16>=$AD$14),IF(M16>L16,IF(M16<=$AC$14,0,MOD(M16-$AC$14,1)),IF(M16>=$AD$14,MOD($AD$14-$AC$14,1),MOD(M16-$AC$14,1))),IF(L16>=$AC$14,IF(OR(M16>L16,M16<=$AD$14),MOD(M16-L16,1),IF(M16<=$AC$14,MOD($AD$14-L16,1),MOD($AD$14-L16,1)+MOD(M16-$AC$14,1))),IF(OR(M16<L16,M16>$AC$14),MOD($AD$14-L16,1)+MOD(M16-$AC$14,1),IF(M16<$AD$14,MOD(M16-L16,1),MOD($AD$14-L16,1))))) -> 0 | AB16: Heures nuits de 21H à 6h feriers et dimanche à 100%: | AC16: =TIMEVALUE("21:00") -> 0.875 | AD16: =TIMEVALUE("6:00") -> 0.25
F17: =MOD(E17-D17,1) -> 0 | H17: =IF(AND(D17<$AC$14,D17>=$AD$14),IF(E17>D17,IF(E17<=$AC$14,0,MOD(E17-$AC$14,1)),IF(E17>=$AD$14,MOD($AD$14-$AC$14,1),MOD(E17-$AC$14,1))),IF(D17>=$AC$14,IF(OR(E17>D17,E17<=$AD$14),MOD(E17-D17,1),IF(E17<=$AC$14,MOD($AD$14-D17,1),MOD($AD$14-D17,1)+MOD(E17-$AC$14,1))),IF(OR(E17<D17,E17>$AC$14),MOD($AD$14-D17,1)+MOD(E17-$AC$14,1),IF(E17<$AD$14,MOD(E17-D17,1),MOD($AD$14-D17,1))))) -> 0 | N17: =MOD(M17-L17,1) -> 0 | P17: =IF(AND(L17<$AC$14,L17>=$AD$14),IF(M17>L17,IF(M17<=$AC$14,0,MOD(M17-$AC$14,1)),IF(M17>=$AD$14,MOD($AD$14-$AC$14,1),MOD(M17-$AC$14,1))),IF(L17>=$AC$14,IF(OR(M17>L17,M17<=$AD$14),MOD(M17-L17,1),IF(M17<=$AC$14,MOD($AD$14-L17,1),MOD($AD$14-L17,1)+MOD(M17-$AC$14,1))),IF(OR(M17<L17,M17>$AC$14),MOD($AD$14-L17,1)+MOD(M17-$AC$14,1),IF(M17<$AD$14,MOD(M17-L17,1),MOD($AD$14-L17,1))))) -> 0 | AB17: Heures jourd de 6H à 20h feriers et dimanche à 65%: | AC17: =TIMEVALUE("6:00") -> 0.25 | AD17: =TIMEVALUE("20:00") -> 0.83333333
F18: =MOD(E18-D18,1) -> 0 | H18: =IF(AND(D18<$AC$14,D18>=$AD$14),IF(E18>D18,IF(E18<=$AC$14,0,MOD(E18-$AC$14,1)),IF(E18>=$AD$14,MOD($AD$14-$AC$14,1),MOD(E18-$AC$14,1))),IF(D18>=$AC$14,IF(OR(E18>D18,E18<=$AD$14),MOD(E18-D18,1),IF(E18<=$AC$14,MOD($AD$14-D18,1),MOD($AD$14-D18,1)+MOD(E18-$AC$14,1))),IF(OR(E18<D18,E18>$AC$14),MOD($AD$14-D18,1)+MOD(E18-$AC$14,1),IF(E18<$AD$14,MOD(E18-D18,1),MOD($AD$14-D18,1))))) -> 0 | N18: =MOD(M18-L18,1) -> 0 | P18: =IF(AND(L18<$AC$14,L18>=$AD$14),IF(M18>L18,IF(M18<=$AC$14,0,MOD(M18-$AC$14,1)),IF(M18>=$AD$14,MOD($AD$14-$AC$14,1),MOD(M18-$AC$14,1))),IF(L18>=$AC$14,IF(OR(M18>L18,M18<=$AD$14),MOD(M18-L18,1),IF(M18<=$AC$14,MOD($AD$14-L18,1),MOD($AD$14-L18,1)+MOD(M18-$AC$14,1))),IF(OR(M18<L18,M18>$AC$14),MOD($AD$14-L18,1)+MOD(M18-$AC$14,1),IF(M18<$AD$14,MOD(M18-L18,1),MOD($AD$14-L18,1))))) -> 0
F19: =MOD(E19-D19,1) -> 0 | H19: =IF(AND(D19<$AC$14,D19>=$AD$14),IF(E19>D19,IF(E19<=$AC$14,0,MOD(E19-$AC$14,1)),IF(E19>=$AD$14,MOD($AD$14-$AC$14,1),MOD(E19-$AC$14,1))),IF(D19>=$AC$14,IF(OR(E19>D19,E19<=$AD$14),MOD(E19-D19,1),IF(E19<=$AC$14,MOD($AD$14-D19,1),MOD($AD$14-D19,1)+MOD(E19-$AC$14,1))),IF(OR(E19<D19,E19>$AC$14),MOD($AD$14-D19,1)+MOD(E19-$AC$14,1),IF(E19<$AD$14,MOD(E19-D19,1),MOD($AD$14-D19,1))))) -> 0 | N19: =MOD(M19-L19,1) -> 0 | P19: =IF(AND(L19<$AC$14,L19>=$AD$14),IF(M19>L19,IF(M19<=$AC$14,0,MOD(M19-$AC$14,1)),IF(M19>=$AD$14,MOD($AD$14-$AC$14,1),MOD(M19-$AC$14,1))),IF(L19>=$AC$14,IF(OR(M19>L19,M19<=$AD$14),MOD(M19-L19,1),IF(M19<=$AC$14,MOD($AD$14-L19,1),MOD($AD$14-L19,1)+MOD(M19-$AC$14,1))),IF(OR(M19<L19,M19>$AC$14),MOD($AD$14-L19,1)+MOD(M19-$AC$14,1),IF(M19<$AD$14,MOD(M19-L19,1),MOD($AD$14-L19,1))))) -> 0
B20: =C20 -> 42550 | C20: 42550 | F20: =MOD(E20-D20,1) -> 0 | G20: =SUM(F20:F25) -> 0 | H20: =IF(AND(D20<$AC$14,D20>=$AD$14),IF(E20>D20,IF(E20<=$AC$14,0,MOD(E20-$AC$14,1)),IF(E20>=$AD$14,MOD($AD$14-$AC$14,1),MOD(E20-$AC$14,1))),IF(D20>=$AC$14,IF(OR(E20>D20,E20<=$AD$14),MOD(E20-D20,1),IF(E20<=$AC$14,MOD($AD$14-D20,1),MOD($AD$14-D20,1)+MOD(E20-$AC$14,1))),IF(OR(E20<D20,E20>$AC$14),MOD($AD$14-D20,1)+MOD(E20-$AC$14,1),IF(E20<$AD$14,MOD(E20-D20,1),MOD($AD$14-D20,1))))) -> 0 | N20: =MOD(M20-L20,1) -> 0 | O20: =SUM(N20:N25) -> 0 | P20: =IF(AND(L20<$AC$14,L20>=$AD$14),IF(M20>L20,IF(M20<=$AC$14,0,MOD(M20-$AC$14,1)),IF(M20>=$AD$14,MOD($AD$14-$AC$14,1),MOD(M20-$AC$14,1))),IF(L20>=$AC$14,IF(OR(M20>L20,M20<=$AD$14),MOD(M20-L20,1),IF(M20<=$AC$14,MOD($AD$14-L20,1),MOD($AD$14-L20,1)+MOD(M20-$AC$14,1))),IF(OR(M20<L20,M20>$AC$14),MOD($AD$14-L20,1)+MOD(M20-$AC$14,1),IF(M20<$AD$14,MOD(M20-L20,1),MOD($AD$14-L20,1))))) -> 0
F21: =MOD(E21-D21,1) -> 0 | H21: =IF(AND(D21<$AC$14,D21>=$AD$14),IF(E21>D21,IF(E21<=$AC$14,0,MOD(E21-$AC$14,1)),IF(E21>=$AD$14,MOD($AD$14-$AC$14,1),MOD(E21-$AC$14,1))),IF(D21>=$AC$14,IF(OR(E21>D21,E21<=$AD$14),MOD(E21-D21,1),IF(E21<=$AC$14,MOD($AD$14-D21,1),MOD($AD$14-D21,1)+MOD(E21-$AC$14,1))),IF(OR(E21<D21,E21>$AC$14),MOD($AD$14-D21,1)+MOD(E21-$AC$14,1),IF(E21<$AD$14,MOD(E21-D21,1),MOD($AD$14-D21,1))))) -> 0 | N21: =MOD(M21-L21,1) -> 0 | P21: =IF(AND(L21<$AC$14,L21>=$AD$14),IF(M21>L21,IF(M21<=$AC$14,0,MOD(M21-$AC$14,1)),IF(M21>=$AD$14,MOD($AD$14-$AC$14,1),MOD(M21-$AC$14,1))),IF(L21>=$AC$14,IF(OR(M21>L21,M21<=$AD$14),MOD(M21-L21,1),IF(M21<=$AC$14,MOD($AD$14-L21,1),MOD($AD$14-L21,1)+MOD(M21-$AC$14,1))),IF(OR(M21<L21,M21>$AC$14),MOD($AD$14-L21,1)+MOD(M21-$AC$14,1),IF(M21<$AD$14,MOD(M21-L21,1),MOD($AD$14-L21,1))))) -> 0
F22: =MOD(E22-D22,1) -> 0 | H22: =IF(AND(D22<$AC$14,D22>=$AD$14),IF(E22>D22,IF(E22<=$AC$14,0,MOD(E22-$AC$14,1)),IF(E22>=$AD$14,MOD($AD$14-$AC$14,1),MOD(E22-$AC$14,1))),IF(D22>=$AC$14,IF(OR(E22>D22,E22<=$AD$14),MOD(E22-D22,1),IF(E22<=$AC$14,MOD($AD$14-D22,1),MOD($AD$14-D22,1)+MOD(E22-$AC$14,1))),IF(OR(E22<D22,E22>$AC$14),MOD($AD$14-D22,1)+MOD(E22-$AC$14,1),IF(E22<$AD$14,MOD(E22-D22,1),MOD($AD$14-D22,1))))) -> 0 | N22: =MOD(M22-L22,1) -> 0 | P22: =IF(AND(L22<$AC$14,L22>=$AD$14),IF(M22>L22,IF(M22<=$AC$14,0,MOD(M22-$AC$14,1)),IF(M22>=$AD$14,MOD($AD$14-$AC$14,1),MOD(M22-$AC$14,1))),IF(L22>=$AC$14,IF(OR(M22>L22,M22<=$AD$14),MOD(M22-L22,1),IF(M22<=$AC$14,MOD($AD$14-L22,1),MOD($AD$14-L22,1)+MOD(M22-$AC$14,1))),IF(OR(M22<L22,M22>$AC$14),MOD($AD$14-L22,1)+MOD(M22-$AC$14,1),IF(M22<$AD$14,MOD(M22-L22,1),MOD($AD$14-L22,1))))) -> 0
F23: =MOD(E23-D23,1) -> 0 | H23: =IF(AND(D23<$AC$14,D23>=$AD$14),IF(E23>D23,IF(E23<=$AC$14,0,MOD(E23-$AC$14,1)),IF(E23>=$AD$14,MOD($AD$14-$AC$14,1),MOD(E23-$AC$14,1))),IF(D23>=$AC$14,IF(OR(E23>D23,E23<=$AD$14),MOD(E23-D23,1),IF(E23<=$AC$14,MOD($AD$14-D23,1),MOD($AD$14-D23,1)+MOD(E23-$AC$14,1))),IF(OR(E23<D23,E23>$AC$14),MOD($AD$14-D23,1)+MOD(E23-$AC$14,1),IF(E23<$AD$14,MOD(E23-D23,1),MOD($AD$14-D23,1))))) -> 0 | N23: =MOD(M23-L23,1) -> 0 | P23: =IF(AND(L23<$AC$14,L23>=$AD$14),IF(M23>L23,IF(M23<=$AC$14,0,MOD(M23-$AC$14,1)),IF(M23>=$AD$14,MOD($AD$14-$AC$14,1),MOD(M23-$AC$14,1))),IF(L23>=$AC$14,IF(OR(M23>L23,M23<=$AD$14),MOD(M23-L23,1),IF(M23<=$AC$14,MOD($AD$14-L23,1),MOD($AD$14-L23,1)+MOD(M23-$AC$14,1))),IF(OR(M23<L23,M23>$AC$14),MOD($AD$14-L23,1)+MOD(M23-$AC$14,1),IF(M23<$AD$14,MOD(M23-L23,1),MOD($AD$14-L23,1))))) -> 0 | AB23: TOTAL MENSUEL RIMONA AIRIMA: | AJ23: TOTAL MENSUEL BASLY YANNICK:
F24: =MOD(E24-D24,1) -> 0 | H24: =IF(AND(D24<$AC$14,D24>=$AD$14),IF(E24>D24,IF(E24<=$AC$14,0,MOD(E24-$AC$14,1)),IF(E24>=$AD$14,MOD($AD$14-$AC$14,1),MOD(E24-$AC$14,1))),IF(D24>=$AC$14,IF(OR(E24>D24,E24<=$AD$14),MOD(E24-D24,1),IF(E24<=$AC$14,MOD($AD$14-D24,1),MOD($AD$14-D24,1)+MOD(E24-$AC$14,1))),IF(OR(E24<D24,E24>$AC$14),MOD($AD$14-D24,1)+MOD(E24-$AC$14,1),IF(E24<$AD$14,MOD(E24-D24,1),MOD($AD$14-D24,1))))) -> 0 | N24: =MOD(M24-L24,1) -> 0 | P24: =IF(AND(L24<$AC$14,L24>=$AD$14),IF(M24>L24,IF(M24<=$AC$14,0,MOD(M24-$AC$14,1)),IF(M24>=$AD$14,MOD($AD$14-$AC$14,1),MOD(M24-$AC$14,1))),IF(L24>=$AC$14,IF(OR(M24>L24,M24<=$AD$14),MOD(M24-L24,1),IF(M24<=$AC$14,MOD($AD$14-L24,1),MOD($AD$14-L24,1)+MOD(M24-$AC$14,1))),IF(OR(M24<L24,M24>$AC$14),MOD($AD$14-L24,1)+MOD(M24-$AC$14,1),IF(M24<$AD$14,MOD(M24-L24,1),MOD($AD$14-L24,1))))) -> 0
F25: =MOD(E25-D25,1) -> 0 | H25: =IF(AND(D25<$AC$14,D25>=$AD$14),IF(E25>D25,IF(E25<=$AC$14,0,MOD(E25-$AC$14,1)),IF(E25>=$AD$14,MOD($AD$14-$AC$14,1),MOD(E25-$AC$14,1))),IF(D25>=$AC$14,IF(OR(E25>D25,E25<=$AD$14),MOD(E25-D25,1),IF(E25<=$AC$14,MOD($AD$14-D25,1),MOD($AD$14-D25,1)+MOD(E25-$AC$14,1))),IF(OR(E25<D25,E25>$AC$14),MOD($AD$14-D25,1)+MOD(E25-$AC$14,1),IF(E25<$AD$14,MOD(E25-D25,1),MOD($AD$14-D25,1))))) -> 0 | N25: =MOD(M25-L25,1) -> 0 | P25: =IF(AND(L25<$AC$14,L25>=$AD$14),IF(M25>L25,IF(M25<=$AC$14,0,MOD(M25-$AC$14,1)),IF(M25>=$AD$14,MOD($AD$14-$AC$14,1),MOD(M25-$AC$14,1))),IF(L25>=$AC$14,IF(OR(M25>L25,M25<=$AD$14),MOD(M25-L25,1),IF(M25<=$AC$14,MOD($AD$14-L25,1),MOD($AD$14-L25,1)+MOD(M25-$AC$14,1))),IF(OR(M25<L25,M25>$AC$14),MOD($AD$14-L25,1)+MOD(M25-$AC$14,1),IF(M25<$AD$14,MOD(M25-L25,1),MOD($AD$14-L25,1))))) -> 0 | AC25: Total d'hrs mensuelles : | AD25: =G44+G86+G128+G170+G212 -> 3.8958333 | AK25: Total d'hrs mensuelles : | AL25: =O44+O86+O128+O170+O212 -> 0
B26: =C26 -> 42551 | C26: 42551 | F26: =MOD(E26-D26,1) -> 0 | G26: =SUM(F26:F31) -> 0 | H26: =IF(AND(D26<$AC$14,D26>=$AD$14),IF(E26>D26,IF(E26<=$AC$14,0,MOD(E26-$AC$14,1)),IF(E26>=$AD$14,MOD($AD$14-$AC$14,1),MOD(E26-$AC$14,1))),IF(D26>=$AC$14,IF(OR(E26>D26,E26<=$AD$14),MOD(E26-D26,1),IF(E26<=$AC$14,MOD($AD$14-D26,1),MOD($AD$14-D26,1)+MOD(E26-$AC$14,1))),IF(OR(E26<D26,E26>$AC$14),MOD($AD$14-D26,1)+MOD(E26-$AC$14,1),IF(E26<$AD$14,MOD(E26-D26,1),MOD($AD$14-D26,1))))) -> 0 | N26: =MOD(M26-L26,1) -> 0 | O26: =SUM(N26:N31) -> 0 | P26: =IF(AND(L26<$AC$14,L26>=$AD$14),IF(M26>L26,IF(M26<=$AC$14,0,MOD(M26-$AC$14,1)),IF(M26>=$AD$14,MOD($AD$14-$AC$14,1),MOD(M26-$AC$14,1))),IF(L26>=$AC$14,IF(OR(M26>L26,M26<=$AD$14),MOD(M26-L26,1),IF(M26<=$AC$14,MOD($AD$14-L26,1),MOD($AD$14-L26,1)+MOD(M26-$AC$14,1))),IF(OR(M26<L26,M26>$AC$14),MOD($AD$14-L26,1)+MOD(M26-$AC$14,1),IF(M26<$AD$14,MOD(M26-L26,1),MOD($AD$14-L26,1))))) -> 0 | AC26: Total heures complémentaires mensuel : | AD26: =G45+G87+G129+G171+G213 -> 0.91666667 | AK26: Total heures complémentaires mensuel : | AL26: =O45+O87+O129+O171+O213 -> 0
F27: =MOD(E27-D27,1) -> 0 | H27: =IF(AND(D27<$AC$14,D27>=$AD$14),IF(E27>D27,IF(E27<=$AC$14,0,MOD(E27-$AC$14,1)),IF(E27>=$AD$14,MOD($AD$14-$AC$14,1),MOD(E27-$AC$14,1))),IF(D27>=$AC$14,IF(OR(E27>D27,E27<=$AD$14),MOD(E27-D27,1),IF(E27<=$AC$14,MOD($AD$14-D27,1),MOD($AD$14-D27,1)+MOD(E27-$AC$14,1))),IF(OR(E27<D27,E27>$AC$14),MOD($AD$14-D27,1)+MOD(E27-$AC$14,1),IF(E27<$AD$14,MOD(E27-D27,1),MOD($AD$14-D27,1))))) -> 0 | N27: =MOD(M27-L27,1) -> 0 | P27: =IF(AND(L27<$AC$14,L27>=$AD$14),IF(M27>L27,IF(M27<=$AC$14,0,MOD(M27-$AC$14,1)),IF(M27>=$AD$14,MOD($AD$14-$AC$14,1),MOD(M27-$AC$14,1))),IF(L27>=$AC$14,IF(OR(M27>L27,M27<=$AD$14),MOD(M27-L27,1),IF(M27<=$AC$14,MOD($AD$14-L27,1),MOD($AD$14-L27,1)+MOD(M27-$AC$14,1))),IF(OR(M27<L27,M27>$AC$14),MOD($AD$14-L27,1)+MOD(M27-$AC$14,1),IF(M27<$AD$14,MOD(M27-L27,1),MOD($AD$14-L27,1))))) -> 0 | AC27: Total d'hrs sup. de 40 à 44h mensuel : | AD27: =G46+G88+G130+G172+G214 -> 0.22916667 | AK27: Total d'hrs sup. de 40 à 44h mensuel : | AL27: =O46+O88+O130+O172+O214 -> 0
F28: =MOD(E28-D28,1) -> 0 | H28: =IF(AND(D28<$AC$14,D28>=$AD$14),IF(E28>D28,IF(E28<=$AC$14,0,MOD(E28-$AC$14,1)),IF(E28>=$AD$14,MOD($AD$14-$AC$14,1),MOD(E28-$AC$14,1))),IF(D28>=$AC$14,IF(OR(E28>D28,E28<=$AD$14),MOD(E28-D28,1),IF(E28<=$AC$14,MOD($AD$14-D28,1),MOD($AD$14-D28,1)+MOD(E28-$AC$14,1))),IF(OR(E28<D28,E28>$AC$14),MOD($AD$14-D28,1)+MOD(E28-$AC$14,1),IF(E28<$AD$14,MOD(E28-D28,1),MOD($AD$14-D28,1))))) -> 0 | N28: =MOD(M28-L28,1) -> 0 | P28: =IF(AND(L28<$AC$14,L28>=$AD$14),IF(M28>L28,IF(M28<=$AC$14,0,MOD(M28-$AC$14,1)),IF(M28>=$AD$14,MOD($AD$14-$AC$14,1),MOD(M28-$AC$14,1))),IF(L28>=$AC$14,IF(OR(M28>L28,M28<=$AD$14),MOD(M28-L28,1),IF(M28<=$AC$14,MOD($AD$14-L28,1),MOD($AD$14-L28,1)+MOD(M28-$AC$14,1))),IF(OR(M28<L28,M28>$AC$14),MOD($AD$14-L28,1)+MOD(M28-$AC$14,1),IF(M28<$AD$14,MOD(M28-L28,1),MOD($AD$14-L28,1))))) -> 0 | AC28: Total d'hrs sup. de 45 à 48h mensuel : | AD28: =G47+G89+G131+G173+G215 -> 0.0625 | AK28: Total d'hrs sup. de 45 à 48h mensuel : | AL28: =O47+O89+O131+O173+O215 -> 0
F29: =MOD(E29-D29,1) -> 0 | H29: =IF(AND(D29<$AC$14,D29>=$AD$14),IF(E29>D29,IF(E29<=$AC$14,0,MOD(E29-$AC$14,1)),IF(E29>=$AD$14,MOD($AD$14-$AC$14,1),MOD(E29-$AC$14,1))),IF(D29>=$AC$14,IF(OR(E29>D29,E29<=$AD$14),MOD(E29-D29,1),IF(E29<=$AC$14,MOD($AD$14-D29,1),MOD($AD$14-D29,1)+MOD(E29-$AC$14,1))),IF(OR(E29<D29,E29>$AC$14),MOD($AD$14-D29,1)+MOD(E29-$AC$14,1),IF(E29<$AD$14,MOD(E29-D29,1),MOD($AD$14-D29,1))))) -> 0 | N29: =MOD(M29-L29,1) -> 0 | P29: =IF(AND(L29<$AC$14,L29>=$AD$14),IF(M29>L29,IF(M29<=$AC$14,0,MOD(M29-$AC$14,1)),IF(M29>=$AD$14,MOD($AD$14-$AC$14,1),MOD(M29-$AC$14,1))),IF(L29>=$AC$14,IF(OR(M29>L29,M29<=$AD$14),MOD(M29-L29,1),IF(M29<=$AC$14,MOD($AD$14-L29,1),MOD($AD$14-L29,1)+MOD(M29-$AC$14,1))),IF(OR(M29<L29,M29>$AC$14),MOD($AD$14-L29,1)+MOD(M29-$AC$14,1),IF(M29<$AD$14,MOD(M29-L29,1),MOD($AD$14-L29,1))))) -> 0 | AC29: Total d'hrs sup. au-delà de 48h mensuel : | AD29: =G48+G90+G132+G174+G216 -> 0 | AK29: Total d'hrs sup. au-delà de 48h mensuel : | AL29: =O48+O90+O132+O174+O216 -> 0
F30: =MOD(E30-D30,1) -> 0 | H30: =IF(AND(D30<$AC$14,D30>=$AD$14),IF(E30>D30,IF(E30<=$AC$14,0,MOD(E30-$AC$14,1)),IF(E30>=$AD$14,MOD($AD$14-$AC$14,1),MOD(E30-$AC$14,1))),IF(D30>=$AC$14,IF(OR(E30>D30,E30<=$AD$14),MOD(E30-D30,1),IF(E30<=$AC$14,MOD($AD$14-D30,1),MOD($AD$14-D30,1)+MOD(E30-$AC$14,1))),IF(OR(E30<D30,E30>$AC$14),MOD($AD$14-D30,1)+MOD(E30-$AC$14,1),IF(E30<$AD$14,MOD(E30-D30,1),MOD($AD$14-D30,1))))) -> 0 | N30: =MOD(M30-L30,1) -> 0 | P30: =IF(AND(L30<$AC$14,L30>=$AD$14),IF(M30>L30,IF(M30<=$AC$14,0,MOD(M30-$AC$14,1)),IF(M30>=$AD$14,MOD($AD$14-$AC$14,1),MOD(M30-$AC$14,1))),IF(L30>=$AC$14,IF(OR(M30>L30,M30<=$AD$14),MOD(M30-L30,1),IF(M30<=$AC$14,MOD($AD$14-L30,1),MOD($AD$14-L30,1)+MOD(M30-$AC$14,1))),IF(OR(M30<L30,M30>$AC$14),MOD($AD$14-L30,1)+MOD(M30-$AC$14,1),IF(M30<$AD$14,MOD(M30-L30,1),MOD($AD$14-L30,1))))) -> 0 | AC30: Total heures de 21H à 6H mensuel : | AD30: =G49+G91+G133+G175+G217 -> 0 | AK30: Total heures de 21H à 6H mensuel : | AL30: =O49+O91+O133+O175+O217 -> 0
F31: =MOD(E31-D31,1) -> 0 | H31: =IF(AND(D31<$AC$14,D31>=$AD$14),IF(E31>D31,IF(E31<=$AC$14,0,MOD(E31-$AC$14,1)),IF(E31>=$AD$14,MOD($AD$14-$AC$14,1),MOD(E31-$AC$14,1))),IF(D31>=$AC$14,IF(OR(E31>D31,E31<=$AD$14),MOD(E31-D31,1),IF(E31<=$AC$14,MOD($AD$14-D31,1),MOD($AD$14-D31,1)+MOD(E31-$AC$14,1))),IF(OR(E31<D31,E31>$AC$14),MOD($AD$14-D31,1)+MOD(E31-$AC$14,1),IF(E31<$AD$14,MOD(E31-D31,1),MOD($AD$14-D31,1))))) -> 0 | N31: =MOD(M31-L31,1) -> 0 | P31: =IF(AND(L31<$AC$14,L31>=$AD$14),IF(M31>L31,IF(M31<=$AC$14,0,MOD(M31-$AC$14,1)),IF(M31>=$AD$14,MOD($AD$14-$AC$14,1),MOD(M31-$AC$14,1))),IF(L31>=$AC$14,IF(OR(M31>L31,M31<=$AD$14),MOD(M31-L31,1),IF(M31<=$AC$14,MOD($AD$14-L31,1),MOD($AD$14-L31,1)+MOD(M31-$AC$14,1))),IF(OR(M31<L31,M31>$AC$14),MOD($AD$14-L31,1)+MOD(M31-$AC$14,1),IF(M31<$AD$14,MOD(M31-L31,1),MOD($AD$14-L31,1))))) -> 0 | AC31: Total heures Fériers et dimanches nuits de 21H à 6H mensuel : | AD31: =Y47+Y55+Y63+Y71+Y79+Y87+Y95 -> 0 | AK31: Total heures Fériers et dimanches nuits de 21H à 6H mensuel : | AL31: =AM47+AM55+AM63+AM71+AM79+AM87+AM95 -> 0
B32: =C32 -> 42552 | C32: 42552 | D32: 0.41666667 | E32: 0.47916667 | F32: =MOD(E32-D32,1) -> 0.0625 | G32: =SUM(F32:F37) -> 0.27083333 | H32: =IF(AND(D32<$AC$14,D32>=$AD$14),IF(E32>D32,IF(E32<=$AC$14,0,MOD(E32-$AC$14,1)),IF(E32>=$AD$14,MOD($AD$14-$AC$14,1),MOD(E32-$AC$14,1))),IF(D32>=$AC$14,IF(OR(E32>D32,E32<=$AD$14),MOD(E32-D32,1),IF(E32<=$AC$14,MOD($AD$14-D32,1),MOD($AD$14-D32,1)+MOD(E32-$AC$14,1))),IF(OR(E32<D32,E32>$AC$14),MOD($AD$14-D32,1)+MOD(E32-$AC$14,1),IF(E32<$AD$14,MOD(E32-D32,1),MOD($AD$14-D32,1))))) -> 0 | I32: Finition clim RDC | N32: =MOD(M32-L32,1) -> 0 | O32: =SUM(N32:N37) -> 0 | P32: =IF(AND(L32<$AC$14,L32>=$AD$14),IF(M32>L32,IF(M32<=$AC$14,0,MOD(M32-$AC$14,1)),IF(M32>=$AD$14,MOD($AD$14-$AC$14,1),MOD(M32-$AC$14,1))),IF(L32>=$AC$14,IF(OR(M32>L32,M32<=$AD$14),MOD(M32-L32,1),IF(M32<=$AC$14,MOD($AD$14-L32,1),MOD($AD$14-L32,1)+MOD(M32-$AC$14,1))),IF(OR(M32<L32,M32>$AC$14),MOD($AD$14-L32,1)+MOD(M32-$AC$14,1),IF(M32<$AD$14,MOD(M32-L32,1),MOD($AD$14-L32,1))))) -> 0 | AC32: Total heures Fériers et dimanches jours de 6H à 20H mensuel : | AD32: =Y46+Y54+Y62+Y70+Y78+Y86+Y94 -> 0 | AK32: Total heures Fériers et dimanches jours de 6H à 20H mensuel : | AL32: =AM46+AM54+AM62+AM70+AM78+AM86+AM94 -> 0
D33: 0.5 | E33: 0.70833333 | F33: =MOD(E33-D33,1) -> 0.20833333 | H33: =IF(AND(D33<$AC$14,D33>=$AD$14),IF(E33>D33,IF(E33<=$AC$14,0,MOD(E33-$AC$14,1)),IF(E33>=$AD$14,MOD($AD$14-$AC$14,1),MOD(E33-$AC$14,1))),IF(D33>=$AC$14,IF(OR(E33>D33,E33<=$AD$14),MOD(E33-D33,1),IF(E33<=$AC$14,MOD($AD$14-D33,1),MOD($AD$14-D33,1)+MOD(E33-$AC$14,1))),IF(OR(E33<D33,E33>$AC$14),MOD($AD$14-D33,1)+MOD(E33-$AC$14,1),IF(E33<$AD$14,MOD(E33-D33,1),MOD($AD$14-D33,1))))) -> 0 | I33: Finition clim RDC | N33: =MOD(M33-L33,1) -> 0 | P33: =IF(AND(L33<$AC$14,L33>=$AD$14),IF(M33>L33,IF(M33<=$AC$14,0,MOD(M33-$AC$14,1)),IF(M33>=$AD$14,MOD($AD$14-$AC$14,1),MOD(M33-$AC$14,1))),IF(L33>=$AC$14,IF(OR(M33>L33,M33<=$AD$14),MOD(M33-L33,1),IF(M33<=$AC$14,MOD($AD$14-L33,1),MOD($AD$14-L33,1)+MOD(M33-$AC$14,1))),IF(OR(M33<L33,M33>$AC$14),MOD($AD$14-L33,1)+MOD(M33-$AC$14,1),IF(M33<$AD$14,MOD(M33-L33,1),MOD($AD$14-L33,1))))) -> 0
F34: =MOD(E34-D34,1) -> 0 | H34: =IF(AND(D34<$AC$14,D34>=$AD$14),IF(E34>D34,IF(E34<=$AC$14,0,MOD(E34-$AC$14,1)),IF(E34>=$AD$14,MOD($AD$14-$AC$14,1),MOD(E34-$AC$14,1))),IF(D34>=$AC$14,IF(OR(E34>D34,E34<=$AD$14),MOD(E34-D34,1),IF(E34<=$AC$14,MOD($AD$14-D34,1),MOD($AD$14-D34,1)+MOD(E34-$AC$14,1))),IF(OR(E34<D34,E34>$AC$14),MOD($AD$14-D34,1)+MOD(E34-$AC$14,1),IF(E34<$AD$14,MOD(E34-D34,1),MOD($AD$14-D34,1))))) -> 0 | N34: =MOD(M34-L34,1) -> 0 | P34: =IF(AND(L34<$AC$14,L34>=$AD$14),IF(M34>L34,IF(M34<=$AC$14,0,MOD(M34-$AC$14,1)),IF(M34>=$AD$14,MOD($AD$14-$AC$14,1),MOD(M34-$AC$14,1))),IF(L34>=$AC$14,IF(OR(M34>L34,M34<=$AD$14),MOD(M34-L34,1),IF(M34<=$AC$14,MOD($AD$14-L34,1),MOD($AD$14-L34,1)+MOD(M34-$AC$14,1))),IF(OR(M34<L34,M34>$AC$14),MOD($AD$14-L34,1)+MOD(M34-$AC$14,1),IF(M34<$AD$14,MOD(M34-L34,1),MOD($AD$14-L34,1))))) -> 0
F35: =MOD(E35-D35,1) -> 0 | H35: =IF(AND(D35<$AC$14,D35>=$AD$14),IF(E35>D35,IF(E35<=$AC$14,0,MOD(E35-$AC$14,1)),IF(E35>=$AD$14,MOD($AD$14-$AC$14,1),MOD(E35-$AC$14,1))),IF(D35>=$AC$14,IF(OR(E35>D35,E35<=$AD$14),MOD(E35-D35,1),IF(E35<=$AC$14,MOD($AD$14-D35,1),MOD($AD$14-D35,1)+MOD(E35-$AC$14,1))),IF(OR(E35<D35,E35>$AC$14),MOD($AD$14-D35,1)+MOD(E35-$AC$14,1),IF(E35<$AD$14,MOD(E35-D35,1),MOD($AD$14-D35,1))))) -> 0 | N35: =MOD(M35-L35,1) -> 0 | P35: =IF(AND(L35<$AC$14,L35>=$AD$14),IF(M35>L35,IF(M35<=$AC$14,0,MOD(M35-$AC$14,1)),IF(M35>=$AD$14,MOD($AD$14-$AC$14,1),MOD(M35-$AC$14,1))),IF(L35>=$AC$14,IF(OR(M35>L35,M35<=$AD$14),MOD(M35-L35,1),IF(M35<=$AC$14,MOD($AD$14-L35,1),MOD($AD$14-L35,1)+MOD(M35-$AC$14,1))),IF(OR(M35<L35,M35>$AC$14),MOD($AD$14-L35,1)+MOD(M35-$AC$14,1),IF(M35<$AD$14,MOD(M35-L35,1),MOD($AD$14-L35,1))))) -> 0
F36: =MOD(E36-D36,1) -> 0 | H36: =IF(AND(D36<$AC$14,D36>=$AD$14),IF(E36>D36,IF(E36<=$AC$14,0,MOD(E36-$AC$14,1)),IF(E36>=$AD$14,MOD($AD$14-$AC$14,1),MOD(E36-$AC$14,1))),IF(D36>=$AC$14,IF(OR(E36>D36,E36<=$AD$14),MOD(E36-D36,1),IF(E36<=$AC$14,MOD($AD$14-D36,1),MOD($AD$14-D36,1)+MOD(E36-$AC$14,1))),IF(OR(E36<D36,E36>$AC$14),MOD($AD$14-D36,1)+MOD(E36-$AC$14,1),IF(E36<$AD$14,MOD(E36-D36,1),MOD($AD$14-D36,1))))) -> 0 | N36: =MOD(M36-L36,1) -> 0 | P36: =IF(AND(L36<$AC$14,L36>=$AD$14),IF(M36>L36,IF(M36<=$AC$14,0,MOD(M36-$AC$14,1)),IF(M36>=$AD$14,MOD($AD$14-$AC$14,1),MOD(M36-$AC$14,1))),IF(L36>=$AC$14,IF(OR(M36>L36,M36<=$AD$14),MOD(M36-L36,1),IF(M36<=$AC$14,MOD($AD$14-L36,1),MOD($AD$14-L36,1)+MOD(M36-$AC$14,1))),IF(OR(M36<L36,M36>$AC$14),MOD($AD$14-L36,1)+MOD(M36-$AC$14,1),IF(M36<$AD$14,MOD(M36-L36,1),MOD($AD$14-L36,1))))) -> 0
F37: =MOD(E37-D37,1) -> 0 | H37: =IF(AND(D37<$AC$14,D37>=$AD$14),IF(E37>D37,IF(E37<=$AC$14,0,MOD(E37-$AC$14,1)),IF(E37>=$AD$14,MOD($AD$14-$AC$14,1),MOD(E37-$AC$14,1))),IF(D37>=$AC$14,IF(OR(E37>D37,E37<=$AD$14),MOD(E37-D37,1),IF(E37<=$AC$14,MOD($AD$14-D37,1),MOD($AD$14-D37,1)+MOD(E37-$AC$14,1))),IF(OR(E37<D37,E37>$AC$14),MOD($AD$14-D37,1)+MOD(E37-$AC$14,1),IF(E37<$AD$14,MOD(E37-D37,1),MOD($AD$14-D37,1))))) -> 0 | N37: =MOD(M37-L37,1) -> 0 | P37: =IF(AND(L37<$AC$14,L37>=$AD$14),IF(M37>L37,IF(M37<=$AC$14,0,MOD(M37-$AC$14,1)),IF(M37>=$AD$14,MOD($AD$14-$AC$14,1),MOD(M37-$AC$14,1))),IF(L37>=$AC$14,IF(OR(M37>L37,M37<=$AD$14),MOD(M37-L37,1),IF(M37<=$AC$14,MOD($AD$14-L37,1),MOD($AD$14-L37,1)+MOD(M37-$AC$14,1))),IF(OR(M37<L37,M37>$AC$14),MOD($AD$14-L37,1)+MOD(M37-$AC$14,1),IF(M37<$AD$14,MOD(M37-L37,1),MOD($AD$14-L37,1))))) -> 0 | W37: HEURES SUP. FERIERS ET DIMANCHE RIMONA AIRIMA | AC37: HEURES SUP. FERIERS ET DIMANCHE BASLY YANNICK
B38: =C38 -> 42553 | C38: 42553 | D38: 0.39583333 | E38: 0.47916667 | F38: =MOD(E38-D38,1) -> 0.083333333 | G38: =SUM(F38:F43) -> 0.083333333 | H38: =IF(AND(D38<$AC$14,D38>=$AD$14),IF(E38>D38,IF(E38<=$AC$14,0,MOD(E38-$AC$14,1)),IF(E38>=$AD$14,MOD($AD$14-$AC$14,1),MOD(E38-$AC$14,1))),IF(D38>=$AC$14,IF(OR(E38>D38,E38<=$AD$14),MOD(E38-D38,1),IF(E38<=$AC$14,MOD($AD$14-D38,1),MOD($AD$14-D38,1)+MOD(E38-$AC$14,1))),IF(OR(E38<D38,E38>$AC$14),MOD($AD$14-D38,1)+MOD(E38-$AC$14,1),IF(E38<$AD$14,MOD(E38-D38,1),MOD($AD$14-D38,1))))) -> 0 | I38: Débouchage EVAC EV/EU | J38: MARINA TAINA | K38: PUNAAUIA | N38: =MOD(M38-L38,1) -> 0 | O38: =SUM(N38:N43) -> 0 | P38: =IF(AND(L38<$AC$14,L38>=$AD$14),IF(M38>L38,IF(M38<=$AC$14,0,MOD(M38-$AC$14,1)),IF(M38>=$AD$14,MOD($AD$14-$AC$14,1),MOD(M38-$AC$14,1))),IF(L38>=$AC$14,IF(OR(M38>L38,M38<=$AD$14),MOD(M38-L38,1),IF(M38<=$AC$14,MOD($AD$14-L38,1),MOD($AD$14-L38,1)+MOD(M38-$AC$14,1))),IF(OR(M38<L38,M38>$AC$14),MOD($AD$14-L38,1)+MOD(M38-$AC$14,1),IF(M38<$AD$14,MOD(M38-L38,1),MOD($AD$14-L38,1))))) -> 0 | W38: JUILLET | X38: Date | Y38: Debut | Z38: Fin | AA38: Hrs effect. Jours | AB38: Hrs effect. Nuits | AC38: JUILLET | AD38: Date | AE38: Debut | AF38: Fin | AG38: Hrs effect. Jours | AH38: Hrs effect. Nuits
F39: =MOD(E39-D39,1) -> 0 | H39: =IF(AND(D39<$AC$14,D39>=$AD$14),IF(E39>D39,IF(E39<=$AC$14,0,MOD(E39-$AC$14,1)),IF(E39>=$AD$14,MOD($AD$14-$AC$14,1),MOD(E39-$AC$14,1))),IF(D39>=$AC$14,IF(OR(E39>D39,E39<=$AD$14),MOD(E39-D39,1),IF(E39<=$AC$14,MOD($AD$14-D39,1),MOD($AD$14-D39,1)+MOD(E39-$AC$14,1))),IF(OR(E39<D39,E39>$AC$14),MOD($AD$14-D39,1)+MOD(E39-$AC$14,1),IF(E39<$AD$14,MOD(E39-D39,1),MOD($AD$14-D39,1))))) -> 0 | N39: =MOD(M39-L39,1) -> 0 | P39: =IF(AND(L39<$AC$14,L39>=$AD$14),IF(M39>L39,IF(M39<=$AC$14,0,MOD(M39-$AC$14,1)),IF(M39>=$AD$14,MOD($AD$14-$AC$14,1),MOD(M39-$AC$14,1))),IF(L39>=$AC$14,IF(OR(M39>L39,M39<=$AD$14),MOD(M39-L39,1),IF(M39<=$AC$14,MOD($AD$14-L39,1),MOD($AD$14-L39,1)+MOD(M39-$AC$14,1))),IF(OR(M39<L39,M39>$AC$14),MOD($AD$14-L39,1)+MOD(M39-$AC$14,1),IF(M39<$AD$14,MOD(M39-L39,1),MOD($AD$14-L39,1))))) -> 0
F40: =MOD(E40-D40,1) -> 0 | H40: =IF(AND(D40<$AC$14,D40>=$AD$14),IF(E40>D40,IF(E40<=$AC$14,0,MOD(E40-$AC$14,1)),IF(E40>=$AD$14,MOD($AD$14-$AC$14,1),MOD(E40-$AC$14,1))),IF(D40>=$AC$14,IF(OR(E40>D40,E40<=$AD$14),MOD(E40-D40,1),IF(E40<=$AC$14,MOD($AD$14-D40,1),MOD($AD$14-D40,1)+MOD(E40-$AC$14,1))),IF(OR(E40<D40,E40>$AC$14),MOD($AD$14-D40,1)+MOD(E40-$AC$14,1),IF(E40<$AD$14,MOD(E40-D40,1),MOD($AD$14-D40,1))))) -> 0 | N40: =MOD(M40-L40,1) -> 0 | P40: =IF(AND(L40<$AC$14,L40>=$AD$14),IF(M40>L40,IF(M40<=$AC$14,0,MOD(M40-$AC$14,1)),IF(M40>=$AD$14,MOD($AD$14-$AC$14,1),MOD(M40-$AC$14,1))),IF(L40>=$AC$14,IF(OR(M40>L40,M40<=$AD$14),MOD(M40-L40,1),IF(M40<=$AC$14,MOD($AD$14-L40,1),MOD($AD$14-L40,1)+MOD(M40-$AC$14,1))),IF(OR(M40<L40,M40>$AC$14),MOD($AD$14-L40,1)+MOD(M40-$AC$14,1),IF(M40<$AD$14,MOD(M40-L40,1),MOD($AD$14-L40,1))))) -> 0 | W40: =X40 -> 42554 | X40: 42554 | AA40: =MOD(Z40-Y40,1) -> 0 | AB40: =IF(AND(Y40<$AC$16,Y40>=$AD$16),IF(Z40>Y40,IF(Z40<=$AC$16,0,MOD(Z40-$AC$16,1)),IF(Z40>=$AD$16,MOD($AD$16-$AC$16,1),MOD(Z40-$AC$16,1))),IF(Y40>=$AC$16,IF(OR(Z40>Y40,Y40<=$AD$16),MOD(Z40-Y40,1),IF(Z40<=$AC$16,MOD($AD$16-Y40,1),MOD($AD$16-Y40,1)+MOD(Z40-$AC$16,1))),IF(OR(Z40<Y40,Z40>$AC$16),MOD($AD$16-Y40,1)+MOD(Z40-$AC$16,1),IF(Z40<$AD$16,MOD(Z40-Y40,1),MOD($AD$16-Y40,1))))) -> 0 | AC40: =AD40 -> 42554 | AD40: 42554 | AG40: =MOD(AF40-AE40,1) -> 0 | AH40: =IF(AND(AE40<$AC$16,AE40>=$AD$16),IF(AF40>AE40,IF(AF40<=$AC$16,0,MOD(AF40-$AC$16,1)),IF(AF40>=$AD$16,MOD($AD$16-$AC$16,1),MOD(AF40-$AC$16,1))),IF(AE40>=$AC$16,IF(OR(AF40>AE40,AE40<=$AD$16),MOD(AF40-AE40,1),IF(AF40<=$AC$16,MOD($AD$16-AE40,1),MOD($AD$16-AE40,1)+MOD(AF40-$AC$16,1))),IF(OR(AF40<AE40,AF40>$AC$16),MOD($AD$16-AE40,1)+MOD(AF40-$AC$16,1),IF(AF40<$AD$16,MOD(AF40-AE40,1),MOD($AD$16-AE40,1))))) -> 0
F41: =MOD(E41-D41,1) -> 0 | H41: =IF(AND(D41<$AC$14,D41>=$AD$14),IF(E41>D41,IF(E41<=$AC$14,0,MOD(E41-$AC$14,1)),IF(E41>=$AD$14,MOD($AD$14-$AC$14,1),MOD(E41-$AC$14,1))),IF(D41>=$AC$14,IF(OR(E41>D41,E41<=$AD$14),MOD(E41-D41,1),IF(E41<=$AC$14,MOD($AD$14-D41,1),MOD($AD$14-D41,1)+MOD(E41-$AC$14,1))),IF(OR(E41<D41,E41>$AC$14),MOD($AD$14-D41,1)+MOD(E41-$AC$14,1),IF(E41<$AD$14,MOD(E41-D41,1),MOD($AD$14-D41,1))))) -> 0 | N41: =MOD(M41-L41,1) -> 0 | P41: =IF(AND(L41<$AC$14,L41>=$AD$14),IF(M41>L41,IF(M41<=$AC$14,0,MOD(M41-$AC$14,1)),IF(M41>=$AD$14,MOD($AD$14-$AC$14,1),MOD(M41-$AC$14,1))),IF(L41>=$AC$14,IF(OR(M41>L41,M41<=$AD$14),MOD(M41-L41,1),IF(M41<=$AC$14,MOD($AD$14-L41,1),MOD($AD$14-L41,1)+MOD(M41-$AC$14,1))),IF(OR(M41<L41,M41>$AC$14),MOD($AD$14-L41,1)+MOD(M41-$AC$14,1),IF(M41<$AD$14,MOD(M41-L41,1),MOD($AD$14-L41,1))))) -> 0 | AA41: =MOD(Z41-Y41,1) -> 0 | AB41: =IF(AND(Y41<$AC$16,Y41>=$AD$16),IF(Z41>Y41,IF(Z41<=$AC$16,0,MOD(Z41-$AC$16,1)),IF(Z41>=$AD$16,MOD($AD$16-$AC$16,1),MOD(Z41-$AC$16,1))),IF(Y41>=$AC$16,IF(OR(Z41>Y41,Y41<=$AD$16),MOD(Z41-Y41,1),IF(Z41<=$AC$16,MOD($AD$16-Y41,1),MOD($AD$16-Y41,1)+MOD(Z41-$AC$16,1))),IF(OR(Z41<Y41,Z41>$AC$16),MOD($AD$16-Y41,1)+MOD(Z41-$AC$16,1),IF(Z41<$AD$16,MOD(Z41-Y41,1),MOD($AD$16-Y41,1))))) -> 0 | AG41: =MOD(AF41-AE41,1) -> 0 | AH41: =IF(AND(AE41<$AC$16,AE41>=$AD$16),IF(AF41>AE41,IF(AF41<=$AC$16,0,MOD(AF41-$AC$16,1)),IF(AF41>=$AD$16,MOD($AD$16-$AC$16,1),MOD(AF41-$AC$16,1))),IF(AE41>=$AC$16,IF(OR(AF41>AE41,AE41<=$AD$16),MOD(AF41-AE41,1),IF(AF41<=$AC$16,MOD($AD$16-AE41,1),MOD($AD$16-AE41,1)+MOD(AF41-$AC$16,1))),IF(OR(AF41<AE41,AF41>$AC$16),MOD($AD$16-AE41,1)+MOD(AF41-$AC$16,1),IF(AF41<$AD$16,MOD(AF41-AE41,1),MOD($AD$16-AE41,1))))) -> 0
F42: =MOD(E42-D42,1) -> 0 | H42: =IF(AND(D42<$AC$14,D42>=$AD$14),IF(E42>D42,IF(E42<=$AC$14,0,MOD(E42-$AC$14,1)),IF(E42>=$AD$14,MOD($AD$14-$AC$14,1),MOD(E42-$AC$14,1))),IF(D42>=$AC$14,IF(OR(E42>D42,E42<=$AD$14),MOD(E42-D42,1),IF(E42<=$AC$14,MOD($AD$14-D42,1),MOD($AD$14-D42,1)+MOD(E42-$AC$14,1))),IF(OR(E42<D42,E42>$AC$14),MOD($AD$14-D42,1)+MOD(E42-$AC$14,1),IF(E42<$AD$14,MOD(E42-D42,1),MOD($AD$14-D42,1))))) -> 0 | N42: =MOD(M42-L42,1) -> 0 | P42: =IF(AND(L42<$AC$14,L42>=$AD$14),IF(M42>L42,IF(M42<=$AC$14,0,MOD(M42-$AC$14,1)),IF(M42>=$AD$14,MOD($AD$14-$AC$14,1),MOD(M42-$AC$14,1))),IF(L42>=$AC$14,IF(OR(M42>L42,M42<=$AD$14),MOD(M42-L42,1),IF(M42<=$AC$14,MOD($AD$14-L42,1),MOD($AD$14-L42,1)+MOD(M42-$AC$14,1))),IF(OR(M42<L42,M42>$AC$14),MOD($AD$14-L42,1)+MOD(M42-$AC$14,1),IF(M42<$AD$14,MOD(M42-L42,1),MOD($AD$14-L42,1))))) -> 0 | AA42: =MOD(Z42-Y42,1) -> 0 | AB42: =IF(AND(Y42<$AC$16,Y42>=$AD$16),IF(Z42>Y42,IF(Z42<=$AC$16,0,MOD(Z42-$AC$16,1)),IF(Z42>=$AD$16,MOD($AD$16-$AC$16,1),MOD(Z42-$AC$16,1))),IF(Y42>=$AC$16,IF(OR(Z42>Y42,Y42<=$AD$16),MOD(Z42-Y42,1),IF(Z42<=$AC$16,MOD($AD$16-Y42,1),MOD($AD$16-Y42,1)+MOD(Z42-$AC$16,1))),IF(OR(Z42<Y42,Z42>$AC$16),MOD($AD$16-Y42,1)+MOD(Z42-$AC$16,1),IF(Z42<$AD$16,MOD(Z42-Y42,1),MOD($AD$16-Y42,1))))) -> 0 | AG42: =MOD(AF42-AE42,1) -> 0 | AH42: =IF(AND(AE42<$AC$16,AE42>=$AD$16),IF(AF42>AE42,IF(AF42<=$AC$16,0,MOD(AF42-$AC$16,1)),IF(AF42>=$AD$16,MOD($AD$16-$AC$16,1),MOD(AF42-$AC$16,1))),IF(AE42>=$AC$16,IF(OR(AF42>AE42,AE42<=$AD$16),MOD(AF42-AE42,1),IF(AF42<=$AC$16,MOD($AD$16-AE42,1),MOD($AD$16-AE42,1)+MOD(AF42-$AC$16,1))),IF(OR(AF42<AE42,AF42>$AC$16),MOD($AD$16-AE42,1)+MOD(AF42-$AC$16,1),IF(AF42<$AD$16,MOD(AF42-AE42,1),MOD($AD$16-AE42,1))))) -> 0
...

Sheet PARAMETRES
D1: Horaire | E1: Désignations | F1: Nombre d'hrs | G1: Tarifs % | H1: Colonne4 | M1: POSTES | N1: NOMS
D2: Heures de base semaine | F2: 1.625 | M2: EMPLOYE: | N2: AIRIMA RIMONA
D3: Heures de base Partielles | F3: 1.1666667 | M3: EMPLOYE: | N3: BASLY YANNICK
D4: Heures complémentaires | F4: 0.45833333 | M4: PRESTATAIRES:
D5: De 40 à 44h hebdo : | F5: 0.20833333 | G5: 12.5 | M5: GERANT: | N5: SAINT-DENIS PAUL
D6: De 45 à 48h hebdo : | F6: 0.16666667 | G6: 25
D7: Au-delà de 48h hebdo : | F7: 0.375 | G7: 50
D8: De 21h à 6h | F8: 0.41666667 | G8: 75
D9: Férié et dim. Jour | E9: De 6h à 20h | F9: 0.58333333 | G9: 65
D10: Férié et Dim. Nuit | E10: De 21h à 6h | F10: 0.41666667 | G10: 100
C22: DESIGNATIONS | D22: DATE | E22: NOM
C23: FERIER | D23: 42565 | E23: Fête Nationale
C24: FERIER | D24: 42597 | E24: Assomption
C25: FERIER | D25: 42685 | E25: Mort pour la patrie
C26: FERIER | D26: 42729 | E26: Noël
C27: FERIER | D27: 42736 | E27: Nouvel an
C28: FERIER | D28: 42856 | E28: Fête du travail
C29: FERIER | D29: 42860 | E29: Ascension
C30: FERIER | D30: 42915 | E30: Fête de l'autonomie
G211: =IF(G209-PARAMETRES!F2<0,0,IF(G209-$P$5>$P$11,$P$11,G209-PARAMETRES!F2)) -> 0
