Workbook
Name DebN: TIMEVALUE("22:00")
Name FinN: TIMEVALUE("06:00")

Sheet  HRS EFF. EMPLOYES JUILLET
B1: SARL Pacific Services Company
Y2: REFERENCES:
B5: 42552 | D5: AIRIMA RIMONA | L5: BASLY YANNICK | Z5: Heures base par sem. : | AC5: =PARAMETRES!F2 -> 1.625
B6: JUILLET | C6: Date | D6: Début | E6: Fin | F6: Hrs effect. Jrs | G6: Total journée | H6: Nbres heures de nuits | I6: CHANTIER | J6: CLIENT | K6: VILLE | L6: Début | M6: Fin | N6: Hrs effect. Jrs | O6: Total journée | P6: Nbres heures de nuits | Q6: CHANTIER | R6: CLIENT | S6: VILLE | Z6: Heures employés/sem. : | AC6: =PARAMETRES!F3 -> 1.1666667
Z7: Heures compl. : | AC7: =PARAMETRES!F4 -> 0.45833333
B8: =C8 -> 42548 | C8: 42548 | F8: =MOD(E8-D8,1) -> 0 | G8: =SUM(F8:F13) -> 0 | H8: =IF(AND(D8<$AC$14,D8>=$AD$14),IF(E8>D8,IF(E8<=$AC$14,0,MOD(E8-$AC$14,1)),IF(E8>=$AD$14,MOD($AD$14-$AC$14,1),MOD(E8-$AC$14,1))),IF(D8>=$AC$14,IF(OR(E8>D8,E8<=$AD$14),MOD(E8-D8,1),IF(E8<=$AC$14,MOD($AD$14-D8,1),MOD($AD$14-D8,1)+MOD(E8-$AC$14,1))),IF(OR(E8<D8,E8>$AC$14),MOD($AD$14-D8,1)+MOD(E8-$AC$14,1),IF(E8<$AD$14,MOD(E8-D8,1),MOD($AD$14-D8,1))))) -> 0 | N8: =MOD(M8-L8,1) -> 0 | O8: =SUM(N8:N13) -> 0 | P8: =IF(AND(L8<$AC$14,L8>=$AD$14),IF(M8>L8,IF(M8<=$AC$14,0,MOD(M8-$AC$14,1)),IF(M8>=$AD$14,MOD($AD$14-$AC$14,1),MOD(M8-$AC$14,1))),IF(L8>=$AC$14,IF(OR(M8>L8,M8<=$AD$14),MOD(M8-L8,1),IF(M8<=$AC$14,MOD($AD$14-L8,1),MOD($AD$14-L8,1)+MOD(M8-$AC$14,1))),IF(OR(M8<L8,M8>$AC$14),MOD($AD$14-L8,1)+MOD(M8-$AC$14,1),IF(M8<$AD$14,MOD(M8-L8,1),MOD($AD$14-L8,1))))) -> 0 | AB8: heures/jrs: | AC8: 0.25
F9: =MOD(E9-D9,1) -> 0 | H9: =IF(AND(D9<$AC$14,D9>=$AD$14),IF(E9>D9,IF(E9<=$AC$14,0,MOD(E9-$AC$14,1)),IF(E9>=$AD$14,MOD($AD$14-$AC$14,1),MOD(E9-$AC$14,1))),IF(D9>=$AC$14,IF(OR(E9>D9,E9<=$AD$14),MOD(E9-D9,1),IF(E9<=$AC$14,MOD($AD$14-D9,1),MOD($AD$14-D9,1)+MOD(E9-$AC$14,1))),IF(OR(E9<D9,E9>$AC$14),MOD($AD$14-D9,1)+MOD(E9-$AC$14,1),IF(E9<$AD$14,MOD(E9-D9,1),MOD($AD$14-D9,1))))) -> 0 | N9: =MOD(M9-L9,1) -> 0 | P9: =IF(AND(L9<$AC$14,L9>=$AD$14),IF(M9>L9,IF(M9<=$AC$14,0,MOD(M9-$AC$14,1)),IF(M9>=$AD$14,MOD($AD$14-$AC$14,1),MOD(M9-$AC$14,1))),IF(L9>=$AC$14,IF(OR(M9>L9,M9<=$AD$14),MOD(M9-L9,1),IF(M9<=$AC$14,MOD($AD$14-L9,1),MOD($AD$14-L9,1)+MOD(M9-$AC$14,1))),IF(OR(M9<L9,M9>$AC$14),MOD($AD$14-L9,1)+MOD(M9-$AC$14,1),IF(M9<$AD$14,MOD(M9-L9,1),MOD($AD$14-L9,1))))) -> 0 | AB9: hrs/vend.: | AC9: 0.16666667
F10: =MOD(E10-D10,1) -> 0 | H10: =IF(AND(D10<$AC$14,D10>=$AD$14),IF(E10>D10,IF(E10<=$AC$14,0,MOD(E10-$AC$14,1)),IF(E10>=$AD$14,MOD($AD$14-$AC$14,1),MOD(E10-$AC$14,1))),IF(D10>=$AC$14,IF(OR(E10>D10,E10<=$AD$14),MOD(E10-D10,1),IF(E10<=$AC$14,MOD($AD$14-D10,1),MOD($AD$14-D10,1)+MOD(E10-$AC$14,1))),IF(OR(E10<D10,E10>$AC$14),MOD($AD$14-D10,1)+MOD(E10-$AC$14,1),IF(E10<$AD$14,MOD(E10-D10,1),MOD($AD$14-D10,1))))) -> 0 | N10: =MOD(M10-L10,1) -> 0 | P10: =IF(AND(L10<$AC$14,L10>=$AD$14),IF(M10>L10,IF(M10<=$AC$14,0,MOD(M10-$AC$14,1)),IF(M10>=$AD$14,MOD($AD$14-$AC$14,1),MOD(M10-$AC$14,1))),IF(L10>=$AC$14,IF(OR(M10>L10,M10<=$AD$14),MOD(M10-L10,1),IF(M10<=$AC$14,MOD($AD$14-L10,1),MOD($AD$14-L10,1)+MOD(M10-$AC$14,1))),IF(OR(M10<L10,M10>$AC$14),MOD($AD$14-L10,1)+MOD(M10-$AC$14,1),IF(M10<$AD$14,MOD(M10-L10,1),MOD($AD$14-L10,1))))) -> 0
F11: =MOD(E11-D11,1) -> 0 | H11: =IF(AND(D11<$AC$14,D11>=$AD$14),IF(E11>D11,IF(E11<=$AC$14,0,MOD(E11-$AC$14,1)),IF(E11>=$AD$14,MOD($AD$14-$AC$14,1),MOD(E11-$AC$14,1))),IF(D11>=$AC$14,IF(OR(E11>D11,E11<=$AD$14),MOD(E11-D11,1),IF(E11<=$AC$14,MOD($AD$14-D11,1),MOD($AD$14-D11,1)+MOD(E11-$AC$14,1))),IF(OR(E11<D11,E11>$AC$14),MOD($AD$14-D11,1)+MOD(E11-$AC$14,1),IF(E11<$AD$14,MOD(E11-D11,1),MOD($AD$14-D11,1))))) -> 0 | N11: =MOD(M11-L11,1) -> 0 | P11: =IF(AND(L11<$AC$14,L11>=$AD$14),IF(M11>L11,IF(M11<=$AC$14,0,MOD(M11-$AC$14,1)),IF(M11>=$AD$14,MOD($AD$14-$AC$14,1),MOD(M11-$AC$14,1))),IF(L11>=$AC$14,IF(OR(M11>L11,M11<=$AD$14),MOD(M11-L11,1),IF(M11<=$AC$14,MOD($AD$14-L11,1),MOD($AD$14-L11,1)+MOD(M11-$AC$14,1))),IF(OR(M11<L11,M11>$AC$14),MOD($AD$14-L11,1)+MOD(M11-$AC$14,1),IF(M11<$AD$14,MOD(M11-L11,1),MOD($AD$14-L11,1))))) -> 0 | AB11: Heures sup. de 40 à 44H: | AC11: =PARAMETRES!F5 -> 0.20833333
F12: =MOD(E12-D12,1) -> 0 | H12: =IF(AND(D12<$AC$14,D12>=$AD$14),IF(E12>D12,IF(E12<=$AC$14,0,MOD(E12-$AC$14,1)),IF(E12>=$AD$14,MOD($AD$14-$AC$14,1),MOD(E12-$AC$14,1))),IF(D12>=$AC$14,IF(OR(E12>D12,E12<=$AD$14),MOD(E12-D12,1),IF(E12<=$AC$14,MOD($AD$14-D12,1),MOD($AD$14-D12,1)+MOD(E12-$AC$14,1))),IF(OR(E12<D12,E12>$AC$14),MOD($AD$14-D12,1)+MOD(E12-$AC$14,1),IF(E12<$AD$14,MOD(E12-D12,1),MOD($AD$14-D12,1))))) -> 0 | N12: =MOD(M12-L12,1) -> 0 | P12: =IF(AND(L12<$AC$14,L12>=$AD$14),IF(M12>L12,IF(M12<=$AC$14,0,MOD(M12-$AC$14,1)),IF(M12>=$AD$14,MOD($AD$14-$AC$14,1),MOD(M12-$AC$14,1))),IF(L12>=$AC$14,IF(OR(M12>L12,M12<=$AD$14),MOD(M12-L12,1),IF(M12<=$AC$14,MOD($AD$14-L12,1),MOD($AD$14-L12,1)+MOD(M12-$AC$14,1))),IF(OR(M12<L12,M12>$AC$14),MOD($AD$14-L12,1)+MOD(M12-$AC$14,1),IF(M12<$AD$14,MOD(M12-L12,1),MOD($AD$14-L12,1))))) -> 0 | AB12: Heures sup. de 45 à 48H: | AC12: =PARAMETRES!F6 -> 0.16666667
F13: =MOD(E13-D13,1) -> 0 | H13: =IF(AND(D13<$AC$14,D13>=$AD$14),IF(E13>D13,IF(E13<=$AC$14,0,MOD(E13-$AC$14,1)),IF(E13>=$AD$14,MOD($AD$14-$AC$14,1),MOD(E13-$AC$14,1))),IF(D13>=$AC$14,IF(OR(E13>D13,E13<=$AD$14),MOD(E13-D13,1),IF(E13<=$AC$14,MOD($AD$14-D13,1),MOD($AD$14-D13,1)+MOD(E13-$AC$14,1))),IF(OR(E13<D13,E13>$AC$14),MOD($AD$14-D13,1)+MOD(E13-$AC$14,1),IF(E13<$AD$14,MOD(E13-D13,1),MOD($AD$14-D13,1))))) -> 0 | N13: =MOD(M13-L13,1) -> 0 | P13: =IF(AND(L13<$AC$14,L13>=$AD$14),IF(M13>L13,IF(M13<=$AC$14,0,MOD(M13-$AC$14,1)),IF(M13>=$AD$14,MOD($AD$14-$AC$14,1),MOD(M13-$AC$14,1))),IF(L13>=$AC$14,IF(OR(M13>L13,M13<=$AD$14),MOD(M13-L13,1),IF(M13<=$AC$14,MOD($AD$14-L13,1),MOD($AD$14-L13,1)+MOD(M13-$AC$14,1))),IF(OR(M13<L13,M13>$AC$14),MOD($AD$14-L13,1)+MOD(M13-$AC$14,1),IF(M13<$AD$14,MOD(M13-L13,1),MOD($AD$14-L13,1))))) -> 0 | AB13: Heures sup. au-delà de 48H: | AC13: =PARAMETRES!F7 -> 0.375
B14: =C14 -> 42549 | C14: 42549 | F14: =MOD(E14-D14,1) -> 0 | G14: =SUM(F14:F19) -> 0 | H14: =IF(AND(D14<$AC$14,D14>=$AD$14),IF(E14>D14,IF(E14<=$AC$14,0,MOD(E14-$AC$14,1)),IF(E14>=$AD$14,MOD($AD$14-$AC$14,1),MOD(E14-$AC$14,1))),IF(D14>=$AC$14,IF(OR(E14>D14,E14<=$AD$14),MOD(E14-D14,1),IF(E14<=$AC$14,MOD($AD$14-D14,1),MOD($AD$14-D14,1)+MOD(E14-$AC$14,1))),IF(OR(E14<D14,E14>$AC$14),MOD($AD$14-D14,1)+MOD(E14-$AC$14,1),IF(E14<$AD$14,MOD(E14-D14,1),MOD($AD$14-D14,1))))) -> 0 | N14: =MOD(M14-L14,1) -> 0 | O14: =SUM(N14:N19) -> 0 | P14: =IF(AND(L14<$AC$14,L14>=$AD$14),IF(M14>L14,IF(M14<=$AC$14,0,MOD(M14-$AC$14,1)),IF(M14>=$AD$14,MOD($AD$14-$AC$14,1),MOD(M14-$AC$14,1))),IF(L14>=$AC$14,IF(OR(M14>L14,M14<=$AD$14),MOD(M14-L14,1),IF(M14<=$AC$14,MOD($AD$14-L14,1),MOD($AD$14-L14,1)+MOD(M14-$AC$14,1))),IF(OR(M14<L14,M14>$AC$14),MOD($AD$14-L14,1)+MOD(M14-$AC$14,1),IF(M14<$AD$14,MOD(M14-L14,1),MOD($AD$14-L14,1))))) -> 0 | AB14: Heures nuits de 21H à 6h: | AC14: =TIMEVALUE("21:00") -> 0.875 | AD14: =TIMEVALUE("6:00") -> 0.25
F15: =MOD(E15-D15,1) -> 0 | H15: =IF(AND(D15<$AC$14,D15>=$AD$14),IF(E15>D15,IF(E15<=$AC$14,0,MOD(E15-$AC$14,1)),IF(E15>=$AD$14,MOD($AD$14-$AC$14,1),MOD(E15-$AC$14,1))),IF(D15>=$AC$14,IF(OR(E15>D15,E15<=$AD$14),MOD(E15-D15,1),IF(E15<=$AC$14,MOD($AD$14-D15,1),MOD($AD$14-D15,1)+MOD(E15-$AC$14,1))),IF(OR(E15<D15,E15>$AC$14),MOD($AD$14-D15,1)+MOD(E15-$AC$14,1),IF(E15<$AD$14,MOD(E15-D15,1),MOD($AD$14-D15,1))))) -> 0 | N15: =MOD(M15-L15,1) -> 0 | P15: =IF(AND(L15<$AC$14,L15>=$AD$14),IF(M15>L15,IF(M15<=$AC$14,0,MOD(M15-$AC$14,1)),IF(M15>=$AD$14,MOD($AD$14-$AC$14,1),MOD(M15-$AC$14,1))),IF(L15>=$AC$14,IF(OR(M15>L15,M15<=$AD$14),MOD(M15-L15,1),IF(M15<=$AC$14,MOD($AD$14-L15,1),MOD($AD$14-L15,1)+MOD(M15-$AC$14,1))),IF(OR(M15<L15,M15>$AC$14),MOD($AD$14-L15,1)+MOD(M15-$AC$14,1),IF(M15<$AD$14,MOD(M15-L15,1),MOD($AD$14-L15,1))))) -> 0 | AB15: Heures jours de 6H à 20h:
F16: =MOD(E16-D16,1) -> 0 | H16: =IF(AND(D16<$AC$14,D16>=$AD$14),IF(E16>D16,IF(E16<=$AC$14,0,MOD(E16-$AC$14,1)),IF(E16>=$AD$14,MOD($AD$14-$AC$14,1),MOD(E16-$AC$14,1))),IF(D16>=$AC$14,IF(OR(E16>D16,E16<=$AD$14),MOD(E16-D16,1),IF(E16<=$AC$14,MOD($AD$14-D16,1),MOD($AD$14-D16,1)+MOD(E16-$AC$14,1))),IF(OR(E16<D16,E16>$AC$14),MOD($AD$14-D16,1)+MOD(E16-$AC$14,1),IF(E16<$AD$14,MOD(E16-D16,1),MOD($AD$14-D16,1))))) -> 0 | N16: =MOD(M16-L16,1) -> 0 | P16: =IF(AND(L16<$AC$14,L16>=$AD$14),IF(M16>L16,IF(M16<=$AC$14,0,MOD(M16-$AC$14,1)),IF(M16>=$AD$14,MOD($AD$14-$AC$14,1),MOD(M16-$AC$14,1))),IF(L16>=$AC$14,IF(OR(M16>L16,M16<=$AD$14),MOD(M16-L16,1),IF(M16<=$AC$14,MOD($AD$14-L16,1),MOD($AD$14-L16,1)+MOD(M16-$AC$14,1))),IF(OR(M16<L16,M16>$AC$14),MOD($AD$14-L16,1)+MOD(M16-$AC$14,1),IF(M16<$AD$14,MOD(M16-L16,1),MOD($AD$14-L16,1))))) -> 0 | AB16: Heures nuits de 21H à 6h feriers et dimanche à 100%: | AC16: =TIMEVALUE("21:00") -> 0.875 | AD16: =TIMEVALUE("6:00") -> 0.25
F17: =MOD(E17-D17,1) -> 0 | H17: =IF(AND(D17<$AC$14,D17>=$AD$14),IF(E17>D17,IF(E17<=$AC$14,0,MOD(E17-$AC$14,1)),IF(E17>=$AD$14,MOD($AD$14-$AC$14,1),MOD(E17-$AC$14,1))),IF(D17>=$AC$14,IF(OR(E17>D17,E17<=$AD$14),MOD(E17-D17,1),IF(E17<=$AC$14,MOD($AD$14-D17,1),MOD($AD$14-D17,1)+MOD(E17-$AC$14,1))),IF(OR(E17<D17,E17>$AC$14),MOD($AD$14-D17,1)+MOD(E17-$AC$14,1),IF(E17<$AD$14,MOD(E17-D17,1),MOD($AD$14-D17,1))))) -> 0 | N17: =MOD(M17-L17,1) -> 0 | P17: =IF(AND(L17<$AC$14,L17>=$AD$14),IF(M17>L17,IF(M17<=$AC$14,0,MOD(M17-$AC$14,1)),IF(M17>=$AD$14,MOD($AD$14-$AC$14,1),MOD(M17-$AC$14,1))),IF(L17>=$AC$14,IF(OR(M17>L17,M17<=$AD$14),MOD(M17-L17,1),IF(M17<=$AC$14,MOD($AD$14-L17,1),MOD($AD$14-L17,1)+MOD(M17-$AC$14,1))),IF(OR(M17<L17,M17>$AC$14),MOD($AD$14-L17,1)+MOD(M17-$AC$14,1),IF(M17<$AD$14,MOD(M17-L17,1),MOD($AD$14-L17,1))))) -> 0 | AB17: Heures jourd de 6H à 20h feriers et dimanche à 65%: | AC17: =TIMEVALUE("6:00") -> 0.25 | AD17: =TIMEVALUE("20:00") -> 0.83333333
F18: =MOD(E18-D18,1) -> 0 | H18: =IF(AND(D18<$AC$14,D18>=$AD$14),IF(E18>D18,IF(E18<=$AC$14,0,MOD(E18-$AC$14,1)),IF(E18>=$AD$14,MOD($AD$14-$AC$14,1),MOD(E18-$AC$14,1))),IF(D18>=$AC$14,IF(OR(E18>D18,E18<=$AD$14),MOD(E18-D18,1),IF(E18<=$AC$14,MOD($AD$14-D18,1),MOD($AD$14-D18,1)+MOD(E18-$AC$14,1))),IF(OR(E18<D18,E18>$AC$14),MOD($AD$14-D18,1)+MOD(E18-$AC$14,1),IF(E18<$AD$14,MOD(E18-D18,1),MOD($AD$14-D18,1))))) -> 0 | N18: =MOD(M18-L18,1) -> 0 | P18: =IF(AND(L18<$AC$14,L18>=$AD$14),IF(M18>L18,IF(M18<=$AC$14,0,MOD(M18-$AC$14,1)),IF(M18>=$AD$14,MOD($AD$14-$AC$14,1),MOD(M18-$AC$14,1))),IF(L18>=$AC$14,IF(OR(M18>L18,M18<=$AD$14),MOD(M18-L18,1),IF(M18<=$AC$14,MOD($AD$14-L18,1),MOD($AD$14-L18,1)+MOD(M18-$AC$14,1))),IF(OR(M18<L18,M18>$AC$14),MOD($AD$14-L18,1)+MOD(M18-$AC$14,1),IF(M18<$AD$14,MOD(M18-L18,1),MOD($AD$14-L18,1))))) -> 0
F19: =MOD(E19-D19,1) -> 0 | H19: =IF(AND(D19<$AC$14,D19>=$AD$14),IF(E19>D19,IF(E19<=$AC$14,0,MOD(E19-$AC$14,1)),IF(E19>=$AD$14,MOD($AD$14-$AC$14,1),MOD(E19-$AC$14,1))),IF(D19>=$AC$14,IF(OR(E19>D19,E19<=$AD$14),MOD(E19-D19,1),IF(E19<=$AC$14,MOD($AD$14-D19,1),MOD($AD$14-D19,1)+MOD(E19-$AC$14,1))),IF(OR(E19<D19,E19>$AC$14),MOD($AD$14-D19,1)+MOD(E19-$AC$14,1),IF(E19<$AD$14,MOD(E19-D19,1),MOD($AD$14-D19,1))))) -> 0 | N19: =MOD(M19-L19,1) -> 0 | P19: =IF(AND(L19<$AC$14,L19>=$AD$14),IF(M19>L19,IF(M19<=$AC$14,0,MOD(M19-$AC$14,1)),IF(M19>=$AD$14,MOD($AD$14-$AC$14,1),MOD(M19-$AC$14,1))),IF(L19>=$AC$14,IF(OR(M19>L19,M19<=$AD$14),MOD(M19-L19,1),IF(M19<=$AC$14,MOD($AD$14-L19,1),MOD($AD$14-L19,1)+MOD(M19-$AC$14,1))),IF(OR(M19<L19,M19>$AC$14),MOD($AD$14-L19,1)+MOD(M19-$AC$14,1),IF(M19<$AD$14,MOD(M19-L19,1),MOD($AD$14-L19,1))))) -> 0
B20: =C20 -> 42550 | C20: 42550 | F20: =MOD(E20-D20,1) -> 0 | G20: =SUM(F20:F25) -> 0 | H20: =IF(AND(D20<$AC$14,D20>=$AD$14),IF(E20>D20,IF(E20<=$AC$14,0,MOD(E20-$AC$14,1)),IF(E20>=$AD$14,MOD($AD$14-$AC$14,1),MOD(E20-$AC$14,1))),IF(D20>=$AC$14,IF(OR(E20>D20,E20<=$AD$14),MOD(E20-D20,1),IF(E20<=$AC$14,MOD($AD$14-D20,1),MOD($AD$14-D20,1)+MOD(E20-$AC$14,1))),IF(OR(E20<D20,E20>$AC$14),MOD($AD$14-D20,1)+MOD(E20-$AC$14,1),IF(E20<$AD$14,MOD(E20-D20,1),MOD($AD$14-D20,1))))) -> 0 | N20: =MOD(M20-L20,1) -> 0 | O20: =SUM(N20:N25) -> 0 | P20: =IF(AND(L20<$AC$14,L20>=$AD$14),IF(M20>L20,IF(M20<=$AC$14,0,MOD(M20-$AC$14,1)),IF(M20>=$AD$14,MOD($AD$14-$AC$14,1),MOD(M20-$AC$14,1))),IF(L20>=$AC$14,IF(OR(M20>L20,M20<=$AD$14),MOD(M20-L20,1),IF(M20<=$AC$14,MOD($AD$14-L20,1),MOD($AD$14-L20,1)+MOD(M20-$AC$14,1))),IF(OR(M20<L20,M20>$AC$14),MOD($AD$14-L20,1)+MOD(M20-$AC$14,1),IF(M20<$AD$14,MOD(M20-L20,1),MOD($AD$14-L20,1))))) -> 0
F21: =MOD(E21-D21,1) -> 0 | H21: =IF(AND(D21<$AC$14,D21>=$AD$14),IF(E21>D21,IF(E21<=$AC$14,0,MOD(E21-$AC$14,1)),IF(E21>=$AD$14,MOD($AD$14-$AC$14,1),MOD(E21-$AC$14,1))),IF(D21>=$AC$14,IF(OR(E21>D21,E21<=$AD$14),MOD(E21-D21,1),IF(E21<=$AC$14,MOD($AD$14-D21,1),MOD($AD$14-D21,1)+MOD(E21-$AC$14,1))),IF(OR(E21<D21,E21>$AC$14),MOD($AD$14-D21,1)+MOD(E21-$AC$14,1),IF(E21<$AD$14,MOD(E21-D21,1),MOD($AD$14-D21,1))))) -> 0 | N21: =MOD(M21-L21,1) -> 0 | P21: =IF(AND(L21<$AC$14,L21>=$AD$14),IF(M21>L21,IF(M21<=$AC$14,0,MOD(M21-$AC$14,1)),IF(M21>=$AD$14,MOD($AD$14-$AC$14,1),MOD(M21-$AC$14,1))),IF(L21>=$AC$14,IF(OR(M21>L21,M21<=$AD$14),MOD(M21-L21,1),IF(M21<=$AC$14,MOD($AD$14-L21,1),MOD($AD$14-L21,1)+MOD(M21-$AC$14,1))),IF(OR(M21<L21,M21>$AC$14),MOD($AD$14-L21,1)+MOD(M21-$AC$14,1),IF(M21<$AD$14,MOD(M21-L21,1),MOD($AD$14-L21,1))))) -> 0
F22: =MOD(E22-D22,1) -> 0 | H22: =IF(AND(D22<$AC$14,D22>=$AD$14),IF(E22>D22,IF(E22<=$AC$14,0,MOD(E22-$AC$14,1)),IF(E22>=$AD$14,MOD($AD$14-$AC$14,1),MOD(E22-$AC$14,1))),IF(D22>=$AC$14,IF(OR(E22>D22,E22<=$AD$14),MOD(E22-D22,1),IF(E22<=$AC$14,MOD($AD$14-D22,1),MOD($AD$14-D22,1)+MOD(E22-$AC$14,1))),IF(OR(E22<D22,E22>$AC$14),MOD($AD$14-D22,1)+MOD(E22-$AC$14,1),IF(E22<$AD$14,MOD(E22-D22,1),MOD($AD$14-D22,1))))) -> 0 | N22: =MOD(M22-L22,1) -> 0 | P22: =IF(AND(L22<$AC$14,L22>=$AD$14),IF(M22>L22,IF(M22<=$AC$14,0,MOD(M22-$AC$14,1)),IF(M22>=$AD$14,MOD($AD$14-$AC$14,1),MOD(M22-$AC$14,1))),IF(L22>=$AC$14,IF(OR(M22>L22,M22<=$AD$14),MOD(M22-L22,1),IF(M22<=$AC$14,MOD($AD$14-L22,1),MOD($AD$14-L22,1)+MOD(M22-$AC$14,1))),IF(OR(M22<L22,M22>$AC$14),MOD($AD$14-L22,1)+MOD(M22-$AC$14,1),IF(M22<$AD$14,MOD(M22-L22,1),MOD($AD$14-L22,1))))) -> 0
F23: =MOD(E23-D23,1) -> 0 | H23: =IF(AND(D23<$AC$14,D23>=$AD$14),IF(E23>D23,IF(E23<=$AC$14,0,MOD(E23-$AC$14,1)),IF(E23>=$AD$14,MOD($AD$14-$AC$14,1),MOD(E23-$AC$14,1))),IF(D23>=$AC$14,IF(OR(E23>D23,E23<=$AD$14),MOD(E23-D23,1),IF(E23<=$AC$14,MOD($AD$14-D23,1),MOD($AD$14-D23,1)+MOD(E23-$AC$14,1))),IF(OR(E23<D23,E23>$AC$14),MOD($AD$14-D23,1)+MOD(E23-$AC$14,1),IF(E23<$AD$14,MOD(E23-D23,1),MOD($AD$14-D23,1))))) -> 0 | N23: =MOD(M23-L23,1) -> 0 | P23: =IF(AND(L23<$AC$14,L23>=$AD$14),IF(M23>L23,IF(M23<=$AC$14,0,MOD(M23-$AC$14,1)),IF(M23>=$AD$14,MOD($AD$14-$AC$14,1),MOD(M23-$AC$14,1))),IF(L23>=$AC$14,IF(OR(M23>L23,M23<=$AD$14),MOD(M23-L23,1),IF(M23<=$AC$14,MOD($AD$14-L23,1),MOD($AD$14-L23,1)+MOD(M23-$AC$14,1))),IF(OR(M23<L23,M23>$AC$14),MOD($AD$14-L23,1)+MOD(M23-$AC$14,1),IF(M23<$AD$14,MOD(M23-L23,1),MOD($AD$14-L23,1))))) -> 0 | AB23: TOTAL MENSUEL RIMONA AIRIMA: | AJ23: TOTAL MENSUEL BASLY YANNICK:
F24: =MOD(E24-D24,1) -> 0 | H24: =IF(AND(D24<$AC$14,D24>=$AD$14),IF(E24>D24,IF(E24<=$AC$14,0,MOD(E24-$AC$14,1)),IF(E24>=$AD$14,MOD($AD$14-$AC$14,1),MOD(E24-$AC$14,1))),IF(D24>=$AC$14,IF(OR(E24>D24,E24<=$AD$14),MOD(E24-D24,1),IF(E24<=$AC$14,MOD($AD$14-D24,1),MOD($AD$14-D24,1)+MOD(E24-$AC$14,1))),IF(OR(E24<D24,E24>$AC$14),MOD($AD$14-D24,1)+MOD(E24-$AC$14,1),IF(E24<$AD$14,MOD(E24-D24,1),MOD($AD$14-D24,1))))) -> 0 | N24: =MOD(M24-L24,1) -> 0 | P24: =IF(AND(L24<$AC$14,L24>=$AD$14),IF(M24>L24,IF(M24<=$AC$14,0,MOD(M24-$AC$14,1)),IF(M24>=$AD$14,MOD($AD$14-$AC$14,1),MOD(M24-$AC$14,1))),IF(L24>=$AC$14,IF(OR(M24>L24,M24<=$AD$14),MOD(M24-L24,1),IF(M24<=$AC$14,MOD($AD$14-L24,1),MOD($AD$14-L24,1)+MOD(M24-$AC$14,1))),IF(OR(M24<L24,M24>$AC$14),MOD($AD$14-L24,1)+MOD(M24-$AC$14,1),IF(M24<$AD$14,MOD(M24-L24,1),MOD($AD$14-L24,1))))) -> 0
F25: =MOD(E25-D25,1) -> 0 | H25: =IF(AND(D25<$AC$14,D25>=$AD$14),IF(E25>D25,IF(E25<=$AC$14,0,MOD(E25-$AC$14,1)),IF(E25>=$AD$14,MOD($AD$14-$AC$14,1),MOD(E25-$AC$14,1))),IF(D25>=$AC$14,IF(OR(E25>D25,E25<=$AD$14),MOD(E25-D25,1),IF(E25<=$AC$14,MOD($AD$14-D25,1),MOD($AD$14-D25,1)+MOD(E25-$AC$14,1))),IF(OR(E25<D25,E25>$AC$14),MOD($AD$14-D25,1)+MOD(E25-$AC$14,1),IF(E25<$AD$14,MOD(E25-D25,1),MOD($AD$14-D25,1))))) -> 0 | N25: =MOD(M25-L25,1) -> 0 | P25: =IF(AND(L25<$AC$14,L25>=$AD$14),IF(M25>L25,IF(M25<=$AC$14,0,MOD(M25-$AC$14,1)),IF(M25>=$AD$14,MOD($AD$14-$AC$14,1),MOD(M25-$AC$14,1))),IF(L25>=$AC$14,IF(OR(M25>L25,M25<=$AD$14),MOD(M25-L25,1),IF(M25<=$AC$14,MOD($AD$14-L25,1),MOD($AD$14-L25,1)+MOD(M25-$AC$14,1))),IF(OR(M25<L25,M25>$AC$14),MOD($AD$14-L25,1)+MOD(M25-$AC$14,1),IF(M25<$AD$14,MOD(M25-L25,1),MOD($AD$14-L25,1))))) -> 0 | AC25: Total d'hrs mensuelles : | AD25: =G44+G86+G128+G170+G212 -> 3.8958333 | AK25: Total d'hrs mensuelles : | AL25: =O44+O86+O128+O170+O212 -> 0
B26: =C26 -> 42551 | C26: 42551 | F26: =MOD(E26-D26,1) -> 0 | G26: =SUM(F26:F31) -> 0 | H26: =IF(AND(D26<$AC$14,D26>=$AD$14),IF(E26>D26,IF(E26<=$AC$14,0,MOD(E26-$AC$14,1)),IF(E26>=$AD$14,MOD($AD$14-$AC$14,1),MOD(E26-$AC$14,1))),IF(D26>=$AC$14,IF(OR(E26>D26,E26<=$AD$14),MOD(E26-D26,1),IF(E26<=$AC$14,MOD($AD$14-D26,1),MOD($AD$14-D26,1)+MOD(E26-$AC$14,1))),IF(OR(E26<D26,E26>$AC$14),MOD($AD$14-D26,1)+MOD(E26-$AC$14,1),IF(E26<$AD$14,MOD(E26-D26,1),MOD($AD$14-D26,1))))) -> 0 | N26: =MOD(M26-L26,1) -> 0 | O26: =SUM(N26:N31) -> 0 | P26: =IF(AND(L26<$AC$14,L26>=$AD$14),IF(M26>L26,IF(M26<=$AC$14,0,MOD(M26-$AC$14,1)),IF(M26>=$AD$14,MOD($AD$14-$AC$14,1),MOD(M26-$AC$14,1))),IF(L26>=$AC$14,IF(OR(M26>L26,M26<=$AD$14),MOD(M26-L26,1),IF(M26<=$AC$14,MOD($AD$14-L26,1),MOD($AD$14-L26,1)+MOD(M26-$AC$14,1))),IF(OR(M26<L26,M26>$AC$14),MOD($AD$14-L26,1)+MOD(M26-$AC$14,1),IF(M26<$AD$14,MOD(M26-L26,1),MOD($AD$14-L26,1))))) -> 0 | AC26: Total heures complémentaires mensuel : | AD26: =G45+G87+G129+G171+G213 -> 0.91666667 | AK26: Total heures complémentaires mensuel : | AL26: =O45+O87+O129+O171+O213 -> 0
F27: =MOD(E27-D27,1) -> 0 | H27: =IF(AND(D27<$AC$14,D27>=$AD$14),IF(E27>D27,IF(E27<=$AC$14,0,MOD(E27-$AC$14,1)),IF(E27>=$AD$14,MOD($AD$14-$AC$14,1),MOD(E27-$AC$14,1))),IF(D27>=$AC$14,IF(OR(E27>D27,E27<=$AD$14),MOD(E27-D27,1),IF(E27<=$AC$14,MOD($AD$14-D27,1),MOD($AD$14-D27,1)+MOD(E27-$AC$14,1))),IF(OR(E27<D27,E27>$AC$14),MOD($AD$14-D27,1)+MOD(E27-$AC$14,1),IF(E27<$AD$14,MOD(E27-D27,1),MOD($AD$14-D27,1))))) -> 0 | N27: =MOD(M27-L27,1) -> 0 | P27: =IF(AND(L27<$AC$14,L27>=$AD$14),IF(M27>L27,IF(M27<=$AC$14,0,MOD(M27-$AC$14,1)),IF(M27>=$AD$14,MOD($AD$14-$AC$14,1),MOD(M27-$AC$14,1))),IF(L27>=$AC$14,IF(OR(M27>L27,M27<=$AD$14),MOD(M27-L27,1),IF(M27<=$AC$14,MOD($AD$14-L27,1),MOD($AD$14-L27,1)+MOD(M27-$AC$14,1))),IF(OR(M27<L27,M27>$AC$14),MOD($AD$14-L27,1)+MOD(M27-$AC$14,1),IF(M27<$AD$14,MOD(M27-L27,1),MOD($AD$14-L27,1))))) -> 0 | AC27: Total d'hrs sup. de 40 à 44h mensuel : | AD27: =G46+G88+G130+G172+G214 -> 0.22916667 | AK27: Total d'hrs sup. de 40 à 44h mensuel : | AL27: =O46+O88+O130+O172+O214 -> 0
F28: =MOD(E28-D28,1) -> 0 | H28: =IF(AND(D28<$AC$14,D28>=$AD$14),IF(E28>D28,IF(E28<=$AC$14,0,MOD(E28-$AC$14,1)),IF(E28>=$AD$14,MOD($AD$14-$AC$14,1),MOD(E28-$AC$14,1))),IF(D28>=$AC$14,IF(OR(E28>D28,E28<=$AD$14),MOD(E28-D28,1),IF(E28<=$AC$14,MOD($AD$14-D28,1),MOD($AD$14-D28,1)+MOD(E28-$AC$14,1))),IF(OR(E28<D28,E28>$AC$14),MOD($AD$14-D28,1)+MOD(E28-$AC$14,1),IF(E28<$AD$14,MOD(E28-D28,1),MOD($AD$14-D28,1))))) -> 0 | N28: =MOD(M28-L28,1) -> 0 | P28: =IF(AND(L28<$AC$14,L28>=$AD$14),IF(M28>L28,IF(M28<=$AC$14,0,MOD(M28-$AC$14,1)),IF(M28>=$AD$14,MOD($AD$14-$AC$14,1),MOD(M28-$AC$14,1))),IF(L28>=$AC$14,IF(OR(M28>L28,M28<=$AD$14),MOD(M28-L28,1),IF(M28<=$AC$14,MOD($AD$14-L28,1),MOD($AD$14-L28,1)+MOD(M28-$AC$14,1))),IF(OR(M28<L28,M28>$AC$14),MOD($AD$14-L28,1)+MOD(M28-$AC$14,1),IF(M28<$AD$14,MOD(M28-L28,1),MOD($AD$14-L28,1))))) -> 0 | AC28: Total d'hrs sup. de 45 à 48h mensuel : | AD28: =G47+G89+G131+G173+G215 -> 0.0625 | AK28: Total d'hrs sup. de 45 à 48h mensuel : | AL28: =O47+O89+O131+O173+O215 -> 0
F29: =MOD(E29-D29,1) -> 0 | H29: =IF(AND(D29<$AC$14,D29>=$AD$14),IF(E29>D29,IF(E29<=$AC$14,0,MOD(E29-$AC$14,1)),IF(E29>=$AD$14,MOD($AD$14-$AC$14,1),MOD(E29-$AC$14,1))),IF(D29>=$AC$14,IF(OR(E29>D29,E29<=$AD$14),MOD(E29-D29,1),IF(E29<=$AC$14,MOD($AD$14-D29,1),MOD($AD$14-D29,1)+MOD(E29-$AC$14,1))),IF(OR(E29<D29,E29>$AC$14),MOD($AD$14-D29,1)+MOD(E29-$AC$14,1),IF(E29<$AD$14,MOD(E29-D29,1),MOD($AD$14-D29,1))))) -> 0 | N29: =MOD(M29-L29,1) -> 0 | P29: =IF(AND(L29<$AC$14,L29>=$AD$14),IF(M29>L29,IF(M29<=$AC$14,0,MOD(M29-$AC$14,1)),IF(M29>=$AD$14,MOD($AD$14-$AC$14,1),MOD(M29-$AC$14,1))),IF(L29>=$AC$14,IF(OR(M29>L29,M29<=$AD$14),MOD(M29-L29,1),IF(M29<=$AC$14,MOD($AD$14-L29,1),MOD($AD$14-L29,1)+MOD(M29-$AC$14,1))),IF(OR(M29<L29,M29>$AC$14),MOD($AD$14-L29,1)+MOD(M29-$AC$14,1),IF(M29<$AD$14,MOD(M29-L29,1),MOD($AD$14-L29,1))))) -> 0 | AC29: Total d'hrs sup. au-delà de 48h mensuel : | AD29: =G48+G90+G132+G174+G216 -> 0 | AK29: Total d'hrs sup. au-delà de 48h mensuel : | AL29: =O48+O90+O132+O174+O216 -> 0
F30: =MOD(E30-D30,1) -> 0 | H30: =IF(AND(D30<$AC$14,D30>=$AD$14),IF(E30>D30,IF(E30<=$AC$14,0,MOD(E30-$AC$14,1)),IF(E30>=$AD$14,MOD($AD$14-$AC$14,1),MOD(E30-$AC$14,1))),IF(D30>=$AC$14,IF(OR(E30>D30,E30<=$AD$14),MOD(E30-D30,1),IF(E30<=$AC$14,MOD($AD$14-D30,1),MOD($AD$14-D30,1)+MOD(E30-$AC$14,1))),IF(OR(E30<D30,E30>$AC$14),MOD($AD$14-D30,1)+MOD(E30-$AC$14,1),IF(E30<$AD$14,MOD(E30-D30,1),MOD($AD$14-D30,1))))) -> 0 | N30: =MOD(M30-L30,1) -> 0 | P30: =IF(AND(L30<$AC$14,L30>=$AD$14),IF(M30>L30,IF(M30<=$AC$14,0,MOD(M30-$AC$14,1)),IF(M30>=$AD$14,MOD($AD$14-$AC$14,1),MOD(M30-$AC$14,1))),IF(L30>=$AC$14,IF(OR(M30>L30,M30<=$AD$14),MOD(M30-L30,1),IF(M30<=$AC$14,MOD($AD$14-L30,1),MOD($AD$14-L30,1)+MOD(M30-$AC$14,1))),IF(OR(M30<L30,M30>$AC$14),MOD($AD$14-L30,1)+MOD(M30-$AC$14,1),IF(M30<$AD$14,MOD(M30-L30,1),MOD($AD$14-L30,1))))) -> 0 | AC30: Total heures de 21H à 6H mensuel : | AD30: =G49+G91+G133+G175+G217 -> 0 | AK30: Total heures de 21H à 6H mensuel : | AL30: =O49+O91+O133+O175+O217 -> 0
F31: =MOD(E31-D31,1) -> 0 | H31: =IF(AND(D31<$AC$14,D31>=$AD$14),IF(E31>D31,IF(E31<=$AC$14,0,MOD(E31-$AC$14,1)),IF(E31>=$AD$14,MOD($AD$14-$AC$14,1),MOD(E31-$AC$14,1))),IF(D31>=$AC$14,IF(OR(E31>D31,E31<=$AD$14),MOD(E31-D31,1),IF(E31<=$AC$14,MOD($AD$14-D31,1),MOD($AD$14-D31,1)+MOD(E31-$AC$14,1))),IF(OR(E31<D31,E31>$AC$14),MOD($AD$14-D31,1)+MOD(E31-$AC$14,1),IF(E31<$AD$14,MOD(E31-D31,1),MOD($AD$14-D31,1))))) -> 0 | N31: =MOD(M31-L31,1) -> 0 | P31: =IF(AND(L31<$AC$14,L31>=$AD$14),IF(M31>L31,IF(M31<=$AC$14,0,MOD(M31-$AC$14,1)),IF(M31>=$AD$14,MOD($AD$14-$AC$14,1),MOD(M31-$AC$14,1))),IF(L31>=$AC$14,IF(OR(M31>L31,M31<=$AD$14),MOD(M31-L31,1),IF(M31<=$AC$14,MOD($AD$14-L31,1),MOD($AD$14-L31,1)+MOD(M31-$AC$14,1))),IF(OR(M31<L31,M31>$AC$14),MOD($AD$14-L31,1)+MOD(M31-$AC$14,1),IF(M31<$AD$14,MOD(M31-L31,1),MOD($AD$14-L31,1))))) -> 0 | AC31: Total heures Fériers et dimanches nuits de 21H à 6H mensuel : | AD31: =Y47+Y55+Y63+Y71+Y79+Y87+Y95 -> 0 | AK31: Total heures Fériers et dimanches nuits de 21H à 6H mensuel : | AL31: =AM47+AM55+AM63+AM71+AM79+AM87+AM95 -> 0
B32: =C32 -> 42552 | C32: 42552 | D32: 0.41666667 | E32: 0.47916667 | F32: =MOD(E32-D32,1) -> 0.0625 | G32: =SUM(F32:F37) -> 0.27083333 | H32: =IF(AND(D32<$AC$14,D32>=$AD$14),IF(E32>D32,IF(E32<=$AC$14,0,MOD(E32-$AC$14,1)),IF(E32>=$AD$14,MOD($AD$14-$AC$14,1),MOD(E32-$AC$14,1))),IF(D32>=$AC$14,IF(OR(E32>D32,E32<=$AD$14),MOD(E32-D32,1),IF(E32<=$AC$14,MOD($AD$14-D32,1),MOD($AD$14-D32,1)+MOD(E32-$AC$14,1))),IF(OR(E32<D32,E32>$AC$14),MOD($AD$14-D32,1)+MOD(E32-$AC$14,1),IF(E32<$AD$14,MOD(E32-D32,1),MOD($AD$14-D32,1))))) -> 0 | I32: Finition clim RDC | N32: =MOD(M32-L32,1) -> 0 | O32: =SUM(N32:N37) -> 0 | P32: =IF(AND(L32<$AC$14,L32>=$AD$14),IF(M32>L32,IF(M32<=$AC$14,0,MOD(M32-$AC$14,1)),IF(M32>=$AD$14,MOD($AD$14-$AC$14,1),MOD(M32-$AC$14,1))),IF(L32>=$AC$14,IF(OR(M32>L32,M32<=$AD$14),MOD(M32-L32,1),IF(M32<=$AC$14,MOD($AD$14-L32,1),MOD($AD$14-L32,1)+MOD(M32-$AC$14,1))),IF(OR(M32<L32,M32>$AC$14),MOD($AD$14-L32,1)+MOD(M32-$AC$14,1),IF(M32<$AD$14,MOD(M32-L32,1),MOD($AD$14-L32,1))))) -> 0 | AC32: Total heures Fériers et dimanches jours de 6H à 20H mensuel : | AD32: =Y46+Y54+Y62+Y70+Y78+Y86+Y94 -> 0 | AK32: Total heures Fériers et dimanches jours de 6H à 20H mensuel : | AL32: =AM46+AM54+AM62+AM70+AM78+AM86+AM94 -> 0
D33: 0.5 | E33: 0.70833333 | F33: =MOD(E33-D33,1) -> 0.20833333 | H33: =IF(AND(D33<$AC$14,D33>=$AD$14),IF(E33>D33,IF(E33<=$AC$14,0,MOD(E33-$AC$14,1)),IF(E33>=$AD$14,MOD($AD$14-$AC$14,1),MOD(E33-$AC$14,1))),IF(D33>=$AC$14,IF(OR(E33>D33,E33<=$AD$14),MOD(E33-D33,1),IF(E33<=$AC$14,MOD($AD$14-D33,1),MOD($AD$14-D33,1)+MOD(E33-$AC$14,1))),IF(OR(E33<D33,E33>$AC$14),MOD($AD$14-D33,1)+MOD(E33-$AC$14,1),IF(E33<$AD$14,MOD(E33-D33,1),MOD($AD$14-D33,1))))) -> 0 | I33: Finition clim RDC | N33: =MOD(M33-L33,1) -> 0 | P33: =IF(AND(L33<$AC$14,L33>=$AD$14),IF(M33>L33,IF(M33<=$AC$14,0,MOD(M33-$AC$14,1)),IF(M33>=$AD$14,MOD($AD$14-$AC$14,1),MOD(M33-$AC$14,1))),IF(L33>=$AC$14,IF(OR(M33>L33,M33<=$AD$14),MOD(M33-L33,1),IF(M33<=$AC$14,MOD($AD$14-L33,1),MOD($AD$14-L33,1)+MOD(M33-$AC$14,1))),IF(OR(M33<L33,M33>$AC$14),MOD($AD$14-L33,1)+MOD(M33-$AC$14,1),IF(M33<$AD$14,MOD(M33-L33,1),MOD($AD$14-L33,1))))) -> 0
F34: =MOD(E34-D34,1) -> 0 | H34: =IF(AND(D34<$AC$14,D34>=$AD$14),IF(E34>D34,IF(E34<=$AC$14,0,MOD(E34-$AC$14,1)),IF(E34>=$AD$14,MOD($AD$14-$AC$14,1),MOD(E34-$AC$14,1))),IF(D34>=$AC$14,IF(OR(E34>D34,E34<=$AD$14),MOD(E34-D34,1),IF(E34<=$AC$14,MOD($AD$14-D34,1),MOD($AD$14-D34,1)+MOD(E34-$AC$14,1))),IF(OR(E34<D34,E34>$AC$14),MOD($AD$14-D34,1)+MOD(E34-$AC$14,1),IF(E34<$AD$14,MOD(E34-D34,1),MOD($AD$14-D34,1))))) -> 0 | N34: =MOD(M34-L34,1) -> 0 | P34: =IF(AND(L34<$AC$14,L34>=$AD$14),IF(M34>L34,IF(M34<=$AC$14,0,MOD(M34-$AC$14,1)),IF(M34>=$AD$14,MOD($AD$14-$AC$14,1),MOD(M34-$AC$14,1))),IF(L34>=$AC$14,IF(OR(M34>L34,M34<=$AD$14),MOD(M34-L34,1),IF(M34<=$AC$14,MOD($AD$14-L34,1),MOD($AD$14-L34,1)+MOD(M34-$AC$14,1))),IF(OR(M34<L34,M34>$AC$14),MOD($AD$14-L34,1)+MOD(M34-$AC$14,1),IF(M34<$AD$14,MOD(M34-L34,1),MOD($AD$14-L34,1))))) -> 0
F35: =MOD(E35-D35,1) -> 0 | H35: =IF(AND(D35<$AC$14,D35>=$AD$14),IF(E35>D35,IF(E35<=$AC$14,0,MOD(E35-$AC$14,1)),IF(E35>=$AD$14,MOD($AD$14-$AC$14,1),MOD(E35-$AC$14,1))),IF(D35>=$AC$14,IF(OR(E35>D35,E35<=$AD$14),MOD(E35-D35,1),IF(E35<=$AC$14,MOD($AD$14-D35,1),MOD($AD$14-D35,1)+MOD(E35-$AC$14,1))),IF(OR(E35<D35,E35>$AC$14),MOD($AD$14-D35,1)+MOD(E35-$AC$14,1),IF(E35<$AD$14,MOD(E35-D35,1),MOD($AD$14-D35,1))))) -> 0 | N35: =MOD(M35-L35,1) -> 0 | P35: =IF(AND(L35<$AC$14,L35>=$AD$14),IF(M35>L35,IF(M35<=$AC$14,0,MOD(M35-$AC$14,1)),IF(M35>=$AD$14,MOD($AD$14-$AC$14,1),MOD(M35-$AC$14,1))),IF(L35>=$AC$14,IF(OR(M35>L35,M35<=$AD$14),MOD(M35-L35,1),IF(M35<=$AC$14,MOD($AD$14-L35,1),MOD($AD$14-L35,1)+MOD(M35-$AC$14,1))),IF(OR(M35<L35,M35>$AC$14),MOD($AD$14-L35,1)+MOD(M35-$AC$14,1),IF(M35<$AD$14,MOD(M35-L35,1),MOD($AD$14-L35,1))))) -> 0
F36: =MOD(E36-D36,1) -> 0 | H36: =IF(AND(D36<$AC$14,D36>=$AD$14),IF(E36>D36,IF(E36<=$AC$14,0,MOD(E36-$AC$14,1)),IF(E36>=$AD$14,MOD($AD$14-$AC$14,1),MOD(E36-$AC$14,1))),IF(D36>=$AC$14,IF(OR(E36>D36,E36<=$AD$14),MOD(E36-D36,1),IF(E36<=$AC$14,MOD($AD$14-D36,1),MOD($AD$14-D36,1)+MOD(E36-$AC$14,1))),IF(OR(E36<D36,E36>$AC$14),MOD($AD$14-D36,1)+MOD(E36-$AC$14,1),IF(E36<$AD$14,MOD(E36-D36,1),MOD($AD$14-D36,1))))) -> 0 | N36: =MOD(M36-L36,1) -> 0 | P36: =IF(AND(L36<$AC$14,L36>=$AD$14),IF(M36>L36,IF(M36<=$AC$14,0,MOD(M36-$AC$14,1)),IF(M36>=$AD$14,MOD($AD$14-$AC$14,1),MOD(M36-$AC$14,1))),IF(L36>=$AC$14,IF(OR(M36>L36,M36<=$AD$14),MOD(M36-L36,1),IF(M36<=$AC$14,MOD($AD$14-L36,1),MOD($AD$14-L36,1)+MOD(M36-$AC$14,1))),IF(OR(M36<L36,M36>$AC$14),MOD($AD$14-L36,1)+MOD(M36-$AC$14,1),IF(M36<$AD$14,MOD(M36-L36,1),MOD($AD$14-L36,1))))) -> 0
F37: =MOD(E37-D37,1) -> 0 | H37: =IF(AND(D37<$AC$14,D37>=$AD$14),IF(E37>D37,IF(E37<=$AC$14,0,MOD(E37-$AC$14,1)),IF(E37>=$AD$14,MOD($AD$14-$AC$14,1),MOD(E37-$AC$14,1))),IF(D37>=$AC$14,IF(OR(E37>D37,E37<=$AD$14),MOD(E37-D37,1),IF(E37<=$AC$14,MOD($AD$14-D37,1),MOD($AD$14-D37,1)+MOD(E37-$AC$14,1))),IF(OR(E37<D37,E37>$AC$14),MOD($AD$14-D37,1)+MOD(E37-$AC$14,1),IF(E37<$AD$14,MOD(E37-D37,1),MOD($AD$14-D37,1))))) -> 0 | N37: =MOD(M37-L37,1) -> 0 | P37: =IF(AND(L37<$AC$14,L37>=$AD$14),IF(M37>L37,IF(M37<=$AC$14,0,MOD(M37-$AC$14,1)),IF(M37>=$AD$14,MOD($AD$14-$AC$14,1),MOD(M37-$AC$14,1))),IF(L37>=$AC$14,IF(OR(M37>L37,M37<=$AD$14),MOD(M37-L37,1),IF(M37<=$AC$14,MOD($AD$14-L37,1),MOD($AD$14-L37,1)+MOD(M37-$AC$14,1))),IF(OR(M37<L37,M37>$AC$14),MOD($AD$14-L37,1)+MOD(M37-$AC$14,1),IF(M37<$AD$14,MOD(M37-L37,1),MOD($AD$14-L37,1))))) -> 0 | W37: HEURES SUP. FERIERS ET DIMANCHE RIMONA AIRIMA | AC37: HEURES SUP. FERIERS ET DIMANCHE BASLY YANNICK
B38: =C38 -> 42553 | C38: 42553 | D38: 0.39583333 | E38: 0.47916667 | F38: =MOD(E38-D38,1) -> 0.083333333 | G38: =SUM(F38:F43) -> 0.083333333 | H38: =IF(AND(D38<$AC$14,D38>=$AD$14),IF(E38>D38,IF(E38<=$AC$14,0,MOD(E38-$AC$14,1)),IF(E38>=$AD$14,MOD($AD$14-$AC$14,1),MOD(E38-$AC$14,1))),IF(D38>=$AC$14,IF(OR(E38>D38,E38<=$AD$14),MOD(E38-D38,1),IF(E38<=$AC$14,MOD($AD$14-D38,1),MOD($AD$14-D38,1)+MOD(E38-$AC$14,1))),IF(OR(E38<D38,E38>$AC$14),MOD($AD$14-D38,1)+MOD(E38-$AC$14,1),IF(E38<$AD$14,MOD(E38-D38,1),MOD($AD$14-D38,1))))) -> 0 | I38: Débouchage EVAC EV/EU | J38: MARINA TAINA | K38: PUNAAUIA | N38: =MOD(M38-L38,1) -> 0 | O38: =SUM(N38:N43) -> 0 | P38: =IF(AND(L38<$AC$14,L38>=$AD$14),IF(M38>L38,IF(M38<=$AC$14,0,MOD(M38-$AC$14,1)),IF(M38>=$AD$14,MOD($AD$14-$AC$14,1),MOD(M38-$AC$14,1))),IF(L38>=$AC$14,IF(OR(M38>L38,M38<=$AD$14),MOD(M38-L38,1),IF(M38<=$AC$14,MOD($AD$14-L38,1),MOD($AD$14-L38,1)+MOD(M38-$AC$14,1))),IF(OR(M38<L38,M38>$AC$14),MOD($AD$14-L38,1)+MOD(M38-$AC$14,1),IF(M38<$AD$14,MOD(M38-L38,1),MOD($AD$14-L38,1))))) -> 0 | W38: JUILLET | X38: Date | Y38: Debut | Z38: Fin | AA38: Hrs effect. Jours | AB38: Hrs effect. Nuits | AC38: JUILLET | AD38: Date | AE38: Debut | AF38: Fin | AG38: Hrs effect. Jours | AH38: Hrs effect. Nuits
F39: =MOD(E39-D39,1) -> 0 | H39: =IF(AND(D39<$AC$14,D39>=$AD$14),IF(E39>D39,IF(E39<=$AC$14,0,MOD(E39-$AC$14,1)),IF(E39>=$AD$14,MOD($AD$14-$AC$14,1),MOD(E39-$AC$14,1))),IF(D39>=$AC$14,IF(OR(E39>D39,E39<=$AD$14),MOD(E39-D39,1),IF(E39<=$AC$14,MOD($AD$14-D39,1),MOD($AD$14-D39,1)+MOD(E39-$AC$14,1))),IF(OR(E39<D39,E39>$AC$14),MOD($AD$14-D39,1)+MOD(E39-$AC$14,1),IF(E39<$AD$14,MOD(E39-D39,1),MOD($AD$14-D39,1))))) -> 0 | N39: =MOD(M39-L39,1) -> 0 | P39: =IF(AND(L39<$AC$14,L39>=$AD$14),IF(M39>L39,IF(M39<=$AC$14,0,MOD(M39-$AC$14,1)),IF(M39>=$AD$14,MOD($AD$14-$AC$14,1),MOD(M39-$AC$14,1))),IF(L39>=$AC$14,IF(OR(M39>L39,M39<=$AD$14),MOD(M39-L39,1),IF(M39<=$AC$14,MOD($AD$14-L39,1),MOD($AD$14-L39,1)+MOD(M39-$AC$14,1))),IF(OR(M39<L39,M39>$AC$14),MOD($AD$14-L39,1)+MOD(M39-$AC$14,1),IF(M39<$AD$14,MOD(M39-L39,1),MOD($AD$14-L39,1))))) -> 0
F40: =MOD(E40-D40,1) -> 0 | H40: =IF(AND(D40<$AC$14,D40>=$AD$14),IF(E40>D40,IF(E40<=$AC$14,0,MOD(E40-$AC$14,1)),IF(E40>=$AD$14,MOD($AD$14-$AC$14,1),MOD(E40-$AC$14,1))),IF(D40>=$AC$14,IF(OR(E40>D40,E40<=$AD$14),MOD(E40-D40,1),IF(E40<=$AC$14,MOD($AD$14-D40,1),MOD($AD$14-D40,1)+MOD(E40-$AC$14,1))),IF(OR(E40<D40,E40>$AC$14),MOD($AD$14-D40,1)+MOD(E40-$AC$14,1),IF(E40<$AD$14,MOD(E40-D40,1),MOD($AD$14-D40,1))))) -> 0 | N40: =MOD(M40-L40,1) -> 0 | P40: =IF(AND(L40<$AC$14,L40>=$AD$14),IF(M40>L40,IF(M40<=$AC$14,0,MOD(M40-$AC$14,1)),IF(M40>=$AD$14,MOD($AD$14-$AC$14,1),MOD(M40-$AC$14,1))),IF(L40>=$AC$14,IF(OR(M40>L40,M40<=$AD$14),MOD(M40-L40,1),IF(M40<=$AC$14,MOD($AD$14-L40,1),MOD($AD$14-L40,1)+MOD(M40-$AC$14,1))),IF(OR(M40<L40,M40>$AC$14),MOD($AD$14-L40,1)+MOD(M40-$AC$14,1),IF(M40<$AD$14,MOD(M40-L40,1),MOD($AD$14-L40,1))))) -> 0 | W40: =X40 -> 42554 | X40: 42554 | AA40: =MOD(Z40-Y40,1) -> 0 | AB40: =IF(AND(Y40<$AC$16,Y40>=$AD$16),IF(Z40>Y40,IF(Z40<=$AC$16,0,MOD(Z40-$AC$16,1)),IF(Z40>=$AD$16,MOD($AD$16-$AC$16,1),MOD(Z40-$AC$16,1))),IF(Y40>=$AC$16,IF(OR(Z40>Y40,Y40<=$AD$16),MOD(Z40-Y40,1),IF(Z40<=$AC$16,MOD($AD$16-Y40,1),MOD($AD$16-Y40,1)+MOD(Z40-$AC$16,1))),IF(OR(Z40<Y40,Z40>$AC$16),MOD($AD$16-Y40,1)+MOD(Z40-$AC$16,1),IF(Z40<$AD$16,MOD(Z40-Y40,1),MOD($AD$16-Y40,1))))) -> 0 | AC40: =AD40 -> 42554 | AD40: 42554 | AG40: =MOD(AF40-AE40,1) -> 0 | AH40: =IF(AND(AE40<$AC$16,AE40>=$AD$16),IF(AF40>AE40,IF(AF40<=$AC$16,0,MOD(AF40-$AC$16,1)),IF(AF40>=$AD$16,MOD($AD$16-$AC$16,1),MOD(AF40-$AC$16,1))),IF(AE40>=$AC$16,IF(OR(AF40>AE40,AE40<=$AD$16),MOD(AF40-AE40,1),IF(AF40<=$AC$16,MOD($AD$16-AE40,1),MOD($AD$16-AE40,1)+MOD(AF40-$AC$16,1))),IF(OR(AF40<AE40,AF40>$AC$16),MOD($AD$16-AE40,1)+MOD(AF40-$AC$16,1),IF(AF40<$AD$16,MOD(AF40-AE40,1),MOD($AD$16-AE40,1))))) -> 0
F41: =MOD(E41-D41,1) -> 0 | H41: =IF(AND(D41<$AC$14,D41>=$AD$14),IF(E41>D41,IF(E41<=$AC$14,0,MOD(E41-$AC$14,1)),IF(E41>=$AD$14,MOD($AD$14-$AC$14,1),MOD(E41-$AC$14,1))),IF(D41>=$AC$14,IF(OR(E41>D41,E41<=$AD$14),MOD(E41-D41,1),IF(E41<=$AC$14,MOD($AD$14-D41,1),MOD($AD$14-D41,1)+MOD(E41-$AC$14,1))),IF(OR(E41<D41,E41>$AC$14),MOD($AD$14-D41,1)+MOD(E41-$AC$14,1),IF(E41<$AD$14,MOD(E41-D41,1),MOD($AD$14-D41,1))))) -> 0 | N41: =MOD(M41-L41,1) -> 0 | P41: =IF(AND(L41<$AC$14,L41>=$AD$14),IF(M41>L41,IF(M41<=$AC$14,0,MOD(M41-$AC$14,1)),IF(M41>=$AD$14,MOD($AD$14-$AC$14,1),MOD(M41-$AC$14,1))),IF(L41>=$AC$14,IF(OR(M41>L41,M41<=$AD$14),MOD(M41-L41,1),IF(M41<=$AC$14,MOD($AD$14-L41,1),MOD($AD$14-L41,1)+MOD(M41-$AC$14,1))),IF(OR(M41<L41,M41>$AC$14),MOD($AD$14-L41,1)+MOD(M41-$AC$14,1),IF(M41<$AD$14,MOD(M41-L41,1),MOD($AD$14-L41,1))))) -> 0 | AA41: =MOD(Z41-Y41,1) -> 0 | AB41: =IF(AND(Y41<$AC$16,Y41>=$AD$16),IF(Z41>Y41,IF(Z41<=$AC$16,0,MOD(Z41-$AC$16,1)),IF(Z41>=$AD$16,MOD($AD$16-$AC$16,1),MOD(Z41-$AC$16,1))),IF(Y41>=$AC$16,IF(OR(Z41>Y41,Y41<=$AD$16),MOD(Z41-Y41,1),IF(Z41<=$AC$16,MOD($AD$16-Y41,1),MOD($AD$16-Y41,1)+MOD(Z41-$AC$16,1))),IF(OR(Z41<Y41,Z41>$AC$16),MOD($AD$16-Y41,1)+MOD(Z41-$AC$16,1),IF(Z41<$AD$16,MOD(Z41-Y41,1),MOD($AD$16-Y41,1))))) -> 0 | AG41: =MOD(AF41-AE41,1) -> 0 | AH41: =IF(AND(AE41<$AC$16,AE41>=$AD$16),IF(AF41>AE41,IF(AF41<=$AC$16,0,MOD(AF41-$AC$16,1)),IF(AF41>=$AD$16,MOD($AD$16-$AC$16,1),MOD(AF41-$AC$16,1))),IF(AE41>=$AC$16,IF(OR(AF41>AE41,AE41<=$AD$16),MOD(AF41-AE41,1),IF(AF41<=$AC$16,MOD($AD$16-AE41,1),MOD($AD$16-AE41,1)+MOD(AF41-$AC$16,1))),IF(OR(AF41<AE41,AF41>$AC$16),MOD($AD$16-AE41,1)+MOD(AF41-$AC$16,1),IF(AF41<$AD$16,MOD(AF41-AE41,1),MOD($AD$16-AE41,1))))) -> 0
F42: =MOD(E42-D42,1) -> 0 | H42: =IF(AND(D42<$AC$14,D42>=$AD$14),IF(E42>D42,IF(E42<=$AC$14,0,MOD(E42-$AC$14,1)),IF(E42>=$AD$14,MOD($AD$14-$AC$14,1),MOD(E42-$AC$14,1))),IF(D42>=$AC$14,IF(OR(E42>D42,E42<=$AD$14),MOD(E42-D42,1),IF(E42<=$AC$14,MOD($AD$14-D42,1),MOD($AD$14-D42,1)+MOD(E42-$AC$14,1))),IF(OR(E42<D42,E42>$AC$14),MOD($AD$14-D42,1)+MOD(E42-$AC$14,1),IF(E42<$AD$14,MOD(E42-D42,1),MOD($AD$14-D42,1))))) -> 0 | N42: =MOD(M42-L42,1) -> 0 | P42: =IF(AND(L42<$AC$14,L42>=$AD$14),IF(M42>L42,IF(M42<=$AC$14,0,MOD(M42-$AC$14,1)),IF(M42>=$AD$14,MOD($AD$14-$AC$14,1),MOD(M42-$AC$14,1))),IF(L42>=$AC$14,IF(OR(M42>L42,M42<=$AD$14),MOD(M42-L42,1),IF(M42<=$AC$14,MOD($AD$14-L42,1),MOD($AD$14-L42,1)+MOD(M42-$AC$14,1))),IF(OR(M42<L42,M42>$AC$14),MOD($AD$14-L42,1)+MOD(M42-$AC$14,1),IF(M42<$AD$14,MOD(M42-L42,1),MOD($AD$14-L42,1))))) -> 0 | AA42: =MOD(Z42-Y42,1) -> 0 | AB42: =IF(AND(Y42<$AC$16,Y42>=$AD$16),IF(Z42>Y42,IF(Z42<=$AC$16,0,MOD(Z42-$AC$16,1)),IF(Z42>=$AD$16,MOD($AD$16-$AC$16,1),MOD(Z42-$AC$16,1))),IF(Y42>=$AC$16,IF(OR(Z42>Y42,Y42<=$AD$16),MOD(Z42-Y42,1),IF(Z42<=$AC$16,MOD($AD$16-Y42,1),MOD($AD$16-Y42,1)+MOD(Z42-$AC$16,1))),IF(OR(Z42<Y42,Z42>$AC$16),MOD($AD$16-Y42,1)+MOD(Z42-$AC$16,1),IF(Z42<$AD$16,MOD(Z42-Y42,1),MOD($AD$16-Y42,1))))) -> 0 | AG42: =MOD(AF42-AE42,1) -> 0 | AH42: =IF(AND(AE42<$AC$16,AE42>=$AD$16),IF(AF42>AE42,IF(AF42<=$AC$16,0,MOD(AF42-$AC$16,1)),IF(AF42>=$AD$16,MOD($AD$16-$AC$16,1),MOD(AF42-$AC$16,1))),IF(AE42>=$AC$16,IF(OR(AF42>AE42,AE42<=$AD$16),MOD(AF42-AE42,1),IF(AF42<=$AC$16,MOD($AD$16-AE42,1),MOD($AD$16-AE42,1)+MOD(AF42-$AC$16,1))),IF(OR(AF42<AE42,AF42>$AC$16),MOD($AD$16-AE42,1)+MOD(AF42-$AC$16,1),IF(AF42<$AD$16,MOD(AF42-AE42,1),MOD($AD$16-AE42,1))))) -> 0
F43: =MOD(E43-D43,1) -> 0 | H43: =IF(AND(D43<$AC$14,D43>=$AD$14),IF(E43>D43,IF(E43<=$AC$14,0,MOD(E43-$AC$14,1)),IF(E43>=$AD$14,MOD($AD$14-$AC$14,1),MOD(E43-$AC$14,1))),IF(D43>=$AC$14,IF(OR(E43>D43,E43<=$AD$14),MOD(E43-D43,1),IF(E43<=$AC$14,MOD($AD$14-D43,1),MOD($AD$14-D43,1)+MOD(E43-$AC$14,1))),IF(OR(E43<D43,E43>$AC$14),MOD($AD$14-D43,1)+MOD(E43-$AC$14,1),IF(E43<$AD$14,MOD(E43-D43,1),MOD($AD$14-D43,1))))) -> 0 | N43: =MOD(M43-L43,1) -> 0 | P43: =IF(AND(L43<$AC$14,L43>=$AD$14),IF(M43>L43,IF(M43<=$AC$14,0,MOD(M43-$AC$14,1)),IF(M43>=$AD$14,MOD($AD$14-$AC$14,1),MOD(M43-$AC$14,1))),IF(L43>=$AC$14,IF(OR(M43>L43,M43<=$AD$14),MOD(M43-L43,1),IF(M43<=$AC$14,MOD($AD$14-L43,1),MOD($AD$14-L43,1)+MOD(M43-$AC$14,1))),IF(OR(M43<L43,M43>$AC$14),MOD($AD$14-L43,1)+MOD(M43-$AC$14,1),IF(M43<$AD$14,MOD(M43-L43,1),MOD($AD$14-L43,1))))) -> 0 | AA43: =MOD(Z43-Y43,1) -> 0 | AB43: =IF(AND(Y43<$AC$16,Y43>=$AD$16),IF(Z43>Y43,IF(Z43<=$AC$16,0,MOD(Z43-$AC$16,1)),IF(Z43>=$AD$16,MOD($AD$16-$AC$16,1),MOD(Z43-$AC$16,1))),IF(Y43>=$AC$16,IF(OR(Z43>Y43,Y43<=$AD$16),MOD(Z43-Y43,1),IF(Z43<=$AC$16,MOD($AD$16-Y43,1),MOD($AD$16-Y43,1)+MOD(Z43-$AC$16,1))),IF(OR(Z43<Y43,Z43>$AC$16),MOD($AD$16-Y43,1)+MOD(Z43-$AC$16,1),IF(Z43<$AD$16,MOD(Z43-Y43,1),MOD($AD$16-Y43,1))))) -> 0 | AG43: =MOD(AF43-AE43,1) -> 0 | AH43: =IF(AND(AE43<$AC$16,AE43>=$AD$16),IF(AF43>AE43,IF(AF43<=$AC$16,0,MOD(AF43-$AC$16,1)),IF(AF43>=$AD$16,MOD($AD$16-$AC$16,1),MOD(AF43-$AC$16,1))),IF(AE43>=$AC$16,IF(OR(AF43>AE43,AE43<=$AD$16),MOD(AF43-AE43,1),IF(AF43<=$AC$16,MOD($AD$16-AE43,1),MOD($AD$16-AE43,1)+MOD(AF43-$AC$16,1))),IF(OR(AF43<AE43,AF43>$AC$16),MOD($AD$16-AE43,1)+MOD(AF43-$AC$16,1),IF(AF43<$AD$16,MOD(AF43-AE43,1),MOD($AD$16-AE43,1))))) -> 0
B44: Total d'hrs hebdomadaire : | G44: =SUM(G8:G43) -> 0.35416667 | O44: =SUM(O8:O43) -> 0 | AA44: =MOD(Z44-Y44,1) -> 0 | AB44: =IF(AND(Y44<$AC$16,Y44>=$AD$16),IF(Z44>Y44,IF(Z44<=$AC$16,0,MOD(Z44-$AC$16,1)),IF(Z44>=$AD$16,MOD($AD$16-$AC$16,1),MOD(Z44-$AC$16,1))),IF(Y44>=$AC$16,IF(OR(Z44>Y44,Y44<=$AD$16),MOD(Z44-Y44,1),IF(Z44<=$AC$16,MOD($AD$16-Y44,1),MOD($AD$16-Y44,1)+MOD(Z44-$AC$16,1))),IF(OR(Z44<Y44,Z44>$AC$16),MOD($AD$16-Y44,1)+MOD(Z44-$AC$16,1),IF(Z44<$AD$16,MOD(Z44-Y44,1),MOD($AD$16-Y44,1))))) -> 0 | AG44: =MOD(AF44-AE44,1) -> 0 | AH44: =IF(AND(AE44<$AC$16,AE44>=$AD$16),IF(AF44>AE44,IF(AF44<=$AC$16,0,MOD(AF44-$AC$16,1)),IF(AF44>=$AD$16,MOD($AD$16-$AC$16,1),MOD(AF44-$AC$16,1))),IF(AE44>=$AC$16,IF(OR(AF44>AE44,AE44<=$AD$16),MOD(AF44-AE44,1),IF(AF44<=$AC$16,MOD($AD$16-AE44,1),MOD($AD$16-AE44,1)+MOD(AF44-$AC$16,1))),IF(OR(AF44<AE44,AF44>$AC$16),MOD($AD$16-AE44,1)+MOD(AF44-$AC$16,1),IF(AF44<$AD$16,MOD(AF44-AE44,1),MOD($AD$16-AE44,1))))) -> 0
B45: Total heures complémentaires hebdo. : | G45: =IF(G44<=PARAMETRES!$F$3,0,IF(AND(G44>PARAMETRES!$F$3,G44<PARAMETRES!$F$2),G44-PARAMETRES!$F$3,PARAMETRES!$F$4)) -> 0 | O45: =IF(O44<=PARAMETRES!$F$3,0,IF(AND(O44>PARAMETRES!$F$3,O44<PARAMETRES!$F$2),O44-PARAMETRES!$F$3,PARAMETRES!$F$4)) -> 0 | W45: Total Hrs. Effectuées: | Y45: =SUM(AA40:AA44) -> 0 | AC45: Total Hrs. Effectuées: | AE45: =SUM(AG40:AG44) -> 0
B46: Total d'hrs sup. de 40 à 44h hebdo à 12,5% : | G46: =IF(G44<PARAMETRES!$F$2,0,IF(AND(G44>PARAMETRES!$F$2,G44<PARAMETRES!$F$2+PARAMETRES!$F$5),G44-PARAMETRES!$F$2,PARAMETRES!$F$5)) -> 0 | O46: =IF(O44<PARAMETRES!$F$2,0,IF(AND(O44>PARAMETRES!$F$2,O44<PARAMETRES!$F$2+PARAMETRES!$F$5),O44-PARAMETRES!$F$2,PARAMETRES!$F$5)) -> 0 | W46: Total Hrs. Sup. Jour (de 6H à 20H): | Y46: =MOD(Y45-Y47,1) -> 0 | AC46: Total Hrs. Sup. Jour (de 6H à 20H): | AE46: =MOD(AE45-AE47,1) -> 0
B47: Total d'hrs sup. de 45 à 48h hebdo à 25% : | G47: =IF(G44<PARAMETRES!$F$2+PARAMETRES!$F$5,0,IF(AND(G44>PARAMETRES!$F$5+PARAMETRES!$F$2,G44<PARAMETRES!$F$2+PARAMETRES!$F$5+PARAMETRES!$F$6),G44-(PARAMETRES!$F$2+PARAMETRES!$F$5),PARAMETRES!$F$6)) -> 0 | O47: =IF(O44<PARAMETRES!$F$2+PARAMETRES!$F$5,0,IF(AND(O44>PARAMETRES!$F$5+PARAMETRES!$F$2,O44<PARAMETRES!$F$2+PARAMETRES!$F$5+PARAMETRES!$F$6),O44-(PARAMETRES!$F$2+PARAMETRES!$F$5),PARAMETRES!$F$6)) -> 0 | W47: Total Hrs. Sup. nuit (de 21H à 6H): | Y47: =SUM(AB40:AB44) -> 0 | AC47: Total Hrs. Sup. nuit (de 21H à 6H): | AE47: =SUM(AH40:AH44) -> 0
B48: Total d'hrs sup. au-delà de 48h hebdo à 50% : | G48: =IF(G44>PARAMETRES!$F$2+PARAMETRES!$F$5+PARAMETRES!$F$6,G44-(PARAMETRES!$F$2+PARAMETRES!$F$5+PARAMETRES!$F$6),0) -> 0 | O48: =IF(O44>PARAMETRES!$F$2+PARAMETRES!$F$5+PARAMETRES!$F$6,O44-(PARAMETRES!$F$2+PARAMETRES!$F$5+PARAMETRES!$F$6),0) -> 0 | W48: =X48 -> 42561 | X48: 42561 | AA48: =MOD(Z48-Y48,1) -> 0 | AB48: =IF(AND(Y48<$AC$16,Y48>=$AD$16),IF(Z48>Y48,IF(Z48<=$AC$16,0,MOD(Z48-$AC$16,1)),IF(Z48>=$AD$16,MOD($AD$16-$AC$16,1),MOD(Z48-$AC$16,1))),IF(Y48>=$AC$16,IF(OR(Z48>Y48,Y48<=$AD$16),MOD(Z48-Y48,1),IF(Z48<=$AC$16,MOD($AD$16-Y48,1),MOD($AD$16-Y48,1)+MOD(Z48-$AC$16,1))),IF(OR(Z48<Y48,Z48>$AC$16),MOD($AD$16-Y48,1)+MOD(Z48-$AC$16,1),IF(Z48<$AD$16,MOD(Z48-Y48,1),MOD($AD$16-Y48,1))))) -> 0 | AC48: =AD48 -> 42561 | AD48: 42561 | AG48: =MOD(AF48-AE48,1) -> 0 | AH48: =IF(AND(AE48<$AC$16,AE48>=$AD$16),IF(AF48>AE48,IF(AF48<=$AC$16,0,MOD(AF48-$AC$16,1)),IF(AF48>=$AD$16,MOD($AD$16-$AC$16,1),MOD(AF48-$AC$16,1))),IF(AE48>=$AC$16,IF(OR(AF48>AE48,AE48<=$AD$16),MOD(AF48-AE48,1),IF(AF48<=$AC$16,MOD($AD$16-AE48,1),MOD($AD$16-AE48,1)+MOD(AF48-$AC$16,1))),IF(OR(AF48<AE48,AF48>$AC$16),MOD($AD$16-AE48,1)+MOD(AF48-$AC$16,1),IF(AF48<$AD$16,MOD(AF48-AE48,1),MOD($AD$16-AE48,1))))) -> 0
B49: Total heures effectuées de 21h à 6h hebdo à 75% : | G49: =SUM(H8:H43) -> 0 | O49: =SUM(P8:P43) -> 0 | AA49: =MOD(Z49-Y49,1) -> 0 | AB49: =IF(AND(Y49<$AC$16,Y49>=$AD$16),IF(Z49>Y49,IF(Z49<=$AC$16,0,MOD(Z49-$AC$16,1)),IF(Z49>=$AD$16,MOD($AD$16-$AC$16,1),MOD(Z49-$AC$16,1))),IF(Y49>=$AC$16,IF(OR(Z49>Y49,Y49<=$AD$16),MOD(Z49-Y49,1),IF(Z49<=$AC$16,MOD($AD$16-Y49,1),MOD($AD$16-Y49,1)+MOD(Z49-$AC$16,1))),IF(OR(Z49<Y49,Z49>$AC$16),MOD($AD$16-Y49,1)+MOD(Z49-$AC$16,1),IF(Z49<$AD$16,MOD(Z49-Y49,1),MOD($AD$16-Y49,1))))) -> 0 | AG49: =MOD(AF49-AE49,1) -> 0 | AH49: =IF(AND(AE49<$AC$16,AE49>=$AD$16),IF(AF49>AE49,IF(AF49<=$AC$16,0,MOD(AF49-$AC$16,1)),IF(AF49>=$AD$16,MOD($AD$16-$AC$16,1),MOD(AF49-$AC$16,1))),IF(AE49>=$AC$16,IF(OR(AF49>AE49,AE49<=$AD$16),MOD(AF49-AE49,1),IF(AF49<=$AC$16,MOD($AD$16-AE49,1),MOD($AD$16-AE49,1)+MOD(AF49-$AC$16,1))),IF(OR(AF49<AE49,AF49>$AC$16),MOD($AD$16-AE49,1)+MOD(AF49-$AC$16,1),IF(AF49<$AD$16,MOD(AF49-AE49,1),MOD($AD$16-AE49,1))))) -> 0
B50: =C50 -> 42555 | C50: 42555 | D50: 0.3125 | E50: 0.5625 | F50: =MOD(E50-D50,1) -> 0.25 | G50: =SUM(F50:F55) -> 0.25 | H50: =IF(AND(D50<$AC$14,D50>=$AD$14),IF(E50>D50,IF(E50<=$AC$14,0,MOD(E50-$AC$14,1)),IF(E50>=$AD$14,MOD($AD$14-$AC$14,1),MOD(E50-$AC$14,1))),IF(D50>=$AC$14,IF(OR(E50>D50,E50<=$AD$14),MOD(E50-D50,1),IF(E50<=$AC$14,MOD($AD$14-D50,1),MOD($AD$14-D50,1)+MOD(E50-$AC$14,1))),IF(OR(E50<D50,E50>$AC$14),MOD($AD$14-D50,1)+MOD(E50-$AC$14,1),IF(E50<$AD$14,MOD(E50-D50,1),MOD($AD$14-D50,1))))) -> 0 | I50: Nettoyage clim. | J50: LE SOUFFLET | K50: PAPEETE | N50: =MOD(M50-L50,1) -> 0 | O50: =SUM(N50:N55) -> 0 | P50: =IF(AND(L50<$AC$14,L50>=$AD$14),IF(M50>L50,IF(M50<=$AC$14,0,MOD(M50-$AC$14,1)),IF(M50>=$AD$14,MOD($AD$14-$AC$14,1),MOD(M50-$AC$14,1))),IF(L50>=$AC$14,IF(OR(M50>L50,M50<=$AD$14),MOD(M50-L50,1),IF(M50<=$AC$14,MOD($AD$14-L50,1),MOD($AD$14-L50,1)+MOD(M50-$AC$14,1))),IF(OR(M50<L50,M50>$AC$14),MOD($AD$14-L50,1)+MOD(M50-$AC$14,1),IF(M50<$AD$14,MOD(M50-L50,1),MOD($AD$14-L50,1))))) -> 0 | AA50: =MOD(Z50-Y50,1) -> 0 | AB50: =IF(AND(Y50<$AC$16,Y50>=$AD$16),IF(Z50>Y50,IF(Z50<=$AC$16,0,MOD(Z50-$AC$16,1)),IF(Z50>=$AD$16,MOD($AD$16-$AC$16,1),MOD(Z50-$AC$16,1))),IF(Y50>=$AC$16,IF(OR(Z50>Y50,Y50<=$AD$16),MOD(Z50-Y50,1),IF(Z50<=$AC$16,MOD($AD$16-Y50,1),MOD($AD$16-Y50,1)+MOD(Z50-$AC$16,1))),IF(OR(Z50<Y50,Z50>$AC$16),MOD($AD$16-Y50,1)+MOD(Z50-$AC$16,1),IF(Z50<$AD$16,MOD(Z50-Y50,1),MOD($AD$16-Y50,1))))) -> 0 | AG50: =MOD(AF50-AE50,1) -> 0 | AH50: =IF(AND(AE50<$AC$16,AE50>=$AD$16),IF(AF50>AE50,IF(AF50<=$AC$16,0,MOD(AF50-$AC$16,1)),IF(AF50>=$AD$16,MOD($AD$16-$AC$16,1),MOD(AF50-$AC$16,1))),IF(AE50>=$AC$16,IF(OR(AF50>AE50,AE50<=$AD$16),MOD(AF50-AE50,1),IF(AF50<=$AC$16,MOD($AD$16-AE50,1),MOD($AD$16-AE50,1)+MOD(AF50-$AC$16,1))),IF(OR(AF50<AE50,AF50>$AC$16),MOD($AD$16-AE50,1)+MOD(AF50-$AC$16,1),IF(AF50<$AD$16,MOD(AF50-AE50,1),MOD($AD$16-AE50,1))))) -> 0
F51: =MOD(E51-D51,1) -> 0 | H51: =IF(AND(D51<$AC$14,D51>=$AD$14),IF(E51>D51,IF(E51<=$AC$14,0,MOD(E51-$AC$14,1)),IF(E51>=$AD$14,MOD($AD$14-$AC$14,1),MOD(E51-$AC$14,1))),IF(D51>=$AC$14,IF(OR(E51>D51,E51<=$AD$14),MOD(E51-D51,1),IF(E51<=$AC$14,MOD($AD$14-D51,1),MOD($AD$14-D51,1)+MOD(E51-$AC$14,1))),IF(OR(E51<D51,E51>$AC$14),MOD($AD$14-D51,1)+MOD(E51-$AC$14,1),IF(E51<$AD$14,MOD(E51-D51,1),MOD($AD$14-D51,1))))) -> 0 | N51: =MOD(M51-L51,1) -> 0 | P51: =IF(AND(L51<$AC$14,L51>=$AD$14),IF(M51>L51,IF(M51<=$AC$14,0,MOD(M51-$AC$14,1)),IF(M51>=$AD$14,MOD($AD$14-$AC$14,1),MOD(M51-$AC$14,1))),IF(L51>=$AC$14,IF(OR(M51>L51,M51<=$AD$14),MOD(M51-L51,1),IF(M51<=$AC$14,MOD($AD$14-L51,1),MOD($AD$14-L51,1)+MOD(M51-$AC$14,1))),IF(OR(M51<L51,M51>$AC$14),MOD($AD$14-L51,1)+MOD(M51-$AC$14,1),IF(M51<$AD$14,MOD(M51-L51,1),MOD($AD$14-L51,1))))) -> 0 | AA51: =MOD(Z51-Y51,1) -> 0 | AB51: =IF(AND(Y51<$AC$16,Y51>=$AD$16),IF(Z51>Y51,IF(Z51<=$AC$16,0,MOD(Z51-$AC$16,1)),IF(Z51>=$AD$16,MOD($AD$16-$AC$16,1),MOD(Z51-$AC$16,1))),IF(Y51>=$AC$16,IF(OR(Z51>Y51,Y51<=$AD$16),MOD(Z51-Y51,1),IF(Z51<=$AC$16,MOD($AD$16-Y51,1),MOD($AD$16-Y51,1)+MOD(Z51-$AC$16,1))),IF(OR(Z51<Y51,Z51>$AC$16),MOD($AD$16-Y51,1)+MOD(Z51-$AC$16,1),IF(Z51<$AD$16,MOD(Z51-Y51,1),MOD($AD$16-Y51,1))))) -> 0 | AG51: =MOD(AF51-AE51,1) -> 0 | AH51: =IF(AND(AE51<$AC$16,AE51>=$AD$16),IF(AF51>AE51,IF(AF51<=$AC$16,0,MOD(AF51-$AC$16,1)),IF(AF51>=$AD$16,MOD($AD$16-$AC$16,1),MOD(AF51-$AC$16,1))),IF(AE51>=$AC$16,IF(OR(AF51>AE51,AE51<=$AD$16),MOD(AF51-AE51,1),IF(AF51<=$AC$16,MOD($AD$16-AE51,1),MOD($AD$16-AE51,1)+MOD(AF51-$AC$16,1))),IF(OR(AF51<AE51,AF51>$AC$16),MOD($AD$16-AE51,1)+MOD(AF51-$AC$16,1),IF(AF51<$AD$16,MOD(AF51-AE51,1),MOD($AD$16-AE51,1))))) -> 0
F52: =MOD(E52-D52,1) -> 0 | H52: =IF(AND(D52<$AC$14,D52>=$AD$14),IF(E52>D52,IF(E52<=$AC$14,0,MOD(E52-$AC$14,1)),IF(E52>=$AD$14,MOD($AD$14-$AC$14,1),MOD(E52-$AC$14,1))),IF(D52>=$AC$14,IF(OR(E52>D52,E52<=$AD$14),MOD(E52-D52,1),IF(E52<=$AC$14,MOD($AD$14-D52,1),MOD($AD$14-D52,1)+MOD(E52-$AC$14,1))),IF(OR(E52<D52,E52>$AC$14),MOD($AD$14-D52,1)+MOD(E52-$AC$14,1),IF(E52<$AD$14,MOD(E52-D52,1),MOD($AD$14-D52,1))))) -> 0 | N52: =MOD(M52-L52,1) -> 0 | P52: =IF(AND(L52<$AC$14,L52>=$AD$14),IF(M52>L52,IF(M52<=$AC$14,0,MOD(M52-$AC$14,1)),IF(M52>=$AD$14,MOD($AD$14-$AC$14,1),MOD(M52-$AC$14,1))),IF(L52>=$AC$14,IF(OR(M52>L52,M52<=$AD$14),MOD(M52-L52,1),IF(M52<=$AC$14,MOD($AD$14-L52,1),MOD($AD$14-L52,1)+MOD(M52-$AC$14,1))),IF(OR(M52<L52,M52>$AC$14),MOD($AD$14-L52,1)+MOD(M52-$AC$14,1),IF(M52<$AD$14,MOD(M52-L52,1),MOD($AD$14-L52,1))))) -> 0 | AA52: =MOD(Z52-Y52,1) -> 0 | AB52: =IF(AND(Y52<$AC$16,Y52>=$AD$16),IF(Z52>Y52,IF(Z52<=$AC$16,0,MOD(Z52-$AC$16,1)),IF(Z52>=$AD$16,MOD($AD$16-$AC$16,1),MOD(Z52-$AC$16,1))),IF(Y52>=$AC$16,IF(OR(Z52>Y52,Y52<=$AD$16),MOD(Z52-Y52,1),IF(Z52<=$AC$16,MOD($AD$16-Y52,1),MOD($AD$16-Y52,1)+MOD(Z52-$AC$16,1))),IF(OR(Z52<Y52,Z52>$AC$16),MOD($AD$16-Y52,1)+MOD(Z52-$AC$16,1),IF(Z52<$AD$16,MOD(Z52-Y52,1),MOD($AD$16-Y52,1))))) -> 0 | AG52: =MOD(AF52-AE52,1) -> 0 | AH52: =IF(AND(AE52<$AC$16,AE52>=$AD$16),IF(AF52>AE52,IF(AF52<=$AC$16,0,MOD(AF52-$AC$16,1)),IF(AF52>=$AD$16,MOD($AD$16-$AC$16,1),MOD(AF52-$AC$16,1))),IF(AE52>=$AC$16,IF(OR(AF52>AE52,AE52<=$AD$16),MOD(AF52-AE52,1),IF(AF52<=$AC$16,MOD($AD$16-AE52,1),MOD($AD$16-AE52,1)+MOD(AF52-$AC$16,1))),IF(OR(AF52<AE52,AF52>$AC$16),MOD($AD$16-AE52,1)+MOD(AF52-$AC$16,1),IF(AF52<$AD$16,MOD(AF52-AE52,1),MOD($AD$16-AE52,1))))) -> 0
F53: =MOD(E53-D53,1) -> 0 | H53: =IF(AND(D53<$AC$14,D53>=$AD$14),IF(E53>D53,IF(E53<=$AC$14,0,MOD(E53-$AC$14,1)),IF(E53>=$AD$14,MOD($AD$14-$AC$14,1),MOD(E53-$AC$14,1))),IF(D53>=$AC$14,IF(OR(E53>D53,E53<=$AD$14),MOD(E53-D53,1),IF(E53<=$AC$14,MOD($AD$14-D53,1),MOD($AD$14-D53,1)+MOD(E53-$AC$14,1))),IF(OR(E53<D53,E53>$AC$14),MOD($AD$14-D53,1)+MOD(E53-$AC$14,1),IF(E53<$AD$14,MOD(E53-D53,1),MOD($AD$14-D53,1))))) -> 0 | N53: =MOD(M53-L53,1) -> 0 | P53: =IF(AND(L53<$AC$14,L53>=$AD$14),IF(M53>L53,IF(M53<=$AC$14,0,MOD(M53-$AC$14,1)),IF(M53>=$AD$14,MOD($AD$14-$AC$14,1),MOD(M53-$AC$14,1))),IF(L53>=$AC$14,IF(OR(M53>L53,M53<=$AD$14),MOD(M53-L53,1),IF(M53<=$AC$14,MOD($AD$14-L53,1),MOD($AD$14-L53,1)+MOD(M53-$AC$14,1))),IF(OR(M53<L53,M53>$AC$14),MOD($AD$14-L53,1)+MOD(M53-$AC$14,1),IF(M53<$AD$14,MOD(M53-L53,1),MOD($AD$14-L53,1))))) -> 0 | W53: Total Hrs. Effectuées: | Y53: =SUM(AA48:AA52) -> 0 | AC53: Total Hrs. Effectuées: | AE53: =SUM(AG48:AG52) -> 0
F54: =MOD(E54-D54,1) -> 0 | H54: =IF(AND(D54<$AC$14,D54>=$AD$14),IF(E54>D54,IF(E54<=$AC$14,0,MOD(E54-$AC$14,1)),IF(E54>=$AD$14,MOD($AD$14-$AC$14,1),MOD(E54-$AC$14,1))),IF(D54>=$AC$14,IF(OR(E54>D54,E54<=$AD$14),MOD(E54-D54,1),IF(E54<=$AC$14,MOD($AD$14-D54,1),MOD($AD$14-D54,1)+MOD(E54-$AC$14,1))),IF(OR(E54<D54,E54>$AC$14),MOD($AD$14-D54,1)+MOD(E54-$AC$14,1),IF(E54<$AD$14,MOD(E54-D54,1),MOD($AD$14-D54,1))))) -> 0 | N54: =MOD(M54-L54,1) -> 0 | P54: =IF(AND(L54<$AC$14,L54>=$AD$14),IF(M54>L54,IF(M54<=$AC$14,0,MOD(M54-$AC$14,1)),IF(M54>=$AD$14,MOD($AD$14-$AC$14,1),MOD(M54-$AC$14,1))),IF(L54>=$AC$14,IF(OR(M54>L54,M54<=$AD$14),MOD(M54-L54,1),IF(M54<=$AC$14,MOD($AD$14-L54,1),MOD($AD$14-L54,1)+MOD(M54-$AC$14,1))),IF(OR(M54<L54,M54>$AC$14),MOD($AD$14-L54,1)+MOD(M54-$AC$14,1),IF(M54<$AD$14,MOD(M54-L54,1),MOD($AD$14-L54,1))))) -> 0 | W54: Total Hrs. Sup. Jour (de 6H à 20H): | Y54: =MOD(Y53-Y55,1) -> 0 | AC54: Total Hrs. Sup. Jour (de 6H à 20H): | AE54: =MOD(AE53-AE55,1) -> 0
F55: =MOD(E55-D55,1) -> 0 | H55: =IF(AND(D55<$AC$14,D55>=$AD$14),IF(E55>D55,IF(E55<=$AC$14,0,MOD(E55-$AC$14,1)),IF(E55>=$AD$14,MOD($AD$14-$AC$14,1),MOD(E55-$AC$14,1))),IF(D55>=$AC$14,IF(OR(E55>D55,E55<=$AD$14),MOD(E55-D55,1),IF(E55<=$AC$14,MOD($AD$14-D55,1),MOD($AD$14-D55,1)+MOD(E55-$AC$14,1))),IF(OR(E55<D55,E55>$AC$14),MOD($AD$14-D55,1)+MOD(E55-$AC$14,1),IF(E55<$AD$14,MOD(E55-D55,1),MOD($AD$14-D55,1))))) -> 0 | N55: =MOD(M55-L55,1) -> 0 | P55: =IF(AND(L55<$AC$14,L55>=$AD$14),IF(M55>L55,IF(M55<=$AC$14,0,MOD(M55-$AC$14,1)),IF(M55>=$AD$14,MOD($AD$14-$AC$14,1),MOD(M55-$AC$14,1))),IF(L55>=$AC$14,IF(OR(M55>L55,M55<=$AD$14),MOD(M55-L55,1),IF(M55<=$AC$14,MOD($AD$14-L55,1),MOD($AD$14-L55,1)+MOD(M55-$AC$14,1))),IF(OR(M55<L55,M55>$AC$14),MOD($AD$14-L55,1)+MOD(M55-$AC$14,1),IF(M55<$AD$14,MOD(M55-L55,1),MOD($AD$14-L55,1))))) -> 0 | W55: Total Hrs. Sup. nuit (de 21H à 6H): | Y55: =SUM(AB48:AB52) -> 0 | AC55: Total Hrs. Sup. nuit (de 21H à 6H): | AE55: =SUM(AH48:AH52) -> 0
B56: =C56 -> 42556 | C56: 42556 | D56: 0.3125 | E56: 0.45833333 | F56: =MOD(E56-D56,1) -> 0.14583333 | G56: =SUM(F56:F61) -> 0.33333333 | H56: =IF(AND(D56<$AC$14,D56>=$AD$14),IF(E56>D56,IF(E56<=$AC$14,0,MOD(E56-$AC$14,1)),IF(E56>=$AD$14,MOD($AD$14-$AC$14,1),MOD(E56-$AC$14,1))),IF(D56>=$AC$14,IF(OR(E56>D56,E56<=$AD$14),MOD(E56-D56,1),IF(E56<=$AC$14,MOD($AD$14-D56,1),MOD($AD$14-D56,1)+MOD(E56-$AC$14,1))),IF(OR(E56<D56,E56>$AC$14),MOD($AD$14-D56,1)+MOD(E56-$AC$14,1),IF(E56<$AD$14,MOD(E56-D56,1),MOD($AD$14-D56,1))))) -> 0 | I56: Modifs gaz + chauffage | J56: MR SIU | K56: TAINA | N56: =MOD(M56-L56,1) -> 0 | O56: =SUM(N56:N61) -> 0 | P56: =IF(AND(L56<$AC$14,L56>=$AD$14),IF(M56>L56,IF(M56<=$AC$14,0,MOD(M56-$AC$14,1)),IF(M56>=$AD$14,MOD($AD$14-$AC$14,1),MOD(M56-$AC$14,1))),IF(L56>=$AC$14,IF(OR(M56>L56,M56<=$AD$14),MOD(M56-L56,1),IF(M56<=$AC$14,MOD($AD$14-L56,1),MOD($AD$14-L56,1)+MOD(M56-$AC$14,1))),IF(OR(M56<L56,M56>$AC$14),MOD($AD$14-L56,1)+MOD(M56-$AC$14,1),IF(M56<$AD$14,MOD(M56-L56,1),MOD($AD$14-L56,1))))) -> 0 | W56: =X56 -> 42565 | X56: 42565 | AA56: =MOD(Z56-Y56,1) -> 0 | AB56: =IF(AND(Y56<$AC$16,Y56>=$AD$16),IF(Z56>Y56,IF(Z56<=$AC$16,0,MOD(Z56-$AC$16,1)),IF(Z56>=$AD$16,MOD($AD$16-$AC$16,1),MOD(Z56-$AC$16,1))),IF(Y56>=$AC$16,IF(OR(Z56>Y56,Y56<=$AD$16),MOD(Z56-Y56,1),IF(Z56<=$AC$16,MOD($AD$16-Y56,1),MOD($AD$16-Y56,1)+MOD(Z56-$AC$16,1))),IF(OR(Z56<Y56,Z56>$AC$16),MOD($AD$16-Y56,1)+MOD(Z56-$AC$16,1),IF(Z56<$AD$16,MOD(Z56-Y56,1),MOD($AD$16-Y56,1))))) -> 0 | AC56: =AD56 -> 42565 | AD56: 42565 | AG56: =MOD(AF56-AE56,1) -> 0 | AH56: =IF(AND(AE56<$AC$16,AE56>=$AD$16),IF(AF56>AE56,IF(AF56<=$AC$16,0,MOD(AF56-$AC$16,1)),IF(AF56>=$AD$16,MOD($AD$16-$AC$16,1),MOD(AF56-$AC$16,1))),IF(AE56>=$AC$16,IF(OR(AF56>AE56,AE56<=$AD$16),MOD(AF56-AE56,1),IF(AF56<=$AC$16,MOD($AD$16-AE56,1),MOD($AD$16-AE56,1)+MOD(AF56-$AC$16,1))),IF(OR(AF56<AE56,AF56>$AC$16),MOD($AD$16-AE56,1)+MOD(AF56-$AC$16,1),IF(AF56<$AD$16,MOD(AF56-AE56,1),MOD($AD$16-AE56,1))))) -> 0
D57: 0.47916667 | E57: 0.66666667 | F57: =MOD(E57-D57,1) -> 0.1875 | H57: =IF(AND(D57<$AC$14,D57>=$AD$14),IF(E57>D57,IF(E57<=$AC$14,0,MOD(E57-$AC$14,1)),IF(E57>=$AD$14,MOD($AD$14-$AC$14,1),MOD(E57-$AC$14,1))),IF(D57>=$AC$14,IF(OR(E57>D57,E57<=$AD$14),MOD(E57-D57,1),IF(E57<=$AC$14,MOD($AD$14-D57,1),MOD($AD$14-D57,1)+MOD(E57-$AC$14,1))),IF(OR(E57<D57,E57>$AC$14),MOD($AD$14-D57,1)+MOD(E57-$AC$14,1),IF(E57<$AD$14,MOD(E57-D57,1),MOD($AD$14-D57,1))))) -> 0 | N57: =MOD(M57-L57,1) -> 0 | P57: =IF(AND(L57<$AC$14,L57>=$AD$14),IF(M57>L57,IF(M57<=$AC$14,0,MOD(M57-$AC$14,1)),IF(M57>=$AD$14,MOD($AD$14-$AC$14,1),MOD(M57-$AC$14,1))),IF(L57>=$AC$14,IF(OR(M57>L57,M57<=$AD$14),MOD(M57-L57,1),IF(M57<=$AC$14,MOD($AD$14-L57,1),MOD($AD$14-L57,1)+MOD(M57-$AC$14,1))),IF(OR(M57<L57,M57>$AC$14),MOD($AD$14-L57,1)+MOD(M57-$AC$14,1),IF(M57<$AD$14,MOD(M57-L57,1),MOD($AD$14-L57,1))))) -> 0 | AA57: =MOD(Z57-Y57,1) -> 0 | AB57: =IF(AND(Y57<$AC$16,Y57>=$AD$16),IF(Z57>Y57,IF(Z57<=$AC$16,0,MOD(Z57-$AC$16,1)),IF(Z57>=$AD$16,MOD($AD$16-$AC$16,1),MOD(Z57-$AC$16,1))),IF(Y57>=$AC$16,IF(OR(Z57>Y57,Y57<=$AD$16),MOD(Z57-Y57,1),IF(Z57<=$AC$16,MOD($AD$16-Y57,1),MOD($AD$16-Y57,1)+MOD(Z57-$AC$16,1))),IF(OR(Z57<Y57,Z57>$AC$16),MOD($AD$16-Y57,1)+MOD(Z57-$AC$16,1),IF(Z57<$AD$16,MOD(Z57-Y57,1),MOD($AD$16-Y57,1))))) -> 0 | AG57: =MOD(AF57-AE57,1) -> 0 | AH57: =IF(AND(AE57<$AC$16,AE57>=$AD$16),IF(AF57>AE57,IF(AF57<=$AC$16,0,MOD(AF57-$AC$16,1)),IF(AF57>=$AD$16,MOD($AD$16-$AC$16,1),MOD(AF57-$AC$16,1))),IF(AE57>=$AC$16,IF(OR(AF57>AE57,AE57<=$AD$16),MOD(AF57-AE57,1),IF(AF57<=$AC$16,MOD($AD$16-AE57,1),MOD($AD$16-AE57,1)+MOD(AF57-$AC$16,1))),IF(OR(AF57<AE57,AF57>$AC$16),MOD($AD$16-AE57,1)+MOD(AF57-$AC$16,1),IF(AF57<$AD$16,MOD(AF57-AE57,1),MOD($AD$16-AE57,1))))) -> 0
F58: =MOD(E58-D58,1) -> 0 | H58: =IF(AND(D58<$AC$14,D58>=$AD$14),IF(E58>D58,IF(E58<=$AC$14,0,MOD(E58-$AC$14,1)),IF(E58>=$AD$14,MOD($AD$14-$AC$14,1),MOD(E58-$AC$14,1))),IF(D58>=$AC$14,IF(OR(E58>D58,E58<=$AD$14),MOD(E58-D58,1),IF(E58<=$AC$14,MOD($AD$14-D58,1),MOD($AD$14-D58,1)+MOD(E58-$AC$14,1))),IF(OR(E58<D58,E58>$AC$14),MOD($AD$14-D58,1)+MOD(E58-$AC$14,1),IF(E58<$AD$14,MOD(E58-D58,1),MOD($AD$14-D58,1))))) -> 0 | N58: =MOD(M58-L58,1) -> 0 | P58: =IF(AND(L58<$AC$14,L58>=$AD$14),IF(M58>L58,IF(M58<=$AC$14,0,MOD(M58-$AC$14,1)),IF(M58>=$AD$14,MOD($AD$14-$AC$14,1),MOD(M58-$AC$14,1))),IF(L58>=$AC$14,IF(OR(M58>L58,M58<=$AD$14),MOD(M58-L58,1),IF(M58<=$AC$14,MOD($AD$14-L58,1),MOD($AD$14-L58,1)+MOD(M58-$AC$14,1))),IF(OR(M58<L58,M58>$AC$14),MOD($AD$14-L58,1)+MOD(M58-$AC$14,1),IF(M58<$AD$14,MOD(M58-L58,1),MOD($AD$14-L58,1))))) -> 0 | AA58: =MOD(Z58-Y58,1) -> 0 | AB58: =IF(AND(Y58<$AC$16,Y58>=$AD$16),IF(Z58>Y58,IF(Z58<=$AC$16,0,MOD(Z58-$AC$16,1)),IF(Z58>=$AD$16,MOD($AD$16-$AC$16,1),MOD(Z58-$AC$16,1))),IF(Y58>=$AC$16,IF(OR(Z58>Y58,Y58<=$AD$16),MOD(Z58-Y58,1),IF(Z58<=$AC$16,MOD($AD$16-Y58,1),MOD($AD$16-Y58,1)+MOD(Z58-$AC$16,1))),IF(OR(Z58<Y58,Z58>$AC$16),MOD($AD$16-Y58,1)+MOD(Z58-$AC$16,1),IF(Z58<$AD$16,MOD(Z58-Y58,1),MOD($AD$16-Y58,1))))) -> 0 | AG58: =MOD(AF58-AE58,1) -> 0 | AH58: =IF(AND(AE58<$AC$16,AE58>=$AD$16),IF(AF58>AE58,IF(AF58<=$AC$16,0,MOD(AF58-$AC$16,1)),IF(AF58>=$AD$16,MOD($AD$16-$AC$16,1),MOD(AF58-$AC$16,1))),IF(AE58>=$AC$16,IF(OR(AF58>AE58,AE58<=$AD$16),MOD(AF58-AE58,1),IF(AF58<=$AC$16,MOD($AD$16-AE58,1),MOD($AD$16-AE58,1)+MOD(AF58-$AC$16,1))),IF(OR(AF58<AE58,AF58>$AC$16),MOD($AD$16-AE58,1)+MOD(AF58-$AC$16,1),IF(AF58<$AD$16,MOD(AF58-AE58,1),MOD($AD$16-AE58,1))))) -> 0
F59: =MOD(E59-D59,1) -> 0 | H59: =IF(AND(D59<$AC$14,D59>=$AD$14),IF(E59>D59,IF(E59<=$AC$14,0,MOD(E59-$AC$14,1)),IF(E59>=$AD$14,MOD($AD$14-$AC$14,1),MOD(E59-$AC$14,1))),IF(D59>=$AC$14,IF(OR(E59>D59,E59<=$AD$14),MOD(E59-D59,1),IF(E59<=$AC$14,MOD($AD$14-D59,1),MOD($AD$14-D59,1)+MOD(E59-$AC$14,1))),IF(OR(E59<D59,E59>$AC$14),MOD($AD$14-D59,1)+MOD(E59-$AC$14,1),IF(E59<$AD$14,MOD(E59-D59,1),MOD($AD$14-D59,1))))) -> 0 | N59: =MOD(M59-L59,1) -> 0 | P59: =IF(AND(L59<$AC$14,L59>=$AD$14),IF(M59>L59,IF(M59<=$AC$14,0,MOD(M59-$AC$14,1)),IF(M59>=$AD$14,MOD($AD$14-$AC$14,1),MOD(M59-$AC$14,1))),IF(L59>=$AC$14,IF(OR(M59>L59,M59<=$AD$14),MOD(M59-L59,1),IF(M59<=$AC$14,MOD($AD$14-L59,1),MOD($AD$14-L59,1)+MOD(M59-$AC$14,1))),IF(OR(M59<L59,M59>$AC$14),MOD($AD$14-L59,1)+MOD(M59-$AC$14,1),IF(M59<$AD$14,MOD(M59-L59,1),MOD($AD$14-L59,1))))) -> 0 | AA59: =MOD(Z59-Y59,1) -> 0 | AB59: =IF(AND(Y59<$AC$16,Y59>=$AD$16),IF(Z59>Y59,IF(Z59<=$AC$16,0,MOD(Z59-$AC$16,1)),IF(Z59>=$AD$16,MOD($AD$16-$AC$16,1),MOD(Z59-$AC$16,1))),IF(Y59>=$AC$16,IF(OR(Z59>Y59,Y59<=$AD$16),MOD(Z59-Y59,1),IF(Z59<=$AC$16,MOD($AD$16-Y59,1),MOD($AD$16-Y59,1)+MOD(Z59-$AC$16,1))),IF(OR(Z59<Y59,Z59>$AC$16),MOD($AD$16-Y59,1)+MOD(Z59-$AC$16,1),IF(Z59<$AD$16,MOD(Z59-Y59,1),MOD($AD$16-Y59,1))))) -> 0 | AG59: =MOD(AF59-AE59,1) -> 0 | AH59: =IF(AND(AE59<$AC$16,AE59>=$AD$16),IF(AF59>AE59,IF(AF59<=$AC$16,0,MOD(AF59-$AC$16,1)),IF(AF59>=$AD$16,MOD($AD$16-$AC$16,1),MOD(AF59-$AC$16,1))),IF(AE59>=$AC$16,IF(OR(AF59>AE59,AE59<=$AD$16),MOD(AF59-AE59,1),IF(AF59<=$AC$16,MOD($AD$16-AE59,1),MOD($AD$16-AE59,1)+MOD(AF59-$AC$16,1))),IF(OR(AF59<AE59,AF59>$AC$16),MOD($AD$16-AE59,1)+MOD(AF59-$AC$16,1),IF(AF59<$AD$16,MOD(AF59-AE59,1),MOD($AD$16-AE59,1))))) -> 0
F60: =MOD(E60-D60,1) -> 0 | H60: =IF(AND(D60<$AC$14,D60>=$AD$14),IF(E60>D60,IF(E60<=$AC$14,0,MOD(E60-$AC$14,1)),IF(E60>=$AD$14,MOD($AD$14-$AC$14,1),MOD(E60-$AC$14,1))),IF(D60>=$AC$14,IF(OR(E60>D60,E60<=$AD$14),MOD(E60-D60,1),IF(E60<=$AC$14,MOD($AD$14-D60,1),MOD($AD$14-D60,1)+MOD(E60-$AC$14,1))),IF(OR(E60<D60,E60>$AC$14),MOD($AD$14-D60,1)+MOD(E60-$AC$14,1),IF(E60<$AD$14,MOD(E60-D60,1),MOD($AD$14-D60,1))))) -> 0 | N60: =MOD(M60-L60,1) -> 0 | P60: =IF(AND(L60<$AC$14,L60>=$AD$14),IF(M60>L60,IF(M60<=$AC$14,0,MOD(M60-$AC$14,1)),IF(M60>=$AD$14,MOD($AD$14-$AC$14,1),MOD(M60-$AC$14,1))),IF(L60>=$AC$14,IF(OR(M60>L60,M60<=$AD$14),MOD(M60-L60,1),IF(M60<=$AC$14,MOD($AD$14-L60,1),MOD($AD$14-L60,1)+MOD(M60-$AC$14,1))),IF(OR(M60<L60,M60>$AC$14),MOD($AD$14-L60,1)+MOD(M60-$AC$14,1),IF(M60<$AD$14,MOD(M60-L60,1),MOD($AD$14-L60,1))))) -> 0 | AA60: =MOD(Z60-Y60,1) -> 0 | AB60: =IF(AND(Y60<$AC$16,Y60>=$AD$16),IF(Z60>Y60,IF(Z60<=$AC$16,0,MOD(Z60-$AC$16,1)),IF(Z60>=$AD$16,MOD($AD$16-$AC$16,1),MOD(Z60-$AC$16,1))),IF(Y60>=$AC$16,IF(OR(Z60>Y60,Y60<=$AD$16),MOD(Z60-Y60,1),IF(Z60<=$AC$16,MOD($AD$16-Y60,1),MOD($AD$16-Y60,1)+MOD(Z60-$AC$16,1))),IF(OR(Z60<Y60,Z60>$AC$16),MOD($AD$16-Y60,1)+MOD(Z60-$AC$16,1),IF(Z60<$AD$16,MOD(Z60-Y60,1),MOD($AD$16-Y60,1))))) -> 0 | AG60: =MOD(AF60-AE60,1) -> 0 | AH60: =IF(AND(AE60<$AC$16,AE60>=$AD$16),IF(AF60>AE60,IF(AF60<=$AC$16,0,MOD(AF60-$AC$16,1)),IF(AF60>=$AD$16,MOD($AD$16-$AC$16,1),MOD(AF60-$AC$16,1))),IF(AE60>=$AC$16,IF(OR(AF60>AE60,AE60<=$AD$16),MOD(AF60-AE60,1),IF(AF60<=$AC$16,MOD($AD$16-AE60,1),MOD($AD$16-AE60,1)+MOD(AF60-$AC$16,1))),IF(OR(AF60<AE60,AF60>$AC$16),MOD($AD$16-AE60,1)+MOD(AF60-$AC$16,1),IF(AF60<$AD$16,MOD(AF60-AE60,1),MOD($AD$16-AE60,1))))) -> 0
F61: =MOD(E61-D61,1) -> 0 | H61: =IF(AND(D61<$AC$14,D61>=$AD$14),IF(E61>D61,IF(E61<=$AC$14,0,MOD(E61-$AC$14,1)),IF(E61>=$AD$14,MOD($AD$14-$AC$14,1),MOD(E61-$AC$14,1))),IF(D61>=$AC$14,IF(OR(E61>D61,E61<=$AD$14),MOD(E61-D61,1),IF(E61<=$AC$14,MOD($AD$14-D61,1),MOD($AD$14-D61,1)+MOD(E61-$AC$14,1))),IF(OR(E61<D61,E61>$AC$14),MOD($AD$14-D61,1)+MOD(E61-$AC$14,1),IF(E61<$AD$14,MOD(E61-D61,1),MOD($AD$14-D61,1))))) -> 0 | N61: =MOD(M61-L61,1) -> 0 | P61: =IF(AND(L61<$AC$14,L61>=$AD$14),IF(M61>L61,IF(M61<=$AC$14,0,MOD(M61-$AC$14,1)),IF(M61>=$AD$14,MOD($AD$14-$AC$14,1),MOD(M61-$AC$14,1))),IF(L61>=$AC$14,IF(OR(M61>L61,M61<=$AD$14),MOD(M61-L61,1),IF(M61<=$AC$14,MOD($AD$14-L61,1),MOD($AD$14-L61,1)+MOD(M61-$AC$14,1))),IF(OR(M61<L61,M61>$AC$14),MOD($AD$14-L61,1)+MOD(M61-$AC$14,1),IF(M61<$AD$14,MOD(M61-L61,1),MOD($AD$14-L61,1))))) -> 0 | W61: Total Hrs. Effectuées: | Y61: =SUM(AA56:AA60) -> 0 | AC61: Total Hrs. Effectuées: | AE61: =SUM(AG56:AG60) -> 0
B62: =C62 -> 42557 | C62: 42557 | D62: 0.3125 | E62: 0.33333333 | F62: =MOD(E62-D62,1) -> 0.020833333 | G62: =SUM(F62:F67) -> 0.3125 | H62: =IF(AND(D62<$AC$14,D62>=$AD$14),IF(E62>D62,IF(E62<=$AC$14,0,MOD(E62-$AC$14,1)),IF(E62>=$AD$14,MOD($AD$14-$AC$14,1),MOD(E62-$AC$14,1))),IF(D62>=$AC$14,IF(OR(E62>D62,E62<=$AD$14),MOD(E62-D62,1),IF(E62<=$AC$14,MOD($AD$14-D62,1),MOD($AD$14-D62,1)+MOD(E62-$AC$14,1))),IF(OR(E62<D62,E62>$AC$14),MOD($AD$14-D62,1)+MOD(E62-$AC$14,1),IF(E62<$AD$14,MOD(E62-D62,1),MOD($AD$14-D62,1))))) -> 0 | I62: Fuite WC | J62: ALINE TAHITI | K62: PUNAAUIA | N62: =MOD(M62-L62,1) -> 0 | O62: =SUM(N62:N67) -> 0 | P62: =IF(AND(L62<$AC$14,L62>=$AD$14),IF(M62>L62,IF(M62<=$AC$14,0,MOD(M62-$AC$14,1)),IF(M62>=$AD$14,MOD($AD$14-$AC$14,1),MOD(M62-$AC$14,1))),IF(L62>=$AC$14,IF(OR(M62>L62,M62<=$AD$14),MOD(M62-L62,1),IF(M62<=$AC$14,MOD($AD$14-L62,1),MOD($AD$14-L62,1)+MOD(M62-$AC$14,1))),IF(OR(M62<L62,M62>$AC$14),MOD($AD$14-L62,1)+MOD(M62-$AC$14,1),IF(M62<$AD$14,MOD(M62-L62,1),MOD($AD$14-L62,1))))) -> 0 | W62: Total Hrs. Sup. Jour (de 6H à 20H): | Y62: =MOD(Y61-Y63,1) -> 0 | AC62: Total Hrs. Sup. Jour (de 6H à 20H): | AE62: =MOD(AE61-AE63,1) -> 0
D63: 0.33333333 | E63: 0.4375 | F63: =MOD(E63-D63,1) -> 0.10416667 | H63: =IF(AND(D63<$AC$14,D63>=$AD$14),IF(E63>D63,IF(E63<=$AC$14,0,MOD(E63-$AC$14,1)),IF(E63>=$AD$14,MOD($AD$14-$AC$14,1),MOD(E63-$AC$14,1))),IF(D63>=$AC$14,IF(OR(E63>D63,E63<=$AD$14),MOD(E63-D63,1),IF(E63<=$AC$14,MOD($AD$14-D63,1),MOD($AD$14-D63,1)+MOD(E63-$AC$14,1))),IF(OR(E63<D63,E63>$AC$14),MOD($AD$14-D63,1)+MOD(E63-$AC$14,1),IF(E63<$AD$14,MOD(E63-D63,1),MOD($AD$14-D63,1))))) -> 0 | I63: Pose plomb. Jardin+ wc+lavabo | J63: ATIKE | K63: PUNAAUIA | N63: =MOD(M63-L63,1) -> 0 | P63: =IF(AND(L63<$AC$14,L63>=$AD$14),IF(M63>L63,IF(M63<=$AC$14,0,MOD(M63-$AC$14,1)),IF(M63>=$AD$14,MOD($AD$14-$AC$14,1),MOD(M63-$AC$14,1))),IF(L63>=$AC$14,IF(OR(M63>L63,M63<=$AD$14),MOD(M63-L63,1),IF(M63<=$AC$14,MOD($AD$14-L63,1),MOD($AD$14-L63,1)+MOD(M63-$AC$14,1))),IF(OR(M63<L63,M63>$AC$14),MOD($AD$14-L63,1)+MOD(M63-$AC$14,1),IF(M63<$AD$14,MOD(M63-L63,1),MOD($AD$14-L63,1))))) -> 0 | W63: Total Hrs. Sup. nuit (de 21H à 6H): | Y63: =SUM(AB56:AB60) -> 0 | AC63: Total Hrs. Sup. nuit (de 21H à 6H): | AE63: =SUM(AH56:AH60) -> 0
D64: 0.4375 | E64: 0.5 | F64: =MOD(E64-D64,1) -> 0.0625 | H64: =IF(AND(D64<$AC$14,D64>=$AD$14),IF(E64>D64,IF(E64<=$AC$14,0,MOD(E64-$AC$14,1)),IF(E64>=$AD$14,MOD($AD$14-$AC$14,1),MOD(E64-$AC$14,1))),IF(D64>=$AC$14,IF(OR(E64>D64,E64<=$AD$14),MOD(E64-D64,1),IF(E64<=$AC$14,MOD($AD$14-D64,1),MOD($AD$14-D64,1)+MOD(E64-$AC$14,1))),IF(OR(E64<D64,E64>$AC$14),MOD($AD$14-D64,1)+MOD(E64-$AC$14,1),IF(E64<$AD$14,MOD(E64-D64,1),MOD($AD$14-D64,1))))) -> 0 | I64: Fuite évier | J64: ATIKE | K64: PIRAE | N64: =MOD(M64-L64,1) -> 0 | P64: =IF(AND(L64<$AC$14,L64>=$AD$14),IF(M64>L64,IF(M64<=$AC$14,0,MOD(M64-$AC$14,1)),IF(M64>=$AD$14,MOD($AD$14-$AC$14,1),MOD(M64-$AC$14,1))),IF(L64>=$AC$14,IF(OR(M64>L64,M64<=$AD$14),MOD(M64-L64,1),IF(M64<=$AC$14,MOD($AD$14-L64,1),MOD($AD$14-L64,1)+MOD(M64-$AC$14,1))),IF(OR(M64<L64,M64>$AC$14),MOD($AD$14-L64,1)+MOD(M64-$AC$14,1),IF(M64<$AD$14,MOD(M64-L64,1),MOD($AD$14-L64,1))))) -> 0 | W64: =X64 -> 42568 | X64: 42568 | AA64: =MOD(Z64-Y64,1) -> 0 | AB64: =IF(AND(Y64<$AC$16,Y64>=$AD$16),IF(Z64>Y64,IF(Z64<=$AC$16,0,MOD(Z64-$AC$16,1)),IF(Z64>=$AD$16,MOD($AD$16-$AC$16,1),MOD(Z64-$AC$16,1))),IF(Y64>=$AC$16,IF(OR(Z64>Y64,Y64<=$AD$16),MOD(Z64-Y64,1),IF(Z64<=$AC$16,MOD($AD$16-Y64,1),MOD($AD$16-Y64,1)+MOD(Z64-$AC$16,1))),IF(OR(Z64<Y64,Z64>$AC$16),MOD($AD$16-Y64,1)+MOD(Z64-$AC$16,1),IF(Z64<$AD$16,MOD(Z64-Y64,1),MOD($AD$16-Y64,1))))) -> 0 | AC64: =AD64 -> 42568 | AD64: 42568 | AG64: =MOD(AF64-AE64,1) -> 0 | AH64: =IF(AND(AE64<$AC$16,AE64>=$AD$16),IF(AF64>AE64,IF(AF64<=$AC$16,0,MOD(AF64-$AC$16,1)),IF(AF64>=$AD$16,MOD($AD$16-$AC$16,1),MOD(AF64-$AC$16,1))),IF(AE64>=$AC$16,IF(OR(AF64>AE64,AE64<=$AD$16),MOD(AF64-AE64,1),IF(AF64<=$AC$16,MOD($AD$16-AE64,1),MOD($AD$16-AE64,1)+MOD(AF64-$AC$16,1))),IF(OR(AF64<AE64,AF64>$AC$16),MOD($AD$16-AE64,1)+MOD(AF64-$AC$16,1),IF(AF64<$AD$16,MOD(AF64-AE64,1),MOD($AD$16-AE64,1))))) -> 0
D65: 0.54166667 | E65: 0.66666667 | F65: =MOD(E65-D65,1) -> 0.125 | H65: =IF(AND(D65<$AC$14,D65>=$AD$14),IF(E65>D65,IF(E65<=$AC$14,0,MOD(E65-$AC$14,1)),IF(E65>=$AD$14,MOD($AD$14-$AC$14,1),MOD(E65-$AC$14,1))),IF(D65>=$AC$14,IF(OR(E65>D65,E65<=$AD$14),MOD(E65-D65,1),IF(E65<=$AC$14,MOD($AD$14-D65,1),MOD($AD$14-D65,1)+MOD(E65-$AC$14,1))),IF(OR(E65<D65,E65>$AC$14),MOD($AD$14-D65,1)+MOD(E65-$AC$14,1),IF(E65<$AD$14,MOD(E65-D65,1),MOD($AD$14-D65,1))))) -> 0 | I65: Install. Chaudière | J65: LAURA SIU | K65: TIPAERUI | N65: =MOD(M65-L65,1) -> 0 | P65: =IF(AND(L65<$AC$14,L65>=$AD$14),IF(M65>L65,IF(M65<=$AC$14,0,MOD(M65-$AC$14,1)),IF(M65>=$AD$14,MOD($AD$14-$AC$14,1),MOD(M65-$AC$14,1))),IF(L65>=$AC$14,IF(OR(M65>L65,M65<=$AD$14),MOD(M65-L65,1),IF(M65<=$AC$14,MOD($AD$14-L65,1),MOD($AD$14-L65,1)+MOD(M65-$AC$14,1))),IF(OR(M65<L65,M65>$AC$14),MOD($AD$14-L65,1)+MOD(M65-$AC$14,1),IF(M65<$AD$14,MOD(M65-L65,1),MOD($AD$14-L65,1))))) -> 0 | AA65: =MOD(Z65-Y65,1) -> 0 | AB65: =IF(AND(Y65<$AC$16,Y65>=$AD$16),IF(Z65>Y65,IF(Z65<=$AC$16,0,MOD(Z65-$AC$16,1)),IF(Z65>=$AD$16,MOD($AD$16-$AC$16,1),MOD(Z65-$AC$16,1))),IF(Y65>=$AC$16,IF(OR(Z65>Y65,Y65<=$AD$16),MOD(Z65-Y65,1),IF(Z65<=$AC$16,MOD($AD$16-Y65,1),MOD($AD$16-Y65,1)+MOD(Z65-$AC$16,1))),IF(OR(Z65<Y65,Z65>$AC$16),MOD($AD$16-Y65,1)+MOD(Z65-$AC$16,1),IF(Z65<$AD$16,MOD(Z65-Y65,1),MOD($AD$16-Y65,1))))) -> 0 | AG65: =MOD(AF65-AE65,1) -> 0 | AH65: =IF(AND(AE65<$AC$16,AE65>=$AD$16),IF(AF65>AE65,IF(AF65<=$AC$16,0,MOD(AF65-$AC$16,1)),IF(AF65>=$AD$16,MOD($AD$16-$AC$16,1),MOD(AF65-$AC$16,1))),IF(AE65>=$AC$16,IF(OR(AF65>AE65,AE65<=$AD$16),MOD(AF65-AE65,1),IF(AF65<=$AC$16,MOD($AD$16-AE65,1),MOD($AD$16-AE65,1)+MOD(AF65-$AC$16,1))),IF(OR(AF65<AE65,AF65>$AC$16),MOD($AD$16-AE65,1)+MOD(AF65-$AC$16,1),IF(AF65<$AD$16,MOD(AF65-AE65,1),MOD($AD$16-AE65,1))))) -> 0
F66: =MOD(E66-D66,1) -> 0 | H66: =IF(AND(D66<$AC$14,D66>=$AD$14),IF(E66>D66,IF(E66<=$AC$14,0,MOD(E66-$AC$14,1)),IF(E66>=$AD$14,MOD($AD$14-$AC$14,1),MOD(E66-$AC$14,1))),IF(D66>=$AC$14,IF(OR(E66>D66,E66<=$AD$14),MOD(E66-D66,1),IF(E66<=$AC$14,MOD($AD$14-D66,1),MOD($AD$14-D66,1)+MOD(E66-$AC$14,1))),IF(OR(E66<D66,E66>$AC$14),MOD($AD$14-D66,1)+MOD(E66-$AC$14,1),IF(E66<$AD$14,MOD(E66-D66,1),MOD($AD$14-D66,1))))) -> 0 | N66: =MOD(M66-L66,1) -> 0 | P66: =IF(AND(L66<$AC$14,L66>=$AD$14),IF(M66>L66,IF(M66<=$AC$14,0,MOD(M66-$AC$14,1)),IF(M66>=$AD$14,MOD($AD$14-$AC$14,1),MOD(M66-$AC$14,1))),IF(L66>=$AC$14,IF(OR(M66>L66,M66<=$AD$14),MOD(M66-L66,1),IF(M66<=$AC$14,MOD($AD$14-L66,1),MOD($AD$14-L66,1)+MOD(M66-$AC$14,1))),IF(OR(M66<L66,M66>$AC$14),MOD($AD$14-L66,1)+MOD(M66-$AC$14,1),IF(M66<$AD$14,MOD(M66-L66,1),MOD($AD$14-L66,1))))) -> 0 | AA66: =MOD(Z66-Y66,1) -> 0 | AB66: =IF(AND(Y66<$AC$16,Y66>=$AD$16),IF(Z66>Y66,IF(Z66<=$AC$16,0,MOD(Z66-$AC$16,1)),IF(Z66>=$AD$16,MOD($AD$16-$AC$16,1),MOD(Z66-$AC$16,1))),IF(Y66>=$AC$16,IF(OR(Z66>Y66,Y66<=$AD$16),MOD(Z66-Y66,1),IF(Z66<=$AC$16,MOD($AD$16-Y66,1),MOD($AD$16-Y66,1)+MOD(Z66-$AC$16,1))),IF(OR(Z66<Y66,Z66>$AC$16),MOD($AD$16-Y66,1)+MOD(Z66-$AC$16,1),IF(Z66<$AD$16,MOD(Z66-Y66,1),MOD($AD$16-Y66,1))))) -> 0 | AG66: =MOD(AF66-AE66,1) -> 0 | AH66: =IF(AND(AE66<$AC$16,AE66>=$AD$16),IF(AF66>AE66,IF(AF66<=$AC$16,0,MOD(AF66-$AC$16,1)),IF(AF66>=$AD$16,MOD($AD$16-$AC$16,1),MOD(AF66-$AC$16,1))),IF(AE66>=$AC$16,IF(OR(AF66>AE66,AE66<=$AD$16),MOD(AF66-AE66,1),IF(AF66<=$AC$16,MOD($AD$16-AE66,1),MOD($AD$16-AE66,1)+MOD(AF66-$AC$16,1))),IF(OR(AF66<AE66,AF66>$AC$16),MOD($AD$16-AE66,1)+MOD(AF66-$AC$16,1),IF(AF66<$AD$16,MOD(AF66-AE66,1),MOD($AD$16-AE66,1))))) -> 0
F67: =MOD(E67-D67,1) -> 0 | H67: =IF(AND(D67<$AC$14,D67>=$AD$14),IF(E67>D67,IF(E67<=$AC$14,0,MOD(E67-$AC$14,1)),IF(E67>=$AD$14,MOD($AD$14-$AC$14,1),MOD(E67-$AC$14,1))),IF(D67>=$AC$14,IF(OR(E67>D67,E67<=$AD$14),MOD(E67-D67,1),IF(E67<=$AC$14,MOD($AD$14-D67,1),MOD($AD$14-D67,1)+MOD(E67-$AC$14,1))),IF(OR(E67<D67,E67>$AC$14),MOD($AD$14-D67,1)+MOD(E67-$AC$14,1),IF(E67<$AD$14,MOD(E67-D67,1),MOD($AD$14-D67,1))))) -> 0 | N67: =MOD(M67-L67,1) -> 0 | P67: =IF(AND(L67<$AC$14,L67>=$AD$14),IF(M67>L67,IF(M67<=$AC$14,0,MOD(M67-$AC$14,1)),IF(M67>=$AD$14,MOD($AD$14-$AC$14,1),MOD(M67-$AC$14,1))),IF(L67>=$AC$14,IF(OR(M67>L67,M67<=$AD$14),MOD(M67-L67,1),IF(M67<=$AC$14,MOD($AD$14-L67,1),MOD($AD$14-L67,1)+MOD(M67-$AC$14,1))),IF(OR(M67<L67,M67>$AC$14),MOD($AD$14-L67,1)+MOD(M67-$AC$14,1),IF(M67<$AD$14,MOD(M67-L67,1),MOD($AD$14-L67,1))))) -> 0 | AA67: =MOD(Z67-Y67,1) -> 0 | AB67: =IF(AND(Y67<$AC$16,Y67>=$AD$16),IF(Z67>Y67,IF(Z67<=$AC$16,0,MOD(Z67-$AC$16,1)),IF(Z67>=$AD$16,MOD($AD$16-$AC$16,1),MOD(Z67-$AC$16,1))),IF(Y67>=$AC$16,IF(OR(Z67>Y67,Y67<=$AD$16),MOD(Z67-Y67,1),IF(Z67<=$AC$16,MOD($AD$16-Y67,1),MOD($AD$16-Y67,1)+MOD(Z67-$AC$16,1))),IF(OR(Z67<Y67,Z67>$AC$16),MOD($AD$16-Y67,1)+MOD(Z67-$AC$16,1),IF(Z67<$AD$16,MOD(Z67-Y67,1),MOD($AD$16-Y67,1))))) -> 0 | AG67: =MOD(AF67-AE67,1) -> 0 | AH67: =IF(AND(AE67<$AC$16,AE67>=$AD$16),IF(AF67>AE67,IF(AF67<=$AC$16,0,MOD(AF67-$AC$16,1)),IF(AF67>=$AD$16,MOD($AD$16-$AC$16,1),MOD(AF67-$AC$16,1))),IF(AE67>=$AC$16,IF(OR(AF67>AE67,AE67<=$AD$16),MOD(AF67-AE67,1),IF(AF67<=$AC$16,MOD($AD$16-AE67,1),MOD($AD$16-AE67,1)+MOD(AF67-$AC$16,1))),IF(OR(AF67<AE67,AF67>$AC$16),MOD($AD$16-AE67,1)+MOD(AF67-$AC$16,1),IF(AF67<$AD$16,MOD(AF67-AE67,1),MOD($AD$16-AE67,1))))) -> 0
B68: =C68 -> 42558 | C68: 42558 | D68: 0.3125 | E68: 0.47916667 | F68: =MOD(E68-D68,1) -> 0.16666667 | G68: =SUM(F68:F73) -> 0.375 | H68: =IF(AND(D68<$AC$14,D68>=$AD$14),IF(E68>D68,IF(E68<=$AC$14,0,MOD(E68-$AC$14,1)),IF(E68>=$AD$14,MOD($AD$14-$AC$14,1),MOD(E68-$AC$14,1))),IF(D68>=$AC$14,IF(OR(E68>D68,E68<=$AD$14),MOD(E68-D68,1),IF(E68<=$AC$14,MOD($AD$14-D68,1),MOD($AD$14-D68,1)+MOD(E68-$AC$14,1))),IF(OR(E68<D68,E68>$AC$14),MOD($AD$14-D68,1)+MOD(E68-$AC$14,1),IF(E68<$AD$14,MOD(E68-D68,1),MOD($AD$14-D68,1))))) -> 0 | I68: Travaux divers | J68: LAURA SIU | K68: TIPAERUI | N68: =MOD(M68-L68,1) -> 0 | O68: =SUM(N68:N73) -> 0 | P68: =IF(AND(L68<$AC$14,L68>=$AD$14),IF(M68>L68,IF(M68<=$AC$14,0,MOD(M68-$AC$14,1)),IF(M68>=$AD$14,MOD($AD$14-$AC$14,1),MOD(M68-$AC$14,1))),IF(L68>=$AC$14,IF(OR(M68>L68,M68<=$AD$14),MOD(M68-L68,1),IF(M68<=$AC$14,MOD($AD$14-L68,1),MOD($AD$14-L68,1)+MOD(M68-$AC$14,1))),IF(OR(M68<L68,M68>$AC$14),MOD($AD$14-L68,1)+MOD(M68-$AC$14,1),IF(M68<$AD$14,MOD(M68-L68,1),MOD($AD$14-L68,1))))) -> 0 | AA68: =MOD(Z68-Y68,1) -> 0 | AB68: =IF(AND(Y68<$AC$16,Y68>=$AD$16),IF(Z68>Y68,IF(Z68<=$AC$16,0,MOD(Z68-$AC$16,1)),IF(Z68>=$AD$16,MOD($AD$16-$AC$16,1),MOD(Z68-$AC$16,1))),IF(Y68>=$AC$16,IF(OR(Z68>Y68,Y68<=$AD$16),MOD(Z68-Y68,1),IF(Z68<=$AC$16,MOD($AD$16-Y68,1),MOD($AD$16-Y68,1)+MOD(Z68-$AC$16,1))),IF(OR(Z68<Y68,Z68>$AC$16),MOD($AD$16-Y68,1)+MOD(Z68-$AC$16,1),IF(Z68<$AD$16,MOD(Z68-Y68,1),MOD($AD$16-Y68,1))))) -> 0 | AG68: =MOD(AF68-AE68,1) -> 0 | AH68: =IF(AND(AE68<$AC$16,AE68>=$AD$16),IF(AF68>AE68,IF(AF68<=$AC$16,0,MOD(AF68-$AC$16,1)),IF(AF68>=$AD$16,MOD($AD$16-$AC$16,1),MOD(AF68-$AC$16,1))),IF(AE68>=$AC$16,IF(OR(AF68>AE68,AE68<=$AD$16),MOD(AF68-AE68,1),IF(AF68<=$AC$16,MOD($AD$16-AE68,1),MOD($AD$16-AE68,1)+MOD(AF68-$AC$16,1))),IF(OR(AF68<AE68,AF68>$AC$16),MOD($AD$16-AE68,1)+MOD(AF68-$AC$16,1),IF(AF68<$AD$16,MOD(AF68-AE68,1),MOD($AD$16-AE68,1))))) -> 0
D69: 0.5 | E69: 0.6875 | F69: =MOD(E69-D69,1) -> 0.1875 | H69: =IF(AND(D69<$AC$14,D69>=$AD$14),IF(E69>D69,IF(E69<=$AC$14,0,MOD(E69-$AC$14,1)),IF(E69>=$AD$14,MOD($AD$14-$AC$14,1),MOD(E69-$AC$14,1))),IF(D69>=$AC$14,IF(OR(E69>D69,E69<=$AD$14),MOD(E69-D69,1),IF(E69<=$AC$14,MOD($AD$14-D69,1),MOD($AD$14-D69,1)+MOD(E69-$AC$14,1))),IF(OR(E69<D69,E69>$AC$14),MOD($AD$14-D69,1)+MOD(E69-$AC$14,1),IF(E69<$AD$14,MOD(E69-D69,1),MOD($AD$14-D69,1))))) -> 0 | I69: Plomberie | K69: TIPAERUI | N69: =MOD(M69-L69,1) -> 0 | P69: =IF(AND(L69<$AC$14,L69>=$AD$14),IF(M69>L69,IF(M69<=$AC$14,0,MOD(M69-$AC$14,1)),IF(M69>=$AD$14,MOD($AD$14-$AC$14,1),MOD(M69-$AC$14,1))),IF(L69>=$AC$14,IF(OR(M69>L69,M69<=$AD$14),MOD(M69-L69,1),IF(M69<=$AC$14,MOD($AD$14-L69,1),MOD($AD$14-L69,1)+MOD(M69-$AC$14,1))),IF(OR(M69<L69,M69>$AC$14),MOD($AD$14-L69,1)+MOD(M69-$AC$14,1),IF(M69<$AD$14,MOD(M69-L69,1),MOD($AD$14-L69,1))))) -> 0 | W69: Total Hrs. Effectuées: | Y69: =SUM(AA64:AA68) -> 0 | AC69: Total Hrs. Effectuées: | AE69: =SUM(AG64:AG68) -> 0
D70: 0.70833333 | E70: 0.72916667 | F70: =MOD(E70-D70,1) -> 0.020833333 | H70: =IF(AND(D70<$AC$14,D70>=$AD$14),IF(E70>D70,IF(E70<=$AC$14,0,MOD(E70-$AC$14,1)),IF(E70>=$AD$14,MOD($AD$14-$AC$14,1),MOD(E70-$AC$14,1))),IF(D70>=$AC$14,IF(OR(E70>D70,E70<=$AD$14),MOD(E70-D70,1),IF(E70<=$AC$14,MOD($AD$14-D70,1),MOD($AD$14-D70,1)+MOD(E70-$AC$14,1))),IF(OR(E70<D70,E70>$AC$14),MOD($AD$14-D70,1)+MOD(E70-$AC$14,1),IF(E70<$AD$14,MOD(E70-D70,1),MOD($AD$14-D70,1))))) -> 0 | N70: =MOD(M70-L70,1) -> 0 | P70: =IF(AND(L70<$AC$14,L70>=$AD$14),IF(M70>L70,IF(M70<=$AC$14,0,MOD(M70-$AC$14,1)),IF(M70>=$AD$14,MOD($AD$14-$AC$14,1),MOD(M70-$AC$14,1))),IF(L70>=$AC$14,IF(OR(M70>L70,M70<=$AD$14),MOD(M70-L70,1),IF(M70<=$AC$14,MOD($AD$14-L70,1),MOD($AD$14-L70,1)+MOD(M70-$AC$14,1))),IF(OR(M70<L70,M70>$AC$14),MOD($AD$14-L70,1)+MOD(M70-$AC$14,1),IF(M70<$AD$14,MOD(M70-L70,1),MOD($AD$14-L70,1))))) -> 0 | W70: Total Hrs. Sup. Jour (de 6H à 20H): | Y70: =MOD(Y69-Y71,1) -> 0 | AC70: Total Hrs. Sup. Jour (de 6H à 20H): | AE70: =MOD(AE69-AE71,1) -> 0
F71: =MOD(E71-D71,1) -> 0 | H71: =IF(AND(D71<$AC$14,D71>=$AD$14),IF(E71>D71,IF(E71<=$AC$14,0,MOD(E71-$AC$14,1)),IF(E71>=$AD$14,MOD($AD$14-$AC$14,1),MOD(E71-$AC$14,1))),IF(D71>=$AC$14,IF(OR(E71>D71,E71<=$AD$14),MOD(E71-D71,1),IF(E71<=$AC$14,MOD($AD$14-D71,1),MOD($AD$14-D71,1)+MOD(E71-$AC$14,1))),IF(OR(E71<D71,E71>$AC$14),MOD($AD$14-D71,1)+MOD(E71-$AC$14,1),IF(E71<$AD$14,MOD(E71-D71,1),MOD($AD$14-D71,1))))) -> 0 | N71: =MOD(M71-L71,1) -> 0 | P71: =IF(AND(L71<$AC$14,L71>=$AD$14),IF(M71>L71,IF(M71<=$AC$14,0,MOD(M71-$AC$14,1)),IF(M71>=$AD$14,MOD($AD$14-$AC$14,1),MOD(M71-$AC$14,1))),IF(L71>=$AC$14,IF(OR(M71>L71,M71<=$AD$14),MOD(M71-L71,1),IF(M71<=$AC$14,MOD($AD$14-L71,1),MOD($AD$14-L71,1)+MOD(M71-$AC$14,1))),IF(OR(M71<L71,M71>$AC$14),MOD($AD$14-L71,1)+MOD(M71-$AC$14,1),IF(M71<$AD$14,MOD(M71-L71,1),MOD($AD$14-L71,1))))) -> 0 | W71: Total Hrs. Sup. nuit (de 21H à 6H): | Y71: =SUM(AB64:AB68) -> 0 | AC71: Total Hrs. Sup. nuit (de 21H à 6H): | AE71: =SUM(AH64:AH68) -> 0
F72: =MOD(E72-D72,1) -> 0 | H72: =IF(AND(D72<$AC$14,D72>=$AD$14),IF(E72>D72,IF(E72<=$AC$14,0,MOD(E72-$AC$14,1)),IF(E72>=$AD$14,MOD($AD$14-$AC$14,1),MOD(E72-$AC$14,1))),IF(D72>=$AC$14,IF(OR(E72>D72,E72<=$AD$14),MOD(E72-D72,1),IF(E72<=$AC$14,MOD($AD$14-D72,1),MOD($AD$14-D72,1)+MOD(E72-$AC$14,1))),IF(OR(E72<D72,E72>$AC$14),MOD($AD$14-D72,1)+MOD(E72-$AC$14,1),IF(E72<$AD$14,MOD(E72-D72,1),MOD($AD$14-D72,1))))) -> 0 | N72: =MOD(M72-L72,1) -> 0 | P72: =IF(AND(L72<$AC$14,L72>=$AD$14),IF(M72>L72,IF(M72<=$AC$14,0,MOD(M72-$AC$14,1)),IF(M72>=$AD$14,MOD($AD$14-$AC$14,1),MOD(M72-$AC$14,1))),IF(L72>=$AC$14,IF(OR(M72>L72,M72<=$AD$14),MOD(M72-L72,1),IF(M72<=$AC$14,MOD($AD$14-L72,1),MOD($AD$14-L72,1)+MOD(M72-$AC$14,1))),IF(OR(M72<L72,M72>$AC$14),MOD($AD$14-L72,1)+MOD(M72-$AC$14,1),IF(M72<$AD$14,MOD(M72-L72,1),MOD($AD$14-L72,1))))) -> 0 | W72: =X72 -> 42575 | X72: 42575 | AA72: =MOD(Z72-Y72,1) -> 0 | AB72: =IF(AND(Y72<$AC$16,Y72>=$AD$16),IF(Z72>Y72,IF(Z72<=$AC$16,0,MOD(Z72-$AC$16,1)),IF(Z72>=$AD$16,MOD($AD$16-$AC$16,1),MOD(Z72-$AC$16,1))),IF(Y72>=$AC$16,IF(OR(Z72>Y72,Y72<=$AD$16),MOD(Z72-Y72,1),IF(Z72<=$AC$16,MOD($AD$16-Y72,1),MOD($AD$16-Y72,1)+MOD(Z72-$AC$16,1))),IF(OR(Z72<Y72,Z72>$AC$16),MOD($AD$16-Y72,1)+MOD(Z72-$AC$16,1),IF(Z72<$AD$16,MOD(Z72-Y72,1),MOD($AD$16-Y72,1))))) -> 0 | AC72: =AD72 -> 42575 | AD72: 42575 | AG72: =MOD(AF72-AE72,1) -> 0 | AH72: =IF(AND(AE72<$AC$16,AE72>=$AD$16),IF(AF72>AE72,IF(AF72<=$AC$16,0,MOD(AF72-$AC$16,1)),IF(AF72>=$AD$16,MOD($AD$16-$AC$16,1),MOD(AF72-$AC$16,1))),IF(AE72>=$AC$16,IF(OR(AF72>AE72,AE72<=$AD$16),MOD(AF72-AE72,1),IF(AF72<=$AC$16,MOD($AD$16-AE72,1),MOD($AD$16-AE72,1)+MOD(AF72-$AC$16,1))),IF(OR(AF72<AE72,AF72>$AC$16),MOD($AD$16-AE72,1)+MOD(AF72-$AC$16,1),IF(AF72<$AD$16,MOD(AF72-AE72,1),MOD($AD$16-AE72,1))))) -> 0
F73: =MOD(E73-D73,1) -> 0 | H73: =IF(AND(D73<$AC$14,D73>=$AD$14),IF(E73>D73,IF(E73<=$AC$14,0,MOD(E73-$AC$14,1)),IF(E73>=$AD$14,MOD($AD$14-$AC$14,1),MOD(E73-$AC$14,1))),IF(D73>=$AC$14,IF(OR(E73>D73,E73<=$AD$14),MOD(E73-D73,1),IF(E73<=$AC$14,MOD($AD$14-D73,1),MOD($AD$14-D73,1)+MOD(E73-$AC$14,1))),IF(OR(E73<D73,E73>$AC$14),MOD($AD$14-D73,1)+MOD(E73-$AC$14,1),IF(E73<$AD$14,MOD(E73-D73,1),MOD($AD$14-D73,1))))) -> 0 | N73: =MOD(M73-L73,1) -> 0 | P73: =IF(AND(L73<$AC$14,L73>=$AD$14),IF(M73>L73,IF(M73<=$AC$14,0,MOD(M73-$AC$14,1)),IF(M73>=$AD$14,MOD($AD$14-$AC$14,1),MOD(M73-$AC$14,1))),IF(L73>=$AC$14,IF(OR(M73>L73,M73<=$AD$14),MOD(M73-L73,1),IF(M73<=$AC$14,MOD($AD$14-L73,1),MOD($AD$14-L73,1)+MOD(M73-$AC$14,1))),IF(OR(M73<L73,M73>$AC$14),MOD($AD$14-L73,1)+MOD(M73-$AC$14,1),IF(M73<$AD$14,MOD(M73-L73,1),MOD($AD$14-L73,1))))) -> 0 | AA73: =Z73-Y73 -> 0 | AB73: =IF(AND(Y73<$AC$16,Y73>=$AD$16),IF(Z73>Y73,IF(Z73<=$AC$16,0,MOD(Z73-$AC$16,1)),IF(Z73>=$AD$16,MOD($AD$16-$AC$16,1),MOD(Z73-$AC$16,1))),IF(Y73>=$AC$16,IF(OR(Z73>Y73,Y73<=$AD$16),MOD(Z73-Y73,1),IF(Z73<=$AC$16,MOD($AD$16-Y73,1),MOD($AD$16-Y73,1)+MOD(Z73-$AC$16,1))),IF(OR(Z73<Y73,Z73>$AC$16),MOD($AD$16-Y73,1)+MOD(Z73-$AC$16,1),IF(Z73<$AD$16,MOD(Z73-Y73,1),MOD($AD$16-Y73,1))))) -> 0 | AG73: =AF73-AE73 -> 0 | AH73: =IF(AND(AE73<$AC$16,AE73>=$AD$16),IF(AF73>AE73,IF(AF73<=$AC$16,0,MOD(AF73-$AC$16,1)),IF(AF73>=$AD$16,MOD($AD$16-$AC$16,1),MOD(AF73-$AC$16,1))),IF(AE73>=$AC$16,IF(OR(AF73>AE73,AE73<=$AD$16),MOD(AF73-AE73,1),IF(AF73<=$AC$16,MOD($AD$16-AE73,1),MOD($AD$16-AE73,1)+MOD(AF73-$AC$16,1))),IF(OR(AF73<AE73,AF73>$AC$16),MOD($AD$16-AE73,1)+MOD(AF73-$AC$16,1),IF(AF73<$AD$16,MOD(AF73-AE73,1),MOD($AD$16-AE73,1))))) -> 0
B74: =C74 -> 42559 | C74: 42559 | D74: 0.29166667 | E74: 0.33333333 | F74: =MOD(E74-D74,1) -> 0.041666667 | G74: =SUM(F74:F79) -> 0.35416667 | H74: =IF(AND(D74<$AC$14,D74>=$AD$14),IF(E74>D74,IF(E74<=$AC$14,0,MOD(E74-$AC$14,1)),IF(E74>=$AD$14,MOD($AD$14-$AC$14,1),MOD(E74-$AC$14,1))),IF(D74>=$AC$14,IF(OR(E74>D74,E74<=$AD$14),MOD(E74-D74,1),IF(E74<=$AC$14,MOD($AD$14-D74,1),MOD($AD$14-D74,1)+MOD(E74-$AC$14,1))),IF(OR(E74<D74,E74>$AC$14),MOD($AD$14-D74,1)+MOD(E74-$AC$14,1),IF(E74<$AD$14,MOD(E74-D74,1),MOD($AD$14-D74,1))))) -> 0 | I74: Réparation fuite douche | J74: STEPHANE SIU | K74: TIPAERUI | N74: =MOD(M74-L74,1) -> 0 | O74: =SUM(N74:N79) -> 0 | P74: =IF(AND(L74<$AC$14,L74>=$AD$14),IF(M74>L74,IF(M74<=$AC$14,0,MOD(M74-$AC$14,1)),IF(M74>=$AD$14,MOD($AD$14-$AC$14,1),MOD(M74-$AC$14,1))),IF(L74>=$AC$14,IF(OR(M74>L74,M74<=$AD$14),MOD(M74-L74,1),IF(M74<=$AC$14,MOD($AD$14-L74,1),MOD($AD$14-L74,1)+MOD(M74-$AC$14,1))),IF(OR(M74<L74,M74>$AC$14),MOD($AD$14-L74,1)+MOD(M74-$AC$14,1),IF(M74<$AD$14,MOD(M74-L74,1),MOD($AD$14-L74,1))))) -> 0 | AA74: =Z74-Y74 -> 0 | AB74: =IF(AND(Y74<$AC$16,Y74>=$AD$16),IF(Z74>Y74,IF(Z74<=$AC$16,0,MOD(Z74-$AC$16,1)),IF(Z74>=$AD$16,MOD($AD$16-$AC$16,1),MOD(Z74-$AC$16,1))),IF(Y74>=$AC$16,IF(OR(Z74>Y74,Y74<=$AD$16),MOD(Z74-Y74,1),IF(Z74<=$AC$16,MOD($AD$16-Y74,1),MOD($AD$16-Y74,1)+MOD(Z74-$AC$16,1))),IF(OR(Z74<Y74,Z74>$AC$16),MOD($AD$16-Y74,1)+MOD(Z74-$AC$16,1),IF(Z74<$AD$16,MOD(Z74-Y74,1),MOD($AD$16-Y74,1))))) -> 0 | AG74: =AF74-AE74 -> 0 | AH74: =IF(AND(AE74<$AC$16,AE74>=$AD$16),IF(AF74>AE74,IF(AF74<=$AC$16,0,MOD(AF74-$AC$16,1)),IF(AF74>=$AD$16,MOD($AD$16-$AC$16,1),MOD(AF74-$AC$16,1))),IF(AE74>=$AC$16,IF(OR(AF74>AE74,AE74<=$AD$16),MOD(AF74-AE74,1),IF(AF74<=$AC$16,MOD($AD$16-AE74,1),MOD($AD$16-AE74,1)+MOD(AF74-$AC$16,1))),IF(OR(AF74<AE74,AF74>$AC$16),MOD($AD$16-AE74,1)+MOD(AF74-$AC$16,1),IF(AF74<$AD$16,MOD(AF74-AE74,1),MOD($AD$16-AE74,1))))) -> 0
D75: 0.33333333 | E75: 0.5 | F75: =MOD(E75-D75,1) -> 0.16666667 | H75: =IF(AND(D75<$AC$14,D75>=$AD$14),IF(E75>D75,IF(E75<=$AC$14,0,MOD(E75-$AC$14,1)),IF(E75>=$AD$14,MOD($AD$14-$AC$14,1),MOD(E75-$AC$14,1))),IF(D75>=$AC$14,IF(OR(E75>D75,E75<=$AD$14),MOD(E75-D75,1),IF(E75<=$AC$14,MOD($AD$14-D75,1),MOD($AD$14-D75,1)+MOD(E75-$AC$14,1))),IF(OR(E75<D75,E75>$AC$14),MOD($AD$14-D75,1)+MOD(E75-$AC$14,1),IF(E75<$AD$14,MOD(E75-D75,1),MOD($AD$14-D75,1))))) -> 0 | I75: Travaux divers | J75: SIU | N75: =MOD(M75-L75,1) -> 0 | P75: =IF(AND(L75<$AC$14,L75>=$AD$14),IF(M75>L75,IF(M75<=$AC$14,0,MOD(M75-$AC$14,1)),IF(M75>=$AD$14,MOD($AD$14-$AC$14,1),MOD(M75-$AC$14,1))),IF(L75>=$AC$14,IF(OR(M75>L75,M75<=$AD$14),MOD(M75-L75,1),IF(M75<=$AC$14,MOD($AD$14-L75,1),MOD($AD$14-L75,1)+MOD(M75-$AC$14,1))),IF(OR(M75<L75,M75>$AC$14),MOD($AD$14-L75,1)+MOD(M75-$AC$14,1),IF(M75<$AD$14,MOD(M75-L75,1),MOD($AD$14-L75,1))))) -> 0 | AA75: =Z75-Y75 -> 0 | AB75: =IF(AND(Y75<$AC$16,Y75>=$AD$16),IF(Z75>Y75,IF(Z75<=$AC$16,0,MOD(Z75-$AC$16,1)),IF(Z75>=$AD$16,MOD($AD$16-$AC$16,1),MOD(Z75-$AC$16,1))),IF(Y75>=$AC$16,IF(OR(Z75>Y75,Y75<=$AD$16),MOD(Z75-Y75,1),IF(Z75<=$AC$16,MOD($AD$16-Y75,1),MOD($AD$16-Y75,1)+MOD(Z75-$AC$16,1))),IF(OR(Z75<Y75,Z75>$AC$16),MOD($AD$16-Y75,1)+MOD(Z75-$AC$16,1),IF(Z75<$AD$16,MOD(Z75-Y75,1),MOD($AD$16-Y75,1))))) -> 0 | AG75: =AF75-AE75 -> 0 | AH75: =IF(AND(AE75<$AC$16,AE75>=$AD$16),IF(AF75>AE75,IF(AF75<=$AC$16,0,MOD(AF75-$AC$16,1)),IF(AF75>=$AD$16,MOD($AD$16-$AC$16,1),MOD(AF75-$AC$16,1))),IF(AE75>=$AC$16,IF(OR(AF75>AE75,AE75<=$AD$16),MOD(AF75-AE75,1),IF(AF75<=$AC$16,MOD($AD$16-AE75,1),MOD($AD$16-AE75,1)+MOD(AF75-$AC$16,1))),IF(OR(AF75<AE75,AF75>$AC$16),MOD($AD$16-AE75,1)+MOD(AF75-$AC$16,1),IF(AF75<$AD$16,MOD(AF75-AE75,1),MOD($AD$16-AE75,1))))) -> 0
D76: 0.52083333 | E76: 0.66666667 | F76: =MOD(E76-D76,1) -> 0.14583333 | H76: =IF(AND(D76<$AC$14,D76>=$AD$14),IF(E76>D76,IF(E76<=$AC$14,0,MOD(E76-$AC$14,1)),IF(E76>=$AD$14,MOD($AD$14-$AC$14,1),MOD(E76-$AC$14,1))),IF(D76>=$AC$14,IF(OR(E76>D76,E76<=$AD$14),MOD(E76-D76,1),IF(E76<=$AC$14,MOD($AD$14-D76,1),MOD($AD$14-D76,1)+MOD(E76-$AC$14,1))),IF(OR(E76<D76,E76>$AC$14),MOD($AD$14-D76,1)+MOD(E76-$AC$14,1),IF(E76<$AD$14,MOD(E76-D76,1),MOD($AD$14-D76,1))))) -> 0 | I76: Plomberie | J76: LAURA SIU | K76: TIPAERUI | N76: =MOD(M76-L76,1) -> 0 | P76: =IF(AND(L76<$AC$14,L76>=$AD$14),IF(M76>L76,IF(M76<=$AC$14,0,MOD(M76-$AC$14,1)),IF(M76>=$AD$14,MOD($AD$14-$AC$14,1),MOD(M76-$AC$14,1))),IF(L76>=$AC$14,IF(OR(M76>L76,M76<=$AD$14),MOD(M76-L76,1),IF(M76<=$AC$14,MOD($AD$14-L76,1),MOD($AD$14-L76,1)+MOD(M76-$AC$14,1))),IF(OR(M76<L76,M76>$AC$14),MOD($AD$14-L76,1)+MOD(M76-$AC$14,1),IF(M76<$AD$14,MOD(M76-L76,1),MOD($AD$14-L76,1))))) -> 0 | AA76: =Z76-Y76 -> 0 | AB76: =IF(AND(Y76<$AC$16,Y76>=$AD$16),IF(Z76>Y76,IF(Z76<=$AC$16,0,MOD(Z76-$AC$16,1)),IF(Z76>=$AD$16,MOD($AD$16-$AC$16,1),MOD(Z76-$AC$16,1))),IF(Y76>=$AC$16,IF(OR(Z76>Y76,Y76<=$AD$16),MOD(Z76-Y76,1),IF(Z76<=$AC$16,MOD($AD$16-Y76,1),MOD($AD$16-Y76,1)+MOD(Z76-$AC$16,1))),IF(OR(Z76<Y76,Z76>$AC$16),MOD($AD$16-Y76,1)+MOD(Z76-$AC$16,1),IF(Z76<$AD$16,MOD(Z76-Y76,1),MOD($AD$16-Y76,1))))) -> 0 | AG76: =AF76-AE76 -> 0 | AH76: =IF(AND(AE76<$AC$16,AE76>=$AD$16),IF(AF76>AE76,IF(AF76<=$AC$16,0,MOD(AF76-$AC$16,1)),IF(AF76>=$AD$16,MOD($AD$16-$AC$16,1),MOD(AF76-$AC$16,1))),IF(AE76>=$AC$16,IF(OR(AF76>AE76,AE76<=$AD$16),MOD(AF76-AE76,1),IF(AF76<=$AC$16,MOD($AD$16-AE76,1),MOD($AD$16-AE76,1)+MOD(AF76-$AC$16,1))),IF(OR(AF76<AE76,AF76>$AC$16),MOD($AD$16-AE76,1)+MOD(AF76-$AC$16,1),IF(AF76<$AD$16,MOD(AF76-AE76,1),MOD($AD$16-AE76,1))))) -> 0
F77: =MOD(E77-D77,1) -> 0 | H77: =IF(AND(D77<$AC$14,D77>=$AD$14),IF(E77>D77,IF(E77<=$AC$14,0,MOD(E77-$AC$14,1)),IF(E77>=$AD$14,MOD($AD$14-$AC$14,1),MOD(E77-$AC$14,1))),IF(D77>=$AC$14,IF(OR(E77>D77,E77<=$AD$14),MOD(E77-D77,1),IF(E77<=$AC$14,MOD($AD$14-D77,1),MOD($AD$14-D77,1)+MOD(E77-$AC$14,1))),IF(OR(E77<D77,E77>$AC$14),MOD($AD$14-D77,1)+MOD(E77-$AC$14,1),IF(E77<$AD$14,MOD(E77-D77,1),MOD($AD$14-D77,1))))) -> 0 | N77: =MOD(M77-L77,1) -> 0 | P77: =IF(AND(L77<$AC$14,L77>=$AD$14),IF(M77>L77,IF(M77<=$AC$14,0,MOD(M77-$AC$14,1)),IF(M77>=$AD$14,MOD($AD$14-$AC$14,1),MOD(M77-$AC$14,1))),IF(L77>=$AC$14,IF(OR(M77>L77,M77<=$AD$14),MOD(M77-L77,1),IF(M77<=$AC$14,MOD($AD$14-L77,1),MOD($AD$14-L77,1)+MOD(M77-$AC$14,1))),IF(OR(M77<L77,M77>$AC$14),MOD($AD$14-L77,1)+MOD(M77-$AC$14,1),IF(M77<$AD$14,MOD(M77-L77,1),MOD($AD$14-L77,1))))) -> 0 | W77: Total Hrs. Effectuées : | Y77: =SUM(AA72:AA76) -> 0 | AC77: Total Hrs. Effectuées : | AE77: =SUM(AG72:AG76) -> 0
F78: =MOD(E78-D78,1) -> 0 | H78: =IF(AND(D78<$AC$14,D78>=$AD$14),IF(E78>D78,IF(E78<=$AC$14,0,MOD(E78-$AC$14,1)),IF(E78>=$AD$14,MOD($AD$14-$AC$14,1),MOD(E78-$AC$14,1))),IF(D78>=$AC$14,IF(OR(E78>D78,E78<=$AD$14),MOD(E78-D78,1),IF(E78<=$AC$14,MOD($AD$14-D78,1),MOD($AD$14-D78,1)+MOD(E78-$AC$14,1))),IF(OR(E78<D78,E78>$AC$14),MOD($AD$14-D78,1)+MOD(E78-$AC$14,1),IF(E78<$AD$14,MOD(E78-D78,1),MOD($AD$14-D78,1))))) -> 0 | N78: =MOD(M78-L78,1) -> 0 | P78: =IF(AND(L78<$AC$14,L78>=$AD$14),IF(M78>L78,IF(M78<=$AC$14,0,MOD(M78-$AC$14,1)),IF(M78>=$AD$14,MOD($AD$14-$AC$14,1),MOD(M78-$AC$14,1))),IF(L78>=$AC$14,IF(OR(M78>L78,M78<=$AD$14),MOD(M78-L78,1),IF(M78<=$AC$14,MOD($AD$14-L78,1),MOD($AD$14-L78,1)+MOD(M78-$AC$14,1))),IF(OR(M78<L78,M78>$AC$14),MOD($AD$14-L78,1)+MOD(M78-$AC$14,1),IF(M78<$AD$14,MOD(M78-L78,1),MOD($AD$14-L78,1))))) -> 0 | W78: Total Hrs. Sup. Jour (de 6H à 20H): | Y78: =MOD(Y77-Y79,1) -> 0 | AC78: Total Hrs. Sup. Jour (de 6H à 20H): | AE78: =MOD(AE77-AE79,1) -> 0
F79: =MOD(E79-D79,1) -> 0 | H79: =IF(AND(D79<$AC$14,D79>=$AD$14),IF(E79>D79,IF(E79<=$AC$14,0,MOD(E79-$AC$14,1)),IF(E79>=$AD$14,MOD($AD$14-$AC$14,1),MOD(E79-$AC$14,1))),IF(D79>=$AC$14,IF(OR(E79>D79,E79<=$AD$14),MOD(E79-D79,1),IF(E79<=$AC$14,MOD($AD$14-D79,1),MOD($AD$14-D79,1)+MOD(E79-$AC$14,1))),IF(OR(E79<D79,E79>$AC$14),MOD($AD$14-D79,1)+MOD(E79-$AC$14,1),IF(E79<$AD$14,MOD(E79-D79,1),MOD($AD$14-D79,1))))) -> 0 | N79: =MOD(M79-L79,1) -> 0 | P79: =IF(AND(L79<$AC$14,L79>=$AD$14),IF(M79>L79,IF(M79<=$AC$14,0,MOD(M79-$AC$14,1)),IF(M79>=$AD$14,MOD($AD$14-$AC$14,1),MOD(M79-$AC$14,1))),IF(L79>=$AC$14,IF(OR(M79>L79,M79<=$AD$14),MOD(M79-L79,1),IF(M79<=$AC$14,MOD($AD$14-L79,1),MOD($AD$14-L79,1)+MOD(M79-$AC$14,1))),IF(OR(M79<L79,M79>$AC$14),MOD($AD$14-L79,1)+MOD(M79-$AC$14,1),IF(M79<$AD$14,MOD(M79-L79,1),MOD($AD$14-L79,1))))) -> 0 | W79: Total Hrs. Sup. nuit (de 21H à 6H): | Y79: =SUM(AB72:AB76) -> 0 | AC79: Total Hrs. Sup. nuit (de 21H à 6H): | AE79: =SUM(AH72:AH76) -> 0
B80: =C80 -> 42560 | C80: 42560 | D80: 0.35416667 | E80: 0.375 | F80: =MOD(E80-D80,1) -> 0.020833333 | G80: =SUM(F80:F85) -> 0.020833333 | H80: =IF(AND(D80<$AC$14,D80>=$AD$14),IF(E80>D80,IF(E80<=$AC$14,0,MOD(E80-$AC$14,1)),IF(E80>=$AD$14,MOD($AD$14-$AC$14,1),MOD(E80-$AC$14,1))),IF(D80>=$AC$14,IF(OR(E80>D80,E80<=$AD$14),MOD(E80-D80,1),IF(E80<=$AC$14,MOD($AD$14-D80,1),MOD($AD$14-D80,1)+MOD(E80-$AC$14,1))),IF(OR(E80<D80,E80>$AC$14),MOD($AD$14-D80,1)+MOD(E80-$AC$14,1),IF(E80<$AD$14,MOD(E80-D80,1),MOD($AD$14-D80,1))))) -> 0 | I80: Remplacement lyre gaz | J80: LE MANGO | K80: PAPEETE | N80: =MOD(M80-L80,1) -> 0 | O80: =SUM(N80:N85) -> 0 | P80: =IF(AND(L80<$AC$14,L80>=$AD$14),IF(M80>L80,IF(M80<=$AC$14,0,MOD(M80-$AC$14,1)),IF(M80>=$AD$14,MOD($AD$14-$AC$14,1),MOD(M80-$AC$14,1))),IF(L80>=$AC$14,IF(OR(M80>L80,M80<=$AD$14),MOD(M80-L80,1),IF(M80<=$AC$14,MOD($AD$14-L80,1),MOD($AD$14-L80,1)+MOD(M80-$AC$14,1))),IF(OR(M80<L80,M80>$AC$14),MOD($AD$14-L80,1)+MOD(M80-$AC$14,1),IF(M80<$AD$14,MOD(M80-L80,1),MOD($AD$14-L80,1))))) -> 0 | W80: =X80 -> 42582 | X80: 42582 | AA80: =MOD(Z80-Y80,1) -> 0 | AB80: =IF(AND(Y80<$AC$16,Y80>=$AD$16),IF(Z80>Y80,IF(Z80<=$AC$16,0,MOD(Z80-$AC$16,1)),IF(Z80>=$AD$16,MOD($AD$16-$AC$16,1),MOD(Z80-$AC$16,1))),IF(Y80>=$AC$16,IF(OR(Z80>Y80,Y80<=$AD$16),MOD(Z80-Y80,1),IF(Z80<=$AC$16,MOD($AD$16-Y80,1),MOD($AD$16-Y80,1)+MOD(Z80-$AC$16,1))),IF(OR(Z80<Y80,Z80>$AC$16),MOD($AD$16-Y80,1)+MOD(Z80-$AC$16,1),IF(Z80<$AD$16,MOD(Z80-Y80,1),MOD($AD$16-Y80,1))))) -> 0 | AC80: =AD80 -> 42582 | AD80: 42582 | AG80: =MOD(AF80-AE80,1) -> 0 | AH80: =IF(AND(AE80<$AC$16,AE80>=$AD$16),IF(AF80>AE80,IF(AF80<=$AC$16,0,MOD(AF80-$AC$16,1)),IF(AF80>=$AD$16,MOD($AD$16-$AC$16,1),MOD(AF80-$AC$16,1))),IF(AE80>=$AC$16,IF(OR(AF80>AE80,AE80<=$AD$16),MOD(AF80-AE80,1),IF(AF80<=$AC$16,MOD($AD$16-AE80,1),MOD($AD$16-AE80,1)+MOD(AF80-$AC$16,1))),IF(OR(AF80<AE80,AF80>$AC$16),MOD($AD$16-AE80,1)+MOD(AF80-$AC$16,1),IF(AF80<$AD$16,MOD(AF80-AE80,1),MOD($AD$16-AE80,1))))) -> 0
F81: =MOD(E81-D81,1) -> 0 | H81: =IF(AND(D81<$AC$14,D81>=$AD$14),IF(E81>D81,IF(E81<=$AC$14,0,MOD(E81-$AC$14,1)),IF(E81>=$AD$14,MOD($AD$14-$AC$14,1),MOD(E81-$AC$14,1))),IF(D81>=$AC$14,IF(OR(E81>D81,E81<=$AD$14),MOD(E81-D81,1),IF(E81<=$AC$14,MOD($AD$14-D81,1),MOD($AD$14-D81,1)+MOD(E81-$AC$14,1))),IF(OR(E81<D81,E81>$AC$14),MOD($AD$14-D81,1)+MOD(E81-$AC$14,1),IF(E81<$AD$14,MOD(E81-D81,1),MOD($AD$14-D81,1))))) -> 0 | N81: =MOD(M81-L81,1) -> 0 | P81: =IF(AND(L81<$AC$14,L81>=$AD$14),IF(M81>L81,IF(M81<=$AC$14,0,MOD(M81-$AC$14,1)),IF(M81>=$AD$14,MOD($AD$14-$AC$14,1),MOD(M81-$AC$14,1))),IF(L81>=$AC$14,IF(OR(M81>L81,M81<=$AD$14),MOD(M81-L81,1),IF(M81<=$AC$14,MOD($AD$14-L81,1),MOD($AD$14-L81,1)+MOD(M81-$AC$14,1))),IF(OR(M81<L81,M81>$AC$14),MOD($AD$14-L81,1)+MOD(M81-$AC$14,1),IF(M81<$AD$14,MOD(M81-L81,1),MOD($AD$14-L81,1))))) -> 0 | AA81: =Z81-Y81 -> 0 | AB81: =IF(AND(Y81<$AC$16,Y81>=$AD$16),IF(Z81>Y81,IF(Z81<=$AC$16,0,MOD(Z81-$AC$16,1)),IF(Z81>=$AD$16,MOD($AD$16-$AC$16,1),MOD(Z81-$AC$16,1))),IF(Y81>=$AC$16,IF(OR(Z81>Y81,Y81<=$AD$16),MOD(Z81-Y81,1),IF(Z81<=$AC$16,MOD($AD$16-Y81,1),MOD($AD$16-Y81,1)+MOD(Z81-$AC$16,1))),IF(OR(Z81<Y81,Z81>$AC$16),MOD($AD$16-Y81,1)+MOD(Z81-$AC$16,1),IF(Z81<$AD$16,MOD(Z81-Y81,1),MOD($AD$16-Y81,1))))) -> 0 | AG81: =AF81-AE81 -> 0 | AH81: =IF(AND(AE81<$AC$16,AE81>=$AD$16),IF(AF81>AE81,IF(AF81<=$AC$16,0,MOD(AF81-$AC$16,1)),IF(AF81>=$AD$16,MOD($AD$16-$AC$16,1),MOD(AF81-$AC$16,1))),IF(AE81>=$AC$16,IF(OR(AF81>AE81,AE81<=$AD$16),MOD(AF81-AE81,1),IF(AF81<=$AC$16,MOD($AD$16-AE81,1),MOD($AD$16-AE81,1)+MOD(AF81-$AC$16,1))),IF(OR(AF81<AE81,AF81>$AC$16),MOD($AD$16-AE81,1)+MOD(AF81-$AC$16,1),IF(AF81<$AD$16,MOD(AF81-AE81,1),MOD($AD$16-AE81,1))))) -> 0
F82: =MOD(E82-D82,1) -> 0 | H82: =IF(AND(D82<$AC$14,D82>=$AD$14),IF(E82>D82,IF(E82<=$AC$14,0,MOD(E82-$AC$14,1)),IF(E82>=$AD$14,MOD($AD$14-$AC$14,1),MOD(E82-$AC$14,1))),IF(D82>=$AC$14,IF(OR(E82>D82,E82<=$AD$14),MOD(E82-D82,1),IF(E82<=$AC$14,MOD($AD$14-D82,1),MOD($AD$14-D82,1)+MOD(E82-$AC$14,1))),IF(OR(E82<D82,E82>$AC$14),MOD($AD$14-D82,1)+MOD(E82-$AC$14,1),IF(E82<$AD$14,MOD(E82-D82,1),MOD($AD$14-D82,1))))) -> 0 | N82: =MOD(M82-L82,1) -> 0 | P82: =IF(AND(L82<$AC$14,L82>=$AD$14),IF(M82>L82,IF(M82<=$AC$14,0,MOD(M82-$AC$14,1)),IF(M82>=$AD$14,MOD($AD$14-$AC$14,1),MOD(M82-$AC$14,1))),IF(L82>=$AC$14,IF(OR(M82>L82,M82<=$AD$14),MOD(M82-L82,1),IF(M82<=$AC$14,MOD($AD$14-L82,1),MOD($AD$14-L82,1)+MOD(M82-$AC$14,1))),IF(OR(M82<L82,M82>$AC$14),MOD($AD$14-L82,1)+MOD(M82-$AC$14,1),IF(M82<$AD$14,MOD(M82-L82,1),MOD($AD$14-L82,1))))) -> 0 | AA82: =Z82-Y82 -> 0 | AB82: =IF(AND(Y82<$AC$16,Y82>=$AD$16),IF(Z82>Y82,IF(Z82<=$AC$16,0,MOD(Z82-$AC$16,1)),IF(Z82>=$AD$16,MOD($AD$16-$AC$16,1),MOD(Z82-$AC$16,1))),IF(Y82>=$AC$16,IF(OR(Z82>Y82,Y82<=$AD$16),MOD(Z82-Y82,1),IF(Z82<=$AC$16,MOD($AD$16-Y82,1),MOD($AD$16-Y82,1)+MOD(Z82-$AC$16,1))),IF(OR(Z82<Y82,Z82>$AC$16),MOD($AD$16-Y82,1)+MOD(Z82-$AC$16,1),IF(Z82<$AD$16,MOD(Z82-Y82,1),MOD($AD$16-Y82,1))))) -> 0 | AG82: =AF82-AE82 -> 0 | AH82: =IF(AND(AE82<$AC$16,AE82>=$AD$16),IF(AF82>AE82,IF(AF82<=$AC$16,0,MOD(AF82-$AC$16,1)),IF(AF82>=$AD$16,MOD($AD$16-$AC$16,1),MOD(AF82-$AC$16,1))),IF(AE82>=$AC$16,IF(OR(AF82>AE82,AE82<=$AD$16),MOD(AF82-AE82,1),IF(AF82<=$AC$16,MOD($AD$16-AE82,1),MOD($AD$16-AE82,1)+MOD(AF82-$AC$16,1))),IF(OR(AF82<AE82,AF82>$AC$16),MOD($AD$16-AE82,1)+MOD(AF82-$AC$16,1),IF(AF82<$AD$16,MOD(AF82-AE82,1),MOD($AD$16-AE82,1))))) -> 0
F83: =MOD(E83-D83,1) -> 0 | H83: =IF(AND(D83<$AC$14,D83>=$AD$14),IF(E83>D83,IF(E83<=$AC$14,0,MOD(E83-$AC$14,1)),IF(E83>=$AD$14,MOD($AD$14-$AC$14,1),MOD(E83-$AC$14,1))),IF(D83>=$AC$14,IF(OR(E83>D83,E83<=$AD$14),MOD(E83-D83,1),IF(E83<=$AC$14,MOD($AD$14-D83,1),MOD($AD$14-D83,1)+MOD(E83-$AC$14,1))),IF(OR(E83<D83,E83>$AC$14),MOD($AD$14-D83,1)+MOD(E83-$AC$14,1),IF(E83<$AD$14,MOD(E83-D83,1),MOD($AD$14-D83,1))))) -> 0 | N83: =MOD(M83-L83,1) -> 0 | P83: =IF(AND(L83<$AC$14,L83>=$AD$14),IF(M83>L83,IF(M83<=$AC$14,0,MOD(M83-$AC$14,1)),IF(M83>=$AD$14,MOD($AD$14-$AC$14,1),MOD(M83-$AC$14,1))),IF(L83>=$AC$14,IF(OR(M83>L83,M83<=$AD$14),MOD(M83-L83,1),IF(M83<=$AC$14,MOD($AD$14-L83,1),MOD($AD$14-L83,1)+MOD(M83-$AC$14,1))),IF(OR(M83<L83,M83>$AC$14),MOD($AD$14-L83,1)+MOD(M83-$AC$14,1),IF(M83<$AD$14,MOD(M83-L83,1),MOD($AD$14-L83,1))))) -> 0 | AA83: =Z83-Y83 -> 0 | AB83: =IF(AND(Y83<$AC$16,Y83>=$AD$16),IF(Z83>Y83,IF(Z83<=$AC$16,0,MOD(Z83-$AC$16,1)),IF(Z83>=$AD$16,MOD($AD$16-$AC$16,1),MOD(Z83-$AC$16,1))),IF(Y83>=$AC$16,IF(OR(Z83>Y83,Y83<=$AD$16),MOD(Z83-Y83,1),IF(Z83<=$AC$16,MOD($AD$16-Y83,1),MOD($AD$16-Y83,1)+MOD(Z83-$AC$16,1))),IF(OR(Z83<Y83,Z83>$AC$16),MOD($AD$16-Y83,1)+MOD(Z83-$AC$16,1),IF(Z83<$AD$16,MOD(Z83-Y83,1),MOD($AD$16-Y83,1))))) -> 0 | AG83: =AF83-AE83 -> 0 | AH83: =IF(AND(AE83<$AC$16,AE83>=$AD$16),IF(AF83>AE83,IF(AF83<=$AC$16,0,MOD(AF83-$AC$16,1)),IF(AF83>=$AD$16,MOD($AD$16-$AC$16,1),MOD(AF83-$AC$16,1))),IF(AE83>=$AC$16,IF(OR(AF83>AE83,AE83<=$AD$16),MOD(AF83-AE83,1),IF(AF83<=$AC$16,MOD($AD$16-AE83,1),MOD($AD$16-AE83,1)+MOD(AF83-$AC$16,1))),IF(OR(AF83<AE83,AF83>$AC$16),MOD($AD$16-AE83,1)+MOD(AF83-$AC$16,1),IF(AF83<$AD$16,MOD(AF83-AE83,1),MOD($AD$16-AE83,1))))) -> 0
F84: =MOD(E84-D84,1) -> 0 | H84: =IF(AND(D84<$AC$14,D84>=$AD$14),IF(E84>D84,IF(E84<=$AC$14,0,MOD(E84-$AC$14,1)),IF(E84>=$AD$14,MOD($AD$14-$AC$14,1),MOD(E84-$AC$14,1))),IF(D84>=$AC$14,IF(OR(E84>D84,E84<=$AD$14),MOD(E84-D84,1),IF(E84<=$AC$14,MOD($AD$14-D84,1),MOD($AD$14-D84,1)+MOD(E84-$AC$14,1))),IF(OR(E84<D84,E84>$AC$14),MOD($AD$14-D84,1)+MOD(E84-$AC$14,1),IF(E84<$AD$14,MOD(E84-D84,1),MOD($AD$14-D84,1))))) -> 0 | N84: =MOD(M84-L84,1) -> 0 | P84: =IF(AND(L84<$AC$14,L84>=$AD$14),IF(M84>L84,IF(M84<=$AC$14,0,MOD(M84-$AC$14,1)),IF(M84>=$AD$14,MOD($AD$14-$AC$14,1),MOD(M84-$AC$14,1))),IF(L84>=$AC$14,IF(OR(M84>L84,M84<=$AD$14),MOD(M84-L84,1),IF(M84<=$AC$14,MOD($AD$14-L84,1),MOD($AD$14-L84,1)+MOD(M84-$AC$14,1))),IF(OR(M84<L84,M84>$AC$14),MOD($AD$14-L84,1)+MOD(M84-$AC$14,1),IF(M84<$AD$14,MOD(M84-L84,1),MOD($AD$14-L84,1))))) -> 0 | AA84: =Z84-Y84 -> 0 | AB84: =IF(AND(Y84<$AC$16,Y84>=$AD$16),IF(Z84>Y84,IF(Z84<=$AC$16,0,MOD(Z84-$AC$16,1)),IF(Z84>=$AD$16,MOD($AD$16-$AC$16,1),MOD(Z84-$AC$16,1))),IF(Y84>=$AC$16,IF(OR(Z84>Y84,Y84<=$AD$16),MOD(Z84-Y84,1),IF(Z84<=$AC$16,MOD($AD$16-Y84,1),MOD($AD$16-Y84,1)+MOD(Z84-$AC$16,1))),IF(OR(Z84<Y84,Z84>$AC$16),MOD($AD$16-Y84,1)+MOD(Z84-$AC$16,1),IF(Z84<$AD$16,MOD(Z84-Y84,1),MOD($AD$16-Y84,1))))) -> 0 | AG84: =AF84-AE84 -> 0 | AH84: =IF(AND(AE84<$AC$16,AE84>=$AD$16),IF(AF84>AE84,IF(AF84<=$AC$16,0,MOD(AF84-$AC$16,1)),IF(AF84>=$AD$16,MOD($AD$16-$AC$16,1),MOD(AF84-$AC$16,1))),IF(AE84>=$AC$16,IF(OR(AF84>AE84,AE84<=$AD$16),MOD(AF84-AE84,1),IF(AF84<=$AC$16,MOD($AD$16-AE84,1),MOD($AD$16-AE84,1)+MOD(AF84-$AC$16,1))),IF(OR(AF84<AE84,AF84>$AC$16),MOD($AD$16-AE84,1)+MOD(AF84-$AC$16,1),IF(AF84<$AD$16,MOD(AF84-AE84,1),MOD($AD$16-AE84,1))))) -> 0
F85: =MOD(E85-D85,1) -> 0 | H85: =IF(AND(D85<$AC$14,D85>=$AD$14),IF(E85>D85,IF(E85<=$AC$14,0,MOD(E85-$AC$14,1)),IF(E85>=$AD$14,MOD($AD$14-$AC$14,1),MOD(E85-$AC$14,1))),IF(D85>=$AC$14,IF(OR(E85>D85,E85<=$AD$14),MOD(E85-D85,1),IF(E85<=$AC$14,MOD($AD$14-D85,1),MOD($AD$14-D85,1)+MOD(E85-$AC$14,1))),IF(OR(E85<D85,E85>$AC$14),MOD($AD$14-D85,1)+MOD(E85-$AC$14,1),IF(E85<$AD$14,MOD(E85-D85,1),MOD($AD$14-D85,1))))) -> 0 | N85: =MOD(M85-L85,1) -> 0 | P85: =IF(AND(L85<$AC$14,L85>=$AD$14),IF(M85>L85,IF(M85<=$AC$14,0,MOD(M85-$AC$14,1)),IF(M85>=$AD$14,MOD($AD$14-$AC$14,1),MOD(M85-$AC$14,1))),IF(L85>=$AC$14,IF(OR(M85>L85,M85<=$AD$14),MOD(M85-L85,1),IF(M85<=$AC$14,MOD($AD$14-L85,1),MOD($AD$14-L85,1)+MOD(M85-$AC$14,1))),IF(OR(M85<L85,M85>$AC$14),MOD($AD$14-L85,1)+MOD(M85-$AC$14,1),IF(M85<$AD$14,MOD(M85-L85,1),MOD($AD$14-L85,1))))) -> 0 | W85: Total Hrs. Effectuées | Y85: =SUM(AA80:AA84) -> 0 | AC85: Total Hrs. Effectuées | AE85: =SUM(AG80:AG84) -> 0
B86: Total d'hrs hebdo. : | G86: =SUM(G50:G85) -> 1.6458333 | O86: =SUM(O50:O85) -> 0 | W86: Total Hrs. Sup. Jour (de 6H à 20H): | Y86: =MOD(Y85-Y87,1) -> 0 | AC86: Total Hrs. Sup. Jour (de 6H à 20H): | AE86: =MOD(AE85-AE87,1) -> 0
B87: Total heures complémentaires hebdo. : | G87: =IF(G86<=PARAMETRES!$F$3,0,IF(AND(G86>PARAMETRES!$F$3,G86<PARAMETRES!$F$2),G86-PARAMETRES!$F$3,PARAMETRES!$F$4)) -> 0.45833333 | O87: =IF(O86<=PARAMETRES!$F$3,0,IF(AND(O86>PARAMETRES!$F$3,O86<PARAMETRES!$F$2),O86-PARAMETRES!$F$3,PARAMETRES!$F$4)) -> 0 | W87: Total Hrs. Sup. nuit (de 21H à 6H): | Y87: =SUM(AB80:AB84) -> 0 | AC87: Total Hrs. Sup. nuit (de 21H à 6H): | AE87: =SUM(AH80:AH84) -> 0
B88: Total d'hrs sup. de 40 à 44h hebdo à 12,5% : | G88: =IF(G86<PARAMETRES!$F$2,0,IF(AND(G86>PARAMETRES!$F$2,G86<PARAMETRES!$F$2+PARAMETRES!$F$5),G86-PARAMETRES!$F$2,PARAMETRES!$F$5)) -> 0.020833333 | O88: =IF(O86<PARAMETRES!$F$2,0,IF(AND(O86>PARAMETRES!$F$2,O86<PARAMETRES!$F$2+PARAMETRES!$F$5),O86-PARAMETRES!$F$2,PARAMETRES!$F$5)) -> 0 | W88: =X88 -> 0 | AA88: =MOD(Z88-Y88,1) -> 0 | AB88: =IF(AND(Y88<$AC$16,Y88>=$AD$16),IF(Z88>Y88,IF(Z88<=$AC$16,0,MOD(Z88-$AC$16,1)),IF(Z88>=$AD$16,MOD($AD$16-$AC$16,1),MOD(Z88-$AC$16,1))),IF(Y88>=$AC$16,IF(OR(Z88>Y88,Y88<=$AD$16),MOD(Z88-Y88,1),IF(Z88<=$AC$16,MOD($AD$16-Y88,1),MOD($AD$16-Y88,1)+MOD(Z88-$AC$16,1))),IF(OR(Z88<Y88,Z88>$AC$16),MOD($AD$16-Y88,1)+MOD(Z88-$AC$16,1),IF(Z88<$AD$16,MOD(Z88-Y88,1),MOD($AD$16-Y88,1))))) -> 0 | AC88: =AD88 -> 0 | AG88: =MOD(AF88-AE88,1) -> 0 | AH88: =IF(AND(AE88<$AC$16,AE88>=$AD$16),IF(AF88>AE88,IF(AF88<=$AC$16,0,MOD(AF88-$AC$16,1)),IF(AF88>=$AD$16,MOD($AD$16-$AC$16,1),MOD(AF88-$AC$16,1))),IF(AE88>=$AC$16,IF(OR(AF88>AE88,AE88<=$AD$16),MOD(AF88-AE88,1),IF(AF88<=$AC$16,MOD($AD$16-AE88,1),MOD($AD$16-AE88,1)+MOD(AF88-$AC$16,1))),IF(OR(AF88<AE88,AF88>$AC$16),MOD($AD$16-AE88,1)+MOD(AF88-$AC$16,1),IF(AF88<$AD$16,MOD(AF88-AE88,1),MOD($AD$16-AE88,1))))) -> 0
B89: Total d'hrs sup. de 45 à 48h hebdo à 25% : | G89: =IF(G86<PARAMETRES!$F$2+PARAMETRES!$F$5,0,IF(AND(G86>PARAMETRES!$F$5+PARAMETRES!$F$2,G86<PARAMETRES!$F$2+PARAMETRES!$F$5+PARAMETRES!$F$6),G86-(PARAMETRES!$F$2+PARAMETRES!$F$5),PARAMETRES!$F$6)) -> 0 | O89: =IF(O86<PARAMETRES!$F$2+PARAMETRES!$F$5,0,IF(AND(O86>PARAMETRES!$F$5+PARAMETRES!$F$2,O86<PARAMETRES!$F$2+PARAMETRES!$F$5+PARAMETRES!$F$6),O86-(PARAMETRES!$F$2+PARAMETRES!$F$5),PARAMETRES!$F$6)) -> 0 | AA89: =MOD(Z89-Y89,1) -> 0 | AB89: =IF(AND(Y89<$AC$16,Y89>=$AD$16),IF(Z89>Y89,IF(Z89<=$AC$16,0,MOD(Z89-$AC$16,1)),IF(Z89>=$AD$16,MOD($AD$16-$AC$16,1),MOD(Z89-$AC$16,1))),IF(Y89>=$AC$16,IF(OR(Z89>Y89,Y89<=$AD$16),MOD(Z89-Y89,1),IF(Z89<=$AC$16,MOD($AD$16-Y89,1),MOD($AD$16-Y89,1)+MOD(Z89-$AC$16,1))),IF(OR(Z89<Y89,Z89>$AC$16),MOD($AD$16-Y89,1)+MOD(Z89-$AC$16,1),IF(Z89<$AD$16,MOD(Z89-Y89,1),MOD($AD$16-Y89,1))))) -> 0 | AG89: =MOD(AF89-AE89,1) -> 0 | AH89: =IF(AND(AE89<$AC$16,AE89>=$AD$16),IF(AF89>AE89,IF(AF89<=$AC$16,0,MOD(AF89-$AC$16,1)),IF(AF89>=$AD$16,MOD($AD$16-$AC$16,1),MOD(AF89-$AC$16,1))),IF(AE89>=$AC$16,IF(OR(AF89>AE89,AE89<=$AD$16),MOD(AF89-AE89,1),IF(AF89<=$AC$16,MOD($AD$16-AE89,1),MOD($AD$16-AE89,1)+MOD(AF89-$AC$16,1))),IF(OR(AF89<AE89,AF89>$AC$16),MOD($AD$16-AE89,1)+MOD(AF89-$AC$16,1),IF(AF89<$AD$16,MOD(AF89-AE89,1),MOD($AD$16-AE89,1))))) -> 0
B90: Total d'hrs sup. au-delà de 48h hebdo à 50% : | G90: =IF(G86>PARAMETRES!$F$2+PARAMETRES!$F$5+PARAMETRES!$F$6,G86-(PARAMETRES!$F$2+PARAMETRES!$F$5+PARAMETRES!$F$6),0) -> 0 | O90: =IF(O86>PARAMETRES!$F$2+PARAMETRES!$F$5+PARAMETRES!$F$6,O86-(PARAMETRES!$F$2+PARAMETRES!$F$5+PARAMETRES!$F$6),0) -> 0 | AA90: =MOD(Z90-Y90,1) -> 0 | AB90: =IF(AND(Y90<$AC$16,Y90>=$AD$16),IF(Z90>Y90,IF(Z90<=$AC$16,0,MOD(Z90-$AC$16,1)),IF(Z90>=$AD$16,MOD($AD$16-$AC$16,1),MOD(Z90-$AC$16,1))),IF(Y90>=$AC$16,IF(OR(Z90>Y90,Y90<=$AD$16),MOD(Z90-Y90,1),IF(Z90<=$AC$16,MOD($AD$16-Y90,1),MOD($AD$16-Y90,1)+MOD(Z90-$AC$16,1))),IF(OR(Z90<Y90,Z90>$AC$16),MOD($AD$16-Y90,1)+MOD(Z90-$AC$16,1),IF(Z90<$AD$16,MOD(Z90-Y90,1),MOD($AD$16-Y90,1))))) -> 0 | AG90: =MOD(AF90-AE90,1) -> 0 | AH90: =IF(AND(AE90<$AC$16,AE90>=$AD$16),IF(AF90>AE90,IF(AF90<=$AC$16,0,MOD(AF90-$AC$16,1)),IF(AF90>=$AD$16,MOD($AD$16-$AC$16,1),MOD(AF90-$AC$16,1))),IF(AE90>=$AC$16,IF(OR(AF90>AE90,AE90<=$AD$16),MOD(AF90-AE90,1),IF(AF90<=$AC$16,MOD($AD$16-AE90,1),MOD($AD$16-AE90,1)+MOD(AF90-$AC$16,1))),IF(OR(AF90<AE90,AF90>$AC$16),MOD($AD$16-AE90,1)+MOD(AF90-$AC$16,1),IF(AF90<$AD$16,MOD(AF90-AE90,1),MOD($AD$16-AE90,1))))) -> 0
B91: Total heures effectuées de 21h à 6h hebdo à 75% : | G91: =SUM(H50:H85) -> 0 | O91: =SUM(P50:P85) -> 0 | AA91: =MOD(Z91-Y91,1) -> 0 | AB91: =IF(AND(Y91<$AC$16,Y91>=$AD$16),IF(Z91>Y91,IF(Z91<=$AC$16,0,MOD(Z91-$AC$16,1)),IF(Z91>=$AD$16,MOD($AD$16-$AC$16,1),MOD(Z91-$AC$16,1))),IF(Y91>=$AC$16,IF(OR(Z91>Y91,Y91<=$AD$16),MOD(Z91-Y91,1),IF(Z91<=$AC$16,MOD($AD$16-Y91,1),MOD($AD$16-Y91,1)+MOD(Z91-$AC$16,1))),IF(OR(Z91<Y91,Z91>$AC$16),MOD($AD$16-Y91,1)+MOD(Z91-$AC$16,1),IF(Z91<$AD$16,MOD(Z91-Y91,1),MOD($AD$16-Y91,1))))) -> 0 | AG91: =MOD(AF91-AE91,1) -> 0 | AH91: =IF(AND(AE91<$AC$16,AE91>=$AD$16),IF(AF91>AE91,IF(AF91<=$AC$16,0,MOD(AF91-$AC$16,1)),IF(AF91>=$AD$16,MOD($AD$16-$AC$16,1),MOD(AF91-$AC$16,1))),IF(AE91>=$AC$16,IF(OR(AF91>AE91,AE91<=$AD$16),MOD(AF91-AE91,1),IF(AF91<=$AC$16,MOD($AD$16-AE91,1),MOD($AD$16-AE91,1)+MOD(AF91-$AC$16,1))),IF(OR(AF91<AE91,AF91>$AC$16),MOD($AD$16-AE91,1)+MOD(AF91-$AC$16,1),IF(AF91<$AD$16,MOD(AF91-AE91,1),MOD($AD$16-AE91,1))))) -> 0
B92: =C92 -> 42562 | C92: 42562 | D92: 0.3125 | E92: 0.52083333 | F92: =MOD(E92-D92,1) -> 0.20833333 | G92: =SUM(F92:F97) -> 0.375 | H92: =IF(AND(D92<$AC$14,D92>=$AD$14),IF(E92>D92,IF(E92<=$AC$14,0,MOD(E92-$AC$14,1)),IF(E92>=$AD$14,MOD($AD$14-$AC$14,1),MOD(E92-$AC$14,1))),IF(D92>=$AC$14,IF(OR(E92>D92,E92<=$AD$14),MOD(E92-D92,1),IF(E92<=$AC$14,MOD($AD$14-D92,1),MOD($AD$14-D92,1)+MOD(E92-$AC$14,1))),IF(OR(E92<D92,E92>$AC$14),MOD($AD$14-D92,1)+MOD(E92-$AC$14,1),IF(E92<$AD$14,MOD(E92-D92,1),MOD($AD$14-D92,1))))) -> 0 | I92: Traçage perçage trou | J92: LE BIHAN | K92: PIRAE | N92: =MOD(M92-L92,1) -> 0 | O92: =SUM(N92:N97) -> 0 | P92: =IF(AND(L92<$AC$14,L92>=$AD$14),IF(M92>L92,IF(M92<=$AC$14,0,MOD(M92-$AC$14,1)),IF(M92>=$AD$14,MOD($AD$14-$AC$14,1),MOD(M92-$AC$14,1))),IF(L92>=$AC$14,IF(OR(M92>L92,M92<=$AD$14),MOD(M92-L92,1),IF(M92<=$AC$14,MOD($AD$14-L92,1),MOD($AD$14-L92,1)+MOD(M92-$AC$14,1))),IF(OR(M92<L92,M92>$AC$14),MOD($AD$14-L92,1)+MOD(M92-$AC$14,1),IF(M92<$AD$14,MOD(M92-L92,1),MOD($AD$14-L92,1))))) -> 0 | AA92: =MOD(Z92-Y92,1) -> 0 | AB92: =IF(AND(Y92<$AC$16,Y92>=$AD$16),IF(Z92>Y92,IF(Z92<=$AC$16,0,MOD(Z92-$AC$16,1)),IF(Z92>=$AD$16,MOD($AD$16-$AC$16,1),MOD(Z92-$AC$16,1))),IF(Y92>=$AC$16,IF(OR(Z92>Y92,Y92<=$AD$16),MOD(Z92-Y92,1),IF(Z92<=$AC$16,MOD($AD$16-Y92,1),MOD($AD$16-Y92,1)+MOD(Z92-$AC$16,1))),IF(OR(Z92<Y92,Z92>$AC$16),MOD($AD$16-Y92,1)+MOD(Z92-$AC$16,1),IF(Z92<$AD$16,MOD(Z92-Y92,1),MOD($AD$16-Y92,1))))) -> 0 | AG92: =MOD(AF92-AE92,1) -> 0 | AH92: =IF(AND(AE92<$AC$16,AE92>=$AD$16),IF(AF92>AE92,IF(AF92<=$AC$16,0,MOD(AF92-$AC$16,1)),IF(AF92>=$AD$16,MOD($AD$16-$AC$16,1),MOD(AF92-$AC$16,1))),IF(AE92>=$AC$16,IF(OR(AF92>AE92,AE92<=$AD$16),MOD(AF92-AE92,1),IF(AF92<=$AC$16,MOD($AD$16-AE92,1),MOD($AD$16-AE92,1)+MOD(AF92-$AC$16,1))),IF(OR(AF92<AE92,AF92>$AC$16),MOD($AD$16-AE92,1)+MOD(AF92-$AC$16,1),IF(AF92<$AD$16,MOD(AF92-AE92,1),MOD($AD$16-AE92,1))))) -> 0
D93: 0.54166667 | E93: 0.58333333 | F93: =MOD(E93-D93,1) -> 0.041666667 | H93: =IF(AND(D93<$AC$14,D93>=$AD$14),IF(E93>D93,IF(E93<=$AC$14,0,MOD(E93-$AC$14,1)),IF(E93>=$AD$14,MOD($AD$14-$AC$14,1),MOD(E93-$AC$14,1))),IF(D93>=$AC$14,IF(OR(E93>D93,E93<=$AD$14),MOD(E93-D93,1),IF(E93<=$AC$14,MOD($AD$14-D93,1),MOD($AD$14-D93,1)+MOD(E93-$AC$14,1))),IF(OR(E93<D93,E93>$AC$14),MOD($AD$14-D93,1)+MOD(E93-$AC$14,1),IF(E93<$AD$14,MOD(E93-D93,1),MOD($AD$14-D93,1))))) -> 0 | I93: Réparation fuite | J93: DELPHINE | K93: MAHINA | N93: =MOD(M93-L93,1) -> 0 | P93: =IF(AND(L93<$AC$14,L93>=$AD$14),IF(M93>L93,IF(M93<=$AC$14,0,MOD(M93-$AC$14,1)),IF(M93>=$AD$14,MOD($AD$14-$AC$14,1),MOD(M93-$AC$14,1))),IF(L93>=$AC$14,IF(OR(M93>L93,M93<=$AD$14),MOD(M93-L93,1),IF(M93<=$AC$14,MOD($AD$14-L93,1),MOD($AD$14-L93,1)+MOD(M93-$AC$14,1))),IF(OR(M93<L93,M93>$AC$14),MOD($AD$14-L93,1)+MOD(M93-$AC$14,1),IF(M93<$AD$14,MOD(M93-L93,1),MOD($AD$14-L93,1))))) -> 0 | W93: Total Hrs. Effectuées: | Y93: =SUM(AA88:AA92) -> 0 | AC93: Total Hrs. Effectuées: | AE93: =SUM(AG88:AG92) -> 0
D94: 0.60416667 | E94: 0.64583333 | F94: =MOD(E94-D94,1) -> 0.041666667 | H94: =IF(AND(D94<$AC$14,D94>=$AD$14),IF(E94>D94,IF(E94<=$AC$14,0,MOD(E94-$AC$14,1)),IF(E94>=$AD$14,MOD($AD$14-$AC$14,1),MOD(E94-$AC$14,1))),IF(D94>=$AC$14,IF(OR(E94>D94,E94<=$AD$14),MOD(E94-D94,1),IF(E94<=$AC$14,MOD($AD$14-D94,1),MOD($AD$14-D94,1)+MOD(E94-$AC$14,1))),IF(OR(E94<D94,E94>$AC$14),MOD($AD$14-D94,1)+MOD(E94-$AC$14,1),IF(E94<$AD$14,MOD(E94-D94,1),MOD($AD$14-D94,1))))) -> 0 | I94: Nettoyage RDC+SS | J94: LE BIHAN | K94: PIRAE | N94: =MOD(M94-L94,1) -> 0 | P94: =IF(AND(L94<$AC$14,L94>=$AD$14),IF(M94>L94,IF(M94<=$AC$14,0,MOD(M94-$AC$14,1)),IF(M94>=$AD$14,MOD($AD$14-$AC$14,1),MOD(M94-$AC$14,1))),IF(L94>=$AC$14,IF(OR(M94>L94,M94<=$AD$14),MOD(M94-L94,1),IF(M94<=$AC$14,MOD($AD$14-L94,1),MOD($AD$14-L94,1)+MOD(M94-$AC$14,1))),IF(OR(M94<L94,M94>$AC$14),MOD($AD$14-L94,1)+MOD(M94-$AC$14,1),IF(M94<$AD$14,MOD(M94-L94,1),MOD($AD$14-L94,1))))) -> 0 | W94: Total Hrs. Sup. Jour (de 6H à 20H): | Y94: =MOD(Y93-Y95,1) -> 0 | AC94: Total Hrs. Sup. Jour (de 6H à 20H): | AE94: =MOD(AE93-AE95,1) -> 0
D95: 0.66666667 | E95: 0.75 | F95: =MOD(E95-D95,1) -> 0.083333333 | H95: =IF(AND(D95<$AC$14,D95>=$AD$14),IF(E95>D95,IF(E95<=$AC$14,0,MOD(E95-$AC$14,1)),IF(E95>=$AD$14,MOD($AD$14-$AC$14,1),MOD(E95-$AC$14,1))),IF(D95>=$AC$14,IF(OR(E95>D95,E95<=$AD$14),MOD(E95-D95,1),IF(E95<=$AC$14,MOD($AD$14-D95,1),MOD($AD$14-D95,1)+MOD(E95-$AC$14,1))),IF(OR(E95<D95,E95>$AC$14),MOD($AD$14-D95,1)+MOD(E95-$AC$14,1),IF(E95<$AD$14,MOD(E95-D95,1),MOD($AD$14-D95,1))))) -> 0 | I95: Recherche fuite 259B buanderie+cuisine+terrasse | J95: GREEN VALLEE | K95: PUNAAUIA | N95: =MOD(M95-L95,1) -> 0 | P95: =IF(AND(L95<$AC$14,L95>=$AD$14),IF(M95>L95,IF(M95<=$AC$14,0,MOD(M95-$AC$14,1)),IF(M95>=$AD$14,MOD($AD$14-$AC$14,1),MOD(M95-$AC$14,1))),IF(L95>=$AC$14,IF(OR(M95>L95,M95<=$AD$14),MOD(M95-L95,1),IF(M95<=$AC$14,MOD($AD$14-L95,1),MOD($AD$14-L95,1)+MOD(M95-$AC$14,1))),IF(OR(M95<L95,M95>$AC$14),MOD($AD$14-L95,1)+MOD(M95-$AC$14,1),IF(M95<$AD$14,MOD(M95-L95,1),MOD($AD$14-L95,1))))) -> 0 | W95: Total Hrs. Sup. nuit (de 21H à 6H): | Y95: =SUM(AB88:AB92) -> 0 | AC95: Total Hrs. Sup. nuit (de 21H à 6H): | AE95: =SUM(AH88:AH92) -> 0
F96: =MOD(E96-D96,1) -> 0 | H96: =IF(AND(D96<$AC$14,D96>=$AD$14),IF(E96>D96,IF(E96<=$AC$14,0,MOD(E96-$AC$14,1)),IF(E96>=$AD$14,MOD($AD$14-$AC$14,1),MOD(E96-$AC$14,1))),IF(D96>=$AC$14,IF(OR(E96>D96,E96<=$AD$14),MOD(E96-D96,1),IF(E96<=$AC$14,MOD($AD$14-D96,1),MOD($AD$14-D96,1)+MOD(E96-$AC$14,1))),IF(OR(E96<D96,E96>$AC$14),MOD($AD$14-D96,1)+MOD(E96-$AC$14,1),IF(E96<$AD$14,MOD(E96-D96,1),MOD($AD$14-D96,1))))) -> 0 | N96: =MOD(M96-L96,1) -> 0 | P96: =IF(AND(L96<$AC$14,L96>=$AD$14),IF(M96>L96,IF(M96<=$AC$14,0,MOD(M96-$AC$14,1)),IF(M96>=$AD$14,MOD($AD$14-$AC$14,1),MOD(M96-$AC$14,1))),IF(L96>=$AC$14,IF(OR(M96>L96,M96<=$AD$14),MOD(M96-L96,1),IF(M96<=$AC$14,MOD($AD$14-L96,1),MOD($AD$14-L96,1)+MOD(M96-$AC$14,1))),IF(OR(M96<L96,M96>$AC$14),MOD($AD$14-L96,1)+MOD(M96-$AC$14,1),IF(M96<$AD$14,MOD(M96-L96,1),MOD($AD$14-L96,1))))) -> 0
F97: =MOD(E97-D97,1) -> 0 | H97: =IF(AND(D97<$AC$14,D97>=$AD$14),IF(E97>D97,IF(E97<=$AC$14,0,MOD(E97-$AC$14,1)),IF(E97>=$AD$14,MOD($AD$14-$AC$14,1),MOD(E97-$AC$14,1))),IF(D97>=$AC$14,IF(OR(E97>D97,E97<=$AD$14),MOD(E97-D97,1),IF(E97<=$AC$14,MOD($AD$14-D97,1),MOD($AD$14-D97,1)+MOD(E97-$AC$14,1))),IF(OR(E97<D97,E97>$AC$14),MOD($AD$14-D97,1)+MOD(E97-$AC$14,1),IF(E97<$AD$14,MOD(E97-D97,1),MOD($AD$14-D97,1))))) -> 0 | N97: =MOD(M97-L97,1) -> 0 | P97: =IF(AND(L97<$AC$14,L97>=$AD$14),IF(M97>L97,IF(M97<=$AC$14,0,MOD(M97-$AC$14,1)),IF(M97>=$AD$14,MOD($AD$14-$AC$14,1),MOD(M97-$AC$14,1))),IF(L97>=$AC$14,IF(OR(M97>L97,M97<=$AD$14),MOD(M97-L97,1),IF(M97<=$AC$14,MOD($AD$14-L97,1),MOD($AD$14-L97,1)+MOD(M97-$AC$14,1))),IF(OR(M97<L97,M97>$AC$14),MOD($AD$14-L97,1)+MOD(M97-$AC$14,1),IF(M97<$AD$14,MOD(M97-L97,1),MOD($AD$14-L97,1))))) -> 0
B98: =C98 -> 42563 | C98: 42563 | D98: 0.27083333 | E98: 0.375 | F98: =MOD(E98-D98,1) -> 0.10416667 | G98: =SUM(F98:F103) -> 0.35416667 | H98: =IF(AND(D98<$AC$14,D98>=$AD$14),IF(E98>D98,IF(E98<=$AC$14,0,MOD(E98-$AC$14,1)),IF(E98>=$AD$14,MOD($AD$14-$AC$14,1),MOD(E98-$AC$14,1))),IF(D98>=$AC$14,IF(OR(E98>D98,E98<=$AD$14),MOD(E98-D98,1),IF(E98<=$AC$14,MOD($AD$14-D98,1),MOD($AD$14-D98,1)+MOD(E98-$AC$14,1))),IF(OR(E98<D98,E98>$AC$14),MOD($AD$14-D98,1)+MOD(E98-$AC$14,1),IF(E98<$AD$14,MOD(E98-D98,1),MOD($AD$14-D98,1))))) -> 0 | I98: Perçage trou | J98: LE BIHAN | K98: PIRAE | N98: =MOD(M98-L98,1) -> 0 | O98: =SUM(N98:N103) -> 0 | P98: =IF(AND(L98<$AC$14,L98>=$AD$14),IF(M98>L98,IF(M98<=$AC$14,0,MOD(M98-$AC$14,1)),IF(M98>=$AD$14,MOD($AD$14-$AC$14,1),MOD(M98-$AC$14,1))),IF(L98>=$AC$14,IF(OR(M98>L98,M98<=$AD$14),MOD(M98-L98,1),IF(M98<=$AC$14,MOD($AD$14-L98,1),MOD($AD$14-L98,1)+MOD(M98-$AC$14,1))),IF(OR(M98<L98,M98>$AC$14),MOD($AD$14-L98,1)+MOD(M98-$AC$14,1),IF(M98<$AD$14,MOD(M98-L98,1),MOD($AD$14-L98,1))))) -> 0
D99: 0.39583333 | E99: 0.52083333 | F99: =MOD(E99-D99,1) -> 0.125 | H99: =IF(AND(D99<$AC$14,D99>=$AD$14),IF(E99>D99,IF(E99<=$AC$14,0,MOD(E99-$AC$14,1)),IF(E99>=$AD$14,MOD($AD$14-$AC$14,1),MOD(E99-$AC$14,1))),IF(D99>=$AC$14,IF(OR(E99>D99,E99<=$AD$14),MOD(E99-D99,1),IF(E99<=$AC$14,MOD($AD$14-D99,1),MOD($AD$14-D99,1)+MOD(E99-$AC$14,1))),IF(OR(E99<D99,E99>$AC$14),MOD($AD$14-D99,1)+MOD(E99-$AC$14,1),IF(E99<$AD$14,MOD(E99-D99,1),MOD($AD$14-D99,1))))) -> 0 | I99: Pose et branchement | J99: LAURA SIU | K99: TIPAERUI | N99: =MOD(M99-L99,1) -> 0 | P99: =IF(AND(L99<$AC$14,L99>=$AD$14),IF(M99>L99,IF(M99<=$AC$14,0,MOD(M99-$AC$14,1)),IF(M99>=$AD$14,MOD($AD$14-$AC$14,1),MOD(M99-$AC$14,1))),IF(L99>=$AC$14,IF(OR(M99>L99,M99<=$AD$14),MOD(M99-L99,1),IF(M99<=$AC$14,MOD($AD$14-L99,1),MOD($AD$14-L99,1)+MOD(M99-$AC$14,1))),IF(OR(M99<L99,M99>$AC$14),MOD($AD$14-L99,1)+MOD(M99-$AC$14,1),IF(M99<$AD$14,MOD(M99-L99,1),MOD($AD$14-L99,1))))) -> 0
D100: 0.61458333 | E100: 0.63541667 | F100: =MOD(E100-D100,1) -> 0.020833333 | H100: =IF(AND(D100<$AC$14,D100>=$AD$14),IF(E100>D100,IF(E100<=$AC$14,0,MOD(E100-$AC$14,1)),IF(E100>=$AD$14,MOD($AD$14-$AC$14,1),MOD(E100-$AC$14,1))),IF(D100>=$AC$14,IF(OR(E100>D100,E100<=$AD$14),MOD(E100-D100,1),IF(E100<=$AC$14,MOD($AD$14-D100,1),MOD($AD$14-D100,1)+MOD(E100-$AC$14,1))),IF(OR(E100<D100,E100>$AC$14),MOD($AD$14-D100,1)+MOD(E100-$AC$14,1),IF(E100<$AD$14,MOD(E100-D100,1),MOD($AD$14-D100,1))))) -> 0 | I100: Fuite évier+WC | J100: FLORENT | K100: TIPAERUI | N100: =MOD(M100-L100,1) -> 0 | P100: =IF(AND(L100<$AC$14,L100>=$AD$14),IF(M100>L100,IF(M100<=$AC$14,0,MOD(M100-$AC$14,1)),IF(M100>=$AD$14,MOD($AD$14-$AC$14,1),MOD(M100-$AC$14,1))),IF(L100>=$AC$14,IF(OR(M100>L100,M100<=$AD$14),MOD(M100-L100,1),IF(M100<=$AC$14,MOD($AD$14-L100,1),MOD($AD$14-L100,1)+MOD(M100-$AC$14,1))),IF(OR(M100<L100,M100>$AC$14),MOD($AD$14-L100,1)+MOD(M100-$AC$14,1),IF(M100<$AD$14,MOD(M100-L100,1),MOD($AD$14-L100,1))))) -> 0
D101: 0.64583333 | E101: 0.75 | F101: =MOD(E101-D101,1) -> 0.10416667 | H101: =IF(AND(D101<$AC$14,D101>=$AD$14),IF(E101>D101,IF(E101<=$AC$14,0,MOD(E101-$AC$14,1)),IF(E101>=$AD$14,MOD($AD$14-$AC$14,1),MOD(E101-$AC$14,1))),IF(D101>=$AC$14,IF(OR(E101>D101,E101<=$AD$14),MOD(E101-D101,1),IF(E101<=$AC$14,MOD($AD$14-D101,1),MOD($AD$14-D101,1)+MOD(E101-$AC$14,1))),IF(OR(E101<D101,E101>$AC$14),MOD($AD$14-D101,1)+MOD(E101-$AC$14,1),IF(E101<$AD$14,MOD(E101-D101,1),MOD($AD$14-D101,1))))) -> 0 | I101: Dépose/pose CE E | J101: SCI ARIE | K101: PAPEETE | N101: =MOD(M101-L101,1) -> 0 | P101: =IF(AND(L101<$AC$14,L101>=$AD$14),IF(M101>L101,IF(M101<=$AC$14,0,MOD(M101-$AC$14,1)),IF(M101>=$AD$14,MOD($AD$14-$AC$14,1),MOD(M101-$AC$14,1))),IF(L101>=$AC$14,IF(OR(M101>L101,M101<=$AD$14),MOD(M101-L101,1),IF(M101<=$AC$14,MOD($AD$14-L101,1),MOD($AD$14-L101,1)+MOD(M101-$AC$14,1))),IF(OR(M101<L101,M101>$AC$14),MOD($AD$14-L101,1)+MOD(M101-$AC$14,1),IF(M101<$AD$14,MOD(M101-L101,1),MOD($AD$14-L101,1))))) -> 0
F102: =MOD(E102-D102,1) -> 0 | H102: =IF(AND(D102<$AC$14,D102>=$AD$14),IF(E102>D102,IF(E102<=$AC$14,0,MOD(E102-$AC$14,1)),IF(E102>=$AD$14,MOD($AD$14-$AC$14,1),MOD(E102-$AC$14,1))),IF(D102>=$AC$14,IF(OR(E102>D102,E102<=$AD$14),MOD(E102-D102,1),IF(E102<=$AC$14,MOD($AD$14-D102,1),MOD($AD$14-D102,1)+MOD(E102-$AC$14,1))),IF(OR(E102<D102,E102>$AC$14),MOD($AD$14-D102,1)+MOD(E102-$AC$14,1),IF(E102<$AD$14,MOD(E102-D102,1),MOD($AD$14-D102,1))))) -> 0 | N102: =MOD(M102-L102,1) -> 0 | P102: =IF(AND(L102<$AC$14,L102>=$AD$14),IF(M102>L102,IF(M102<=$AC$14,0,MOD(M102-$AC$14,1)),IF(M102>=$AD$14,MOD($AD$14-$AC$14,1),MOD(M102-$AC$14,1))),IF(L102>=$AC$14,IF(OR(M102>L102,M102<=$AD$14),MOD(M102-L102,1),IF(M102<=$AC$14,MOD($AD$14-L102,1),MOD($AD$14-L102,1)+MOD(M102-$AC$14,1))),IF(OR(M102<L102,M102>$AC$14),MOD($AD$14-L102,1)+MOD(M102-$AC$14,1),IF(M102<$AD$14,MOD(M102-L102,1),MOD($AD$14-L102,1))))) -> 0
...

Sheet PARAMETRES
D1: Horaire | E1: Désignations | F1: Nombre d'hrs | G1: Tarifs % | H1: Colonne4 | M1: POSTES | N1: NOMS
D2: Heures de base semaine | F2: 1.625 | M2: EMPLOYE: | N2: AIRIMA RIMONA
D3: Heures de base Partielles | F3: 1.1666667 | M3: EMPLOYE: | N3: BASLY YANNICK
D4: Heures complémentaires | F4: 0.45833333 | M4: PRESTATAIRES:
D5: De 40 à 44h hebdo : | F5: 0.20833333 | G5: 12.5 | M5: GERANT: | N5: SAINT-DENIS PAUL
D6: De 45 à 48h hebdo : | F6: 0.16666667 | G6: 25
D7: Au-delà de 48h hebdo : | F7: 0.375 | G7: 50
D8: De 21h à 6h | F8: 0.41666667 | G8: 75
D9: Férié et dim. Jour | E9: De 6h à 20h | F9: 0.58333333 | G9: 65
D10: Férié et Dim. Nuit | E10: De 21h à 6h | F10: 0.41666667 | G10: 100
C22: DESIGNATIONS | D22: DATE | E22: NOM
C23: FERIER | D23: 42565 | E23: Fête Nationale
C24: FERIER | D24: 42597 | E24: Assomption
C25: FERIER | D25: 42685 | E25: Mort pour la patrie
C26: FERIER | D26: 42729 | E26: Noël
C27: FERIER | D27: 42736 | E27: Nouvel an
C28: FERIER | D28: 42856 | E28: Fête du travail
C29: FERIER | D29: 42860 | E29: Ascension
C30: FERIER | D30: 42915 | E30: Fête de l'autonomie
G211: =IF(G209-PARAMETRES!F2<0,0,IF(G209-$P$5>$P$11,$P$11,G209-PARAMETRES!F2)) -> 0
