Workbook

Sheet Feuil1
B1: ÉVOLUTION DU MÊME TABLEAU
B2: TABLEAU FEUIL1
B4: Pas de formules
B6: EXEMPLE 1 (seulement les dates)
F7: OBLIGÉ DE RESPECTER CE TRI DE DATE
B8: Date | C8: Commentaire
B9: 42736
B10: 42737
B11: 42738
B12: 42739 | I12: VOIR FEUIL2
B13: 42740
B14: 42741
B15: 42742
B16: 42743
B19: EXEMPLE 2 (pas complet, lignes pas consolidées)
F20: OBLIGÉ DE RESPECTER CE TRI DE DATE, présence de ligne vides "inutiles dans le tableau vert de feuil2"
B21: Date | C21: Commentaire
B22: 42736
B23: 42737
B24: 42738 | I24: VOIR FEUIL2
B25: 42739 | C25: blablablablablablabla
B26: 42740
B27: 42741
B28: 42742
B29: 42743 | C29: blablablabla
B32: EXEMPLE 3 (pas complet, lignes pas consolidées)
F33: OBLIGÉ DE RESPECTER CE TRI DE DATE, présence de ligne vides "inutiles dans le tableau vert de feuil2"
B34: Date | C34: Commentaire
B35: 42736
B36: 42737 | C36: blablablabla
B37: 42738 | I37: VOIR FEUIL2
B38: 42739 | C38: blablablablablablabla
B39: 42740 | C39: blablabla
B40: 42741
B41: 42742
B42: 42743 | C42: blablablabla
B45: EXEMPLE 4 (complet, lignes pas consolidées)
F46: OBLIGÉ DE RESPECTER CE TRI DE DATE
B47: Date | C47: Commentaire
B48: 42736 | C48: blablablablabla
...

Sheet Feuil2
F1: ÉVOLUTION DU MÊME TABLEAU
I2: TABLEAU FEUIL2 | M2: (DOIT ÊTRE TRIÉ PAR DATE)
I4: Formules automatiques de recopie
I6: EXEMPLE 1 (Vide)
M7: (pas de commentaire dans le tableau blanc donc le tableau vert reste vide)
I8: Date | J8: Commentaire
I19: EXEMPLE 2 (lignes consolidées, tri par date)
I21: Date | J21: Commentaire
I22: =IF(Feuil1!C25<>"",Feuil1!B25,"") -> 42739 | J22: =IF(Feuil1!C25<>"",Feuil1!C25,"") -> blablablablablablabla | M22: =SI(Feuil1!C25<>"";Feuil1!C25;"")
I23: =IF(Feuil1!C29<>"",Feuil1!B29,"") -> 42743 | J23: =IF(Feuil1!C29<>"",Feuil1!C29,"") -> blablablabla | M23: =SI(Feuil1!C29<>"";Feuil1!C29;"")
I32: EXEMPLE 3 (consolidé, tri par date)
I34: Date | J34: Commentaire
I35: =IF(Feuil1!B36<>"",Feuil1!B36,"") -> 42737 | J35: =IF(Feuil1!C36<>"",Feuil1!C36,"") -> blablablabla | M35: =SI(Feuil1!C36<>"";Feuil1!C36;"")
I36: =IF(Feuil1!B38<>"",Feuil1!B38,"") -> 42739 | J36: =IF(Feuil1!C38<>"",Feuil1!C38,"") -> blablablablablablabla | M36: =SI(Feuil1!C38<>"";Feuil1!C38;"")
I37: =IF(Feuil1!B39<>"",Feuil1!B39,"") -> 42740 | J37: =IF(Feuil1!C39<>"",Feuil1!C39,"") -> blablabla | M37: =SI(Feuil1!C39<>"";Feuil1!C39;"")
I38: =IF(Feuil1!B42<>"",Feuil1!B42,"") -> 42743 | J38: =IF(Feuil1!C42<>"",Feuil1!C42,"") -> blablablabla | M38: =SI(Feuil1!C42<>"";Feuil1!C42;"")
I45: EXEMPLE 4 (complet, consolidé, tri par date)
I47: Date | J47: Commentaire
I48: =IF(Feuil1!C48<>"",Feuil1!B48,"") -> 42736 | J48: =IF(Feuil1!C48<>"",Feuil1!C48,"") -> blablablablabla | M48: =SI(Feuil1!C48<>"";Feuil1!C48;"")
I49: =IF(Feuil1!C49<>"",Feuil1!B49,"") -> 42737 | J49: =IF(Feuil1!C49<>"",Feuil1!C49,"") -> blablablabla | M49: =SI(Feuil1!C49<>"";Feuil1!C49;"")
I50: =IF(Feuil1!C50<>"",Feuil1!B50,"") -> 42738 | J50: =IF(Feuil1!C50<>"",Feuil1!C50,"") -> blablablablabla | M50: =SI(Feuil1!C50<>"";Feuil1!C50;"")
I51: =IF(Feuil1!C51<>"",Feuil1!B51,"") -> 42739 | J51: =IF(Feuil1!C51<>"",Feuil1!C51,"") -> blablablablablablabla | M51: =SI(Feuil1!C51<>"";Feuil1!C51;"")
I52: =IF(Feuil1!C52<>"",Feuil1!B52,"") -> 42740 | J52: =IF(Feuil1!C52<>"",Feuil1!C52,"") -> blablabla | M52: =SI(Feuil1!C52<>"";Feuil1!C52;"")
I53: =IF(Feuil1!C53<>"",Feuil1!B53,"") -> 42741 | J53: =IF(Feuil1!C53<>"",Feuil1!C53,"") -> blablabla | M53: =SI(Feuil1!C53<>"";Feuil1!C53;"")
I54: =IF(Feuil1!C54<>"",Feuil1!B54,"") -> 42742 | J54: =IF(Feuil1!C54<>"",Feuil1!C54,"") -> blablablabla | M54: =SI(Feuil1!C54<>"";Feuil1!C54;"")
I55: =IF(Feuil1!C55<>"",Feuil1!B55,"") -> 42743 | J55: =IF(Feuil1!C55<>"",Feuil1!C55,"") -> blablablabla | M55: =SI(Feuil1!C55<>"";Feuil1!C55;"")
