Workbook

Sheet 2016 Vincent
H3: Pointage | I3: Retard | J3: Temps | L3: Début | M3: Fin | N3: Temps | R3: Jours
E4: R | F4: S | G4: Fo | I4: Brut | J4: sur | L4: de service | N4: réellement | R4: comptés
E5: CA | F5: Tc | G5: FNO | J5: BMP | N5: effectué | R5: conduite
A6: ven | B6: 1 | C6: Janvier | E6: =IF(D6="repos",1,0) -> 0 | F6: =IF(D6="S",1,0) -> 0 | G6: =IF(D6="FO",1,0) -> 0 | H6: 130 | J6: 0.28472222 | L6: 0.78263889 | M6: 1.0340278 | N6: =(M6-L6)+(M7-L7) -> 0.25138889 | R6: 1
E7: =IF(D6="CA",1,0) -> 0 | F7: =IF(D6="TC",1,0) -> 0 | G7: =IF(D6="FNO",1,0) -> 0
A8: sam | B8: 2 | C8: Janvier | D8: repos | E8: =IF(D8="repos",1,0) -> 1 | F8: =IF(D8="S",1,0) -> 0 | G8: =IF(D8="FO",1,0) -> 0 | H8: 660 | N8: =(M8-L8)+(M9-L9) -> 0 | R8: 0
E9: =IF(D8="CA",1,0) -> 0 | F9: =IF(D8="TC",1,0) -> 0 | G9: =IF(D8="FNO",1,0) -> 0
A10: dim | B10: 3 | C10: Janvier | D10: repos | E10: =IF(D10="repos",1,0) -> 1 | F10: =IF(D10="S",1,0) -> 0 | G10: =IF(D10="FO",1,0) -> 0 | H10: 660 | N10: =(M10-L10)+(M11-L11) -> 0 | R10: 0
E11: =IF(D10="CA",1,0) -> 0 | F11: =IF(D10="TC",1,0) -> 0 | G11: =IF(D10="FNO",1,0) -> 0
A12: lun | B12: 4 | C12: Janvier | E12: =IF(D12="repos",1,0) -> 0 | F12: =IF(D12="S",1,0) -> 0 | G12: =IF(D12="FO",1,0) -> 0 | H12: 130 | J12: 0.33541667 | L12: 0.50208333 | M12: 0.8 | N12: =(M12-L12)+(M13-L13) -> 0.29791667 | R12: 1
E13: =IF(D12="CA",1,0) -> 0 | F13: =IF(D12="TC",1,0) -> 0 | G13: =IF(D12="FNO",1,0) -> 0
A14: mar | B14: 5 | C14: Janvier | E14: =IF(D14="repos",1,0) -> 0 | F14: =IF(D14="S",1,0) -> 0 | G14: =IF(D14="FO",1,0) -> 0 | H14: 130 | J14: 0.28958333 | L14: 0.54305556 | M14: 0.80972222 | N14: =(M14-L14)+(M15-L15) -> 0.26666667 | R14: 1
E15: =IF(D14="CA",1,0) -> 0 | F15: =IF(D14="TC",1,0) -> 0 | G15: =IF(D14="FNO",1,0) -> 0
A16: mer | B16: 6 | C16: Janvier | E16: =IF(D16="repos",1,0) -> 0 | F16: =IF(D16="S",1,0) -> 0 | G16: =IF(D16="FO",1,0) -> 0 | H16: 60 | J16: 0.1 | L16: 0.57013889 | M16: 0.875 | N16: =(M16-L16)+(M17-L17) -> 0.30486111 | R16: 1
E17: =IF(D16="CA",1,0) -> 0 | F17: =IF(D16="TC",1,0) -> 0 | G17: =IF(D16="FNO",1,0) -> 0 | H17: 130 | J17: 0.2375
A18: jeu | B18: 7 | C18: Janvier | E18: =IF(D18="repos",1,0) -> 0 | F18: =IF(D18="S",1,0) -> 0 | G18: =IF(D18="FO",1,0) -> 0 | H18: 130 | J18: 0.30833333 | L18: 0.78263889 | M18: 1.0743056 | N18: =(M18-L18)+(M19-L19) -> 0.29166667 | R18: 1
E19: =IF(D18="CA",1,0) -> 0 | F19: =IF(D18="TC",1,0) -> 0 | G19: =IF(D18="FNO",1,0) -> 0
A20: ven | B20: 8 | C20: Janvier | E20: =IF(D20="repos",1,0) -> 0 | F20: =IF(D20="S",1,0) -> 0 | G20: =IF(D20="FO",1,0) -> 0 | H20: 130 | J20: 0.32222222 | L20: 0.59236111 | M20: 0.88125 | N20: =(M20-L20)+(M21-L21) -> 0.28888889 | R20: 1
E21: =IF(D20="CA",1,0) -> 0 | F21: =IF(D20="TC",1,0) -> 0 | G21: =IF(D20="FNO",1,0) -> 0
A22: sam | B22: 9 | C22: Janvier | D22: repos | E22: =IF(D22="repos",1,0) -> 1 | F22: =IF(D22="S",1,0) -> 0 | G22: =IF(D22="FO",1,0) -> 0 | H22: 660 | N22: =(M22-L22)+(M23-L23) -> 0 | R22: 0
E23: =IF(D22="CA",1,0) -> 0 | F23: =IF(D22="TC",1,0) -> 0 | G23: =IF(D22="FNO",1,0) -> 0
A24: dim | B24: 10 | C24: Janvier | D24: repos | E24: =IF(D24="repos",1,0) -> 1 | F24: =IF(D24="S",1,0) -> 0 | G24: =IF(D24="FO",1,0) -> 0 | H24: 660 | N24: =(M24-L24)+(M25-L25) -> 0 | R24: 0
E25: =IF(D24="CA",1,0) -> 0 | F25: =IF(D24="TC",1,0) -> 0 | G25: =IF(D24="FNO",1,0) -> 0
A26: lun | B26: 11 | C26: Janvier | E26: =IF(D26="repos",1,0) -> 0 | F26: =IF(D26="S",1,0) -> 0 | G26: =IF(D26="FO",1,0) -> 0 | H26: 130 | J26: 0.3375 | L26: 0.57013889 | M26: 0.875 | N26: =(M26-L26)+(M27-L27) -> 0.30486111 | R26: 1
E27: =IF(D26="CA",1,0) -> 0 | F27: =IF(D26="TC",1,0) -> 0 | G27: =IF(D26="FNO",1,0) -> 0
A28: mar | B28: 12 | C28: Janvier | E28: =IF(D28="repos",1,0) -> 0 | F28: =IF(D28="S",1,0) -> 0 | G28: =IF(D28="FO",1,0) -> 0 | H28: 130 | J28: 0.28402778 | L28: 0.56666667 | M28: 0.82777778 | N28: =(M28-L28)+(M29-L29) -> 0.26111111 | R28: 1
E29: =IF(D28="CA",1,0) -> 0 | F29: =IF(D28="TC",1,0) -> 0 | G29: =IF(D28="FNO",1,0) -> 0
A30: mer | B30: 13 | C30: Janvier | D30: S | E30: =IF(D30="repos",1,0) -> 0 | F30: =IF(D30="S",1,0) -> 1 | G30: =IF(D30="FO",1,0) -> 0 | H30: 90 | N30: =(M30-L30)+(M31-L31) -> 0 | R30: 0
E31: =IF(D30="CA",1,0) -> 0 | F31: =IF(D30="TC",1,0) -> 0 | G31: =IF(D30="FNO",1,0) -> 0
A32: jeu | B32: 14 | C32: Janvier | D32: repos | E32: =IF(D32="repos",1,0) -> 1 | F32: =IF(D32="S",1,0) -> 0 | G32: =IF(D32="FO",1,0) -> 0 | H32: 660 | N32: =(M32-L32)+(M33-L33) -> 0 | R32: 0
E33: =IF(D32="CA",1,0) -> 0 | F33: =IF(D32="TC",1,0) -> 0 | G33: =IF(D32="FNO",1,0) -> 0
A34: ven | B34: 15 | C34: Janvier | E34: =IF(D34="repos",1,0) -> 0 | F34: =IF(D34="S",1,0) -> 0 | G34: =IF(D34="FO",1,0) -> 0 | H34: 130 | J34: 0.29861111 | L34: 0.63680556 | M34: 0.89791667 | N34: =(M34-L34)+(M35-L35) -> 0.26111111 | R34: 1
E35: =IF(D34="CA",1,0) -> 0 | F35: =IF(D34="TC",1,0) -> 0 | G35: =IF(D34="FNO",1,0) -> 0
A36: sam | B36: 16 | C36: Janvier | E36: =IF(D36="repos",1,0) -> 0 | F36: =IF(D36="S",1,0) -> 0 | G36: =IF(D36="FO",1,0) -> 0 | H36: 130 | J36: 0.32361111 | L36: 0.57083333 | M36: 0.86111111 | N36: =(M36-L36)+(M37-L37) -> 0.29027778 | R36: 1
E37: =IF(D36="CA",1,0) -> 0 | F37: =IF(D36="TC",1,0) -> 0 | G37: =IF(D36="FNO",1,0) -> 0
A38: dim | B38: 17 | C38: Janvier | E38: =IF(D38="repos",1,0) -> 0 | F38: =IF(D38="S",1,0) -> 0 | G38: =IF(D38="FO",1,0) -> 0 | H38: 130 | J38: 0.30208333 | L38: 0.78472222 | M38: 1.0534722 | N38: =(M38-L38)+(M39-L39) -> 0.26875 | R38: 1
E39: =IF(D38="CA",1,0) -> 0 | F39: =IF(D38="TC",1,0) -> 0 | G39: =IF(D38="FNO",1,0) -> 0
A40: lun | B40: 18 | C40: Janvier | E40: =IF(D40="repos",1,0) -> 0 | F40: =IF(D40="S",1,0) -> 0 | G40: =IF(D40="FO",1,0) -> 0 | H40: 130 | J40: 0.34166667 | L40: 0.52013889 | M40: 0.82013889 | N40: =(M40-L40)+(M41-L41) -> 0.3 | R40: 1
E41: =IF(D40="CA",1,0) -> 0 | F41: =IF(D40="TC",1,0) -> 0 | G41: =IF(D40="FNO",1,0) -> 0
A42: mar | B42: 19 | C42: Janvier | E42: =IF(D42="repos",1,0) -> 0 | F42: =IF(D42="S",1,0) -> 0 | G42: =IF(D42="FO",1,0) -> 0 | H42: 59 | J42: 0.29652778 | L42: 0.5 | M42: 0.79652778 | N42: =(M42-L42)+(M43-L43) -> 0.29652778 | R42: 1
...

Sheet 2017 Vincent
O2: Solde N-1 | AL2: EQUIV(AM8;$AI$8:$AI$739;0);1)
O3: TS | P3: TC | Q3: CCF
N4: 0.010416667 | O4: 0 | P4: 0.29583333 | Q4: 0.55138889
B5: Période | D5: 0.27638889 | F5: S | M5: Pointage | N5: Retard | O5: Temps | P5: TS-TC-CCF | Q5: Début | R5: Fin | S5: Temps | X5: Jours | Z5: Par mois
B6: H I S | D6: 0.041666667 | F6: € | G6: Hs | H6: Derog | I6: R | J6: S | K6: Fo | L6: D | N6: Brut | O6: sur | Q6: de service | S6: réellement | X6: comptés
B7: 2 x | D7: 0.013888889 | F7: Fe | G7: 2x | H7: TS div | I7: CA | J7: Tc | K7: FNO | O7: BMP | S7: effectué | X7: conduite | AC7: 1 à 366 | AD7: jours | AE7: mois | AF7: horaires de services | AG7: horaires de services 2 | AH7: en h | AI7: en mn | AJ7: 1 à 366 (bis) | AK7: clt | AL7: Décroissant
A8: X | B8: dim | C8: 1 | D8: Janvier | E8: repos | I8: =IF(E8="repos",1,0) -> 1 | J8: =IF(E8="S",1,0) -> 0 | K8: =IF(E8="FO",1,0) -> 0 | L8: =IF(AND(B8="dim",M8=130),1,0) -> 0 | M8: 660 | P8: =IF(F8="X",D5,0)+IF(F9="X",D5,0)+IF(G8="X",D6,0)+IF(G9="X",D7,0)+H8+H9+IF(N8<N4,0,N8)+IF(N9<N4,0,N9) -> 0 | S8: =(R8-Q8)+(R9-Q9) -> 0 | X8: =IF(OR(E8="C",E8="Cr",E8="FO"),1,0) -> 0 | Z8: 1 | AA8: =IF(OR(E8="C",E8="Cr"),S8,0) -> 0 | AC8: 1 | AD8: 1 | AE8: Janvier | AH8: =IF(OR(E8="C",E8="Cr"),S8,0) -> 0 | AI8: =IF(OR($E8="C",$E8="Cr"),$S8,0) -> 0 | AJ8: 1 | AK8: 1 | AL8: =LARGE(AH8:AH738,1) -> 0.33472222 | AM8: =INDEX($AC$8:$AJ$739,MATCH(AL8,$AI$8:$AI$739,0),1) -> 201
F9: =IF(AND(A8="X",B8="dim"),"",IF(AND(A8="X",E8="TC"),"",IF(A8="X","X",""))) | I9: =IF(E8="CA",1,0) -> 0 | J9: =IF(E8="TC",1,0) -> 0 | K9: =IF(E8="FNO",1,0) -> 0
B10: lun | C10: 2 | D10: Janvier | E10: repos | I10: =IF(E10="repos",1,0) -> 1 | J10: =IF(E10="S",1,0) -> 0 | K10: =IF(E10="FO",1,0) -> 0 | L10: =IF(AND(B10="dim",M10=130),1,0) -> 0 | M10: 661 | P10: =IF(F10="X",D5,0)+IF(F11="X",D5,0)+IF(G10="X",D6,0)+IF(G11="X",D7,0)+H10+H11+IF(N10<N4,0,N10)+IF(N11<N4,0,N11) -> 0 | S10: =(R10-Q10)+(R11-Q11) -> 0 | X10: =IF(OR(E10="C",E10="Cr",E10="FO"),1,0) -> 0 | Z10: 2 | AA10: =IF(OR(E10="C",E10="Cr"),S10,0) -> 0 | AC10: 2 | AD10: 2 | AE10: Janvier | AH10: =IF(OR(E10="C",E10="Cr"),S10,0) -> 0 | AI10: =IF(OR($E10="C",$E10="Cr"),$S10,0) -> 0 | AJ10: 2 | AK10: 2 | AL10: =LARGE(AH8:AH738,2) -> 0.32916667 | AM10: =INDEX($AC$8:$AJ$739,MATCH(AL10,$AI$8:$AI$739,0),1) -> 202
F11: =IF(AND(A10="X",B10="dim"),"",IF(AND(A10="X",E10="TC"),"",IF(A10="X","X",""))) | I11: =IF(E10="CA",1,0) -> 0 | J11: =IF(E10="TC",1,0) -> 0 | K11: =IF(E10="FNO",1,0) -> 0
B12: mar | C12: 3 | D12: Janvier | E12: C | I12: =IF(E12="repos",1,0) -> 0 | J12: =IF(E12="S",1,0) -> 0 | K12: =IF(E12="FO",1,0) -> 0 | L12: =IF(AND(B12="dim",M12=130),1,0) -> 0 | M12: 130 | O12: 0.26597222 | P12: =IF(F12="X",D5,0)+IF(F13="X",D5,0)+IF(G12="X",D6,0)+IF(G13="X",D7,0)+H12+H13+IF(N12<N4,0,N12)+IF(N13<N4,0,N13) -> 0 | Q12: 0.64722222 | R12: 0.91319444 | S12: =(R12-Q12)+(R13-Q13) -> 0.26597222 | X12: =IF(OR(E12="C",E12="Cr",E12="FO"),1,0) -> 1 | Z12: 3 | AA12: =IF(OR(E12="C",E12="Cr"),S12,0) -> 0.26597222 | AC12: 3 | AD12: 3 | AE12: Janvier | AF12: 0.64722222 | AG12: 0.91319444 | AH12: =IF(OR(E12="C",E12="Cr"),S12,0) -> 0.26597222 | AI12: =IF(OR($E12="C",$E12="Cr"),$S12,0) -> 0.26597222 | AJ12: 3 | AK12: 3 | AL12: =LARGE(AH8:AH738,3) -> 0.31527778 | AM12: =INDEX($AC$8:$AJ$739,MATCH(AL12,$AI$8:$AI$739,0),1) -> 138
F13: =IF(AND(A12="X",B12="dim"),"",IF(AND(A12="X",E12="TC"),"",IF(A12="X","X",""))) | I13: =IF(E12="CA",1,0) -> 0 | J13: =IF(E12="TC",1,0) -> 0 | K13: =IF(E12="FNO",1,0) -> 0
B14: mer | C14: 4 | D14: Janvier | E14: C | I14: =IF(E14="repos",1,0) -> 0 | J14: =IF(E14="S",1,0) -> 0 | K14: =IF(E14="FO",1,0) -> 0 | L14: =IF(AND(B14="dim",M14=130),1,0) -> 0 | M14: 130 | O14: 0.27013889 | P14: =IF(F14="X",D5,0)+IF(F15="X",D5,0)+IF(G14="X",D6,0)+IF(G15="X",D7,0)+H14+H15+IF(N14<N4,0,N14)+IF(N15<N4,0,N15) -> 0 | Q14: 0.67847222 | R14: 0.94861111 | S14: =(R14-Q14)+(R15-Q15) -> 0.27013889 | X14: =IF(OR(E14="C",E14="Cr",E14="FO"),1,0) -> 1 | Z14: 4 | AA14: =IF(OR(E14="C",E14="Cr"),S14,0) -> 0.27013889 | AC14: 4 | AD14: 4 | AE14: Janvier | AF14: 0.67847222 | AG14: 0.94861111 | AH14: =IF(OR(E14="C",E14="Cr"),S14,0) -> 0.27013889 | AI14: =IF(OR($E14="C",$E14="Cr"),$S14,0) -> 0.27013889 | AJ14: 4 | AK14: 4 | AL14: =LARGE(AH8:AH738,4) -> 0.31527778 | AM14: =INDEX($AC$8:$AJ$739,MATCH(AL14,$AI$8:$AI$739,0),1) -> 138
F15: =IF(AND(A14="X",B14="dim"),"",IF(AND(A14="X",E14="TC"),"",IF(A14="X","X",""))) | I15: =IF(E14="CA",1,0) -> 0 | J15: =IF(E14="TC",1,0) -> 0 | K15: =IF(E14="FNO",1,0) -> 0
B16: jeu | C16: 5 | D16: Janvier | E16: Cr | I16: =IF(E16="repos",1,0) -> 0 | J16: =IF(E16="S",1,0) -> 0 | K16: =IF(E16="FO",1,0) -> 0 | L16: =IF(AND(B16="dim",M16=130),1,0) -> 0 | M16: 59 | O16: 0.26597222 | P16: =IF(F16="X",D5,0)+IF(F17="X",D5,0)+IF(G16="X",D6,0)+IF(G17="X",D7,0)+H16+H17+IF(N16<N4,0,N16)+IF(N17<N4,0,N17) -> 0 | Q16: 0.64722222 | R16: 0.91319444 | S16: =(R16-Q16)+(R17-Q17) -> 0.26597222 | X16: =IF(OR(E16="C",E16="Cr",E16="FO"),1,0) -> 1 | Z16: 5 | AA16: =IF(OR(E16="C",E16="Cr"),S16,0) -> 0.26597222 | AC16: 5 | AD16: 5 | AE16: Janvier | AF16: 0.64722222 | AG16: 0.91319444 | AH16: =IF(OR(E16="C",E16="Cr"),S16,0) -> 0.26597222 | AI16: =IF(OR($E16="C",$E16="Cr"),$S16,0) -> 0.26597222 | AJ16: 5 | AK16: 5 | AL16: =LARGE(AH8:AH738,5) -> 0.31527778 | AM16: =INDEX($AC$8:$AJ$739,MATCH(AL16,$AI$8:$AI$739,0),1) -> 138
F17: =IF(AND(A16="X",B16="dim"),"",IF(AND(A16="X",E16="TC"),"",IF(A16="X","X",""))) | I17: =IF(E16="CA",1,0) -> 0 | J17: =IF(E16="TC",1,0) -> 0 | K17: =IF(E16="FNO",1,0) -> 0
B18: ven | C18: 6 | D18: Janvier | E18: Cr | I18: =IF(E18="repos",1,0) -> 0 | J18: =IF(E18="S",1,0) -> 0 | K18: =IF(E18="FO",1,0) -> 0 | L18: =IF(AND(B18="dim",M18=130),1,0) -> 0 | M18: 59 | O18: 0.26597222 | P18: =IF(F18="X",D5,0)+IF(F19="X",D5,0)+IF(G18="X",D6,0)+IF(G19="X",D7,0)+H18+H19+IF(N18<N4,0,N18)+IF(N19<N4,0,N19) -> 0 | Q18: 0.64722222 | R18: 0.91319444 | S18: =(R18-Q18)+(R19-Q19) -> 0.26597222 | X18: =IF(OR(E18="C",E18="Cr",E18="FO"),1,0) -> 1 | Z18: 6 | AA18: =IF(OR(E18="C",E18="Cr"),S18,0) -> 0.26597222 | AC18: 6 | AD18: 6 | AE18: Janvier | AF18: 0.64722222 | AG18: 0.91319444 | AH18: =IF(OR(E18="C",E18="Cr"),S18,0) -> 0.26597222 | AI18: =IF(OR($E18="C",$E18="Cr"),$S18,0) -> 0.26597222 | AJ18: 6 | AK18: 6 | AL18: =LARGE(AH8:AH738,6) -> 0.31527778 | AM18: =INDEX($AC$8:$AJ$739,MATCH(AL18,$AI$8:$AI$739,0),1) -> 138
F19: =IF(AND(A18="X",B18="dim"),"",IF(AND(A18="X",E18="TC"),"",IF(A18="X","X",""))) | I19: =IF(E18="CA",1,0) -> 0 | J19: =IF(E18="TC",1,0) -> 0 | K19: =IF(E18="FNO",1,0) -> 0
B20: sam | C20: 7 | D20: Janvier | E20: repos | I20: =IF(E20="repos",1,0) -> 1 | J20: =IF(E20="S",1,0) -> 0 | K20: =IF(E20="FO",1,0) -> 0 | L20: =IF(AND(B20="dim",M20=130),1,0) -> 0 | M20: 660 | P20: =IF(F20="X",D5,0)+IF(F21="X",D5,0)+IF(G20="X",D6,0)+IF(G21="X",D7,0)+H20+H21+IF(N20<N4,0,N20)+IF(N21<N4,0,N21) -> 0 | S20: =(R20-Q20)+(R21-Q21) -> 0 | X20: =IF(OR(E20="C",E20="Cr",E20="FO"),1,0) -> 0 | Z20: 7 | AA20: =IF(OR(E20="C",E20="Cr"),S20,0) -> 0 | AC20: 7 | AD20: 7 | AE20: Janvier | AH20: =IF(OR(E20="C",E20="Cr"),S20,0) -> 0 | AI20: =IF(OR($E20="C",$E20="Cr"),$S20,0) -> 0 | AJ20: 7 | AK20: 7 | AL20: =LARGE(AH8:AH738,7) -> 0.3125 | AM20: =INDEX($AC$8:$AJ$739,MATCH(AL20,$AI$8:$AI$739,0),1) -> 308
F21: =IF(AND(A20="X",B20="dim"),"",IF(AND(A20="X",E20="TC"),"",IF(A20="X","X",""))) | I21: =IF(E20="CA",1,0) -> 0 | J21: =IF(E20="TC",1,0) -> 0 | K21: =IF(E20="FNO",1,0) -> 0
B22: dim | C22: 8 | D22: Janvier | E22: S | F22: X | I22: =IF(E22="repos",1,0) -> 0 | J22: =IF(E22="S",1,0) -> 1 | K22: =IF(E22="FO",1,0) -> 0 | L22: =IF(AND(B22="dim",M22=130),1,0) -> 1 | M22: 130 | P22: =IF(F22="X",D5,0)+IF(F23="X",D5,0)+IF(G22="X",D6,0)+IF(G23="X",D7,0)+H22+H23+IF(N22<N4,0,N22)+IF(N23<N4,0,N23) -> 0.27638889 | S22: =(R22-Q22)+(R23-Q23) -> 0 | X22: =IF(OR(E22="C",E22="Cr",E22="FO"),1,0) -> 0 | Z22: 8 | AA22: =IF(OR(E22="C",E22="Cr"),S22,0) -> 0 | AC22: 8 | AD22: 8 | AE22: Janvier | AH22: =IF(OR(E22="C",E22="Cr"),S22,0) -> 0 | AI22: =IF(OR($E22="C",$E22="Cr"),$S22,0) -> 0 | AJ22: 8 | AK22: 8 | AL22: =LARGE(AH8:AH738,8) -> 0.31111111 | AM22: =INDEX($AC$8:$AJ$739,MATCH(AL22,$AI$8:$AI$739,0),1) -> 136
F23: =IF(AND(A22="X",B22="dim"),"",IF(AND(A22="X",E22="TC"),"",IF(A22="X","X",""))) | I23: =IF(E22="CA",1,0) -> 0 | J23: =IF(E22="TC",1,0) -> 0 | K23: =IF(E22="FNO",1,0) -> 0
B24: lun | C24: 9 | D24: Janvier | E24: Cr | I24: =IF(E24="repos",1,0) -> 0 | J24: =IF(E24="S",1,0) -> 0 | K24: =IF(E24="FO",1,0) -> 0 | L24: =IF(AND(B24="dim",M24=130),1,0) -> 0 | M24: 60 | O24: 0.25555556 | P24: =IF(F24="X",D5,0)+IF(F25="X",D5,0)+IF(G24="X",D6,0)+IF(G25="X",D7,0)+H24+H25+IF(N24<N4,0,N24)+IF(N25<N4,0,N25) -> 0 | Q24: 0.57916667 | R24: 0.83472222 | S24: =(R24-Q24)+(R25-Q25) -> 0.25555556 | X24: =IF(OR(E24="C",E24="Cr",E24="FO"),1,0) -> 1 | Z24: 9 | AA24: =IF(OR(E24="C",E24="Cr"),S24,0) -> 0.25555556 | AC24: 9 | AD24: 9 | AE24: Janvier | AF24: 0.57916667 | AG24: 0.83472222 | AH24: =IF(OR(E24="C",E24="Cr"),S24,0) -> 0.25555556 | AI24: =IF(OR($E24="C",$E24="Cr"),$S24,0) -> 0.25555556 | AJ24: 9 | AK24: 9 | AL24: =LARGE(AH8:AH738,9) -> 0.31111111 | AM24: =INDEX($AC$8:$AJ$739,MATCH(AL24,$AI$8:$AI$739,0),1) -> 136
F25: =IF(AND(A24="X",B24="dim"),"",IF(AND(A24="X",E24="TC"),"",IF(A24="X","X",""))) | I25: =IF(E24="CA",1,0) -> 0 | J25: =IF(E24="TC",1,0) -> 0 | K25: =IF(E24="FNO",1,0) -> 0
B26: mar | C26: 10 | D26: Janvier | E26: C | I26: =IF(E26="repos",1,0) -> 0 | J26: =IF(E26="S",1,0) -> 0 | K26: =IF(E26="FO",1,0) -> 0 | L26: =IF(AND(B26="dim",M26=130),1,0) -> 0 | M26: 130 | N26: 0.0069444444 | O26: 0.27013889 | P26: =IF(F26="X",D5,0)+IF(F27="X",D5,0)+IF(G26="X",D6,0)+IF(G27="X",D7,0)+H26+H27+IF(N26<N4,0,N26)+IF(N27<N4,0,N27) -> 0 | Q26: 0.68055556 | R26: 0.95069444 | S26: =(R26-Q26)+(R27-Q27) -> 0.27013889 | X26: =IF(OR(E26="C",E26="Cr",E26="FO"),1,0) -> 1 | Z26: 10 | AA26: =IF(OR(E26="C",E26="Cr"),S26,0) -> 0.27013889 | AC26: 10 | AD26: 10 | AE26: Janvier | AF26: 0.68055556 | AG26: 0.95069444 | AH26: =IF(OR(E26="C",E26="Cr"),S26,0) -> 0.27013889 | AI26: =IF(OR($E26="C",$E26="Cr"),$S26,0) -> 0.27013889 | AJ26: 10 | AK26: 10 | AL26: =LARGE(AH8:AH738,10) -> 0.31041667 | AM26: =INDEX($AC$8:$AJ$739,MATCH(AL26,$AI$8:$AI$739,0),1) -> 306
F27: =IF(AND(A26="X",B26="dim"),"",IF(AND(A26="X",E26="TC"),"",IF(A26="X","X",""))) | I27: =IF(E26="CA",1,0) -> 0 | J27: =IF(E26="TC",1,0) -> 0 | K27: =IF(E26="FNO",1,0) -> 0
B28: mer | C28: 11 | D28: Janvier | E28: S | F28: X | I28: =IF(E28="repos",1,0) -> 0 | J28: =IF(E28="S",1,0) -> 1 | K28: =IF(E28="FO",1,0) -> 0 | L28: =IF(AND(B28="dim",M28=130),1,0) -> 0 | M28: 130 | P28: =IF(F28="X",D5,0)+IF(F29="X",D5,0)+IF(G28="X",D6,0)+IF(G29="X",D7,0)+H28+H29+IF(N28<N4,0,N28)+IF(N29<N4,0,N29) -> 0.27638889 | S28: =(R28-Q28)+(R29-Q29) -> 0 | X28: =IF(OR(E28="C",E28="Cr",E28="FO"),1,0) -> 0 | Z28: 11 | AA28: =IF(OR(E28="C",E28="Cr"),S28,0) -> 0 | AC28: 11 | AD28: 11 | AE28: Janvier | AH28: =IF(OR(E28="C",E28="Cr"),S28,0) -> 0 | AI28: =IF(OR($E28="C",$E28="Cr"),$S28,0) -> 0 | AJ28: 11 | AK28: 11 | AL28: =LARGE(AH8:AH738,11) -> 0.31041667 | AM28: =INDEX($AC$8:$AJ$739,MATCH(AL28,$AI$8:$AI$739,0),1) -> 306
F29: =IF(AND(A28="X",B28="dim"),"",IF(AND(A28="X",E28="TC"),"",IF(A28="X","X",""))) | I29: =IF(E28="CA",1,0) -> 0 | J29: =IF(E28="TC",1,0) -> 0 | K29: =IF(E28="FNO",1,0) -> 0
B30: jeu | C30: 12 | D30: Janvier | E30: S | F30: X | I30: =IF(E30="repos",1,0) -> 0 | J30: =IF(E30="S",1,0) -> 1 | K30: =IF(E30="FO",1,0) -> 0 | L30: =IF(AND(B30="dim",M30=130),1,0) -> 0 | M30: 130 | P30: =IF(F30="X",D5,0)+IF(F31="X",D5,0)+IF(G30="X",D6,0)+IF(G31="X",D7,0)+H30+H31+IF(N30<N4,0,N30)+IF(N31<N4,0,N31) -> 0.27638889 | S30: =(R30-Q30)+(R31-Q31) -> 0 | X30: =IF(OR(E30="C",E30="Cr",E30="FO"),1,0) -> 0 | Z30: 12 | AA30: =IF(OR(E30="C",E30="Cr"),S30,0) -> 0 | AC30: 12 | AD30: 12 | AE30: Janvier | AH30: =IF(OR(E30="C",E30="Cr"),S30,0) -> 0 | AI30: =IF(OR($E30="C",$E30="Cr"),$S30,0) -> 0 | AJ30: 12 | AK30: 12 | AL30: =LARGE(AH8:AH738,12) -> 0.30972222 | AM30: =INDEX($AC$8:$AJ$739,MATCH(AL30,$AI$8:$AI$739,0),1) -> 162
F31: =IF(AND(A30="X",B30="dim"),"",IF(AND(A30="X",E30="TC"),"",IF(A30="X","X",""))) | I31: =IF(E30="CA",1,0) -> 0 | J31: =IF(E30="TC",1,0) -> 0 | K31: =IF(E30="FNO",1,0) -> 0
B32: ven | C32: 13 | D32: Janvier | E32: repos | I32: =IF(E32="repos",1,0) -> 1 | J32: =IF(E32="S",1,0) -> 0 | K32: =IF(E32="FO",1,0) -> 0 | L32: =IF(AND(B32="dim",M32=130),1,0) -> 0 | M32: 660 | P32: =IF(F32="X",D5,0)+IF(F33="X",D5,0)+IF(G32="X",D6,0)+IF(G33="X",D7,0)+H32+H33+IF(N32<N4,0,N32)+IF(N33<N4,0,N33) -> 0 | S32: =(R32-Q32)+(R33-Q33) -> 0 | X32: =IF(OR(E32="C",E32="Cr",E32="FO"),1,0) -> 0 | Z32: 13 | AA32: =IF(OR(E32="C",E32="Cr"),S32,0) -> 0 | AC32: 13 | AD32: 13 | AE32: Janvier | AH32: =IF(OR(E32="C",E32="Cr"),S32,0) -> 0 | AI32: =IF(OR($E32="C",$E32="Cr"),$S32,0) -> 0 | AJ32: 13 | AK32: 13 | AL32: =LARGE(AH8:AH738,13) -> 0.30833333 | AM32: =INDEX($AC$8:$AJ$739,MATCH(AL32,$AI$8:$AI$739,0),1) -> 119
F33: =IF(AND(A32="X",B32="dim"),"",IF(AND(A32="X",E32="TC"),"",IF(A32="X","X",""))) | I33: =IF(E32="CA",1,0) -> 0 | J33: =IF(E32="TC",1,0) -> 0 | K33: =IF(E32="FNO",1,0) -> 0
B34: sam | C34: 14 | D34: Janvier | E34: C | I34: =IF(E34="repos",1,0) -> 0 | J34: =IF(E34="S",1,0) -> 0 | K34: =IF(E34="FO",1,0) -> 0 | L34: =IF(AND(B34="dim",M34=130),1,0) -> 0 | M34: 130 | O34: 0.24513889 | P34: =IF(F34="X",D5,0)+IF(F35="X",D5,0)+IF(G34="X",D6,0)+IF(G35="X",D7,0)+H34+H35+IF(N34<N4,0,N34)+IF(N35<N4,0,N35) -> 0 | Q34: 0.52569444 | R34: 0.77083333 | S34: =(R34-Q34)+(R35-Q35) -> 0.24513889 | X34: =IF(OR(E34="C",E34="Cr",E34="FO"),1,0) -> 1 | Z34: 14 | AA34: =IF(OR(E34="C",E34="Cr"),S34,0) -> 0.24513889 | AC34: 14 | AD34: 14 | AE34: Janvier | AF34: 0.52569444 | AG34: 0.77083333 | AH34: =IF(OR(E34="C",E34="Cr"),S34,0) -> 0.24513889 | AI34: =IF(OR($E34="C",$E34="Cr"),$S34,0) -> 0.24513889 | AJ34: 14 | AK34: 14 | AL34: =LARGE(AH8:AH738,14) -> 0.30763889 | AM34: =INDEX($AC$8:$AJ$739,MATCH(AL34,$AI$8:$AI$739,0),1) -> 49
F35: =IF(AND(A34="X",B34="dim"),"",IF(AND(A34="X",E34="TC"),"",IF(A34="X","X",""))) | I35: =IF(E34="CA",1,0) -> 0 | J35: =IF(E34="TC",1,0) -> 0 | K35: =IF(E34="FNO",1,0) -> 0
B36: dim | C36: 15 | D36: Janvier | E36: C | I36: =IF(E36="repos",1,0) -> 0 | J36: =IF(E36="S",1,0) -> 0 | K36: =IF(E36="FO",1,0) -> 0 | L36: =IF(AND(B36="dim",M36=130),1,0) -> 1 | M36: 130 | O36: 0.28958333 | P36: =IF(F36="X",D5,0)+IF(F37="X",D5,0)+IF(G36="X",D6,0)+IF(G37="X",D7,0)+H36+H37+IF(N36<N4,0,N36)+IF(N37<N4,0,N37) -> 0 | Q36: 0.51805556 | R36: 0.80763889 | S36: =(R36-Q36)+(R37-Q37) -> 0.28958333 | X36: =IF(OR(E36="C",E36="Cr",E36="FO"),1,0) -> 1 | Z36: 15 | AA36: =IF(OR(E36="C",E36="Cr"),S36,0) -> 0.28958333 | AC36: 15 | AD36: 15 | AE36: Janvier | AF36: 0.51805556 | AG36: 0.80763889 | AH36: =IF(OR(E36="C",E36="Cr"),S36,0) -> 0.28958333 | AI36: =IF(OR($E36="C",$E36="Cr"),$S36,0) -> 0.28958333 | AJ36: 15 | AK36: 15 | AL36: =LARGE(AH8:AH738,15) -> 0.30694444 | AM36: =INDEX($AC$8:$AJ$739,MATCH(AL36,$AI$8:$AI$739,0),1) -> 311
F37: =IF(AND(A36="X",B36="dim"),"",IF(AND(A36="X",E36="TC"),"",IF(A36="X","X",""))) | I37: =IF(E36="CA",1,0) -> 0 | J37: =IF(E36="TC",1,0) -> 0 | K37: =IF(E36="FNO",1,0) -> 0
B38: lun | C38: 16 | D38: Janvier | E38: C | I38: =IF(E38="repos",1,0) -> 0 | J38: =IF(E38="S",1,0) -> 0 | K38: =IF(E38="FO",1,0) -> 0 | L38: =IF(AND(B38="dim",M38=130),1,0) -> 0 | M38: 130 | O38: 0.27569444 | P38: =IF(F38="X",D5,0)+IF(F39="X",D5,0)+IF(G38="X",D6,0)+IF(G39="X",D7,0)+H38+H39+IF(N38<N4,0,N38)+IF(N39<N4,0,N39) -> 0 | Q38: 0.65972222 | R38: 0.93541667 | S38: =(R38-Q38)+(R39-Q39) -> 0.27569444 | X38: =IF(OR(E38="C",E38="Cr",E38="FO"),1,0) -> 1 | Z38: 16 | AA38: =IF(OR(E38="C",E38="Cr"),S38,0) -> 0.27569444 | AC38: 16 | AD38: 16 | AE38: Janvier | AF38: 0.65972222 | AG38: 0.93541667 | AH38: =IF(OR(E38="C",E38="Cr"),S38,0) -> 0.27569444 | AI38: =IF(OR($E38="C",$E38="Cr"),$S38,0) -> 0.27569444 | AJ38: 16 | AK38: 16 | AL38: =LARGE(AH8:AH738,16) -> 0.30694444 | AM38: =INDEX($AC$8:$AJ$739,MATCH(AL38,$AI$8:$AI$739,0),1) -> 311
F39: =IF(AND(A38="X",B38="dim"),"",IF(AND(A38="X",E38="TC"),"",IF(A38="X","X",""))) | I39: =IF(E38="CA",1,0) -> 0 | J39: =IF(E38="TC",1,0) -> 0 | K39: =IF(E38="FNO",1,0) -> 0
B40: mar | C40: 17 | D40: Janvier | E40: Cr | I40: =IF(E40="repos",1,0) -> 0 | J40: =IF(E40="S",1,0) -> 0 | K40: =IF(E40="FO",1,0) -> 0 | L40: =IF(AND(B40="dim",M40=130),1,0) -> 0 | M40: 59 | O40: 0.24791667 | P40: =IF(F40="X",D5,0)+IF(F41="X",D5,0)+IF(G40="X",D6,0)+IF(G41="X",D7,0)+H40+H41+IF(N40<N4,0,N40)+IF(N41<N4,0,N41) -> 0 | Q40: 0.5 | R40: 0.74791667 | S40: =(R40-Q40)+(R41-Q41) -> 0.24791667 | X40: =IF(OR(E40="C",E40="Cr",E40="FO"),1,0) -> 1 | Z40: 17 | AA40: =IF(OR(E40="C",E40="Cr"),S40,0) -> 0.24791667 | AC40: 17 | AD40: 17 | AE40: Janvier | AF40: 0.5 | AG40: 0.74791667 | AH40: =IF(OR(E40="C",E40="Cr"),S40,0) -> 0.24791667 | AI40: =IF(OR($E40="C",$E40="Cr"),$S40,0) -> 0.24791667 | AJ40: 17 | AK40: 17 | AL40: =LARGE(AH8:AH738,17) -> 0.30694444 | AM40: =INDEX($AC$8:$AJ$739,MATCH(AL40,$AI$8:$AI$739,0),1) -> 311
F41: =IF(AND(A40="X",B40="dim"),"",IF(AND(A40="X",E40="TC"),"",IF(A40="X","X",""))) | I41: =IF(E40="CA",1,0) -> 0 | J41: =IF(E40="TC",1,0) -> 0 | K41: =IF(E40="FNO",1,0) -> 0
...

Sheet 2017 olivier
O2: Solde N-1
O3: TS | P3: TC | Q3: CCF
N4: 0.010416667 | O4: 0 | P4: 0.97638889 | Q4: 1.075
B5: Période | D5: 0.27638889 | F5: S | M5: Pointage | N5: Retard | O5: Temps | P5: TS-TC-CCF | Q5: Début | R5: Fin | S5: Temps | X5: Jours
B6: H I S | D6: 0.041666667 | F6: € | G6: Hs | H6: Derog | I6: R | J6: S | K6: Fo | L6: D | N6: Brut | O6: sur | Q6: de service | S6: réellement | X6: comptés
B7: 2 x | D7: 0.013888889 | F7: Fe | G7: 2x | H7: TS div | I7: CA | J7: Tc | K7: FNO | O7: BMP | S7: effectué | X7: conduite
A8: X | B8: dim | C8: 1 | D8: Janvier | E8: REPOS | I8: =IF(E8="repos",1,0) -> 1 | J8: =IF(E8="S",1,0) -> 0 | K8: =IF(E8="FO",1,0) -> 0 | L8: =IF(AND(B8="dim",M8=130),1,0) -> 0 | M8: 660 | P8: =IF(F8="X",D5,0)+IF(F9="X",D5,0)+IF(G8="X",D6,0)+IF(G9="X",D7,0)+H8+H9+IF(N8<N4,0,N8)+IF(N9<N4,0,N9) -> 0 | S8: =(R8-Q8)+(R9-Q9) -> 0 | X8: =IF(OR(E8="C",E8="Cr",E8="FO"),1,0) -> 0 | Z8: 1 | AA8: =IF(OR(E8="C",E8="Cr"),S8,0) -> 0 | AC8: 1 | AD8: =IF(OR(E8="C",E8="Cr"),S8,0) -> 0 | AF8: 1 | AG8: =LARGE(AD8:AD738,1) -> 0.3125
F9: =IF(AND(A8="X",B8="dim"),"",IF(AND(A8="X",E8="TC"),"",IF(A8="X","X",""))) | I9: =IF(E8="CA",1,0) -> 0 | J9: =IF(E8="TC",1,0) -> 0 | K9: =IF(E8="FNO",1,0) -> 0
B10: lun | C10: 2 | D10: Janvier | E10: CA | I10: =IF(E10="repos",1,0) -> 0 | J10: =IF(E10="S",1,0) -> 0 | K10: =IF(E10="FO",1,0) -> 0 | L10: =IF(AND(B10="dim",M10=130),1,0) -> 0 | M10: 700 | P10: =IF(F10="X",D5,0)+IF(F11="X",D5,0)+IF(G10="X",D6,0)+IF(G11="X",D7,0)+H10+H11+IF(N10<N4,0,N10)+IF(N11<N4,0,N11) -> 0 | S10: =(R10-Q10)+(R11-Q11) -> 0 | X10: =IF(OR(E10="C",E10="Cr",E10="FO"),1,0) -> 0 | Z10: 2 | AA10: =IF(OR(E10="C",E10="Cr"),S10,0) -> 0 | AC10: 2 | AD10: =IF(OR(E10="C",E10="Cr"),S10,0) -> 0 | AF10: 2 | AG10: =LARGE(AD8:AD738,2) -> 0.3125
F11: =IF(AND(A10="X",B10="dim"),"",IF(AND(A10="X",E10="TC"),"",IF(A10="X","X",""))) | I11: =IF(E10="CA",1,0) -> 1 | J11: =IF(E10="TC",1,0) -> 0 | K11: =IF(E10="FNO",1,0) -> 0
B12: mar | C12: 3 | D12: Janvier | E12: CA | I12: =IF(E12="repos",1,0) -> 0 | J12: =IF(E12="S",1,0) -> 0 | K12: =IF(E12="FO",1,0) -> 0 | L12: =IF(AND(B12="dim",M12=130),1,0) -> 0 | M12: 700 | P12: =IF(F12="X",D5,0)+IF(F13="X",D5,0)+IF(G12="X",D6,0)+IF(G13="X",D7,0)+H12+H13+IF(N12<N4,0,N12)+IF(N13<N4,0,N13) -> 0 | S12: =(R12-Q12)+(R13-Q13) -> 0 | X12: =IF(OR(E12="C",E12="Cr",E12="FO"),1,0) -> 0 | Z12: 3 | AA12: =IF(OR(E12="C",E12="Cr"),S12,0) -> 0 | AC12: 3 | AD12: =IF(OR(E12="C",E12="Cr"),S12,0) -> 0 | AF12: 3 | AG12: =LARGE(AD8:AD738,3) -> 0.3125
F13: =IF(AND(A12="X",B12="dim"),"",IF(AND(A12="X",E12="TC"),"",IF(A12="X","X",""))) | I13: =IF(E12="CA",1,0) -> 1 | J13: =IF(E12="TC",1,0) -> 0 | K13: =IF(E12="FNO",1,0) -> 0
B14: mer | C14: 4 | D14: Janvier | E14: S | F14: x | H14: 0.020833333 | I14: =IF(E14="repos",1,0) -> 0 | J14: =IF(E14="S",1,0) -> 1 | K14: =IF(E14="FO",1,0) -> 0 | L14: =IF(AND(B14="dim",M14=130),1,0) -> 0 | M14: 130 | P14: =IF(F14="X",D5,0)+IF(F15="X",D5,0)+IF(G14="X",D6,0)+IF(G15="X",D7,0)+H14+H15+IF(N14<N4,0,N14)+IF(N15<N4,0,N15) -> 0.29722222 | S14: =(R14-Q14)+(R15-Q15) -> 0 | X14: =IF(OR(E14="C",E14="Cr",E14="FO"),1,0) -> 0 | Z14: 4 | AA14: =IF(OR(E14="C",E14="Cr"),S14,0) -> 0 | AC14: 4 | AD14: =IF(OR(E14="C",E14="Cr"),S14,0) -> 0 | AF14: 4 | AG14: =LARGE(AD8:AD738,4) -> 0.30972222
F15: =IF(AND(A14="X",B14="dim"),"",IF(AND(A14="X",E14="TC"),"",IF(A14="X","X",""))) | I15: =IF(E14="CA",1,0) -> 0 | J15: =IF(E14="TC",1,0) -> 0 | K15: =IF(E14="FNO",1,0) -> 0
B16: jeu | C16: 5 | D16: Janvier | E16: REPOS | I16: =IF(E16="repos",1,0) -> 1 | J16: =IF(E16="S",1,0) -> 0 | K16: =IF(E16="FO",1,0) -> 0 | L16: =IF(AND(B16="dim",M16=130),1,0) -> 0 | M16: 660 | P16: =IF(F16="X",D5,0)+IF(F17="X",D5,0)+IF(G16="X",D6,0)+IF(G17="X",D7,0)+H16+H17+IF(N16<N4,0,N16)+IF(N17<N4,0,N17) -> 0 | S16: =(R16-Q16)+(R17-Q17) -> 0 | X16: =IF(OR(E16="C",E16="Cr",E16="FO"),1,0) -> 0 | Z16: 5 | AA16: =IF(OR(E16="C",E16="Cr"),S16,0) -> 0 | AC16: 5 | AD16: =IF(OR(E16="C",E16="Cr"),S16,0) -> 0 | AF16: 5 | AG16: =LARGE(AD8:AD738,5) -> 0.30902778
F17: =IF(AND(A16="X",B16="dim"),"",IF(AND(A16="X",E16="TC"),"",IF(A16="X","X",""))) | I17: =IF(E16="CA",1,0) -> 0 | J17: =IF(E16="TC",1,0) -> 0 | K17: =IF(E16="FNO",1,0) -> 0
B18: ven | C18: 6 | D18: Janvier | E18: C | I18: =IF(E18="repos",1,0) -> 0 | J18: =IF(E18="S",1,0) -> 0 | K18: =IF(E18="FO",1,0) -> 0 | L18: =IF(AND(B18="dim",M18=130),1,0) -> 0 | M18: 130 | O18: 0.30555556 | P18: =IF(F18="X",D5,0)+IF(F19="X",D5,0)+IF(G18="X",D6,0)+IF(G19="X",D7,0)+H18+H19+IF(N18<N4,0,N18)+IF(N19<N4,0,N19) -> 0 | Q18: 0.23472222 | R18: 0.50763889 | S18: =(R18-Q18)+(R19-Q19) -> 0.27291667 | X18: =IF(OR(E18="C",E18="Cr",E18="FO"),1,0) -> 1 | Z18: 6 | AA18: =IF(OR(E18="C",E18="Cr"),S18,0) -> 0.27291667 | AC18: 6 | AD18: =IF(OR(E18="C",E18="Cr"),S18,0) -> 0.27291667 | AF18: 6 | AG18: =LARGE(AD8:AD738,6) -> 0.30763889
F19: =IF(AND(A18="X",B18="dim"),"",IF(AND(A18="X",E18="TC"),"",IF(A18="X","X",""))) | I19: =IF(E18="CA",1,0) -> 0 | J19: =IF(E18="TC",1,0) -> 0 | K19: =IF(E18="FNO",1,0) -> 0
B20: sam | C20: 7 | D20: Janvier | E20: C | I20: =IF(E20="repos",1,0) -> 0 | J20: =IF(E20="S",1,0) -> 0 | K20: =IF(E20="FO",1,0) -> 0 | L20: =IF(AND(B20="dim",M20=130),1,0) -> 0 | M20: 132 | O20: 0.23888889 | P20: =IF(F20="X",D5,0)+IF(F21="X",D5,0)+IF(G20="X",D6,0)+IF(G21="X",D7,0)+H20+H21+IF(N20<N4,0,N20)+IF(N21<N4,0,N21) -> 0 | Q20: 0.18402778 | R20: 0.42013889 | S20: =(R20-Q20)+(R21-Q21) -> 0.23611111 | X20: =IF(OR(E20="C",E20="Cr",E20="FO"),1,0) -> 1 | Z20: 7 | AA20: =IF(OR(E20="C",E20="Cr"),S20,0) -> 0.23611111 | AC20: 7 | AD20: =IF(OR(E20="C",E20="Cr"),S20,0) -> 0.23611111 | AF20: 7 | AG20: =LARGE(AD8:AD738,7) -> 0.30486111
F21: =IF(AND(A20="X",B20="dim"),"",IF(AND(A20="X",E20="TC"),"",IF(A20="X","X",""))) | I21: =IF(E20="CA",1,0) -> 0 | J21: =IF(E20="TC",1,0) -> 0 | K21: =IF(E20="FNO",1,0) -> 0
B22: dim | C22: 8 | D22: Janvier | E22: REPOS | I22: =IF(E22="repos",1,0) -> 1 | J22: =IF(E22="S",1,0) -> 0 | K22: =IF(E22="FO",1,0) -> 0 | L22: =IF(AND(B22="dim",M22=130),1,0) -> 0 | M22: 661 | P22: =IF(F22="X",D5,0)+IF(F23="X",D5,0)+IF(G22="X",D6,0)+IF(G23="X",D7,0)+H22+H23+IF(N22<N4,0,N22)+IF(N23<N4,0,N23) -> 0 | S22: =(R22-Q22)+(R23-Q23) -> 0 | X22: =IF(OR(E22="C",E22="Cr",E22="FO"),1,0) -> 0 | Z22: 8 | AA22: =IF(OR(E22="C",E22="Cr"),S22,0) -> 0 | AC22: 8 | AD22: =IF(OR(E22="C",E22="Cr"),S22,0) -> 0 | AF22: 8 | AG22: =LARGE(AD8:AD738,8) -> 0.30486111
F23: =IF(AND(A22="X",B22="dim"),"",IF(AND(A22="X",E22="TC"),"",IF(A22="X","X",""))) | I23: =IF(E22="CA",1,0) -> 0 | J23: =IF(E22="TC",1,0) -> 0 | K23: =IF(E22="FNO",1,0) -> 0
B24: lun | C24: 9 | D24: Janvier | E24: CR | I24: =IF(E24="repos",1,0) -> 0 | J24: =IF(E24="S",1,0) -> 0 | K24: =IF(E24="FO",1,0) -> 0 | L24: =IF(AND(B24="dim",M24=130),1,0) -> 0 | M24: 60 | O24: 0.26041667 | P24: =IF(F24="X",D5,0)+IF(F25="X",D5,0)+IF(G24="X",D6,0)+IF(G25="X",D7,0)+H24+H25+IF(N24<N4,0,N24)+IF(N25<N4,0,N25) -> 0 | Q24: 0.18402778 | R24: 0.44444444 | S24: =(R24-Q24)+(R25-Q25) -> 0.26041667 | X24: =IF(OR(E24="C",E24="Cr",E24="FO"),1,0) -> 1 | Z24: 9 | AA24: =IF(OR(E24="C",E24="Cr"),S24,0) -> 0.26041667 | AC24: 9 | AD24: =IF(OR(E24="C",E24="Cr"),S24,0) -> 0.26041667 | AF24: 9 | AG24: =LARGE(AD8:AD738,9) -> 0.30416667
F25: =IF(AND(A24="X",B24="dim"),"",IF(AND(A24="X",E24="TC"),"",IF(A24="X","X",""))) | I25: =IF(E24="CA",1,0) -> 0 | J25: =IF(E24="TC",1,0) -> 0 | K25: =IF(E24="FNO",1,0) -> 0
B26: mar | C26: 10 | D26: Janvier | E26: C | I26: =IF(E26="repos",1,0) -> 0 | J26: =IF(E26="S",1,0) -> 0 | K26: =IF(E26="FO",1,0) -> 0 | L26: =IF(AND(B26="dim",M26=130),1,0) -> 0 | M26: 132 | N26: 0.015277778 | O26: 0.25625 | P26: =IF(F26="X",D5,0)+IF(F27="X",D5,0)+IF(G26="X",D6,0)+IF(G27="X",D7,0)+H26+H27+IF(N26<N4,0,N26)+IF(N27<N4,0,N27) -> 0.015277778 | Q26: 0.20486111 | R26: 0.46111111 | S26: =(R26-Q26)+(R27-Q27) -> 0.25625 | X26: =IF(OR(E26="C",E26="Cr",E26="FO"),1,0) -> 1 | Z26: 10 | AA26: =IF(OR(E26="C",E26="Cr"),S26,0) -> 0.25625 | AC26: 10 | AD26: =IF(OR(E26="C",E26="Cr"),S26,0) -> 0.25625 | AF26: 10 | AG26: =LARGE(AD8:AD738,10) -> 0.30416667
F27: =IF(AND(A26="X",B26="dim"),"",IF(AND(A26="X",E26="TC"),"",IF(A26="X","X",""))) | I27: =IF(E26="CA",1,0) -> 0 | J27: =IF(E26="TC",1,0) -> 0 | K27: =IF(E26="FNO",1,0) -> 0
B28: mer | C28: 11 | D28: Janvier | E28: C | I28: =IF(E28="repos",1,0) -> 0 | J28: =IF(E28="S",1,0) -> 0 | K28: =IF(E28="FO",1,0) -> 0 | L28: =IF(AND(B28="dim",M28=130),1,0) -> 0 | M28: 130 | O28: 0.25208333 | P28: =IF(F28="X",D5,0)+IF(F29="X",D5,0)+IF(G28="X",D6,0)+IF(G29="X",D7,0)+H28+H29+IF(N28<N4,0,N28)+IF(N29<N4,0,N29) -> 0 | Q28: 0.25 | R28: 0.50208333 | S28: =(R28-Q28)+(R29-Q29) -> 0.25208333 | X28: =IF(OR(E28="C",E28="Cr",E28="FO"),1,0) -> 1 | Z28: 11 | AA28: =IF(OR(E28="C",E28="Cr"),S28,0) -> 0.25208333 | AC28: 11 | AD28: =IF(OR(E28="C",E28="Cr"),S28,0) -> 0.25208333 | AF28: 11 | AG28: =LARGE(AD8:AD738,11) -> 0.30416667
F29: =IF(AND(A28="X",B28="dim"),"",IF(AND(A28="X",E28="TC"),"",IF(A28="X","X",""))) | I29: =IF(E28="CA",1,0) -> 0 | J29: =IF(E28="TC",1,0) -> 0 | K29: =IF(E28="FNO",1,0) -> 0 | M29: 30
B30: jeu | C30: 12 | D30: Janvier | E30: S | F30: x | H30: 0.014583333 | I30: =IF(E30="repos",1,0) -> 0 | J30: =IF(E30="S",1,0) -> 1 | K30: =IF(E30="FO",1,0) -> 0 | L30: =IF(AND(B30="dim",M30=130),1,0) -> 0 | M30: 130 | P30: =IF(F30="X",D5,0)+IF(F31="X",D5,0)+IF(G30="X",D6,0)+IF(G31="X",D7,0)+H30+H31+IF(N30<N4,0,N30)+IF(N31<N4,0,N31) -> 0.29097222 | S30: =(R30-Q30)+(R31-Q31) -> 0 | X30: =IF(OR(E30="C",E30="Cr",E30="FO"),1,0) -> 0 | Z30: 12 | AA30: =IF(OR(E30="C",E30="Cr"),S30,0) -> 0 | AC30: 12 | AD30: =IF(OR(E30="C",E30="Cr"),S30,0) -> 0 | AF30: 12 | AG30: =LARGE(AD8:AD738,12) -> 0.30416667
F31: =IF(AND(A30="X",B30="dim"),"",IF(AND(A30="X",E30="TC"),"",IF(A30="X","X",""))) | I31: =IF(E30="CA",1,0) -> 0 | J31: =IF(E30="TC",1,0) -> 0 | K31: =IF(E30="FNO",1,0) -> 0
B32: ven | C32: 13 | D32: Janvier | E32: REPOS | I32: =IF(E32="repos",1,0) -> 1 | J32: =IF(E32="S",1,0) -> 0 | K32: =IF(E32="FO",1,0) -> 0 | L32: =IF(AND(B32="dim",M32=130),1,0) -> 0 | M32: 660 | P32: =IF(F32="X",D5,0)+IF(F33="X",D5,0)+IF(G32="X",D6,0)+IF(G33="X",D7,0)+H32+H33+IF(N32<N4,0,N32)+IF(N33<N4,0,N33) -> 0 | S32: =(R32-Q32)+(R33-Q33) -> 0 | X32: =IF(OR(E32="C",E32="Cr",E32="FO"),1,0) -> 0 | Z32: 13 | AA32: =IF(OR(E32="C",E32="Cr"),S32,0) -> 0 | AC32: 13 | AD32: =IF(OR(E32="C",E32="Cr"),S32,0) -> 0 | AF32: 13 | AG32: =LARGE(AD8:AD738,13) -> 0.30416667
F33: =IF(AND(A32="X",B32="dim"),"",IF(AND(A32="X",E32="TC"),"",IF(A32="X","X",""))) | I33: =IF(E32="CA",1,0) -> 0 | J33: =IF(E32="TC",1,0) -> 0 | K33: =IF(E32="FNO",1,0) -> 0
B34: sam | C34: 14 | D34: Janvier | E34: C | I34: =IF(E34="repos",1,0) -> 0 | J34: =IF(E34="S",1,0) -> 0 | K34: =IF(E34="FO",1,0) -> 0 | L34: =IF(AND(B34="dim",M34=130),1,0) -> 0 | M34: 132 | O34: 0.23194444 | P34: =IF(F34="X",D5,0)+IF(F35="X",D5,0)+IF(G34="X",D6,0)+IF(G35="X",D7,0)+H34+H35+IF(N34<N4,0,N34)+IF(N35<N4,0,N35) -> 0 | Q34: 0.19791667 | R34: 0.42708333 | S34: =(R34-Q34)+(R35-Q35) -> 0.22916667 | X34: =IF(OR(E34="C",E34="Cr",E34="FO"),1,0) -> 1 | Z34: 14 | AA34: =IF(OR(E34="C",E34="Cr"),S34,0) -> 0.22916667 | AC34: 14 | AD34: =IF(OR(E34="C",E34="Cr"),S34,0) -> 0.22916667 | AF34: 14 | AG34: =LARGE(AD8:AD738,14) -> 0.30416667
F35: =IF(AND(A34="X",B34="dim"),"",IF(AND(A34="X",E34="TC"),"",IF(A34="X","X",""))) | I35: =IF(E34="CA",1,0) -> 0 | J35: =IF(E34="TC",1,0) -> 0 | K35: =IF(E34="FNO",1,0) -> 0
B36: dim | C36: 15 | D36: Janvier | E36: REPOS | I36: =IF(E36="repos",1,0) -> 1 | J36: =IF(E36="S",1,0) -> 0 | K36: =IF(E36="FO",1,0) -> 0 | L36: =IF(AND(B36="dim",M36=130),1,0) -> 0 | M36: 661 | P36: =IF(F36="X",D5,0)+IF(F37="X",D5,0)+IF(G36="X",D6,0)+IF(G37="X",D7,0)+H36+H37+IF(N36<N4,0,N36)+IF(N37<N4,0,N37) -> 0 | S36: =(R36-Q36)+(R37-Q37) -> 0 | X36: =IF(OR(E36="C",E36="Cr",E36="FO"),1,0) -> 0 | Z36: 15 | AA36: =IF(OR(E36="C",E36="Cr"),S36,0) -> 0 | AC36: 15 | AD36: =IF(OR(E36="C",E36="Cr"),S36,0) -> 0 | AF36: 15 | AG36: =LARGE(AD8:AD738,15) -> 0.30416667
F37: =IF(AND(A36="X",B36="dim"),"",IF(AND(A36="X",E36="TC"),"",IF(A36="X","X",""))) | I37: =IF(E36="CA",1,0) -> 0 | J37: =IF(E36="TC",1,0) -> 0 | K37: =IF(E36="FNO",1,0) -> 0
B38: lun | C38: 16 | D38: Janvier | E38: C | I38: =IF(E38="repos",1,0) -> 0 | J38: =IF(E38="S",1,0) -> 0 | K38: =IF(E38="FO",1,0) -> 0 | L38: =IF(AND(B38="dim",M38=130),1,0) -> 0 | M38: 132 | O38: 0.25555556 | P38: =IF(F38="X",D5,0)+IF(F39="X",D5,0)+IF(G38="X",D6,0)+IF(G39="X",D7,0)+H38+H39+IF(N38<N4,0,N38)+IF(N39<N4,0,N39) -> 0 | Q38: 0.19444444 | R38: 0.45 | S38: =(R38-Q38)+(R39-Q39) -> 0.25555556 | X38: =IF(OR(E38="C",E38="Cr",E38="FO"),1,0) -> 1 | Z38: 16 | AA38: =IF(OR(E38="C",E38="Cr"),S38,0) -> 0.25555556 | AC38: 16 | AD38: =IF(OR(E38="C",E38="Cr"),S38,0) -> 0.25555556 | AF38: 16 | AG38: =LARGE(AD8:AD738,16) -> 0.30416667
F39: =IF(AND(A38="X",B38="dim"),"",IF(AND(A38="X",E38="TC"),"",IF(A38="X","X",""))) | I39: =IF(E38="CA",1,0) -> 0 | J39: =IF(E38="TC",1,0) -> 0 | K39: =IF(E38="FNO",1,0) -> 0
B40: mar | C40: 17 | D40: Janvier | E40: C | G40: x | I40: =IF(E40="repos",1,0) -> 0 | J40: =IF(E40="S",1,0) -> 0 | K40: =IF(E40="FO",1,0) -> 0 | L40: =IF(AND(B40="dim",M40=130),1,0) -> 0 | M40: 132 | N40: 0.019444444 | O40: 0.25555556 | P40: =IF(F40="X",D5,0)+IF(F41="X",D5,0)+IF(G40="X",D6,0)+IF(G41="X",D7,0)+H40+H41+IF(N40<N4,0,N40)+IF(N41<N4,0,N41) -> 0.061111111 | Q40: 0.19444444 | R40: 0.45 | S40: =(R40-Q40)+(R41-Q41) -> 0.25555556 | X40: =IF(OR(E40="C",E40="Cr",E40="FO"),1,0) -> 1 | Z40: 17 | AA40: =IF(OR(E40="C",E40="Cr"),S40,0) -> 0.25555556 | AC40: 17 | AD40: =IF(OR(E40="C",E40="Cr"),S40,0) -> 0.25555556 | AF40: 17 | AG40: =LARGE(AD8:AD738,17) -> 0.30416667
F41: =IF(AND(A40="X",B40="dim"),"",IF(AND(A40="X",E40="TC"),"",IF(A40="X","X",""))) | I41: =IF(E40="CA",1,0) -> 0 | J41: =IF(E40="TC",1,0) -> 0 | K41: =IF(E40="FNO",1,0) -> 0
...

Sheet Base
A1: 1 à 366 | B1: jours | C1: mois | D1: horaires de services | E1: horaires de services 2 | F1: en h | G1: en mn | H1: 1 à 366 (bis) | I1: clt | J1: Décroissant | L1: en mn | M1: mois | N1: jours | O1: Somme de 1 à 366
A2: ='2017 Vincent'!AC8 -> 1 | B2: ='2017 Vincent'!AD8 -> 1 | C2: ='2017 Vincent'!AE8 -> Janvier | D2: ='2017 Vincent'!AF8 -> 0 | E2: ='2017 Vincent'!AG8 -> 0 | F2: ='2017 Vincent'!AH8 -> 0 | G2: ='2017 Vincent'!AI8 -> 0 | H2: ='2017 Vincent'!AJ8 -> 1 | ... J2: ='2017 Vincent'!AL8 -> 0.33472222 | L2: 0.33472222 | M2: Juillet | N2: 20 | O2: 201
A3: ='2017 Vincent'!AC9 -> 0 | B3: ='2017 Vincent'!AD9 -> 0 | C3: ='2017 Vincent'!AE9 -> 0 | D3: ='2017 Vincent'!AF9 -> 0 | E3: ='2017 Vincent'!AG9 -> 0 | F3: ='2017 Vincent'!AH9 -> 0 | G3: ='2017 Vincent'!AI9 -> 0 | H3: ='2017 Vincent'!AJ9 -> 0 | ... J3: ='2017 Vincent'!AL9 -> 0 | L3: 0.32916667 | M3: Juillet | N3: 21 | O3: 202
A4: ='2017 Vincent'!AC10 -> 2 | B4: ='2017 Vincent'!AD10 -> 2 | C4: ='2017 Vincent'!AE10 -> Janvier | D4: ='2017 Vincent'!AF10 -> 0 | E4: ='2017 Vincent'!AG10 -> 0 | F4: ='2017 Vincent'!AH10 -> 0 | G4: ='2017 Vincent'!AI10 -> 0 | H4: ='2017 Vincent'!AJ10 -> 2 | ... J4: ='2017 Vincent'!AL10 -> 0.32916667 | L4: 0.31527778 | M4: Mai | N4: 18 | O4: 138
A5: ='2017 Vincent'!AC11 -> 0 | B5: ='2017 Vincent'!AD11 -> 0 | C5: ='2017 Vincent'!AE11 -> 0 | D5: ='2017 Vincent'!AF11 -> 0 | E5: ='2017 Vincent'!AG11 -> 0 | F5: ='2017 Vincent'!AH11 -> 0 | G5: ='2017 Vincent'!AI11 -> 0 | H5: ='2017 Vincent'!AJ11 -> 0 | ... J5: ='2017 Vincent'!AL11 -> 0 | N5: 19 | O5: 139
A6: ='2017 Vincent'!AC12 -> 3 | B6: ='2017 Vincent'!AD12 -> 3 | C6: ='2017 Vincent'!AE12 -> Janvier | D6: ='2017 Vincent'!AF12 -> 0.64722222 | E6: ='2017 Vincent'!AG12 -> 0.91319444 | F6: ='2017 Vincent'!AH12 -> 0.26597222 | G6: ='2017 Vincent'!AI12 -> 0.26597222 | H6: ='2017 Vincent'!AJ12 -> 3 | ... J6: ='2017 Vincent'!AL12 -> 0.31527778 | M6: Novembre | N6: 20 | O6: 324
A7: ='2017 Vincent'!AC13 -> 0 | B7: ='2017 Vincent'!AD13 -> 0 | C7: ='2017 Vincent'!AE13 -> 0 | D7: ='2017 Vincent'!AF13 -> 0 | E7: ='2017 Vincent'!AG13 -> 0 | F7: ='2017 Vincent'!AH13 -> 0 | G7: ='2017 Vincent'!AI13 -> 0 | H7: ='2017 Vincent'!AJ13 -> 0 | ... J7: ='2017 Vincent'!AL13 -> 0 | N7: 21 | O7: 325
A8: ='2017 Vincent'!AC14 -> 4 | B8: ='2017 Vincent'!AD14 -> 4 | C8: ='2017 Vincent'!AE14 -> Janvier | D8: ='2017 Vincent'!AF14 -> 0.67847222 | E8: ='2017 Vincent'!AG14 -> 0.94861111 | F8: ='2017 Vincent'!AH14 -> 0.27013889 | G8: ='2017 Vincent'!AI14 -> 0.27013889 | H8: ='2017 Vincent'!AJ14 -> 4 | ... J8: ='2017 Vincent'!AL14 -> 0.31527778 | L8: 0.3125 | M8: Novembre | N8: 4 | O8: 308
A9: ='2017 Vincent'!AC15 -> 0 | B9: ='2017 Vincent'!AD15 -> 0 | C9: ='2017 Vincent'!AE15 -> 0 | D9: ='2017 Vincent'!AF15 -> 0 | E9: ='2017 Vincent'!AG15 -> 0 | F9: ='2017 Vincent'!AH15 -> 0 | G9: ='2017 Vincent'!AI15 -> 0 | H9: ='2017 Vincent'!AJ15 -> 0 | ... J9: ='2017 Vincent'!AL15 -> 0 | L9: 0.31111111 | M9: Mai | N9: 16 | O9: 136
A10: ='2017 Vincent'!AC16 -> 5 | B10: ='2017 Vincent'!AD16 -> 5 | C10: ='2017 Vincent'!AE16 -> Janvier | D10: ='2017 Vincent'!AF16 -> 0.64722222 | E10: ='2017 Vincent'!AG16 -> 0.91319444 | F10: ='2017 Vincent'!AH16 -> 0.26597222 | G10: ='2017 Vincent'!AI16 -> 0.26597222 | H10: ='2017 Vincent'!AJ16 -> 5 | ... J10: ='2017 Vincent'!AL16 -> 0.31527778 | N10: 17 | O10: 137
A11: ='2017 Vincent'!AC17 -> 0 | B11: ='2017 Vincent'!AD17 -> 0 | C11: ='2017 Vincent'!AE17 -> 0 | D11: ='2017 Vincent'!AF17 -> 0 | E11: ='2017 Vincent'!AG17 -> 0 | F11: ='2017 Vincent'!AH17 -> 0 | G11: ='2017 Vincent'!AI17 -> 0 | H11: ='2017 Vincent'!AJ17 -> 0 | ... J11: ='2017 Vincent'!AL17 -> 0 | L11: 0.31041667 | M11: Novembre | N11: 2 | O11: 306
A12: ='2017 Vincent'!AC18 -> 6 | B12: ='2017 Vincent'!AD18 -> 6 | C12: ='2017 Vincent'!AE18 -> Janvier | D12: ='2017 Vincent'!AF18 -> 0.64722222 | E12: ='2017 Vincent'!AG18 -> 0.91319444 | F12: ='2017 Vincent'!AH18 -> 0.26597222 | G12: ='2017 Vincent'!AI18 -> 0.26597222 | H12: ='2017 Vincent'!AJ18 -> 6 | ... J12: ='2017 Vincent'!AL18 -> 0.31527778 | N12: 3 | O12: 307
A13: ='2017 Vincent'!AC19 -> 0 | B13: ='2017 Vincent'!AD19 -> 0 | C13: ='2017 Vincent'!AE19 -> 0 | D13: ='2017 Vincent'!AF19 -> 0 | E13: ='2017 Vincent'!AG19 -> 0 | F13: ='2017 Vincent'!AH19 -> 0 | G13: ='2017 Vincent'!AI19 -> 0 | H13: ='2017 Vincent'!AJ19 -> 0 | ... J13: ='2017 Vincent'!AL19 -> 0 | L13: 0.30972222 | M13: Juin | N13: 11 | O13: 162
A14: ='2017 Vincent'!AC20 -> 7 | B14: ='2017 Vincent'!AD20 -> 7 | C14: ='2017 Vincent'!AE20 -> Janvier | D14: ='2017 Vincent'!AF20 -> 0 | E14: ='2017 Vincent'!AG20 -> 0 | F14: ='2017 Vincent'!AH20 -> 0 | G14: ='2017 Vincent'!AI20 -> 0 | H14: ='2017 Vincent'!AJ20 -> 7 | ... J14: ='2017 Vincent'!AL20 -> 0.3125 | L14: 0.30833333 | M14: Avril | N14: 29 | O14: 119
A15: ='2017 Vincent'!AC21 -> 0 | B15: ='2017 Vincent'!AD21 -> 0 | C15: ='2017 Vincent'!AE21 -> 0 | D15: ='2017 Vincent'!AF21 -> 0 | E15: ='2017 Vincent'!AG21 -> 0 | F15: ='2017 Vincent'!AH21 -> 0 | G15: ='2017 Vincent'!AI21 -> 0 | H15: ='2017 Vincent'!AJ21 -> 0 | ... J15: ='2017 Vincent'!AL21 -> 0 | L15: 0.30763889 | M15: Fevrier | N15: 18 | O15: 49
A16: ='2017 Vincent'!AC22 -> 8 | B16: ='2017 Vincent'!AD22 -> 8 | C16: ='2017 Vincent'!AE22 -> Janvier | D16: ='2017 Vincent'!AF22 -> 0 | E16: ='2017 Vincent'!AG22 -> 0 | F16: ='2017 Vincent'!AH22 -> 0 | G16: ='2017 Vincent'!AI22 -> 0 | H16: ='2017 Vincent'!AJ22 -> 8 | ... J16: ='2017 Vincent'!AL22 -> 0.31111111 | L16: 0.30694444 | M16: Mars | N16: 2 | O16: 61
A17: ='2017 Vincent'!AC23 -> 0 | B17: ='2017 Vincent'!AD23 -> 0 | C17: ='2017 Vincent'!AE23 -> 0 | D17: ='2017 Vincent'!AF23 -> 0 | E17: ='2017 Vincent'!AG23 -> 0 | F17: ='2017 Vincent'!AH23 -> 0 | G17: ='2017 Vincent'!AI23 -> 0 | H17: ='2017 Vincent'!AJ23 -> 0 | ... J17: ='2017 Vincent'!AL23 -> 0 | N17: 3 | O17: 62
A18: ='2017 Vincent'!AC24 -> 9 | B18: ='2017 Vincent'!AD24 -> 9 | C18: ='2017 Vincent'!AE24 -> Janvier | D18: ='2017 Vincent'!AF24 -> 0.57916667 | E18: ='2017 Vincent'!AG24 -> 0.83472222 | F18: ='2017 Vincent'!AH24 -> 0.25555556 | G18: ='2017 Vincent'!AI24 -> 0.25555556 | H18: ='2017 Vincent'!AJ24 -> 9 | ... J18: ='2017 Vincent'!AL24 -> 0.31111111 | M18: Novembre | N18: 7 | O18: 311
A19: ='2017 Vincent'!AC25 -> 0 | B19: ='2017 Vincent'!AD25 -> 0 | C19: ='2017 Vincent'!AE25 -> 0 | D19: ='2017 Vincent'!AF25 -> 0 | E19: ='2017 Vincent'!AG25 -> 0 | F19: ='2017 Vincent'!AH25 -> 0 | G19: ='2017 Vincent'!AI25 -> 0 | H19: ='2017 Vincent'!AJ25 -> 0 | ... J19: ='2017 Vincent'!AL25 -> 0 | N19: 8 | O19: 312
A20: ='2017 Vincent'!AC26 -> 10 | B20: ='2017 Vincent'!AD26 -> 10 | C20: ='2017 Vincent'!AE26 -> Janvier | D20: ='2017 Vincent'!AF26 -> 0.68055556 | E20: ='2017 Vincent'!AG26 -> 0.95069444 | F20: ='2017 Vincent'!AH26 -> 0.27013889 | G20: ='2017 Vincent'!AI26 -> 0.27013889 | H20: ='2017 Vincent'!AJ26 -> 10 | ... J20: ='2017 Vincent'!AL26 -> 0.31041667 | N20: 9 | O20: 313
A21: ='2017 Vincent'!AC27 -> 0 | B21: ='2017 Vincent'!AD27 -> 0 | C21: ='2017 Vincent'!AE27 -> 0 | D21: ='2017 Vincent'!AF27 -> 0 | E21: ='2017 Vincent'!AG27 -> 0 | F21: ='2017 Vincent'!AH27 -> 0 | G21: ='2017 Vincent'!AI27 -> 0 | H21: ='2017 Vincent'!AJ27 -> 0 | ... J21: ='2017 Vincent'!AL27 -> 0 | N21: 10 | O21: 314
A22: ='2017 Vincent'!AC28 -> 11 | B22: ='2017 Vincent'!AD28 -> 11 | C22: ='2017 Vincent'!AE28 -> Janvier | D22: ='2017 Vincent'!AF28 -> 0 | E22: ='2017 Vincent'!AG28 -> 0 | F22: ='2017 Vincent'!AH28 -> 0 | G22: ='2017 Vincent'!AI28 -> 0 | H22: ='2017 Vincent'!AJ28 -> 11 | ... J22: ='2017 Vincent'!AL28 -> 0.31041667 | L22: 0.30625 | M22: Mars | N22: 20 | O22: 79
A23: ='2017 Vincent'!AC29 -> 0 | B23: ='2017 Vincent'!AD29 -> 0 | C23: ='2017 Vincent'!AE29 -> 0 | D23: ='2017 Vincent'!AF29 -> 0 | E23: ='2017 Vincent'!AG29 -> 0 | F23: ='2017 Vincent'!AH29 -> 0 | G23: ='2017 Vincent'!AI29 -> 0 | H23: ='2017 Vincent'!AJ29 -> 0 | ... J23: ='2017 Vincent'!AL29 -> 0 | N23: 21 | O23: 80
A24: ='2017 Vincent'!AC30 -> 12 | B24: ='2017 Vincent'!AD30 -> 12 | C24: ='2017 Vincent'!AE30 -> Janvier | D24: ='2017 Vincent'!AF30 -> 0 | E24: ='2017 Vincent'!AG30 -> 0 | F24: ='2017 Vincent'!AH30 -> 0 | G24: ='2017 Vincent'!AI30 -> 0 | H24: ='2017 Vincent'!AJ30 -> 12 | ... J24: ='2017 Vincent'!AL30 -> 0.30972222 | M24: Septembre | N24: 20 | O24: 263
A25: ='2017 Vincent'!AC31 -> 0 | B25: ='2017 Vincent'!AD31 -> 0 | C25: ='2017 Vincent'!AE31 -> 0 | D25: ='2017 Vincent'!AF31 -> 0 | E25: ='2017 Vincent'!AG31 -> 0 | F25: ='2017 Vincent'!AH31 -> 0 | G25: ='2017 Vincent'!AI31 -> 0 | H25: ='2017 Vincent'!AJ31 -> 0 | ... J25: ='2017 Vincent'!AL31 -> 0 | N25: 21 | O25: 264
A26: ='2017 Vincent'!AC32 -> 13 | B26: ='2017 Vincent'!AD32 -> 13 | C26: ='2017 Vincent'!AE32 -> Janvier | D26: ='2017 Vincent'!AF32 -> 0 | E26: ='2017 Vincent'!AG32 -> 0 | F26: ='2017 Vincent'!AH32 -> 0 | G26: ='2017 Vincent'!AI32 -> 0 | H26: ='2017 Vincent'!AJ32 -> 13 | ... J26: ='2017 Vincent'!AL32 -> 0.30833333 | N26: 22 | O26: 265
A27: ='2017 Vincent'!AC33 -> 0 | B27: ='2017 Vincent'!AD33 -> 0 | C27: ='2017 Vincent'!AE33 -> 0 | D27: ='2017 Vincent'!AF33 -> 0 | E27: ='2017 Vincent'!AG33 -> 0 | F27: ='2017 Vincent'!AH33 -> 0 | G27: ='2017 Vincent'!AI33 -> 0 | H27: ='2017 Vincent'!AJ33 -> 0 | ... J27: ='2017 Vincent'!AL33 -> 0 | N27: 25 | O27: 268
A28: ='2017 Vincent'!AC34 -> 14 | B28: ='2017 Vincent'!AD34 -> 14 | C28: ='2017 Vincent'!AE34 -> Janvier | D28: ='2017 Vincent'!AF34 -> 0.52569444 | E28: ='2017 Vincent'!AG34 -> 0.77083333 | F28: ='2017 Vincent'!AH34 -> 0.24513889 | G28: ='2017 Vincent'!AI34 -> 0.24513889 | H28: ='2017 Vincent'!AJ34 -> 14 | ... J28: ='2017 Vincent'!AL34 -> 0.30763889 | L28: 0.30486111 | M28: Mars | N28: 24 | O28: 83
A29: ='2017 Vincent'!AC35 -> 0 | B29: ='2017 Vincent'!AD35 -> 0 | C29: ='2017 Vincent'!AE35 -> 0 | D29: ='2017 Vincent'!AF35 -> 0 | E29: ='2017 Vincent'!AG35 -> 0 | F29: ='2017 Vincent'!AH35 -> 0 | G29: ='2017 Vincent'!AI35 -> 0 | H29: ='2017 Vincent'!AJ35 -> 0 | ... J29: ='2017 Vincent'!AL35 -> 0 | M29: Mai | N29: 27 | O29: 147
A30: ='2017 Vincent'!AC36 -> 15 | B30: ='2017 Vincent'!AD36 -> 15 | C30: ='2017 Vincent'!AE36 -> Janvier | D30: ='2017 Vincent'!AF36 -> 0.51805556 | E30: ='2017 Vincent'!AG36 -> 0.80763889 | F30: ='2017 Vincent'!AH36 -> 0.28958333 | G30: ='2017 Vincent'!AI36 -> 0.28958333 | H30: ='2017 Vincent'!AJ36 -> 15 | ... J30: ='2017 Vincent'!AL36 -> 0.30694444 | L30: 0.30416667 | M30: Août | N30: 19 | O30: 231
A31: ='2017 Vincent'!AC37 -> 0 | B31: ='2017 Vincent'!AD37 -> 0 | C31: ='2017 Vincent'!AE37 -> 0 | D31: ='2017 Vincent'!AF37 -> 0 | E31: ='2017 Vincent'!AG37 -> 0 | F31: ='2017 Vincent'!AH37 -> 0 | G31: ='2017 Vincent'!AI37 -> 0 | H31: ='2017 Vincent'!AJ37 -> 0 | ... J31: ='2017 Vincent'!AL37 -> 0 | L31: 0.30347222 | M31: Juillet | N31: 28 | O31: 209
A32: ='2017 Vincent'!AC38 -> 16 | B32: ='2017 Vincent'!AD38 -> 16 | C32: ='2017 Vincent'!AE38 -> Janvier | D32: ='2017 Vincent'!AF38 -> 0.65972222 | E32: ='2017 Vincent'!AG38 -> 0.93541667 | F32: ='2017 Vincent'!AH38 -> 0.27569444 | G32: ='2017 Vincent'!AI38 -> 0.27569444 | H32: ='2017 Vincent'!AJ38 -> 16 | ... J32: ='2017 Vincent'!AL38 -> 0.30694444 | L32: 0.30277778 | M32: Mai | N32: 30 | O32: 150
A33: ='2017 Vincent'!AC39 -> 0 | B33: ='2017 Vincent'!AD39 -> 0 | C33: ='2017 Vincent'!AE39 -> 0 | D33: ='2017 Vincent'!AF39 -> 0 | E33: ='2017 Vincent'!AG39 -> 0 | F33: ='2017 Vincent'!AH39 -> 0 | G33: ='2017 Vincent'!AI39 -> 0 | H33: ='2017 Vincent'!AJ39 -> 0 | ... J33: ='2017 Vincent'!AL39 -> 0 | M33: Juin | N33: 12 | O33: 163
A34: ='2017 Vincent'!AC40 -> 17 | B34: ='2017 Vincent'!AD40 -> 17 | C34: ='2017 Vincent'!AE40 -> Janvier | D34: ='2017 Vincent'!AF40 -> 0.5 | E34: ='2017 Vincent'!AG40 -> 0.74791667 | F34: ='2017 Vincent'!AH40 -> 0.24791667 | G34: ='2017 Vincent'!AI40 -> 0.24791667 | H34: ='2017 Vincent'!AJ40 -> 17 | ... J34: ='2017 Vincent'!AL40 -> 0.30694444 | N34: 13 | O34: 164
A35: ='2017 Vincent'!AC41 -> 0 | B35: ='2017 Vincent'!AD41 -> 0 | C35: ='2017 Vincent'!AE41 -> 0 | D35: ='2017 Vincent'!AF41 -> 0 | E35: ='2017 Vincent'!AG41 -> 0 | F35: ='2017 Vincent'!AH41 -> 0 | G35: ='2017 Vincent'!AI41 -> 0 | H35: ='2017 Vincent'!AJ41 -> 0 | ... J35: ='2017 Vincent'!AL41 -> 0 | N35: 14 | O35: 165
A36: ='2017 Vincent'!AC42 -> 18 | B36: ='2017 Vincent'!AD42 -> 18 | C36: ='2017 Vincent'!AE42 -> Janvier | D36: ='2017 Vincent'!AF42 -> 0.65972222 | E36: ='2017 Vincent'!AG42 -> 0.93541667 | F36: ='2017 Vincent'!AH42 -> 0.27569444 | G36: ='2017 Vincent'!AI42 -> 0.27569444 | H36: ='2017 Vincent'!AJ42 -> 18 | ... J36: ='2017 Vincent'!AL42 -> 0.30694444 | N36: 15 | O36: 166
A37: ='2017 Vincent'!AC43 -> 0 | B37: ='2017 Vincent'!AD43 -> 0 | C37: ='2017 Vincent'!AE43 -> 0 | D37: ='2017 Vincent'!AF43 -> 0 | E37: ='2017 Vincent'!AG43 -> 0 | F37: ='2017 Vincent'!AH43 -> 0 | G37: ='2017 Vincent'!AI43 -> 0 | H37: ='2017 Vincent'!AJ43 -> 0 | ... J37: ='2017 Vincent'!AL43 -> 0 | M37: Août | N37: 31 | O37: 243
A38: ='2017 Vincent'!AC44 -> 19 | B38: ='2017 Vincent'!AD44 -> 19 | C38: ='2017 Vincent'!AE44 -> Janvier | D38: ='2017 Vincent'!AF44 -> 0 | E38: ='2017 Vincent'!AG44 -> 0 | F38: ='2017 Vincent'!AH44 -> 0 | G38: ='2017 Vincent'!AI44 -> 0 | H38: ='2017 Vincent'!AJ44 -> 19 | ... J38: ='2017 Vincent'!AL44 -> 0.30694444 | L38: 0.30069444 | M38: Août | N38: 21 | O38: 233
A39: ='2017 Vincent'!AC45 -> 0 | B39: ='2017 Vincent'!AD45 -> 0 | C39: ='2017 Vincent'!AE45 -> 0 | D39: ='2017 Vincent'!AF45 -> 0 | E39: ='2017 Vincent'!AG45 -> 0 | F39: ='2017 Vincent'!AH45 -> 0 | G39: ='2017 Vincent'!AI45 -> 0 | H39: ='2017 Vincent'!AJ45 -> 0 | ... J39: ='2017 Vincent'!AL45 -> 0 | L39: 0.29930556 | M39: Fevrier | N39: 25 | O39: 56
A40: ='2017 Vincent'!AC46 -> 20 | B40: ='2017 Vincent'!AD46 -> 20 | C40: ='2017 Vincent'!AE46 -> Janvier | D40: ='2017 Vincent'!AF46 -> 0 | E40: ='2017 Vincent'!AG46 -> 0 | F40: ='2017 Vincent'!AH46 -> 0 | G40: ='2017 Vincent'!AI46 -> 0 | H40: ='2017 Vincent'!AJ46 -> 20 | ... J40: ='2017 Vincent'!AL46 -> 0.30694444 | L40: 0.29791667 | M40: Juin | N40: 20 | O40: 171
...
