Workbook

Sheet 2016 Vincent
H3: Pointage | I3: Retard | J3: Temps | L3: Début | M3: Fin | N3: Temps | R3: Jours
E4: R | F4: S | G4: Fo | I4: Brut | J4: sur | L4: de service | N4: réellement | R4: comptés
E5: CA | F5: Tc | G5: FNO | J5: BMP | N5: effectué | R5: conduite
A6: ven | B6: 1 | C6: Janvier | E6: =IF(D6="repos",1,0) -> 0 | F6: =IF(D6="S",1,0) -> 0 | G6: =IF(D6="FO",1,0) -> 0 | H6: 130 | J6: 0.28472222 | L6: 0.78263889 | M6: 1.0340278 | N6: =(M6-L6)+(M7-L7) -> 0.25138889 | R6: 1
E7: =IF(D6="CA",1,0) -> 0 | F7: =IF(D6="TC",1,0) -> 0 | G7: =IF(D6="FNO",1,0) -> 0
A8: sam | B8: 2 | C8: Janvier | D8: repos | E8: =IF(D8="repos",1,0) -> 1 | F8: =IF(D8="S",1,0) -> 0 | G8: =IF(D8="FO",1,0) -> 0 | H8: 660 | N8: =(M8-L8)+(M9-L9) -> 0 | R8: 0
E9: =IF(D8="CA",1,0) -> 0 | F9: =IF(D8="TC",1,0) -> 0 | G9: =IF(D8="FNO",1,0) -> 0
A10: dim | B10: 3 | C10: Janvier | D10: repos | E10: =IF(D10="repos",1,0) -> 1 | F10: =IF(D10="S",1,0) -> 0 | G10: =IF(D10="FO",1,0) -> 0 | H10: 660 | N10: =(M10-L10)+(M11-L11) -> 0 | R10: 0
E11: =IF(D10="CA",1,0) -> 0 | F11: =IF(D10="TC",1,0) -> 0 | G11: =IF(D10="FNO",1,0) -> 0
A12: lun | B12: 4 | C12: Janvier | E12: =IF(D12="repos",1,0) -> 0 | F12: =IF(D12="S",1,0) -> 0 | G12: =IF(D12="FO",1,0) -> 0 | H12: 130 | J12: 0.33541667 | L12: 0.50208333 | M12: 0.8 | N12: =(M12-L12)+(M13-L13) -> 0.29791667 | R12: 1
E13: =IF(D12="CA",1,0) -> 0 | F13: =IF(D12="TC",1,0) -> 0 | G13: =IF(D12="FNO",1,0) -> 0
A14: mar | B14: 5 | C14: Janvier | E14: =IF(D14="repos",1,0) -> 0 | F14: =IF(D14="S",1,0) -> 0 | G14: =IF(D14="FO",1,0) -> 0 | H14: 130 | J14: 0.28958333 | L14: 0.54305556 | M14: 0.80972222 | N14: =(M14-L14)+(M15-L15) -> 0.26666667 | R14: 1
E15: =IF(D14="CA",1,0) -> 0 | F15: =IF(D14="TC",1,0) -> 0 | G15: =IF(D14="FNO",1,0) -> 0
A16: mer | B16: 6 | C16: Janvier | E16: =IF(D16="repos",1,0) -> 0 | F16: =IF(D16="S",1,0) -> 0 | G16: =IF(D16="FO",1,0) -> 0 | H16: 60 | J16: 0.1 | L16: 0.57013889 | M16: 0.875 | N16: =(M16-L16)+(M17-L17) -> 0.30486111 | R16: 1
E17: =IF(D16="CA",1,0) -> 0 | F17: =IF(D16="TC",1,0) -> 0 | G17: =IF(D16="FNO",1,0) -> 0 | H17: 130 | J17: 0.2375
A18: jeu | B18: 7 | C18: Janvier | E18: =IF(D18="repos",1,0) -> 0 | F18: =IF(D18="S",1,0) -> 0 | G18: =IF(D18="FO",1,0) -> 0 | H18: 130 | J18: 0.30833333 | L18: 0.78263889 | M18: 1.0743056 | N18: =(M18-L18)+(M19-L19) -> 0.29166667 | R18: 1
E19: =IF(D18="CA",1,0) -> 0 | F19: =IF(D18="TC",1,0) -> 0 | G19: =IF(D18="FNO",1,0) -> 0
A20: ven | B20: 8 | C20: Janvier | E20: =IF(D20="repos",1,0) -> 0 | F20: =IF(D20="S",1,0) -> 0 | G20: =IF(D20="FO",1,0) -> 0 | H20: 130 | J20: 0.32222222 | L20: 0.59236111 | M20: 0.88125 | N20: =(M20-L20)+(M21-L21) -> 0.28888889 | R20: 1
E21: =IF(D20="CA",1,0) -> 0 | F21: =IF(D20="TC",1,0) -> 0 | G21: =IF(D20="FNO",1,0) -> 0
A22: sam | B22: 9 | C22: Janvier | D22: repos | E22: =IF(D22="repos",1,0) -> 1 | F22: =IF(D22="S",1,0) -> 0 | G22: =IF(D22="FO",1,0) -> 0 | H22: 660 | N22: =(M22-L22)+(M23-L23) -> 0 | R22: 0
E23: =IF(D22="CA",1,0) -> 0 | F23: =IF(D22="TC",1,0) -> 0 | G23: =IF(D22="FNO",1,0) -> 0
A24: dim | B24: 10 | C24: Janvier | D24: repos | E24: =IF(D24="repos",1,0) -> 1 | F24: =IF(D24="S",1,0) -> 0 | G24: =IF(D24="FO",1,0) -> 0 | H24: 660 | N24: =(M24-L24)+(M25-L25) -> 0 | R24: 0
E25: =IF(D24="CA",1,0) -> 0 | F25: =IF(D24="TC",1,0) -> 0 | G25: =IF(D24="FNO",1,0) -> 0
A26: lun | B26: 11 | C26: Janvier | E26: =IF(D26="repos",1,0) -> 0 | F26: =IF(D26="S",1,0) -> 0 | G26: =IF(D26="FO",1,0) -> 0 | H26: 130 | J26: 0.3375 | L26: 0.57013889 | M26: 0.875 | N26: =(M26-L26)+(M27-L27) -> 0.30486111 | R26: 1
E27: =IF(D26="CA",1,0) -> 0 | F27: =IF(D26="TC",1,0) -> 0 | G27: =IF(D26="FNO",1,0) -> 0
A28: mar | B28: 12 | C28: Janvier | E28: =IF(D28="repos",1,0) -> 0 | F28: =IF(D28="S",1,0) -> 0 | G28: =IF(D28="FO",1,0) -> 0 | H28: 130 | J28: 0.28402778 | L28: 0.56666667 | M28: 0.82777778 | N28: =(M28-L28)+(M29-L29) -> 0.26111111 | R28: 1
E29: =IF(D28="CA",1,0) -> 0 | F29: =IF(D28="TC",1,0) -> 0 | G29: =IF(D28="FNO",1,0) -> 0
A30: mer | B30: 13 | C30: Janvier | D30: S | E30: =IF(D30="repos",1,0) -> 0 | F30: =IF(D30="S",1,0) -> 1 | G30: =IF(D30="FO",1,0) -> 0 | H30: 90 | N30: =(M30-L30)+(M31-L31) -> 0 | R30: 0
E31: =IF(D30="CA",1,0) -> 0 | F31: =IF(D30="TC",1,0) -> 0 | G31: =IF(D30="FNO",1,0) -> 0
A32: jeu | B32: 14 | C32: Janvier | D32: repos | E32: =IF(D32="repos",1,0) -> 1 | F32: =IF(D32="S",1,0) -> 0 | G32: =IF(D32="FO",1,0) -> 0 | H32: 660 | N32: =(M32-L32)+(M33-L33) -> 0 | R32: 0
E33: =IF(D32="CA",1,0) -> 0 | F33: =IF(D32="TC",1,0) -> 0 | G33: =IF(D32="FNO",1,0) -> 0
A34: ven | B34: 15 | C34: Janvier | E34: =IF(D34="repos",1,0) -> 0 | F34: =IF(D34="S",1,0) -> 0 | G34: =IF(D34="FO",1,0) -> 0 | H34: 130 | J34: 0.29861111 | L34: 0.63680556 | M34: 0.89791667 | N34: =(M34-L34)+(M35-L35) -> 0.26111111 | R34: 1
E35: =IF(D34="CA",1,0) -> 0 | F35: =IF(D34="TC",1,0) -> 0 | G35: =IF(D34="FNO",1,0) -> 0
A36: sam | B36: 16 | C36: Janvier | E36: =IF(D36="repos",1,0) -> 0 | F36: =IF(D36="S",1,0) -> 0 | G36: =IF(D36="FO",1,0) -> 0 | H36: 130 | J36: 0.32361111 | L36: 0.57083333 | M36: 0.86111111 | N36: =(M36-L36)+(M37-L37) -> 0.29027778 | R36: 1
E37: =IF(D36="CA",1,0) -> 0 | F37: =IF(D36="TC",1,0) -> 0 | G37: =IF(D36="FNO",1,0) -> 0
A38: dim | B38: 17 | C38: Janvier | E38: =IF(D38="repos",1,0) -> 0 | F38: =IF(D38="S",1,0) -> 0 | G38: =IF(D38="FO",1,0) -> 0 | H38: 130 | J38: 0.30208333 | L38: 0.78472222 | M38: 1.0534722 | N38: =(M38-L38)+(M39-L39) -> 0.26875 | R38: 1
E39: =IF(D38="CA",1,0) -> 0 | F39: =IF(D38="TC",1,0) -> 0 | G39: =IF(D38="FNO",1,0) -> 0
A40: lun | B40: 18 | C40: Janvier | E40: =IF(D40="repos",1,0) -> 0 | F40: =IF(D40="S",1,0) -> 0 | G40: =IF(D40="FO",1,0) -> 0 | H40: 130 | J40: 0.34166667 | L40: 0.52013889 | M40: 0.82013889 | N40: =(M40-L40)+(M41-L41) -> 0.3 | R40: 1
E41: =IF(D40="CA",1,0) -> 0 | F41: =IF(D40="TC",1,0) -> 0 | G41: =IF(D40="FNO",1,0) -> 0
A42: mar | B42: 19 | C42: Janvier | E42: =IF(D42="repos",1,0) -> 0 | F42: =IF(D42="S",1,0) -> 0 | G42: =IF(D42="FO",1,0) -> 0 | H42: 59 | J42: 0.29652778 | L42: 0.5 | M42: 0.79652778 | N42: =(M42-L42)+(M43-L43) -> 0.29652778 | R42: 1
E43: =IF(D42="CA",1,0) -> 0 | F43: =IF(D42="TC",1,0) -> 0 | G43: =IF(D42="FNO",1,0) -> 0
A44: mer | B44: 20 | C44: Janvier | D44: S | E44: =IF(D44="repos",1,0) -> 0 | F44: =IF(D44="S",1,0) -> 1 | G44: =IF(D44="FO",1,0) -> 0 | H44: 60 | N44: =(M44-L44)+(M45-L45) -> 0 | R44: 0
E45: =IF(D44="CA",1,0) -> 0 | F45: =IF(D44="TC",1,0) -> 0 | G45: =IF(D44="FNO",1,0) -> 0
A46: jeu | B46: 21 | C46: Janvier | D46: repos | E46: =IF(D46="repos",1,0) -> 1 | F46: =IF(D46="S",1,0) -> 0 | G46: =IF(D46="FO",1,0) -> 0 | H46: 660 | N46: =(M46-L46)+(M47-L47) -> 0 | R46: 0
E47: =IF(D46="CA",1,0) -> 0 | F47: =IF(D46="TC",1,0) -> 0 | G47: =IF(D46="FNO",1,0) -> 0
A48: ven | B48: 22 | C48: Janvier | D48: S | E48: =IF(D48="repos",1,0) -> 0 | F48: =IF(D48="S",1,0) -> 1 | G48: =IF(D48="FO",1,0) -> 0 | H48: 60 | N48: =(M48-L48)+(M49-L49) -> 0 | R48: 0
E49: =IF(D48="CA",1,0) -> 0 | F49: =IF(D48="TC",1,0) -> 0 | G49: =IF(D48="FNO",1,0) -> 0
A50: sam | B50: 23 | C50: Janvier | E50: =IF(D50="repos",1,0) -> 0 | F50: =IF(D50="S",1,0) -> 0 | G50: =IF(D50="FO",1,0) -> 0 | H50: 130 | J50: 0.2875 | L50: 0.82777778 | M50: 1.0819444 | N50: =(M50-L50)+(M51-L51) -> 0.25416667 | R50: 1
E51: =IF(D50="CA",1,0) -> 0 | F51: =IF(D50="TC",1,0) -> 0 | G51: =IF(D50="FNO",1,0) -> 0
A52: dim | B52: 24 | C52: Janvier | D52: repos | E52: =IF(D52="repos",1,0) -> 1 | F52: =IF(D52="S",1,0) -> 0 | G52: =IF(D52="FO",1,0) -> 0 | H52: 661 | N52: =(M52-L52)+(M53-L53) -> 0 | R52: 0
E53: =IF(D52="CA",1,0) -> 0 | F53: =IF(D52="TC",1,0) -> 0 | G53: =IF(D52="FNO",1,0) -> 0
A54: lun | B54: 25 | C54: Janvier | E54: =IF(D54="repos",1,0) -> 0 | F54: =IF(D54="S",1,0) -> 0 | G54: =IF(D54="FO",1,0) -> 0 | H54: 130 | J54: 0.27430556 | L54: 0.63541667 | M54: 0.90972222 | N54: =(M54-L54)+(M55-L55) -> 0.27430556 | R54: 1
E55: =IF(D54="CA",1,0) -> 0 | F55: =IF(D54="TC",1,0) -> 0 | G55: =IF(D54="FNO",1,0) -> 0
A56: mar | B56: 26 | C56: Janvier | E56: =IF(D56="repos",1,0) -> 0 | F56: =IF(D56="S",1,0) -> 0 | G56: =IF(D56="FO",1,0) -> 0 | H56: 130 | J56: 0.27430556 | L56: 0.63541667 | M56: 0.90972222 | N56: =(M56-L56)+(M57-L57) -> 0.27430556 | R56: 1
E57: =IF(D56="CA",1,0) -> 0 | F57: =IF(D56="TC",1,0) -> 0 | G57: =IF(D56="FNO",1,0) -> 0
A58: mer | B58: 27 | C58: Janvier | D58: repos | E58: =IF(D58="repos",1,0) -> 1 | F58: =IF(D58="S",1,0) -> 0 | G58: =IF(D58="FO",1,0) -> 0 | H58: 660 | N58: =(M58-L58)+(M59-L59) -> 0 | R58: 0
E59: =IF(D58="CA",1,0) -> 0 | F59: =IF(D58="TC",1,0) -> 0 | G59: =IF(D58="FNO",1,0) -> 0
A60: jeu | B60: 28 | C60: Janvier | E60: =IF(D60="repos",1,0) -> 0 | F60: =IF(D60="S",1,0) -> 0 | G60: =IF(D60="FO",1,0) -> 0 | H60: 130 | J60: 0.29236111 | L60: 0.51527778 | M60: 0.80763889 | N60: =(M60-L60)+(M61-L61) -> 0.29236111 | R60: 1
E61: =IF(D60="CA",1,0) -> 0 | F61: =IF(D60="TC",1,0) -> 0 | G61: =IF(D60="FNO",1,0) -> 0
A62: ven | B62: 29 | C62: Janvier | E62: =IF(D62="repos",1,0) -> 0 | F62: =IF(D62="S",1,0) -> 0 | G62: =IF(D62="FO",1,0) -> 0 | H62: 60 | J62: 0.28125 | L62: 0.5 | M62: 0.78125 | N62: =(M62-L62)+(M63-L63) -> 0.28125 | R62: 1
E63: =IF(D62="CA",1,0) -> 0 | F63: =IF(D62="TC",1,0) -> 0 | G63: =IF(D62="FNO",1,0) -> 0
A64: sam | B64: 30 | C64: Janvier | E64: =IF(D64="repos",1,0) -> 0 | F64: =IF(D64="S",1,0) -> 0 | G64: =IF(D64="FO",1,0) -> 0 | H64: 130 | J64: 0.26944444 | L64: 0.48055556 | M64: 0.75 | N64: =(M64-L64)+(M65-L65) -> 0.26944444 | R64: 1
E65: =IF(D64="CA",1,0) -> 0 | F65: =IF(D64="TC",1,0) -> 0 | G65: =IF(D64="FNO",1,0) -> 0
A66: dim | B66: 31 | C66: Janvier | E66: =IF(D66="repos",1,0) -> 0 | F66: =IF(D66="S",1,0) -> 0 | G66: =IF(D66="FO",1,0) -> 0 | H66: 130 | J66: 0.27847222 | L66: 0.51736111 | M66: 0.79583333 | N66: =(M66-L66)+(M67-L67) -> 0.27847222 | R66: 1
E67: =IF(D66="CA",1,0) -> 0 | F67: =IF(D66="TC",1,0) -> 0 | G67: =IF(D66="FNO",1,0) -> 0
A68: 31 | B68: Repos prévu | D68: 10 | E68: =IF(D68="repos",1,"") | J68: =J6+J7+J8+J9+J10+J11+J12+J13+J14+J15+J16+J17+J18+J19+J20+J21+J22+J23+J24+J25+J26+J27+J28+J29+J30+J31+J32+J33+J34+J35+J36+J37+J38+J39+J40+J41+J42+J43+J44+J45+J46+J47+J48+J49+J50+J51+J52+J53+J54+J55+J56+J57+J58+J59+J60+J61+J62+J63+J64+J65+J66+J67 -> 6.0194444 | N68: =N6+N8+N10+N12+N14+N16+N18+N20+N22+N24+N26+N28+N30+N32+N34+N36+N38+N40+N42+N44+N46+N48+N50+N52+N54+N56+N58+N60+N62+N64+N66 -> 5.6083333 | O68: =J6+J12+J14+N16+J18+J20+J26+J28+J34+J36+J38+N40+J50+N54+N56+N60+N64+N66 -> 5.3673611 | P68: =N42+N62 -> 0.57777778 | R68: =SUM(R6:R67) -> 20
B69: Repos réel ( repos ) | D69: =E6+E8+E10+E12+E14+E16+E18+E20+E22+E24+E26+E28+E30+E32+E34+E36+E38+E40+E42+E44+E46+E48+E50+E52+E54+E56+E58+E60+E62+E64+E66 -> 8
B70: Travail sur repos ( S ) | D70: =F6+F8+F10+F12+F14+F16+F18+F20+F22+F24+F26+F28+F30+F32+F34+F36+F38+F40+F42+F44+F46+F48+F50+F52+F54+F56+F58+F60+F62+F64+F66+F68 -> 3 | E70: =IF(D71="repos",1,"") | O70: 18 | P70: 2
B71: CA | D71: =E7+E9+E11+E13+E15+E17+E19+E21+E23+E25+E27+E29+E31+E33+E35+E37+E39+E41+E43+E45+E47+E49+E51+E53+E55+E57+E59+E61+E63+E65+E67 -> 0
B72: TC | D72: =F7+F9+F11+F13+F15+F17+F19+F21+F23+F25+F27+F29+F31+F33+F35+F37+F39+F41+F43+F45+F47+F49+F51+F53+F55+F57+F59+F61+F63+F65+F67 -> 0 | E72: =IF(D70="repos",1,"") | O72: =O68+P68 -> 5.9451389
B73: Formation obligatoire | D73: =G6+G8+G10+G12+G14+G16+G18+G20+G22+G24+G26+G28+G30+G32+G34+G36+G38+G40+G42+G44+G46+G48+G50+G52+G54+G56+G58+G60+G62+G64+G66 -> 0
B74: Formation non obligatoire | D74: =G7+G9+G11+G13+G15+G17+G19+G21+G23+G25+G27+G29+G31+G33+G35+G37+G39+G41+G43+G45+G47+G49+G51+G53+G55+G57+G59+G61+G63+G65+G67 -> 0 | E74: =IF(D74="repos",1,"") | O74: =O70+P70 -> 20
E76: =IF(D76="repos",1,"")
H77: Pointage | I77: Retard | J77: Temps | L77: Début | M77: Fin | N77: Temps | R77: Jours
E78: R | F78: S | G78: Fo | I78: Brut | J78: sur | L78: de service | N78: réellement | R78: comptés
E79: CA | F79: Tc | G79: FNO | J79: BMP | N79: effectué | R79: conduite
A80: lun | B80: 1 | C80: Fevrier | E80: =IF(D80="repos",1,0) -> 0 | F80: =IF(D80="S",1,0) -> 0 | G80: =IF(D80="FO",1,0) -> 0 | H80: 130 | J80: 0.29027778 | L80: 0.57708333 | M80: 0.86736111 | N80: =(M80-L80)+(M81-L81) -> 0.29027778 | R80: 1
E81: =IF(D80="CA",1,0) -> 0 | F81: =IF(D80="TC",1,0) -> 0 | G81: =IF(D80="FNO",1,0) -> 0
A82: mar | B82: 2 | C82: Fevrier | E82: =IF(D82="repos",1,0) -> 0 | F82: =IF(D82="S",1,0) -> 0 | G82: =IF(D82="FO",1,0) -> 0 | H82: 130 | J82: 0.29027778 | L82: 0.57708333 | M82: 0.86736111 | N82: =(M82-L82)+(M83-L83) -> 0.29027778 | R82: 1
E83: =IF(D82="CA",1,0) -> 0 | F83: =IF(D82="TC",1,0) -> 0 | G83: =IF(D82="FNO",1,0) -> 0
A84: mer | B84: 3 | C84: Fevrier | D84: repos | E84: =IF(D84="repos",1,0) -> 1 | F84: =IF(D84="S",1,0) -> 0 | G84: =IF(D84="FO",1,0) -> 0 | H84: 660 | N84: =(M84-L84)+(M85-L85) -> 0 | R84: 0
E85: =IF(D84="CA",1,0) -> 0 | F85: =IF(D84="TC",1,0) -> 0 | G85: =IF(D84="FNO",1,0) -> 0
A86: jeu | B86: 4 | C86: Fevrier | D86: repos | E86: =IF(D86="repos",1,0) -> 1 | F86: =IF(D86="S",1,0) -> 0 | G86: =IF(D86="FO",1,0) -> 0 | H86: 660 | N86: =(M86-L86)+(M87-L87) -> 0 | R86: 0
E87: =IF(D86="CA",1,0) -> 0 | F87: =IF(D86="TC",1,0) -> 0 | G87: =IF(D86="FNO",1,0) -> 0
A88: ven | B88: 5 | C88: Fevrier | D88: repos | E88: =IF(D88="repos",1,0) -> 1 | F88: =IF(D88="S",1,0) -> 0 | G88: =IF(D88="FO",1,0) -> 0 | H88: 660 | N88: =(M88-L88)+(M89-L89) -> 0 | R88: 0
E89: =IF(D88="CA",1,0) -> 0 | F89: =IF(D88="TC",1,0) -> 0 | G89: =IF(D88="FNO",1,0) -> 0
A90: sam | B90: 6 | C90: Fevrier | E90: =IF(D90="repos",1,0) -> 0 | F90: =IF(D90="S",1,0) -> 0 | G90: =IF(D90="FO",1,0) -> 0 | H90: 130 | J90: 0.29930556 | L90: 0.55902778 | M90: 0.85833333 | N90: =(M90-L90)+(M91-L91) -> 0.29930556 | R90: 1
E91: =IF(D90="CA",1,0) -> 0 | F91: =IF(D90="TC",1,0) -> 0 | G91: =IF(D90="FNO",1,0) -> 0
A92: dim | B92: 7 | C92: Fevrier | E92: =IF(D92="repos",1,0) -> 0 | F92: =IF(D92="S",1,0) -> 0 | G92: =IF(D92="FO",1,0) -> 0 | H92: 130 | J92: 0.29652778 | L92: 0.53958333 | M92: 0.83611111 | N92: =(M92-L92)+(M93-L93) -> 0.29652778 | R92: 1
E93: =IF(D92="CA",1,0) -> 0 | F93: =IF(D92="TC",1,0) -> 0 | G93: =IF(D92="FNO",1,0) -> 0
A94: lun | B94: 8 | C94: Fevrier | E94: =IF(D94="repos",1,0) -> 0 | F94: =IF(D94="S",1,0) -> 0 | G94: =IF(D94="FO",1,0) -> 0 | H94: 130 | J94: 0.32152778 | L94: 0.29652778 | M94: 0.48611111 | N94: =(M94-L94)+(M95-L95) -> 0.32152778 | R94: 1
E95: =IF(D94="CA",1,0) -> 0 | F95: =IF(D94="TC",1,0) -> 0 | G95: =IF(D94="FNO",1,0) -> 0 | L95: 0.68333333 | M95: 0.81527778
A96: mar | B96: 9 | C96: Fevrier | E96: =IF(D96="repos",1,0) -> 0 | F96: =IF(D96="S",1,0) -> 0 | G96: =IF(D96="FO",1,0) -> 0 | H96: 59 | J96: 0.32152778 | L96: 0.29652778 | M96: 0.48611111 | N96: =(M96-L96)+(M97-L97) -> 0.32152778 | R96: 1
E97: =IF(D96="CA",1,0) -> 0 | F97: =IF(D96="TC",1,0) -> 0 | G97: =IF(D96="FNO",1,0) -> 0 | L97: 0.68333333 | M97: 0.81527778
A98: mer | B98: 10 | C98: Fevrier | E98: =IF(D98="repos",1,0) -> 0 | F98: =IF(D98="S",1,0) -> 0 | G98: =IF(D98="FO",1,0) -> 0 | H98: 130 | J98: 0.32152778 | L98: 0.29652778 | M98: 0.48611111 | N98: =(M98-L98)+(M99-L99) -> 0.32152778 | R98: 1
E99: =IF(D98="CA",1,0) -> 0 | F99: =IF(D98="TC",1,0) -> 0 | G99: =IF(D98="FNO",1,0) -> 0 | L99: 0.68333333 | M99: 0.81527778
A100: jeu | B100: 11 | C100: Fevrier | E100: =IF(D100="repos",1,0) -> 0 | F100: =IF(D100="S",1,0) -> 0 | G100: =IF(D100="FO",1,0) -> 0 | H100: 90 | J100: 0.32152778 | L100: 0.29652778 | M100: 0.48611111 | N100: =(M100-L100)+(M101-L101) -> 0.32152778 | R100: 1
E101: =IF(D100="CA",1,0) -> 0 | F101: =IF(D100="TC",1,0) -> 0 | G101: =IF(D100="FNO",1,0) -> 0 | L101: 0.68333333 | M101: 0.81527778
A102: ven | B102: 12 | C102: Fevrier | D102: repos | E102: =IF(D102="repos",1,0) -> 1 | F102: =IF(D102="S",1,0) -> 0 | G102: =IF(D102="FO",1,0) -> 0 | H102: 660 | N102: =(M102-L102)+(M103-L103) -> 0 | R102: 0
E103: =IF(D102="CA",1,0) -> 0 | F103: =IF(D102="TC",1,0) -> 0 | G103: =IF(D102="FNO",1,0) -> 0
...

Sheet 2017 Vincent
O2: Solde N-1 | AL2: EQUIV(AM8;$AI$8:$AI$739;0);1)
O3: TS | P3: TC | Q3: CCF
N4: 0.010416667 | O4: 0 | P4: 0.29583333 | Q4: 0.55138889
B5: Période | D5: 0.27638889 | F5: S | M5: Pointage | N5: Retard | O5: Temps | P5: TS-TC-CCF | Q5: Début | R5: Fin | S5: Temps | X5: Jours | Z5: Par mois
B6: H I S | D6: 0.041666667 | F6: € | G6: Hs | H6: Derog | I6: R | J6: S | K6: Fo | L6: D | N6: Brut | O6: sur | Q6: de service | S6: réellement | X6: comptés
B7: 2 x | D7: 0.013888889 | F7: Fe | G7: 2x | H7: TS div | I7: CA | J7: Tc | K7: FNO | O7: BMP | S7: effectué | X7: conduite | AC7: 1 à 366 | AD7: jours | AE7: mois | AF7: horaires de services | AG7: horaires de services 2 | AH7: en h | AI7: en mn | AJ7: 1 à 366 (bis) | AK7: clt | AL7: Décroissant
A8: X | B8: dim | C8: 1 | D8: Janvier | E8: repos | I8: =IF(E8="repos",1,0) -> 1 | J8: =IF(E8="S",1,0) -> 0 | K8: =IF(E8="FO",1,0) -> 0 | L8: =IF(AND(B8="dim",M8=130),1,0) -> 0 | M8: 660 | P8: =IF(F8="X",D5,0)+IF(F9="X",D5,0)+IF(G8="X",D6,0)+IF(G9="X",D7,0)+H8+H9+IF(N8<N4,0,N8)+IF(N9<N4,0,N9) -> 0 | S8: =(R8-Q8)+(R9-Q9) -> 0 | X8: =IF(OR(E8="C",E8="Cr",E8="FO"),1,0) -> 0 | Z8: 1 | AA8: =IF(OR(E8="C",E8="Cr"),S8,0) -> 0 | AC8: 1 | AD8: 1 | AE8: Janvier | AH8: =IF(OR(E8="C",E8="Cr"),S8,0) -> 0 | AI8: =IF(OR($E8="C",$E8="Cr"),$S8,0) -> 0 | AJ8: 1 | AK8: 1 | AL8: =LARGE(AH8:AH738,1) -> 0.33472222 | AM8: =INDEX($AC$8:$AJ$739,MATCH(AL8,$AI$8:$AI$739,0),1) -> 201
F9: =IF(AND(A8="X",B8="dim"),"",IF(AND(A8="X",E8="TC"),"",IF(A8="X","X",""))) | I9: =IF(E8="CA",1,0) -> 0 | J9: =IF(E8="TC",1,0) -> 0 | K9: =IF(E8="FNO",1,0) -> 0
B10: lun | C10: 2 | D10: Janvier | E10: repos | I10: =IF(E10="repos",1,0) -> 1 | J10: =IF(E10="S",1,0) -> 0 | K10: =IF(E10="FO",1,0) -> 0 | L10: =IF(AND(B10="dim",M10=130),1,0) -> 0 | M10: 661 | P10: =IF(F10="X",D5,0)+IF(F11="X",D5,0)+IF(G10="X",D6,0)+IF(G11="X",D7,0)+H10+H11+IF(N10<N4,0,N10)+IF(N11<N4,0,N11) -> 0 | S10: =(R10-Q10)+(R11-Q11) -> 0 | X10: =IF(OR(E10="C",E10="Cr",E10="FO"),1,0) -> 0 | Z10: 2 | AA10: =IF(OR(E10="C",E10="Cr"),S10,0) -> 0 | AC10: 2 | AD10: 2 | AE10: Janvier | AH10: =IF(OR(E10="C",E10="Cr"),S10,0) -> 0 | AI10: =IF(OR($E10="C",$E10="Cr"),$S10,0) -> 0 | AJ10: 2 | AK10: 2 | AL10: =LARGE(AH8:AH738,2) -> 0.32916667 | AM10: =INDEX($AC$8:$AJ$739,MATCH(AL10,$AI$8:$AI$739,0),1) -> 202
F11: =IF(AND(A10="X",B10="dim"),"",IF(AND(A10="X",E10="TC"),"",IF(A10="X","X",""))) | I11: =IF(E10="CA",1,0) -> 0 | J11: =IF(E10="TC",1,0) -> 0 | K11: =IF(E10="FNO",1,0) -> 0
B12: mar | C12: 3 | D12: Janvier | E12: C | I12: =IF(E12="repos",1,0) -> 0 | J12: =IF(E12="S",1,0) -> 0 | K12: =IF(E12="FO",1,0) -> 0 | L12: =IF(AND(B12="dim",M12=130),1,0) -> 0 | M12: 130 | O12: 0.26597222 | P12: =IF(F12="X",D5,0)+IF(F13="X",D5,0)+IF(G12="X",D6,0)+IF(G13="X",D7,0)+H12+H13+IF(N12<N4,0,N12)+IF(N13<N4,0,N13) -> 0 | Q12: 0.64722222 | R12: 0.91319444 | S12: =(R12-Q12)+(R13-Q13) -> 0.26597222 | X12: =IF(OR(E12="C",E12="Cr",E12="FO"),1,0) -> 1 | Z12: 3 | AA12: =IF(OR(E12="C",E12="Cr"),S12,0) -> 0.26597222 | AC12: 3 | AD12: 3 | AE12: Janvier | AF12: 0.64722222 | AG12: 0.91319444 | AH12: =IF(OR(E12="C",E12="Cr"),S12,0) -> 0.26597222 | AI12: =IF(OR($E12="C",$E12="Cr"),$S12,0) -> 0.26597222 | AJ12: 3 | AK12: 3 | AL12: =LARGE(AH8:AH738,3) -> 0.31527778 | AM12: =INDEX($AC$8:$AJ$739,MATCH(AL12,$AI$8:$AI$739,0),1) -> 138
F13: =IF(AND(A12="X",B12="dim"),"",IF(AND(A12="X",E12="TC"),"",IF(A12="X","X",""))) | I13: =IF(E12="CA",1,0) -> 0 | J13: =IF(E12="TC",1,0) -> 0 | K13: =IF(E12="FNO",1,0) -> 0
B14: mer | C14: 4 | D14: Janvier | E14: C | I14: =IF(E14="repos",1,0) -> 0 | J14: =IF(E14="S",1,0) -> 0 | K14: =IF(E14="FO",1,0) -> 0 | L14: =IF(AND(B14="dim",M14=130),1,0) -> 0 | M14: 130 | O14: 0.27013889 | P14: =IF(F14="X",D5,0)+IF(F15="X",D5,0)+IF(G14="X",D6,0)+IF(G15="X",D7,0)+H14+H15+IF(N14<N4,0,N14)+IF(N15<N4,0,N15) -> 0 | Q14: 0.67847222 | R14: 0.94861111 | S14: =(R14-Q14)+(R15-Q15) -> 0.27013889 | X14: =IF(OR(E14="C",E14="Cr",E14="FO"),1,0) -> 1 | Z14: 4 | AA14: =IF(OR(E14="C",E14="Cr"),S14,0) -> 0.27013889 | AC14: 4 | AD14: 4 | AE14: Janvier | AF14: 0.67847222 | AG14: 0.94861111 | AH14: =IF(OR(E14="C",E14="Cr"),S14,0) -> 0.27013889 | AI14: =IF(OR($E14="C",$E14="Cr"),$S14,0) -> 0.27013889 | AJ14: 4 | AK14: 4 | AL14: =LARGE(AH8:AH738,4) -> 0.31527778 | AM14: =INDEX($AC$8:$AJ$739,MATCH(AL14,$AI$8:$AI$739,0),1) -> 138
F15: =IF(AND(A14="X",B14="dim"),"",IF(AND(A14="X",E14="TC"),"",IF(A14="X","X",""))) | I15: =IF(E14="CA",1,0) -> 0 | J15: =IF(E14="TC",1,0) -> 0 | K15: =IF(E14="FNO",1,0) -> 0
B16: jeu | C16: 5 | D16: Janvier | E16: Cr | I16: =IF(E16="repos",1,0) -> 0 | J16: =IF(E16="S",1,0) -> 0 | K16: =IF(E16="FO",1,0) -> 0 | L16: =IF(AND(B16="dim",M16=130),1,0) -> 0 | M16: 59 | O16: 0.26597222 | P16: =IF(F16="X",D5,0)+IF(F17="X",D5,0)+IF(G16="X",D6,0)+IF(G17="X",D7,0)+H16+H17+IF(N16<N4,0,N16)+IF(N17<N4,0,N17) -> 0 | Q16: 0.64722222 | R16: 0.91319444 | S16: =(R16-Q16)+(R17-Q17) -> 0.26597222 | X16: =IF(OR(E16="C",E16="Cr",E16="FO"),1,0) -> 1 | Z16: 5 | AA16: =IF(OR(E16="C",E16="Cr"),S16,0) -> 0.26597222 | AC16: 5 | AD16: 5 | AE16: Janvier | AF16: 0.64722222 | AG16: 0.91319444 | AH16: =IF(OR(E16="C",E16="Cr"),S16,0) -> 0.26597222 | AI16: =IF(OR($E16="C",$E16="Cr"),$S16,0) -> 0.26597222 | AJ16: 5 | AK16: 5 | AL16: =LARGE(AH8:AH738,5) -> 0.31527778 | AM16: =INDEX($AC$8:$AJ$739,MATCH(AL16,$AI$8:$AI$739,0),1) -> 138
F17: =IF(AND(A16="X",B16="dim"),"",IF(AND(A16="X",E16="TC"),"",IF(A16="X","X",""))) | I17: =IF(E16="CA",1,0) -> 0 | J17: =IF(E16="TC",1,0) -> 0 | K17: =IF(E16="FNO",1,0) -> 0
B18: ven | C18: 6 | D18: Janvier | E18: Cr | I18: =IF(E18="repos",1,0) -> 0 | J18: =IF(E18="S",1,0) -> 0 | K18: =IF(E18="FO",1,0) -> 0 | L18: =IF(AND(B18="dim",M18=130),1,0) -> 0 | M18: 59 | O18: 0.26597222 | P18: =IF(F18="X",D5,0)+IF(F19="X",D5,0)+IF(G18="X",D6,0)+IF(G19="X",D7,0)+H18+H19+IF(N18<N4,0,N18)+IF(N19<N4,0,N19) -> 0 | Q18: 0.64722222 | R18: 0.91319444 | S18: =(R18-Q18)+(R19-Q19) -> 0.26597222 | X18: =IF(OR(E18="C",E18="Cr",E18="FO"),1,0) -> 1 | Z18: 6 | AA18: =IF(OR(E18="C",E18="Cr"),S18,0) -> 0.26597222 | AC18: 6 | AD18: 6 | AE18: Janvier | AF18: 0.64722222 | AG18: 0.91319444 | AH18: =IF(OR(E18="C",E18="Cr"),S18,0) -> 0.26597222 | AI18: =IF(OR($E18="C",$E18="Cr"),$S18,0) -> 0.26597222 | AJ18: 6 | AK18: 6 | AL18: =LARGE(AH8:AH738,6) -> 0.31527778 | AM18: =INDEX($AC$8:$AJ$739,MATCH(AL18,$AI$8:$AI$739,0),1) -> 138
F19: =IF(AND(A18="X",B18="dim"),"",IF(AND(A18="X",E18="TC"),"",IF(A18="X","X",""))) | I19: =IF(E18="CA",1,0) -> 0 | J19: =IF(E18="TC",1,0) -> 0 | K19: =IF(E18="FNO",1,0) -> 0
B20: sam | C20: 7 | D20: Janvier | E20: repos | I20: =IF(E20="repos",1,0) -> 1 | J20: =IF(E20="S",1,0) -> 0 | K20: =IF(E20="FO",1,0) -> 0 | L20: =IF(AND(B20="dim",M20=130),1,0) -> 0 | M20: 660 | P20: =IF(F20="X",D5,0)+IF(F21="X",D5,0)+IF(G20="X",D6,0)+IF(G21="X",D7,0)+H20+H21+IF(N20<N4,0,N20)+IF(N21<N4,0,N21) -> 0 | S20: =(R20-Q20)+(R21-Q21) -> 0 | X20: =IF(OR(E20="C",E20="Cr",E20="FO"),1,0) -> 0 | Z20: 7 | AA20: =IF(OR(E20="C",E20="Cr"),S20,0) -> 0 | AC20: 7 | AD20: 7 | AE20: Janvier | AH20: =IF(OR(E20="C",E20="Cr"),S20,0) -> 0 | AI20: =IF(OR($E20="C",$E20="Cr"),$S20,0) -> 0 | AJ20: 7 | AK20: 7 | AL20: =LARGE(AH8:AH738,7) -> 0.3125 | AM20: =INDEX($AC$8:$AJ$739,MATCH(AL20,$AI$8:$AI$739,0),1) -> 308
F21: =IF(AND(A20="X",B20="dim"),"",IF(AND(A20="X",E20="TC"),"",IF(A20="X","X",""))) | I21: =IF(E20="CA",1,0) -> 0 | J21: =IF(E20="TC",1,0) -> 0 | K21: =IF(E20="FNO",1,0) -> 0
B22: dim | C22: 8 | D22: Janvier | E22: S | F22: X | I22: =IF(E22="repos",1,0) -> 0 | J22: =IF(E22="S",1,0) -> 1 | K22: =IF(E22="FO",1,0) -> 0 | L22: =IF(AND(B22="dim",M22=130),1,0) -> 1 | M22: 130 | P22: =IF(F22="X",D5,0)+IF(F23="X",D5,0)+IF(G22="X",D6,0)+IF(G23="X",D7,0)+H22+H23+IF(N22<N4,0,N22)+IF(N23<N4,0,N23) -> 0.27638889 | S22: =(R22-Q22)+(R23-Q23) -> 0 | X22: =IF(OR(E22="C",E22="Cr",E22="FO"),1,0) -> 0 | Z22: 8 | AA22: =IF(OR(E22="C",E22="Cr"),S22,0) -> 0 | AC22: 8 | AD22: 8 | AE22: Janvier | AH22: =IF(OR(E22="C",E22="Cr"),S22,0) -> 0 | AI22: =IF(OR($E22="C",$E22="Cr"),$S22,0) -> 0 | AJ22: 8 | AK22: 8 | AL22: =LARGE(AH8:AH738,8) -> 0.31111111 | AM22: =INDEX($AC$8:$AJ$739,MATCH(AL22,$AI$8:$AI$739,0),1) -> 136
F23: =IF(AND(A22="X",B22="dim"),"",IF(AND(A22="X",E22="TC"),"",IF(A22="X","X",""))) | I23: =IF(E22="CA",1,0) -> 0 | J23: =IF(E22="TC",1,0) -> 0 | K23: =IF(E22="FNO",1,0) -> 0
B24: lun | C24: 9 | D24: Janvier | E24: Cr | I24: =IF(E24="repos",1,0) -> 0 | J24: =IF(E24="S",1,0) -> 0 | K24: =IF(E24="FO",1,0) -> 0 | L24: =IF(AND(B24="dim",M24=130),1,0) -> 0 | M24: 60 | O24: 0.25555556 | P24: =IF(F24="X",D5,0)+IF(F25="X",D5,0)+IF(G24="X",D6,0)+IF(G25="X",D7,0)+H24+H25+IF(N24<N4,0,N24)+IF(N25<N4,0,N25) -> 0 | Q24: 0.57916667 | R24: 0.83472222 | S24: =(R24-Q24)+(R25-Q25) -> 0.25555556 | X24: =IF(OR(E24="C",E24="Cr",E24="FO"),1,0) -> 1 | Z24: 9 | AA24: =IF(OR(E24="C",E24="Cr"),S24,0) -> 0.25555556 | AC24: 9 | AD24: 9 | AE24: Janvier | AF24: 0.57916667 | AG24: 0.83472222 | AH24: =IF(OR(E24="C",E24="Cr"),S24,0) -> 0.25555556 | AI24: =IF(OR($E24="C",$E24="Cr"),$S24,0) -> 0.25555556 | AJ24: 9 | AK24: 9 | AL24: =LARGE(AH8:AH738,9) -> 0.31111111 | AM24: =INDEX($AC$8:$AJ$739,MATCH(AL24,$AI$8:$AI$739,0),1) -> 136
F25: =IF(AND(A24="X",B24="dim"),"",IF(AND(A24="X",E24="TC"),"",IF(A24="X","X",""))) | I25: =IF(E24="CA",1,0) -> 0 | J25: =IF(E24="TC",1,0) -> 0 | K25: =IF(E24="FNO",1,0) -> 0
B26: mar | C26: 10 | D26: Janvier | E26: C | I26: =IF(E26="repos",1,0) -> 0 | J26: =IF(E26="S",1,0) -> 0 | K26: =IF(E26="FO",1,0) -> 0 | L26: =IF(AND(B26="dim",M26=130),1,0) -> 0 | M26: 130 | N26: 0.0069444444 | O26: 0.27013889 | P26: =IF(F26="X",D5,0)+IF(F27="X",D5,0)+IF(G26="X",D6,0)+IF(G27="X",D7,0)+H26+H27+IF(N26<N4,0,N26)+IF(N27<N4,0,N27) -> 0 | Q26: 0.68055556 | R26: 0.95069444 | S26: =(R26-Q26)+(R27-Q27) -> 0.27013889 | X26: =IF(OR(E26="C",E26="Cr",E26="FO"),1,0) -> 1 | Z26: 10 | AA26: =IF(OR(E26="C",E26="Cr"),S26,0) -> 0.27013889 | AC26: 10 | AD26: 10 | AE26: Janvier | AF26: 0.68055556 | AG26: 0.95069444 | AH26: =IF(OR(E26="C",E26="Cr"),S26,0) -> 0.27013889 | AI26: =IF(OR($E26="C",$E26="Cr"),$S26,0) -> 0.27013889 | AJ26: 10 | AK26: 10 | AL26: =LARGE(AH8:AH738,10) -> 0.31041667 | AM26: =INDEX($AC$8:$AJ$739,MATCH(AL26,$AI$8:$AI$739,0),1) -> 306
F27: =IF(AND(A26="X",B26="dim"),"",IF(AND(A26="X",E26="TC"),"",IF(A26="X","X",""))) | I27: =IF(E26="CA",1,0) -> 0 | J27: =IF(E26="TC",1,0) -> 0 | K27: =IF(E26="FNO",1,0) -> 0
B28: mer | C28: 11 | D28: Janvier | E28: S | F28: X | I28: =IF(E28="repos",1,0) -> 0 | J28: =IF(E28="S",1,0) -> 1 | K28: =IF(E28="FO",1,0) -> 0 | L28: =IF(AND(B28="dim",M28=130),1,0) -> 0 | M28: 130 | P28: =IF(F28="X",D5,0)+IF(F29="X",D5,0)+IF(G28="X",D6,0)+IF(G29="X",D7,0)+H28+H29+IF(N28<N4,0,N28)+IF(N29<N4,0,N29) -> 0.27638889 | S28: =(R28-Q28)+(R29-Q29) -> 0 | X28: =IF(OR(E28="C",E28="Cr",E28="FO"),1,0) -> 0 | Z28: 11 | AA28: =IF(OR(E28="C",E28="Cr"),S28,0) -> 0 | AC28: 11 | AD28: 11 | AE28: Janvier | AH28: =IF(OR(E28="C",E28="Cr"),S28,0) -> 0 | AI28: =IF(OR($E28="C",$E28="Cr"),$S28,0) -> 0 | AJ28: 11 | AK28: 11 | AL28: =LARGE(AH8:AH738,11) -> 0.31041667 | AM28: =INDEX($AC$8:$AJ$739,MATCH(AL28,$AI$8:$AI$739,0),1) -> 306
F29: =IF(AND(A28="X",B28="dim"),"",IF(AND(A28="X",E28="TC"),"",IF(A28="X","X",""))) | I29: =IF(E28="CA",1,0) -> 0 | J29: =IF(E28="TC",1,0) -> 0 | K29: =IF(E28="FNO",1,0) -> 0
B30: jeu | C30: 12 | D30: Janvier | E30: S | F30: X | I30: =IF(E30="repos",1,0) -> 0 | J30: =IF(E30="S",1,0) -> 1 | K30: =IF(E30="FO",1,0) -> 0 | L30: =IF(AND(B30="dim",M30=130),1,0) -> 0 | M30: 130 | P30: =IF(F30="X",D5,0)+IF(F31="X",D5,0)+IF(G30="X",D6,0)+IF(G31="X",D7,0)+H30+H31+IF(N30<N4,0,N30)+IF(N31<N4,0,N31) -> 0.27638889 | S30: =(R30-Q30)+(R31-Q31) -> 0 | X30: =IF(OR(E30="C",E30="Cr",E30="FO"),1,0) -> 0 | Z30: 12 | AA30: =IF(OR(E30="C",E30="Cr"),S30,0) -> 0 | AC30: 12 | AD30: 12 | AE30: Janvier | AH30: =IF(OR(E30="C",E30="Cr"),S30,0) -> 0 | AI30: =IF(OR($E30="C",$E30="Cr"),$S30,0) -> 0 | AJ30: 12 | AK30: 12 | AL30: =LARGE(AH8:AH738,12) -> 0.30972222 | AM30: =INDEX($AC$8:$AJ$739,MATCH(AL30,$AI$8:$AI$739,0),1) -> 162
F31: =IF(AND(A30="X",B30="dim"),"",IF(AND(A30="X",E30="TC"),"",IF(A30="X","X",""))) | I31: =IF(E30="CA",1,0) -> 0 | J31: =IF(E30="TC",1,0) -> 0 | K31: =IF(E30="FNO",1,0) -> 0
B32: ven | C32: 13 | D32: Janvier | E32: repos | I32: =IF(E32="repos",1,0) -> 1 | J32: =IF(E32="S",1,0) -> 0 | K32: =IF(E32="FO",1,0) -> 0 | L32: =IF(AND(B32="dim",M32=130),1,0) -> 0 | M32: 660 | P32: =IF(F32="X",D5,0)+IF(F33="X",D5,0)+IF(G32="X",D6,0)+IF(G33="X",D7,0)+H32+H33+IF(N32<N4,0,N32)+IF(N33<N4,0,N33) -> 0 | S32: =(R32-Q32)+(R33-Q33) -> 0 | X32: =IF(OR(E32="C",E32="Cr",E32="FO"),1,0) -> 0 | Z32: 13 | AA32: =IF(OR(E32="C",E32="Cr"),S32,0) -> 0 | AC32: 13 | AD32: 13 | AE32: Janvier | AH32: =IF(OR(E32="C",E32="Cr"),S32,0) -> 0 | AI32: =IF(OR($E32="C",$E32="Cr"),$S32,0) -> 0 | AJ32: 13 | AK32: 13 | AL32: =LARGE(AH8:AH738,13) -> 0.30833333 | AM32: =INDEX($AC$8:$AJ$739,MATCH(AL32,$AI$8:$AI$739,0),1) -> 119
F33: =IF(AND(A32="X",B32="dim"),"",IF(AND(A32="X",E32="TC"),"",IF(A32="X","X",""))) | I33: =IF(E32="CA",1,0) -> 0 | J33: =IF(E32="TC",1,0) -> 0 | K33: =IF(E32="FNO",1,0) -> 0
B34: sam | C34: 14 | D34: Janvier | E34: C | I34: =IF(E34="repos",1,0) -> 0 | J34: =IF(E34="S",1,0) -> 0 | K34: =IF(E34="FO",1,0) -> 0 | L34: =IF(AND(B34="dim",M34=130),1,0) -> 0 | M34: 130 | O34: 0.24513889 | P34: =IF(F34="X",D5,0)+IF(F35="X",D5,0)+IF(G34="X",D6,0)+IF(G35="X",D7,0)+H34+H35+IF(N34<N4,0,N34)+IF(N35<N4,0,N35) -> 0 | Q34: 0.52569444 | R34: 0.77083333 | S34: =(R34-Q34)+(R35-Q35) -> 0.24513889 | X34: =IF(OR(E34="C",E34="Cr",E34="FO"),1,0) -> 1 | Z34: 14 | AA34: =IF(OR(E34="C",E34="Cr"),S34,0) -> 0.24513889 | AC34: 14 | AD34: 14 | AE34: Janvier | AF34: 0.52569444 | AG34: 0.77083333 | AH34: =IF(OR(E34="C",E34="Cr"),S34,0) -> 0.24513889 | AI34: =IF(OR($E34="C",$E34="Cr"),$S34,0) -> 0.24513889 | AJ34: 14 | AK34: 14 | AL34: =LARGE(AH8:AH738,14) -> 0.30763889 | AM34: =INDEX($AC$8:$AJ$739,MATCH(AL34,$AI$8:$AI$739,0),1) -> 49
F35: =IF(AND(A34="X",B34="dim"),"",IF(AND(A34="X",E34="TC"),"",IF(A34="X","X",""))) | I35: =IF(E34="CA",1,0) -> 0 | J35: =IF(E34="TC",1,0) -> 0 | K35: =IF(E34="FNO",1,0) -> 0
B36: dim | C36: 15 | D36: Janvier | E36: C | I36: =IF(E36="repos",1,0) -> 0 | J36: =IF(E36="S",1,0) -> 0 | K36: =IF(E36="FO",1,0) -> 0 | L36: =IF(AND(B36="dim",M36=130),1,0) -> 1 | M36: 130 | O36: 0.28958333 | P36: =IF(F36="X",D5,0)+IF(F37="X",D5,0)+IF(G36="X",D6,0)+IF(G37="X",D7,0)+H36+H37+IF(N36<N4,0,N36)+IF(N37<N4,0,N37) -> 0 | Q36: 0.51805556 | R36: 0.80763889 | S36: =(R36-Q36)+(R37-Q37) -> 0.28958333 | X36: =IF(OR(E36="C",E36="Cr",E36="FO"),1,0) -> 1 | Z36: 15 | AA36: =IF(OR(E36="C",E36="Cr"),S36,0) -> 0.28958333 | AC36: 15 | AD36: 15 | AE36: Janvier | AF36: 0.51805556 | AG36: 0.80763889 | AH36: =IF(OR(E36="C",E36="Cr"),S36,0) -> 0.28958333 | AI36: =IF(OR($E36="C",$E36="Cr"),$S36,0) -> 0.28958333 | AJ36: 15 | AK36: 15 | AL36: =LARGE(AH8:AH738,15) -> 0.30694444 | AM36: =INDEX($AC$8:$AJ$739,MATCH(AL36,$AI$8:$AI$739,0),1) -> 311
F37: =IF(AND(A36="X",B36="dim"),"",IF(AND(A36="X",E36="TC"),"",IF(A36="X","X",""))) | I37: =IF(E36="CA",1,0) -> 0 | J37: =IF(E36="TC",1,0) -> 0 | K37: =IF(E36="FNO",1,0) -> 0
B38: lun | C38: 16 | D38: Janvier | E38: C | I38: =IF(E38="repos",1,0) -> 0 | J38: =IF(E38="S",1,0) -> 0 | K38: =IF(E38="FO",1,0) -> 0 | L38: =IF(AND(B38="dim",M38=130),1,0) -> 0 | M38: 130 | O38: 0.27569444 | P38: =IF(F38="X",D5,0)+IF(F39="X",D5,0)+IF(G38="X",D6,0)+IF(G39="X",D7,0)+H38+H39+IF(N38<N4,0,N38)+IF(N39<N4,0,N39) -> 0 | Q38: 0.65972222 | R38: 0.93541667 | S38: =(R38-Q38)+(R39-Q39) -> 0.27569444 | X38: =IF(OR(E38="C",E38="Cr",E38="FO"),1,0) -> 1 | Z38: 16 | AA38: =IF(OR(E38="C",E38="Cr"),S38,0) -> 0.27569444 | AC38: 16 | AD38: 16 | AE38: Janvier | AF38: 0.65972222 | AG38: 0.93541667 | AH38: =IF(OR(E38="C",E38="Cr"),S38,0) -> 0.27569444 | AI38: =IF(OR($E38="C",$E38="Cr"),$S38,0) -> 0.27569444 | AJ38: 16 | AK38: 16 | AL38: =LARGE(AH8:AH738,16) -> 0.30694444 | AM38: =INDEX($AC$8:$AJ$739,MATCH(AL38,$AI$8:$AI$739,0),1) -> 311
F39: =IF(AND(A38="X",B38="dim"),"",IF(AND(A38="X",E38="TC"),"",IF(A38="X","X",""))) | I39: =IF(E38="CA",1,0) -> 0 | J39: =IF(E38="TC",1,0) -> 0 | K39: =IF(E38="FNO",1,0) -> 0
B40: mar | C40: 17 | D40: Janvier | E40: Cr | I40: =IF(E40="repos",1,0) -> 0 | J40: =IF(E40="S",1,0) -> 0 | K40: =IF(E40="FO",1,0) -> 0 | L40: =IF(AND(B40="dim",M40=130),1,0) -> 0 | M40: 59 | O40: 0.24791667 | P40: =IF(F40="X",D5,0)+IF(F41="X",D5,0)+IF(G40="X",D6,0)+IF(G41="X",D7,0)+H40+H41+IF(N40<N4,0,N40)+IF(N41<N4,0,N41) -> 0 | Q40: 0.5 | R40: 0.74791667 | S40: =(R40-Q40)+(R41-Q41) -> 0.24791667 | X40: =IF(OR(E40="C",E40="Cr",E40="FO"),1,0) -> 1 | Z40: 17 | AA40: =IF(OR(E40="C",E40="Cr"),S40,0) -> 0.24791667 | AC40: 17 | AD40: 17 | AE40: Janvier | AF40: 0.5 | AG40: 0.74791667 | AH40: =IF(OR(E40="C",E40="Cr"),S40,0) -> 0.24791667 | AI40: =IF(OR($E40="C",$E40="Cr"),$S40,0) -> 0.24791667 | AJ40: 17 | AK40: 17 | AL40: =LARGE(AH8:AH738,17) -> 0.30694444 | AM40: =INDEX($AC$8:$AJ$739,MATCH(AL40,$AI$8:$AI$739,0),1) -> 311
F41: =IF(AND(A40="X",B40="dim"),"",IF(AND(A40="X",E40="TC"),"",IF(A40="X","X",""))) | I41: =IF(E40="CA",1,0) -> 0 | J41: =IF(E40="TC",1,0) -> 0 | K41: =IF(E40="FNO",1,0) -> 0
B42: mer | C42: 18 | D42: Janvier | E42: C | I42: =IF(E42="repos",1,0) -> 0 | J42: =IF(E42="S",1,0) -> 0 | K42: =IF(E42="FO",1,0) -> 0 | L42: =IF(AND(B42="dim",M42=130),1,0) -> 0 | M42: 130 | O42: 0.27569444 | P42: =IF(F42="X",D5,0)+IF(F43="X",D5,0)+IF(G42="X",D6,0)+IF(G43="X",D7,0)+H42+H43+IF(N42<N4,0,N42)+IF(N43<N4,0,N43) -> 0 | Q42: 0.65972222 | R42: 0.93541667 | S42: =(R42-Q42)+(R43-Q43) -> 0.27569444 | X42: =IF(OR(E42="C",E42="Cr",E42="FO"),1,0) -> 1 | Z42: 18 | AA42: =IF(OR(E42="C",E42="Cr"),S42,0) -> 0.27569444 | AC42: 18 | AD42: 18 | AE42: Janvier | AF42: 0.65972222 | AG42: 0.93541667 | AH42: =IF(OR(E42="C",E42="Cr"),S42,0) -> 0.27569444 | AI42: =IF(OR($E42="C",$E42="Cr"),$S42,0) -> 0.27569444 | AJ42: 18 | AK42: 18 | AL42: =LARGE(AH8:AH738,18) -> 0.30694444 | AM42: =INDEX($AC$8:$AJ$739,MATCH(AL42,$AI$8:$AI$739,0),1) -> 311
F43: =IF(AND(A42="X",B42="dim"),"",IF(AND(A42="X",E42="TC"),"",IF(A42="X","X",""))) | I43: =IF(E42="CA",1,0) -> 0 | J43: =IF(E42="TC",1,0) -> 0 | K43: =IF(E42="FNO",1,0) -> 0
B44: jeu | C44: 19 | D44: Janvier | E44: repos | I44: =IF(E44="repos",1,0) -> 1 | J44: =IF(E44="S",1,0) -> 0 | K44: =IF(E44="FO",1,0) -> 0 | L44: =IF(AND(B44="dim",M44=130),1,0) -> 0 | M44: 660 | P44: =IF(F44="X",D5,0)+IF(F45="X",D5,0)+IF(G44="X",D6,0)+IF(G45="X",D7,0)+H44+H45+IF(N44<N4,0,N44)+IF(N45<N4,0,N45) -> 0 | S44: =(R44-Q44)+(R45-Q45) -> 0 | X44: =IF(OR(E44="C",E44="Cr",E44="FO"),1,0) -> 0 | Z44: 19 | AA44: =IF(OR(E44="C",E44="Cr"),S44,0) -> 0 | AC44: 19 | AD44: 19 | AE44: Janvier | AH44: =IF(OR(E44="C",E44="Cr"),S44,0) -> 0 | AI44: =IF(OR($E44="C",$E44="Cr"),$S44,0) -> 0 | AJ44: 19 | AK44: 19 | AL44: =LARGE(AH8:AH738,19) -> 0.30694444 | AM44: =INDEX($AC$8:$AJ$739,MATCH(AL44,$AI$8:$AI$739,0),1) -> 61
F45: =IF(AND(A44="X",B44="dim"),"",IF(AND(A44="X",E44="TC"),"",IF(A44="X","X",""))) | I45: =IF(E44="CA",1,0) -> 0 | J45: =IF(E44="TC",1,0) -> 0 | K45: =IF(E44="FNO",1,0) -> 0
B46: ven | C46: 20 | D46: Janvier | E46: repos | I46: =IF(E46="repos",1,0) -> 1 | J46: =IF(E46="S",1,0) -> 0 | K46: =IF(E46="FO",1,0) -> 0 | L46: =IF(AND(B46="dim",M46=130),1,0) -> 0 | M46: 660 | P46: =IF(F46="X",D5,0)+IF(F47="X",D5,0)+IF(G46="X",D6,0)+IF(G47="X",D7,0)+H46+H47+IF(N46<N4,0,N46)+IF(N47<N4,0,N47) -> 0 | S46: =(R46-Q46)+(R47-Q47) -> 0 | X46: =IF(OR(E46="C",E46="Cr",E46="FO"),1,0) -> 0 | Z46: 20 | AA46: =IF(OR(E46="C",E46="Cr"),S46,0) -> 0 | AC46: 20 | AD46: 20 | AE46: Janvier | AH46: =IF(OR(E46="C",E46="Cr"),S46,0) -> 0 | AI46: =IF(OR($E46="C",$E46="Cr"),$S46,0) -> 0 | AJ46: 20 | AK46: 20 | AL46: =LARGE(AH8:AH738,20) -> 0.30694444 | AM46: =INDEX($AC$8:$AJ$739,MATCH(AL46,$AI$8:$AI$739,0),1) -> 61
F47: =IF(AND(A46="X",B46="dim"),"",IF(AND(A46="X",E46="TC"),"",IF(A46="X","X",""))) | I47: =IF(E46="CA",1,0) -> 0 | J47: =IF(E46="TC",1,0) -> 0 | K47: =IF(E46="FNO",1,0) -> 0
B48: sam | C48: 21 | D48: Janvier | E48: C | I48: =IF(E48="repos",1,0) -> 0 | J48: =IF(E48="S",1,0) -> 0 | K48: =IF(E48="FO",1,0) -> 0 | L48: =IF(AND(B48="dim",M48=130),1,0) -> 0 | M48: 130 | O48: 0.27222222 | P48: =IF(F48="X",D5,0)+IF(F49="X",D5,0)+IF(G48="X",D6,0)+IF(G49="X",D7,0)+H48+H49+IF(N48<N4,0,N48)+IF(N49<N4,0,N49) -> 0 | Q48: 0.48055556 | R48: 0.75277778 | S48: =(R48-Q48)+(R49-Q49) -> 0.27222222 | X48: =IF(OR(E48="C",E48="Cr",E48="FO"),1,0) -> 1 | Z48: 21 | AA48: =IF(OR(E48="C",E48="Cr"),S48,0) -> 0.27222222 | AC48: 21 | AD48: 21 | AE48: Janvier | AF48: 0.48055556 | AG48: 0.75277778 | AH48: =IF(OR(E48="C",E48="Cr"),S48,0) -> 0.27222222 | AI48: =IF(OR($E48="C",$E48="Cr"),$S48,0) -> 0.27222222 | AJ48: 21 | AK48: 21 | AL48: =LARGE(AH8:AH738,21) -> 0.30625 | AM48: =INDEX($AC$8:$AJ$739,MATCH(AL48,$AI$8:$AI$739,0),1) -> 79
F49: =IF(AND(A48="X",B48="dim"),"",IF(AND(A48="X",E48="TC"),"",IF(A48="X","X",""))) | I49: =IF(E48="CA",1,0) -> 0 | J49: =IF(E48="TC",1,0) -> 0 | K49: =IF(E48="FNO",1,0) -> 0
B50: dim | C50: 22 | D50: Janvier | E50: C | I50: =IF(E50="repos",1,0) -> 0 | J50: =IF(E50="S",1,0) -> 0 | K50: =IF(E50="FO",1,0) -> 0 | L50: =IF(AND(B50="dim",M50=130),1,0) -> 1 | M50: 130 | O50: 0.28819444 | P50: =IF(F50="X",D5,0)+IF(F51="X",D5,0)+IF(G50="X",D6,0)+IF(G51="X",D7,0)+H50+H51+IF(N50<N4,0,N50)+IF(N51<N4,0,N51) -> 0 | Q50: 0.79583333 | R50: 1.0840278 | S50: =(R50-Q50)+(R51-Q51) -> 0.28819444 | X50: =IF(OR(E50="C",E50="Cr",E50="FO"),1,0) -> 1 | Z50: 22 | AA50: =IF(OR(E50="C",E50="Cr"),S50,0) -> 0.28819444 | AC50: 22 | AD50: 22 | AE50: Janvier | AF50: 0.79583333 | AG50: 1.0840278 | AH50: =IF(OR(E50="C",E50="Cr"),S50,0) -> 0.28819444 | AI50: =IF(OR($E50="C",$E50="Cr"),$S50,0) -> 0.28819444 | AJ50: 22 | AK50: 22 | AL50: =LARGE(AH8:AH738,22) -> 0.30625 | AM50: =INDEX($AC$8:$AJ$739,MATCH(AL50,$AI$8:$AI$739,0),1) -> 79
F51: =IF(AND(A50="X",B50="dim"),"",IF(AND(A50="X",E50="TC"),"",IF(A50="X","X",""))) | I51: =IF(E50="CA",1,0) -> 0 | J51: =IF(E50="TC",1,0) -> 0 | K51: =IF(E50="FNO",1,0) -> 0
B52: lun | C52: 23 | D52: Janvier | E52: C | I52: =IF(E52="repos",1,0) -> 0 | J52: =IF(E52="S",1,0) -> 0 | K52: =IF(E52="FO",1,0) -> 0 | L52: =IF(AND(B52="dim",M52=130),1,0) -> 0 | M52: 130 | O52: 0.2875 | P52: =IF(F52="X",D5,0)+IF(F53="X",D5,0)+IF(G52="X",D6,0)+IF(G53="X",D7,0)+H52+H53+IF(N52<N4,0,N52)+IF(N53<N4,0,N53) -> 0 | Q52: 0.79513889 | R52: 1.0826389 | S52: =(R52-Q52)+(R53-Q53) -> 0.2875 | X52: =IF(OR(E52="C",E52="Cr",E52="FO"),1,0) -> 1 | Z52: 23 | AA52: =IF(OR(E52="C",E52="Cr"),S52,0) -> 0.2875 | AC52: 23 | AD52: 23 | AE52: Janvier | AF52: 0.79513889 | AG52: 1.0826389 | AH52: =IF(OR(E52="C",E52="Cr"),S52,0) -> 0.2875 | AI52: =IF(OR($E52="C",$E52="Cr"),$S52,0) -> 0.2875 | AJ52: 23 | AK52: 23 | AL52: =LARGE(AH8:AH738,23) -> 0.30625 | AM52: =INDEX($AC$8:$AJ$739,MATCH(AL52,$AI$8:$AI$739,0),1) -> 79
F53: =IF(AND(A52="X",B52="dim"),"",IF(AND(A52="X",E52="TC"),"",IF(A52="X","X",""))) | I53: =IF(E52="CA",1,0) -> 0 | J53: =IF(E52="TC",1,0) -> 0 | K53: =IF(E52="FNO",1,0) -> 0
B54: mar | C54: 24 | D54: Janvier | E54: CA | I54: =IF(E54="repos",1,0) -> 0 | J54: =IF(E54="S",1,0) -> 0 | K54: =IF(E54="FO",1,0) -> 0 | L54: =IF(AND(B54="dim",M54=130),1,0) -> 0 | M54: 700 | P54: =IF(F54="X",D5,0)+IF(F55="X",D5,0)+IF(G54="X",D6,0)+IF(G55="X",D7,0)+H54+H55+IF(N54<N4,0,N54)+IF(N55<N4,0,N55) -> 0 | S54: =(R54-Q54)+(R55-Q55) -> 0 | X54: =IF(OR(E54="C",E54="Cr",E54="FO"),1,0) -> 0 | Z54: 24 | AA54: =IF(OR(E54="C",E54="Cr"),S54,0) -> 0 | AC54: 24 | AD54: 24 | AE54: Janvier | AH54: =IF(OR(E54="C",E54="Cr"),S54,0) -> 0 | AI54: =IF(OR($E54="C",$E54="Cr"),$S54,0) -> 0 | AJ54: 24 | AK54: 24 | AL54: =LARGE(AH8:AH738,24) -> 0.30625 | AM54: =INDEX($AC$8:$AJ$739,MATCH(AL54,$AI$8:$AI$739,0),1) -> 79
F55: =IF(AND(A54="X",B54="dim"),"",IF(AND(A54="X",E54="TC"),"",IF(A54="X","X",""))) | I55: =IF(E54="CA",1,0) -> 1 | J55: =IF(E54="TC",1,0) -> 0 | K55: =IF(E54="FNO",1,0) -> 0
B56: mer | C56: 25 | D56: Janvier | E56: C | I56: =IF(E56="repos",1,0) -> 0 | J56: =IF(E56="S",1,0) -> 0 | K56: =IF(E56="FO",1,0) -> 0 | L56: =IF(AND(B56="dim",M56=130),1,0) -> 0 | M56: 130 | O56: 0.2875 | P56: =IF(F56="X",D5,0)+IF(F57="X",D5,0)+IF(G56="X",D6,0)+IF(G57="X",D7,0)+H56+H57+IF(N56<N4,0,N56)+IF(N57<N4,0,N57) -> 0 | Q56: 0.79513889 | R56: 1.0826389 | S56: =(R56-Q56)+(R57-Q57) -> 0.2875 | X56: =IF(OR(E56="C",E56="Cr",E56="FO"),1,0) -> 1 | Z56: 25 | AA56: =IF(OR(E56="C",E56="Cr"),S56,0) -> 0.2875 | AC56: 25 | AD56: 25 | AE56: Janvier | AF56: 0.79513889 | AG56: 1.0826389 | AH56: =IF(OR(E56="C",E56="Cr"),S56,0) -> 0.2875 | AI56: =IF(OR($E56="C",$E56="Cr"),$S56,0) -> 0.2875 | AJ56: 25 | AK56: 25 | AL56: =LARGE(AH8:AH738,25) -> 0.30625 | AM56: =INDEX($AC$8:$AJ$739,MATCH(AL56,$AI$8:$AI$739,0),1) -> 79
F57: =IF(AND(A56="X",B56="dim"),"",IF(AND(A56="X",E56="TC"),"",IF(A56="X","X",""))) | I57: =IF(E56="CA",1,0) -> 0 | J57: =IF(E56="TC",1,0) -> 0 | K57: =IF(E56="FNO",1,0) -> 0
B58: jeu | C58: 26 | D58: Janvier | E58: C | I58: =IF(E58="repos",1,0) -> 0 | J58: =IF(E58="S",1,0) -> 0 | K58: =IF(E58="FO",1,0) -> 0 | L58: =IF(AND(B58="dim",M58=130),1,0) -> 0 | M58: 130 | O58: 0.2875 | P58: =IF(F58="X",D5,0)+IF(F59="X",D5,0)+IF(G58="X",D6,0)+IF(G59="X",D7,0)+H58+H59+IF(N58<N4,0,N58)+IF(N59<N4,0,N59) -> 0 | Q58: 0.79513889 | R58: 1.0826389 | S58: =(R58-Q58)+(R59-Q59) -> 0.2875 | X58: =IF(OR(E58="C",E58="Cr",E58="FO"),1,0) -> 1 | Z58: 26 | AA58: =IF(OR(E58="C",E58="Cr"),S58,0) -> 0.2875 | AC58: 26 | AD58: 26 | AE58: Janvier | AF58: 0.79513889 | AG58: 1.0826389 | AH58: =IF(OR(E58="C",E58="Cr"),S58,0) -> 0.2875 | AI58: =IF(OR($E58="C",$E58="Cr"),$S58,0) -> 0.2875 | AJ58: 26 | AK58: 26 | AL58: =LARGE(AH8:AH738,26) -> 0.30625 | AM58: =INDEX($AC$8:$AJ$739,MATCH(AL58,$AI$8:$AI$739,0),1) -> 79
F59: =IF(AND(A58="X",B58="dim"),"",IF(AND(A58="X",E58="TC"),"",IF(A58="X","X",""))) | I59: =IF(E58="CA",1,0) -> 0 | J59: =IF(E58="TC",1,0) -> 0 | K59: =IF(E58="FNO",1,0) -> 0
B60: ven | C60: 27 | D60: Janvier | E60: repos | I60: =IF(E60="repos",1,0) -> 1 | J60: =IF(E60="S",1,0) -> 0 | K60: =IF(E60="FO",1,0) -> 0 | L60: =IF(AND(B60="dim",M60=130),1,0) -> 0 | M60: 660 | P60: =IF(F60="X",D5,0)+IF(F61="X",D5,0)+IF(G60="X",D6,0)+IF(G61="X",D7,0)+H60+H61+IF(N60<N4,0,N60)+IF(N61<N4,0,N61) -> 0 | S60: =(R60-Q60)+(R61-Q61) -> 0 | X60: =IF(OR(E60="C",E60="Cr",E60="FO"),1,0) -> 0 | Z60: 27 | AA60: =IF(OR(E60="C",E60="Cr"),S60,0) -> 0 | AC60: 27 | AD60: 27 | AE60: Janvier | AH60: =IF(OR(E60="C",E60="Cr"),S60,0) -> 0 | AI60: =IF(OR($E60="C",$E60="Cr"),$S60,0) -> 0 | AJ60: 27 | AK60: 27 | AL60: =LARGE(AH8:AH738,27) -> 0.30486111 | AM60: =INDEX($AC$8:$AJ$739,MATCH(AL60,$AI$8:$AI$739,0),1) -> 147
F61: =IF(AND(A60="X",B60="dim"),"",IF(AND(A60="X",E60="TC"),"",IF(A60="X","X",""))) | I61: =IF(E60="CA",1,0) -> 0 | J61: =IF(E60="TC",1,0) -> 0 | K61: =IF(E60="FNO",1,0) -> 0
B62: sam | C62: 28 | D62: Janvier | E62: repos | I62: =IF(E62="repos",1,0) -> 1 | J62: =IF(E62="S",1,0) -> 0 | K62: =IF(E62="FO",1,0) -> 0 | L62: =IF(AND(B62="dim",M62=130),1,0) -> 0 | M62: 660 | P62: =IF(F62="X",D5,0)+IF(F63="X",D5,0)+IF(G62="X",D6,0)+IF(G63="X",D7,0)+H62+H63+IF(N62<N4,0,N62)+IF(N63<N4,0,N63) -> 0 | S62: =(R62-Q62)+(R63-Q63) -> 0 | X62: =IF(OR(E62="C",E62="Cr",E62="FO"),1,0) -> 0 | Z62: 28 | AA62: =IF(OR(E62="C",E62="Cr"),S62,0) -> 0 | AC62: 28 | AD62: 28 | AE62: Janvier | AH62: =IF(OR(E62="C",E62="Cr"),S62,0) -> 0 | AI62: =IF(OR($E62="C",$E62="Cr"),$S62,0) -> 0 | AJ62: 28 | AK62: 28 | AL62: =LARGE(AH8:AH738,28) -> 0.30486111 | AM62: =INDEX($AC$8:$AJ$739,MATCH(AL62,$AI$8:$AI$739,0),1) -> 83
F63: =IF(AND(A62="X",B62="dim"),"",IF(AND(A62="X",E62="TC"),"",IF(A62="X","X",""))) | I63: =IF(E62="CA",1,0) -> 0 | J63: =IF(E62="TC",1,0) -> 0 | K63: =IF(E62="FNO",1,0) -> 0
B64: dim | C64: 29 | D64: Janvier | E64: S | F64: X | I64: =IF(E64="repos",1,0) -> 0 | J64: =IF(E64="S",1,0) -> 1 | K64: =IF(E64="FO",1,0) -> 0 | L64: =IF(AND(B64="dim",M64=130),1,0) -> 1 | M64: 130 | P64: =IF(F64="X",D5,0)+IF(F65="X",D5,0)+IF(G64="X",D6,0)+IF(G65="X",D7,0)+H64+H65+IF(N64<N4,0,N64)+IF(N65<N4,0,N65) -> 0.27638889 | S64: =(R64-Q64)+(R65-Q65) -> 0 | X64: =IF(OR(E64="C",E64="Cr",E64="FO"),1,0) -> 0 | Z64: 29 | AA64: =IF(OR(E64="C",E64="Cr"),S64,0) -> 0 | AC64: 29 | AD64: 29 | AE64: Janvier | AH64: =IF(OR(E64="C",E64="Cr"),S64,0) -> 0 | AI64: =IF(OR($E64="C",$E64="Cr"),$S64,0) -> 0 | AJ64: 29 | AK64: 29 | AL64: =LARGE(AH8:AH738,29) -> 0.30416667 | AM64: =INDEX($AC$8:$AJ$739,MATCH(AL64,$AI$8:$AI$739,0),1) -> 231
F65: =IF(AND(A64="X",B64="dim"),"",IF(AND(A64="X",E64="TC"),"",IF(A64="X","X",""))) | I65: =IF(E64="CA",1,0) -> 0 | J65: =IF(E64="TC",1,0) -> 0 | K65: =IF(E64="FNO",1,0) -> 0
B66: lun | C66: 30 | D66: Janvier | E66: C | I66: =IF(E66="repos",1,0) -> 0 | J66: =IF(E66="S",1,0) -> 0 | K66: =IF(E66="FO",1,0) -> 0 | L66: =IF(AND(B66="dim",M66=130),1,0) -> 0 | M66: 130 | O66: 0.27013889 | P66: =IF(F66="X",D5,0)+IF(F67="X",D5,0)+IF(G66="X",D6,0)+IF(G67="X",D7,0)+H66+H67+IF(N66<N4,0,N66)+IF(N67<N4,0,N67) -> 0 | Q66: 0.55972222 | R66: 0.82986111 | S66: =(R66-Q66)+(R67-Q67) -> 0.27013889 | X66: =IF(OR(E66="C",E66="Cr",E66="FO"),1,0) -> 1 | Z66: 30 | AA66: =IF(OR(E66="C",E66="Cr"),S66,0) -> 0.27013889 | AC66: 30 | AD66: 30 | AE66: Janvier | AF66: 0.55972222 | AG66: 0.82986111 | AH66: =IF(OR(E66="C",E66="Cr"),S66,0) -> 0.27013889 | AI66: =IF(OR($E66="C",$E66="Cr"),$S66,0) -> 0.27013889 | AJ66: 30 | AK66: 30 | AL66: =LARGE(AH8:AH738,30) -> 0.30347222 | AM66: =INDEX($AC$8:$AJ$739,MATCH(AL66,$AI$8:$AI$739,0),1) -> 209
F67: =IF(AND(A66="X",B66="dim"),"",IF(AND(A66="X",E66="TC"),"",IF(A66="X","X",""))) | I67: =IF(E66="CA",1,0) -> 0 | J67: =IF(E66="TC",1,0) -> 0 | K67: =IF(E66="FNO",1,0) -> 0
B68: mar | C68: 31 | D68: Janvier | E68: C | I68: =IF(E68="repos",1,0) -> 0 | J68: =IF(E68="S",1,0) -> 0 | K68: =IF(E68="FO",1,0) -> 0 | L68: =IF(AND(B68="dim",M68=130),1,0) -> 0 | M68: 130 | O68: 0.27013889 | P68: =IF(F68="X",D5,0)+IF(F69="X",D5,0)+IF(G68="X",D6,0)+IF(G69="X",D7,0)+H68+H69+IF(N68<N4,0,N68)+IF(N69<N4,0,N69) -> 0 | Q68: 0.55972222 | R68: 0.82986111 | S68: =(R68-Q68)+(R69-Q69) -> 0.27013889 | X68: =IF(OR(E68="C",E68="Cr",E68="FO"),1,0) -> 1 | Z68: 31 | AA68: =IF(OR(E68="C",E68="Cr"),S68,0) -> 0.27013889 | AC68: 31 | AD68: 31 | AE68: Janvier | AF68: 0.55972222 | AG68: 0.82986111 | AH68: =IF(OR(E68="C",E68="Cr"),S68,0) -> 0.27013889 | AI68: =IF(OR($E68="C",$E68="Cr"),$S68,0) -> 0.27013889 | AJ68: 31 | AK68: 31 | AL68: =LARGE($AH$8:$AH$738,31) -> 0.30277778 | AM68: =INDEX($AC$8:$AJ$739,MATCH(AL68,$AI$8:$AI$739,0),1) -> 243
F69: =IF(AND(A68="X",B68="dim"),"",IF(AND(A68="X",E68="TC"),"",IF(A68="X","X",""))) | I69: =IF(E68="CA",1,0) -> 0 | J69: =IF(E68="TC",1,0) -> 0 | K69: =IF(E68="FNO",1,0) -> 0
AC70: 32 | AD70: 1 | AE70: Fevrier | AF70: 0.55972222 | AG70: 0.82986111 | AH70: =IF(OR(E85="C",E85="Cr"),S85,0) -> 0.27013889 | AI70: =IF(OR($E85="C",$E85="Cr"),$S85,0) -> 0.27013889 | AJ70: 32 | AK70: 32 | AL70: =LARGE($AH$8:$AH$738,32) -> 0.30277778 | AM70: =INDEX($AC$8:$AJ$739,MATCH(AL70,$AI$8:$AI$739,0),1) -> 150
B71: =C68 -> 31 | C71: Repos prévu | E71: 11 | H71: =H8+H10+H12+H14+H16+H18+H20+H22+H24+H26+H28+H30+H32+H34+H36+H38+H40+H42+H44+H46+H48+H50+H52+H54+H56+H58+H60+H62+H64+H66+H68 -> 0 | I71: =IF(E71="repos",1,"") | L71: =L8+L10+L12+L14+L16+L18+L20+L22+L24+L26+L28+L30+L32+L34+L36+L38+L40+L42+L44+L46+L48+L50+L52+L54+L56+L58+L60+L62+L64+L66+L68 -> 4 | M71: =L71 -> 4 | N71: =IF(N8<N4,0,N8)+IF(N9<N4,0,N9)+IF(N10<N4,0,N10)+IF(N11<N4,0,N11)+IF(N12<N4,0,N12)+IF(N13<N4,0,N13)+IF(N14<N4,0,N14)+IF(N15<N4,0,N15)+IF(N16<N4,0,N16)+IF(N17<N4,0,N17)+IF(N18<N4,0,N18)+IF(N19<N4,0,N19)+IF(N20<N4,0,N20)+IF(N21<N4,0,N21)+IF(N22<N4,0,N22)+IF(N23<N4,0,N23)+IF(N24<N4,0,N24)+IF(N25<N4,0,N25)+IF(N26<N4,0,N26)+IF(N27<N4,0,N27)+IF(N28<N4,0,N28)+IF(N29<N4,0,N29)+IF(N30<N4,0,N30)+IF(N31<N4,0,N31)+IF(N32<N4,0,N32)+IF(N33<N4,0,N33)+IF(N34<N4,0,N34)+IF(N35<N4,0,N35)+IF(N36<N4,0,N36)+IF(N37<N4,0,N37)+IF(N38<N4,0,N38)+IF(N39<N4,0,N39)+IF(N40<N4,0,N40)+IF(N41<N4,0,N41)+IF(N42<N4,0,N42)+IF(N43<N4,0,N43)+IF(N44<N4,0,N44)+IF(N45<N4,0,N45)+IF(N46<N4,0,N46)+IF(N47<N4,0,N47)+IF(N48<N4,0,N48)+IF(N49<N4,0,N49)+IF(N50<N4,0,N50)+IF(N51<N4,0,N51)+IF(N52<N4,0,N52)+IF(N53<N4,0,N53)+IF(N54<N4,0,N54)+IF(N55<N4,0,N55)+IF(N56<N4,0,N56)+IF(N57<N4,0,N57)+IF(N58<N4,0,N58)+IF(N59<N4,0,N59)+IF(N60<N4,0,N60)+IF(N61<N4,0,N61)+IF(N62<N4,0,N62)+IF(N63<N4,0,N63)+IF(N64<N4,0,N64)+IF(N65<N4,0,N65)+IF(N66<N4,0,N66)+IF(N67<N4,0,N67)+IF(N68<N4,0,N68)+IF(N69<N4,0,N69) -> 0 | O71: =O8+O9+O10+O11+O12+O13+O14+O15+O16+O17+O18+O19+O20+O21+O22+O23+O24+O25+O26+O27+O28+O29+O30+O31+O32+O33+O34+O35+O36+O37+O38+O39+O40+O41+O42+O43+O44+O45+O46+O47+O48+O49+O50+O51+O52+O53+O54+O55+O56+O57+O58+O59+O60+O61+O62+O63+O64+O65+O66+O67+O68+O69 -> 4.8909722 | P71: =P8+P10+P12+P14+P16+P18+P20+P22+P24+P26+P28+P30+P32+P34+P36+P38+P40+P42+P44+P46+P48+P50+P52+P54+P56+P58+P60+P62+P64+P66+P68 -> 1.1055556 | S71: =S8+S10+S12+S14+S16+S18+S20+S22+S24+S26+S28+S30+S32+S34+S36+S38+S40+S42+S44+S46+S48+S50+S52+S54+S56+S58+S60+S62+S64+S66+S68 -> 4.8909722 | U71: =S12+S14+S26+S34+S36+S38+S42+S48+S50+S52+S56+S58+S66+S68 -> 3.8555556 | V71: =S16+S18+S24+S40 -> 1.0354167 | X71: =SUM(X8:X69) -> 18
C72: Repos réel ( repos ) | E72: =I8+I10+I12+I14+I16+I18+I20+I22+I24+I26+I28+I30+I32+I34+I36+I38+I40+I42+I44+I46+I48+I50+I52+I54+I56+I58+I60+I62+I64+I66+I68 -> 8 | F72: =IF(F9="X",1,0)+IF(F11="X",1,0)+IF(F13="X",1,0)+IF(F15="X",1,0)+IF(F17="X",1,0)+IF(F19="X",1,0)+IF(F21="X",1,0)+IF(F23="X",1,0)+IF(F25="X",1,0)+IF(F27="X",1,0)+IF(F29="X",1,0)+IF(F31="X",1,0)+IF(F33="X",1,0)+IF(F35="X",1,0)+IF(F37="X",1,0)+IF(F39="X",1,0)+IF(F41="X",1,0)+IF(F43="X",1,0)+IF(F45="X",1,0)+IF(F47="X",1,0)+IF(F49="X",1,0)+IF(F51="X",1,0)+IF(F53="X",1,0)+IF(F55="X",1,0)+IF(F57="X",1,0)+IF(F59="X",1,0)+IF(F61="X",1,0)+IF(F63="X",1,0)+IF(F65="X",1,0)+IF(F67="X",1,0)+IF(F69="X",1,0) -> 0 | H72: =H9+H11+H13+H15+H17+H19+H21+H23+H25+H27+H29+H31+H33+H35+H37+H39+H41+H43+H45+H47+H49+H51+H53+H55+H57+H59+H61+H63+H65+H67+H69 -> 0 | AC72: 33 | AD72: 2 | AE72: Fevrier | AF72: 0.55972222 | AG72: 0.82986111 | AH72: =IF(OR(E87="C",E87="Cr"),S87,0) -> 0.27013889 | AI72: =IF(OR($E87="C",$E87="Cr"),$S87,0) -> 0.27013889 | AJ72: 33 | AK72: 33 | AL72: =LARGE($AH$8:$AH$738,33) -> 0.30277778 | AM72: =INDEX($AC$8:$AJ$739,MATCH(AL72,$AI$8:$AI$739,0),1) -> 150
C73: Travail sur repos ( S ) | E73: =J8+J10+J12+J14+J16+J18+J20+J22+J24+J26+J28+J30+J32+J34+J36+J38+J40+J42+J44+J46+J48+J50+J52+J54+J56+J58+J60+J62+J64+J66+J68+J71 -> 4 | O73: Vente | U73: 14 | V73: 4
C74: CA | E74: =I9+I11+I13+I15+I17+I19+I21+I23+I25+I27+I29+I31+I33+I35+I37+I39+I41+I43+I45+I47+I49+I51+I53+I55+I57+I59+I61+I63+I65+I67+I69 -> 1 | G74: =IF(F8="X",D5,0)+IF(F10="X",D5,0)+IF(F12="X",D5,0)+IF(F14="X",D5,0)+IF(F16="X",D5,0)+IF(F18="X",D5,0)+IF(F20="X",D5,0)+IF(F22="X",D5,0)+IF(F24="X",D5,0)+IF(F26="X",D5,0)+IF(F28="X",D5,0)+IF(F30="X",D5,0)+IF(F32="X",D5,0)+IF(F34="X",D5,0)+IF(F36="X",D5,0)+IF(F38="X",D5,0)+IF(F40="X",D5,0)+IF(F42="X",D5,0)+IF(F44="X",D5,0)+IF(F46="X",D5,0)+IF(F48="X",D5,0)+IF(F50="X",D5,0)+IF(F52="X",D5,0)+IF(F54="X",D5,0)+IF(F56="X",D5,0)+IF(F58="X",D5,0)+IF(F60="X",D5,0)+IF(F62="X",D5,0)+IF(F64="X",D5,0)+IF(F66="X",D5,0)+IF(F68="X",D5,0) -> 1.1055556 | I74: =IF(G8="X",D6,0)+IF(G10="X",D6,0)+IF(G12="X",D6,0)+IF(G14="X",D6,0)+IF(G16="X",D6,0)+IF(G18="X",D6,0)+IF(G20="X",D6,0)+IF(G22="X",D6,0)+IF(G24="X",D6,0)+IF(G26="X",D6,0)+IF(G28="X",D6,0)+IF(G30="X",D6,0)+IF(G32="X",D6,0)+IF(G34="X",D6,0)+IF(G36="X",D6,0)+IF(G38="X",D6,0)+IF(G40="X",D6,0)+IF(G42="X",D6,0)+IF(G44="X",D6,0)+IF(G46="X",D6,0)+IF(G48="X",D6,0)+IF(G50="X",D6,0)+IF(G52="X",D6,0)+IF(G54="X",D6,0)+IF(G56="X",D6,0)+IF(G58="X",D6,0)+IF(G60="X",D6,0)+IF(G62="X",D6,0)+IF(G64="X",D6,0)+IF(G66="X",D6,0)+IF(G68="X",D6,0) -> 0 | O74: TS | Q74: TS | R74: TC | S74: CCF | AC74: 34 | AD74: 3 | AE74: Fevrier | AF74: 0.55972222 | AG74: 0.82986111 | AH74: =IF(OR(E89="C",E89="Cr"),S89,0) -> 0.27013889 | AI74: =IF(OR($E89="C",$E89="Cr"),$S89,0) -> 0.27013889 | AJ74: 34 | AK74: 34 | AL74: =LARGE($AH$8:$AH$738,34) -> 0.30277778 | AM74: =INDEX($AC$8:$AJ$739,MATCH(AL74,$AI$8:$AI$739,0),1) -> 150
C75: TC | E75: =J9+J11+J13+J15+J17+J19+J21+J23+J25+J27+J29+J31+J33+J35+J37+J39+J41+J43+J45+J47+J49+J51+J53+J55+J57+J59+J61+J63+J65+J67+J69 -> 0 | G75: =IF(F9="X",D5,0)+IF(F11="X",D5,0)+IF(F13="X",D5,0)+IF(F15="X",D5,0)+IF(F17="X",D5,0)+IF(F19="X",D5,0)+IF(F21="X",D5,0)+IF(F23="X",D5,0)+IF(F25="X",D5,0)+IF(F27="X",D5,0)+IF(F29="X",D5,0)+IF(F31="X",D5,0)+IF(F33="X",D5,0)+IF(F35="X",D5,0)+IF(F37="X",D5,0)+IF(F39="X",D5,0)+IF(F41="X",D5,0)+IF(F43="X",D5,0)+IF(F45="X",D5,0)+IF(F47="X",D5,0)+IF(F49="X",D5,0)+IF(F51="X",D5,0)+IF(F53="X",D5,0)+IF(F55="X",D5,0)+IF(F57="X",D5,0)+IF(F59="X",D5,0)+IF(F61="X",D5,0)+IF(F63="X",D5,0)+IF(F65="X",D5,0)+IF(F67="X",D5,0)+IF(F69="X",D5,0) -> 0 | I75: =IF(G9="X",D7,0)+IF(G11="X",D7,0)+IF(G13="X",D7,0)+IF(G15="X",D7,0)+IF(G17="X",D7,0)+IF(G19="X",D7,0)+IF(G21="X",D7,0)+IF(G23="X",D7,0)+IF(G25="X",D7,0)+IF(G27="X",D7,0)+IF(G29="X",D7,0)+IF(G31="X",D7,0)+IF(G33="X",D7,0)+IF(G35="X",D7,0)+IF(G37="X",D7,0)+IF(G39="X",D7,0)+IF(G41="X",D7,0)+IF(G43="X",D7,0)+IF(G45="X",D7,0)+IF(G47="X",D7,0)+IF(G49="X",D7,0)+IF(G51="X",D7,0)+IF(G53="X",D7,0)+IF(G55="X",D7,0)+IF(G57="X",D7,0)+IF(G59="X",D7,0)+IF(G61="X",D7,0)+IF(G63="X",D7,0)+IF(G65="X",D7,0)+IF(G67="X",D7,0)+IF(G69="X",D7,0) -> 0 | O75: TC | Q75: =O4 -> 0 | R75: =P4+I75 -> 0.29583333 | S75: =Q4+G75 -> 0.55138889 | U75: =U71+V71 -> 4.8909722
C76: Formation obligatoire | E76: =K8+K10+K12+K14+K16+K18+K20+K22+K24+K26+K28+K30+K32+K34+K36+K38+K40+K42+K44+K46+K48+K50+K52+K54+K56+K58+K60+K62+K64+K66+K68 -> 0 | O76: CCF | AC76: 35 | AD76: 4 | AE76: Fevrier | AH76: =IF(OR(E91="C",E91="Cr"),S91,0) -> 0 | AI76: =IF(OR($E91="C",$E91="Cr"),$S91,0) -> 0 | AJ76: 35 | AK76: 35 | AL76: =LARGE($AH$8:$AH$738,35) -> 0.30277778 | AM76: =INDEX($AC$8:$AJ$739,MATCH(AL76,$AI$8:$AI$739,0),1) -> 150
C77: Formation non obligatoire | E77: =K9+K11+K13+K15+K17+K19+K21+K23+K25+K27+K29+K31+K33+K35+K37+K39+K41+K43+K45+K47+K49+K51+K53+K55+K57+K59+K61+K63+K65+K67+K69 -> 0 | I77: =IF(E77="repos",1,"") | P77: =P4+Q4+P71-P74-P75-P76 -> 1.9527778 | Q77: TS | R77: TC | S77: CCF | U77: =U73+V73 -> 18
C78: Jours travaillés conduite | E78: =B71-E72-E73-E74-E75-E76-E77 -> 18 | Q78: =Q75+G74+I74+H72+N71-P74 -> 1.1055556 | R78: =R75+H71+I75-P75 -> 0.29583333 | S78: =S75+G75-P76 -> 0.55138889 | AC78: 36 | AD78: 5 | AE78: Fevrier | AH78: =IF(OR(E93="C",E93="Cr"),S93,0) -> 0 | AI78: =IF(OR($E93="C",$E93="Cr"),$S93,0) -> 0 | AJ78: 36 | AK78: 36 | AL78: =LARGE($AH$8:$AH$738,36) -> 0.30277778 | AM78: =INDEX($AC$8:$AJ$739,MATCH(AL78,$AI$8:$AI$739,0),1) -> 150
I80: =IF(E80="repos",1,"") | AC80: 37 | AD80: 6 | AE80: Fevrier | AF80: 0.50069444 | AG80: 0.76388889 | AH80: =IF(OR(E95="C",E95="Cr"),S95,0) -> 0.26319444 | AI80: =IF(OR($E95="C",$E95="Cr"),$S95,0) -> 0.26319444 | AJ80: 37 | AK80: 37 | AL80: =LARGE($AH$8:$AH$738,37) -> 0.30069444 | AM80: =INDEX($AC$8:$AJ$739,MATCH(AL80,$AI$8:$AI$739,0),1) -> 233
N81: 0.010416667 | P81: =P77 -> 1.9527778
B82: Période | D82: 0.27638889 | F82: S | M82: Pointage | N82: Retard | O82: Temps | P82: TS-TC-CCF | Q82: Début | R82: Fin | S82: Temps | X82: Jours | AC82: 38 | AD82: 7 | AE82: Fevrier | AF82: 0.67638889 | AG82: 0.95625 | AH82: =IF(OR(E97="C",E97="Cr"),S97,0) -> 0.27986111 | AI82: =IF(OR($E97="C",$E97="Cr"),$S97,0) -> 0.27986111 | AJ82: 38 | AK82: 38 | AL82: =LARGE($AH$8:$AH$738,38) -> 0.29930556 | AM82: =INDEX($AC$8:$AJ$739,MATCH(AL82,$AI$8:$AI$739,0),1) -> 56
B83: H I S | D83: 0.041666667 | F83: € | G83: Hs | H83: Derog | I83: R | J83: S | K83: Fo | L83: D | N83: Brut | O83: sur | Q83: de service | S83: réellement | X83: comptés
B84: 2 x | D84: 0.013888889 | F84: Fe | G84: 2x | H84: TS div | I84: CA | J84: Tc | K84: FNO | O84: BMP | S84: effectué | X84: conduite | AC84: 39 | AD84: 8 | AE84: Fevrier | AF84: 0.25763889 | AG84: 0.43125 | AH84: =IF(OR(E99="C",E99="Cr"),S99,0) -> 0.28888889 | AI84: =IF(OR($E99="C",$E99="Cr"),$S99,0) -> 0.28888889 | AJ84: 39 | AK84: 39 | AL84: =LARGE($AH$8:$AH$738,39) -> 0.29791667 | AM84: =INDEX($AC$8:$AJ$739,MATCH(AL84,$AI$8:$AI$739,0),1) -> 338
B85: mer | C85: 1 | D85: Fevrier | E85: C | I85: =IF(E85="repos",1,0) -> 0 | J85: =IF(E85="S",1,0) -> 0 | K85: =IF(E85="FO",1,0) -> 0 | L85: =IF(AND(B85="dim",M85=130),1,0) -> 0 | M85: 130 | O85: 0.27013889 | P85: =IF(F85="X",D82,0)+IF(F86="X",D82,0)+IF(G85="X",D83,0)+IF(G86="X",D84,0)+H85+H86+IF(N85<N81,0,N85)+IF(N86<N81,0,N86) -> 0 | Q85: 0.55972222 | R85: 0.82986111 | S85: =(R85-Q85)+(R86-Q86) -> 0.27013889 | X85: =IF(OR(E85="C",E85="Cr",E85="FO"),1,0) -> 1 | Z85: 32 | AA85: =IF(OR(E85="C",E85="Cr"),S85,0) -> 0.27013889 | AF85: 0.68125 | AG85: 0.79652778
F86: =IF(AND(A85="X",B85="dim"),"",IF(AND(A85="X",E85="TC"),"",IF(A85="X","X",""))) | I86: =IF(E85="CA",1,0) -> 0 | J86: =IF(E85="TC",1,0) -> 0 | K86: =IF(E85="FNO",1,0) -> 0 | AC86: 40 | AD86: 9 | AE86: Fevrier | AF86: 0.25763889 | AG86: 0.43125 | AH86: =IF(OR(E101="C",E101="Cr"),S101,0) -> 0.28888889 | AI86: =IF(OR($E101="C",$E101="Cr"),$S101,0) -> 0.28888889 | AJ86: 40 | AK86: 40 | AL86: =LARGE($AH$8:$AH$738,40) -> 0.29791667 | AM86: =INDEX($AC$8:$AJ$739,MATCH(AL86,$AI$8:$AI$739,0),1) -> 338
B87: jeu | C87: 2 | D87: Fevrier | E87: Cr | I87: =IF(E87="repos",1,0) -> 0 | J87: =IF(E87="S",1,0) -> 0 | K87: =IF(E87="FO",1,0) -> 0 | L87: =IF(AND(B87="dim",M87=130),1,0) -> 0 | M87: 59 | O87: 0.27013889 | P87: =IF(F87="X",D82,0)+IF(F88="X",D82,0)+IF(G87="X",D83,0)+IF(G88="X",D84,0)+H87+H88+IF(N87<N81,0,N87)+IF(N88<N81,0,N88) -> 0 | Q87: 0.55972222 | R87: 0.82986111 | S87: =(R87-Q87)+(R88-Q88) -> 0.27013889 | X87: =IF(OR(E87="C",E87="Cr",E87="FO"),1,0) -> 1 | Z87: 33 | AA87: =IF(OR(E87="C",E87="Cr"),S87,0) -> 0.27013889 | AF87: 0.68125 | AG87: 0.79652778
F88: =IF(AND(A87="X",B87="dim"),"",IF(AND(A87="X",E87="TC"),"",IF(A87="X","X",""))) | I88: =IF(E87="CA",1,0) -> 0 | J88: =IF(E87="TC",1,0) -> 0 | K88: =IF(E87="FNO",1,0) -> 0 | AC88: 41 | AD88: 10 | AE88: Fevrier | AF88: 0.5 | AG88: 0.76180556 | AH88: =IF(OR(E103="C",E103="Cr"),S103,0) -> 0.26180556 | AI88: =IF(OR($E103="C",$E103="Cr"),$S103,0) -> 0.26180556 | AJ88: 41 | AK88: 41 | AL88: =LARGE($AH$8:$AH$738,41) -> 0.29791667 | AM88: =INDEX($AC$8:$AJ$739,MATCH(AL88,$AI$8:$AI$739,0),1) -> 338
B89: ven | C89: 3 | D89: Fevrier | E89: C | I89: =IF(E89="repos",1,0) -> 0 | J89: =IF(E89="S",1,0) -> 0 | K89: =IF(E89="FO",1,0) -> 0 | L89: =IF(AND(B89="dim",M89=130),1,0) -> 0 | M89: 130 | N89: 0.015277778 | O89: 0.27013889 | P89: =IF(F89="X",D82,0)+IF(F90="X",D82,0)+IF(G89="X",D83,0)+IF(G90="X",D84,0)+H89+H90+IF(N89<N81,0,N89)+IF(N90<N81,0,N90) -> 0.015277778 | Q89: 0.55972222 | R89: 0.82986111 | S89: =(R89-Q89)+(R90-Q90) -> 0.27013889 | X89: =IF(OR(E89="C",E89="Cr",E89="FO"),1,0) -> 1 | Z89: 34 | AA89: =IF(OR(E89="C",E89="Cr"),S89,0) -> 0.27013889
F90: =IF(AND(A89="X",B89="dim"),"",IF(AND(A89="X",E89="TC"),"",IF(A89="X","X",""))) | I90: =IF(E89="CA",1,0) -> 0 | J90: =IF(E89="TC",1,0) -> 0 | K90: =IF(E89="FNO",1,0) -> 0 | AC90: 42 | AD90: 11 | AE90: Fevrier | AH90: =IF(OR(E105="C",E105="Cr"),S105,0) -> 0 | AI90: =IF(OR($E105="C",$E105="Cr"),$S105,0) -> 0 | AJ90: 42 | AK90: 42 | AL90: =LARGE($AH$8:$AH$738,42) -> 0.29791667 | AM90: =INDEX($AC$8:$AJ$739,MATCH(AL90,$AI$8:$AI$739,0),1) -> 171
B91: sam | C91: 4 | D91: Fevrier | E91: repos | I91: =IF(E91="repos",1,0) -> 1 | J91: =IF(E91="S",1,0) -> 0 | K91: =IF(E91="FO",1,0) -> 0 | L91: =IF(AND(B91="dim",M91=130),1,0) -> 0 | P91: =IF(F91="X",D82,0)+IF(F92="X",D82,0)+IF(G91="X",D83,0)+IF(G92="X",D84,0)+H91+H92+IF(N91<N81,0,N91)+IF(N92<N81,0,N92) -> 0 | S91: =(R91-Q91)+(R92-Q92) -> 0 | X91: =IF(OR(E91="C",E91="Cr",E91="FO"),1,0) -> 0 | Z91: 35 | AA91: =IF(OR(E91="C",E91="Cr"),S91,0) -> 0
F92: =IF(AND(A91="X",B91="dim"),"",IF(AND(A91="X",E91="TC"),"",IF(A91="X","X",""))) | I92: =IF(E91="CA",1,0) -> 0 | J92: =IF(E91="TC",1,0) -> 0 | K92: =IF(E91="FNO",1,0) -> 0 | AC92: 43 | AD92: 12 | AE92: Fevrier | AH92: =IF(OR(E107="C",E107="Cr"),S107,0) -> 0 | AI92: =IF(OR($E107="C",$E107="Cr"),$S107,0) -> 0 | AJ92: 43 | AK92: 43 | AL92: =LARGE($AH$8:$AH$738,43) -> 0.29583333 | AM92: =INDEX($AC$8:$AJ$739,MATCH(AL92,$AI$8:$AI$739,0),1) -> 153
B93: dim | C93: 5 | D93: Fevrier | E93: S | F93: X | I93: =IF(E93="repos",1,0) -> 0 | J93: =IF(E93="S",1,0) -> 1 | K93: =IF(E93="FO",1,0) -> 0 | L93: =IF(AND(B93="dim",M93=130),1,0) -> 1 | M93: 130 | P93: =IF(F93="X",D82,0)+IF(F94="X",D82,0)+IF(G93="X",D83,0)+IF(G94="X",D84,0)+H93+H94+IF(N93<N81,0,N93)+IF(N94<N81,0,N94) -> 0.27638889 | S93: =(R93-Q93)+(R94-Q94) -> 0 | X93: =IF(OR(E93="C",E93="Cr",E93="FO"),1,0) -> 0 | Z93: 36 | AA93: =IF(OR(E93="C",E93="Cr"),S93,0) -> 0
F94: =IF(AND(A93="X",B93="dim"),"",IF(AND(A93="X",E93="TC"),"",IF(A93="X","X",""))) | I94: =IF(E93="CA",1,0) -> 0 | J94: =IF(E93="TC",1,0) -> 0 | K94: =IF(E93="FNO",1,0) -> 0 | AC94: 44 | AD94: 13 | AE94: Fevrier | AH94: =IF(OR(E109="C",E109="Cr"),S109,0) -> 0 | AI94: =IF(OR($E109="C",$E109="Cr"),$S109,0) -> 0 | AJ94: 44 | AK94: 44 | AL94: =LARGE($AH$8:$AH$738,44) -> 0.29583333 | AM94: =INDEX($AC$8:$AJ$739,MATCH(AL94,$AI$8:$AI$739,0),1) -> 153
B95: lun | C95: 6 | D95: Fevrier | E95: C | I95: =IF(E95="repos",1,0) -> 0 | J95: =IF(E95="S",1,0) -> 0 | K95: =IF(E95="FO",1,0) -> 0 | L95: =IF(AND(B95="dim",M95=130),1,0) -> 0 | M95: 130 | O95: 0.26319444 | P95: =IF(F95="X",D82,0)+IF(F96="X",D82,0)+IF(G95="X",D83,0)+IF(G96="X",D84,0)+H95+H96+IF(N95<N81,0,N95)+IF(N96<N81,0,N96) -> 0 | Q95: 0.50069444 | R95: 0.76388889 | S95: =(R95-Q95)+(R96-Q96) -> 0.26319444 | X95: =IF(OR(E95="C",E95="Cr",E95="FO"),1,0) -> 1 | Z95: 37 | AA95: =IF(OR(E95="C",E95="Cr"),S95,0) -> 0.26319444
F96: =IF(AND(A95="X",B95="dim"),"",IF(AND(A95="X",E95="TC"),"",IF(A95="X","X",""))) | I96: =IF(E95="CA",1,0) -> 0 | J96: =IF(E95="TC",1,0) -> 0 | K96: =IF(E95="FNO",1,0) -> 0 | AC96: 45 | AD96: 14 | AE96: Fevrier | AF96: 0.77083333 | AG96: 1.04375 | AH96: =IF(OR(E111="C",E111="Cr"),S111,0) -> 0.27291667 | AI96: =IF(OR($E111="C",$E111="Cr"),$S111,0) -> 0.27291667 | AJ96: 45 | AK96: 45 | AL96: =LARGE($AH$8:$AH$738,45) -> 0.29583333 | AM96: =INDEX($AC$8:$AJ$739,MATCH(AL96,$AI$8:$AI$739,0),1) -> 153
B97: mar | C97: 7 | D97: Fevrier | E97: C | I97: =IF(E97="repos",1,0) -> 0 | J97: =IF(E97="S",1,0) -> 0 | K97: =IF(E97="FO",1,0) -> 0 | L97: =IF(AND(B97="dim",M97=130),1,0) -> 0 | M97: 130 | O97: 0.27986111 | P97: =IF(F97="X",D82,0)+IF(F98="X",D82,0)+IF(G97="X",D83,0)+IF(G98="X",D84,0)+H97+H98+IF(N97<N81,0,N97)+IF(N98<N81,0,N98) -> 0 | Q97: 0.67638889 | R97: 0.95625 | S97: =(R97-Q97)+(R98-Q98) -> 0.27986111 | X97: =IF(OR(E97="C",E97="Cr",E97="FO"),1,0) -> 1 | Z97: 38 | AA97: =IF(OR(E97="C",E97="Cr"),S97,0) -> 0.27986111
F98: =IF(AND(A97="X",B97="dim"),"",IF(AND(A97="X",E97="TC"),"",IF(A97="X","X",""))) | I98: =IF(E97="CA",1,0) -> 0 | J98: =IF(E97="TC",1,0) -> 0 | K98: =IF(E97="FNO",1,0) -> 0 | AC98: 46 | AD98: 15 | AE98: Fevrier | AF98: 0.77083333 | AG98: 1.04375 | AH98: =IF(OR(E113="C",E113="Cr"),S113,0) -> 0.27291667 | AI98: =IF(OR($E113="C",$E113="Cr"),$S113,0) -> 0.27291667 | AJ98: 46 | AK98: 46 | AL98: =LARGE($AH$8:$AH$738,46) -> 0.29513889 | AM98: =INDEX($AC$8:$AJ$739,MATCH(AL98,$AI$8:$AI$739,0),1) -> 76
B99: mer | C99: 8 | D99: Fevrier | E99: Cr | I99: =IF(E99="repos",1,0) -> 0 | J99: =IF(E99="S",1,0) -> 0 | K99: =IF(E99="FO",1,0) -> 0 | L99: =IF(AND(B99="dim",M99=130),1,0) -> 0 | M99: 90 | O99: 0.28888889 | P99: =IF(F99="X",D82,0)+IF(F100="X",D82,0)+IF(G99="X",D83,0)+IF(G100="X",D84,0)+H99+H100+IF(N99<N81,0,N99)+IF(N100<N81,0,N100) -> 0.013888889 | Q99: 0.25763889 | R99: 0.43125 | S99: =(R99-Q99)+(R100-Q100) -> 0.28888889 | X99: =IF(OR(E99="C",E99="Cr",E99="FO"),1,0) -> 1 | Z99: 39 | AA99: =IF(OR(E99="C",E99="Cr"),S99,0) -> 0.28888889
F100: =IF(AND(A99="X",B99="dim"),"",IF(AND(A99="X",E99="TC"),"",IF(A99="X","X",""))) | G100: X | I100: =IF(E99="CA",1,0) -> 0 | J100: =IF(E99="TC",1,0) -> 0 | K100: =IF(E99="FNO",1,0) -> 0 | Q100: 0.68125 | R100: 0.79652778 | AC100: 47 | AD100: 16 | AE100: Fevrier | AF100: 0.60277778 | AG100: 0.86388889 | AH100: =IF(OR(E115="C",E115="Cr"),S115,0) -> 0.26111111 | AI100: =IF(OR($E115="C",$E115="Cr"),$S115,0) -> 0.26111111 | AJ100: 47 | AK100: 47 | AL100: =LARGE($AH$8:$AH$738,47) -> 0.29375 | AM100: =INDEX($AC$8:$AJ$739,MATCH(AL100,$AI$8:$AI$739,0),1) -> 190
B101: jeu | C101: 9 | D101: Fevrier | E101: Cr | I101: =IF(E101="repos",1,0) -> 0 | J101: =IF(E101="S",1,0) -> 0 | K101: =IF(E101="FO",1,0) -> 0 | L101: =IF(AND(B101="dim",M101=130),1,0) -> 0 | M101: 59 | O101: 0.17361111 | P101: =IF(F101="X",D82,0)+IF(F102="X",D82,0)+IF(G101="X",D83,0)+IF(G102="X",D84,0)+H101+H102+IF(N101<N81,0,N101)+IF(N102<N81,0,N102) -> 0.013888889 | Q101: 0.25763889 | R101: 0.43125 | S101: =(R101-Q101)+(R102-Q102) -> 0.28888889 | X101: =IF(OR(E101="C",E101="Cr",E101="FO"),1,0) -> 1 | Z101: 40 | AA101: =IF(OR(E101="C",E101="Cr"),S101,0) -> 0.28888889
F102: =IF(AND(A101="X",B101="dim"),"",IF(AND(A101="X",E101="TC"),"",IF(A101="X","X",""))) | G102: X | I102: =IF(E101="CA",1,0) -> 0 | J102: =IF(E101="TC",1,0) -> 0 | K102: =IF(E101="FNO",1,0) -> 0 | M102: 130 | O102: 0.11527778 | Q102: 0.68125 | R102: 0.79652778 | AC102: 48 | AD102: 17 | AE102: Fevrier | AF102: 0.60277778 | AG102: 0.86388889 | AH102: =IF(OR(E117="C",E117="Cr"),S117,0) -> 0.26111111 | AI102: =IF(OR($E117="C",$E117="Cr"),$S117,0) -> 0.26111111 | AJ102: 48 | AK102: 48 | AL102: =LARGE($AH$8:$AH$738,48) -> 0.29236111 | AM102: =INDEX($AC$8:$AJ$739,MATCH(AL102,$AI$8:$AI$739,0),1) -> 181
...

Sheet 2017 olivier
O2: Solde N-1
O3: TS | P3: TC | Q3: CCF
N4: 0.010416667 | O4: 0 | P4: 0.97638889 | Q4: 1.075
B5: Période | D5: 0.27638889 | F5: S | M5: Pointage | N5: Retard | O5: Temps | P5: TS-TC-CCF | Q5: Début | R5: Fin | S5: Temps | X5: Jours
B6: H I S | D6: 0.041666667 | F6: € | G6: Hs | H6: Derog | I6: R | J6: S | K6: Fo | L6: D | N6: Brut | O6: sur | Q6: de service | S6: réellement | X6: comptés
B7: 2 x | D7: 0.013888889 | F7: Fe | G7: 2x | H7: TS div | I7: CA | J7: Tc | K7: FNO | O7: BMP | S7: effectué | X7: conduite
A8: X | B8: dim | C8: 1 | D8: Janvier | E8: REPOS | I8: =IF(E8="repos",1,0) -> 1 | J8: =IF(E8="S",1,0) -> 0 | K8: =IF(E8="FO",1,0) -> 0 | L8: =IF(AND(B8="dim",M8=130),1,0) -> 0 | M8: 660 | P8: =IF(F8="X",D5,0)+IF(F9="X",D5,0)+IF(G8="X",D6,0)+IF(G9="X",D7,0)+H8+H9+IF(N8<N4,0,N8)+IF(N9<N4,0,N9) -> 0 | S8: =(R8-Q8)+(R9-Q9) -> 0 | X8: =IF(OR(E8="C",E8="Cr",E8="FO"),1,0) -> 0 | Z8: 1 | AA8: =IF(OR(E8="C",E8="Cr"),S8,0) -> 0 | AC8: 1 | AD8: =IF(OR(E8="C",E8="Cr"),S8,0) -> 0 | AF8: 1 | AG8: =LARGE(AD8:AD738,1) -> 0.3125
F9: =IF(AND(A8="X",B8="dim"),"",IF(AND(A8="X",E8="TC"),"",IF(A8="X","X",""))) | I9: =IF(E8="CA",1,0) -> 0 | J9: =IF(E8="TC",1,0) -> 0 | K9: =IF(E8="FNO",1,0) -> 0
B10: lun | C10: 2 | D10: Janvier | E10: CA | I10: =IF(E10="repos",1,0) -> 0 | J10: =IF(E10="S",1,0) -> 0 | K10: =IF(E10="FO",1,0) -> 0 | L10: =IF(AND(B10="dim",M10=130),1,0) -> 0 | M10: 700 | P10: =IF(F10="X",D5,0)+IF(F11="X",D5,0)+IF(G10="X",D6,0)+IF(G11="X",D7,0)+H10+H11+IF(N10<N4,0,N10)+IF(N11<N4,0,N11) -> 0 | S10: =(R10-Q10)+(R11-Q11) -> 0 | X10: =IF(OR(E10="C",E10="Cr",E10="FO"),1,0) -> 0 | Z10: 2 | AA10: =IF(OR(E10="C",E10="Cr"),S10,0) -> 0 | AC10: 2 | AD10: =IF(OR(E10="C",E10="Cr"),S10,0) -> 0 | AF10: 2 | AG10: =LARGE(AD8:AD738,2) -> 0.3125
F11: =IF(AND(A10="X",B10="dim"),"",IF(AND(A10="X",E10="TC"),"",IF(A10="X","X",""))) | I11: =IF(E10="CA",1,0) -> 1 | J11: =IF(E10="TC",1,0) -> 0 | K11: =IF(E10="FNO",1,0) -> 0
B12: mar | C12: 3 | D12: Janvier | E12: CA | I12: =IF(E12="repos",1,0) -> 0 | J12: =IF(E12="S",1,0) -> 0 | K12: =IF(E12="FO",1,0) -> 0 | L12: =IF(AND(B12="dim",M12=130),1,0) -> 0 | M12: 700 | P12: =IF(F12="X",D5,0)+IF(F13="X",D5,0)+IF(G12="X",D6,0)+IF(G13="X",D7,0)+H12+H13+IF(N12<N4,0,N12)+IF(N13<N4,0,N13) -> 0 | S12: =(R12-Q12)+(R13-Q13) -> 0 | X12: =IF(OR(E12="C",E12="Cr",E12="FO"),1,0) -> 0 | Z12: 3 | AA12: =IF(OR(E12="C",E12="Cr"),S12,0) -> 0 | AC12: 3 | AD12: =IF(OR(E12="C",E12="Cr"),S12,0) -> 0 | AF12: 3 | AG12: =LARGE(AD8:AD738,3) -> 0.3125
F13: =IF(AND(A12="X",B12="dim"),"",IF(AND(A12="X",E12="TC"),"",IF(A12="X","X",""))) | I13: =IF(E12="CA",1,0) -> 1 | J13: =IF(E12="TC",1,0) -> 0 | K13: =IF(E12="FNO",1,0) -> 0
B14: mer | C14: 4 | D14: Janvier | E14: S | F14: x | H14: 0.020833333 | I14: =IF(E14="repos",1,0) -> 0 | J14: =IF(E14="S",1,0) -> 1 | K14: =IF(E14="FO",1,0) -> 0 | L14: =IF(AND(B14="dim",M14=130),1,0) -> 0 | M14: 130 | P14: =IF(F14="X",D5,0)+IF(F15="X",D5,0)+IF(G14="X",D6,0)+IF(G15="X",D7,0)+H14+H15+IF(N14<N4,0,N14)+IF(N15<N4,0,N15) -> 0.29722222 | S14: =(R14-Q14)+(R15-Q15) -> 0 | X14: =IF(OR(E14="C",E14="Cr",E14="FO"),1,0) -> 0 | Z14: 4 | AA14: =IF(OR(E14="C",E14="Cr"),S14,0) -> 0 | AC14: 4 | AD14: =IF(OR(E14="C",E14="Cr"),S14,0) -> 0 | AF14: 4 | AG14: =LARGE(AD8:AD738,4) -> 0.30972222
F15: =IF(AND(A14="X",B14="dim"),"",IF(AND(A14="X",E14="TC"),"",IF(A14="X","X",""))) | I15: =IF(E14="CA",1,0) -> 0 | J15: =IF(E14="TC",1,0) -> 0 | K15: =IF(E14="FNO",1,0) -> 0
B16: jeu | C16: 5 | D16: Janvier | E16: REPOS | I16: =IF(E16="repos",1,0) -> 1 | J16: =IF(E16="S",1,0) -> 0 | K16: =IF(E16="FO",1,0) -> 0 | L16: =IF(AND(B16="dim",M16=130),1,0) -> 0 | M16: 660 | P16: =IF(F16="X",D5,0)+IF(F17="X",D5,0)+IF(G16="X",D6,0)+IF(G17="X",D7,0)+H16+H17+IF(N16<N4,0,N16)+IF(N17<N4,0,N17) -> 0 | S16: =(R16-Q16)+(R17-Q17) -> 0 | X16: =IF(OR(E16="C",E16="Cr",E16="FO"),1,0) -> 0 | Z16: 5 | AA16: =IF(OR(E16="C",E16="Cr"),S16,0) -> 0 | AC16: 5 | AD16: =IF(OR(E16="C",E16="Cr"),S16,0) -> 0 | AF16: 5 | AG16: =LARGE(AD8:AD738,5) -> 0.30902778
F17: =IF(AND(A16="X",B16="dim"),"",IF(AND(A16="X",E16="TC"),"",IF(A16="X","X",""))) | I17: =IF(E16="CA",1,0) -> 0 | J17: =IF(E16="TC",1,0) -> 0 | K17: =IF(E16="FNO",1,0) -> 0
B18: ven | C18: 6 | D18: Janvier | E18: C | I18: =IF(E18="repos",1,0) -> 0 | J18: =IF(E18="S",1,0) -> 0 | K18: =IF(E18="FO",1,0) -> 0 | L18: =IF(AND(B18="dim",M18=130),1,0) -> 0 | M18: 130 | O18: 0.30555556 | P18: =IF(F18="X",D5,0)+IF(F19="X",D5,0)+IF(G18="X",D6,0)+IF(G19="X",D7,0)+H18+H19+IF(N18<N4,0,N18)+IF(N19<N4,0,N19) -> 0 | Q18: 0.23472222 | R18: 0.50763889 | S18: =(R18-Q18)+(R19-Q19) -> 0.27291667 | X18: =IF(OR(E18="C",E18="Cr",E18="FO"),1,0) -> 1 | Z18: 6 | AA18: =IF(OR(E18="C",E18="Cr"),S18,0) -> 0.27291667 | AC18: 6 | AD18: =IF(OR(E18="C",E18="Cr"),S18,0) -> 0.27291667 | AF18: 6 | AG18: =LARGE(AD8:AD738,6) -> 0.30763889
F19: =IF(AND(A18="X",B18="dim"),"",IF(AND(A18="X",E18="TC"),"",IF(A18="X","X",""))) | I19: =IF(E18="CA",1,0) -> 0 | J19: =IF(E18="TC",1,0) -> 0 | K19: =IF(E18="FNO",1,0) -> 0
B20: sam | C20: 7 | D20: Janvier | E20: C | I20: =IF(E20="repos",1,0) -> 0 | J20: =IF(E20="S",1,0) -> 0 | K20: =IF(E20="FO",1,0) -> 0 | L20: =IF(AND(B20="dim",M20=130),1,0) -> 0 | M20: 132 | O20: 0.23888889 | P20: =IF(F20="X",D5,0)+IF(F21="X",D5,0)+IF(G20="X",D6,0)+IF(G21="X",D7,0)+H20+H21+IF(N20<N4,0,N20)+IF(N21<N4,0,N21) -> 0 | Q20: 0.18402778 | R20: 0.42013889 | S20: =(R20-Q20)+(R21-Q21) -> 0.23611111 | X20: =IF(OR(E20="C",E20="Cr",E20="FO"),1,0) -> 1 | Z20: 7 | AA20: =IF(OR(E20="C",E20="Cr"),S20,0) -> 0.23611111 | AC20: 7 | AD20: =IF(OR(E20="C",E20="Cr"),S20,0) -> 0.23611111 | AF20: 7 | AG20: =LARGE(AD8:AD738,7) -> 0.30486111
F21: =IF(AND(A20="X",B20="dim"),"",IF(AND(A20="X",E20="TC"),"",IF(A20="X","X",""))) | I21: =IF(E20="CA",1,0) -> 0 | J21: =IF(E20="TC",1,0) -> 0 | K21: =IF(E20="FNO",1,0) -> 0
B22: dim | C22: 8 | D22: Janvier | E22: REPOS | I22: =IF(E22="repos",1,0) -> 1 | J22: =IF(E22="S",1,0) -> 0 | K22: =IF(E22="FO",1,0) -> 0 | L22: =IF(AND(B22="dim",M22=130),1,0) -> 0 | M22: 661 | P22: =IF(F22="X",D5,0)+IF(F23="X",D5,0)+IF(G22="X",D6,0)+IF(G23="X",D7,0)+H22+H23+IF(N22<N4,0,N22)+IF(N23<N4,0,N23) -> 0 | S22: =(R22-Q22)+(R23-Q23) -> 0 | X22: =IF(OR(E22="C",E22="Cr",E22="FO"),1,0) -> 0 | Z22: 8 | AA22: =IF(OR(E22="C",E22="Cr"),S22,0) -> 0 | AC22: 8 | AD22: =IF(OR(E22="C",E22="Cr"),S22,0) -> 0 | AF22: 8 | AG22: =LARGE(AD8:AD738,8) -> 0.30486111
F23: =IF(AND(A22="X",B22="dim"),"",IF(AND(A22="X",E22="TC"),"",IF(A22="X","X",""))) | I23: =IF(E22="CA",1,0) -> 0 | J23: =IF(E22="TC",1,0) -> 0 | K23: =IF(E22="FNO",1,0) -> 0
B24: lun | C24: 9 | D24: Janvier | E24: CR | I24: =IF(E24="repos",1,0) -> 0 | J24: =IF(E24="S",1,0) -> 0 | K24: =IF(E24="FO",1,0) -> 0 | L24: =IF(AND(B24="dim",M24=130),1,0) -> 0 | M24: 60 | O24: 0.26041667 | P24: =IF(F24="X",D5,0)+IF(F25="X",D5,0)+IF(G24="X",D6,0)+IF(G25="X",D7,0)+H24+H25+IF(N24<N4,0,N24)+IF(N25<N4,0,N25) -> 0 | Q24: 0.18402778 | R24: 0.44444444 | S24: =(R24-Q24)+(R25-Q25) -> 0.26041667 | X24: =IF(OR(E24="C",E24="Cr",E24="FO"),1,0) -> 1 | Z24: 9 | AA24: =IF(OR(E24="C",E24="Cr"),S24,0) -> 0.26041667 | AC24: 9 | AD24: =IF(OR(E24="C",E24="Cr"),S24,0) -> 0.26041667 | AF24: 9 | AG24: =LARGE(AD8:AD738,9) -> 0.30416667
F25: =IF(AND(A24="X",B24="dim"),"",IF(AND(A24="X",E24="TC"),"",IF(A24="X","X",""))) | I25: =IF(E24="CA",1,0) -> 0 | J25: =IF(E24="TC",1,0) -> 0 | K25: =IF(E24="FNO",1,0) -> 0
B26: mar | C26: 10 | D26: Janvier | E26: C | I26: =IF(E26="repos",1,0) -> 0 | J26: =IF(E26="S",1,0) -> 0 | K26: =IF(E26="FO",1,0) -> 0 | L26: =IF(AND(B26="dim",M26=130),1,0) -> 0 | M26: 132 | N26: 0.015277778 | O26: 0.25625 | P26: =IF(F26="X",D5,0)+IF(F27="X",D5,0)+IF(G26="X",D6,0)+IF(G27="X",D7,0)+H26+H27+IF(N26<N4,0,N26)+IF(N27<N4,0,N27) -> 0.015277778 | Q26: 0.20486111 | R26: 0.46111111 | S26: =(R26-Q26)+(R27-Q27) -> 0.25625 | X26: =IF(OR(E26="C",E26="Cr",E26="FO"),1,0) -> 1 | Z26: 10 | AA26: =IF(OR(E26="C",E26="Cr"),S26,0) -> 0.25625 | AC26: 10 | AD26: =IF(OR(E26="C",E26="Cr"),S26,0) -> 0.25625 | AF26: 10 | AG26: =LARGE(AD8:AD738,10) -> 0.30416667
F27: =IF(AND(A26="X",B26="dim"),"",IF(AND(A26="X",E26="TC"),"",IF(A26="X","X",""))) | I27: =IF(E26="CA",1,0) -> 0 | J27: =IF(E26="TC",1,0) -> 0 | K27: =IF(E26="FNO",1,0) -> 0
B28: mer | C28: 11 | D28: Janvier | E28: C | I28: =IF(E28="repos",1,0) -> 0 | J28: =IF(E28="S",1,0) -> 0 | K28: =IF(E28="FO",1,0) -> 0 | L28: =IF(AND(B28="dim",M28=130),1,0) -> 0 | M28: 130 | O28: 0.25208333 | P28: =IF(F28="X",D5,0)+IF(F29="X",D5,0)+IF(G28="X",D6,0)+IF(G29="X",D7,0)+H28+H29+IF(N28<N4,0,N28)+IF(N29<N4,0,N29) -> 0 | Q28: 0.25 | R28: 0.50208333 | S28: =(R28-Q28)+(R29-Q29) -> 0.25208333 | X28: =IF(OR(E28="C",E28="Cr",E28="FO"),1,0) -> 1 | Z28: 11 | AA28: =IF(OR(E28="C",E28="Cr"),S28,0) -> 0.25208333 | AC28: 11 | AD28: =IF(OR(E28="C",E28="Cr"),S28,0) -> 0.25208333 | AF28: 11 | AG28: =LARGE(AD8:AD738,11) -> 0.30416667
F29: =IF(AND(A28="X",B28="dim"),"",IF(AND(A28="X",E28="TC"),"",IF(A28="X","X",""))) | I29: =IF(E28="CA",1,0) -> 0 | J29: =IF(E28="TC",1,0) -> 0 | K29: =IF(E28="FNO",1,0) -> 0 | M29: 30
B30: jeu | C30: 12 | D30: Janvier | E30: S | F30: x | H30: 0.014583333 | I30: =IF(E30="repos",1,0) -> 0 | J30: =IF(E30="S",1,0) -> 1 | K30: =IF(E30="FO",1,0) -> 0 | L30: =IF(AND(B30="dim",M30=130),1,0) -> 0 | M30: 130 | P30: =IF(F30="X",D5,0)+IF(F31="X",D5,0)+IF(G30="X",D6,0)+IF(G31="X",D7,0)+H30+H31+IF(N30<N4,0,N30)+IF(N31<N4,0,N31) -> 0.29097222 | S30: =(R30-Q30)+(R31-Q31) -> 0 | X30: =IF(OR(E30="C",E30="Cr",E30="FO"),1,0) -> 0 | Z30: 12 | AA30: =IF(OR(E30="C",E30="Cr"),S30,0) -> 0 | AC30: 12 | AD30: =IF(OR(E30="C",E30="Cr"),S30,0) -> 0 | AF30: 12 | AG30: =LARGE(AD8:AD738,12) -> 0.30416667
F31: =IF(AND(A30="X",B30="dim"),"",IF(AND(A30="X",E30="TC"),"",IF(A30="X","X",""))) | I31: =IF(E30="CA",1,0) -> 0 | J31: =IF(E30="TC",1,0) -> 0 | K31: =IF(E30="FNO",1,0) -> 0
B32: ven | C32: 13 | D32: Janvier | E32: REPOS | I32: =IF(E32="repos",1,0) -> 1 | J32: =IF(E32="S",1,0) -> 0 | K32: =IF(E32="FO",1,0) -> 0 | L32: =IF(AND(B32="dim",M32=130),1,0) -> 0 | M32: 660 | P32: =IF(F32="X",D5,0)+IF(F33="X",D5,0)+IF(G32="X",D6,0)+IF(G33="X",D7,0)+H32+H33+IF(N32<N4,0,N32)+IF(N33<N4,0,N33) -> 0 | S32: =(R32-Q32)+(R33-Q33) -> 0 | X32: =IF(OR(E32="C",E32="Cr",E32="FO"),1,0) -> 0 | Z32: 13 | AA32: =IF(OR(E32="C",E32="Cr"),S32,0) -> 0 | AC32: 13 | AD32: =IF(OR(E32="C",E32="Cr"),S32,0) -> 0 | AF32: 13 | AG32: =LARGE(AD8:AD738,13) -> 0.30416667
F33: =IF(AND(A32="X",B32="dim"),"",IF(AND(A32="X",E32="TC"),"",IF(A32="X","X",""))) | I33: =IF(E32="CA",1,0) -> 0 | J33: =IF(E32="TC",1,0) -> 0 | K33: =IF(E32="FNO",1,0) -> 0
B34: sam | C34: 14 | D34: Janvier | E34: C | I34: =IF(E34="repos",1,0) -> 0 | J34: =IF(E34="S",1,0) -> 0 | K34: =IF(E34="FO",1,0) -> 0 | L34: =IF(AND(B34="dim",M34=130),1,0) -> 0 | M34: 132 | O34: 0.23194444 | P34: =IF(F34="X",D5,0)+IF(F35="X",D5,0)+IF(G34="X",D6,0)+IF(G35="X",D7,0)+H34+H35+IF(N34<N4,0,N34)+IF(N35<N4,0,N35) -> 0 | Q34: 0.19791667 | R34: 0.42708333 | S34: =(R34-Q34)+(R35-Q35) -> 0.22916667 | X34: =IF(OR(E34="C",E34="Cr",E34="FO"),1,0) -> 1 | Z34: 14 | AA34: =IF(OR(E34="C",E34="Cr"),S34,0) -> 0.22916667 | AC34: 14 | AD34: =IF(OR(E34="C",E34="Cr"),S34,0) -> 0.22916667 | AF34: 14 | AG34: =LARGE(AD8:AD738,14) -> 0.30416667
F35: =IF(AND(A34="X",B34="dim"),"",IF(AND(A34="X",E34="TC"),"",IF(A34="X","X",""))) | I35: =IF(E34="CA",1,0) -> 0 | J35: =IF(E34="TC",1,0) -> 0 | K35: =IF(E34="FNO",1,0) -> 0
B36: dim | C36: 15 | D36: Janvier | E36: REPOS | I36: =IF(E36="repos",1,0) -> 1 | J36: =IF(E36="S",1,0) -> 0 | K36: =IF(E36="FO",1,0) -> 0 | L36: =IF(AND(B36="dim",M36=130),1,0) -> 0 | M36: 661 | P36: =IF(F36="X",D5,0)+IF(F37="X",D5,0)+IF(G36="X",D6,0)+IF(G37="X",D7,0)+H36+H37+IF(N36<N4,0,N36)+IF(N37<N4,0,N37) -> 0 | S36: =(R36-Q36)+(R37-Q37) -> 0 | X36: =IF(OR(E36="C",E36="Cr",E36="FO"),1,0) -> 0 | Z36: 15 | AA36: =IF(OR(E36="C",E36="Cr"),S36,0) -> 0 | AC36: 15 | AD36: =IF(OR(E36="C",E36="Cr"),S36,0) -> 0 | AF36: 15 | AG36: =LARGE(AD8:AD738,15) -> 0.30416667
F37: =IF(AND(A36="X",B36="dim"),"",IF(AND(A36="X",E36="TC"),"",IF(A36="X","X",""))) | I37: =IF(E36="CA",1,0) -> 0 | J37: =IF(E36="TC",1,0) -> 0 | K37: =IF(E36="FNO",1,0) -> 0
B38: lun | C38: 16 | D38: Janvier | E38: C | I38: =IF(E38="repos",1,0) -> 0 | J38: =IF(E38="S",1,0) -> 0 | K38: =IF(E38="FO",1,0) -> 0 | L38: =IF(AND(B38="dim",M38=130),1,0) -> 0 | M38: 132 | O38: 0.25555556 | P38: =IF(F38="X",D5,0)+IF(F39="X",D5,0)+IF(G38="X",D6,0)+IF(G39="X",D7,0)+H38+H39+IF(N38<N4,0,N38)+IF(N39<N4,0,N39) -> 0 | Q38: 0.19444444 | R38: 0.45 | S38: =(R38-Q38)+(R39-Q39) -> 0.25555556 | X38: =IF(OR(E38="C",E38="Cr",E38="FO"),1,0) -> 1 | Z38: 16 | AA38: =IF(OR(E38="C",E38="Cr"),S38,0) -> 0.25555556 | AC38: 16 | AD38: =IF(OR(E38="C",E38="Cr"),S38,0) -> 0.25555556 | AF38: 16 | AG38: =LARGE(AD8:AD738,16) -> 0.30416667
F39: =IF(AND(A38="X",B38="dim"),"",IF(AND(A38="X",E38="TC"),"",IF(A38="X","X",""))) | I39: =IF(E38="CA",1,0) -> 0 | J39: =IF(E38="TC",1,0) -> 0 | K39: =IF(E38="FNO",1,0) -> 0
B40: mar | C40: 17 | D40: Janvier | E40: C | G40: x | I40: =IF(E40="repos",1,0) -> 0 | J40: =IF(E40="S",1,0) -> 0 | K40: =IF(E40="FO",1,0) -> 0 | L40: =IF(AND(B40="dim",M40=130),1,0) -> 0 | M40: 132 | N40: 0.019444444 | O40: 0.25555556 | P40: =IF(F40="X",D5,0)+IF(F41="X",D5,0)+IF(G40="X",D6,0)+IF(G41="X",D7,0)+H40+H41+IF(N40<N4,0,N40)+IF(N41<N4,0,N41) -> 0.061111111 | Q40: 0.19444444 | R40: 0.45 | S40: =(R40-Q40)+(R41-Q41) -> 0.25555556 | X40: =IF(OR(E40="C",E40="Cr",E40="FO"),1,0) -> 1 | Z40: 17 | AA40: =IF(OR(E40="C",E40="Cr"),S40,0) -> 0.25555556 | AC40: 17 | AD40: =IF(OR(E40="C",E40="Cr"),S40,0) -> 0.25555556 | AF40: 17 | AG40: =LARGE(AD8:AD738,17) -> 0.30416667
F41: =IF(AND(A40="X",B40="dim"),"",IF(AND(A40="X",E40="TC"),"",IF(A40="X","X",""))) | I41: =IF(E40="CA",1,0) -> 0 | J41: =IF(E40="TC",1,0) -> 0 | K41: =IF(E40="FNO",1,0) -> 0
B42: mer | C42: 18 | D42: Janvier | E42: C | I42: =IF(E42="repos",1,0) -> 0 | J42: =IF(E42="S",1,0) -> 0 | K42: =IF(E42="FO",1,0) -> 0 | L42: =IF(AND(B42="dim",M42=130),1,0) -> 0 | M42: 132 | O42: 0.25555556 | P42: =IF(F42="X",D5,0)+IF(F43="X",D5,0)+IF(G42="X",D6,0)+IF(G43="X",D7,0)+H42+H43+IF(N42<N4,0,N42)+IF(N43<N4,0,N43) -> 0 | Q42: 0.19444444 | R42: 0.45 | S42: =(R42-Q42)+(R43-Q43) -> 0.25555556 | X42: =IF(OR(E42="C",E42="Cr",E42="FO"),1,0) -> 1 | Z42: 18 | AA42: =IF(OR(E42="C",E42="Cr"),S42,0) -> 0.25555556 | AC42: 18 | AD42: =IF(OR(E42="C",E42="Cr"),S42,0) -> 0.25555556 | AF42: 18 | AG42: =LARGE(AD8:AD738,18) -> 0.30416667
F43: =IF(AND(A42="X",B42="dim"),"",IF(AND(A42="X",E42="TC"),"",IF(A42="X","X",""))) | I43: =IF(E42="CA",1,0) -> 0 | J43: =IF(E42="TC",1,0) -> 0 | K43: =IF(E42="FNO",1,0) -> 0
B44: jeu | C44: 19 | D44: Janvier | E44: REPOS | I44: =IF(E44="repos",1,0) -> 1 | J44: =IF(E44="S",1,0) -> 0 | K44: =IF(E44="FO",1,0) -> 0 | L44: =IF(AND(B44="dim",M44=130),1,0) -> 0 | M44: 660 | P44: =IF(F44="X",D5,0)+IF(F45="X",D5,0)+IF(G44="X",D6,0)+IF(G45="X",D7,0)+H44+H45+IF(N44<N4,0,N44)+IF(N45<N4,0,N45) -> 0 | S44: =(R44-Q44)+(R45-Q45) -> 0 | X44: =IF(OR(E44="C",E44="Cr",E44="FO"),1,0) -> 0 | Z44: 19 | AA44: =IF(OR(E44="C",E44="Cr"),S44,0) -> 0 | AC44: 19 | AD44: =IF(OR(E44="C",E44="Cr"),S44,0) -> 0 | AF44: 19 | AG44: =LARGE(AD8:AD738,19) -> 0.30416667
F45: =IF(AND(A44="X",B44="dim"),"",IF(AND(A44="X",E44="TC"),"",IF(A44="X","X",""))) | I45: =IF(E44="CA",1,0) -> 0 | J45: =IF(E44="TC",1,0) -> 0 | K45: =IF(E44="FNO",1,0) -> 0
B46: ven | C46: 20 | D46: Janvier | E46: S | F46: x | H46: 0.020833333 | I46: =IF(E46="repos",1,0) -> 0 | J46: =IF(E46="S",1,0) -> 1 | K46: =IF(E46="FO",1,0) -> 0 | L46: =IF(AND(B46="dim",M46=130),1,0) -> 0 | M46: 130 | P46: =IF(F46="X",D5,0)+IF(F47="X",D5,0)+IF(G46="X",D6,0)+IF(G47="X",D7,0)+H46+H47+IF(N46<N4,0,N46)+IF(N47<N4,0,N47) -> 0.29722222 | S46: =(R46-Q46)+(R47-Q47) -> 0 | X46: =IF(OR(E46="C",E46="Cr",E46="FO"),1,0) -> 0 | Z46: 20 | AA46: =IF(OR(E46="C",E46="Cr"),S46,0) -> 0 | AC46: 20 | AD46: =IF(OR(E46="C",E46="Cr"),S46,0) -> 0 | AF46: 20 | AG46: =LARGE(AD8:AD738,20) -> 0.30416667
F47: =IF(AND(A46="X",B46="dim"),"",IF(AND(A46="X",E46="TC"),"",IF(A46="X","X",""))) | I47: =IF(E46="CA",1,0) -> 0 | J47: =IF(E46="TC",1,0) -> 0 | K47: =IF(E46="FNO",1,0) -> 0
B48: sam | C48: 21 | D48: Janvier | E48: S | F48: x | H48: 0.020833333 | I48: =IF(E48="repos",1,0) -> 0 | J48: =IF(E48="S",1,0) -> 1 | K48: =IF(E48="FO",1,0) -> 0 | L48: =IF(AND(B48="dim",M48=130),1,0) -> 0 | M48: 130 | P48: =IF(F48="X",D5,0)+IF(F49="X",D5,0)+IF(G48="X",D6,0)+IF(G49="X",D7,0)+H48+H49+IF(N48<N4,0,N48)+IF(N49<N4,0,N49) -> 0.29722222 | S48: =(R48-Q48)+(R49-Q49) -> 0 | X48: =IF(OR(E48="C",E48="Cr",E48="FO"),1,0) -> 0 | Z48: 21 | AA48: =IF(OR(E48="C",E48="Cr"),S48,0) -> 0 | AC48: 21 | AD48: =IF(OR(E48="C",E48="Cr"),S48,0) -> 0 | AF48: 21 | AG48: =LARGE(AD8:AD738,21) -> 0.30416667
F49: =IF(AND(A48="X",B48="dim"),"",IF(AND(A48="X",E48="TC"),"",IF(A48="X","X",""))) | I49: =IF(E48="CA",1,0) -> 0 | J49: =IF(E48="TC",1,0) -> 0 | K49: =IF(E48="FNO",1,0) -> 0
B50: dim | C50: 22 | D50: Janvier | E50: REPOS | I50: =IF(E50="repos",1,0) -> 1 | J50: =IF(E50="S",1,0) -> 0 | K50: =IF(E50="FO",1,0) -> 0 | L50: =IF(AND(B50="dim",M50=130),1,0) -> 0 | M50: 660 | P50: =IF(F50="X",D5,0)+IF(F51="X",D5,0)+IF(G50="X",D6,0)+IF(G51="X",D7,0)+H50+H51+IF(N50<N4,0,N50)+IF(N51<N4,0,N51) -> 0 | S50: =(R50-Q50)+(R51-Q51) -> 0 | X50: =IF(OR(E50="C",E50="Cr",E50="FO"),1,0) -> 0 | Z50: 22 | AA50: =IF(OR(E50="C",E50="Cr"),S50,0) -> 0 | AC50: 22 | AD50: =IF(OR(E50="C",E50="Cr"),S50,0) -> 0 | AF50: 22 | AG50: =LARGE(AD8:AD738,22) -> 0.30277778
F51: =IF(AND(A50="X",B50="dim"),"",IF(AND(A50="X",E50="TC"),"",IF(A50="X","X",""))) | I51: =IF(E50="CA",1,0) -> 0 | J51: =IF(E50="TC",1,0) -> 0 | K51: =IF(E50="FNO",1,0) -> 0
B52: lun | C52: 23 | D52: Janvier | E52: C | I52: =IF(E52="repos",1,0) -> 0 | J52: =IF(E52="S",1,0) -> 0 | K52: =IF(E52="FO",1,0) -> 0 | L52: =IF(AND(B52="dim",M52=130),1,0) -> 0 | M52: 132 | O52: 0.25625 | P52: =IF(F52="X",D5,0)+IF(F53="X",D5,0)+IF(G52="X",D6,0)+IF(G53="X",D7,0)+H52+H53+IF(N52<N4,0,N52)+IF(N53<N4,0,N53) -> 0 | Q52: 0.20486111 | R52: 0.46111111 | S52: =(R52-Q52)+(R53-Q53) -> 0.25625 | X52: =IF(OR(E52="C",E52="Cr",E52="FO"),1,0) -> 1 | Z52: 23 | AA52: =IF(OR(E52="C",E52="Cr"),S52,0) -> 0.25625 | AC52: 23 | AD52: =IF(OR(E52="C",E52="Cr"),S52,0) -> 0.25625 | AF52: 23 | AG52: =LARGE(AD8:AD738,123) -> 0.25555556
F53: =IF(AND(A52="X",B52="dim"),"",IF(AND(A52="X",E52="TC"),"",IF(A52="X","X",""))) | I53: =IF(E52="CA",1,0) -> 0 | J53: =IF(E52="TC",1,0) -> 0 | K53: =IF(E52="FNO",1,0) -> 0
B54: mar | C54: 24 | D54: Janvier | E54: C | I54: =IF(E54="repos",1,0) -> 0 | J54: =IF(E54="S",1,0) -> 0 | K54: =IF(E54="FO",1,0) -> 0 | L54: =IF(AND(B54="dim",M54=130),1,0) -> 0 | M54: 132 | O54: 0.25625 | P54: =IF(F54="X",D5,0)+IF(F55="X",D5,0)+IF(G54="X",D6,0)+IF(G55="X",D7,0)+H54+H55+IF(N54<N4,0,N54)+IF(N55<N4,0,N55) -> 0 | Q54: 0.20486111 | R54: 0.46111111 | S54: =(R54-Q54)+(R55-Q55) -> 0.25625 | X54: =IF(OR(E54="C",E54="Cr",E54="FO"),1,0) -> 1 | Z54: 24 | AA54: =IF(OR(E54="C",E54="Cr"),S54,0) -> 0.25625 | AC54: 24 | AD54: =IF(OR(E54="C",E54="Cr"),S54,0) -> 0.25625 | AF54: 24 | AG54: =LARGE(AD8:AD738,24) -> 0.29861111
F55: =IF(AND(A54="X",B54="dim"),"",IF(AND(A54="X",E54="TC"),"",IF(A54="X","X",""))) | I55: =IF(E54="CA",1,0) -> 0 | J55: =IF(E54="TC",1,0) -> 0 | K55: =IF(E54="FNO",1,0) -> 0
B56: mer | C56: 25 | D56: Janvier | E56: C | I56: =IF(E56="repos",1,0) -> 0 | J56: =IF(E56="S",1,0) -> 0 | K56: =IF(E56="FO",1,0) -> 0 | L56: =IF(AND(B56="dim",M56=130),1,0) -> 0 | M56: 132 | O56: 0.25625 | P56: =IF(F56="X",D5,0)+IF(F57="X",D5,0)+IF(G56="X",D6,0)+IF(G57="X",D7,0)+H56+H57+IF(N56<N4,0,N56)+IF(N57<N4,0,N57) -> 0 | Q56: 0.20486111 | R56: 0.46111111 | S56: =(R56-Q56)+(R57-Q57) -> 0.25625 | X56: =IF(OR(E56="C",E56="Cr",E56="FO"),1,0) -> 1 | Z56: 25 | AA56: =IF(OR(E56="C",E56="Cr"),S56,0) -> 0.25625 | AC56: 25 | AD56: =IF(OR(E56="C",E56="Cr"),S56,0) -> 0.25625 | AF56: 25 | AG56: =LARGE(AD8:AD738,25) -> 0.29861111
F57: =IF(AND(A56="X",B56="dim"),"",IF(AND(A56="X",E56="TC"),"",IF(A56="X","X",""))) | I57: =IF(E56="CA",1,0) -> 0 | J57: =IF(E56="TC",1,0) -> 0 | K57: =IF(E56="FNO",1,0) -> 0
B58: jeu | C58: 26 | D58: Janvier | E58: C | I58: =IF(E58="repos",1,0) -> 0 | J58: =IF(E58="S",1,0) -> 0 | K58: =IF(E58="FO",1,0) -> 0 | L58: =IF(AND(B58="dim",M58=130),1,0) -> 0 | M58: 132 | O58: 0.25625 | P58: =IF(F58="X",D5,0)+IF(F59="X",D5,0)+IF(G58="X",D6,0)+IF(G59="X",D7,0)+H58+H59+IF(N58<N4,0,N58)+IF(N59<N4,0,N59) -> 0 | Q58: 0.20486111 | R58: 0.46111111 | S58: =(R58-Q58)+(R59-Q59) -> 0.25625 | X58: =IF(OR(E58="C",E58="Cr",E58="FO"),1,0) -> 1 | Z58: 26 | AA58: =IF(OR(E58="C",E58="Cr"),S58,0) -> 0.25625 | AC58: 26 | AD58: =IF(OR(E58="C",E58="Cr"),S58,0) -> 0.25625 | AF58: 26 | AG58: =LARGE(AD8:AD738,26) -> 0.29861111
F59: =IF(AND(A58="X",B58="dim"),"",IF(AND(A58="X",E58="TC"),"",IF(A58="X","X",""))) | I59: =IF(E58="CA",1,0) -> 0 | J59: =IF(E58="TC",1,0) -> 0 | K59: =IF(E58="FNO",1,0) -> 0
B60: ven | C60: 27 | D60: Janvier | E60: C | I60: =IF(E60="repos",1,0) -> 0 | J60: =IF(E60="S",1,0) -> 0 | K60: =IF(E60="FO",1,0) -> 0 | L60: =IF(AND(B60="dim",M60=130),1,0) -> 0 | M60: 132 | N60: 0.020833333 | O60: 0.25625 | P60: =IF(F60="X",D5,0)+IF(F61="X",D5,0)+IF(G60="X",D6,0)+IF(G61="X",D7,0)+H60+H61+IF(N60<N4,0,N60)+IF(N61<N4,0,N61) -> 0.020833333 | Q60: 0.20486111 | R60: 0.46111111 | S60: =(R60-Q60)+(R61-Q61) -> 0.25625 | X60: =IF(OR(E60="C",E60="Cr",E60="FO"),1,0) -> 1 | Z60: 27 | AA60: =IF(OR(E60="C",E60="Cr"),S60,0) -> 0.25625 | AC60: 27 | AD60: =IF(OR(E60="C",E60="Cr"),S60,0) -> 0.25625 | AF60: 27 | AG60: =LARGE(AD8:AD738,27) -> 0.29861111
F61: =IF(AND(A60="X",B60="dim"),"",IF(AND(A60="X",E60="TC"),"",IF(A60="X","X",""))) | I61: =IF(E60="CA",1,0) -> 0 | J61: =IF(E60="TC",1,0) -> 0 | K61: =IF(E60="FNO",1,0) -> 0
B62: sam | C62: 28 | D62: Janvier | E62: S | F62: x | H62: 0.020833333 | I62: =IF(E62="repos",1,0) -> 0 | J62: =IF(E62="S",1,0) -> 1 | K62: =IF(E62="FO",1,0) -> 0 | L62: =IF(AND(B62="dim",M62=130),1,0) -> 0 | M62: 130 | P62: =IF(F62="X",D5,0)+IF(F63="X",D5,0)+IF(G62="X",D6,0)+IF(G63="X",D7,0)+H62+H63+IF(N62<N4,0,N62)+IF(N63<N4,0,N63) -> 0.29722222 | S62: =(R62-Q62)+(R63-Q63) -> 0 | X62: =IF(OR(E62="C",E62="Cr",E62="FO"),1,0) -> 0 | Z62: 28 | AA62: =IF(OR(E62="C",E62="Cr"),S62,0) -> 0 | AC62: 28 | AD62: =IF(OR(E62="C",E62="Cr"),S62,0) -> 0 | AF62: 28 | AG62: =LARGE(AD8:AD738,28) -> 0.29652778
F63: =IF(AND(A62="X",B62="dim"),"",IF(AND(A62="X",E62="TC"),"",IF(A62="X","X",""))) | I63: =IF(E62="CA",1,0) -> 0 | J63: =IF(E62="TC",1,0) -> 0 | K63: =IF(E62="FNO",1,0) -> 0
B64: dim | C64: 29 | D64: Janvier | E64: REPOS | I64: =IF(E64="repos",1,0) -> 1 | J64: =IF(E64="S",1,0) -> 0 | K64: =IF(E64="FO",1,0) -> 0 | L64: =IF(AND(B64="dim",M64=130),1,0) -> 0 | M64: 660 | P64: =IF(F64="X",D5,0)+IF(F65="X",D5,0)+IF(G64="X",D6,0)+IF(G65="X",D7,0)+H64+H65+IF(N64<N4,0,N64)+IF(N65<N4,0,N65) -> 0 | S64: =(R64-Q64)+(R65-Q65) -> 0 | X64: =IF(OR(E64="C",E64="Cr",E64="FO"),1,0) -> 0 | Z64: 29 | AA64: =IF(OR(E64="C",E64="Cr"),S64,0) -> 0 | AC64: 29 | AD64: =IF(OR(E64="C",E64="Cr"),S64,0) -> 0 | AF64: 29 | AG64: =LARGE(AD8:AD738,29) -> 0.29652778
F65: =IF(AND(A64="X",B64="dim"),"",IF(AND(A64="X",E64="TC"),"",IF(A64="X","X",""))) | I65: =IF(E64="CA",1,0) -> 0 | J65: =IF(E64="TC",1,0) -> 0 | K65: =IF(E64="FNO",1,0) -> 0
B66: lun | C66: 30 | D66: Janvier | E66: C | I66: =IF(E66="repos",1,0) -> 0 | J66: =IF(E66="S",1,0) -> 0 | K66: =IF(E66="FO",1,0) -> 0 | L66: =IF(AND(B66="dim",M66=130),1,0) -> 0 | M66: 130 | O66: 0.17083333 | P66: =IF(F66="X",D5,0)+IF(F67="X",D5,0)+IF(G66="X",D6,0)+IF(G67="X",D7,0)+H66+H67+IF(N66<N4,0,N66)+IF(N67<N4,0,N67) -> 0.050694444 | Q66: 0.19861111 | R66: 0.36944444 | S66: =(R66-Q66)+(R67-Q67) -> 0.17083333 | X66: =IF(OR(E66="C",E66="Cr",E66="FO"),1,0) -> 1 | Z66: 30 | AA66: =IF(OR(E66="C",E66="Cr"),S66,0) -> 0.17083333 | AC66: 30 | AD66: =IF(OR(E66="C",E66="Cr"),S66,0) -> 0.17083333 | AF66: 30 | AG66: =LARGE(AD8:AD738,30) -> 0.29652778
F67: =IF(AND(A66="X",B66="dim"),"",IF(AND(A66="X",E66="TC"),"",IF(A66="X","X",""))) | H67: 0.050694444 | I67: =IF(E66="CA",1,0) -> 0 | J67: =IF(E66="TC",1,0) -> 0 | K67: =IF(E66="FNO",1,0) -> 0 | M67: 80
B68: mar | C68: 31 | D68: Janvier | E68: C | I68: =IF(E68="repos",1,0) -> 0 | J68: =IF(E68="S",1,0) -> 0 | K68: =IF(E68="FO",1,0) -> 0 | L68: =IF(AND(B68="dim",M68=130),1,0) -> 0 | M68: 132 | O68: 0.26041667 | P68: =IF(F68="X",D5,0)+IF(F69="X",D5,0)+IF(G68="X",D6,0)+IF(G69="X",D7,0)+H68+H69+IF(N68<N4,0,N68)+IF(N69<N4,0,N69) -> 0 | Q68: 0.18402778 | R68: 0.44444444 | S68: =(R68-Q68)+(R69-Q69) -> 0.26041667 | X68: =IF(OR(E68="C",E68="Cr",E68="FO"),1,0) -> 1 | Z68: 31 | AA68: =IF(OR(E68="C",E68="Cr"),S68,0) -> 0.26041667 | AC68: 31 | AD68: =IF(OR(E68="C",E68="Cr"),S68,0) -> 0.26041667 | AF68: 31 | AG68: =LARGE($AD$8:$AD$738,31) -> 0.29652778
F69: =IF(AND(A68="X",B68="dim"),"",IF(AND(A68="X",E68="TC"),"",IF(A68="X","X",""))) | I69: =IF(E68="CA",1,0) -> 0 | J69: =IF(E68="TC",1,0) -> 0 | K69: =IF(E68="FNO",1,0) -> 0
AC70: 32 | AD70: =IF(OR(E85="C",E85="Cr"),S85,0) -> 0.2375 | AF70: 32 | AG70: =LARGE($AD$8:$AD$738,32) -> 0.29652778
B71: =C68 -> 31 | C71: Repos prévu | E71: 11 | H71: =H8+H10+H12+H14+H16+H18+H20+H22+H24+H26+H28+H30+H32+H34+H36+H38+H40+H42+H44+H46+H48+H50+H52+H54+H56+H58+H60+H62+H64+H66+H68 -> 0.097916667 | I71: =IF(E71="repos",1,"") | L71: =L8+L10+L12+L14+L16+L18+L20+L22+L24+L26+L28+L30+L32+L34+L36+L38+L40+L42+L44+L46+L48+L50+L52+L54+L56+L58+L60+L62+L64+L66+L68 -> 0 | N71: =IF(N8<N4,0,N8)+IF(N9<N4,0,N9)+IF(N10<N4,0,N10)+IF(N11<N4,0,N11)+IF(N12<N4,0,N12)+IF(N13<N4,0,N13)+IF(N14<N4,0,N14)+IF(N15<N4,0,N15)+IF(N16<N4,0,N16)+IF(N17<N4,0,N17)+IF(N18<N4,0,N18)+IF(N19<N4,0,N19)+IF(N20<N4,0,N20)+IF(N21<N4,0,N21)+IF(N22<N4,0,N22)+IF(N23<N4,0,N23)+IF(N24<N4,0,N24)+IF(N25<N4,0,N25)+IF(N26<N4,0,N26)+IF(N27<N4,0,N27)+IF(N28<N4,0,N28)+IF(N29<N4,0,N29)+IF(N30<N4,0,N30)+IF(N31<N4,0,N31)+IF(N32<N4,0,N32)+IF(N33<N4,0,N33)+IF(N34<N4,0,N34)+IF(N35<N4,0,N35)+IF(N36<N4,0,N36)+IF(N37<N4,0,N37)+IF(N38<N4,0,N38)+IF(N39<N4,0,N39)+IF(N40<N4,0,N40)+IF(N41<N4,0,N41)+IF(N42<N4,0,N42)+IF(N43<N4,0,N43)+IF(N44<N4,0,N44)+IF(N45<N4,0,N45)+IF(N46<N4,0,N46)+IF(N47<N4,0,N47)+IF(N48<N4,0,N48)+IF(N49<N4,0,N49)+IF(N50<N4,0,N50)+IF(N51<N4,0,N51)+IF(N52<N4,0,N52)+IF(N53<N4,0,N53)+IF(N54<N4,0,N54)+IF(N55<N4,0,N55)+IF(N56<N4,0,N56)+IF(N57<N4,0,N57)+IF(N58<N4,0,N58)+IF(N59<N4,0,N59)+IF(N60<N4,0,N60)+IF(N61<N4,0,N61)+IF(N62<N4,0,N62)+IF(N63<N4,0,N63)+IF(N64<N4,0,N64)+IF(N65<N4,0,N65)+IF(N66<N4,0,N66)+IF(N67<N4,0,N67)+IF(N68<N4,0,N68)+IF(N69<N4,0,N69) -> 0.055555556 | O71: =O8+O9+O10+O11+O12+O13+O14+O15+O16+O17+O18+O19+O20+O21+O22+O23+O24+O25+O26+O27+O28+O29+O30+O31+O32+O33+O34+O35+O36+O37+O38+O39+O40+O41+O42+O43+O44+O45+O46+O47+O48+O49+O50+O51+O52+O53+O54+O55+O56+O57+O58+O59+O60+O61+O62+O63+O64+O65+O66+O67+O68+O69 -> 4.0243056 | P71: =P8+P10+P12+P14+P16+P18+P20+P22+P24+P26+P28+P30+P32+P34+P36+P38+P40+P42+P44+P46+P48+P50+P52+P54+P56+P58+P60+P62+P64+P66+P68 -> 1.6277778 | S71: =S8+S10+S12+S14+S16+S18+S20+S22+S24+S26+S28+S30+S32+S34+S36+S38+S40+S42+S44+S46+S48+S50+S52+S54+S56+S58+S60+S62+S64+S66+S68 -> 3.9861111 | U71: =O18+O20+S26+S28+O34+S38+S40+S42+S52+S54+S56+S58+S60+S66+S68 -> 3.7638889 | V71: =S24 -> 0.26041667 | X71: =SUM(X8:X69) -> 16
C72: Repos réel ( repos ) | E72: =I8+I10+I12+I14+I16+I18+I20+I22+I24+I26+I28+I30+I32+I34+I36+I38+I40+I42+I44+I46+I48+I50+I52+I54+I56+I58+I60+I62+I64+I66+I68 -> 8 | F72: =IF(F9="X",1,0)+IF(F11="X",1,0)+IF(F13="X",1,0)+IF(F15="X",1,0)+IF(F17="X",1,0)+IF(F19="X",1,0)+IF(F21="X",1,0)+IF(F23="X",1,0)+IF(F25="X",1,0)+IF(F27="X",1,0)+IF(F29="X",1,0)+IF(F31="X",1,0)+IF(F33="X",1,0)+IF(F35="X",1,0)+IF(F37="X",1,0)+IF(F39="X",1,0)+IF(F41="X",1,0)+IF(F43="X",1,0)+IF(F45="X",1,0)+IF(F47="X",1,0)+IF(F49="X",1,0)+IF(F51="X",1,0)+IF(F53="X",1,0)+IF(F55="X",1,0)+IF(F57="X",1,0)+IF(F59="X",1,0)+IF(F61="X",1,0)+IF(F63="X",1,0)+IF(F65="X",1,0)+IF(F67="X",1,0)+IF(F69="X",1,0) -> 0 | H72: =H9+H11+H13+H15+H17+H19+H21+H23+H25+H27+H29+H31+H33+H35+H37+H39+H41+H43+H45+H47+H49+H51+H53+H55+H57+H59+H61+H63+H65+H67+H69 -> 0.050694444 | AC72: 33 | AD72: =IF(OR(E87="C",E87="Cr"),S87,0) -> 0.2375 | AF72: 33 | AG72: =LARGE($AD$8:$AD$738,33) -> 0.29583333
C73: Travail sur repos ( S ) | E73: =J8+J10+J12+J14+J16+J18+J20+J22+J24+J26+J28+J30+J32+J34+J36+J38+J40+J42+J44+J46+J48+J50+J52+J54+J56+J58+J60+J62+J64+J66+J68+J71 -> 5 | O73: Vente | U73: 15 | V73: 1
C74: CA | E74: =I9+I11+I13+I15+I17+I19+I21+I23+I25+I27+I29+I31+I33+I35+I37+I39+I41+I43+I45+I47+I49+I51+I53+I55+I57+I59+I61+I63+I65+I67+I69 -> 2 | G74: =IF(F8="X",D5,0)+IF(F10="X",D5,0)+IF(F12="X",D5,0)+IF(F14="X",D5,0)+IF(F16="X",D5,0)+IF(F18="X",D5,0)+IF(F20="X",D5,0)+IF(F22="X",D5,0)+IF(F24="X",D5,0)+IF(F26="X",D5,0)+IF(F28="X",D5,0)+IF(F30="X",D5,0)+IF(F32="X",D5,0)+IF(F34="X",D5,0)+IF(F36="X",D5,0)+IF(F38="X",D5,0)+IF(F40="X",D5,0)+IF(F42="X",D5,0)+IF(F44="X",D5,0)+IF(F46="X",D5,0)+IF(F48="X",D5,0)+IF(F50="X",D5,0)+IF(F52="X",D5,0)+IF(F54="X",D5,0)+IF(F56="X",D5,0)+IF(F58="X",D5,0)+IF(F60="X",D5,0)+IF(F62="X",D5,0)+IF(F64="X",D5,0)+IF(F66="X",D5,0)+IF(F68="X",D5,0) -> 1.3819444 | I74: =IF(G8="X",D6,0)+IF(G10="X",D6,0)+IF(G12="X",D6,0)+IF(G14="X",D6,0)+IF(G16="X",D6,0)+IF(G18="X",D6,0)+IF(G20="X",D6,0)+IF(G22="X",D6,0)+IF(G24="X",D6,0)+IF(G26="X",D6,0)+IF(G28="X",D6,0)+IF(G30="X",D6,0)+IF(G32="X",D6,0)+IF(G34="X",D6,0)+IF(G36="X",D6,0)+IF(G38="X",D6,0)+IF(G40="X",D6,0)+IF(G42="X",D6,0)+IF(G44="X",D6,0)+IF(G46="X",D6,0)+IF(G48="X",D6,0)+IF(G50="X",D6,0)+IF(G52="X",D6,0)+IF(G54="X",D6,0)+IF(G56="X",D6,0)+IF(G58="X",D6,0)+IF(G60="X",D6,0)+IF(G62="X",D6,0)+IF(G64="X",D6,0)+IF(G66="X",D6,0)+IF(G68="X",D6,0) -> 0.041666667 | O74: TS | Q74: TS | R74: TC | S74: CCF | AC74: 34 | AD74: =IF(OR(E89="C",E89="Cr"),S89,0) -> 0.2375 | AF74: 34 | AG74: =LARGE($AD$8:$AD$738,34) -> 0.29444444
C75: TC | E75: =J9+J11+J13+J15+J17+J19+J21+J23+J25+J27+J29+J31+J33+J35+J37+J39+J41+J43+J45+J47+J49+J51+J53+J55+J57+J59+J61+J63+J65+J67+J69 -> 0 | G75: =IF(F9="X",D5,0)+IF(F11="X",D5,0)+IF(F13="X",D5,0)+IF(F15="X",D5,0)+IF(F17="X",D5,0)+IF(F19="X",D5,0)+IF(F21="X",D5,0)+IF(F23="X",D5,0)+IF(F25="X",D5,0)+IF(F27="X",D5,0)+IF(F29="X",D5,0)+IF(F31="X",D5,0)+IF(F33="X",D5,0)+IF(F35="X",D5,0)+IF(F37="X",D5,0)+IF(F39="X",D5,0)+IF(F41="X",D5,0)+IF(F43="X",D5,0)+IF(F45="X",D5,0)+IF(F47="X",D5,0)+IF(F49="X",D5,0)+IF(F51="X",D5,0)+IF(F53="X",D5,0)+IF(F55="X",D5,0)+IF(F57="X",D5,0)+IF(F59="X",D5,0)+IF(F61="X",D5,0)+IF(F63="X",D5,0)+IF(F65="X",D5,0)+IF(F67="X",D5,0)+IF(F69="X",D5,0) -> 0 | I75: =IF(G9="X",D7,0)+IF(G11="X",D7,0)+IF(G13="X",D7,0)+IF(G15="X",D7,0)+IF(G17="X",D7,0)+IF(G19="X",D7,0)+IF(G21="X",D7,0)+IF(G23="X",D7,0)+IF(G25="X",D7,0)+IF(G27="X",D7,0)+IF(G29="X",D7,0)+IF(G31="X",D7,0)+IF(G33="X",D7,0)+IF(G35="X",D7,0)+IF(G37="X",D7,0)+IF(G39="X",D7,0)+IF(G41="X",D7,0)+IF(G43="X",D7,0)+IF(G45="X",D7,0)+IF(G47="X",D7,0)+IF(G49="X",D7,0)+IF(G51="X",D7,0)+IF(G53="X",D7,0)+IF(G55="X",D7,0)+IF(G57="X",D7,0)+IF(G59="X",D7,0)+IF(G61="X",D7,0)+IF(G63="X",D7,0)+IF(G65="X",D7,0)+IF(G67="X",D7,0)+IF(G69="X",D7,0) -> 0 | O75: TC | P75: 0.083333333 | Q75: =O4 -> 0 | R75: =P4+I75 -> 0.97638889 | S75: =Q4+G75 -> 1.075 | U75: =U71+V71 -> 4.0243056
C76: Formation obligatoire | E76: =K8+K10+K12+K14+K16+K18+K20+K22+K24+K26+K28+K30+K32+K34+K36+K38+K40+K42+K44+K46+K48+K50+K52+K54+K56+K58+K60+K62+K64+K66+K68 -> 0 | O76: CCF | AC76: 35 | AD76: =IF(OR(E91="C",E91="Cr"),S91,0) -> 0.29861111 | AF76: 35 | AG76: =LARGE($AD$8:$AD$738,35) -> 0.29444444
C77: Formation non obligatoire | E77: =K9+K11+K13+K15+K17+K19+K21+K23+K25+K27+K29+K31+K33+K35+K37+K39+K41+K43+K45+K47+K49+K51+K53+K55+K57+K59+K61+K63+K65+K67+K69 -> 0 | I77: =IF(E77="repos",1,"") | P77: =P4+Q4+P71-P74-P75-P76 -> 3.5958333 | Q77: TS | R77: TC | S77: CCF | U77: =U73+V73 -> 16
C78: Jours travaillés conduite | E78: =B71-E72-E73-E74-E75-E76-E77 -> 16 | Q78: =Q75+G74+I74+H72+N71-P74 -> 1.5298611 | R78: =R75+H71+I75-P75 -> 0.99097222 | S78: =S75+G75-P76 -> 1.075 | AC78: 36 | AD78: =IF(OR(E93="C",E93="Cr"),S93,0) -> 0 | AF78: 36 | AG78: =LARGE($AD$8:$AD$738,36) -> 0.29305556
I80: =IF(E80="repos",1,"") | AC80: 37 | AD80: =IF(OR(E95="C",E95="Cr"),S95,0) -> 0 | AF80: 37 | AG80: =LARGE($AD$8:$AD$738,37) -> 0.29166667
N81: 0.010416667 | P81: =P77 -> 3.5958333
B82: Période | D82: 0.27638889 | F82: S | M82: Pointage | N82: Retard | O82: Temps | P82: TS-TC-CCF | Q82: Début | R82: Fin | S82: Temps | X82: Jours | AC82: 38 | AD82: =IF(OR(E97="C",E97="Cr"),S97,0) -> 0 | AF82: 38 | AG82: =LARGE($AD$8:$AD$738,38) -> 0.29166667
B83: H I S | D83: 0.041666667 | F83: € | G83: Hs | H83: Derog | I83: R | J83: S | K83: Fo | L83: D | N83: Brut | O83: sur | Q83: de service | S83: réellement | X83: comptés
B84: 2 x | D84: 0.013888889 | F84: Fe | G84: 2x | H84: TS div | I84: CA | J84: Tc | K84: FNO | O84: BMP | S84: effectué | X84: conduite | AC84: 39 | AD84: =IF(OR(E99="C",E99="Cr"),S99,0) -> 0.27916667 | AF84: 39 | AG84: =LARGE($AD$8:$AD$738,39) -> 0.29166667
B85: mer | C85: 1 | D85: Fevrier | E85: C | I85: =IF(E85="repos",1,0) -> 0 | J85: =IF(E85="S",1,0) -> 0 | K85: =IF(E85="FO",1,0) -> 0 | L85: =IF(AND(B85="dim",M85=130),1,0) -> 0 | M85: 132 | O85: 0.24027778 | P85: =IF(F85="X",D82,0)+IF(F86="X",D82,0)+IF(G85="X",D83,0)+IF(G86="X",D84,0)+H85+H86+IF(N85<N81,0,N85)+IF(N86<N81,0,N86) -> 0 | Q85: 0.23194444 | R85: 0.46944444 | S85: =(R85-Q85)+(R86-Q86) -> 0.2375 | X85: =IF(OR(E85="C",E85="Cr",E85="FO"),1,0) -> 1 | Z85: 32 | AA85: =IF(OR(E85="C",E85="Cr"),S85,0) -> 0.2375
F86: =IF(AND(A85="X",B85="dim"),"",IF(AND(A85="X",E85="TC"),"",IF(A85="X","X",""))) | I86: =IF(E85="CA",1,0) -> 0 | J86: =IF(E85="TC",1,0) -> 0 | K86: =IF(E85="FNO",1,0) -> 0 | AC86: 40 | AD86: =IF(OR(E101="C",E101="Cr"),S101,0) -> 0.23958333 | AF86: 40 | AG86: =LARGE($AD$8:$AD$738,40) -> 0.29166667
B87: jeu | C87: 2 | D87: Fevrier | E87: C | I87: =IF(E87="repos",1,0) -> 0 | J87: =IF(E87="S",1,0) -> 0 | K87: =IF(E87="FO",1,0) -> 0 | L87: =IF(AND(B87="dim",M87=130),1,0) -> 0 | M87: 132 | O87: 0.24027778 | P87: =IF(F87="X",D82,0)+IF(F88="X",D82,0)+IF(G87="X",D83,0)+IF(G88="X",D84,0)+H87+H88+IF(N87<N81,0,N87)+IF(N88<N81,0,N88) -> 0 | Q87: 0.23194444 | R87: 0.46944444 | S87: =(R87-Q87)+(R88-Q88) -> 0.2375 | X87: =IF(OR(E87="C",E87="Cr",E87="FO"),1,0) -> 1 | Z87: 33 | AA87: =IF(OR(E87="C",E87="Cr"),S87,0) -> 0.2375
F88: =IF(AND(A87="X",B87="dim"),"",IF(AND(A87="X",E87="TC"),"",IF(A87="X","X",""))) | I88: =IF(E87="CA",1,0) -> 0 | J88: =IF(E87="TC",1,0) -> 0 | K88: =IF(E87="FNO",1,0) -> 0 | AC88: 41 | AD88: =IF(OR(E103="C",E103="Cr"),S103,0) -> 0.23958333 | AF88: 41 | AG88: =LARGE($AD$8:$AD$738,41) -> 0.29097222
B89: ven | C89: 3 | D89: Fevrier | E89: C | I89: =IF(E89="repos",1,0) -> 0 | J89: =IF(E89="S",1,0) -> 0 | K89: =IF(E89="FO",1,0) -> 0 | L89: =IF(AND(B89="dim",M89=130),1,0) -> 0 | M89: 132 | O89: 0.24027778 | P89: =IF(F89="X",D82,0)+IF(F90="X",D82,0)+IF(G89="X",D83,0)+IF(G90="X",D84,0)+H89+H90+IF(N89<N81,0,N89)+IF(N90<N81,0,N90) -> 0 | Q89: 0.23194444 | R89: 0.46944444 | S89: =(R89-Q89)+(R90-Q90) -> 0.2375 | X89: =IF(OR(E89="C",E89="Cr",E89="FO"),1,0) -> 1 | Z89: 34 | AA89: =IF(OR(E89="C",E89="Cr"),S89,0) -> 0.2375
F90: =IF(AND(A89="X",B89="dim"),"",IF(AND(A89="X",E89="TC"),"",IF(A89="X","X",""))) | I90: =IF(E89="CA",1,0) -> 0 | J90: =IF(E89="TC",1,0) -> 0 | K90: =IF(E89="FNO",1,0) -> 0 | AC90: 42 | AD90: =IF(OR(E105="C",E105="Cr"),S105,0) -> 0.30763889 | AF90: 42 | AG90: =LARGE($AD$8:$AD$738,42) -> 0.29097222
B91: sam | C91: 4 | D91: Fevrier | E91: C | I91: =IF(E91="repos",1,0) -> 0 | J91: =IF(E91="S",1,0) -> 0 | K91: =IF(E91="FO",1,0) -> 0 | L91: =IF(AND(B91="dim",M91=130),1,0) -> 0 | M91: 132 | O91: 0.30138889 | P91: =IF(F91="X",D82,0)+IF(F92="X",D82,0)+IF(G91="X",D83,0)+IF(G92="X",D84,0)+H91+H92+IF(N91<N81,0,N91)+IF(N92<N81,0,N92) -> 0 | Q91: 0.21875 | R91: 0.51736111 | S91: =(R91-Q91)+(R92-Q92) -> 0.29861111 | X91: =IF(OR(E91="C",E91="Cr",E91="FO"),1,0) -> 1 | Z91: 35 | AA91: =IF(OR(E91="C",E91="Cr"),S91,0) -> 0.29861111
F92: =IF(AND(A91="X",B91="dim"),"",IF(AND(A91="X",E91="TC"),"",IF(A91="X","X",""))) | I92: =IF(E91="CA",1,0) -> 0 | J92: =IF(E91="TC",1,0) -> 0 | K92: =IF(E91="FNO",1,0) -> 0 | AC92: 43 | AD92: =IF(OR(E107="C",E107="Cr"),S107,0) -> 0 | AF92: 43 | AG92: =LARGE($AD$8:$AD$738,43) -> 0.29097222
B93: dim | C93: 5 | D93: Fevrier | E93: REPOS | I93: =IF(E93="repos",1,0) -> 1 | J93: =IF(E93="S",1,0) -> 0 | K93: =IF(E93="FO",1,0) -> 0 | L93: =IF(AND(B93="dim",M93=130),1,0) -> 0 | M93: 660 | P93: =IF(F93="X",D82,0)+IF(F94="X",D82,0)+IF(G93="X",D83,0)+IF(G94="X",D84,0)+H93+H94+IF(N93<N81,0,N93)+IF(N94<N81,0,N94) -> 0 | S93: =(R93-Q93)+(R94-Q94) -> 0 | X93: =IF(OR(E93="C",E93="Cr",E93="FO"),1,0) -> 0 | Z93: 36 | AA93: =IF(OR(E93="C",E93="Cr"),S93,0) -> 0
F94: =IF(AND(A93="X",B93="dim"),"",IF(AND(A93="X",E93="TC"),"",IF(A93="X","X",""))) | I94: =IF(E93="CA",1,0) -> 0 | J94: =IF(E93="TC",1,0) -> 0 | K94: =IF(E93="FNO",1,0) -> 0 | AC94: 44 | AD94: =IF(OR(E109="C",E109="Cr"),S109,0) -> 0.25277778 | AF94: 44 | AG94: =LARGE($AD$8:$AD$738,44) -> 0.28958333
B95: lun | C95: 6 | D95: Fevrier | E95: REPOS | I95: =IF(E95="repos",1,0) -> 1 | J95: =IF(E95="S",1,0) -> 0 | K95: =IF(E95="FO",1,0) -> 0 | L95: =IF(AND(B95="dim",M95=130),1,0) -> 0 | M95: 660 | P95: =IF(F95="X",D82,0)+IF(F96="X",D82,0)+IF(G95="X",D83,0)+IF(G96="X",D84,0)+H95+H96+IF(N95<N81,0,N95)+IF(N96<N81,0,N96) -> 0 | S95: =(R95-Q95)+(R96-Q96) -> 0 | X95: =IF(OR(E95="C",E95="Cr",E95="FO"),1,0) -> 0 | Z95: 37 | AA95: =IF(OR(E95="C",E95="Cr"),S95,0) -> 0
F96: =IF(AND(A95="X",B95="dim"),"",IF(AND(A95="X",E95="TC"),"",IF(A95="X","X",""))) | I96: =IF(E95="CA",1,0) -> 0 | J96: =IF(E95="TC",1,0) -> 0 | K96: =IF(E95="FNO",1,0) -> 0 | AC96: 45 | AD96: =IF(OR(E111="C",E111="Cr"),S111,0) -> 0.25277778 | AF96: 45 | AG96: =LARGE($AD$8:$AD$738,45) -> 0.28958333
B97: mar | C97: 7 | D97: Fevrier | E97: REPOS | I97: =IF(E97="repos",1,0) -> 1 | J97: =IF(E97="S",1,0) -> 0 | K97: =IF(E97="FO",1,0) -> 0 | L97: =IF(AND(B97="dim",M97=130),1,0) -> 0 | M97: 660 | P97: =IF(F97="X",D82,0)+IF(F98="X",D82,0)+IF(G97="X",D83,0)+IF(G98="X",D84,0)+H97+H98+IF(N97<N81,0,N97)+IF(N98<N81,0,N98) -> 0.25 | S97: =(R97-Q97)+(R98-Q98) -> 0 | X97: =IF(OR(E97="C",E97="Cr",E97="FO"),1,0) -> 0 | Z97: 38 | AA97: =IF(OR(E97="C",E97="Cr"),S97,0) -> 0
F98: =IF(AND(A97="X",B97="dim"),"",IF(AND(A97="X",E97="TC"),"",IF(A97="X","X",""))) | H98: 0.25 | I98: =IF(E97="CA",1,0) -> 0 | J98: =IF(E97="TC",1,0) -> 0 | K98: =IF(E97="FNO",1,0) -> 0 | AC98: 46 | AD98: =IF(OR(E113="C",E113="Cr"),S113,0) -> 0.29444444 | AF98: 46 | AG98: =LARGE($AD$8:$AD$738,46) -> 0.28958333
B99: mer | C99: 8 | D99: Fevrier | E99: C | I99: =IF(E99="repos",1,0) -> 0 | J99: =IF(E99="S",1,0) -> 0 | K99: =IF(E99="FO",1,0) -> 0 | L99: =IF(AND(B99="dim",M99=130),1,0) -> 0 | M99: 130 | O99: 0.32013889 | P99: =IF(F99="X",D82,0)+IF(F100="X",D82,0)+IF(G99="X",D83,0)+IF(G100="X",D84,0)+H99+H100+IF(N99<N81,0,N99)+IF(N100<N81,0,N100) -> 0 | Q99: 0.20069444 | R99: 0.47986111 | S99: =(R99-Q99)+(R100-Q100) -> 0.27916667 | X99: =IF(OR(E99="C",E99="Cr",E99="FO"),1,0) -> 1 | Z99: 39 | AA99: =IF(OR(E99="C",E99="Cr"),S99,0) -> 0.27916667
F100: =IF(AND(A99="X",B99="dim"),"",IF(AND(A99="X",E99="TC"),"",IF(A99="X","X",""))) | I100: =IF(E99="CA",1,0) -> 0 | J100: =IF(E99="TC",1,0) -> 0 | K100: =IF(E99="FNO",1,0) -> 0 | AC100: 47 | AD100: =IF(OR(E115="C",E115="Cr"),S115,0) -> 0.29444444 | AF100: 47 | AG100: =LARGE($AD$8:$AD$738,47) -> 0.28888889
B101: jeu | C101: 9 | D101: Fevrier | E101: C | I101: =IF(E101="repos",1,0) -> 0 | J101: =IF(E101="S",1,0) -> 0 | K101: =IF(E101="FO",1,0) -> 0 | L101: =IF(AND(B101="dim",M101=130),1,0) -> 0 | M101: 132 | N101: 0.0069444444 | O101: 0.24236111 | P101: =IF(F101="X",D82,0)+IF(F102="X",D82,0)+IF(G101="X",D83,0)+IF(G102="X",D84,0)+H101+H102+IF(N101<N81,0,N101)+IF(N102<N81,0,N102) -> 0 | Q101: 0.20833333 | R101: 0.44791667 | S101: =(R101-Q101)+(R102-Q102) -> 0.23958333 | X101: =IF(OR(E101="C",E101="Cr",E101="FO"),1,0) -> 1 | Z101: 40 | AA101: =IF(OR(E101="C",E101="Cr"),S101,0) -> 0.23958333
F102: =IF(AND(A101="X",B101="dim"),"",IF(AND(A101="X",E101="TC"),"",IF(A101="X","X",""))) | I102: =IF(E101="CA",1,0) -> 0 | J102: =IF(E101="TC",1,0) -> 0 | K102: =IF(E101="FNO",1,0) -> 0 | AC102: 48 | AD102: =IF(OR(E117="C",E117="Cr"),S117,0) -> 0.23194444 | AF102: 48 | AG102: =LARGE($AD$8:$AD$738,48) -> 0.28819444
...

Sheet Base
A1: 1 à 366 | B1: jours | C1: mois | D1: horaires de services | E1: horaires de services 2 | F1: en h | G1: en mn | H1: 1 à 366 (bis) | I1: clt | J1: Décroissant | L1: en mn | M1: mois | N1: jours | O1: Somme de 1 à 366
A2: ='2017 Vincent'!AC8 -> 1 | B2: ='2017 Vincent'!AD8 -> 1 | C2: ='2017 Vincent'!AE8 -> Janvier | D2: ='2017 Vincent'!AF8 -> 0 | E2: ='2017 Vincent'!AG8 -> 0 | F2: ='2017 Vincent'!AH8 -> 0 | G2: ='2017 Vincent'!AI8 -> 0 | H2: ='2017 Vincent'!AJ8 -> 1 | ... J2: ='2017 Vincent'!AL8 -> 0.33472222 | L2: 0.33472222 | M2: Juillet | N2: 20 | O2: 201
A3: ='2017 Vincent'!AC9 -> 0 | B3: ='2017 Vincent'!AD9 -> 0 | C3: ='2017 Vincent'!AE9 -> 0 | D3: ='2017 Vincent'!AF9 -> 0 | E3: ='2017 Vincent'!AG9 -> 0 | F3: ='2017 Vincent'!AH9 -> 0 | G3: ='2017 Vincent'!AI9 -> 0 | H3: ='2017 Vincent'!AJ9 -> 0 | ... J3: ='2017 Vincent'!AL9 -> 0 | L3: 0.32916667 | M3: Juillet | N3: 21 | O3: 202
A4: ='2017 Vincent'!AC10 -> 2 | B4: ='2017 Vincent'!AD10 -> 2 | C4: ='2017 Vincent'!AE10 -> Janvier | D4: ='2017 Vincent'!AF10 -> 0 | E4: ='2017 Vincent'!AG10 -> 0 | F4: ='2017 Vincent'!AH10 -> 0 | G4: ='2017 Vincent'!AI10 -> 0 | H4: ='2017 Vincent'!AJ10 -> 2 | ... J4: ='2017 Vincent'!AL10 -> 0.32916667 | L4: 0.31527778 | M4: Mai | N4: 18 | O4: 138
A5: ='2017 Vincent'!AC11 -> 0 | B5: ='2017 Vincent'!AD11 -> 0 | C5: ='2017 Vincent'!AE11 -> 0 | D5: ='2017 Vincent'!AF11 -> 0 | E5: ='2017 Vincent'!AG11 -> 0 | F5: ='2017 Vincent'!AH11 -> 0 | G5: ='2017 Vincent'!AI11 -> 0 | H5: ='2017 Vincent'!AJ11 -> 0 | ... J5: ='2017 Vincent'!AL11 -> 0 | N5: 19 | O5: 139
A6: ='2017 Vincent'!AC12 -> 3 | B6: ='2017 Vincent'!AD12 -> 3 | C6: ='2017 Vincent'!AE12 -> Janvier | D6: ='2017 Vincent'!AF12 -> 0.64722222 | E6: ='2017 Vincent'!AG12 -> 0.91319444 | F6: ='2017 Vincent'!AH12 -> 0.26597222 | G6: ='2017 Vincent'!AI12 -> 0.26597222 | H6: ='2017 Vincent'!AJ12 -> 3 | ... J6: ='2017 Vincent'!AL12 -> 0.31527778 | M6: Novembre | N6: 20 | O6: 324
A7: ='2017 Vincent'!AC13 -> 0 | B7: ='2017 Vincent'!AD13 -> 0 | C7: ='2017 Vincent'!AE13 -> 0 | D7: ='2017 Vincent'!AF13 -> 0 | E7: ='2017 Vincent'!AG13 -> 0 | F7: ='2017 Vincent'!AH13 -> 0 | G7: ='2017 Vincent'!AI13 -> 0 | H7: ='2017 Vincent'!AJ13 -> 0 | ... J7: ='2017 Vincent'!AL13 -> 0 | N7: 21 | O7: 325
A8: ='2017 Vincent'!AC14 -> 4 | B8: ='2017 Vincent'!AD14 -> 4 | C8: ='2017 Vincent'!AE14 -> Janvier | D8: ='2017 Vincent'!AF14 -> 0.67847222 | E8: ='2017 Vincent'!AG14 -> 0.94861111 | F8: ='2017 Vincent'!AH14 -> 0.27013889 | G8: ='2017 Vincent'!AI14 -> 0.27013889 | H8: ='2017 Vincent'!AJ14 -> 4 | ... J8: ='2017 Vincent'!AL14 -> 0.31527778 | L8: 0.3125 | M8: Novembre | N8: 4 | O8: 308
A9: ='2017 Vincent'!AC15 -> 0 | B9: ='2017 Vincent'!AD15 -> 0 | C9: ='2017 Vincent'!AE15 -> 0 | D9: ='2017 Vincent'!AF15 -> 0 | E9: ='2017 Vincent'!AG15 -> 0 | F9: ='2017 Vincent'!AH15 -> 0 | G9: ='2017 Vincent'!AI15 -> 0 | H9: ='2017 Vincent'!AJ15 -> 0 | ... J9: ='2017 Vincent'!AL15 -> 0 | L9: 0.31111111 | M9: Mai | N9: 16 | O9: 136
A10: ='2017 Vincent'!AC16 -> 5 | B10: ='2017 Vincent'!AD16 -> 5 | C10: ='2017 Vincent'!AE16 -> Janvier | D10: ='2017 Vincent'!AF16 -> 0.64722222 | E10: ='2017 Vincent'!AG16 -> 0.91319444 | F10: ='2017 Vincent'!AH16 -> 0.26597222 | G10: ='2017 Vincent'!AI16 -> 0.26597222 | H10: ='2017 Vincent'!AJ16 -> 5 | ... J10: ='2017 Vincent'!AL16 -> 0.31527778 | N10: 17 | O10: 137
A11: ='2017 Vincent'!AC17 -> 0 | B11: ='2017 Vincent'!AD17 -> 0 | C11: ='2017 Vincent'!AE17 -> 0 | D11: ='2017 Vincent'!AF17 -> 0 | E11: ='2017 Vincent'!AG17 -> 0 | F11: ='2017 Vincent'!AH17 -> 0 | G11: ='2017 Vincent'!AI17 -> 0 | H11: ='2017 Vincent'!AJ17 -> 0 | ... J11: ='2017 Vincent'!AL17 -> 0 | L11: 0.31041667 | M11: Novembre | N11: 2 | O11: 306
A12: ='2017 Vincent'!AC18 -> 6 | B12: ='2017 Vincent'!AD18 -> 6 | C12: ='2017 Vincent'!AE18 -> Janvier | D12: ='2017 Vincent'!AF18 -> 0.64722222 | E12: ='2017 Vincent'!AG18 -> 0.91319444 | F12: ='2017 Vincent'!AH18 -> 0.26597222 | G12: ='2017 Vincent'!AI18 -> 0.26597222 | H12: ='2017 Vincent'!AJ18 -> 6 | ... J12: ='2017 Vincent'!AL18 -> 0.31527778 | N12: 3 | O12: 307
A13: ='2017 Vincent'!AC19 -> 0 | B13: ='2017 Vincent'!AD19 -> 0 | C13: ='2017 Vincent'!AE19 -> 0 | D13: ='2017 Vincent'!AF19 -> 0 | E13: ='2017 Vincent'!AG19 -> 0 | F13: ='2017 Vincent'!AH19 -> 0 | G13: ='2017 Vincent'!AI19 -> 0 | H13: ='2017 Vincent'!AJ19 -> 0 | ... J13: ='2017 Vincent'!AL19 -> 0 | L13: 0.30972222 | M13: Juin | N13: 11 | O13: 162
A14: ='2017 Vincent'!AC20 -> 7 | B14: ='2017 Vincent'!AD20 -> 7 | C14: ='2017 Vincent'!AE20 -> Janvier | D14: ='2017 Vincent'!AF20 -> 0 | E14: ='2017 Vincent'!AG20 -> 0 | F14: ='2017 Vincent'!AH20 -> 0 | G14: ='2017 Vincent'!AI20 -> 0 | H14: ='2017 Vincent'!AJ20 -> 7 | ... J14: ='2017 Vincent'!AL20 -> 0.3125 | L14: 0.30833333 | M14: Avril | N14: 29 | O14: 119
A15: ='2017 Vincent'!AC21 -> 0 | B15: ='2017 Vincent'!AD21 -> 0 | C15: ='2017 Vincent'!AE21 -> 0 | D15: ='2017 Vincent'!AF21 -> 0 | E15: ='2017 Vincent'!AG21 -> 0 | F15: ='2017 Vincent'!AH21 -> 0 | G15: ='2017 Vincent'!AI21 -> 0 | H15: ='2017 Vincent'!AJ21 -> 0 | ... J15: ='2017 Vincent'!AL21 -> 0 | L15: 0.30763889 | M15: Fevrier | N15: 18 | O15: 49
A16: ='2017 Vincent'!AC22 -> 8 | B16: ='2017 Vincent'!AD22 -> 8 | C16: ='2017 Vincent'!AE22 -> Janvier | D16: ='2017 Vincent'!AF22 -> 0 | E16: ='2017 Vincent'!AG22 -> 0 | F16: ='2017 Vincent'!AH22 -> 0 | G16: ='2017 Vincent'!AI22 -> 0 | H16: ='2017 Vincent'!AJ22 -> 8 | ... J16: ='2017 Vincent'!AL22 -> 0.31111111 | L16: 0.30694444 | M16: Mars | N16: 2 | O16: 61
A17: ='2017 Vincent'!AC23 -> 0 | B17: ='2017 Vincent'!AD23 -> 0 | C17: ='2017 Vincent'!AE23 -> 0 | D17: ='2017 Vincent'!AF23 -> 0 | E17: ='2017 Vincent'!AG23 -> 0 | F17: ='2017 Vincent'!AH23 -> 0 | G17: ='2017 Vincent'!AI23 -> 0 | H17: ='2017 Vincent'!AJ23 -> 0 | ... J17: ='2017 Vincent'!AL23 -> 0 | N17: 3 | O17: 62
A18: ='2017 Vincent'!AC24 -> 9 | B18: ='2017 Vincent'!AD24 -> 9 | C18: ='2017 Vincent'!AE24 -> Janvier | D18: ='2017 Vincent'!AF24 -> 0.57916667 | E18: ='2017 Vincent'!AG24 -> 0.83472222 | F18: ='2017 Vincent'!AH24 -> 0.25555556 | G18: ='2017 Vincent'!AI24 -> 0.25555556 | H18: ='2017 Vincent'!AJ24 -> 9 | ... J18: ='2017 Vincent'!AL24 -> 0.31111111 | M18: Novembre | N18: 7 | O18: 311
A19: ='2017 Vincent'!AC25 -> 0 | B19: ='2017 Vincent'!AD25 -> 0 | C19: ='2017 Vincent'!AE25 -> 0 | D19: ='2017 Vincent'!AF25 -> 0 | E19: ='2017 Vincent'!AG25 -> 0 | F19: ='2017 Vincent'!AH25 -> 0 | G19: ='2017 Vincent'!AI25 -> 0 | H19: ='2017 Vincent'!AJ25 -> 0 | ... J19: ='2017 Vincent'!AL25 -> 0 | N19: 8 | O19: 312
A20: ='2017 Vincent'!AC26 -> 10 | B20: ='2017 Vincent'!AD26 -> 10 | C20: ='2017 Vincent'!AE26 -> Janvier | D20: ='2017 Vincent'!AF26 -> 0.68055556 | E20: ='2017 Vincent'!AG26 -> 0.95069444 | F20: ='2017 Vincent'!AH26 -> 0.27013889 | G20: ='2017 Vincent'!AI26 -> 0.27013889 | H20: ='2017 Vincent'!AJ26 -> 10 | ... J20: ='2017 Vincent'!AL26 -> 0.31041667 | N20: 9 | O20: 313
A21: ='2017 Vincent'!AC27 -> 0 | B21: ='2017 Vincent'!AD27 -> 0 | C21: ='2017 Vincent'!AE27 -> 0 | D21: ='2017 Vincent'!AF27 -> 0 | E21: ='2017 Vincent'!AG27 -> 0 | F21: ='2017 Vincent'!AH27 -> 0 | G21: ='2017 Vincent'!AI27 -> 0 | H21: ='2017 Vincent'!AJ27 -> 0 | ... J21: ='2017 Vincent'!AL27 -> 0 | N21: 10 | O21: 314
A22: ='2017 Vincent'!AC28 -> 11 | B22: ='2017 Vincent'!AD28 -> 11 | C22: ='2017 Vincent'!AE28 -> Janvier | D22: ='2017 Vincent'!AF28 -> 0 | E22: ='2017 Vincent'!AG28 -> 0 | F22: ='2017 Vincent'!AH28 -> 0 | G22: ='2017 Vincent'!AI28 -> 0 | H22: ='2017 Vincent'!AJ28 -> 11 | ... J22: ='2017 Vincent'!AL28 -> 0.31041667 | L22: 0.30625 | M22: Mars | N22: 20 | O22: 79
A23: ='2017 Vincent'!AC29 -> 0 | B23: ='2017 Vincent'!AD29 -> 0 | C23: ='2017 Vincent'!AE29 -> 0 | D23: ='2017 Vincent'!AF29 -> 0 | E23: ='2017 Vincent'!AG29 -> 0 | F23: ='2017 Vincent'!AH29 -> 0 | G23: ='2017 Vincent'!AI29 -> 0 | H23: ='2017 Vincent'!AJ29 -> 0 | ... J23: ='2017 Vincent'!AL29 -> 0 | N23: 21 | O23: 80
A24: ='2017 Vincent'!AC30 -> 12 | B24: ='2017 Vincent'!AD30 -> 12 | C24: ='2017 Vincent'!AE30 -> Janvier | D24: ='2017 Vincent'!AF30 -> 0 | E24: ='2017 Vincent'!AG30 -> 0 | F24: ='2017 Vincent'!AH30 -> 0 | G24: ='2017 Vincent'!AI30 -> 0 | H24: ='2017 Vincent'!AJ30 -> 12 | ... J24: ='2017 Vincent'!AL30 -> 0.30972222 | M24: Septembre | N24: 20 | O24: 263
A25: ='2017 Vincent'!AC31 -> 0 | B25: ='2017 Vincent'!AD31 -> 0 | C25: ='2017 Vincent'!AE31 -> 0 | D25: ='2017 Vincent'!AF31 -> 0 | E25: ='2017 Vincent'!AG31 -> 0 | F25: ='2017 Vincent'!AH31 -> 0 | G25: ='2017 Vincent'!AI31 -> 0 | H25: ='2017 Vincent'!AJ31 -> 0 | ... J25: ='2017 Vincent'!AL31 -> 0 | N25: 21 | O25: 264
A26: ='2017 Vincent'!AC32 -> 13 | B26: ='2017 Vincent'!AD32 -> 13 | C26: ='2017 Vincent'!AE32 -> Janvier | D26: ='2017 Vincent'!AF32 -> 0 | E26: ='2017 Vincent'!AG32 -> 0 | F26: ='2017 Vincent'!AH32 -> 0 | G26: ='2017 Vincent'!AI32 -> 0 | H26: ='2017 Vincent'!AJ32 -> 13 | ... J26: ='2017 Vincent'!AL32 -> 0.30833333 | N26: 22 | O26: 265
A27: ='2017 Vincent'!AC33 -> 0 | B27: ='2017 Vincent'!AD33 -> 0 | C27: ='2017 Vincent'!AE33 -> 0 | D27: ='2017 Vincent'!AF33 -> 0 | E27: ='2017 Vincent'!AG33 -> 0 | F27: ='2017 Vincent'!AH33 -> 0 | G27: ='2017 Vincent'!AI33 -> 0 | H27: ='2017 Vincent'!AJ33 -> 0 | ... J27: ='2017 Vincent'!AL33 -> 0 | N27: 25 | O27: 268
A28: ='2017 Vincent'!AC34 -> 14 | B28: ='2017 Vincent'!AD34 -> 14 | C28: ='2017 Vincent'!AE34 -> Janvier | D28: ='2017 Vincent'!AF34 -> 0.52569444 | E28: ='2017 Vincent'!AG34 -> 0.77083333 | F28: ='2017 Vincent'!AH34 -> 0.24513889 | G28: ='2017 Vincent'!AI34 -> 0.24513889 | H28: ='2017 Vincent'!AJ34 -> 14 | ... J28: ='2017 Vincent'!AL34 -> 0.30763889 | L28: 0.30486111 | M28: Mars | N28: 24 | O28: 83
A29: ='2017 Vincent'!AC35 -> 0 | B29: ='2017 Vincent'!AD35 -> 0 | C29: ='2017 Vincent'!AE35 -> 0 | D29: ='2017 Vincent'!AF35 -> 0 | E29: ='2017 Vincent'!AG35 -> 0 | F29: ='2017 Vincent'!AH35 -> 0 | G29: ='2017 Vincent'!AI35 -> 0 | H29: ='2017 Vincent'!AJ35 -> 0 | ... J29: ='2017 Vincent'!AL35 -> 0 | M29: Mai | N29: 27 | O29: 147
A30: ='2017 Vincent'!AC36 -> 15 | B30: ='2017 Vincent'!AD36 -> 15 | C30: ='2017 Vincent'!AE36 -> Janvier | D30: ='2017 Vincent'!AF36 -> 0.51805556 | E30: ='2017 Vincent'!AG36 -> 0.80763889 | F30: ='2017 Vincent'!AH36 -> 0.28958333 | G30: ='2017 Vincent'!AI36 -> 0.28958333 | H30: ='2017 Vincent'!AJ36 -> 15 | ... J30: ='2017 Vincent'!AL36 -> 0.30694444 | L30: 0.30416667 | M30: Août | N30: 19 | O30: 231
A31: ='2017 Vincent'!AC37 -> 0 | B31: ='2017 Vincent'!AD37 -> 0 | C31: ='2017 Vincent'!AE37 -> 0 | D31: ='2017 Vincent'!AF37 -> 0 | E31: ='2017 Vincent'!AG37 -> 0 | F31: ='2017 Vincent'!AH37 -> 0 | G31: ='2017 Vincent'!AI37 -> 0 | H31: ='2017 Vincent'!AJ37 -> 0 | ... J31: ='2017 Vincent'!AL37 -> 0 | L31: 0.30347222 | M31: Juillet | N31: 28 | O31: 209
A32: ='2017 Vincent'!AC38 -> 16 | B32: ='2017 Vincent'!AD38 -> 16 | C32: ='2017 Vincent'!AE38 -> Janvier | D32: ='2017 Vincent'!AF38 -> 0.65972222 | E32: ='2017 Vincent'!AG38 -> 0.93541667 | F32: ='2017 Vincent'!AH38 -> 0.27569444 | G32: ='2017 Vincent'!AI38 -> 0.27569444 | H32: ='2017 Vincent'!AJ38 -> 16 | ... J32: ='2017 Vincent'!AL38 -> 0.30694444 | L32: 0.30277778 | M32: Mai | N32: 30 | O32: 150
A33: ='2017 Vincent'!AC39 -> 0 | B33: ='2017 Vincent'!AD39 -> 0 | C33: ='2017 Vincent'!AE39 -> 0 | D33: ='2017 Vincent'!AF39 -> 0 | E33: ='2017 Vincent'!AG39 -> 0 | F33: ='2017 Vincent'!AH39 -> 0 | G33: ='2017 Vincent'!AI39 -> 0 | H33: ='2017 Vincent'!AJ39 -> 0 | ... J33: ='2017 Vincent'!AL39 -> 0 | M33: Juin | N33: 12 | O33: 163
A34: ='2017 Vincent'!AC40 -> 17 | B34: ='2017 Vincent'!AD40 -> 17 | C34: ='2017 Vincent'!AE40 -> Janvier | D34: ='2017 Vincent'!AF40 -> 0.5 | E34: ='2017 Vincent'!AG40 -> 0.74791667 | F34: ='2017 Vincent'!AH40 -> 0.24791667 | G34: ='2017 Vincent'!AI40 -> 0.24791667 | H34: ='2017 Vincent'!AJ40 -> 17 | ... J34: ='2017 Vincent'!AL40 -> 0.30694444 | N34: 13 | O34: 164
A35: ='2017 Vincent'!AC41 -> 0 | B35: ='2017 Vincent'!AD41 -> 0 | C35: ='2017 Vincent'!AE41 -> 0 | D35: ='2017 Vincent'!AF41 -> 0 | E35: ='2017 Vincent'!AG41 -> 0 | F35: ='2017 Vincent'!AH41 -> 0 | G35: ='2017 Vincent'!AI41 -> 0 | H35: ='2017 Vincent'!AJ41 -> 0 | ... J35: ='2017 Vincent'!AL41 -> 0 | N35: 14 | O35: 165
A36: ='2017 Vincent'!AC42 -> 18 | B36: ='2017 Vincent'!AD42 -> 18 | C36: ='2017 Vincent'!AE42 -> Janvier | D36: ='2017 Vincent'!AF42 -> 0.65972222 | E36: ='2017 Vincent'!AG42 -> 0.93541667 | F36: ='2017 Vincent'!AH42 -> 0.27569444 | G36: ='2017 Vincent'!AI42 -> 0.27569444 | H36: ='2017 Vincent'!AJ42 -> 18 | ... J36: ='2017 Vincent'!AL42 -> 0.30694444 | N36: 15 | O36: 166
A37: ='2017 Vincent'!AC43 -> 0 | B37: ='2017 Vincent'!AD43 -> 0 | C37: ='2017 Vincent'!AE43 -> 0 | D37: ='2017 Vincent'!AF43 -> 0 | E37: ='2017 Vincent'!AG43 -> 0 | F37: ='2017 Vincent'!AH43 -> 0 | G37: ='2017 Vincent'!AI43 -> 0 | H37: ='2017 Vincent'!AJ43 -> 0 | ... J37: ='2017 Vincent'!AL43 -> 0 | M37: Août | N37: 31 | O37: 243
A38: ='2017 Vincent'!AC44 -> 19 | B38: ='2017 Vincent'!AD44 -> 19 | C38: ='2017 Vincent'!AE44 -> Janvier | D38: ='2017 Vincent'!AF44 -> 0 | E38: ='2017 Vincent'!AG44 -> 0 | F38: ='2017 Vincent'!AH44 -> 0 | G38: ='2017 Vincent'!AI44 -> 0 | H38: ='2017 Vincent'!AJ44 -> 19 | ... J38: ='2017 Vincent'!AL44 -> 0.30694444 | L38: 0.30069444 | M38: Août | N38: 21 | O38: 233
A39: ='2017 Vincent'!AC45 -> 0 | B39: ='2017 Vincent'!AD45 -> 0 | C39: ='2017 Vincent'!AE45 -> 0 | D39: ='2017 Vincent'!AF45 -> 0 | E39: ='2017 Vincent'!AG45 -> 0 | F39: ='2017 Vincent'!AH45 -> 0 | G39: ='2017 Vincent'!AI45 -> 0 | H39: ='2017 Vincent'!AJ45 -> 0 | ... J39: ='2017 Vincent'!AL45 -> 0 | L39: 0.29930556 | M39: Fevrier | N39: 25 | O39: 56
A40: ='2017 Vincent'!AC46 -> 20 | B40: ='2017 Vincent'!AD46 -> 20 | C40: ='2017 Vincent'!AE46 -> Janvier | D40: ='2017 Vincent'!AF46 -> 0 | E40: ='2017 Vincent'!AG46 -> 0 | F40: ='2017 Vincent'!AH46 -> 0 | G40: ='2017 Vincent'!AI46 -> 0 | H40: ='2017 Vincent'!AJ46 -> 20 | ... J40: ='2017 Vincent'!AL46 -> 0.30694444 | L40: 0.29791667 | M40: Juin | N40: 20 | O40: 171
A41: ='2017 Vincent'!AC47 -> 0 | B41: ='2017 Vincent'!AD47 -> 0 | C41: ='2017 Vincent'!AE47 -> 0 | D41: ='2017 Vincent'!AF47 -> 0 | E41: ='2017 Vincent'!AG47 -> 0 | F41: ='2017 Vincent'!AH47 -> 0 | G41: ='2017 Vincent'!AI47 -> 0 | H41: ='2017 Vincent'!AJ47 -> 0 | ... J41: ='2017 Vincent'!AL47 -> 0 | M41: Decembre | N41: 4 | O41: 338
A42: ='2017 Vincent'!AC48 -> 21 | B42: ='2017 Vincent'!AD48 -> 21 | C42: ='2017 Vincent'!AE48 -> Janvier | D42: ='2017 Vincent'!AF48 -> 0.48055556 | E42: ='2017 Vincent'!AG48 -> 0.75277778 | F42: ='2017 Vincent'!AH48 -> 0.27222222 | G42: ='2017 Vincent'!AI48 -> 0.27222222 | H42: ='2017 Vincent'!AJ48 -> 21 | ... J42: ='2017 Vincent'!AL48 -> 0.30625 | N42: 5 | O42: 339
A43: ='2017 Vincent'!AC49 -> 0 | B43: ='2017 Vincent'!AD49 -> 0 | C43: ='2017 Vincent'!AE49 -> 0 | D43: ='2017 Vincent'!AF49 -> 0 | E43: ='2017 Vincent'!AG49 -> 0 | F43: ='2017 Vincent'!AH49 -> 0 | G43: ='2017 Vincent'!AI49 -> 0 | H43: ='2017 Vincent'!AJ49 -> 0 | ... J43: ='2017 Vincent'!AL49 -> 0 | N43: 6 | O43: 340
A44: ='2017 Vincent'!AC50 -> 22 | B44: ='2017 Vincent'!AD50 -> 22 | C44: ='2017 Vincent'!AE50 -> Janvier | D44: ='2017 Vincent'!AF50 -> 0.79583333 | E44: ='2017 Vincent'!AG50 -> 1.0840278 | F44: ='2017 Vincent'!AH50 -> 0.28819444 | G44: ='2017 Vincent'!AI50 -> 0.28819444 | H44: ='2017 Vincent'!AJ50 -> 22 | ... J44: ='2017 Vincent'!AL50 -> 0.30625 | L44: 0.29583333 | M44: Juin | N44: 2 | O44: 153
A45: ='2017 Vincent'!AC51 -> 0 | B45: ='2017 Vincent'!AD51 -> 0 | C45: ='2017 Vincent'!AE51 -> 0 | D45: ='2017 Vincent'!AF51 -> 0 | E45: ='2017 Vincent'!AG51 -> 0 | F45: ='2017 Vincent'!AH51 -> 0 | G45: ='2017 Vincent'!AI51 -> 0 | H45: ='2017 Vincent'!AJ51 -> 0 | ... J45: ='2017 Vincent'!AL51 -> 0 | N45: 6 | O45: 157
A46: ='2017 Vincent'!AC52 -> 23 | B46: ='2017 Vincent'!AD52 -> 23 | C46: ='2017 Vincent'!AE52 -> Janvier | D46: ='2017 Vincent'!AF52 -> 0.79513889 | E46: ='2017 Vincent'!AG52 -> 1.0826389 | F46: ='2017 Vincent'!AH52 -> 0.2875 | G46: ='2017 Vincent'!AI52 -> 0.2875 | H46: ='2017 Vincent'!AJ52 -> 23 | ... J46: ='2017 Vincent'!AL52 -> 0.30625 | N46: 7 | O46: 158
A47: ='2017 Vincent'!AC53 -> 0 | B47: ='2017 Vincent'!AD53 -> 0 | C47: ='2017 Vincent'!AE53 -> 0 | D47: ='2017 Vincent'!AF53 -> 0 | E47: ='2017 Vincent'!AG53 -> 0 | F47: ='2017 Vincent'!AH53 -> 0 | G47: ='2017 Vincent'!AI53 -> 0 | H47: ='2017 Vincent'!AJ53 -> 0 | ... J47: ='2017 Vincent'!AL53 -> 0 | L47: 0.29513889 | M47: Mars | N47: 17 | O47: 76
A48: ='2017 Vincent'!AC54 -> 24 | B48: ='2017 Vincent'!AD54 -> 24 | C48: ='2017 Vincent'!AE54 -> Janvier | D48: ='2017 Vincent'!AF54 -> 0 | E48: ='2017 Vincent'!AG54 -> 0 | F48: ='2017 Vincent'!AH54 -> 0 | G48: ='2017 Vincent'!AI54 -> 0 | H48: ='2017 Vincent'!AJ54 -> 24 | ... J48: ='2017 Vincent'!AL54 -> 0.30625 | L48: 0.29375 | M48: Juillet | N48: 9 | O48: 190
A49: ='2017 Vincent'!AC55 -> 0 | B49: ='2017 Vincent'!AD55 -> 0 | C49: ='2017 Vincent'!AE55 -> 0 | D49: ='2017 Vincent'!AF55 -> 0 | E49: ='2017 Vincent'!AG55 -> 0 | F49: ='2017 Vincent'!AH55 -> 0 | G49: ='2017 Vincent'!AI55 -> 0 | H49: ='2017 Vincent'!AJ55 -> 0 | ... J49: ='2017 Vincent'!AL55 -> 0 | L49: 0.29236111 | M49: Mars | N49: 7 | O49: 66
A50: ='2017 Vincent'!AC56 -> 25 | B50: ='2017 Vincent'!AD56 -> 25 | C50: ='2017 Vincent'!AE56 -> Janvier | D50: ='2017 Vincent'!AF56 -> 0.79513889 | E50: ='2017 Vincent'!AG56 -> 1.0826389 | F50: ='2017 Vincent'!AH56 -> 0.2875 | G50: ='2017 Vincent'!AI56 -> 0.2875 | H50: ='2017 Vincent'!AJ56 -> 25 | ... J50: ='2017 Vincent'!AL56 -> 0.30625 | N50: 29 | O50: 88
A51: ='2017 Vincent'!AC57 -> 0 | B51: ='2017 Vincent'!AD57 -> 0 | C51: ='2017 Vincent'!AE57 -> 0 | D51: ='2017 Vincent'!AF57 -> 0 | E51: ='2017 Vincent'!AG57 -> 0 | F51: ='2017 Vincent'!AH57 -> 0 | G51: ='2017 Vincent'!AI57 -> 0 | H51: ='2017 Vincent'!AJ57 -> 0 | ... J51: ='2017 Vincent'!AL57 -> 0 | M51: Juin | N51: 30 | O51: 181
A52: ='2017 Vincent'!AC58 -> 26 | B52: ='2017 Vincent'!AD58 -> 26 | C52: ='2017 Vincent'!AE58 -> Janvier | D52: ='2017 Vincent'!AF58 -> 0.79513889 | E52: ='2017 Vincent'!AG58 -> 1.0826389 | F52: ='2017 Vincent'!AH58 -> 0.2875 | G52: ='2017 Vincent'!AI58 -> 0.2875 | H52: ='2017 Vincent'!AJ58 -> 26 | ... J52: ='2017 Vincent'!AL58 -> 0.30625 | L52: 0.29166667 | M52: Juillet | N52: 25 | O52: 206
A53: ='2017 Vincent'!AC59 -> 0 | B53: ='2017 Vincent'!AD59 -> 0 | C53: ='2017 Vincent'!AE59 -> 0 | D53: ='2017 Vincent'!AF59 -> 0 | E53: ='2017 Vincent'!AG59 -> 0 | F53: ='2017 Vincent'!AH59 -> 0 | G53: ='2017 Vincent'!AI59 -> 0 | H53: ='2017 Vincent'!AJ59 -> 0 | ... J53: ='2017 Vincent'!AL59 -> 0 | N53: 26 | O53: 207
A54: ='2017 Vincent'!AC60 -> 27 | B54: ='2017 Vincent'!AD60 -> 27 | C54: ='2017 Vincent'!AE60 -> Janvier | D54: ='2017 Vincent'!AF60 -> 0 | E54: ='2017 Vincent'!AG60 -> 0 | F54: ='2017 Vincent'!AH60 -> 0 | G54: ='2017 Vincent'!AI60 -> 0 | H54: ='2017 Vincent'!AJ60 -> 27 | ... J54: ='2017 Vincent'!AL60 -> 0.30486111 | M54: Octobre | N54: 4 | O54: 277
A55: ='2017 Vincent'!AC61 -> 0 | B55: ='2017 Vincent'!AD61 -> 0 | C55: ='2017 Vincent'!AE61 -> 0 | D55: ='2017 Vincent'!AF61 -> 0 | E55: ='2017 Vincent'!AG61 -> 0 | F55: ='2017 Vincent'!AH61 -> 0 | G55: ='2017 Vincent'!AI61 -> 0 | H55: ='2017 Vincent'!AJ61 -> 0 | ... J55: ='2017 Vincent'!AL61 -> 0 | N55: 5 | O55: 278
A56: ='2017 Vincent'!AC62 -> 28 | B56: ='2017 Vincent'!AD62 -> 28 | C56: ='2017 Vincent'!AE62 -> Janvier | D56: ='2017 Vincent'!AF62 -> 0 | E56: ='2017 Vincent'!AG62 -> 0 | F56: ='2017 Vincent'!AH62 -> 0 | G56: ='2017 Vincent'!AI62 -> 0 | H56: ='2017 Vincent'!AJ62 -> 28 | ... J56: ='2017 Vincent'!AL62 -> 0.30486111 | M56: Decembre | N56: 18 | O56: 352
A57: ='2017 Vincent'!AC63 -> 0 | B57: ='2017 Vincent'!AD63 -> 0 | C57: ='2017 Vincent'!AE63 -> 0 | D57: ='2017 Vincent'!AF63 -> 0 | E57: ='2017 Vincent'!AG63 -> 0 | F57: ='2017 Vincent'!AH63 -> 0 | G57: ='2017 Vincent'!AI63 -> 0 | H57: ='2017 Vincent'!AJ63 -> 0 | ... J57: ='2017 Vincent'!AL63 -> 0 | N57: 19 | O57: 353
A58: ='2017 Vincent'!AC64 -> 29 | B58: ='2017 Vincent'!AD64 -> 29 | C58: ='2017 Vincent'!AE64 -> Janvier | D58: ='2017 Vincent'!AF64 -> 0 | E58: ='2017 Vincent'!AG64 -> 0 | F58: ='2017 Vincent'!AH64 -> 0 | G58: ='2017 Vincent'!AI64 -> 0 | H58: ='2017 Vincent'!AJ64 -> 29 | ... J58: ='2017 Vincent'!AL64 -> 0.30416667 | N58: 20 | O58: 354
A59: ='2017 Vincent'!AC65 -> 0 | B59: ='2017 Vincent'!AD65 -> 0 | C59: ='2017 Vincent'!AE65 -> 0 | D59: ='2017 Vincent'!AF65 -> 0 | E59: ='2017 Vincent'!AG65 -> 0 | F59: ='2017 Vincent'!AH65 -> 0 | G59: ='2017 Vincent'!AI65 -> 0 | H59: ='2017 Vincent'!AJ65 -> 0 | ... J59: ='2017 Vincent'!AL65 -> 0 | N59: 21 | O59: 355
A60: ='2017 Vincent'!AC66 -> 30 | B60: ='2017 Vincent'!AD66 -> 30 | C60: ='2017 Vincent'!AE66 -> Janvier | D60: ='2017 Vincent'!AF66 -> 0.55972222 | E60: ='2017 Vincent'!AG66 -> 0.82986111 | F60: ='2017 Vincent'!AH66 -> 0.27013889 | G60: ='2017 Vincent'!AI66 -> 0.27013889 | H60: ='2017 Vincent'!AJ66 -> 30 | ... J60: ='2017 Vincent'!AL66 -> 0.30347222 | N60: 22 | O60: 356
A61: ='2017 Vincent'!AC67 -> 0 | B61: ='2017 Vincent'!AD67 -> 0 | C61: ='2017 Vincent'!AE67 -> 0 | D61: ='2017 Vincent'!AF67 -> 0 | E61: ='2017 Vincent'!AG67 -> 0 | F61: ='2017 Vincent'!AH67 -> 0 | G61: ='2017 Vincent'!AI67 -> 0 | H61: ='2017 Vincent'!AJ67 -> 0 | ... J61: ='2017 Vincent'!AL67 -> 0 | L61: 0.29097222 | M61: Juin | N61: 19 | O61: 170
A62: ='2017 Vincent'!AC68 -> 31 | B62: ='2017 Vincent'!AD68 -> 31 | C62: ='2017 Vincent'!AE68 -> Janvier | D62: ='2017 Vincent'!AF68 -> 0.55972222 | E62: ='2017 Vincent'!AG68 -> 0.82986111 | F62: ='2017 Vincent'!AH68 -> 0.27013889 | G62: ='2017 Vincent'!AI68 -> 0.27013889 | H62: ='2017 Vincent'!AJ68 -> 31 | ... J62: ='2017 Vincent'!AL68 -> 0.30277778 | N62: 21 | O62: 172
A63: ='2017 Vincent'!AC69 -> 0 | B63: ='2017 Vincent'!AD69 -> 0 | C63: ='2017 Vincent'!AE69 -> 0 | D63: ='2017 Vincent'!AF69 -> 0 | E63: ='2017 Vincent'!AG69 -> 0 | F63: ='2017 Vincent'!AH69 -> 0 | G63: ='2017 Vincent'!AI69 -> 0 | H63: ='2017 Vincent'!AJ69 -> 0 | ... J63: ='2017 Vincent'!AL69 -> 0 | M63: Août | N63: 22 | O63: 234
A64: ='2017 Vincent'!AC70 -> 32 | B64: ='2017 Vincent'!AD70 -> 1 | C64: ='2017 Vincent'!AE70 -> Fevrier | D64: ='2017 Vincent'!AF70 -> 0.55972222 | E64: ='2017 Vincent'!AG70 -> 0.82986111 | F64: ='2017 Vincent'!AH70 -> 0.27013889 | G64: ='2017 Vincent'!AI70 -> 0.27013889 | H64: ='2017 Vincent'!AJ70 -> 32 | ... J64: ='2017 Vincent'!AL70 -> 0.30277778 | L64: 0.29027778 | M64: Fevrier | N64: 27 | O64: 58
A65: ='2017 Vincent'!AC71 -> 0 | B65: ='2017 Vincent'!AD71 -> 0 | C65: ='2017 Vincent'!AE71 -> 0 | D65: ='2017 Vincent'!AF71 -> 0 | E65: ='2017 Vincent'!AG71 -> 0 | F65: ='2017 Vincent'!AH71 -> 0 | G65: ='2017 Vincent'!AI71 -> 0 | H65: ='2017 Vincent'!AJ71 -> 0 | ... J65: ='2017 Vincent'!AL71 -> 0 | M65: Mai | N65: 22 | O65: 142
A66: ='2017 Vincent'!AC72 -> 33 | B66: ='2017 Vincent'!AD72 -> 2 | C66: ='2017 Vincent'!AE72 -> Fevrier | D66: ='2017 Vincent'!AF72 -> 0.55972222 | E66: ='2017 Vincent'!AG72 -> 0.82986111 | F66: ='2017 Vincent'!AH72 -> 0.27013889 | G66: ='2017 Vincent'!AI72 -> 0.27013889 | H66: ='2017 Vincent'!AJ72 -> 33 | ... J66: ='2017 Vincent'!AL72 -> 0.30277778 | M66: Juin | N66: 22 | O66: 173
A67: ='2017 Vincent'!AC73 -> 0 | B67: ='2017 Vincent'!AD73 -> 0 | C67: ='2017 Vincent'!AE73 -> 0 | D67: ='2017 Vincent'!AF73 -> 0 | E67: ='2017 Vincent'!AG73 -> 0 | F67: ='2017 Vincent'!AH73 -> 0 | G67: ='2017 Vincent'!AI73 -> 0 | H67: ='2017 Vincent'!AJ73 -> 0 | ... J67: ='2017 Vincent'!AL73 -> 0 | N67: 23 | O67: 174
A68: ='2017 Vincent'!AC74 -> 34 | B68: ='2017 Vincent'!AD74 -> 3 | C68: ='2017 Vincent'!AE74 -> Fevrier | D68: ='2017 Vincent'!AF74 -> 0.55972222 | E68: ='2017 Vincent'!AG74 -> 0.82986111 | F68: ='2017 Vincent'!AH74 -> 0.27013889 | G68: ='2017 Vincent'!AI74 -> 0.27013889 | H68: ='2017 Vincent'!AJ74 -> 34 | ... J68: ='2017 Vincent'!AL74 -> 0.30277778 | M68: Novembre | N68: 13 | O68: 317
A69: ='2017 Vincent'!AC75 -> 0 | B69: ='2017 Vincent'!AD75 -> 0 | C69: ='2017 Vincent'!AE75 -> 0 | D69: ='2017 Vincent'!AF75 -> 0 | E69: ='2017 Vincent'!AG75 -> 0 | F69: ='2017 Vincent'!AH75 -> 0 | G69: ='2017 Vincent'!AI75 -> 0 | H69: ='2017 Vincent'!AJ75 -> 0 | ... J69: ='2017 Vincent'!AL75 -> 0 | N69: 14 | O69: 318
A70: ='2017 Vincent'!AC76 -> 35 | B70: ='2017 Vincent'!AD76 -> 4 | C70: ='2017 Vincent'!AE76 -> Fevrier | D70: ='2017 Vincent'!AF76 -> 0 | E70: ='2017 Vincent'!AG76 -> 0 | F70: ='2017 Vincent'!AH76 -> 0 | G70: ='2017 Vincent'!AI76 -> 0 | H70: ='2017 Vincent'!AJ76 -> 35 | ... J70: ='2017 Vincent'!AL76 -> 0.30277778 | N70: 15 | O70: 319
A71: ='2017 Vincent'!AC77 -> 0 | B71: ='2017 Vincent'!AD77 -> 0 | C71: ='2017 Vincent'!AE77 -> 0 | D71: ='2017 Vincent'!AF77 -> 0 | E71: ='2017 Vincent'!AG77 -> 0 | F71: ='2017 Vincent'!AH77 -> 0 | G71: ='2017 Vincent'!AI77 -> 0 | H71: ='2017 Vincent'!AJ77 -> 0 | ... J71: ='2017 Vincent'!AL77 -> 0 | N71: 16 | O71: 320
A72: ='2017 Vincent'!AC78 -> 36 | B72: ='2017 Vincent'!AD78 -> 5 | C72: ='2017 Vincent'!AE78 -> Fevrier | D72: ='2017 Vincent'!AF78 -> 0 | E72: ='2017 Vincent'!AG78 -> 0 | F72: ='2017 Vincent'!AH78 -> 0 | G72: ='2017 Vincent'!AI78 -> 0 | H72: ='2017 Vincent'!AJ78 -> 36 | ... J72: ='2017 Vincent'!AL78 -> 0.30277778 | L72: 0.28958333 | M72: Janvier | N72: 15 | O72: 15
A73: ='2017 Vincent'!AC79 -> 0 | B73: ='2017 Vincent'!AD79 -> 0 | C73: ='2017 Vincent'!AE79 -> 0 | D73: ='2017 Vincent'!AF79 -> 0 | E73: ='2017 Vincent'!AG79 -> 0 | F73: ='2017 Vincent'!AH79 -> 0 | G73: ='2017 Vincent'!AI79 -> 0 | H73: ='2017 Vincent'!AJ79 -> 0 | ... J73: ='2017 Vincent'!AL79 -> 0 | M73: Avril | N73: 19 | O73: 109
A74: ='2017 Vincent'!AC80 -> 37 | B74: ='2017 Vincent'!AD80 -> 6 | C74: ='2017 Vincent'!AE80 -> Fevrier | D74: ='2017 Vincent'!AF80 -> 0.50069444 | E74: ='2017 Vincent'!AG80 -> 0.76388889 | F74: ='2017 Vincent'!AH80 -> 0.26319444 | G74: ='2017 Vincent'!AI80 -> 0.26319444 | H74: ='2017 Vincent'!AJ80 -> 37 | ... J74: ='2017 Vincent'!AL80 -> 0.30069444 | N74: 20 | O74: 110
A75: ='2017 Vincent'!AC81 -> 0 | B75: ='2017 Vincent'!AD81 -> 0 | C75: ='2017 Vincent'!AE81 -> 0 | D75: ='2017 Vincent'!AF81 -> 0 | E75: ='2017 Vincent'!AG81 -> 0 | F75: ='2017 Vincent'!AH81 -> 0 | G75: ='2017 Vincent'!AI81 -> 0 | H75: ='2017 Vincent'!AJ81 -> 0 | ... J75: ='2017 Vincent'!AL81 -> 0 | N75: 25 | O75: 115
A76: ='2017 Vincent'!AC82 -> 38 | B76: ='2017 Vincent'!AD82 -> 7 | C76: ='2017 Vincent'!AE82 -> Fevrier | D76: ='2017 Vincent'!AF82 -> 0.67638889 | E76: ='2017 Vincent'!AG82 -> 0.95625 | F76: ='2017 Vincent'!AH82 -> 0.27986111 | G76: ='2017 Vincent'!AI82 -> 0.27986111 | H76: ='2017 Vincent'!AJ82 -> 38 | ... J76: ='2017 Vincent'!AL82 -> 0.29930556 | N76: 26 | O76: 116
A77: ='2017 Vincent'!AC83 -> 0 | B77: ='2017 Vincent'!AD83 -> 0 | C77: ='2017 Vincent'!AE83 -> 0 | D77: ='2017 Vincent'!AF83 -> 0 | E77: ='2017 Vincent'!AG83 -> 0 | F77: ='2017 Vincent'!AH83 -> 0 | G77: ='2017 Vincent'!AI83 -> 0 | H77: ='2017 Vincent'!AJ83 -> 0 | ... J77: ='2017 Vincent'!AL83 -> 0 | N77: 27 | O77: 117
A78: ='2017 Vincent'!AC84 -> 39 | B78: ='2017 Vincent'!AD84 -> 8 | C78: ='2017 Vincent'!AE84 -> Fevrier | D78: ='2017 Vincent'!AF84 -> 0.25763889 | E78: ='2017 Vincent'!AG84 -> 0.43125 | F78: ='2017 Vincent'!AH84 -> 0.28888889 | G78: ='2017 Vincent'!AI84 -> 0.28888889 | H78: ='2017 Vincent'!AJ84 -> 39 | ... J78: ='2017 Vincent'!AL84 -> 0.29791667 | M78: Juillet | N78: 24 | O78: 205
A79: ='2017 Vincent'!AC85 -> 0 | B79: ='2017 Vincent'!AD85 -> 0 | C79: ='2017 Vincent'!AE85 -> 0 | D79: ='2017 Vincent'!AF85 -> 0.68125 | E79: ='2017 Vincent'!AG85 -> 0.79652778 | F79: ='2017 Vincent'!AH85 -> 0 | G79: ='2017 Vincent'!AI85 -> 0 | H79: ='2017 Vincent'!AJ85 -> 0 | ... J79: ='2017 Vincent'!AL85 -> 0 | N79: 27 | O79: 208
A80: ='2017 Vincent'!AC86 -> 40 | B80: ='2017 Vincent'!AD86 -> 9 | C80: ='2017 Vincent'!AE86 -> Fevrier | D80: ='2017 Vincent'!AF86 -> 0.25763889 | E80: ='2017 Vincent'!AG86 -> 0.43125 | F80: ='2017 Vincent'!AH86 -> 0.28888889 | G80: ='2017 Vincent'!AI86 -> 0.28888889 | H80: ='2017 Vincent'!AJ86 -> 40 | ... J80: ='2017 Vincent'!AL86 -> 0.29791667 | M80: Septembre | N80: 5 | O80: 248
A81: ='2017 Vincent'!AC87 -> 0 | B81: ='2017 Vincent'!AD87 -> 0 | C81: ='2017 Vincent'!AE87 -> 0 | D81: ='2017 Vincent'!AF87 -> 0.68125 | E81: ='2017 Vincent'!AG87 -> 0.79652778 | F81: ='2017 Vincent'!AH87 -> 0 | G81: ='2017 Vincent'!AI87 -> 0 | H81: ='2017 Vincent'!AJ87 -> 0 | ... J81: ='2017 Vincent'!AL87 -> 0 | N81: 7 | O81: 250
A82: ='2017 Vincent'!AC88 -> 41 | B82: ='2017 Vincent'!AD88 -> 10 | C82: ='2017 Vincent'!AE88 -> Fevrier | D82: ='2017 Vincent'!AF88 -> 0.5 | E82: ='2017 Vincent'!AG88 -> 0.76180556 | F82: ='2017 Vincent'!AH88 -> 0.26180556 | G82: ='2017 Vincent'!AI88 -> 0.26180556 | H82: ='2017 Vincent'!AJ88 -> 41 | ... J82: ='2017 Vincent'!AL88 -> 0.29791667 | M82: Octobre | N82: 22 | O82: 295
A83: ='2017 Vincent'!AC89 -> 0 | B83: ='2017 Vincent'!AD89 -> 0 | C83: ='2017 Vincent'!AE89 -> 0 | D83: ='2017 Vincent'!AF89 -> 0 | E83: ='2017 Vincent'!AG89 -> 0 | F83: ='2017 Vincent'!AH89 -> 0 | G83: ='2017 Vincent'!AI89 -> 0 | H83: ='2017 Vincent'!AJ89 -> 0 | ... J83: ='2017 Vincent'!AL89 -> 0 | L83: 0.28888889 | M83: Fevrier | N83: 8 | O83: 39
A84: ='2017 Vincent'!AC90 -> 42 | B84: ='2017 Vincent'!AD90 -> 11 | C84: ='2017 Vincent'!AE90 -> Fevrier | D84: ='2017 Vincent'!AF90 -> 0 | E84: ='2017 Vincent'!AG90 -> 0 | F84: ='2017 Vincent'!AH90 -> 0 | G84: ='2017 Vincent'!AI90 -> 0 | H84: ='2017 Vincent'!AJ90 -> 42 | ... J84: ='2017 Vincent'!AL90 -> 0.29791667 | N84: 9 | O84: 40
A85: ='2017 Vincent'!AC91 -> 0 | B85: ='2017 Vincent'!AD91 -> 0 | C85: ='2017 Vincent'!AE91 -> 0 | D85: ='2017 Vincent'!AF91 -> 0 | E85: ='2017 Vincent'!AG91 -> 0 | F85: ='2017 Vincent'!AH91 -> 0 | G85: ='2017 Vincent'!AI91 -> 0 | H85: ='2017 Vincent'!AJ91 -> 0 | ... J85: ='2017 Vincent'!AL91 -> 0 | M85: Mars | N85: 8 | O85: 67
A86: ='2017 Vincent'!AC92 -> 43 | B86: ='2017 Vincent'!AD92 -> 12 | C86: ='2017 Vincent'!AE92 -> Fevrier | D86: ='2017 Vincent'!AF92 -> 0 | E86: ='2017 Vincent'!AG92 -> 0 | F86: ='2017 Vincent'!AH92 -> 0 | G86: ='2017 Vincent'!AI92 -> 0 | H86: ='2017 Vincent'!AJ92 -> 43 | ... J86: ='2017 Vincent'!AL92 -> 0.29583333 | N86: 9 | O86: 68
A87: ='2017 Vincent'!AC93 -> 0 | B87: ='2017 Vincent'!AD93 -> 0 | C87: ='2017 Vincent'!AE93 -> 0 | D87: ='2017 Vincent'!AF93 -> 0 | E87: ='2017 Vincent'!AG93 -> 0 | F87: ='2017 Vincent'!AH93 -> 0 | G87: ='2017 Vincent'!AI93 -> 0 | H87: ='2017 Vincent'!AJ93 -> 0 | ... J87: ='2017 Vincent'!AL93 -> 0 | N87: 10 | O87: 69
A88: ='2017 Vincent'!AC94 -> 44 | B88: ='2017 Vincent'!AD94 -> 13 | C88: ='2017 Vincent'!AE94 -> Fevrier | D88: ='2017 Vincent'!AF94 -> 0 | E88: ='2017 Vincent'!AG94 -> 0 | F88: ='2017 Vincent'!AH94 -> 0 | G88: ='2017 Vincent'!AI94 -> 0 | H88: ='2017 Vincent'!AJ94 -> 44 | ... J88: ='2017 Vincent'!AL94 -> 0.29583333 | M88: Juillet | N88: 17 | O88: 198
A89: ='2017 Vincent'!AC95 -> 0 | B89: ='2017 Vincent'!AD95 -> 0 | C89: ='2017 Vincent'!AE95 -> 0 | D89: ='2017 Vincent'!AF95 -> 0 | E89: ='2017 Vincent'!AG95 -> 0 | F89: ='2017 Vincent'!AH95 -> 0 | G89: ='2017 Vincent'!AI95 -> 0 | H89: ='2017 Vincent'!AJ95 -> 0 | ... J89: ='2017 Vincent'!AL95 -> 0 | M89: Octobre | N89: 19 | O89: 292
A90: ='2017 Vincent'!AC96 -> 45 | B90: ='2017 Vincent'!AD96 -> 14 | C90: ='2017 Vincent'!AE96 -> Fevrier | D90: ='2017 Vincent'!AF96 -> 0.77083333 | E90: ='2017 Vincent'!AG96 -> 1.04375 | F90: ='2017 Vincent'!AH96 -> 0.27291667 | G90: ='2017 Vincent'!AI96 -> 0.27291667 | H90: ='2017 Vincent'!AJ96 -> 45 | ... J90: ='2017 Vincent'!AL96 -> 0.29583333 | N90: 20 | O90: 293
A91: ='2017 Vincent'!AC97 -> 0 | B91: ='2017 Vincent'!AD97 -> 0 | C91: ='2017 Vincent'!AE97 -> 0 | D91: ='2017 Vincent'!AF97 -> 0 | E91: ='2017 Vincent'!AG97 -> 0 | F91: ='2017 Vincent'!AH97 -> 0 | G91: ='2017 Vincent'!AI97 -> 0 | H91: ='2017 Vincent'!AJ97 -> 0 | ... J91: ='2017 Vincent'!AL97 -> 0 | N91: 29 | O91: 302
A92: ='2017 Vincent'!AC98 -> 46 | B92: ='2017 Vincent'!AD98 -> 15 | C92: ='2017 Vincent'!AE98 -> Fevrier | D92: ='2017 Vincent'!AF98 -> 0.77083333 | E92: ='2017 Vincent'!AG98 -> 1.04375 | F92: ='2017 Vincent'!AH98 -> 0.27291667 | G92: ='2017 Vincent'!AI98 -> 0.27291667 | H92: ='2017 Vincent'!AJ98 -> 46 | ... J92: ='2017 Vincent'!AL98 -> 0.29513889 | L92: 0.28819444 | M92: Janvier | N92: 22 | O92: 22
A93: ='2017 Vincent'!AC99 -> 0 | B93: ='2017 Vincent'!AD99 -> 0 | C93: ='2017 Vincent'!AE99 -> 0 | D93: ='2017 Vincent'!AF99 -> 0 | E93: ='2017 Vincent'!AG99 -> 0 | F93: ='2017 Vincent'!AH99 -> 0 | G93: ='2017 Vincent'!AI99 -> 0 | H93: ='2017 Vincent'!AJ99 -> 0 | ... J93: ='2017 Vincent'!AL99 -> 0 | M93: Avril | N93: 1 | O93: 91
A94: ='2017 Vincent'!AC100 -> 47 | B94: ='2017 Vincent'!AD100 -> 16 | C94: ='2017 Vincent'!AE100 -> Fevrier | D94: ='2017 Vincent'!AF100 -> 0.60277778 | E94: ='2017 Vincent'!AG100 -> 0.86388889 | F94: ='2017 Vincent'!AH100 -> 0.26111111 | G94: ='2017 Vincent'!AI100 -> 0.26111111 | H94: ='2017 Vincent'!AJ100 -> 47 | ... J94: ='2017 Vincent'!AL100 -> 0.29375 | M94: Mai | N94: 13 | O94: 133
A95: ='2017 Vincent'!AC101 -> 0 | B95: ='2017 Vincent'!AD101 -> 0 | C95: ='2017 Vincent'!AE101 -> 0 | D95: ='2017 Vincent'!AF101 -> 0 | E95: ='2017 Vincent'!AG101 -> 0 | F95: ='2017 Vincent'!AH101 -> 0 | G95: ='2017 Vincent'!AI101 -> 0 | H95: ='2017 Vincent'!AJ101 -> 0 | ... J95: ='2017 Vincent'!AL101 -> 0 | M95: Novembre | N95: 25 | O95: 329
A96: ='2017 Vincent'!AC102 -> 48 | B96: ='2017 Vincent'!AD102 -> 17 | C96: ='2017 Vincent'!AE102 -> Fevrier | D96: ='2017 Vincent'!AF102 -> 0.60277778 | E96: ='2017 Vincent'!AG102 -> 0.86388889 | F96: ='2017 Vincent'!AH102 -> 0.26111111 | G96: ='2017 Vincent'!AI102 -> 0.26111111 | H96: ='2017 Vincent'!AJ102 -> 48 | ... J96: ='2017 Vincent'!AL102 -> 0.29236111 | L96: 0.2875 | M96: Janvier | N96: 23 | O96: 23
A97: ='2017 Vincent'!AC103 -> 0 | B97: ='2017 Vincent'!AD103 -> 0 | C97: ='2017 Vincent'!AE103 -> 0 | D97: ='2017 Vincent'!AF103 -> 0 | E97: ='2017 Vincent'!AG103 -> 0 | F97: ='2017 Vincent'!AH103 -> 0 | G97: ='2017 Vincent'!AI103 -> 0 | H97: ='2017 Vincent'!AJ103 -> 0 | ... J97: ='2017 Vincent'!AL103 -> 0 | N97: 25 | O97: 25
A98: ='2017 Vincent'!AC104 -> 49 | B98: ='2017 Vincent'!AD104 -> 18 | C98: ='2017 Vincent'!AE104 -> Fevrier | D98: ='2017 Vincent'!AF104 -> 0.55138889 | E98: ='2017 Vincent'!AG104 -> 0.85902778 | F98: ='2017 Vincent'!AH104 -> 0.30763889 | G98: ='2017 Vincent'!AI104 -> 0.30763889 | H98: ='2017 Vincent'!AJ104 -> 49 | ... J98: ='2017 Vincent'!AL104 -> 0.29236111 | N98: 26 | O98: 26
A99: ='2017 Vincent'!AC105 -> 0 | B99: ='2017 Vincent'!AD105 -> 0 | C99: ='2017 Vincent'!AE105 -> 0 | D99: ='2017 Vincent'!AF105 -> 0 | E99: ='2017 Vincent'!AG105 -> 0 | F99: ='2017 Vincent'!AH105 -> 0 | G99: ='2017 Vincent'!AI105 -> 0 | H99: ='2017 Vincent'!AJ105 -> 0 | ... J99: ='2017 Vincent'!AL105 -> 0 | M99: Septembre | N99: 12 | O99: 255
A100: ='2017 Vincent'!AC106 -> 50 | B100: ='2017 Vincent'!AD106 -> 19 | C100: ='2017 Vincent'!AE106 -> Fevrier | D100: ='2017 Vincent'!AF106 -> 0 | E100: ='2017 Vincent'!AG106 -> 0 | F100: ='2017 Vincent'!AH106 -> 0 | G100: ='2017 Vincent'!AI106 -> 0 | H100: ='2017 Vincent'!AJ106 -> 50 | ... J100: ='2017 Vincent'!AL106 -> 0.29236111 | L100: 0.28680556 | M100: Mai | N100: 12 | O100: 132
...
