Workbook

Sheet Feuil2
A1: Nom Prénom | B1: Nom | C1: Prenom | D1: Fonction | E1: Téléphone | F1: Mail | G1: Organisation | H1: Code Postal | I1: Adresse | J1: Ville
A2: =CONCATENATE(Feuil2!$B2," ",Feuil2!$C2) -> A HARRISS Jordana | B2: A HARRISS | C2: Jordana | F2: jordana.harriss@hesam.eu | G2: COLLECTIVITE INCONNUE IEL | H2: 21000
A3: =CONCATENATE(Feuil2!$B3," ",Feuil2!$C3) -> ABALEA Véronique | B3: ABALEA | C3: Véronique | D3: A définir | E3: 0786587117 | F3: veronique.abalea@mairie-brest.fr | G3: BREST METROPOLE | H3: 29222 | I3: 24 RUE COAT AR GUEVEN
A4: =CONCATENATE(Feuil2!$B4," ",Feuil2!$C4) -> ABA-PEREA Anne | B4: ABA-PEREA | C4: Anne | D4: XX | G4: C.N.F.P.T. | H4: 75578 | I4: 80 rue de reuilly
A5: =CONCATENATE(Feuil2!$B5," ",Feuil2!$C5) -> ABEL Rose-Marie | B5: ABEL | C5: Rose-Marie | D5: Directrice générale adjointe - Pôle Ressources | E5: 0299023070 | F5: rose-marie.abel@cg35.fr | G5: Conseil général 35 | I5: 1, avenue de la Préfecture - CS 24218 35042
A6: =CONCATENATE(Feuil2!$B6," ",Feuil2!$C6) -> ABOUE-ZAMBO Mélissa | B6: ABOUE-ZAMBO | C6: Mélissa | D6: Chargée de mission | F6: melissa.aboue-zambo@espacesud.fr | G6: C.A.E.S.M. (COMMUNAUTÉ AGGLOMÉRATION ESPACE SUD MARTINIQUE) | H6: 97228
A7: =CONCATENATE(Feuil2!$B7," ",Feuil2!$C7) -> ACCAMAH EMMA | B7: ACCAMAH | C7: EMMA | D7: ASSISTANTE DU MAIRE ET DU DGS | E7: 0696345282 | F7: secretariatdumaire.ajoupa@orange.fr | G7: COMMUNE D'AJOUPA-BOUILLON | H7: 97216 | I7: BOURG
A8: =CONCATENATE(Feuil2!$B8," ",Feuil2!$C8) -> ACCOT Mathieu Jean Thierry | B8: ACCOT | C8: Mathieu Jean Thierry | D8: Directeur de Service | E8: 0692171954 | F8: mathieu.ACCOT@saintdenis.re | G8: COMMUNE DE ST DENIS | H8: 97400 | I8: MESSAGERIE CEDEX 9
A9: =CONCATENATE(Feuil2!$B9," ",Feuil2!$C9) -> ACELOR Hélène Ariane | B9: ACELOR | C9: Hélène Ariane | D9: Encadrant | E9: 0696299278 | F9: helene.acelor@cg972.fr | G9: COLLECTIVITE TERRITORIALE DE MARTINIQUE (EX CG) | H9: 97264 | I9: BOULEVARD DU CHEVALIER SAINTE-MARTHE
A10: =CONCATENATE(Feuil2!$B10," ",Feuil2!$C10) -> ADIN Michèla | B10: ADIN | C10: Michèla | D10: Directrice générale des services | E10: 0696832139 | F10: michela.adin-lubin@capnordmartinique.fr | G10: OFFICE DE L¿EAU MARTINIQUE | H10: 97201 | I10: BP 32
A11: =CONCATENATE(Feuil2!$B11," ",Feuil2!$C11) -> AGARINI Bernard | B11: AGARINI | C11: Bernard | D11: DGS | G11: Commune de Caluire et Cuire
A12: =CONCATENATE(Feuil2!$B12," ",Feuil2!$C12) -> AGGERI Gaelle | B12: AGGERI | C12: Gaelle | F12: Gaelle.aggeri@cnfpt.fr | G12: CNFPT
A13: =CONCATENATE(Feuil2!$B13," ",Feuil2!$C13) -> AH-KANG Clotilde | B13: AH-KANG | C13: Clotilde | E13: 06 92 712663 | F13: clotilde@aka-interieurs.com | G13: COLLECTIVITE GENERIQUE PERSONNE DROIT PRIVE (NON PAYANT) | H13: 97400 | I13: CS 81037
A14: =CONCATENATE(Feuil2!$B14," ",Feuil2!$C14) -> AH-SON KARINE | B14: AH-SON | C14: KARINE | D14: Directrice Générale Adjointe RRU | E14: 692647559 | F14: karine.ahson@ville-port.re | G14: COMMUNE DU PORT | H14: 97821 | I14: RUE DE SAINT PAUL
A15: =CONCATENATE(Feuil2!$B15," ",Feuil2!$C15) -> AINA Lila | B15: AINA | C15: Lila | D15: Chargé de mission - DGA projet managérial | E15: 06 20 26 21 59 | F15: laina@hauts-de-seine.fr | G15: Département des Hauts de Seine
A16: =CONCATENATE(Feuil2!$B16," ",Feuil2!$C16) -> AIT-OUALI DJAMEL | B16: AIT-OUALI | C16: DJAMEL | D16: DGS | F16: dait-ouali@agglo-porteduhainaut.fr | G16: COMMUNAUTÉ D'AGGLOMERATION DE LA PORTE DU HAINAUT | H16: 59135 | I16: Site Wallers-Arenberg - R Michel-Rondet
A17: =CONCATENATE(Feuil2!$B17," ",Feuil2!$C17) -> AKKARI-TRAORE Licia | B17: AKKARI-TRAORE | C17: Licia | D17: Chargée de mission conseil scientifique | F17: lakkari@ivry94.fr | G17: COMMUNE D'IVRY SUR SEINE | H17: 94200 | I17: 64 ESPLANADE GEORGES MARRANE
A18: =CONCATENATE(Feuil2!$B18," ",Feuil2!$C18) -> ALARIC Ghislaine | B18: ALARIC | C18: Ghislaine | D18: Cheffe de service | E18: 0696 25 33 20 | F18: ghislaine.alaric@fortdefrance.fr | G18: MAIRIE DE FORT-DE-FRANCE | H18: 97264 | I18: B.P 646
A19: =CONCATENATE(Feuil2!$B19," ",Feuil2!$C19) -> ALIDRA Cyril | B19: ALIDRA | C19: Cyril | E19: 0610551333 | F19: c.alidra@grand-senonais.fr | G19: COMMUNAUTE D'AGGLOMERATION DU GRAND SENONAIS | H19: 89105 | I19: 21 BD DU 14 JUILLET
A20: =CONCATENATE(Feuil2!$B20," ",Feuil2!$C20) -> ALLAIN FRANCINE | B20: ALLAIN | C20: FRANCINE | F20: francine.allain@gard.fr | G20: DEPARTEMENT DU GARD | H20: 30000 | I20: HOTEL DU DEPARTEMENT
A21: =CONCATENATE(Feuil2!$B21," ",Feuil2!$C21) -> ALTEMAIRE Martine | B21: ALTEMAIRE | C21: Martine | D21: Secrétaire général | E21: 06 11 11 08 57 | F21: sg@dachstein.fr | G21: DACHSTEIN | H21: 67120 | I21: 21 R PRINCIPALE
A22: =CONCATENATE(Feuil2!$B22," ",Feuil2!$C22) -> AMADI Mourad | B22: AMADI | C22: Mourad | D22: Directeur.rice général.e des services | F22: mourad.amadi@gmail.com | G22: MAIRIE DE LA | H22: 97429 | I22: Hôtel de ville 192 rue Mahé de Labourdonnais | J22: Petie-Ile
A23: =CONCATENATE(Feuil2!$B23," ",Feuil2!$C23) -> AMBLARD Chrystelle | B23: AMBLARD | C23: Chrystelle | D23: Charge de mission temps et territoires | F23: c.amblard@montpellier3m.fr | G23: MONTPELLIER MEDITERRANEE METROPOLE | H23: 34045 | I23: 50 PL ZEUS
A24: =CONCATENATE(Feuil2!$B24," ",Feuil2!$C24) -> AMIOT Karine | B24: AMIOT | C24: Karine | D24: Responsable d'antenne | F24: karine.amiot@cnfpt.fr | G24: C.N.F.P.T. | H24: 75578 | I24: 80 rue de reuilly
A25: =CONCATENATE(Feuil2!$B25," ",Feuil2!$C25) -> AMOROS Charline | B25: AMOROS | C25: Charline | D25: Animateur de Proximité - Maître COmposteur | F25: animcompost@sirtomgrosne.fr | G25: SIRTOM DE LA VALLEE DE LA GROSNE | H25: 71250 | I25: ZA DU PRE SAINT GERMAIN
A26: =CONCATENATE(Feuil2!$B26," ",Feuil2!$C26) -> AMOURIAUX Hélène | B26: AMOURIAUX | C26: Hélène | F26: helene.amouriaux@ille-et-vilaine.fr | G26: CONSEIL DEPARTEMENTAL D'ILLE ET VILAINE | H26: 35042 | I26: 1 AVENUE DE LA PREFECTURE
A27: =CONCATENATE(Feuil2!$B27," ",Feuil2!$C27) -> AMRHEIN PASCALE | B27: AMRHEIN | C27: PASCALE | F27: pascale.amrhein@haguenau.fr | G27: COMMUNAUTE AGGLOMERATION DE HAGUENAU | H27: 67500 | I27: 84 ROUTE DE STRASBOURG
A28: =CONCATENATE(Feuil2!$B28," ",Feuil2!$C28) -> ANDRIGNETTE Anne Lise | B28: ANDRIGNETTE | C28: Anne Lise | D28: INTERVENANTE | E28: 0693 20 24 54 | F28: aandrignette@gmail.com | G28: COLLECTIVITE GENERIQUE PERSONNE DROIT PRIVE (NON PAYANT) | H28: 97400 | I28: CS 81037
A29: =CONCATENATE(Feuil2!$B29," ",Feuil2!$C29) -> ANNETTE DIDIER | B29: ANNETTE | C29: DIDIER | D29: Chargé de développement «¿filières d¿activités économiques¿» | E29: 0692910802 | F29: drh.formation@tco.re | G29: COMMUNAUTE AGGLOMERATION TERRITOIRE COTE OUEST | H29: 97822 | I29: BP 49
A30: =CONCATENATE(Feuil2!$B30," ",Feuil2!$C30) -> ANSELIN Gaëlle | B30: ANSELIN | C30: Gaëlle | D30: chargée de formation innovation managériale | F30: ganselin@mairie-lille.fr | G30: Marie de Lille | I30: Lille
A31: =CONCATENATE(Feuil2!$B31," ",Feuil2!$C31) -> APPREDERISSE Françoise | B31: APPREDERISSE | C31: Françoise | D31: CHEF DE SERVICE | E31: 637066628 | F31: francoise.apprederisse@cnfpt.fr | G31: C.N.F.P.T. | H31: 75578 | I31: 80 rue de reuilly
A32: =CONCATENATE(Feuil2!$B32," ",Feuil2!$C32) -> ARCHAMBEAUD Hugues | B32: ARCHAMBEAUD | C32: Hugues | D32: Directieur de la Prospective | E32: Port. 06 84 95 28 01 / Tél. 02 40 99 14 50 | F32: hugues.archambeaud@loire-atlantique.fr | G32: Département de Loire-Atlantique
A33: =CONCATENATE(Feuil2!$B33," ",Feuil2!$C33) -> ARCHAMBEAUD Hugues | B33: ARCHAMBEAUD | C33: Hugues | D33: Directieur de la Prospective | E33: , 06 84 95 28 01 -02 40 99 14 50 | F33: hugues.archambeaud@loire-atlantique.fr | G33: Département de Loire-Atlantique
A34: =CONCATENATE(Feuil2!$B34," ",Feuil2!$C34) -> ARGY Valérie | B34: ARGY | C34: Valérie | F34: direction@grande-sologne.com | G34: Syndicat mixte du Pays de grande Sologne
A35: =CONCATENATE(Feuil2!$B35," ",Feuil2!$C35) -> ARHAN Maugine | B35: ARHAN | C35: Maugine | D35: CONSEILLER FORMATION | E35: 0692547920 | F35: maugine.arhan@cnfpt.fr | G35: C.N.F.P.T. | H35: 75578 | I35: 80 rue de reuilly
A36: =CONCATENATE(Feuil2!$B36," ",Feuil2!$C36) -> ARLICOT Evelyne | B36: ARLICOT | C36: Evelyne | D36: RESP. REGIONAL DE L'EMPLOI | G36: C.N.F.P.T. | H36: 75578 | I36: 80 rue de reuilly
A37: =CONCATENATE(Feuil2!$B37," ",Feuil2!$C37) -> ARMANDY Angélina | B37: ARMANDY | C37: Angélina | F37: angelina.armandy@gmail.com | G37: ORGANISME HORS FPT | H37: 57000
A38: =CONCATENATE(Feuil2!$B38," ",Feuil2!$C38) -> ARNOULD Nathalie | B38: ARNOULD | C38: Nathalie | D38: Design manager | E38: T 04 77 49 31 98 T 06 29 87 09 41 | F38: nathalie.arnould@citedudesign.com | G38: Agglo saint etienne
A39: =CONCATENATE(Feuil2!$B39," ",Feuil2!$C39) -> ARNOULD Nathalie | B39: ARNOULD | C39: Nathalie | D39: Design manager | E39: 4 77 49 31 98 T 06 29 87 09 41 | F39: nathalie.arnould@citedudesign.com | G39: Agglo saint etienne
A40: =CONCATENATE(Feuil2!$B40," ",Feuil2!$C40) -> ARNOULD PHILIPPE | B40: ARNOULD | C40: PHILIPPE | G40: COMMUNAUTE DE COMMUNES SEILLE MAUCHERE GRAND COURONNE | H40: 54280 | I40: 47 RUE SAINT BARTHELEMY
...

Sheet Feuil1
A1: Nombre de Nom
A2: 3201
