Workbook
Name jour: '[1]Données spécifiques'!$M$15:$N$17
Name jours_feries: [2]Feuil2!$A$1:$A$10
Name jours_fériés: [3]JF!$A$1:$A$10

Sheet Absences
A1: N° Employé | B1: Date de début Paye | C1: Date de fin Paye | D1: code motif | E1: Nbr jours | G1: Étiquettes de lignes | H1: Total distinct Nbr d'employé | I1: Somme de Nbr jours
A2: 24 | B2: 43479 | C2: 43481 | D2: MAL | E2: =Absences!$C2-Absences!$B2 -> 2 | G2: MAL | H2: 2328 | I2: 24169
A3: 69 | B3: 43537 | C3: 43538 | D3: MAL | E3: =Absences!$C3-Absences!$B3 -> 1 | G3: PATHO | H3: 156 | I3: 1895
A4: 69 | B4: 43584 | C4: 43595 | D4: MAL | E4: =Absences!$C4-Absences!$B4 -> 11 | G4: Total général | H4: 2441 | I4: 26064
A5: 124 | B5: 43514 | C5: 43518 | D5: MAL | E5: =Absences!$C5-Absences!$B5 -> 4
A6: 124 | B6: 43546 | C6: 43546 | D6: MAL | E6: =Absences!$C6-Absences!$B6 -> 0
A7: 124 | B7: 43643 | C7: 43644 | D7: MAL | E7: =Absences!$C7-Absences!$B7 -> 1
A8: 124 | B8: 43656 | C8: 43657 | D8: MAL | E8: =Absences!$C8-Absences!$B8 -> 1
A9: 254 | B9: 43470 | C9: 43476 | D9: MAL | E9: =Absences!$C9-Absences!$B9 -> 6
A10: 254 | B10: 43798 | C10: 43798 | D10: MAL | E10: =Absences!$C10-Absences!$B10 -> 0
A11: 258 | B11: 43798 | C11: 43798 | D11: MAL | E11: =Absences!$C11-Absences!$B11 -> 0
A12: 271 | B12: 43542 | C12: 43542 | D12: MAL | E12: =Absences!$C12-Absences!$B12 -> 0
A13: 271 | B13: 43543 | C13: 43544 | D13: MAL | E13: =Absences!$C13-Absences!$B13 -> 1
A14: 271 | B14: 43545 | C14: 43546 | D14: MAL | E14: =Absences!$C14-Absences!$B14 -> 1
A15: 289 | B15: 43612 | C15: 43631 | D15: MAL | E15: =Absences!$C15-Absences!$B15 -> 19
A16: 318 | B16: 43810 | C16: 43810 | D16: MAL | E16: =Absences!$C16-Absences!$B16 -> 0
... A15142: 970938 | B15142: 43594 | C15142: 43625 | D15142: MAL | E15142: =Absences!$C15142-Absences!$B15142 -> 31
