Workbook

Sheet Comparatif
A1: Créer un relever | C1: 2019 | D1: 2020 | E1: 2021 | F1: 2022
A2: Comparaison KW/H par année
A4: Année
B5: Gauche | C5: Droite | D5: Année
A6: 2012 | B6: ='2012'!$B$18 -> 2122 | C6: ='2012'!C18 -> 3032 | D6: =A6 -> 2012
A7: 2013 | B7: ='2013'!B18 -> 3361 | C7: ='2013'!C18 -> 3274 | D7: =A7 -> 2013
A8: 2014 | B8: ='2014'!B18 -> 3560 | C8: 4800 | D8: =A8 -> 2014
A9: 2015 | B9: ='2015'!B18 -> 3592 | C9: ='2015'!C18 -> 3367 | D9: =A9 -> 2015
A10: 2016 | B10: ='2016'!B18 -> 3367 | C10: ='2016'!C18 -> 3193 | D10: =A10 -> 2016
A11: 2017 | B11: ='2017'!B18 -> 3257 | C11: ='2017'!C18 -> 3147 | D11: =A11 -> 2017
A12: 2018 | B12: ='2018'!$B$18 -> 0 | C12: ='2018'!$C$18 -> 0 | D12: =A12 -> 2018
A13: 2019 | B13: ='2019'!$B$18 -> 0 | C13: ='2019'!$C$18 -> 0 | D13: =A13 -> 2019
A14: 2020 | D14: =A14 -> 2020
A15: 2021 | D15: =A15 -> 2021
A16: 2022 | D16: =A16 -> 2022
A17: 2023 | D17: =A17 -> 2023
A18: 2024 | D18: =A18 -> 2024
A19: 2025 | D19: =A19 -> 2025
A20: 2026 | D20: =A20 -> 2026
A21: 2027 | D21: =A21 -> 2027
A22: 2028 | D22: =A22 -> 2028
A23: 2029 | D23: =A23 -> 2029
A24: 2030 | D24: =A24 -> 2030
A25: 2031 | D25: =A25 -> 2031
... A37: 2043 | D37: =A37 -> 2043
A38: 2044 | D38: =A38 -> 2044 | G38: Production
A39: 2045 | D39: =A39 -> 2045
A40: 2046 | D40: =A40 -> 2046 | G40: Meilleur année de production panneau gauche | K40: =MAX(B6:B44) -> 3592 | L40: =VLOOKUP(K40,B5:D44,3,FALSE) -> 2015
A41: 2047 | D41: =A41 -> 2047 | G41: Meilleur année de production panneau Droit | K41: =MAX(C6:C44) -> 4800 | L41: =VLOOKUP(K41,C5:D44,2,FALSE) -> 2014
A42: 2048 | D42: =A42 -> 2048
A43: 2049 | D43: =A43 -> 2049 | G43: Mauvaise année de production panneau gauche
A44: 2050 | D44: =A44 -> 2050 | G44: Mauvaise année de production panneau Droit

Sheet Relever
A1: Relever de données panneau photovoltaïque annuel | G1: Relever de données panneau photovoltaïque annuel
A3: =Comparatif!C1 -> 2019 | B3: Panneau Gauche | D3: Panneau Droit | G3: =Comparatif!D1 -> 2020 | H3: Panneau Gauche | J3: Panneau Droit
A5: Janvier | G5: Janvier
A7: Février | G7: Février
A9: Mars | G9: Mars
A11: Avril | G11: Avril
A13: Mai | G13: Mai
A15: Juin | G15: Juin
A17: Juillet | G17: Juillet
A19: Août | G19: Août
A21: Septembre | G21: Septembre
A23: Octobre | G23: Octobre
A25: Novembre | G25: Novembre
A27: Décembre | G27: Décembre
... A37: Relever de données panneau photovoltaïque annuel | G37: Relever de données panneau photovoltaïque annuel
A39: =Comparatif!C33 -> 0 | B39: Panneau Gauche | D39: Panneau Droit | G39: =Comparatif!F1 -> 2022 | H39: Panneau Gauche | J39: Panneau Droit
A41: Janvier | G41: Janvier
A43: Février | G43: Février
A45: Mars | G45: Mars
A47: Avril | G47: Avril
A49: Mai | G49: Mai
A51: Juin | G51: Juin
A53: Juillet | G53: Juillet
A55: Août | G55: Août
A57: Septembre | G57: Septembre
A59: Octobre | G59: Octobre
A61: Novembre | G61: Novembre
A63: Décembre | G63: Décembre
A65: RELVER KW/H pour l'année | G65: RELVER KW/H pour l'année

Sheet 2012
A1: Relever de données panneau photovoltaïque annuel
A3: 2012 | B3: Panneau Gauche | C3: Panneau Droit
A5: Janvier
A6: Février
A7: Mars
A8: Avril
A9: Mai
A10: Juin
A11: Juillet
A12: Août
A13: Septembre
A14: Octobre
A15: Novembre
A16: Décembre
A17: Total année | B17: =SUM(B5:B16) -> 0 | C17: =SUM(C5:C16) -> 0
A18: Relever Annuel | B18: 2122 | C18: 3032
A20: Retour au comparatif

Sheet 2013
A1: Relever de données panneau photovoltaïque annuel
A3: 2013 | B3: Panneau Gauche | C3: Panneau Droit
A5: Janvier
A6: Février
A7: Mars
A8: Avril
A9: Mai
A10: Juin
A11: Juillet
A12: Août
A13: Septembre
A14: Octobre
A15: Novembre
A16: Décembre
A17: Total année | B17: =SUM(B5:B16) -> 0 | C17: =SUM(C5:C16) -> 0
A18: Relever Annuel | B18: 3361 | C18: 3274
A20: Retour au comparatif

Sheet 2014
A1: Relever de données panneau photovoltaïque annuel
A3: 2014 | B3: Panneau Gauche | C3: Panneau Droit
A5: Janvier
A6: Février
A7: Mars
A8: Avril
A9: Mai
A10: Juin
A11: Juillet
A12: Août
A13: Septembre
A14: Octobre
A15: Novembre
A16: Décembre
A17: Total année | B17: =SUM(B5:B16) -> 0 | C17: =SUM(C5:C16) -> 0
A18: Relever Annuel | B18: 3560 | C18: 3488
A20: Retour au comparatif

Sheet 2015
A1: Relever de données panneau photovoltaïque annuel
A3: 2015 | B3: Panneau Gauche | C3: Panneau Droit
A5: Janvier
A6: Février
A7: Mars
A8: Avril
A9: Mai
A10: Juin
A11: Juillet
A12: Août
A13: Septembre
A14: Octobre
A15: Novembre
A16: Décembre
A17: Total année | B17: =SUM(B5:B16) -> 0 | C17: =SUM(C5:C16) -> 0
A18: Relever Annuel | B18: 3592 | C18: 3367
A20: Retour au comparatif

Sheet 2016
A1: Relever de données panneau photovoltaïque annuel
A3: 2016 | B3: Panneau Gauche | C3: Panneau Droit
A5: Janvier | B5: 299.7 | C5: 134.2
A6: Février | B6: 128.5 | C6: 200
A7: Mars | B7: 128.5 | C7: 200
A8: Avril | B8: 376 | C8: 365
A9: Mai | B9: 452 | C9: 448
A10: Juin | B10: 444 | C10: 421
A11: Juillet | B11: 425 | C11: 422
A12: Août | B12: 349 | C12: 340
A13: Septembre | B13: 315 | C13: 304
A14: Octobre | B14: 200 | C14: 185
A15: Novembre | B15: 224 | C15: 105
A16: Décembre | B16: 25.3 | C16: 22.8
A17: Total année | B17: =SUM(B5:B16) -> 3367 | C17: =SUM(C5:C16) -> 3147
A18: Relever Annuel | B18: 3367 | C18: 3193
A20: Retour au comparatif

Sheet 2017
A1: Relever de données panneau photovoltaïque annuel
A3: 2017 | B3: Panneau Gauche | C3: Panneau Droit
A5: Janvier | B5: 299.7 | C5: 134.2
A6: Février | B6: 128.5 | C6: 200
A7: Mars | B7: 128.5 | C7: 200
A8: Avril | B8: 376 | C8: 365
A9: Mai | B9: 452 | C9: 448
A10: Juin | B10: 444 | C10: 421
A11: Juillet | B11: 425 | C11: 422
A12: Août | B12: 349 | C12: 340
A13: Septembre | B13: 315 | C13: 304
A14: Octobre | B14: 200 | C14: 185
A15: Novembre | B15: 114 | C15: 105
A16: Décembre | B16: 25.3 | C16: 22.8
A17: Total année | B17: =SUM(B5:B16) -> 3257 | C17: =SUM(C5:C16) -> 3147
A18: Relever Annuel | B18: 3257 | C18: 3147
A20: Retour au comparatif

Sheet 2018
A1: Relever de données panneau photovoltaïque annuel
A3: 2018 | B3: Panneau Gauche | C3: Panneau Droit
A5: Janvier | B5: 56.9 | C5: 52.6
A6: Février | B6: 237 | C6: 216
A7: Mars | B7: 459 | C7: 213
A8: Avril | B8: 379 | C8: 365
A9: Mai | B9: 425 | C9: 518
A10: Juin | B10: 425 | C10: 414
A11: Juillet | B11: 565 | C11: 558
A12: Août | B12: 433 | C12: 421
A13: Septembre
A14: Octobre
A15: Novembre
A16: Décembre
A17: Total année | B17: =SUM(B5:B16) -> 2979.9 | C17: =SUM(C5:C16) -> 2757.6
A18: Relever Annuel
A20: Retour au comparatif

Sheet 2019
A1: Relever de données panneau photovoltaïque annuel
A3: 2019 | B3: Panneau Gauche | C3: Panneau Droit
A5: Janvier
A6: Février
A7: Mars
A8: Avril
A9: Mai
A10: Juin
A11: Juillet
A12: Août
A13: Septembre
A14: Octobre
A15: Novembre
A16: Décembre
A17: Total année | B17: =SUM(B5:B16) -> 0 | C17: =SUM(C5:C16) -> 0
A18: Relever Annuel
A20: Retour au comparatif

Sheet 2020
A1: Relever de données panneau photovoltaïque annuel
A3: 2020 | B3: Panneau Gauche | C3: Panneau Droit
A5: Janvier
A6: Février
A7: Mars
A8: Avril
A9: Mai
A10: Juin
A11: Juillet
A12: Août
A13: Septembre
A14: Octobre
A15: Novembre
A16: Décembre
A17: Total année | B17: =SUM(B5:B16) -> 0 | C17: =SUM(C5:C16) -> 0
A18: Relever Annuel
A20: Retour au comparatif

Sheet 2021
A1: Relever de données panneau photovoltaïque annuel
A3: 2021 | B3: Panneau Gauche | C3: Panneau Droit
A5: Janvier
A6: Février
A7: Mars
A8: Avril
A9: Mai
A10: Juin
A11: Juillet
A12: Août
A13: Septembre
A14: Octobre
A15: Novembre
A16: Décembre
A17: Total année | B17: =SUM(B5:B16) -> 0 | C17: =SUM(C5:C16) -> 0
A18: Relever Annuel
A20: Retour au comparatif

Sheet 2022
A1: Relever de données panneau photovoltaïque annuel
A3: 2022 | B3: Panneau Gauche | C3: Panneau Droit
A5: Janvier
A6: Février
A7: Mars
A8: Avril
A9: Mai
A10: Juin
A11: Juillet
A12: Août
A13: Septembre
A14: Octobre
A15: Novembre
A16: Décembre
A17: Total année | B17: =SUM(B5:B16) -> 0 | C17: =SUM(C5:C16) -> 0
A18: Relever Annuel
A20: Retour au comparatif

Sheet 2023
A1: Relever de données panneau photovoltaïque annuel
A3: 2023 | B3: Panneau Gauche | C3: Panneau Droit
A5: Janvier
A6: Février
A7: Mars
A8: Avril
A9: Mai
A10: Juin
A11: Juillet
A12: Août
A13: Septembre
A14: Octobre
A15: Novembre
A16: Décembre
A17: Total année | B17: =SUM(B5:B16) -> 0 | C17: =SUM(C5:C16) -> 0
A18: Relever Annuel
A20: Retour au comparatif

Sheet 2024
A1: Relever de données panneau photovoltaïque annuel
A3: 2024 | B3: Panneau Gauche | C3: Panneau Droit
A5: Janvier
A6: Février
A7: Mars
A8: Avril
A9: Mai
A10: Juin
A11: Juillet
A12: Août
A13: Septembre
A14: Octobre
A15: Novembre
A16: Décembre
A17: Total année | B17: =SUM(B5:B16) -> 0 | C17: =SUM(C5:C16) -> 0
A18: Relever Annuel
A20: Retour au comparatif

Sheet 2025
A1: Relever de données panneau photovoltaïque annuel
A3: 2025 | B3: Panneau Gauche | C3: Panneau Droit
A5: Janvier
A6: Février
A7: Mars
A8: Avril
A9: Mai
A10: Juin
A11: Juillet
A12: Août
A13: Septembre
A14: Octobre
A15: Novembre
A16: Décembre
A17: Total année | B17: =SUM(B5:B16) -> 0 | C17: =SUM(C5:C16) -> 0
A18: Relever Annuel
A20: Retour au comparatif

Sheet 2026
A1: Relever de données panneau photovoltaïque annuel
A3: 2026 | B3: Panneau Gauche | C3: Panneau Droit
A5: Janvier
A6: Février
A7: Mars
A8: Avril
A9: Mai
A10: Juin
A11: Juillet
A12: Août
A13: Septembre
A14: Octobre
A15: Novembre
A16: Décembre
A17: Total année | B17: =SUM(B5:B16) -> 0 | C17: =SUM(C5:C16) -> 0
A18: Relever Annuel
A20: Retour au comparatif

Sheet 2027
A1: Relever de données panneau photovoltaïque annuel
A3: 2027 | B3: Panneau Gauche | C3: Panneau Droit
A5: Janvier
A6: Février
A7: Mars
A8: Avril
A9: Mai
A10: Juin
A11: Juillet
A12: Août
A13: Septembre
A14: Octobre
A15: Novembre
A16: Décembre
A17: Total année | B17: =SUM(B5:B16) -> 0 | C17: =SUM(C5:C16) -> 0
A18: Relever Annuel
A20: Retour au comparatif

Sheet 2028
A1: Relever de données panneau photovoltaïque annuel
A3: 2028 | B3: Panneau Gauche | C3: Panneau Droit
A5: Janvier
A6: Février
A7: Mars
A8: Avril
A9: Mai
A10: Juin
A11: Juillet
A12: Août
A13: Septembre
A14: Octobre
A15: Novembre
A16: Décembre
A17: Total année | B17: =SUM(B5:B16) -> 0 | C17: =SUM(C5:C16) -> 0
A18: Relever Annuel
A20: Retour au comparatif

Sheet 2029
A1: Relever de données panneau photovoltaïque annuel
A3: 2029 | B3: Panneau Gauche | C3: Panneau Droit
A5: Janvier
A6: Février
A7: Mars
A8: Avril
A9: Mai
A10: Juin
A11: Juillet
A12: Août
A13: Septembre
A14: Octobre
A15: Novembre
A16: Décembre
A17: Total année | B17: =SUM(B5:B16) -> 0 | C17: =SUM(C5:C16) -> 0
A18: Relever Annuel
A20: Retour au comparatif

Sheet 2030
A1: Relever de données panneau photovoltaïque annuel
A3: 2030 | B3: Panneau Gauche | C3: Panneau Droit
A5: Janvier
A6: Février
A7: Mars
A8: Avril
A9: Mai
A10: Juin
A11: Juillet
A12: Août
A13: Septembre
A14: Octobre
A15: Novembre
A16: Décembre
A17: Total année | B17: =SUM(B5:B16) -> 0 | C17: =SUM(C5:C16) -> 0
A18: Relever Annuel
A20: Retour au comparatif

Sheet 2031
A1: Relever de données panneau photovoltaïque annuel
A3: 2031 | B3: Panneau Gauche | C3: Panneau Droit
A5: Janvier
A6: Février
A7: Mars
A8: Avril
A9: Mai
A10: Juin
A11: Juillet
A12: Août
A13: Septembre
A14: Octobre
A15: Novembre
A16: Décembre
A17: Total année | B17: =SUM(B5:B16) -> 0 | C17: =SUM(C5:C16) -> 0
A18: Relever Annuel
A20: Retour au comparatif

Sheet 2032
A1: Relever de données panneau photovoltaïque annuel
A3: 2032 | B3: Panneau Gauche | C3: Panneau Droit
A5: Janvier
A6: Février
A7: Mars
A8: Avril
A9: Mai
A10: Juin
A11: Juillet
A12: Août
A13: Septembre
A14: Octobre
A15: Novembre
A16: Décembre
A17: Total année | B17: =SUM(B5:B16) -> 0 | C17: =SUM(C5:C16) -> 0
A18: Relever Annuel
A20: Retour au comparatif

Sheet 2033
A1: Relever de données panneau photovoltaïque annuel
A3: 2033 | B3: Panneau Gauche | C3: Panneau Droit
A5: Janvier
A6: Février
A7: Mars
A8: Avril
A9: Mai
A10: Juin
A11: Juillet
A12: Août
A13: Septembre
A14: Octobre
A15: Novembre
A16: Décembre
A17: Total année | B17: =SUM(B5:B16) -> 0 | C17: =SUM(C5:C16) -> 0
A18: Relever Annuel
A20: Retour au comparatif

Sheet 2034
A1: Relever de données panneau photovoltaïque annuel
A3: 2034 | B3: Panneau Gauche | C3: Panneau Droit
A5: Janvier
A6: Février
A7: Mars
A8: Avril
A9: Mai
A10: Juin
A11: Juillet
A12: Août
A13: Septembre
A14: Octobre
A15: Novembre
A16: Décembre
A17: Total année | B17: =SUM(B5:B16) -> 0 | C17: =SUM(C5:C16) -> 0
A18: Relever Annuel
A20: Retour au comparatif

Sheet 2035
A1: Relever de données panneau photovoltaïque annuel
A3: 2035 | B3: Panneau Gauche | C3: Panneau Droit
A5: Janvier
A6: Février
A7: Mars
A8: Avril
A9: Mai
A10: Juin
A11: Juillet
A12: Août
A13: Septembre
A14: Octobre
A15: Novembre
A16: Décembre
A17: Total année | B17: =SUM(B5:B16) -> 0 | C17: =SUM(C5:C16) -> 0
A18: Relever Annuel
A20: Retour au comparatif

Sheet 2036
A1: Relever de données panneau photovoltaïque annuel
A3: 2036 | B3: Panneau Gauche | C3: Panneau Droit
A5: Janvier
A6: Février
A7: Mars
A8: Avril
A9: Mai
A10: Juin
A11: Juillet
A12: Août
A13: Septembre
A14: Octobre
A15: Novembre
A16: Décembre
A17: Total année | B17: =SUM(B5:B16) -> 0 | C17: =SUM(C5:C16) -> 0
A18: Relever Annuel
A20: Retour au comparatif

Sheet 2037
A1: Relever de données panneau photovoltaïque annuel
A3: 2037 | B3: Panneau Gauche | C3: Panneau Droit
A5: Janvier
A6: Février
A7: Mars
A8: Avril
A9: Mai
A10: Juin
A11: Juillet
A12: Août
A13: Septembre
A14: Octobre
A15: Novembre
A16: Décembre
A17: Total année | B17: =SUM(B5:B16) -> 0 | C17: =SUM(C5:C16) -> 0
A18: Relever Annuel
A20: Retour au comparatif

Sheet 2038
A1: Relever de données panneau photovoltaïque annuel
A3: 2038 | B3: Panneau Gauche | C3: Panneau Droit
A5: Janvier
A6: Février
A7: Mars
A8: Avril
A9: Mai
A10: Juin
A11: Juillet
A12: Août
A13: Septembre
A14: Octobre
A15: Novembre
A16: Décembre
A17: Total année | B17: =SUM(B5:B16) -> 0 | C17: =SUM(C5:C16) -> 0
A18: Relever Annuel
A20: Retour au comparatif

Sheet 2039
A1: Relever de données panneau photovoltaïque annuel
A3: 2039 | B3: Panneau Gauche | C3: Panneau Droit
A5: Janvier
A6: Février
A7: Mars
A8: Avril
A9: Mai
A10: Juin
A11: Juillet
A12: Août
A13: Septembre
A14: Octobre
A15: Novembre
A16: Décembre
A17: Total année | B17: =SUM(B5:B16) -> 0 | C17: =SUM(C5:C16) -> 0
A18: Relever Annuel
A20: Retour au comparatif

Sheet 2040
A1: Relever de données panneau photovoltaïque annuel
A3: 2040 | B3: Panneau Gauche | C3: Panneau Droit
A5: Janvier
A6: Février
A7: Mars
A8: Avril
A9: Mai
A10: Juin
A11: Juillet
A12: Août
A13: Septembre
A14: Octobre
A15: Novembre
A16: Décembre
A17: Total année | B17: =SUM(B5:B16) -> 0 | C17: =SUM(C5:C16) -> 0
A18: Relever Annuel
A20: Retour au comparatif

Sheet 2041
A1: Relever de données panneau photovoltaïque annuel
A3: 2041 | B3: Panneau Gauche | C3: Panneau Droit
A5: Janvier
A6: Février
A7: Mars
A8: Avril
A9: Mai
A10: Juin
A11: Juillet
A12: Août
A13: Septembre
A14: Octobre
A15: Novembre
A16: Décembre
A17: Total année | B17: =SUM(B5:B16) -> 0 | C17: =SUM(C5:C16) -> 0
A18: Relever Annuel
A20: Retour au comparatif

Sheet 2042
A1: Relever de données panneau photovoltaïque annuel
A3: 2042 | B3: Panneau Gauche | C3: Panneau Droit
A5: Janvier
A6: Février
A7: Mars
A8: Avril
A9: Mai
A10: Juin
A11: Juillet
A12: Août
A13: Septembre
A14: Octobre
A15: Novembre
A16: Décembre
A17: Total année | B17: =SUM(B5:B16) -> 0 | C17: =SUM(C5:C16) -> 0
A18: Relever Annuel
A20: Retour au comparatif

Sheet 2043
A1: Relever de données panneau photovoltaïque annuel
A3: 2043 | B3: Panneau Gauche | C3: Panneau Droit
A5: Janvier
A6: Février
A7: Mars
A8: Avril
A9: Mai
A10: Juin
A11: Juillet
A12: Août
A13: Septembre
A14: Octobre
A15: Novembre
A16: Décembre
A17: Total année | B17: =SUM(B5:B16) -> 0 | C17: =SUM(C5:C16) -> 0
A18: Relever Annuel
A20: Retour au comparatif

Sheet 2044
A1: Relever de données panneau photovoltaïque annuel
A3: 2044 | B3: Panneau Gauche | C3: Panneau Droit
A5: Janvier
A6: Février
A7: Mars
A8: Avril
A9: Mai
A10: Juin
A11: Juillet
A12: Août
A13: Septembre
A14: Octobre
A15: Novembre
A16: Décembre
A17: Total année | B17: =SUM(B5:B16) -> 0 | C17: =SUM(C5:C16) -> 0
A18: Relever Annuel
A20: Retour au comparatif

Sheet 2045
A1: Relever de données panneau photovoltaïque annuel
A3: 2045 | B3: Panneau Gauche | C3: Panneau Droit
A5: Janvier
A6: Février
A7: Mars
A8: Avril
A9: Mai
A10: Juin
A11: Juillet
A12: Août
A13: Septembre
A14: Octobre
A15: Novembre
A16: Décembre
A17: Total année | B17: =SUM(B5:B16) -> 0 | C17: =SUM(C5:C16) -> 0
A18: Relever Annuel
A20: Retour au comparatif

Sheet 2046
A1: Relever de données panneau photovoltaïque annuel
A3: 2046 | B3: Panneau Gauche | C3: Panneau Droit
A5: Janvier
A6: Février
A7: Mars
A8: Avril
A9: Mai
A10: Juin
A11: Juillet
A12: Août
A13: Septembre
A14: Octobre
A15: Novembre
A16: Décembre
A17: Total année | B17: =SUM(B5:B16) -> 0 | C17: =SUM(C5:C16) -> 0
A18: Relever Annuel
A20: Retour au comparatif

Sheet 2047
A1: Relever de données panneau photovoltaïque annuel
A3: 2047 | B3: Panneau Gauche | C3: Panneau Droit
A5: Janvier
A6: Février
A7: Mars
A8: Avril
A9: Mai
A10: Juin
A11: Juillet
A12: Août
A13: Septembre
A14: Octobre
A15: Novembre
A16: Décembre
A17: Total année | B17: =SUM(B5:B16) -> 0 | C17: =SUM(C5:C16) -> 0
A18: Relever Annuel
A20: Retour au comparatif

Sheet 2048
A1: Relever de données panneau photovoltaïque annuel
A3: 2048 | B3: Panneau Gauche | C3: Panneau Droit
A5: Janvier
A6: Février
A7: Mars
A8: Avril
A9: Mai
A10: Juin
A11: Juillet
A12: Août
A13: Septembre
A14: Octobre
A15: Novembre
A16: Décembre
A17: Total année | B17: =SUM(B5:B16) -> 0 | C17: =SUM(C5:C16) -> 0
A18: Relever Annuel
A20: Retour au comparatif

Sheet 2049
A1: Relever de données panneau photovoltaïque annuel
A3: 2049 | B3: Panneau Gauche | C3: Panneau Droit
A5: Janvier
A6: Février
A7: Mars
A8: Avril
A9: Mai
A10: Juin
A11: Juillet
A12: Août
A13: Septembre
A14: Octobre
A15: Novembre
A16: Décembre
A17: Total année | B17: =SUM(B5:B16) -> 0 | C17: =SUM(C5:C16) -> 0
A18: Relever Annuel
A20: Retour au comparatif

Sheet 2050
A1: Relever de données panneau photovoltaïque annuel
A3: 2050 | B3: Panneau Gauche | C3: Panneau Droit
A5: Janvier
A6: Février
A7: Mars
A8: Avril
A9: Mai
A10: Juin
A11: Juillet
A12: Août
A13: Septembre
A14: Octobre
A15: Novembre
A16: Décembre
A17: Total année | B17: =SUM(B5:B16) -> 0 | C17: =SUM(C5:C16) -> 0
A18: Relever Annuel
A20: Retour au comparatif
