Workbook
Name BPU: BPU!$J$33:$J$80
Name BPUCode: Juillet!$M$16
Name CodedePrix: BPU!#REF!
Name PrixUnitaires: BPU!$J$33:$J$80

Sheet Janvier
G2: 42370 | O2: 42371 | W2: 42372 | AE2: 42373 | AM2: 42374 | AU2: 42375 | BC2: 42376 | BK2: 42377 | BS2: 42378 | CA2: 42379 | CI2: 42380 | CQ2: 42381 | CY2: 42382 | DG2: 42383 | DO2: 42384 | DW2: 42385 | EE2: 42386 | EM2: 42387 | EU2: 42388 | FC2: 42389 | FK2: 42390 | FS2: 42391 | GA2: 42392 | GI2: 42393 | GQ2: 42394 | GY2: 42395 | HG2: 42396 | HO2: 42397 | HW2: 42398 | IE2: 42399 | IM2: 42400
D4: Equipes + Matériel | E4: U | F4: Prix (RON) | G4: Quantité | H4: Total (RON) | I4: Pourcentage temps passé sur | K4: Total par activité (LEI) | O4: Quantité | P4: Total (RON) | Q4: Pourcentage temps passé sur | S4: Total par activité (LEI) | W4: Quantité | X4: Total (RON) | Y4: Pourcentage temps passé sur | AA4: Total par activité (LEI) | AE4: Quantité | AF4: Total (RON) | AG4: Pourcentage temps passé sur | AI4: Total par activité (LEI) | AM4: Quantité | AN4: Total (RON) | AO4: Pourcentage temps passé sur | AQ4: Total par activité (LEI) | AU4: Quantité | AV4: Total (RON) | AW4: Pourcentage temps passé sur | AY4: Total par activité (LEI) | BC4: Quantité | BD4: Total (RON) | BE4: Pourcentage temps passé sur | BG4: Total par activité (LEI) | BK4: Quantité | BL4: Total (RON) | BM4: Pourcentage temps passé sur | BO4: Total par activité (LEI) | BS4: Quantité | BT4: Total (RON) | BU4: Pourcentage temps passé sur | BW4: Total par activité (LEI) | CA4: Quantité | CB4: Total (RON) | CC4: Pourcentage temps passé sur | CE4: Total par activité (LEI) | CI4: Quantité | CJ4: Total (RON) | CK4: Pourcentage temps passé sur | CM4: Total par activité (LEI) | CQ4: Quantité | CR4: Total (RON) | CS4: Pourcentage temps passé sur | CU4: Total par activité (LEI) | CY4: Quantité | CZ4: Total (RON) | DA4: Pourcentage temps passé sur | DC4: Total par activité (LEI) | DG4: Quantité | DH4: Total (RON) | DI4: Pourcentage temps passé sur | DK4: Total par activité (LEI) | DO4: Quantité | DP4: Total (RON) | DQ4: Pourcentage temps passé sur | DS4: Total par activité (LEI) | DW4: Quantité | DX4: Total (RON) | DY4: Pourcentage temps passé sur | EA4: Total par activité (LEI) | EE4: Quantité | EF4: Total (RON) | EG4: Pourcentage temps passé sur | EI4: Total par activité (LEI) | EM4: Quantité | EN4: Total (RON) | EO4: Pourcentage temps passé sur | EQ4: Total par activité (LEI) | EU4: Quantité | EV4: Total (RON) | EW4: Pourcentage temps passé sur | EY4: Total par activité (LEI) | FC4: Quantité | FD4: Total (RON) | FE4: Pourcentage temps passé sur | FG4: Total par activité (LEI) | FK4: Quantité | FL4: Total (RON) | FM4: Pourcentage temps passé sur | FO4: Total par activité (LEI) | FS4: Quantité | FT4: Total (RON) | FU4: Pourcentage temps passé sur | FW4: Total par activité (LEI) | GA4: Quantité | GB4: Total (RON) | GC4: Pourcentage temps passé sur | GE4: Total par activité (LEI) | GI4: Quantité | GJ4: Total (RON) | GK4: Pourcentage temps passé sur | GM4: Total par activité (LEI) | GQ4: Quantité | GR4: Total (RON) | GS4: Pourcentage temps passé sur | GU4: Total par activité (LEI) | GY4: Quantité | GZ4: Total (RON) | HA4: Pourcentage temps passé sur | HC4: Total par activité (LEI) | HG4: Quantité | HH4: Total (RON) | HI4: Pourcentage temps passé sur | HK4: Total par activité (LEI) | HO4: Quantité | HP4: Total (RON) | HQ4: Pourcentage temps passé sur | HS4: Total par activité (LEI) | HW4: Quantité | HX4: Total (RON) | HY4: Pourcentage temps passé sur | IA4: Total par activité (LEI) | IE4: Quantité | IF4: Total (RON) | IG4: Pourcentage temps passé sur | II4: Total par activité (LEI) | IM4: Quantité | IN4: Total (RON) | IO4: Pourcentage temps passé sur | IQ4: Total par activité (LEI)
D5: Ford Transit + carburant B-29-NNM | E5: Jour | F5: =114.32+101.66 -> 215.98 | G5: 0 | H5: =$F5*G5 -> 0 | I5: Ballast | K5: =SUM(H$5:H$12)*J5 -> 0 | O5: 0.5 | P5: =$F5*O5 -> 107.99 | Q5: Ballast | S5: =SUM(P$5:P$12)*R5 -> 0 | W5: 0 | X5: =$F5*W5 -> 0 | Y5: Ballast | AA5: =SUM(X$5:X$12)*Z5 -> 0 | AE5: 0 | AF5: =$F5*AE5 -> 0 | AG5: Ballast | AI5: =SUM(AF$5:AF$12)*AH5 -> 0 | AM5: 0 | AN5: =$F5*AM5 -> 0 | AO5: Ballast | AQ5: =SUM(AN$5:AN$12)*AP5 -> 0 | AU5: 0 | AV5: =$F5*AU5 -> 0 | AW5: Ballast | AY5: =SUM(AV$5:AV$12)*AX5 -> 0 | BC5: 1 | BD5: =$F5*BC5 -> 215.98 | BE5: Ballast | BG5: =SUM(BD$5:BD$12)*BF5 -> 0 | BK5: 1 | BL5: =$F5*BK5 -> 215.98 | BM5: Ballast | BO5: =SUM(BL$5:BL$12)*BN5 -> 0 | BS5: 1 | BT5: =$F5*BS5 -> 215.98 | BU5: Ballast | BW5: =SUM(BT$5:BT$12)*BV5 -> 0 | CA5: 0 | CB5: =$F5*CA5 -> 0 | CC5: Ballast | CE5: =SUM(CB$5:CB$12)*CD5 -> 0 | CI5: 0 | CJ5: =$F5*CI5 -> 0 | CK5: Ballast | CM5: =SUM(CJ$5:CJ$12)*CL5 -> 0 | CQ5: 1 | CR5: =$F5*CQ5 -> 215.98 | CS5: Ballast | CU5: =SUM(CR$5:CR$12)*CT5 -> 0 | CY5: 1 | CZ5: =$F5*CY5 -> 215.98 | DA5: Ballast | DC5: =SUM(CZ$5:CZ$12)*DB5 -> 0 | DG5: 1 | DH5: =$F5*DG5 -> 215.98 | DI5: Ballast | DK5: =SUM(DH$5:DH$12)*DJ5 -> 0 | DO5: 1 | DP5: =$F5*DO5 -> 215.98 | DQ5: Ballast | DS5: =SUM(DP$5:DP$12)*DR5 -> 0 | DW5: 1 | DX5: =$F5*DW5 -> 215.98 | DY5: Ballast | EA5: =SUM(DX$5:DX$12)*DZ5 -> 0 | EE5: 0 | EF5: =$F5*EE5 -> 0 | EG5: Ballast | EI5: =SUM(EF$5:EF$12)*EH5 -> 0 | EM5: 0 | EN5: =$F5*EM5 -> 0 | EO5: Ballast | EQ5: =SUM(EN$5:EN$12)*EP5 -> 0 | EU5: 0 | EV5: =$F5*EU5 -> 0 | EW5: Ballast | EY5: =SUM(EV$5:EV$12)*EX5 -> 0 | FC5: 0 | FD5: =$F5*FC5 -> 0 | FE5: Ballast | FG5: =SUM(FD$5:FD$12)*FF5 -> 0 | FK5: 0 | FL5: =$F5*FK5 -> 0 | FM5: Ballast | FO5: =SUM(FL$5:FL$12)*FN5 -> 0 | FS5: 0 | FT5: =$F5*FS5 -> 0 | FU5: Ballast | FW5: =SUM(FT$5:FT$12)*FV5 -> 0 | GA5: 0 | GB5: =$F5*GA5 -> 0 | GC5: Ballast | GE5: =SUM(GB$5:GB$12)*GD5 -> 0 | GI5: 0 | GJ5: =$F5*GI5 -> 0 | GK5: Ballast | GM5: =SUM(GJ$5:GJ$12)*GL5 -> 0 | GQ5: 0 | GR5: =$F5*GQ5 -> 0 | GS5: Ballast | GU5: =SUM(GR$5:GR$12)*GT5 -> 0 | GY5: 0 | GZ5: =$F5*GY5 -> 0 | HA5: Ballast | HC5: =SUM(GZ$5:GZ$12)*HB5 -> 0 | HG5: 0 | HH5: =$F5*HG5 -> 0 | HI5: Ballast | HK5: =SUM(HH$5:HH$12)*HJ5 -> 0 | HO5: 0 | HP5: =$F5*HO5 -> 0 | HQ5: Ballast | HS5: =SUM(HP$5:HP$12)*HR5 -> 0 | HW5: 0 | HX5: =$F5*HW5 -> 0 | HY5: Ballast | IA5: =SUM(HX$5:HX$12)*HZ5 -> 0 | IE5: 0 | IF5: =$F5*IE5 -> 0 | IG5: Ballast | II5: =SUM(IF$5:IF$12)*IH5 -> 0 | IM5: 0 | IN5: =$F5*IM5 -> 0 | IO5: Ballast | IQ5: =SUM(IN$5:IN$12)*IP5 -> 0
D6: Conducator | E6: Jour | F6: 190 | G6: =IF(G5=0,0,1) -> 0 | H6: =$F6*G6 -> 0 | O6: =O5 -> 0.5 | P6: =$F6*O6 -> 95 | W6: =IF(W5=0,0,1) -> 0 | X6: =$F6*W6 -> 0 | AE6: =IF(AE5=0,0,1) -> 0 | AF6: =$F6*AE6 -> 0 | AM6: =IF(AM5=0,0,1) -> 0 | AN6: =$F6*AM6 -> 0 | AU6: =IF(AU5=0,0,1) -> 0 | AV6: =$F6*AU6 -> 0 | BC6: =BC5 -> 1 | BD6: =$F6*BC6 -> 190 | BK6: =IF(BK5=0,0,1) -> 1 | BL6: =$F6*BK6 -> 190 | BS6: =IF(BS5=0,0,1) -> 1 | BT6: =$F6*BS6 -> 190 | CA6: =IF(CA5=0,0,1) -> 0 | CB6: =$F6*CA6 -> 0 | CI6: =IF(CI5=0,0,1) -> 0 | CJ6: =$F6*CI6 -> 0 | CQ6: =IF(CQ5=0,0,1) -> 1 | CR6: =$F6*CQ6 -> 190 | CY6: =IF(CY5=0,0,1) -> 1 | CZ6: =$F6*CY6 -> 190 | DG6: =IF(DG5=0,0,1) -> 1 | DH6: =$F6*DG6 -> 190 | DO6: =IF(DO5=0,0,1) -> 1 | DP6: =$F6*DO6 -> 190 | DW6: =IF(DW5=0,0,1) -> 1 | DX6: =$F6*DW6 -> 190 | EE6: =IF(EE5=0,0,1) -> 0 | EF6: =$F6*EE6 -> 0 | EM6: =IF(EM5=0,0,1) -> 0 | EN6: =$F6*EM6 -> 0 | EU6: =IF(EU5=0,0,1) -> 0 | EV6: =$F6*EU6 -> 0 | FC6: =IF(FC5=0,0,1) -> 0 | FD6: =$F6*FC6 -> 0 | FK6: =IF(FK5=0,0,1) -> 0 | FL6: =$F6*FK6 -> 0 | FS6: =IF(FS5=0,0,1) -> 0 | FT6: =$F6*FS6 -> 0 | GA6: =IF(GA5=0,0,1) -> 0 | GB6: =$F6*GA6 -> 0 | GI6: =IF(GI5=0,0,1) -> 0 | GJ6: =$F6*GI6 -> 0 | GQ6: =IF(GQ5=0,0,1) -> 0 | GR6: =$F6*GQ6 -> 0 | GY6: =IF(GY5=0,0,1) -> 0 | GZ6: =$F6*GY6 -> 0 | HG6: =IF(HG5=0,0,1) -> 0 | HH6: =$F6*HG6 -> 0 | HO6: =IF(HO5=0,0,1) -> 0 | HP6: =$F6*HO6 -> 0 | HW6: =IF(HW5=0,0,1) -> 0 | HX6: =$F6*HW6 -> 0 | IE6: =IF(IE5=0,0,1) -> 0 | IF6: =$F6*IE6 -> 0 | IM6: =IF(IM5=0,0,1) -> 0 | IN6: =$F6*IM6 -> 0
D7: Muncitorii | E7: Jour | F7: 160 | G7: 0 | H7: =$F7*G7 -> 0 | I7: Béton | K7: =SUM(H$5:H$12)*J7 -> 0 | O7: 0.5 | P7: =$F7*O7 -> 80 | Q7: Béton | S7: =SUM(P$5:P$12)*R7 -> 0 | W7: 0 | X7: =$F7*W7 -> 0 | Y7: Béton | AA7: =SUM(X$5:X$12)*Z7 -> 0 | AE7: 0 | AF7: =$F7*AE7 -> 0 | AG7: Béton | AI7: =SUM(AF$5:AF$12)*AH7 -> 0 | AM7: 0 | AN7: =$F7*AM7 -> 0 | AO7: Béton | AQ7: =SUM(AN$5:AN$12)*AP7 -> 0 | AU7: 0 | AV7: =$F7*AU7 -> 0 | AW7: Béton | AY7: =SUM(AV$5:AV$12)*AX7 -> 0 | BC7: 2 | BD7: =$F7*BC7 -> 320 | BE7: Béton | BG7: =SUM(BD$5:BD$12)*BF7 -> 0 | BK7: 1 | BL7: =$F7*BK7 -> 160 | BM7: Béton | BO7: =SUM(BL$5:BL$12)*BN7 -> 0 | BS7: 1 | BT7: =$F7*BS7 -> 160 | BU7: Béton | BW7: =SUM(BT$5:BT$12)*BV7 -> 0 | CA7: 0 | CB7: =$F7*CA7 -> 0 | CC7: Béton | CE7: =SUM(CB$5:CB$12)*CD7 -> 0 | CI7: 0 | CJ7: =$F7*CI7 -> 0 | CK7: Béton | CM7: =SUM(CJ$5:CJ$12)*CL7 -> 0 | CQ7: 2 | CR7: =$F7*CQ7 -> 320 | CS7: Béton | CU7: =SUM(CR$5:CR$12)*CT7 -> 0 | CY7: 2 | CZ7: =$F7*CY7 -> 320 | DA7: Béton | DC7: =SUM(CZ$5:CZ$12)*DB7 -> 0 | DG7: 2 | DH7: =$F7*DG7 -> 320 | DI7: Béton | DK7: =SUM(DH$5:DH$12)*DJ7 -> 0 | DO7: 2 | DP7: =$F7*DO7 -> 320 | DQ7: Béton | DS7: =SUM(DP$5:DP$12)*DR7 -> 0 | DW7: 2 | DX7: =$F7*DW7 -> 320 | DY7: Béton | EA7: =SUM(DX$5:DX$12)*DZ7 -> 0 | EE7: 0 | EF7: =$F7*EE7 -> 0 | EG7: Béton | EI7: =SUM(EF$5:EF$12)*EH7 -> 0 | EM7: 0 | EN7: =$F7*EM7 -> 0 | EO7: Béton | EQ7: =SUM(EN$5:EN$12)*EP7 -> 0 | EU7: 0 | EV7: =$F7*EU7 -> 0 | EW7: Béton | EY7: =SUM(EV$5:EV$12)*EX7 -> 0 | FC7: 0 | FD7: =$F7*FC7 -> 0 | FE7: Béton | FG7: =SUM(FD$5:FD$12)*FF7 -> 0 | FK7: 0 | FL7: =$F7*FK7 -> 0 | FM7: Béton | FO7: =SUM(FL$5:FL$12)*FN7 -> 0 | FS7: 0 | FT7: =$F7*FS7 -> 0 | FU7: Béton | FW7: =SUM(FT$5:FT$12)*FV7 -> 0 | GA7: 0 | GB7: =$F7*GA7 -> 0 | GC7: Béton | GE7: =SUM(GB$5:GB$12)*GD7 -> 0 | GI7: 0 | GJ7: =$F7*GI7 -> 0 | GK7: Béton | GM7: =SUM(GJ$5:GJ$12)*GL7 -> 0 | GQ7: 0 | GR7: =$F7*GQ7 -> 0 | GS7: Béton | GU7: =SUM(GR$5:GR$12)*GT7 -> 0 | GY7: 0 | GZ7: =$F7*GY7 -> 0 | HA7: Béton | HC7: =SUM(GZ$5:GZ$12)*HB7 -> 0 | HG7: 0 | HH7: =$F7*HG7 -> 0 | HI7: Béton | HK7: =SUM(HH$5:HH$12)*HJ7 -> 0 | HO7: 0 | HP7: =$F7*HO7 -> 0 | HQ7: Béton | HS7: =SUM(HP$5:HP$12)*HR7 -> 0 | HW7: 0 | HX7: =$F7*HW7 -> 0 | HY7: Béton | IA7: =SUM(HX$5:HX$12)*HZ7 -> 0 | IE7: 0 | IF7: =$F7*IE7 -> 0 | IG7: Béton | II7: =SUM(IF$5:IF$12)*IH7 -> 0 | IM7: 0 | IN7: =$F7*IM7 -> 0 | IO7: Béton | IQ7: =SUM(IN$5:IN$12)*IP7 -> 0
D8: Compressor | E8: Jour | F8: 38.34 | G8: 0 | H8: =$F8*G8 -> 0 | O8: 0 | P8: =$F8*O8 -> 0 | W8: 0 | X8: =$F8*W8 -> 0 | AE8: 0 | AF8: =$F8*AE8 -> 0 | AM8: 0 | AN8: =$F8*AM8 -> 0 | AU8: 0 | AV8: =$F8*AU8 -> 0 | BC8: 0 | BD8: =$F8*BC8 -> 0 | BK8: 0 | BL8: =$F8*BK8 -> 0 | BS8: 0 | BT8: =$F8*BS8 -> 0 | CA8: 0 | CB8: =$F8*CA8 -> 0 | CI8: 0 | CJ8: =$F8*CI8 -> 0 | CQ8: 0 | CR8: =$F8*CQ8 -> 0 | CY8: 0 | CZ8: =$F8*CY8 -> 0 | DG8: 0 | DH8: =$F8*DG8 -> 0 | DO8: 0 | DP8: =$F8*DO8 -> 0 | DW8: 0 | DX8: =$F8*DW8 -> 0 | EE8: 0 | EF8: =$F8*EE8 -> 0 | EM8: 0 | EN8: =$F8*EM8 -> 0 | EU8: 0 | EV8: =$F8*EU8 -> 0 | FC8: 0 | FD8: =$F8*FC8 -> 0 | FK8: 0 | FL8: =$F8*FK8 -> 0 | FS8: 0 | FT8: =$F8*FS8 -> 0 | GA8: 0 | GB8: =$F8*GA8 -> 0 | GI8: 0 | GJ8: =$F8*GI8 -> 0 | GQ8: 0 | GR8: =$F8*GQ8 -> 0 | GY8: 0 | GZ8: =$F8*GY8 -> 0 | HG8: 0 | HH8: =$F8*HG8 -> 0 | HO8: 0 | HP8: =$F8*HO8 -> 0 | HW8: 0 | HX8: =$F8*HW8 -> 0 | IE8: 0 | IF8: =$F8*IE8 -> 0 | IM8: 0 | IN8: =$F8*IM8 -> 0
D9: Placa vibranta | E9: Jour | F9: 24.79 | G9: 0 | H9: =$F9*G9 -> 0 | I9: Asphalte | K9: =SUM(H$5:H$12)*J9 -> 0 | N9: Dépenses | O9: 1 | P9: =$F9*O9 -> 24.79 | Q9: Asphalte | R9: 1 | S9: =SUM(P$5:P$12)*R9 -> 307.78 | V9: Dépenses | W9: 0 | X9: =$F9*W9 -> 0 | Y9: Asphalte | AA9: =SUM(X$5:X$12)*Z9 -> 0 | AD9: Dépenses | AE9: 0 | AF9: =$F9*AE9 -> 0 | AG9: Asphalte | AI9: =SUM(AF$5:AF$12)*AH9 -> 0 | AL9: Dépenses | AM9: 0 | AN9: =$F9*AM9 -> 0 | AO9: Asphalte | AQ9: =SUM(AN$5:AN$12)*AP9 -> 0 | AT9: Dépenses | AU9: 0 | AV9: =$F9*AU9 -> 0 | AW9: Asphalte | AY9: =SUM(AV$5:AV$12)*AX9 -> 0 | BB9: Dépenses | BC9: 1 | BD9: =$F9*BC9 -> 24.79 | BE9: Asphalte | BF9: 1 | BG9: =SUM(BD$5:BD$12)*BF9 -> 750.77 | BJ9: Dépenses | BK9: 1 | BL9: =$F9*BK9 -> 24.79 | BM9: Asphalte | BO9: =SUM(BL$5:BL$12)*BN9 -> 0 | BR9: Dépenses | BS9: 1 | BT9: =$F9*BS9 -> 24.79 | BU9: Asphalte | BW9: =SUM(BT$5:BT$12)*BV9 -> 0 | BZ9: Dépenses | CA9: 0 | CB9: =$F9*CA9 -> 0 | CC9: Asphalte | CE9: =SUM(CB$5:CB$12)*CD9 -> 0 | CH9: Dépenses | CI9: 0 | CJ9: =$F9*CI9 -> 0 | CK9: Asphalte | CM9: =SUM(CJ$5:CJ$12)*CL9 -> 0 | CP9: Dépenses | CQ9: 1 | CR9: =$F9*CQ9 -> 24.79 | CS9: Asphalte | CT9: 1 | CU9: =SUM(CR$5:CR$12)*CT9 -> 750.77 | CX9: Dépenses | CY9: 1 | CZ9: =$F9*CY9 -> 24.79 | DA9: Asphalte | DB9: 1 | DC9: =SUM(CZ$5:CZ$12)*DB9 -> 750.77 | DF9: Dépenses | DG9: 1 | DH9: =$F9*DG9 -> 24.79 | DI9: Asphalte | DJ9: 1 | DK9: =SUM(DH$5:DH$12)*DJ9 -> 750.77 | DN9: Dépenses | DO9: 1 | DP9: =$F9*DO9 -> 24.79 | DQ9: Asphalte | DR9: 1 | DS9: =SUM(DP$5:DP$12)*DR9 -> 750.77 | DV9: Dépenses | DW9: 1 | DX9: =$F9*DW9 -> 24.79 | DY9: Asphalte | DZ9: 0.3 | EA9: =SUM(DX$5:DX$12)*DZ9 -> 225.231 | ED9: Dépenses | EE9: 0 | EF9: =$F9*EE9 -> 0 | EG9: Asphalte | EI9: =SUM(EF$5:EF$12)*EH9 -> 0 | EL9: Dépenses | EM9: 0 | EN9: =$F9*EM9 -> 0 | EO9: Asphalte | EQ9: =SUM(EN$5:EN$12)*EP9 -> 0 | ET9: Dépenses | EU9: 0 | EV9: =$F9*EU9 -> 0 | EW9: Asphalte | EY9: =SUM(EV$5:EV$12)*EX9 -> 0 | FB9: Dépenses | FC9: 0 | FD9: =$F9*FC9 -> 0 | FE9: Asphalte | FG9: =SUM(FD$5:FD$12)*FF9 -> 0 | FJ9: Dépenses | FK9: 0 | FL9: =$F9*FK9 -> 0 | FM9: Asphalte | FO9: =SUM(FL$5:FL$12)*FN9 -> 0 | FR9: Dépenses | FS9: 0 | FT9: =$F9*FS9 -> 0 | FU9: Asphalte | FW9: =SUM(FT$5:FT$12)*FV9 -> 0 | FZ9: Dépenses | GA9: 0 | GB9: =$F9*GA9 -> 0 | GC9: Asphalte | GE9: =SUM(GB$5:GB$12)*GD9 -> 0 | GH9: Dépenses | GI9: 0 | GJ9: =$F9*GI9 -> 0 | GK9: Asphalte | GM9: =SUM(GJ$5:GJ$12)*GL9 -> 0 | GP9: Dépenses | GQ9: 0 | GR9: =$F9*GQ9 -> 0 | GS9: Asphalte | GU9: =SUM(GR$5:GR$12)*GT9 -> 0 | GX9: Dépenses | GY9: 0 | GZ9: =$F9*GY9 -> 0 | HA9: Asphalte | HC9: =SUM(GZ$5:GZ$12)*HB9 -> 0 | HF9: Dépenses | HG9: 0 | HH9: =$F9*HG9 -> 0 | HI9: Asphalte | HK9: =SUM(HH$5:HH$12)*HJ9 -> 0 | HN9: Dépenses | HO9: 0 | HP9: =$F9*HO9 -> 0 | HQ9: Asphalte | HS9: =SUM(HP$5:HP$12)*HR9 -> 0 | HV9: Dépenses | HW9: 0 | HX9: =$F9*HW9 -> 0 | HY9: Asphalte | IA9: =SUM(HX$5:HX$12)*HZ9 -> 0 | ID9: Dépenses | IE9: 0 | IF9: =$F9*IE9 -> 0 | IG9: Asphalte | II9: =SUM(IF$5:IF$12)*IH9 -> 0 | IL9: Dépenses | IM9: 0 | IN9: =$F9*IM9 -> 0 | IO9: Asphalte | IQ9: =SUM(IN$5:IN$12)*IP9 -> 0 | IT9: Dépenses
D10: Mai compactor | E10: Jour | F10: 10.93 | G10: 0 | H10: =$F10*G10 -> 0 | M10: Equipes | N10: =H6+H7+H14+H15+H22+H23+H30+H31 -> 1020 | O10: 0 | P10: =$F10*O10 -> 0 | U10: Equipes | V10: =P6+P7+P14+P15+P22+P23+P30+P31 -> 175 | W10: 0 | X10: =$F10*W10 -> 0 | AC10: Equipes | AD10: =X6+X7+X14+X15+X22+X23+X30+X31 -> 0 | AE10: 0 | AF10: =$F10*AE10 -> 0 | AK10: Equipes | AL10: =AF6+AF7+AF14+AF15+AF22+AF23+AF30+AF31 -> 0 | AM10: 0 | AN10: =$F10*AM10 -> 0 | AS10: Equipes | AT10: =AN6+AN7+AN14+AN15+AN22+AN23+AN30+AN31 -> 0 | AU10: 0 | AV10: =$F10*AU10 -> 0 | BA10: Equipes | BB10: =AV6+AV7+AV14+AV15+AV22+AV23+AV30+AV31 -> 0 | BC10: 0 | BD10: =$F10*BC10 -> 0 | BI10: Equipes | BJ10: =BD6+BD7+BD14+BD15+BD22+BD23+BD30+BD31 -> 1690 | BK10: 0 | BL10: =$F10*BK10 -> 0 | BQ10: Equipes | BR10: =BL6+BL7+BL14+BL15+BL22+BL23+BL30+BL31 -> 1880 | BS10: 0 | BT10: =$F10*BS10 -> 0 | BY10: Equipes | BZ10: =BT6+BT7+BT14+BT15+BT22+BT23+BT30+BT31 -> 1115 | CA10: 0 | CB10: =$F10*CA10 -> 0 | CG10: Equipes | CH10: =CB6+CB7+CB14+CB15+CB22+CB23+CB30+CB31 -> 0 | CI10: 0 | CJ10: =$F10*CI10 -> 0 | CO10: Equipes | CP10: =CJ6+CJ7+CJ14+CJ15+CJ22+CJ23+CJ30+CJ31 -> 0 | CQ10: 0 | CR10: =$F10*CQ10 -> 0 | CW10: Equipes | CX10: =CR6+CR7+CR14+CR15+CR22+CR23+CR30+CR31 -> 1720 | CY10: 0 | CZ10: =$F10*CY10 -> 0 | DE10: Equipes | DF10: =CZ6+CZ7+CZ14+CZ15+CZ22+CZ23+CZ30+CZ31 -> 1880 | DG10: 0 | DH10: =$F10*DG10 -> 0 | DM10: Equipes | DN10: =DH6+DH7+DH14+DH15+DH22+DH23+DH30+DH31 -> 1880 | DO10: 0 | DP10: =$F10*DO10 -> 0 | DU10: Equipes | DV10: =DP6+DP7+DP14+DP15+DP22+DP23+DP30+DP31 -> 510 | DW10: 0 | DX10: =$F10*DW10 -> 0 | EC10: Equipes | ED10: =DX6+DX7+DX14+DX15+DX22+DX23+DX30+DX31 -> 1530 | EE10: 0 | EF10: =$F10*EE10 -> 0 | EK10: Equipes | EL10: =EF6+EF7+EF14+EF15+EF22+EF23+EF30+EF31 -> 0 | EM10: 0 | EN10: =$F10*EM10 -> 0 | ES10: Equipes | ET10: =EN6+EN7+EN14+EN15+EN22+EN23+EN30+EN31 -> 0 | EU10: 0 | EV10: =$F10*EU10 -> 0 | FA10: Equipes | FB10: =EV6+EV7+EV14+EV15+EV22+EV23+EV30+EV31 -> 0 | FC10: 0 | FD10: =$F10*FC10 -> 0 | FI10: Equipes | FJ10: =FD6+FD7+FD14+FD15+FD22+FD23+FD30+FD31 -> 0 | FK10: 0 | FL10: =$F10*FK10 -> 0 | FQ10: Equipes | FR10: =FL6+FL7+FL14+FL15+FL22+FL23+FL30+FL31 -> 0 | FS10: 0 | FT10: =$F10*FS10 -> 0 | FY10: Equipes | FZ10: =FT6+FT7+FT14+FT15+FT22+FT23+FT30+FT31 -> 0 | GA10: 0 | GB10: =$F10*GA10 -> 0 | GG10: Equipes | GH10: =GB6+GB7+GB14+GB15+GB22+GB23+GB30+GB31 -> 0 | GI10: 0 | GJ10: =$F10*GI10 -> 0 | GO10: Equipes | GP10: =GJ6+GJ7+GJ14+GJ15+GJ22+GJ23+GJ30+GJ31 -> 0 | GQ10: 0 | GR10: =$F10*GQ10 -> 0 | GW10: Equipes | GX10: =GR6+GR7+GR14+GR15+GR22+GR23+GR30+GR31 -> 0 | GY10: 0 | GZ10: =$F10*GY10 -> 0 | HE10: Equipes | HF10: =GZ6+GZ7+GZ14+GZ15+GZ22+GZ23+GZ30+GZ31 -> 0 | HG10: 0 | HH10: =$F10*HG10 -> 0 | HM10: Equipes | HN10: =HH6+HH7+HH14+HH15+HH22+HH23+HH30+HH31 -> 0 | HO10: 0 | HP10: =$F10*HO10 -> 0 | HU10: Equipes | HV10: =HP6+HP7+HP14+HP15+HP22+HP23+HP30+HP31 -> 0 | HW10: 0 | HX10: =$F10*HW10 -> 0 | IC10: Equipes | ID10: =HX6+HX7+HX14+HX15+HX22+HX23+HX30+HX31 -> 0 | IE10: 0 | IF10: =$F10*IE10 -> 0 | IK10: Equipes | IL10: =IF6+IF7+IF14+IF15+IF22+IF23+IF30+IF31 -> 0 | IM10: 0 | IN10: =$F10*IM10 -> 0 | IS10: Equipes | IT10: =IN6+IN7+IN14+IN15+IN22+IN23+IN30+IN31 -> 0
D11: Marteau piqueur | E11: Jour | F11: 15 | G11: 0 | H11: =$F11*G11 -> 0 | I11: Mise à la côte de regard/avaloir | K11: =SUM(H$5:H$12)*J11 -> 0 | M11: Matériel | N11: =SUM(H5:H36)-N10 -> 665.12 | O11: 0 | P11: =$F11*O11 -> 0 | Q11: Mise à la côte de regard/avaloir | S11: =SUM(P$5:P$12)*R11 -> 0 | U11: Matériel | V11: =SUM(P5:P36)-V10 -> 132.78 | W11: 0 | X11: =$F11*W11 -> 0 | Y11: Mise à la côte de regard/avaloir | AA11: =SUM(X$5:X$12)*Z11 -> 0 | AC11: Matériel | AD11: =SUM(X5:X36)-AD10 -> 0 | AE11: 0 | AF11: =$F11*AE11 -> 0 | AG11: Mise à la côte de regard/avaloir | AI11: =SUM(AF$5:AF$12)*AH11 -> 0 | AK11: Matériel | AL11: =SUM(AF5:AF36)-AL10 -> 0 | AM11: 0 | AN11: =$F11*AM11 -> 0 | AO11: Mise à la côte de regard/avaloir | AQ11: =SUM(AN$5:AN$12)*AP11 -> 0 | AS11: Matériel | AT11: =SUM(AN5:AN36)-AT10 -> 0 | AU11: 0 | AV11: =$F11*AU11 -> 0 | AW11: Mise à la côte de regard/avaloir | AY11: =SUM(AV$5:AV$12)*AX11 -> 0 | BA11: Matériel | BB11: =SUM(AV5:AV36)-BB10 -> 0 | BC11: 0 | BD11: =$F11*BC11 -> 0 | BE11: Mise à la côte de regard/avaloir | BG11: =SUM(BD$5:BD$12)*BF11 -> 0 | BI11: Matériel | BJ11: =SUM(BD5:BD36)-BJ10 -> 639.22 | BK11: 0 | BL11: =$F11*BK11 -> 0 | BM11: Mise à la côte de regard/avaloir | BN11: 1 | BO11: =SUM(BL$5:BL$12)*BN11 -> 604.95 | BQ11: Matériel | BR11: =SUM(BL5:BL36)-BR10 -> 988.34 | BS11: 0 | BT11: =$F11*BS11 -> 0 | BU11: Mise à la côte de regard/avaloir | BV11: 1 | BW11: =SUM(BT$5:BT$12)*BV11 -> 604.95 | BY11: Matériel | BZ11: =SUM(BT5:BT36)-BZ10 -> 681.995 | CA11: 0 | CB11: =$F11*CA11 -> 0 | CC11: Mise à la côte de regard/avaloir | CE11: =SUM(CB$5:CB$12)*CD11 -> 0 | CG11: Matériel | CH11: =SUM(CB5:CB36)-CH10 -> 0 | CI11: 0 | CJ11: =$F11*CI11 -> 0 | CK11: Mise à la côte de regard/avaloir | CM11: =SUM(CJ$5:CJ$12)*CL11 -> 0 | CO11: Matériel | CP11: =SUM(CJ5:CJ36)-CP10 -> 0 | CQ11: 0 | CR11: =$F11*CQ11 -> 0 | CS11: Mise à la côte de regard/avaloir | CU11: =SUM(CR$5:CR$12)*CT11 -> 0 | CW11: Matériel | CX11: =SUM(CR5:CR36)-CX10 -> 985.09 | CY11: 0 | CZ11: =$F11*CY11 -> 0 | DA11: Mise à la côte de regard/avaloir | DC11: =SUM(CZ$5:CZ$12)*DB11 -> 0 | DE11: Matériel | DF11: =SUM(CZ5:CZ36)-DF10 -> 995.7 | DG11: 0 | DH11: =$F11*DG11 -> 0 | DI11: Mise à la côte de regard/avaloir | DK11: =SUM(DH$5:DH$12)*DJ11 -> 0 | DM11: Matériel | DN11: =SUM(DH5:DH36)-DN10 -> 934.68 | DO11: 0 | DP11: =$F11*DO11 -> 0 | DQ11: Mise à la côte de regard/avaloir | DS11: =SUM(DP$5:DP$12)*DR11 -> 0 | DU11: Matériel | DV11: =SUM(DP5:DP36)-DV10 -> 240.77 | DW11: 0 | DX11: =$F11*DW11 -> 0 | DY11: Mise à la côte de regard/avaloir | DZ11: 0.7 | EA11: =SUM(DX$5:DX$12)*DZ11 -> 525.539 | EC11: Matériel | ED11: =SUM(DX5:DX36)-ED10 -> 905.57 | EE11: 0 | EF11: =$F11*EE11 -> 0 | EG11: Mise à la côte de regard/avaloir | EI11: =SUM(EF$5:EF$12)*EH11 -> 0 | EK11: Matériel | EL11: =SUM(EF5:EF36)-EL10 -> 0 | EM11: 0 | EN11: =$F11*EM11 -> 0 | EO11: Mise à la côte de regard/avaloir | EQ11: =SUM(EN$5:EN$12)*EP11 -> 0 | ES11: Matériel | ET11: =SUM(EN5:EN36)-ET10 -> 0 | EU11: 0 | EV11: =$F11*EU11 -> 0 | EW11: Mise à la côte de regard/avaloir | EY11: =SUM(EV$5:EV$12)*EX11 -> 0 | FA11: Matériel | FB11: =SUM(EV5:EV36)-FB10 -> 0 | FC11: 0 | FD11: =$F11*FC11 -> 0 | FE11: Mise à la côte de regard/avaloir | FG11: =SUM(FD$5:FD$12)*FF11 -> 0 | FI11: Matériel | FJ11: =SUM(FD5:FD36)-FJ10 -> 0 | FK11: 0 | FL11: =$F11*FK11 -> 0 | FM11: Mise à la côte de regard/avaloir | FO11: =SUM(FL$5:FL$12)*FN11 -> 0 | FQ11: Matériel | FR11: =SUM(FL5:FL36)-FR10 -> 0 | FS11: 0 | FT11: =$F11*FS11 -> 0 | FU11: Mise à la côte de regard/avaloir | FW11: =SUM(FT$5:FT$12)*FV11 -> 0 | FY11: Matériel | FZ11: =SUM(FT5:FT36)-FZ10 -> 0 | GA11: 0 | GB11: =$F11*GA11 -> 0 | GC11: Mise à la côte de regard/avaloir | GE11: =SUM(GB$5:GB$12)*GD11 -> 0 | GG11: Matériel | GH11: =SUM(GB5:GB36)-GH10 -> 0 | GI11: 0 | GJ11: =$F11*GI11 -> 0 | GK11: Mise à la côte de regard/avaloir | GM11: =SUM(GJ$5:GJ$12)*GL11 -> 0 | GO11: Matériel | GP11: =SUM(GJ5:GJ36)-GP10 -> 0 | GQ11: 0 | GR11: =$F11*GQ11 -> 0 | GS11: Mise à la côte de regard/avaloir | GU11: =SUM(GR$5:GR$12)*GT11 -> 0 | GW11: Matériel | GX11: =SUM(GR5:GR36)-GX10 -> 0 | GY11: 0 | GZ11: =$F11*GY11 -> 0 | HA11: Mise à la côte de regard/avaloir | HC11: =SUM(GZ$5:GZ$12)*HB11 -> 0 | HE11: Matériel | HF11: =SUM(GZ5:GZ36)-HF10 -> 0 | HG11: 0 | HH11: =$F11*HG11 -> 0 | HI11: Mise à la côte de regard/avaloir | HK11: =SUM(HH$5:HH$12)*HJ11 -> 0 | HM11: Matériel | HN11: =SUM(HH5:HH36)-HN10 -> 0 | HO11: 0 | HP11: =$F11*HO11 -> 0 | HQ11: Mise à la côte de regard/avaloir | HS11: =SUM(HP$5:HP$12)*HR11 -> 0 | HU11: Matériel | HV11: =SUM(HP5:HP36)-HV10 -> 0 | HW11: 0 | HX11: =$F11*HW11 -> 0 | HY11: Mise à la côte de regard/avaloir | IA11: =SUM(HX$5:HX$12)*HZ11 -> 0 | IC11: Matériel | ID11: =SUM(HX5:HX36)-ID10 -> 0 | IE11: 0 | IF11: =$F11*IE11 -> 0 | IG11: Mise à la côte de regard/avaloir | II11: =SUM(IF$5:IF$12)*IH11 -> 0 | IK11: Matériel | IL11: =SUM(IF5:IF36)-IL10 -> 0 | IM11: 0 | IN11: =$F11*IM11 -> 0 | IO11: Mise à la côte de regard/avaloir | IQ11: =SUM(IN$5:IN$12)*IP11 -> 0 | IS11: Matériel | IT11: =SUM(IN5:IN36)-IT10 -> 0
D12: Traietor rost | E12: Jour | F12: 14.18 | G12: 0 | H12: =$F12*G12 -> 0 | M12: Matériaux | N12: =SUM(M39:M41)+SUM(M44:M45) -> 0 | O12: 0 | P12: =$F12*O12 -> 0 | U12: Matériaux | V12: =SUM(U39:U41)+SUM(U44:U45) -> 0 | W12: 0 | X12: =$F12*W12 -> 0 | AC12: Matériaux | AD12: =SUM(AC39:AC41)+SUM(AC44:AC45) -> 0 | AE12: 0 | AF12: =$F12*AE12 -> 0 | AK12: Matériaux | AL12: =SUM(AK39:AK41)+SUM(AK44:AK45) -> 0 | AM12: 0 | AN12: =$F12*AM12 -> 0 | AS12: Matériaux | AT12: =SUM(AS39:AS41)+SUM(AS44:AS45) -> 0 | AU12: 0 | AV12: =$F12*AU12 -> 0 | BA12: Matériaux | BB12: =SUM(BA39:BA41)+SUM(BA44:BA45) -> 0 | BC12: 0 | BD12: =$F12*BC12 -> 0 | BI12: Matériaux | BJ12: =SUM(BI39:BI41)+SUM(BI44:BI45) -> 1829 | BK12: 1 | BL12: =$F12*BK12 -> 14.18 | BQ12: Matériaux | BR12: =SUM(BQ39:BQ41)+SUM(BQ44:BQ45) -> 3015 | BS12: 1 | BT12: =$F12*BS12 -> 14.18 | BY12: Matériaux | BZ12: =SUM(BY39:BY41)+SUM(BY44:BY45) -> 2329 | CA12: 0 | CB12: =$F12*CA12 -> 0 | CG12: Matériaux | CH12: =SUM(CG39:CG41)+SUM(CG44:CG45) -> 0 | CI12: 0 | CJ12: =$F12*CI12 -> 0 | CO12: Matériaux | CP12: =SUM(CO39:CO41)+SUM(CO44:CO45) -> 0 | CQ12: 0 | CR12: =$F12*CQ12 -> 0 | CW12: Matériaux | CX12: =SUM(CW39:CW41)+SUM(CW44:CW45) -> 2219 | CY12: 0 | CZ12: =$F12*CY12 -> 0 | DE12: Matériaux | DF12: =SUM(DE39:DE41)+SUM(DE44:DE45) -> 1829 | DG12: 0 | DH12: =$F12*DG12 -> 0 | DM12: Matériaux | DN12: =SUM(DM39:DM41)+SUM(DM44:DM45) -> 2745 | DO12: 0 | DP12: =$F12*DO12 -> 0 | DU12: Matériaux | DV12: =SUM(DU39:DU41)+SUM(DU44:DU45) -> 0 | DW12: 0 | DX12: =$F12*DW12 -> 0 | EC12: Matériaux | ED12: =SUM(EC39:EC41)+SUM(EC44:EC45) -> 2170 | EE12: 0 | EF12: =$F12*EE12 -> 0 | EK12: Matériaux | EL12: =SUM(EK39:EK41)+SUM(EK44:EK45) -> 0 | EM12: 0 | EN12: =$F12*EM12 -> 0 | ES12: Matériaux | ET12: =SUM(ES39:ES41)+SUM(ES44:ES45) -> 0 | EU12: 0 | EV12: =$F12*EU12 -> 0 | FA12: Matériaux | FB12: =SUM(FA39:FA41)+SUM(FA44:FA45) -> 0 | FC12: 0 | FD12: =$F12*FC12 -> 0 | FI12: Matériaux | FJ12: =SUM(FI39:FI41)+SUM(FI44:FI45) -> 0 | FK12: 0 | FL12: =$F12*FK12 -> 0 | FQ12: Matériaux | FR12: =SUM(FQ39:FQ41)+SUM(FQ44:FQ45) -> 0 | FS12: 0 | FT12: =$F12*FS12 -> 0 | FY12: Matériaux | FZ12: =SUM(FY39:FY41)+SUM(FY44:FY45) -> 0 | GA12: 0 | GB12: =$F12*GA12 -> 0 | GG12: Matériaux | GH12: =SUM(GG39:GG41)+SUM(GG44:GG45) -> 0 | GI12: 0 | GJ12: =$F12*GI12 -> 0 | GO12: Matériaux | GP12: =SUM(GO39:GO41)+SUM(GO44:GO45) -> 0 | GQ12: 0 | GR12: =$F12*GQ12 -> 0 | GW12: Matériaux | GX12: =SUM(GW39:GW41)+SUM(GW44:GW45) -> 0 | GY12: 0 | GZ12: =$F12*GY12 -> 0 | HE12: Matériaux | HF12: =SUM(HE39:HE41)+SUM(HE44:HE45) -> 0 | HG12: 0 | HH12: =$F12*HG12 -> 0 | HM12: Matériaux | HN12: =SUM(HM39:HM41)+SUM(HM44:HM45) -> 0 | HO12: 0 | HP12: =$F12*HO12 -> 0 | HU12: Matériaux | HV12: =SUM(HU39:HU41)+SUM(HU44:HU45) -> 0 | HW12: 0 | HX12: =$F12*HW12 -> 0 | IC12: Matériaux | ID12: =SUM(IC39:IC41)+SUM(IC44:IC45) -> 0 | IE12: 0 | IF12: =$F12*IE12 -> 0 | IK12: Matériaux | IL12: =SUM(IK39:IK41)+SUM(IK44:IK45) -> 0 | IM12: 0 | IN12: =$F12*IM12 -> 0 | IS12: Matériaux | IT12: =SUM(IS39:IS41)+SUM(IS44:IS45) -> 0
D13: Renault Mascott + carburant B-87-JED | E13: Jour | F13: =217.74+49.68 -> 267.42 | G13: 1 | H13: =$F13*G13 -> 267.42 | I13: Ballast | J13: 0.5 | K13: =SUM(H$13:H$20)*J13 -> 427.935 | M13: Total | N13: =SUM(N10:N12) -> 1685.12 | O13: 0 | P13: =$F13*O13 -> 0 | Q13: Ballast | S13: =SUM(P$13:P$20)*R13 -> 0 | U13: Total | V13: =SUM(V10:V12) -> 307.78 | W13: 0 | X13: =$F13*W13 -> 0 | Y13: Ballast | AA13: =SUM(X$13:X$20)*Z13 -> 0 | AC13: Total | AD13: =SUM(AD10:AD12) -> 0 | AE13: 0 | AF13: =$F13*AE13 -> 0 | AG13: Ballast | AI13: =SUM(AF$13:AF$20)*AH13 -> 0 | AK13: Total | AL13: =SUM(AL10:AL12) -> 0 | AM13: 0 | AN13: =$F13*AM13 -> 0 | AO13: Ballast | AQ13: =SUM(AN$13:AN$20)*AP13 -> 0 | AS13: Total | AT13: =SUM(AT10:AT12) -> 0 | AU13: 0 | AV13: =$F13*AU13 -> 0 | AW13: Ballast | AY13: =SUM(AV$13:AV$20)*AX13 -> 0 | BA13: Total | BB13: =SUM(BB10:BB12) -> 0 | BC13: 0 | BD13: =$F13*BC13 -> 0 | BE13: Ballast | BG13: =SUM(BD$13:BD$20)*BF13 -> 0 | BI13: Total | BJ13: =SUM(BJ10:BJ12) -> 4158.22 | BK13: 1 | BL13: =$F13*BK13 -> 267.42 | BM13: Ballast | BO13: =SUM(BL$13:BL$20)*BN13 -> 0 | BQ13: Total | BR13: =SUM(BR10:BR12) -> 5883.34 | BS13: 1 | BT13: =$F13*BS13 -> 267.42 | BU13: Ballast | BW13: =SUM(BT$13:BT$20)*BV13 -> 0 | BY13: Total | BZ13: =SUM(BZ10:BZ12) -> 4125.995 | CA13: 0 | CB13: =$F13*CA13 -> 0 | CC13: Ballast | CE13: =SUM(CB$13:CB$20)*CD13 -> 0 | CG13: Total | CH13: =SUM(CH10:CH12) -> 0 | CI13: 0 | CJ13: =$F13*CI13 -> 0 | CK13: Ballast | CM13: =SUM(CJ$13:CJ$20)*CL13 -> 0 | CO13: Total | CP13: =SUM(CP10:CP12) -> 0 | CQ13: 1 | CR13: =$F13*CQ13 -> 267.42 | CS13: Ballast | CT13: 0.5 | CU13: =SUM(CR$13:CR$20)*CT13 -> 440.33 | CW13: Total | CX13: =SUM(CX10:CX12) -> 4924.09 | CY13: 1 | CZ13: =$F13*CY13 -> 267.42 | DA13: Ballast | DB13: 0.5 | DC13: =SUM(CZ$13:CZ$20)*DB13 -> 440.33 | DE13: Total | DF13: =SUM(DF10:DF12) -> 4704.7 | DG13: 1 | DH13: =$F13*DG13 -> 267.42 | DI13: Ballast | DK13: =SUM(DH$13:DH$20)*DJ13 -> 0 | DM13: Total | DN13: =SUM(DN10:DN12) -> 5559.68 | DO13: 0 | DP13: =$F13*DO13 -> 0 | DQ13: Ballast | DS13: =SUM(DP$13:DP$20)*DR13 -> 0 | DU13: Total | DV13: =SUM(DV10:DV12) -> 750.77 | DW13: 1 | DX13: =$F13*DW13 -> 267.42 | DY13: Ballast | EA13: =SUM(DX$13:DX$20)*DZ13 -> 0 | EC13: Total | ED13: =SUM(ED10:ED12) -> 4605.57 | EE13: 0 | EF13: =$F13*EE13 -> 0 | EG13: Ballast | EI13: =SUM(EF$13:EF$20)*EH13 -> 0 | EK13: Total | EL13: =SUM(EL10:EL12) -> 0 | EM13: 0 | EN13: =$F13*EM13 -> 0 | EO13: Ballast | EQ13: =SUM(EN$13:EN$20)*EP13 -> 0 | ES13: Total | ET13: =SUM(ET10:ET12) -> 0 | EU13: 0 | EV13: =$F13*EU13 -> 0 | EW13: Ballast | EY13: =SUM(EV$13:EV$20)*EX13 -> 0 | FA13: Total | FB13: =SUM(FB10:FB12) -> 0 | FC13: 0 | FD13: =$F13*FC13 -> 0 | FE13: Ballast | FG13: =SUM(FD$13:FD$20)*FF13 -> 0 | FI13: Total | FJ13: =SUM(FJ10:FJ12) -> 0 | FK13: 0 | FL13: =$F13*FK13 -> 0 | FM13: Ballast | FO13: =SUM(FL$13:FL$20)*FN13 -> 0 | FQ13: Total | FR13: =SUM(FR10:FR12) -> 0 | FS13: 0 | FT13: =$F13*FS13 -> 0 | FU13: Ballast | FW13: =SUM(FT$13:FT$20)*FV13 -> 0 | FY13: Total | FZ13: =SUM(FZ10:FZ12) -> 0 | GA13: 0 | GB13: =$F13*GA13 -> 0 | GC13: Ballast | GE13: =SUM(GB$13:GB$20)*GD13 -> 0 | GG13: Total | GH13: =SUM(GH10:GH12) -> 0 | GI13: 0 | GJ13: =$F13*GI13 -> 0 | GK13: Ballast | GM13: =SUM(GJ$13:GJ$20)*GL13 -> 0 | GO13: Total | GP13: =SUM(GP10:GP12) -> 0 | GQ13: 0 | GR13: =$F13*GQ13 -> 0 | GS13: Ballast | GU13: =SUM(GR$13:GR$20)*GT13 -> 0 | GW13: Total | GX13: =SUM(GX10:GX12) -> 0 | GY13: 0 | GZ13: =$F13*GY13 -> 0 | HA13: Ballast | HC13: =SUM(GZ$13:GZ$20)*HB13 -> 0 | HE13: Total | HF13: =SUM(HF10:HF12) -> 0 | HG13: 0 | HH13: =$F13*HG13 -> 0 | HI13: Ballast | HK13: =SUM(HH$13:HH$20)*HJ13 -> 0 | HM13: Total | HN13: =SUM(HN10:HN12) -> 0 | HO13: 0 | HP13: =$F13*HO13 -> 0 | HQ13: Ballast | HS13: =SUM(HP$13:HP$20)*HR13 -> 0 | HU13: Total | HV13: =SUM(HV10:HV12) -> 0 | HW13: 0 | HX13: =$F13*HW13 -> 0 | HY13: Ballast | IA13: =SUM(HX$13:HX$20)*HZ13 -> 0 | IC13: Total | ID13: =SUM(ID10:ID12) -> 0 | IE13: 0 | IF13: =$F13*IE13 -> 0 | IG13: Ballast | II13: =SUM(IF$13:IF$20)*IH13 -> 0 | IK13: Total | IL13: =SUM(IL10:IL12) -> 0 | IM13: 0 | IN13: =$F13*IM13 -> 0 | IO13: Ballast | IQ13: =SUM(IN$13:IN$20)*IP13 -> 0 | IS13: Total | IT13: =SUM(IT10:IT12) -> 0
D14: Conducator | E14: Jour | F14: 190 | G14: =IF(G13=0,0,1) -> 1 | H14: =$F14*G14 -> 190 | O14: =IF(O13=0,0,1) -> 0 | P14: =$F14*O14 -> 0 | W14: =IF(W13=0,0,1) -> 0 | X14: =$F14*W14 -> 0 | AE14: =IF(AE13=0,0,1) -> 0 | AF14: =$F14*AE14 -> 0 | AM14: =IF(AM13=0,0,1) -> 0 | AN14: =$F14*AM14 -> 0 | AU14: =IF(AU13=0,0,1) -> 0 | AV14: =$F14*AU14 -> 0 | BC14: =IF(BC13=0,0,1) -> 0 | BD14: =$F14*BC14 -> 0 | BK14: =IF(BK13=0,0,1) -> 1 | BL14: =$F14*BK14 -> 190 | BS14: 1 | BT14: =$F14*BS14 -> 190 | CA14: =IF(CA13=0,0,1) -> 0 | CB14: =$F14*CA14 -> 0 | CI14: =IF(CI13=0,0,1) -> 0 | CJ14: =$F14*CI14 -> 0 | CQ14: =IF(CQ13=0,0,1) -> 1 | CR14: =$F14*CQ14 -> 190 | CY14: =IF(CY13=0,0,1) -> 1 | CZ14: =$F14*CY14 -> 190 | DG14: =IF(DG13=0,0,1) -> 1 | DH14: =$F14*DG14 -> 190 | DO14: =IF(DO13=0,0,1) -> 0 | DP14: =$F14*DO14 -> 0 | DW14: =IF(DW13=0,0,1) -> 1 | DX14: =$F14*DW14 -> 190 | EE14: =IF(EE13=0,0,1) -> 0 | EF14: =$F14*EE14 -> 0 | EM14: =IF(EM13=0,0,1) -> 0 | EN14: =$F14*EM14 -> 0 | EU14: =IF(EU13=0,0,1) -> 0 | EV14: =$F14*EU14 -> 0 | FC14: =IF(FC13=0,0,1) -> 0 | FD14: =$F14*FC14 -> 0 | FK14: =IF(FK13=0,0,1) -> 0 | FL14: =$F14*FK14 -> 0 | FS14: =IF(FS13=0,0,1) -> 0 | FT14: =$F14*FS14 -> 0 | GA14: =IF(GA13=0,0,1) -> 0 | GB14: =$F14*GA14 -> 0 | GI14: =IF(GI13=0,0,1) -> 0 | GJ14: =$F14*GI14 -> 0 | GQ14: =IF(GQ13=0,0,1) -> 0 | GR14: =$F14*GQ14 -> 0 | GY14: =IF(GY13=0,0,1) -> 0 | GZ14: =$F14*GY14 -> 0 | HG14: =IF(HG13=0,0,1) -> 0 | HH14: =$F14*HG14 -> 0 | HO14: =IF(HO13=0,0,1) -> 0 | HP14: =$F14*HO14 -> 0 | HW14: =IF(HW13=0,0,1) -> 0 | HX14: =$F14*HW14 -> 0 | IE14: =IF(IE13=0,0,1) -> 0 | IF14: =$F14*IE14 -> 0 | IM14: =IF(IM13=0,0,1) -> 0 | IN14: =$F14*IM14 -> 0
D15: Muncitorii | E15: Jour | F15: 160 | G15: =IF(G13=0,0,2) -> 2 | H15: =$F15*G15 -> 320 | I15: Béton | J15: 0.5 | K15: =SUM(H$13:H$20)*J15 -> 427.935 | M15: Prix BPU | N15: Recettes | O15: =IF(O13=0,0,2) -> 0 | P15: =$F15*O15 -> 0 | Q15: Béton | S15: =SUM(P$13:P$20)*R15 -> 0 | U15: Prix BPU | V15: Recettes | W15: =IF(W13=0,0,2) -> 0 | X15: =$F15*W15 -> 0 | Y15: Béton | AA15: =SUM(X$13:X$20)*Z15 -> 0 | AC15: Prix BPU | AD15: Recettes | AE15: =IF(AE13=0,0,2) -> 0 | AF15: =$F15*AE15 -> 0 | AG15: Béton | AI15: =SUM(AF$13:AF$20)*AH15 -> 0 | AK15: Prix BPU | AL15: Recettes | AM15: =IF(AM13=0,0,2) -> 0 | AN15: =$F15*AM15 -> 0 | AO15: Béton | AQ15: =SUM(AN$13:AN$20)*AP15 -> 0 | AS15: Prix BPU | AT15: Recettes | AU15: =IF(AU13=0,0,2) -> 0 | AV15: =$F15*AU15 -> 0 | AW15: Béton | AY15: =SUM(AV$13:AV$20)*AX15 -> 0 | BA15: Prix BPU | BB15: Recettes | BC15: =IF(BC13=0,0,2) -> 0 | BD15: =$F15*BC15 -> 0 | BE15: Béton | BG15: =SUM(BD$13:BD$20)*BF15 -> 0 | BI15: Prix BPU | BJ15: Recettes | BK15: =IF(BK13=0,0,2) -> 2 | BL15: =$F15*BK15 -> 320 | BM15: Béton | BO15: =SUM(BL$13:BL$20)*BN15 -> 0 | BQ15: Prix BPU | BR15: Recettes | BS15: 2 | BT15: =$F15*BS15 -> 320 | BU15: Béton | BW15: =SUM(BT$13:BT$20)*BV15 -> 0 | BY15: Prix BPU | BZ15: Recettes | CA15: =IF(CA13=0,0,2) -> 0 | CB15: =$F15*CA15 -> 0 | CC15: Béton | CE15: =SUM(CB$13:CB$20)*CD15 -> 0 | CG15: Prix BPU | CH15: Recettes | CI15: =IF(CI13=0,0,2) -> 0 | CJ15: =$F15*CI15 -> 0 | CK15: Béton | CM15: =SUM(CJ$13:CJ$20)*CL15 -> 0 | CO15: Prix BPU | CP15: Recettes | CQ15: =IF(CQ13=0,0,2) -> 2 | CR15: =$F15*CQ15 -> 320 | CS15: Béton | CT15: 0.5 | CU15: =SUM(CR$13:CR$20)*CT15 -> 440.33 | CW15: Prix BPU | CX15: Recettes | CY15: =IF(CY13=0,0,2) -> 2 | CZ15: =$F15*CY15 -> 320 | DA15: Béton | DB15: 0.5 | DC15: =SUM(CZ$13:CZ$20)*DB15 -> 440.33 | DE15: Prix BPU | DF15: Recettes | DG15: =IF(DG13=0,0,2) -> 2 | DH15: =$F15*DG15 -> 320 | DI15: Béton | DJ15: 0.5 | DK15: =SUM(DH$13:DH$20)*DJ15 -> 408.195 | DM15: Prix BPU | DN15: Recettes | DO15: =IF(DO13=0,0,2) -> 0 | DP15: =$F15*DO15 -> 0 | DQ15: Béton | DS15: =SUM(DP$13:DP$20)*DR15 -> 0 | DU15: Prix BPU | DV15: Recettes | DW15: =IF(DW13=0,0,2) -> 2 | DX15: =$F15*DW15 -> 320 | DY15: Béton | EA15: =SUM(DX$13:DX$20)*DZ15 -> 0 | EC15: Prix BPU | ED15: Recettes | EE15: =IF(EE13=0,0,2) -> 0 | EF15: =$F15*EE15 -> 0 | EG15: Béton | EI15: =SUM(EF$13:EF$20)*EH15 -> 0 | EK15: Prix BPU | EL15: Recettes | EM15: =IF(EM13=0,0,2) -> 0 | EN15: =$F15*EM15 -> 0 | EO15: Béton | EQ15: =SUM(EN$13:EN$20)*EP15 -> 0 | ES15: Prix BPU | ET15: Recettes | EU15: =IF(EU13=0,0,2) -> 0 | EV15: =$F15*EU15 -> 0 | EW15: Béton | EY15: =SUM(EV$13:EV$20)*EX15 -> 0 | FA15: Prix BPU | FB15: Recettes | FC15: =IF(FC13=0,0,2) -> 0 | FD15: =$F15*FC15 -> 0 | FE15: Béton | FG15: =SUM(FD$13:FD$20)*FF15 -> 0 | FI15: Prix BPU | FJ15: Recettes | FK15: =IF(FK13=0,0,2) -> 0 | FL15: =$F15*FK15 -> 0 | FM15: Béton | FO15: =SUM(FL$13:FL$20)*FN15 -> 0 | FQ15: Prix BPU | FR15: Recettes | FS15: =IF(FS13=0,0,2) -> 0 | FT15: =$F15*FS15 -> 0 | FU15: Béton | FW15: =SUM(FT$13:FT$20)*FV15 -> 0 | FY15: Prix BPU | FZ15: Recettes | GA15: =IF(GA13=0,0,2) -> 0 | GB15: =$F15*GA15 -> 0 | GC15: Béton | GE15: =SUM(GB$13:GB$20)*GD15 -> 0 | GG15: Prix BPU | GH15: Recettes | GI15: =IF(GI13=0,0,2) -> 0 | GJ15: =$F15*GI15 -> 0 | GK15: Béton | GM15: =SUM(GJ$13:GJ$20)*GL15 -> 0 | GO15: Prix BPU | GP15: Recettes | GQ15: =IF(GQ13=0,0,2) -> 0 | GR15: =$F15*GQ15 -> 0 | GS15: Béton | GU15: =SUM(GR$13:GR$20)*GT15 -> 0 | GW15: Prix BPU | GX15: Recettes | GY15: =IF(GY13=0,0,2) -> 0 | GZ15: =$F15*GY15 -> 0 | HA15: Béton | HC15: =SUM(GZ$13:GZ$20)*HB15 -> 0 | HE15: Prix BPU | HF15: Recettes | HG15: =IF(HG13=0,0,2) -> 0 | HH15: =$F15*HG15 -> 0 | HI15: Béton | HK15: =SUM(HH$13:HH$20)*HJ15 -> 0 | HM15: Prix BPU | HN15: Recettes | HO15: =IF(HO13=0,0,2) -> 0 | HP15: =$F15*HO15 -> 0 | HQ15: Béton | HS15: =SUM(HP$13:HP$20)*HR15 -> 0 | HU15: Prix BPU | HV15: Recettes | HW15: =IF(HW13=0,0,2) -> 0 | HX15: =$F15*HW15 -> 0 | HY15: Béton | IA15: =SUM(HX$13:HX$20)*HZ15 -> 0 | IC15: Prix BPU | ID15: Recettes | IE15: =IF(IE13=0,0,2) -> 0 | IF15: =$F15*IE15 -> 0 | IG15: Béton | II15: =SUM(IF$13:IF$20)*IH15 -> 0 | IK15: Prix BPU | IL15: Recettes | IM15: =IF(IM13=0,0,2) -> 0 | IN15: =$F15*IM15 -> 0 | IO15: Béton | IQ15: =SUM(IN$13:IN$20)*IP15 -> 0 | IS15: Prix BPU | IT15: Recettes
D16: Compressor | E16: Jour | F16: 38.34 | G16: 1 | H16: =$F16*G16 -> 38.34 | L16: Ballast | N16: =M16*J39 -> 0 | O16: 0 | P16: =$F16*O16 -> 0 | T16: Ballast | V16: =U16*R39 -> 0 | W16: 0 | X16: =$F16*W16 -> 0 | AB16: Ballast | AD16: =AC16*Z39 -> 0 | AE16: 0 | AF16: =$F16*AE16 -> 0 | AJ16: Ballast | AL16: =AK16*AH39 -> 0 | AM16: 0 | AN16: =$F16*AM16 -> 0 | AR16: Ballast | AT16: =AS16*AP39 -> 0 | AU16: 0 | AV16: =$F16*AU16 -> 0 | AZ16: Ballast | BB16: =BA16*AX39 -> 0 | BC16: 0 | BD16: =$F16*BC16 -> 0 | BH16: Ballast | BJ16: =BI16*BF39 -> 0 | BK16: 1 | BL16: =$F16*BK16 -> 38.34 | BP16: Ballast | BR16: =BQ16*BN39 -> 0 | BS16: 0 | BT16: =$F16*BS16 -> 0 | BX16: Ballast | BZ16: =BY16*BV39 -> 0 | CA16: 0 | CB16: =$F16*CA16 -> 0 | CF16: Ballast | CH16: =CG16*CD39 -> 0 | CI16: 0 | CJ16: =$F16*CI16 -> 0 | CN16: Ballast | CP16: =CO16*CL39 -> 0 | CQ16: 1 | CR16: =$F16*CQ16 -> 38.34 | CV16: Ballast | CX16: =CW16*CT39 -> 0 | CY16: 1 | CZ16: =$F16*CY16 -> 38.34 | DD16: Ballast | DF16: =DE16*DB39 -> 0 | DG16: 0 | DH16: =$F16*DG16 -> 0 | DL16: Ballast | DN16: =DM16*DJ39 -> 0 | DO16: 0 | DP16: =$F16*DO16 -> 0 | DT16: Ballast | DV16: =DU16*DR39 -> 0 | DW16: 1 | DX16: =$F16*DW16 -> 38.34 | EB16: Ballast | ED16: =EC16*DZ39 -> 0 | EE16: 0 | EF16: =$F16*EE16 -> 0 | EJ16: Ballast | EL16: =EK16*EH39 -> 0 | EM16: 0 | EN16: =$F16*EM16 -> 0 | ER16: Ballast | ET16: =ES16*EP39 -> 0 | EU16: 0 | EV16: =$F16*EU16 -> 0 | EZ16: Ballast | FB16: =FA16*EX39 -> 0 | FC16: 0 | FD16: =$F16*FC16 -> 0 | FH16: Ballast | FJ16: =FI16*FF39 -> 0 | FK16: 0 | FL16: =$F16*FK16 -> 0 | FP16: Ballast | FR16: =FQ16*FN39 -> 0 | FS16: 0 | FT16: =$F16*FS16 -> 0 | FX16: Ballast | FZ16: =FY16*FV39 -> 0 | GA16: 0 | GB16: =$F16*GA16 -> 0 | GF16: Ballast | GH16: =GG16*GD39 -> 0 | GI16: 0 | GJ16: =$F16*GI16 -> 0 | GN16: Ballast | GP16: =GO16*GL39 -> 0 | GQ16: 0 | GR16: =$F16*GQ16 -> 0 | GV16: Ballast | GX16: =GW16*GT39 -> 0 | GY16: 0 | GZ16: =$F16*GY16 -> 0 | HD16: Ballast | HF16: =HE16*HB39 -> 0 | HG16: 0 | HH16: =$F16*HG16 -> 0 | HL16: Ballast | HN16: =HM16*HJ39 -> 0 | HO16: 0 | HP16: =$F16*HO16 -> 0 | HT16: Ballast | HV16: =HU16*HR39 -> 0 | HW16: 0 | HX16: =$F16*HW16 -> 0 | IB16: Ballast | ID16: =IC16*HZ39 -> 0 | IE16: 0 | IF16: =$F16*IE16 -> 0 | IJ16: Ballast | IL16: =IK16*IH39 -> 0 | IM16: 0 | IN16: =$F16*IM16 -> 0 | IR16: Ballast | IT16: =IS16*IP39 -> 0
D17: Placa vibranta | E17: Jour | F17: 24.79 | G17: 0 | H17: =$F17*G17 -> 0 | I17: Asphalte | K17: =SUM(H$13:H$20)*J17 -> 0 | L17: Béton | N17: =M17*J40 -> 0 | O17: 0 | P17: =$F17*O17 -> 0 | Q17: Asphalte | S17: =SUM(P$13:P$20)*R17 -> 0 | T17: Béton | V17: =U17*R40 -> 0 | W17: 0 | X17: =$F17*W17 -> 0 | Y17: Asphalte | AA17: =SUM(X$13:X$20)*Z17 -> 0 | AB17: Béton | AD17: =AC17*Z40 -> 0 | AE17: 0 | AF17: =$F17*AE17 -> 0 | AG17: Asphalte | AI17: =SUM(AF$13:AF$20)*AH17 -> 0 | AJ17: Béton | AL17: =AK17*AH40 -> 0 | AM17: 0 | AN17: =$F17*AM17 -> 0 | AO17: Asphalte | AQ17: =SUM(AN$13:AN$20)*AP17 -> 0 | AR17: Béton | AT17: =AS17*AP40 -> 0 | AU17: 0 | AV17: =$F17*AU17 -> 0 | AW17: Asphalte | AY17: =SUM(AV$13:AV$20)*AX17 -> 0 | AZ17: Béton | BB17: =BA17*AX40 -> 0 | BC17: 0 | BD17: =$F17*BC17 -> 0 | BE17: Asphalte | BG17: =SUM(BD$13:BD$20)*BF17 -> 0 | BH17: Béton | BJ17: =BI17*BF40 -> 0 | BK17: 0 | BL17: =$F17*BK17 -> 0 | BM17: Asphalte | BO17: =SUM(BL$13:BL$20)*BN17 -> 0 | BP17: Béton | BR17: =BQ17*BN40 -> 0 | BS17: 0 | BT17: =$F17*BS17 -> 0 | BU17: Asphalte | BW17: =SUM(BT$13:BT$20)*BV17 -> 0 | BX17: Béton | BZ17: =BY17*BV40 -> 0 | CA17: 0 | CB17: =$F17*CA17 -> 0 | CC17: Asphalte | CE17: =SUM(CB$13:CB$20)*CD17 -> 0 | CF17: Béton | CH17: =CG17*CD40 -> 0 | CI17: 0 | CJ17: =$F17*CI17 -> 0 | CK17: Asphalte | CM17: =SUM(CJ$13:CJ$20)*CL17 -> 0 | CN17: Béton | CP17: =CO17*CL40 -> 0 | CQ17: 1 | CR17: =$F17*CQ17 -> 24.79 | CS17: Asphalte | CU17: =SUM(CR$13:CR$20)*CT17 -> 0 | CV17: Béton | CX17: =CW17*CT40 -> 0 | CY17: 1 | CZ17: =$F17*CY17 -> 24.79 | DA17: Asphalte | DC17: =SUM(CZ$13:CZ$20)*DB17 -> 0 | DD17: Béton | DF17: =DE17*DB40 -> 0 | DG17: 1 | DH17: =$F17*DG17 -> 24.79 | DI17: Asphalte | DJ17: 0.5 | DK17: =SUM(DH$13:DH$20)*DJ17 -> 408.195 | DL17: Béton | DN17: =DM17*DJ40 -> 0 | DO17: 0 | DP17: =$F17*DO17 -> 0 | DQ17: Asphalte | DS17: =SUM(DP$13:DP$20)*DR17 -> 0 | DT17: Béton | DV17: =DU17*DR40 -> 0 | DW17: 1 | DX17: =$F17*DW17 -> 24.79 | DY17: Asphalte | DZ17: 0.3 | EA17: =SUM(DX$13:DX$20)*DZ17 -> 256.665 | EB17: Béton | ED17: =EC17*DZ40 -> 0 | EE17: 0 | EF17: =$F17*EE17 -> 0 | EG17: Asphalte | EI17: =SUM(EF$13:EF$20)*EH17 -> 0 | EJ17: Béton | EL17: =EK17*EH40 -> 0 | EM17: 0 | EN17: =$F17*EM17 -> 0 | EO17: Asphalte | EQ17: =SUM(EN$13:EN$20)*EP17 -> 0 | ER17: Béton | ET17: =ES17*EP40 -> 0 | EU17: 0 | EV17: =$F17*EU17 -> 0 | EW17: Asphalte | EY17: =SUM(EV$13:EV$20)*EX17 -> 0 | EZ17: Béton | FB17: =FA17*EX40 -> 0 | FC17: 0 | FD17: =$F17*FC17 -> 0 | FE17: Asphalte | FG17: =SUM(FD$13:FD$20)*FF17 -> 0 | FH17: Béton | FJ17: =FI17*FF40 -> 0 | FK17: 0 | FL17: =$F17*FK17 -> 0 | FM17: Asphalte | FO17: =SUM(FL$13:FL$20)*FN17 -> 0 | FP17: Béton | FR17: =FQ17*FN40 -> 0 | FS17: 0 | FT17: =$F17*FS17 -> 0 | FU17: Asphalte | FW17: =SUM(FT$13:FT$20)*FV17 -> 0 | FX17: Béton | FZ17: =FY17*FV40 -> 0 | GA17: 0 | GB17: =$F17*GA17 -> 0 | GC17: Asphalte | GE17: =SUM(GB$13:GB$20)*GD17 -> 0 | GF17: Béton | GH17: =GG17*GD40 -> 0 | GI17: 0 | GJ17: =$F17*GI17 -> 0 | GK17: Asphalte | GM17: =SUM(GJ$13:GJ$20)*GL17 -> 0 | GN17: Béton | GP17: =GO17*GL40 -> 0 | GQ17: 0 | GR17: =$F17*GQ17 -> 0 | GS17: Asphalte | GU17: =SUM(GR$13:GR$20)*GT17 -> 0 | GV17: Béton | GX17: =GW17*GT40 -> 0 | GY17: 0 | GZ17: =$F17*GY17 -> 0 | HA17: Asphalte | HC17: =SUM(GZ$13:GZ$20)*HB17 -> 0 | HD17: Béton | HF17: =HE17*HB40 -> 0 | HG17: 0 | HH17: =$F17*HG17 -> 0 | HI17: Asphalte | HK17: =SUM(HH$13:HH$20)*HJ17 -> 0 | HL17: Béton | HN17: =HM17*HJ40 -> 0 | HO17: 0 | HP17: =$F17*HO17 -> 0 | HQ17: Asphalte | HS17: =SUM(HP$13:HP$20)*HR17 -> 0 | HT17: Béton | HV17: =HU17*HR40 -> 0 | HW17: 0 | HX17: =$F17*HW17 -> 0 | HY17: Asphalte | IA17: =SUM(HX$13:HX$20)*HZ17 -> 0 | IB17: Béton | ID17: =IC17*HZ40 -> 0 | IE17: 0 | IF17: =$F17*IE17 -> 0 | IG17: Asphalte | II17: =SUM(IF$13:IF$20)*IH17 -> 0 | IJ17: Béton | IL17: =IK17*IH40 -> 0 | IM17: 0 | IN17: =$F17*IM17 -> 0 | IO17: Asphalte | IQ17: =SUM(IN$13:IN$20)*IP17 -> 0 | IR17: Béton | IT17: =IS17*IP40 -> 0
D18: Mai compactor | E18: Jour | F18: 10.93 | G18: 1 | H18: =$F18*G18 -> 10.93 | L18: Asphalte | N18: =M18*J41 -> 0 | O18: 0 | P18: =$F18*O18 -> 0 | T18: Asphalte | V18: =U18*R41 -> 0 | W18: 0 | X18: =$F18*W18 -> 0 | AB18: Asphalte | AD18: =AC18*Z41 -> 0 | AE18: 0 | AF18: =$F18*AE18 -> 0 | AJ18: Asphalte | AL18: =AK18*AH41 -> 0 | AM18: 0 | AN18: =$F18*AM18 -> 0 | AR18: Asphalte | AT18: =AS18*AP41 -> 0 | AU18: 0 | AV18: =$F18*AU18 -> 0 | AZ18: Asphalte | BB18: =BA18*AX41 -> 0 | BC18: 0 | BD18: =$F18*BC18 -> 0 | BH18: Asphalte | BJ18: =BI18*BF41 -> 0 | BK18: 0 | BL18: =$F18*BK18 -> 0 | BP18: Asphalte | BR18: =BQ18*BN41 -> 0 | BS18: 0 | BT18: =$F18*BS18 -> 0 | BX18: Asphalte | BZ18: =BY18*BV41 -> 0 | CA18: 0 | CB18: =$F18*CA18 -> 0 | CF18: Asphalte | CH18: =CG18*CD41 -> 0 | CI18: 0 | CJ18: =$F18*CI18 -> 0 | CN18: Asphalte | CP18: =CO18*CL41 -> 0 | CQ18: 1 | CR18: =$F18*CQ18 -> 10.93 | CV18: Asphalte | CX18: =CW18*CT41 -> 0 | CY18: 1 | CZ18: =$F18*CY18 -> 10.93 | DD18: Asphalte | DF18: =DE18*DB41 -> 0 | DG18: 0 | DH18: =$F18*DG18 -> 0 | DL18: Asphalte | DN18: =DM18*DJ41 -> 0 | DO18: 0 | DP18: =$F18*DO18 -> 0 | DT18: Asphalte | DV18: =DU18*DR41 -> 0 | DW18: 0 | DX18: =$F18*DW18 -> 0 | EB18: Asphalte | ED18: =EC18*DZ41 -> 0 | EE18: 0 | EF18: =$F18*EE18 -> 0 | EJ18: Asphalte | EL18: =EK18*EH41 -> 0 | EM18: 0 | EN18: =$F18*EM18 -> 0 | ER18: Asphalte | ET18: =ES18*EP41 -> 0 | EU18: 0 | EV18: =$F18*EU18 -> 0 | EZ18: Asphalte | FB18: =FA18*EX41 -> 0 | FC18: 0 | FD18: =$F18*FC18 -> 0 | FH18: Asphalte | FJ18: =FI18*FF41 -> 0 | FK18: 0 | FL18: =$F18*FK18 -> 0 | FP18: Asphalte | FR18: =FQ18*FN41 -> 0 | FS18: 0 | FT18: =$F18*FS18 -> 0 | FX18: Asphalte | FZ18: =FY18*FV41 -> 0 | GA18: 0 | GB18: =$F18*GA18 -> 0 | GF18: Asphalte | GH18: =GG18*GD41 -> 0 | GI18: 0 | GJ18: =$F18*GI18 -> 0 | GN18: Asphalte | GP18: =GO18*GL41 -> 0 | GQ18: 0 | GR18: =$F18*GQ18 -> 0 | GV18: Asphalte | GX18: =GW18*GT41 -> 0 | GY18: 0 | GZ18: =$F18*GY18 -> 0 | HD18: Asphalte | HF18: =HE18*HB41 -> 0 | HG18: 0 | HH18: =$F18*HG18 -> 0 | HL18: Asphalte | HN18: =HM18*HJ41 -> 0 | HO18: 0 | HP18: =$F18*HO18 -> 0 | HT18: Asphalte | HV18: =HU18*HR41 -> 0 | HW18: 0 | HX18: =$F18*HW18 -> 0 | IB18: Asphalte | ID18: =IC18*HZ41 -> 0 | IE18: 0 | IF18: =$F18*IE18 -> 0 | IJ18: Asphalte | IL18: =IK18*IH41 -> 0 | IM18: 0 | IN18: =$F18*IM18 -> 0 | IR18: Asphalte | IT18: =IS18*IP41 -> 0
D19: Marteau piqueur | E19: Jour | F19: 15 | G19: 1 | H19: =$F19*G19 -> 15 | I19: Mise à la côte de regard/avaloir | K19: =SUM(H$13:H$20)*J19 -> 0 | L19: Regards | N19: =M19*J42 -> 0 | O19: 0 | P19: =$F19*O19 -> 0 | Q19: Mise à la côte de regard/avaloir | S19: =SUM(P$13:P$20)*R19 -> 0 | T19: Regards | V19: =U19*R42 -> 0 | W19: 0 | X19: =$F19*W19 -> 0 | Y19: Mise à la côte de regard/avaloir | AA19: =SUM(X$13:X$20)*Z19 -> 0 | AB19: Regards | AD19: =AC19*Z42 -> 0 | AE19: 0 | AF19: =$F19*AE19 -> 0 | AG19: Mise à la côte de regard/avaloir | AI19: =SUM(AF$13:AF$20)*AH19 -> 0 | AJ19: Regards | AL19: =AK19*AH42 -> 0 | AM19: 0 | AN19: =$F19*AM19 -> 0 | AO19: Mise à la côte de regard/avaloir | AQ19: =SUM(AN$13:AN$20)*AP19 -> 0 | AR19: Regards | AT19: =AS19*AP42 -> 0 | AU19: 0 | AV19: =$F19*AU19 -> 0 | AW19: Mise à la côte de regard/avaloir | AY19: =SUM(AV$13:AV$20)*AX19 -> 0 | AZ19: Regards | BB19: =BA19*AX42 -> 0 | BC19: 0 | BD19: =$F19*BC19 -> 0 | BE19: Mise à la côte de regard/avaloir | BG19: =SUM(BD$13:BD$20)*BF19 -> 0 | BH19: Regards | BJ19: =BI19*BF42 -> 0 | BK19: 1 | BL19: =$F19*BK19 -> 15 | BM19: Mise à la côte de regard/avaloir | BN19: 1 | BO19: =SUM(BL$13:BL$20)*BN19 -> 844.94 | BP19: Regards | BR19: =BQ19*BN42 -> 0 | BS19: 0 | BT19: =$F19*BS19 -> 0 | BU19: Mise à la côte de regard/avaloir | BV19: 1 | BW19: =SUM(BT$13:BT$20)*BV19 -> 777.42 | BX19: Regards | BZ19: =BY19*BV42 -> 0 | CA19: 0 | CB19: =$F19*CA19 -> 0 | CC19: Mise à la côte de regard/avaloir | CE19: =SUM(CB$13:CB$20)*CD19 -> 0 | CF19: Regards | CH19: =CG19*CD42 -> 0 | CI19: 0 | CJ19: =$F19*CI19 -> 0 | CK19: Mise à la côte de regard/avaloir | CM19: =SUM(CJ$13:CJ$20)*CL19 -> 0 | CN19: Regards | CP19: =CO19*CL42 -> 0 | CQ19: 1 | CR19: =$F19*CQ19 -> 15 | CS19: Mise à la côte de regard/avaloir | CU19: =SUM(CR$13:CR$20)*CT19 -> 0 | CV19: Regards | CX19: =CW19*CT42 -> 0 | CY19: 1 | CZ19: =$F19*CY19 -> 15 | DA19: Mise à la côte de regard/avaloir | DC19: =SUM(CZ$13:CZ$20)*DB19 -> 0 | DD19: Regards | DF19: =DE19*DB42 -> 0 | DG19: 0 | DH19: =$F19*DG19 -> 0 | DI19: Mise à la côte de regard/avaloir | DK19: =SUM(DH$13:DH$20)*DJ19 -> 0 | DL19: Regards | DN19: =DM19*DJ42 -> 0 | DO19: 0 | DP19: =$F19*DO19 -> 0 | DQ19: Mise à la côte de regard/avaloir | DS19: =SUM(DP$13:DP$20)*DR19 -> 0 | DT19: Regards | DV19: =DU19*DR42 -> 0 | DW19: 1 | DX19: =$F19*DW19 -> 15 | DY19: Mise à la côte de regard/avaloir | DZ19: 0.7 | EA19: =SUM(DX$13:DX$20)*DZ19 -> 598.885 | EB19: Regards | ED19: =EC19*DZ42 -> 0 | EE19: 0 | EF19: =$F19*EE19 -> 0 | EG19: Mise à la côte de regard/avaloir | EI19: =SUM(EF$13:EF$20)*EH19 -> 0 | EJ19: Regards | EL19: =EK19*EH42 -> 0 | EM19: 0 | EN19: =$F19*EM19 -> 0 | EO19: Mise à la côte de regard/avaloir | EQ19: =SUM(EN$13:EN$20)*EP19 -> 0 | ER19: Regards | ET19: =ES19*EP42 -> 0 | EU19: 0 | EV19: =$F19*EU19 -> 0 | EW19: Mise à la côte de regard/avaloir | EY19: =SUM(EV$13:EV$20)*EX19 -> 0 | EZ19: Regards | FB19: =FA19*EX42 -> 0 | FC19: 0 | FD19: =$F19*FC19 -> 0 | FE19: Mise à la côte de regard/avaloir | FG19: =SUM(FD$13:FD$20)*FF19 -> 0 | FH19: Regards | FJ19: =FI19*FF42 -> 0 | FK19: 0 | FL19: =$F19*FK19 -> 0 | FM19: Mise à la côte de regard/avaloir | FO19: =SUM(FL$13:FL$20)*FN19 -> 0 | FP19: Regards | FR19: =FQ19*FN42 -> 0 | FS19: 0 | FT19: =$F19*FS19 -> 0 | FU19: Mise à la côte de regard/avaloir | FW19: =SUM(FT$13:FT$20)*FV19 -> 0 | FX19: Regards | FZ19: =FY19*FV42 -> 0 | GA19: 0 | GB19: =$F19*GA19 -> 0 | GC19: Mise à la côte de regard/avaloir | GE19: =SUM(GB$13:GB$20)*GD19 -> 0 | GF19: Regards | GH19: =GG19*GD42 -> 0 | GI19: 0 | GJ19: =$F19*GI19 -> 0 | GK19: Mise à la côte de regard/avaloir | GM19: =SUM(GJ$13:GJ$20)*GL19 -> 0 | GN19: Regards | GP19: =GO19*GL42 -> 0 | GQ19: 0 | GR19: =$F19*GQ19 -> 0 | GS19: Mise à la côte de regard/avaloir | GU19: =SUM(GR$13:GR$20)*GT19 -> 0 | GV19: Regards | GX19: =GW19*GT42 -> 0 | GY19: 0 | GZ19: =$F19*GY19 -> 0 | HA19: Mise à la côte de regard/avaloir | HC19: =SUM(GZ$13:GZ$20)*HB19 -> 0 | HD19: Regards | HF19: =HE19*HB42 -> 0 | HG19: 0 | HH19: =$F19*HG19 -> 0 | HI19: Mise à la côte de regard/avaloir | HK19: =SUM(HH$13:HH$20)*HJ19 -> 0 | HL19: Regards | HN19: =HM19*HJ42 -> 0 | HO19: 0 | HP19: =$F19*HO19 -> 0 | HQ19: Mise à la côte de regard/avaloir | HS19: =SUM(HP$13:HP$20)*HR19 -> 0 | HT19: Regards | HV19: =HU19*HR42 -> 0 | HW19: 0 | HX19: =$F19*HW19 -> 0 | HY19: Mise à la côte de regard/avaloir | IA19: =SUM(HX$13:HX$20)*HZ19 -> 0 | IB19: Regards | ID19: =IC19*HZ42 -> 0 | IE19: 0 | IF19: =$F19*IE19 -> 0 | IG19: Mise à la côte de regard/avaloir | II19: =SUM(IF$13:IF$20)*IH19 -> 0 | IJ19: Regards | IL19: =IK19*IH42 -> 0 | IM19: 0 | IN19: =$F19*IM19 -> 0 | IO19: Mise à la côte de regard/avaloir | IQ19: =SUM(IN$13:IN$20)*IP19 -> 0 | IR19: Regards | IT19: =IS19*IP42 -> 0
D20: Traietor rost | E20: Jour | F20: 14.18 | G20: 1 | H20: =$F20*G20 -> 14.18 | M20: Total | N20: =SUM(N16:N19) -> 0 | O20: 0 | P20: =$F20*O20 -> 0 | U20: Total | V20: =SUM(V16:V19) -> 0 | W20: 0 | X20: =$F20*W20 -> 0 | AC20: Total | AD20: =SUM(AD16:AD19) -> 0 | AE20: 0 | AF20: =$F20*AE20 -> 0 | AK20: Total | AL20: =SUM(AL16:AL19) -> 0 | AM20: 0 | AN20: =$F20*AM20 -> 0 | AS20: Total | AT20: =SUM(AT16:AT19) -> 0 | AU20: 0 | AV20: =$F20*AU20 -> 0 | BA20: Total | BB20: =SUM(BB16:BB19) -> 0 | BC20: 0 | BD20: =$F20*BC20 -> 0 | BI20: Total | BJ20: =SUM(BJ16:BJ19) -> 0 | BK20: 1 | BL20: =$F20*BK20 -> 14.18 | BQ20: Total | BR20: =SUM(BR16:BR19) -> 0 | BS20: 0 | BT20: =$F20*BS20 -> 0 | BY20: Total | BZ20: =SUM(BZ16:BZ19) -> 0 | CA20: 0 | CB20: =$F20*CA20 -> 0 | CG20: Total | CH20: =SUM(CH16:CH19) -> 0 | CI20: 0 | CJ20: =$F20*CI20 -> 0 | CO20: Total | CP20: =SUM(CP16:CP19) -> 0 | CQ20: 1 | CR20: =$F20*CQ20 -> 14.18 | CW20: Total | CX20: =SUM(CX16:CX19) -> 0 | CY20: 1 | CZ20: =$F20*CY20 -> 14.18 | DE20: Total | DF20: =SUM(DF16:DF19) -> 0 | DG20: 1 | DH20: =$F20*DG20 -> 14.18 | DM20: Total | DN20: =SUM(DN16:DN19) -> 0 | DO20: 0 | DP20: =$F20*DO20 -> 0 | DU20: Total | DV20: =SUM(DV16:DV19) -> 0 | DW20: 0 | DX20: =$F20*DW20 -> 0 | EC20: Total | ED20: =SUM(ED16:ED19) -> 0 | EE20: 0 | EF20: =$F20*EE20 -> 0 | EK20: Total | EL20: =SUM(EL16:EL19) -> 0 | EM20: 0 | EN20: =$F20*EM20 -> 0 | ES20: Total | ET20: =SUM(ET16:ET19) -> 0 | EU20: 0 | EV20: =$F20*EU20 -> 0 | FA20: Total | FB20: =SUM(FB16:FB19) -> 0 | FC20: 0 | FD20: =$F20*FC20 -> 0 | FI20: Total | FJ20: =SUM(FJ16:FJ19) -> 0 | FK20: 0 | FL20: =$F20*FK20 -> 0 | FQ20: Total | FR20: =SUM(FR16:FR19) -> 0 | FS20: 0 | FT20: =$F20*FS20 -> 0 | FY20: Total | FZ20: =SUM(FZ16:FZ19) -> 0 | GA20: 0 | GB20: =$F20*GA20 -> 0 | GG20: Total | GH20: =SUM(GH16:GH19) -> 0 | GI20: 0 | GJ20: =$F20*GI20 -> 0 | GO20: Total | GP20: =SUM(GP16:GP19) -> 0 | GQ20: 0 | GR20: =$F20*GQ20 -> 0 | GW20: Total | GX20: =SUM(GX16:GX19) -> 0 | GY20: 0 | GZ20: =$F20*GY20 -> 0 | HE20: Total | HF20: =SUM(HF16:HF19) -> 0 | HG20: 0 | HH20: =$F20*HG20 -> 0 | HM20: Total | HN20: =SUM(HN16:HN19) -> 0 | HO20: 0 | HP20: =$F20*HO20 -> 0 | HU20: Total | HV20: =SUM(HV16:HV19) -> 0 | HW20: 0 | HX20: =$F20*HW20 -> 0 | IC20: Total | ID20: =SUM(ID16:ID19) -> 0 | IE20: 0 | IF20: =$F20*IE20 -> 0 | IK20: Total | IL20: =SUM(IL16:IL19) -> 0 | IM20: 0 | IN20: =$F20*IM20 -> 0 | IS20: Total | IT20: =SUM(IT16:IT19) -> 0
D21: Renault M150 + carburant B-63-HRN | E21: Jour | F21: =131.35+138 -> 269.35 | G21: 1 | H21: =$F21*G21 -> 269.35 | I21: Ballast | J21: 0.5 | K21: =SUM(H$21:H$28)*J21 -> 414.625 | O21: 0 | P21: =$F21*O21 -> 0 | Q21: Ballast | S21: =SUM(P$21:P$28)*R21 -> 0 | W21: 0 | X21: =$F21*W21 -> 0 | Y21: Ballast | AA21: =SUM(X$21:X$28)*Z21 -> 0 | AE21: 0 | AF21: =$F21*AE21 -> 0 | AG21: Ballast | AI21: =SUM(AF$21:AF$28)*AH21 -> 0 | AM21: 0 | AN21: =$F21*AM21 -> 0 | AO21: Ballast | AQ21: =SUM(AN$21:AN$28)*AP21 -> 0 | AU21: 0 | AV21: =$F21*AU21 -> 0 | AW21: Ballast | AY21: =SUM(AV$21:AV$28)*AX21 -> 0 | BC21: 1 | BD21: =$F21*BC21 -> 269.35 | BE21: Ballast | BF21: 0.5 | BG21: =SUM(BD$21:BD$28)*BF21 -> 414.625 | BK21: 1 | BL21: =$F21*BK21 -> 269.35 | BM21: Ballast | BO21: =SUM(BL$21:BL$28)*BN21 -> 0 | BS21: 0.5 | BT21: =$F21*BS21 -> 134.675 | BU21: Ballast | BV21: 0.5 | BW21: =SUM(BT$21:BT$28)*BV21 -> 207.3125 | CA21: 0 | CB21: =$F21*CA21 -> 0 | CC21: Ballast | CE21: =SUM(CB$21:CB$28)*CD21 -> 0 | CI21: 0 | CJ21: =$F21*CI21 -> 0 | CK21: Ballast | CM21: =SUM(CJ$21:CJ$28)*CL21 -> 0 | CQ21: 1 | CR21: =$F21*CQ21 -> 269.35 | CS21: Ballast | CT21: 0.5 | CU21: =SUM(CR$21:CR$28)*CT21 -> 402.23 | CY21: 1 | CZ21: =$F21*CY21 -> 269.35 | DA21: Ballast | DB21: 0.5 | DC21: =SUM(CZ$21:CZ$28)*DB21 -> 407.535 | DG21: 1 | DH21: =$F21*DG21 -> 269.35 | DI21: Ballast | DK21: =SUM(DH$21:DH$28)*DJ21 -> 0 | DO21: 0 | DP21: =$F21*DO21 -> 0 | DQ21: Ballast | DS21: =SUM(DP$21:DP$28)*DR21 -> 0 | DW21: 1 | DX21: =$F21*DW21 -> 269.35 | DY21: Ballast | DZ21: 0.6 | EA21: =SUM(DX$21:DX$28)*DZ21 -> 497.55 | EE21: 0 | EF21: =$F21*EE21 -> 0 | EG21: Ballast | EI21: =SUM(EF$21:EF$28)*EH21 -> 0 | EM21: 0 | EN21: =$F21*EM21 -> 0 | EO21: Ballast | EQ21: =SUM(EN$21:EN$28)*EP21 -> 0 | EU21: 0 | EV21: =$F21*EU21 -> 0 | EW21: Ballast | EY21: =SUM(EV$21:EV$28)*EX21 -> 0 | FC21: 0 | FD21: =$F21*FC21 -> 0 | FE21: Ballast | FG21: =SUM(FD$21:FD$28)*FF21 -> 0 | FK21: 0 | FL21: =$F21*FK21 -> 0 | FM21: Ballast | FO21: =SUM(FL$21:FL$28)*FN21 -> 0 | FS21: 0 | FT21: =$F21*FS21 -> 0 | FU21: Ballast | FW21: =SUM(FT$21:FT$28)*FV21 -> 0 | GA21: 0 | GB21: =$F21*GA21 -> 0 | GC21: Ballast | GE21: =SUM(GB$21:GB$28)*GD21 -> 0 | GI21: 0 | GJ21: =$F21*GI21 -> 0 | GK21: Ballast | GM21: =SUM(GJ$21:GJ$28)*GL21 -> 0 | GQ21: 0 | GR21: =$F21*GQ21 -> 0 | GS21: Ballast | GU21: =SUM(GR$21:GR$28)*GT21 -> 0 | GY21: 0 | GZ21: =$F21*GY21 -> 0 | HA21: Ballast | HC21: =SUM(GZ$21:GZ$28)*HB21 -> 0 | HG21: 0 | HH21: =$F21*HG21 -> 0 | HI21: Ballast | HK21: =SUM(HH$21:HH$28)*HJ21 -> 0 | HO21: 0 | HP21: =$F21*HO21 -> 0 | HQ21: Ballast | HS21: =SUM(HP$21:HP$28)*HR21 -> 0 | HW21: 0 | HX21: =$F21*HW21 -> 0 | HY21: Ballast | IA21: =SUM(HX$21:HX$28)*HZ21 -> 0 | IE21: 0 | IF21: =$F21*IE21 -> 0 | IG21: Ballast | II21: =SUM(IF$21:IF$28)*IH21 -> 0 | IM21: 0 | IN21: =$F21*IM21 -> 0 | IO21: Ballast | IQ21: =SUM(IN$21:IN$28)*IP21 -> 0
D22: Conducator | E22: Jour | F22: 190 | G22: =IF(G21=0,0,1) -> 1 | H22: =$F22*G22 -> 190 | O22: =IF(O21=0,0,1) -> 0 | P22: =$F22*O22 -> 0 | W22: =IF(W21=0,0,1) -> 0 | X22: =$F22*W22 -> 0 | AE22: =IF(AE21=0,0,1) -> 0 | AF22: =$F22*AE22 -> 0 | AM22: =IF(AM21=0,0,1) -> 0 | AN22: =$F22*AM22 -> 0 | AU22: =IF(AU21=0,0,1) -> 0 | AV22: =$F22*AU22 -> 0 | BC22: =IF(BC21=0,0,1) -> 1 | BD22: =$F22*BC22 -> 190 | BK22: =IF(BK21=0,0,1) -> 1 | BL22: =$F22*BK22 -> 190 | BS22: 0.5 | BT22: =$F22*BS22 -> 95 | CA22: =IF(CA21=0,0,1) -> 0 | CB22: =$F22*CA22 -> 0 | CI22: =IF(CI21=0,0,1) -> 0 | CJ22: =$F22*CI22 -> 0 | CQ22: =IF(CQ21=0,0,1) -> 1 | CR22: =$F22*CQ22 -> 190 | CY22: =IF(CY21=0,0,1) -> 1 | CZ22: =$F22*CY22 -> 190 | DG22: =IF(DG21=0,0,1) -> 1 | DH22: =$F22*DG22 -> 190 | DO22: =IF(DO21=0,0,1) -> 0 | DP22: =$F22*DO22 -> 0 | DW22: =IF(DW21=0,0,1) -> 1 | DX22: =$F22*DW22 -> 190 | EE22: =IF(EE21=0,0,1) -> 0 | EF22: =$F22*EE22 -> 0 | EM22: =IF(EM21=0,0,1) -> 0 | EN22: =$F22*EM22 -> 0 | EU22: =IF(EU21=0,0,1) -> 0 | EV22: =$F22*EU22 -> 0 | FC22: =IF(FC21=0,0,1) -> 0 | FD22: =$F22*FC22 -> 0 | FK22: =IF(FK21=0,0,1) -> 0 | FL22: =$F22*FK22 -> 0 | FS22: =IF(FS21=0,0,1) -> 0 | FT22: =$F22*FS22 -> 0 | GA22: =IF(GA21=0,0,1) -> 0 | GB22: =$F22*GA22 -> 0 | GI22: =IF(GI21=0,0,1) -> 0 | GJ22: =$F22*GI22 -> 0 | GQ22: =IF(GQ21=0,0,1) -> 0 | GR22: =$F22*GQ22 -> 0 | GY22: =IF(GY21=0,0,1) -> 0 | GZ22: =$F22*GY22 -> 0 | HG22: =IF(HG21=0,0,1) -> 0 | HH22: =$F22*HG22 -> 0 | HO22: =IF(HO21=0,0,1) -> 0 | HP22: =$F22*HO22 -> 0 | HW22: =IF(HW21=0,0,1) -> 0 | HX22: =$F22*HW22 -> 0 | IE22: =IF(IE21=0,0,1) -> 0 | IF22: =$F22*IE22 -> 0 | IM22: =IF(IM21=0,0,1) -> 0 | IN22: =$F22*IM22 -> 0
D23: Muncitorii | E23: Jour | F23: 160 | G23: =IF(G21=0,0,2) -> 2 | H23: =$F23*G23 -> 320 | I23: Béton | J23: 0.5 | K23: =SUM(H$21:H$28)*J23 -> 414.625 | O23: =IF(O21=0,0,2) -> 0 | P23: =$F23*O23 -> 0 | Q23: Béton | S23: =SUM(P$21:P$28)*R23 -> 0 | W23: =IF(W21=0,0,2) -> 0 | X23: =$F23*W23 -> 0 | Y23: Béton | AA23: =SUM(X$21:X$28)*Z23 -> 0 | AE23: =IF(AE21=0,0,2) -> 0 | AF23: =$F23*AE23 -> 0 | AG23: Béton | AI23: =SUM(AF$21:AF$28)*AH23 -> 0 | AM23: =IF(AM21=0,0,2) -> 0 | AN23: =$F23*AM23 -> 0 | AO23: Béton | AQ23: =SUM(AN$21:AN$28)*AP23 -> 0 | AU23: =IF(AU21=0,0,2) -> 0 | AV23: =$F23*AU23 -> 0 | AW23: Béton | AY23: =SUM(AV$21:AV$28)*AX23 -> 0 | BC23: =IF(BC21=0,0,2) -> 2 | BD23: =$F23*BC23 -> 320 | BE23: Béton | BF23: 0.5 | BG23: =SUM(BD$21:BD$28)*BF23 -> 414.625 | BK23: 2 | BL23: =$F23*BK23 -> 320 | BM23: Béton | BN23: 0.5 | BO23: =SUM(BL$21:BL$28)*BN23 -> 414.625 | BS23: 1 | BT23: =$F23*BS23 -> 160 | BU23: Béton | BV23: 0.5 | BW23: =SUM(BT$21:BT$28)*BV23 -> 207.3125 | CA23: =IF(CA21=0,0,2) -> 0 | CB23: =$F23*CA23 -> 0 | CC23: Béton | CE23: =SUM(CB$21:CB$28)*CD23 -> 0 | CI23: =IF(CI21=0,0,2) -> 0 | CJ23: =$F23*CI23 -> 0 | CK23: Béton | CM23: =SUM(CJ$21:CJ$28)*CL23 -> 0 | CQ23: =IF(CQ21=0,0,2) -> 2 | CR23: =$F23*CQ23 -> 320 | CS23: Béton | CT23: 0.5 | CU23: =SUM(CR$21:CR$28)*CT23 -> 402.23 | CY23: =IF(CY21=0,0,2) -> 2 | CZ23: =$F23*CY23 -> 320 | DA23: Béton | DB23: 0.5 | DC23: =SUM(CZ$21:CZ$28)*DB23 -> 407.535 | DG23: =IF(DG21=0,0,2) -> 2 | DH23: =$F23*DG23 -> 320 | DI23: Béton | DK23: =SUM(DH$21:DH$28)*DJ23 -> 0 | DO23: =IF(DO21=0,0,2) -> 0 | DP23: =$F23*DO23 -> 0 | DQ23: Béton | DS23: =SUM(DP$21:DP$28)*DR23 -> 0 | DW23: =IF(DW21=0,0,2) -> 2 | DX23: =$F23*DW23 -> 320 | DY23: Béton | EA23: =SUM(DX$21:DX$28)*DZ23 -> 0 | EE23: =IF(EE21=0,0,2) -> 0 | EF23: =$F23*EE23 -> 0 | EG23: Béton | EI23: =SUM(EF$21:EF$28)*EH23 -> 0 | EM23: =IF(EM21=0,0,2) -> 0 | EN23: =$F23*EM23 -> 0 | EO23: Béton | EQ23: =SUM(EN$21:EN$28)*EP23 -> 0 | EU23: =IF(EU21=0,0,2) -> 0 | EV23: =$F23*EU23 -> 0 | EW23: Béton | EY23: =SUM(EV$21:EV$28)*EX23 -> 0 | FC23: =IF(FC21=0,0,2) -> 0 | FD23: =$F23*FC23 -> 0 | FE23: Béton | FG23: =SUM(FD$21:FD$28)*FF23 -> 0 | FK23: =IF(FK21=0,0,2) -> 0 | FL23: =$F23*FK23 -> 0 | FM23: Béton | FO23: =SUM(FL$21:FL$28)*FN23 -> 0 | FS23: =IF(FS21=0,0,2) -> 0 | FT23: =$F23*FS23 -> 0 | FU23: Béton | FW23: =SUM(FT$21:FT$28)*FV23 -> 0 | GA23: =IF(GA21=0,0,2) -> 0 | GB23: =$F23*GA23 -> 0 | GC23: Béton | GE23: =SUM(GB$21:GB$28)*GD23 -> 0 | GI23: =IF(GI21=0,0,2) -> 0 | GJ23: =$F23*GI23 -> 0 | GK23: Béton | GM23: =SUM(GJ$21:GJ$28)*GL23 -> 0 | GQ23: =IF(GQ21=0,0,2) -> 0 | GR23: =$F23*GQ23 -> 0 | GS23: Béton | GU23: =SUM(GR$21:GR$28)*GT23 -> 0 | GY23: =IF(GY21=0,0,2) -> 0 | GZ23: =$F23*GY23 -> 0 | HA23: Béton | HC23: =SUM(GZ$21:GZ$28)*HB23 -> 0 | HG23: =IF(HG21=0,0,2) -> 0 | HH23: =$F23*HG23 -> 0 | HI23: Béton | HK23: =SUM(HH$21:HH$28)*HJ23 -> 0 | HO23: =IF(HO21=0,0,2) -> 0 | HP23: =$F23*HO23 -> 0 | HQ23: Béton | HS23: =SUM(HP$21:HP$28)*HR23 -> 0 | HW23: =IF(HW21=0,0,2) -> 0 | HX23: =$F23*HW23 -> 0 | HY23: Béton | IA23: =SUM(HX$21:HX$28)*HZ23 -> 0 | IE23: =IF(IE21=0,0,2) -> 0 | IF23: =$F23*IE23 -> 0 | IG23: Béton | II23: =SUM(IF$21:IF$28)*IH23 -> 0 | IM23: =IF(IM21=0,0,2) -> 0 | IN23: =$F23*IM23 -> 0 | IO23: Béton | IQ23: =SUM(IN$21:IN$28)*IP23 -> 0
