Workbook

Sheet EXTRACTION
A1: SECTEUR | B1: DATE | F1: CODE | G1: TPS
A2: Cpte rendu bureau | B2: 8/4/2016 | C2: 10:00:00 | D2: 8/4/2016 | E2: 12:00:00 | F2: F7 | G2: 2:00
A3: Interne Bureau - préparation | B3: 6/4/2016 | C3: 09:00:00 | D3: 6/4/2016 | E3: 16:00:00 | F3: F7 | G3: 7:00
A4: Interne - Bureau | B4: 6/4/2016 | C4: 17:00:00 | D4: 6/4/2016 | E4: 19:15:00 | F4: F7 | G4: 2:15
A5: Rempl - Accueil | B5: 5/4/2016 | C5: 08:30:00 | D5: 5/4/2016 | E5: 10:00:00 | F5: F18 | G5: 1:30
A6: Administratif organiation interne | B6: 8/4/2016 | C6: 13:00:00 | D6: 8/4/2016 | E6: 17:00:00 | F6: F17 | G6: 4:00
A7: Interne RH - entretien individuel | B7: 4/4/2016 | C7: 13:30:00 | D7: 4/4/2016 | E7: 15:00:00 | F7: F15 | G7: 1:30
A8: Interne financier 06/04 | B8: 4/4/2016 | C8: 09:30:00 | D8: 4/4/2016 | E8: 12:00:00 | F8: F14 | G8: 2:30
A9: Interne financier 06/04 | B9: 4/4/2016 | C9: 15:00:00 | D9: 4/4/2016 | E9: 17:00:00 | F9: F14 | G9: 2:00
A10: Interne adm et fi - préparation | B10: 5/4/2016 | C10: 10:00:00 | D10: 5/4/2016 | E10: 13:00:00 | F10: F14 | G10: 3:00
A11: Interne compta | B11: 5/4/2016 | C11: 14:00:00 | D11: 5/4/2016 | E11: 17:00:00 | F11: F14 | G11: 3:00
A12: point tech | B12: 4/4/2016 | C12: 08:00:00 | D12: 4/4/2016 | E12: 09:00:00 | F12: E3 | G12: 1:00
A13: point tech | B13: 5/4/2016 | C13: 08:00:00 | D13: 5/4/2016 | E13: 08:30:00 | F13: E3 | G13: 0:30
... A20: Activité commerciale | B20: 6/4/2016 | C20: 08:30:00 | D20: 6/4/2016 | E20: 09:00:00 | F20: E1 | G20: 0:30

Sheet RECAP TPS TRAVAIL
C1: 42461 | E1: 42461 | F1: 42462 | G1: 42463 | H1: 42464 | I1: 42465 | J1: 42466 | K1: 42467 | L1: 42468 | M1: 42469 | N1: 42470 | O1: 42471 | P1: 42472 | Q1: 42473 | R1: 42474 | S1: 42475 | T1: 42476 | U1: 42477 | V1: 42478 | W1: 42479 | X1: 42480 | Y1: 42481 | Z1: 42482 | AA1: 42483 | AB1: 42484 | AC1: 42485 | AD1: 42486 | AE1: 42487 | AF1: 42488 | AG1: 42489 | AH1: 42490
D2: E1 | E2: =SUMIFS(EXTRACTION!$G2:$G20,EXTRACTION!$F2:$F20,"E1",EXTRACTION!$B2:$B20,E$1) -> 0 | F2: =SUMIFS(EXTRACTION!$G2:$G20,EXTRACTION!$F2:$F20,"E1",EXTRACTION!$B2:$B20,F$1) -> 0 | G2: =SUMIFS(EXTRACTION!$G2:$G20,EXTRACTION!$F2:$F20,"E1",EXTRACTION!$B2:$B20,G$1) -> 0 | H2: =SUMIFS(EXTRACTION!$G2:$G20,EXTRACTION!$F2:$F20,"E1",EXTRACTION!$B2:$B20,H$1) -> 0 | I2: =SUMIFS(EXTRACTION!$G2:$G20,EXTRACTION!$F2:$F20,"E1",EXTRACTION!$B2:$B20,I$1) -> 0 | J2: =SUMIFS(EXTRACTION!$G2:$G20,EXTRACTION!$F2:$F20,"E1",EXTRACTION!$B2:$B20,J$1) -> 0 | K2: =SUMIFS(EXTRACTION!$G2:$G20,EXTRACTION!$F2:$F20,"E1",EXTRACTION!$B2:$B20,K$1) -> 0 | L2: =SUMIFS(EXTRACTION!$G2:$G20,EXTRACTION!$F2:$F20,"E1",EXTRACTION!$B2:$B20,L$1) -> 0 | ... AH2: =SUMIFS(EXTRACTION!$G2:$G20,EXTRACTION!$F2:$F20,"E1",EXTRACTION!$B2:$B20,AH$1) -> 0
D3: E2 | E3: =SUMIFS(EXTRACTION!$G2:$G20,EXTRACTION!F2:F20,"E2",EXTRACTION!$B2:$B20,E$1) -> 0 | F3: =SUMIFS(EXTRACTION!$G2:$G20,EXTRACTION!G2:G20,"E2",EXTRACTION!$B2:$B20,F$1) -> 0 | G3: =SUMIFS(EXTRACTION!$G2:$G20,EXTRACTION!H2:H20,"E2",EXTRACTION!$B2:$B20,G$1) -> 0 | H3: =SUMIFS(EXTRACTION!$G2:$G20,EXTRACTION!I2:I20,"E2",EXTRACTION!$B2:$B20,H$1) -> 0 | I3: =SUMIFS(EXTRACTION!$G2:$G20,EXTRACTION!J2:J20,"E2",EXTRACTION!$B2:$B20,I$1) -> 0 | J3: =SUMIFS(EXTRACTION!$G2:$G20,EXTRACTION!K2:K20,"E2",EXTRACTION!$B2:$B20,J$1) -> 0 | K3: =SUMIFS(EXTRACTION!$G2:$G20,EXTRACTION!L2:L20,"E2",EXTRACTION!$B2:$B20,K$1) -> 0 | L3: =SUMIFS(EXTRACTION!$G2:$G20,EXTRACTION!M2:M20,"E2",EXTRACTION!$B2:$B20,L$1) -> 0 | ... AH3: =SUMIFS(EXTRACTION!$G2:$G20,EXTRACTION!AI2:AI20,"E2",EXTRACTION!$B2:$B20,AH$1) -> 0
D4: E3 | E4: =SUMIFS(EXTRACTION!$G2:$G20,EXTRACTION!F2:F20,"E3",EXTRACTION!$B2:$B20,E$1) -> 0 | F4: =SUMIFS(EXTRACTION!$G2:$G20,EXTRACTION!G2:G20,"E3",EXTRACTION!$B2:$B20,F$1) -> 0 | G4: =SUMIFS(EXTRACTION!$G2:$G20,EXTRACTION!H2:H20,"E3",EXTRACTION!$B2:$B20,G$1) -> 0 | H4: =SUMIFS(EXTRACTION!$G2:$G20,EXTRACTION!I2:I20,"E3",EXTRACTION!$B2:$B20,H$1) -> 0 | I4: =SUMIFS(EXTRACTION!$G2:$G20,EXTRACTION!J2:J20,"E3",EXTRACTION!$B2:$B20,I$1) -> 0 | J4: =SUMIFS(EXTRACTION!$G2:$G20,EXTRACTION!K2:K20,"E3",EXTRACTION!$B2:$B20,J$1) -> 0 | K4: =SUMIFS(EXTRACTION!$G2:$G20,EXTRACTION!L2:L20,"E3",EXTRACTION!$B2:$B20,K$1) -> 0 | L4: =SUMIFS(EXTRACTION!$G2:$G20,EXTRACTION!M2:M20,"E3",EXTRACTION!$B2:$B20,L$1) -> 0 | ... AH4: =SUMIFS(EXTRACTION!$G2:$G20,EXTRACTION!AI2:AI20,"E3",EXTRACTION!$B2:$B20,AH$1) -> 0
D5: F7 | E5: =SUMIFS(EXTRACTION!$G2:$G20,EXTRACTION!F2:F20,"F7",EXTRACTION!$B2:$B20,E$1) -> 0 | F5: =SUMIFS(EXTRACTION!$G2:$G20,EXTRACTION!G2:G20,"F7",EXTRACTION!$B2:$B20,F$1) -> 0 | G5: =SUMIFS(EXTRACTION!$G2:$G20,EXTRACTION!H2:H20,"F7",EXTRACTION!$B2:$B20,G$1) -> 0 | H5: =SUMIFS(EXTRACTION!$G2:$G20,EXTRACTION!I2:I20,"F7",EXTRACTION!$B2:$B20,H$1) -> 0 | I5: =SUMIFS(EXTRACTION!$G2:$G20,EXTRACTION!J2:J20,"F7",EXTRACTION!$B2:$B20,I$1) -> 0 | J5: =SUMIFS(EXTRACTION!$G2:$G20,EXTRACTION!K2:K20,"F7",EXTRACTION!$B2:$B20,J$1) -> 0 | K5: =SUMIFS(EXTRACTION!$G2:$G20,EXTRACTION!L2:L20,"F7",EXTRACTION!$B2:$B20,K$1) -> 0 | L5: =SUMIFS(EXTRACTION!$G2:$G20,EXTRACTION!M2:M20,"F7",EXTRACTION!$B2:$B20,L$1) -> 0 | ... AH5: =SUMIFS(EXTRACTION!$G2:$G20,EXTRACTION!AI2:AI20,"F7",EXTRACTION!$B2:$B20,AH$1) -> 0
D6: F14 | E6: =SUMIFS(EXTRACTION!$G2:$G20,EXTRACTION!F2:F20,"F14",EXTRACTION!$B2:$B20,E$1) -> 0 | F6: =SUMIFS(EXTRACTION!$G2:$G20,EXTRACTION!G2:G20,"F14",EXTRACTION!$B2:$B20,F$1) -> 0 | G6: =SUMIFS(EXTRACTION!$G2:$G20,EXTRACTION!H2:H20,"F14",EXTRACTION!$B2:$B20,G$1) -> 0 | H6: =SUMIFS(EXTRACTION!$G2:$G20,EXTRACTION!I2:I20,"F14",EXTRACTION!$B2:$B20,H$1) -> 0 | I6: =SUMIFS(EXTRACTION!$G2:$G20,EXTRACTION!J2:J20,"F14",EXTRACTION!$B2:$B20,I$1) -> 0 | J6: =SUMIFS(EXTRACTION!$G2:$G20,EXTRACTION!K2:K20,"F14",EXTRACTION!$B2:$B20,J$1) -> 0 | K6: =SUMIFS(EXTRACTION!$G2:$G20,EXTRACTION!L2:L20,"F14",EXTRACTION!$B2:$B20,K$1) -> 0 | L6: =SUMIFS(EXTRACTION!$G2:$G20,EXTRACTION!M2:M20,"F14",EXTRACTION!$B2:$B20,L$1) -> 0 | ... AH6: =SUMIFS(EXTRACTION!$G2:$G20,EXTRACTION!AI2:AI20,"F14",EXTRACTION!$B2:$B20,AH$1) -> 0
D7: F15 | E7: =SUMIFS(EXTRACTION!$G2:$G20,EXTRACTION!F2:F20,"F15",EXTRACTION!$B2:$B20,E$1) -> 0 | F7: =SUMIFS(EXTRACTION!$G2:$G20,EXTRACTION!G2:G20,"F15",EXTRACTION!$B2:$B20,F$1) -> 0 | G7: =SUMIFS(EXTRACTION!$G2:$G20,EXTRACTION!H2:H20,"F15",EXTRACTION!$B2:$B20,G$1) -> 0 | H7: =SUMIFS(EXTRACTION!$G2:$G20,EXTRACTION!I2:I20,"F15",EXTRACTION!$B2:$B20,H$1) -> 0 | I7: =SUMIFS(EXTRACTION!$G2:$G20,EXTRACTION!J2:J20,"F15",EXTRACTION!$B2:$B20,I$1) -> 0 | J7: =SUMIFS(EXTRACTION!$G2:$G20,EXTRACTION!K2:K20,"F15",EXTRACTION!$B2:$B20,J$1) -> 0 | K7: =SUMIFS(EXTRACTION!$G2:$G20,EXTRACTION!L2:L20,"F15",EXTRACTION!$B2:$B20,K$1) -> 0 | L7: =SUMIFS(EXTRACTION!$G2:$G20,EXTRACTION!M2:M20,"F15",EXTRACTION!$B2:$B20,L$1) -> 0 | ... AH7: =SUMIFS(EXTRACTION!$G2:$G20,EXTRACTION!AI2:AI20,"F15",EXTRACTION!$B2:$B20,AH$1) -> 0
D8: F17 | E8: =SUMIFS(EXTRACTION!$G2:$G20,EXTRACTION!F2:F20,"F17",EXTRACTION!$B2:$B20,E$1) -> 0 | F8: =SUMIFS(EXTRACTION!$G2:$G20,EXTRACTION!G2:G20,"F17",EXTRACTION!$B2:$B20,F$1) -> 0 | G8: =SUMIFS(EXTRACTION!$G2:$G20,EXTRACTION!H2:H20,"F17",EXTRACTION!$B2:$B20,G$1) -> 0 | H8: =SUMIFS(EXTRACTION!$G2:$G20,EXTRACTION!I2:I20,"F17",EXTRACTION!$B2:$B20,H$1) -> 0 | I8: =SUMIFS(EXTRACTION!$G2:$G20,EXTRACTION!J2:J20,"F17",EXTRACTION!$B2:$B20,I$1) -> 0 | J8: =SUMIFS(EXTRACTION!$G2:$G20,EXTRACTION!K2:K20,"F17",EXTRACTION!$B2:$B20,J$1) -> 0 | K8: =SUMIFS(EXTRACTION!$G2:$G20,EXTRACTION!L2:L20,"F17",EXTRACTION!$B2:$B20,K$1) -> 0 | L8: =SUMIFS(EXTRACTION!$G2:$G20,EXTRACTION!M2:M20,"F17",EXTRACTION!$B2:$B20,L$1) -> 0 | ... AH8: =SUMIFS(EXTRACTION!$G2:$G20,EXTRACTION!AI2:AI20,"F17",EXTRACTION!$B2:$B20,AH$1) -> 0
D9: F18 | E9: =SUMIFS(EXTRACTION!$G2:$G20,EXTRACTION!F2:F20,"F18",EXTRACTION!$B2:$B20,E$1) -> 0 | F9: =SUMIFS(EXTRACTION!$G2:$G20,EXTRACTION!G2:G20,"F18",EXTRACTION!$B2:$B20,F$1) -> 0 | G9: =SUMIFS(EXTRACTION!$G2:$G20,EXTRACTION!H2:H20,"F18",EXTRACTION!$B2:$B20,G$1) -> 0 | H9: =SUMIFS(EXTRACTION!$G2:$G20,EXTRACTION!I2:I20,"F18",EXTRACTION!$B2:$B20,H$1) -> 0 | I9: =SUMIFS(EXTRACTION!$G2:$G20,EXTRACTION!J2:J20,"F18",EXTRACTION!$B2:$B20,I$1) -> 0 | J9: =SUMIFS(EXTRACTION!$G2:$G20,EXTRACTION!K2:K20,"F18",EXTRACTION!$B2:$B20,J$1) -> 0 | K9: =SUMIFS(EXTRACTION!$G2:$G20,EXTRACTION!L2:L20,"F18",EXTRACTION!$B2:$B20,K$1) -> 0 | L9: =SUMIFS(EXTRACTION!$G2:$G20,EXTRACTION!M2:M20,"F18",EXTRACTION!$B2:$B20,L$1) -> 0 | ... AH9: =SUMIFS(EXTRACTION!$G2:$G20,EXTRACTION!AI2:AI20,"F18",EXTRACTION!$B2:$B20,AH$1) -> 0

Sheet Feuil3
