Workbook

Sheet Aix
E4: BESOIN EN MATÉRIEL | P4: MATÉRIEL DISPONIBLE
C8: Agence | D8: Pompes Metop | E8: Pompes Metair | F8: Têtes de prélèvement | G8: Trépieds | H8: Tourets | I8: PowerPack | J8: Ventilateurs | K8: AM3000 | L8: SDEC | N8: Agence | O8: Pompes Metop | P8: Pompes Metair | Q8: Têtes de prélèvement | R8: Trépieds | S8: Tourets | T8: PowerPack | U8: Ventilateurs | V8: AM3000 | W8: SDEC
C9: Aix | N9: Aix

Sheet Saint-Etienne
E4: BESOIN EN MATÉRIEL | P4: MATÉRIEL DISPONIBLE
C8: Agence | D8: Pompes Metop | E8: Pompes Metair | F8: Têtes de prélèvement | G8: Trépieds | H8: Tourets | I8: PowerPack | J8: Ventilateurs | K8: AM3000 | L8: SDEC | N8: Agence | O8: Pompes Metop | P8: Pompes Metair | Q8: Têtes de prélèvement | R8: Trépieds | S8: Tourets | T8: PowerPack | U8: Ventilateurs | V8: AM3000 | W8: SDEC
C9: Saint-Etienne | N9: Saint-Etienne
C10: Lyon | N10: Lyon
C11: Clermont | N11: Clermont

Sheet Dijon
E4: BESOIN EN MATÉRIEL | P4: MATÉRIEL DISPONIBLE
C8: Agence | D8: Pompes Metop | E8: Pompes Metair | F8: Têtes de prélèvement | G8: Trépieds | H8: Tourets | I8: PowerPack | J8: Ventilateurs | K8: AM3000 | L8: SDEC | N8: Agence | O8: Pompes Metop | P8: Pompes Metair | Q8: Têtes de prélèvement | R8: Trépieds | S8: Tourets | T8: PowerPack | U8: Ventilateurs | V8: AM3000 | W8: SDEC
C9: Dijon | N9: Dijon
C10: Sens | N10: Sens

Sheet Metz
E4: BESOIN EN MATÉRIEL | P4: MATÉRIEL DISPONIBLE
C8: Agence | D8: Pompes Metop | E8: Pompes Metair | F8: Têtes de prélèvement | G8: Trépieds | H8: Tourets | I8: PowerPack | J8: Ventilateurs | K8: AM3000 | L8: SDEC | N8: Agence | O8: Pompes Metop | P8: Pompes Metair | Q8: Têtes de prélèvement | R8: Trépieds | S8: Tourets | T8: PowerPack | U8: Ventilateurs | V8: AM3000 | W8: SDEC
C9: Metz | N9: Metz
C10: Strasbourg | N10: Strasbourg

Sheet Lille
E4: BESOIN EN MATÉRIEL | P4: MATÉRIEL DISPONIBLE
C8: Agence | D8: Pompes Metop | E8: Pompes Metair | F8: Têtes de prélèvement | G8: Trépieds | H8: Tourets | I8: PowerPack | J8: Ventilateurs | K8: AM3000 | L8: SDEC | N8: Agence | O8: Pompes Metop | P8: Pompes Metair | Q8: Têtes de prélèvement | R8: Trépieds | S8: Tourets | T8: PowerPack | U8: Ventilateurs | V8: AM3000 | W8: SDEC
C9: Lille | N9: Lille
C10: Compiègne | N10: Compiègne

Sheet Meudon
E4: BESOIN EN MATÉRIEL | P4: MATÉRIEL DISPONIBLE
C8: Agence | D8: Pompes Metop | E8: Pompes Metair | F8: Têtes de prélèvement | G8: Trépieds | H8: Tourets | I8: PowerPack | J8: Ventilateurs | K8: AM3000 | L8: SDEC | N8: Agence | O8: Pompes Metop | P8: Pompes Metair | Q8: Têtes de prélèvement | R8: Trépieds | S8: Tourets | T8: PowerPack | U8: Ventilateurs | V8: AM3000 | W8: SDEC
C9: Meudon | N9: Meudon

Sheet Nantes
E4: BESOIN EN MATÉRIEL | P4: MATÉRIEL DISPONIBLE
C8: Agence | D8: Pompes Metop | E8: Pompes Metair | F8: Têtes de prélèvement | G8: Trépieds | H8: Tourets | I8: PowerPack | J8: Ventilateurs | K8: AM3000 | L8: SDEC | N8: Agence | O8: Pompes Metop | P8: Pompes Metair | Q8: Têtes de prélèvement | R8: Trépieds | S8: Tourets | T8: PowerPack | U8: Ventilateurs | V8: AM3000 | W8: SDEC
C9: Nantes | N9: Nantes
C10: Poitiers | N10: Poitiers

Sheet Rennes
E4: BESOIN EN MATÉRIEL | P4: MATÉRIEL DISPONIBLE
C8: Agence | D8: Pompes Metop | E8: Pompes Metair | F8: Têtes de prélèvement | G8: Trépieds | H8: Tourets | I8: PowerPack | J8: Ventilateurs | K8: AM3000 | L8: SDEC | N8: Agence | O8: Pompes Metop | P8: Pompes Metair | Q8: Têtes de prélèvement | R8: Trépieds | S8: Tourets | T8: PowerPack | U8: Ventilateurs | V8: AM3000 | W8: SDEC
C9: Rennes | N9: Rennes
C10: Brest | N10: Brest
C11: Caen | N11: Caen
C12: Chartres | N12: Chartres

Sheet Bordeaux
E4: BESOIN EN MATÉRIEL | P4: MATÉRIEL DISPONIBLE
C8: Agence | D8: Pompes Metop | E8: Pompes Metair | F8: Têtes de prélèvement | G8: Trépieds | H8: Tourets | I8: PowerPack | J8: Ventilateurs | K8: AM3000 | L8: SDEC | N8: Agence | O8: Pompes Metop | P8: Pompes Metair | Q8: Têtes de prélèvement | R8: Trépieds | S8: Tourets | T8: PowerPack | U8: Ventilateurs | V8: AM3000 | W8: SDEC
C9: Bordeaux | N9: Bordeaux
C10: Pau | N10: Pau

Sheet Toulouse
E4: BESOIN EN MATÉRIEL | P4: MATÉRIEL DISPONIBLE
C8: Agence | D8: Pompes Metop | E8: Pompes Metair | F8: Têtes de prélèvement | G8: Trépieds | H8: Tourets | I8: PowerPack | J8: Ventilateurs | K8: AM3000 | L8: SDEC | N8: Agence | O8: Pompes Metop | P8: Pompes Metair | Q8: Têtes de prélèvement | R8: Trépieds | S8: Tourets | T8: PowerPack | U8: Ventilateurs | V8: AM3000 | W8: SDEC
C9: Toulouse | N9: Toulouse

Sheet Feuille Synthèse
E5: BESOIN EN MATÉRIEL | P5: MATÉRIEL DISPONIBLE
C9: Agence | D9: Pompes Metop | E9: Pompes Metair | F9: Têtes de prélèvement | G9: Trépieds | H9: Tourets | I9: PowerPack | J9: Ventilateurs | K9: AM3000 | L9: SDEC | N9: Agence | O9: Pompes Metop | P9: Pompes Metair | Q9: Têtes de prélèvement | R9: Trépieds | S9: Tourets | T9: PowerPack | U9: Ventilateurs | V9: AM3000 | W9: SDEC
C10: AIX | D10: =Aix!D$9 -> 0 | E10: =Aix!E$9 -> 0 | F10: =Aix!F$9 -> 0 | G10: =Aix!G$9 -> 0 | H10: =Aix!H$9 -> 0 | I10: =Aix!I$9 -> 0 | J10: =Aix!J$9 -> 0 | K10: =Aix!K$9 -> 0 | L10: =Aix!L$9 -> 0 | N10: AIX | O10: =Aix!O9 -> 0 | P10: =Aix!P9 -> 0 | Q10: =Aix!Q9 -> 0 | R10: =Aix!R9 -> 0 | S10: =Aix!S9 -> 0 | T10: =Aix!T9 -> 0 | U10: =Aix!U9 -> 0 | V10: =Aix!V9 -> 0 | W10: =Aix!W9 -> 0
C11: ST ETIENNE | D11: ='Saint-Etienne'!D9 -> 0 | E11: ='Saint-Etienne'!E9 -> 0 | F11: ='Saint-Etienne'!F9 -> 0 | G11: ='Saint-Etienne'!G9 -> 0 | H11: ='Saint-Etienne'!H9 -> 0 | I11: ='Saint-Etienne'!I9 -> 0 | J11: ='Saint-Etienne'!J9 -> 0 | K11: ='Saint-Etienne'!K9 -> 0 | L11: ='Saint-Etienne'!L9 -> 0 | N11: ST ETIENNE | O11: ='Saint-Etienne'!O9 -> 0 | P11: ='Saint-Etienne'!P9 -> 0 | Q11: ='Saint-Etienne'!Q9 -> 0 | R11: ='Saint-Etienne'!R9 -> 0 | S11: ='Saint-Etienne'!S9 -> 0 | T11: ='Saint-Etienne'!T9 -> 0 | U11: ='Saint-Etienne'!U9 -> 0 | V11: ='Saint-Etienne'!V9 -> 0 | W11: ='Saint-Etienne'!W9 -> 0
C12: LYON | D12: ='Saint-Etienne'!D10 -> 0 | E12: ='Saint-Etienne'!E10 -> 0 | F12: ='Saint-Etienne'!F10 -> 0 | G12: ='Saint-Etienne'!G10 -> 0 | H12: ='Saint-Etienne'!H10 -> 0 | I12: ='Saint-Etienne'!I10 -> 0 | J12: ='Saint-Etienne'!J10 -> 0 | K12: ='Saint-Etienne'!K10 -> 0 | L12: ='Saint-Etienne'!L10 -> 0 | N12: LYON | O12: ='Saint-Etienne'!O10 -> 0 | P12: ='Saint-Etienne'!P10 -> 0 | Q12: ='Saint-Etienne'!Q10 -> 0 | R12: ='Saint-Etienne'!R10 -> 0 | S12: ='Saint-Etienne'!S10 -> 0 | T12: ='Saint-Etienne'!T10 -> 0 | U12: ='Saint-Etienne'!U10 -> 0 | V12: ='Saint-Etienne'!V10 -> 0 | W12: ='Saint-Etienne'!W10 -> 0
C13: CLERMONT | D13: ='Saint-Etienne'!D11 -> 0 | E13: ='Saint-Etienne'!E11 -> 0 | F13: ='Saint-Etienne'!F11 -> 0 | G13: ='Saint-Etienne'!G11 -> 0 | H13: ='Saint-Etienne'!H11 -> 0 | I13: ='Saint-Etienne'!I11 -> 0 | J13: ='Saint-Etienne'!J11 -> 0 | K13: ='Saint-Etienne'!K11 -> 0 | L13: ='Saint-Etienne'!L11 -> 0 | N13: CLERMONT | O13: ='Saint-Etienne'!O11 -> 0 | P13: ='Saint-Etienne'!P11 -> 0 | Q13: ='Saint-Etienne'!Q11 -> 0 | R13: ='Saint-Etienne'!R11 -> 0 | S13: ='Saint-Etienne'!S11 -> 0 | T13: ='Saint-Etienne'!T11 -> 0 | U13: ='Saint-Etienne'!U11 -> 0 | V13: ='Saint-Etienne'!V11 -> 0 | W13: ='Saint-Etienne'!W11 -> 0
C14: DIJON | D14: =Dijon!D9 -> 0 | E14: =Dijon!E9 -> 0 | F14: =Dijon!F9 -> 0 | G14: =Dijon!G9 -> 0 | H14: =Dijon!H9 -> 0 | I14: =Dijon!I9 -> 0 | J14: =Dijon!J9 -> 0 | K14: =Dijon!K9 -> 0 | L14: =Dijon!L9 -> 0 | N14: DIJON | O14: =Dijon!O9 -> 0 | P14: =Dijon!P9 -> 0 | Q14: =Dijon!Q9 -> 0 | R14: =Dijon!R9 -> 0 | S14: =Dijon!S9 -> 0 | T14: =Dijon!T9 -> 0 | U14: =Dijon!U9 -> 0 | V14: =Dijon!V9 -> 0 | W14: =Dijon!W9 -> 0
C15: SENS | D15: =Dijon!D10 -> 0 | E15: =Dijon!E10 -> 0 | F15: =Dijon!F10 -> 0 | G15: =Dijon!G10 -> 0 | H15: =Dijon!H10 -> 0 | I15: =Dijon!I10 -> 0 | J15: =Dijon!J10 -> 0 | K15: =Dijon!K10 -> 0 | L15: =Dijon!L10 -> 0 | N15: SENS | O15: =Dijon!O10 -> 0 | P15: =Dijon!P10 -> 0 | Q15: =Dijon!Q10 -> 0 | R15: =Dijon!R10 -> 0 | S15: =Dijon!S10 -> 0 | T15: =Dijon!T10 -> 0 | U15: =Dijon!U10 -> 0 | V15: =Dijon!V10 -> 0 | W15: =Dijon!W10 -> 0
C16: METZ | D16: =Metz!D9 -> 0 | E16: =Metz!E9 -> 0 | F16: =Metz!F9 -> 0 | G16: =Metz!G9 -> 0 | H16: =Metz!H9 -> 0 | I16: =Metz!I9 -> 0 | J16: =Metz!J9 -> 0 | K16: =Metz!K9 -> 0 | L16: =Metz!L9 -> 0 | N16: METZ | O16: =Metz!O9 -> 0 | P16: =Metz!P9 -> 0 | Q16: =Metz!Q9 -> 0 | R16: =Metz!R9 -> 0 | S16: =Metz!S9 -> 0 | T16: =Metz!T9 -> 0 | U16: =Metz!U9 -> 0 | V16: =Metz!V9 -> 0 | W16: =Metz!W9 -> 0
C17: STRASBOURG | D17: =Metz!D10 -> 0 | E17: =Metz!E10 -> 0 | F17: =Metz!F10 -> 0 | G17: =Metz!G10 -> 0 | H17: =Metz!H10 -> 0 | I17: =Metz!I10 -> 0 | J17: =Metz!J10 -> 0 | K17: =Metz!K10 -> 0 | L17: =Metz!L10 -> 0 | N17: STRASBOURG | O17: =Metz!O10 -> 0 | P17: =Metz!P10 -> 0 | Q17: =Metz!Q10 -> 0 | R17: =Metz!R10 -> 0 | S17: =Metz!S10 -> 0 | T17: =Metz!T10 -> 0 | U17: =Metz!U10 -> 0 | V17: =Metz!V10 -> 0 | W17: =Metz!W10 -> 0
C18: LILLE | D18: =Lille!D9 -> 0 | E18: =Lille!E9 -> 0 | F18: =Lille!F9 -> 0 | G18: =Lille!G9 -> 0 | H18: =Lille!H9 -> 0 | I18: =Lille!I9 -> 0 | J18: =Lille!J9 -> 0 | K18: =Lille!K9 -> 0 | L18: =Lille!L9 -> 0 | N18: LILLE | O18: =Lille!O9 -> 0 | P18: =Lille!P9 -> 0 | Q18: =Lille!Q9 -> 0 | R18: =Lille!R9 -> 0 | S18: =Lille!S9 -> 0 | T18: =Lille!T9 -> 0 | U18: =Lille!U9 -> 0 | V18: =Lille!V9 -> 0 | W18: =Lille!W9 -> 0
C19: COMPIEGNE | D19: =Lille!D10 -> 0 | E19: =Lille!E10 -> 0 | F19: =Lille!F10 -> 0 | G19: =Lille!G10 -> 0 | H19: =Lille!H10 -> 0 | I19: =Lille!I10 -> 0 | J19: =Lille!J10 -> 0 | K19: =Lille!K10 -> 0 | L19: =Lille!L10 -> 0 | N19: COMPIEGNE | O19: =Lille!O10 -> 0 | P19: =Lille!P10 -> 0 | Q19: =Lille!Q10 -> 0 | R19: =Lille!R10 -> 0 | S19: =Lille!S10 -> 0 | T19: =Lille!T10 -> 0 | U19: =Lille!U10 -> 0 | V19: =Lille!V10 -> 0 | W19: =Lille!W10 -> 0
C20: MEUDON | D20: =Meudon!D9 -> 0 | E20: =Meudon!E9 -> 0 | F20: =Meudon!F9 -> 0 | G20: =Meudon!G9 -> 0 | H20: =Meudon!H9 -> 0 | I20: =Meudon!I9 -> 0 | J20: =Meudon!J9 -> 0 | K20: =Meudon!K9 -> 0 | L20: =Meudon!L9 -> 0 | N20: MEUDON | O20: =Meudon!O9 -> 0 | P20: =Meudon!P9 -> 0 | Q20: =Meudon!Q9 -> 0 | R20: =Meudon!R9 -> 0 | S20: =Meudon!S9 -> 0 | T20: =Meudon!T9 -> 0 | U20: =Meudon!U9 -> 0 | V20: =Meudon!V9 -> 0 | W20: =Meudon!W9 -> 0
C21: NANTES | D21: =Nantes!D9 -> 0 | E21: =Nantes!E9 -> 0 | F21: =Nantes!F9 -> 0 | G21: =Nantes!G9 -> 0 | H21: =Nantes!H9 -> 0 | I21: =Nantes!I9 -> 0 | J21: =Nantes!J9 -> 0 | K21: =Nantes!K9 -> 0 | L21: =Nantes!L9 -> 0 | N21: NANTES | O21: =Nantes!O9 -> 0 | P21: =Nantes!P9 -> 0 | Q21: =Nantes!Q9 -> 0 | R21: =Nantes!R9 -> 0 | S21: =Nantes!S9 -> 0 | T21: =Nantes!T9 -> 0 | U21: =Nantes!U9 -> 0 | V21: =Nantes!V9 -> 0 | W21: =Nantes!W9 -> 0
C22: POITIERS | D22: =Nantes!D10 -> 0 | E22: =Nantes!E10 -> 0 | F22: =Nantes!F10 -> 0 | G22: =Nantes!G10 -> 0 | H22: =Nantes!H10 -> 0 | I22: =Nantes!I10 -> 0 | J22: =Nantes!J10 -> 0 | K22: =Nantes!K10 -> 0 | L22: =Nantes!L10 -> 0 | N22: POITIERS | O22: =Nantes!O10 -> 0 | P22: =Nantes!P10 -> 0 | Q22: =Nantes!Q10 -> 0 | R22: =Nantes!R10 -> 0 | S22: =Nantes!S10 -> 0 | T22: =Nantes!T10 -> 0 | U22: =Nantes!U10 -> 0 | V22: =Nantes!V10 -> 0 | W22: =Nantes!W10 -> 0
C23: RENNES | D23: =Rennes!D9 -> 0 | E23: =Rennes!E9 -> 0 | F23: =Rennes!F9 -> 0 | G23: =Rennes!G9 -> 0 | H23: =Rennes!H9 -> 0 | I23: =Rennes!I9 -> 0 | J23: =Rennes!J9 -> 0 | K23: =Rennes!K9 -> 0 | L23: =Rennes!L9 -> 0 | N23: RENNES | O23: =Rennes!O9 -> 0 | P23: =Rennes!P9 -> 0 | Q23: =Rennes!Q9 -> 0 | R23: =Rennes!R9 -> 0 | S23: =Rennes!S9 -> 0 | T23: =Rennes!T9 -> 0 | U23: =Rennes!U9 -> 0 | V23: =Rennes!V9 -> 0 | W23: =Rennes!W9 -> 0
C24: BREST | D24: =Rennes!D10 -> 0 | E24: =Rennes!E10 -> 0 | F24: =Rennes!F10 -> 0 | G24: =Rennes!G10 -> 0 | H24: =Rennes!H10 -> 0 | I24: =Rennes!I10 -> 0 | J24: =Rennes!J10 -> 0 | K24: =Rennes!K10 -> 0 | L24: =Rennes!L10 -> 0 | N24: BREST | O24: =Rennes!O10 -> 0 | P24: =Rennes!P10 -> 0 | Q24: =Rennes!Q10 -> 0 | R24: =Rennes!R10 -> 0 | S24: =Rennes!S10 -> 0 | T24: =Rennes!T10 -> 0 | U24: =Rennes!U10 -> 0 | V24: =Rennes!V10 -> 0 | W24: =Rennes!W10 -> 0
C25: CAEN | D25: =Rennes!D11 -> 0 | E25: =Rennes!E11 -> 0 | F25: =Rennes!F11 -> 0 | G25: =Rennes!G11 -> 0 | H25: =Rennes!H11 -> 0 | I25: =Rennes!I11 -> 0 | J25: =Rennes!J11 -> 0 | K25: =Rennes!K11 -> 0 | L25: =Rennes!L11 -> 0 | N25: CAEN | O25: =Rennes!O11 -> 0 | P25: =Rennes!P11 -> 0 | Q25: =Rennes!Q11 -> 0 | R25: =Rennes!R11 -> 0 | S25: =Rennes!S11 -> 0 | T25: =Rennes!T11 -> 0 | U25: =Rennes!U11 -> 0 | V25: =Rennes!V11 -> 0 | W25: =Rennes!W11 -> 0
C26: CHARTRES | D26: =Rennes!D12 -> 0 | E26: =Rennes!E12 -> 0 | F26: =Rennes!F12 -> 0 | G26: =Rennes!G12 -> 0 | H26: =Rennes!H12 -> 0 | I26: =Rennes!I12 -> 0 | J26: =Rennes!J12 -> 0 | K26: =Rennes!K12 -> 0 | L26: =Rennes!L12 -> 0 | N26: CHARTRES | O26: =Rennes!O12 -> 0 | P26: =Rennes!P12 -> 0 | Q26: =Rennes!Q12 -> 0 | R26: =Rennes!R12 -> 0 | S26: =Rennes!S12 -> 0 | T26: =Rennes!T12 -> 0 | U26: =Rennes!U12 -> 0 | V26: =Rennes!V12 -> 0 | W26: =Rennes!W12 -> 0
C27: BORDEAUX | D27: =Bordeaux!D9 -> 0 | E27: =Bordeaux!E9 -> 0 | F27: =Bordeaux!F9 -> 0 | G27: =Bordeaux!G9 -> 0 | H27: =Bordeaux!H9 -> 0 | I27: =Bordeaux!I9 -> 0 | J27: =Bordeaux!J9 -> 0 | K27: =Bordeaux!K9 -> 0 | L27: =Bordeaux!L9 -> 0 | N27: BORDEAUX | O27: =Bordeaux!O9 -> 0 | P27: =Bordeaux!P9 -> 0 | Q27: =Bordeaux!Q9 -> 0 | R27: =Bordeaux!R9 -> 0 | S27: =Bordeaux!S9 -> 0 | T27: =Bordeaux!T9 -> 0 | U27: =Bordeaux!U9 -> 0 | V27: =Bordeaux!V9 -> 0 | W27: =Bordeaux!W9 -> 0
C28: PAU | D28: =Bordeaux!D10 -> 0 | E28: =Bordeaux!E10 -> 0 | F28: =Bordeaux!F10 -> 0 | G28: =Bordeaux!G10 -> 0 | H28: =Bordeaux!H10 -> 0 | I28: =Bordeaux!I10 -> 0 | J28: =Bordeaux!J10 -> 0 | K28: =Bordeaux!K10 -> 0 | L28: =Bordeaux!L10 -> 0 | N28: PAU | O28: =Bordeaux!O10 -> 0 | P28: =Bordeaux!P10 -> 0 | Q28: =Bordeaux!Q10 -> 0 | R28: =Bordeaux!R10 -> 0 | S28: =Bordeaux!S10 -> 0 | T28: =Bordeaux!T10 -> 0 | U28: =Bordeaux!U10 -> 0 | V28: =Bordeaux!V10 -> 0 | W28: =Bordeaux!W10 -> 0
C29: TOULOUSE | D29: =Toulouse!D9 -> 0 | E29: =Toulouse!E9 -> 0 | F29: =Toulouse!F9 -> 0 | G29: =Toulouse!G9 -> 0 | H29: =Toulouse!H9 -> 0 | I29: =Toulouse!I9 -> 0 | J29: =Toulouse!J9 -> 0 | K29: =Toulouse!K9 -> 0 | L29: =Toulouse!L9 -> 0 | N29: TOULOUSE | O29: =Toulouse!O9 -> 0 | P29: =Toulouse!P9 -> 0 | Q29: =Toulouse!Q9 -> 0 | R29: =Toulouse!R9 -> 0 | S29: =Toulouse!S9 -> 0 | T29: =Toulouse!T9 -> 0 | U29: =Toulouse!U9 -> 0 | V29: =Toulouse!V9 -> 0 | W29: =Toulouse!W9 -> 0
C30: Total besoins | D30: =SUM(D10:D29) -> 0 | E30: =SUM(E10:E29) -> 0 | F30: =SUM(F10:F29) -> 0 | G30: =SUM(G10:G29) -> 0 | H30: =SUM(H10:H29) -> 0 | I30: =SUM(I10:I29) -> 0 | J30: =SUM(J10:J29) -> 0 | K30: =SUM(K10:K29) -> 0 | L30: =SUM(L10:L29) -> 0 | N30: Total dispos | O30: 0 | P30: =SUM(P10:P29) -> 0 | Q30: =SUM(Q10:Q29) -> 0 | R30: =SUM(R10:R29) -> 0 | S30: =SUM(S10:S29) -> 0 | T30: =SUM(T10:T29) -> 0 | U30: =SUM(U10:U29) -> 0 | V30: =SUM(V10:V29) -> 0 | W30: =SUM(W10:W29) -> 0

Sheet Feuille Synthèse v2.1
E5: FEUILLE DE SYNTHÈSE
D9: Pompes Metop | H9: Pompes Metair | L9: Têtes de Prélèvement
C10: Agence | D10: Besoins | E10: Dispos | G10: Agence | H10: Besoins | I10: Dispos | K10: Agence | L10: Besoins | M10: Dispos
C11: AIX | D11: =Aix!D9 -> 0 | E11: =Aix!O9 -> 0 | G11: AIX | H11: =Aix!E9 -> 0 | I11: =Aix!P9 -> 0 | K11: AIX | L11: =Aix!F9 -> 0 | M11: =Aix!Q9 -> 0
C12: ST ETIENNE | D12: ='Saint-Etienne'!D9 -> 0 | E12: ='Saint-Etienne'!O9 -> 0 | G12: ST ETIENNE | H12: ='Saint-Etienne'!E9 -> 0 | I12: ='Saint-Etienne'!P9 -> 0 | K12: ST ETIENNE | L12: ='Saint-Etienne'!F9 -> 0 | M12: ='Saint-Etienne'!Q9 -> 0
C13: LYON | D13: ='Saint-Etienne'!D10 -> 0 | E13: ='Saint-Etienne'!O10 -> 0 | G13: LYON | H13: ='Saint-Etienne'!E10 -> 0 | I13: ='Saint-Etienne'!P10 -> 0 | K13: LYON | L13: ='Saint-Etienne'!F10 -> 0 | M13: ='Saint-Etienne'!Q10 -> 0
C14: CLERMONT | D14: ='Saint-Etienne'!D11 -> 0 | E14: ='Saint-Etienne'!O11 -> 0 | G14: CLERMONT | H14: ='Saint-Etienne'!E11 -> 0 | I14: ='Saint-Etienne'!P11 -> 0 | K14: CLERMONT | L14: ='Saint-Etienne'!F11 -> 0 | M14: ='Saint-Etienne'!Q11 -> 0
C15: DIJON | D15: =Dijon!D9 -> 0 | E15: =Dijon!O9 -> 0 | G15: DIJON | H15: =Dijon!E9 -> 0 | I15: =Dijon!P9 -> 0 | K15: DIJON | L15: =Dijon!F9 -> 0 | M15: =Dijon!Q9 -> 0
C16: SENS | D16: =Dijon!D10 -> 0 | E16: =Dijon!O10 -> 0 | G16: SENS | H16: =Dijon!E10 -> 0 | I16: =Dijon!P10 -> 0 | K16: SENS | L16: =Dijon!F10 -> 0 | M16: =Dijon!Q10 -> 0
C17: METZ | D17: =Metz!D9 -> 0 | E17: =Metz!O9 -> 0 | G17: METZ | H17: =Metz!E9 -> 0 | I17: =Metz!P9 -> 0 | K17: METZ | L17: =Metz!F9 -> 0 | M17: =Metz!Q9 -> 0
C18: STRASBOURG | D18: =Metz!D10 -> 0 | E18: =Metz!O10 -> 0 | G18: STRASBOURG | H18: =Metz!E10 -> 0 | I18: =Metz!P10 -> 0 | K18: STRASBOURG | L18: =Metz!F10 -> 0 | M18: =Metz!Q10 -> 0
C19: LILLE | D19: =Lille!D9 -> 0 | E19: =Lille!O9 -> 0 | G19: LILLE | H19: =Lille!E9 -> 0 | I19: =Lille!P9 -> 0 | K19: LILLE | L19: =Lille!F9 -> 0 | M19: =Lille!Q9 -> 0
C20: COMPIEGNE | D20: =Lille!D10 -> 0 | E20: =Lille!O10 -> 0 | G20: COMPIEGNE | H20: =Lille!E10 -> 0 | I20: =Lille!P10 -> 0 | K20: COMPIEGNE | L20: =Lille!F10 -> 0 | M20: =Lille!Q10 -> 0
C21: MEUDON | D21: =Meudon!D9 -> 0 | E21: =Meudon!O9 -> 0 | G21: MEUDON | H21: =Meudon!E9 -> 0 | I21: =Meudon!P9 -> 0 | K21: MEUDON | L21: =Meudon!F9 -> 0 | M21: =Meudon!Q9 -> 0
C22: NANTES | D22: =Nantes!D9 -> 0 | E22: =Nantes!O9 -> 0 | G22: NANTES | H22: =Nantes!E9 -> 0 | I22: =Nantes!P9 -> 0 | K22: NANTES | L22: =Nantes!F9 -> 0 | M22: =Nantes!Q9 -> 0
C23: POITIERS | D23: =Nantes!D10 -> 0 | E23: =Nantes!O10 -> 0 | G23: POITIERS | H23: =Nantes!E10 -> 0 | I23: =Nantes!P10 -> 0 | K23: POITIERS | L23: =Nantes!F10 -> 0 | M23: =Nantes!Q10 -> 0
C24: RENNES | D24: =Rennes!D9 -> 0 | E24: =Rennes!O9 -> 0 | G24: RENNES | H24: =Rennes!E9 -> 0 | I24: =Rennes!P9 -> 0 | K24: RENNES | L24: =Rennes!F9 -> 0 | M24: =Rennes!Q9 -> 0
C25: BREST | D25: =Rennes!D10 -> 0 | E25: =Rennes!O10 -> 0 | G25: BREST | H25: =Rennes!E10 -> 0 | I25: =Rennes!P10 -> 0 | K25: BREST | L25: =Rennes!F10 -> 0 | M25: =Rennes!Q10 -> 0
C26: CAEN | D26: =Rennes!D11 -> 0 | E26: =Rennes!O11 -> 0 | G26: CAEN | H26: =Rennes!E11 -> 0 | I26: =Rennes!P11 -> 0 | K26: CAEN | L26: =Rennes!F11 -> 0 | M26: =Rennes!Q11 -> 0
C27: CHARTRES | D27: =Rennes!D12 -> 0 | E27: =Rennes!O12 -> 0 | G27: CHARTRES | H27: =Rennes!E12 -> 0 | I27: =Rennes!P12 -> 0 | K27: CHARTRES | L27: =Rennes!F12 -> 0 | M27: =Rennes!Q12 -> 0
C28: BORDEAUX | D28: =Bordeaux!D9 -> 0 | E28: =Bordeaux!O9 -> 0 | G28: BORDEAUX | H28: =Bordeaux!E9 -> 0 | I28: =Bordeaux!P9 -> 0 | K28: BORDEAUX | L28: =Bordeaux!F9 -> 0 | M28: =Bordeaux!Q9 -> 0
C29: PAU | D29: =Bordeaux!D10 -> 0 | E29: =Bordeaux!O10 -> 0 | G29: PAU | H29: =Bordeaux!E10 -> 0 | I29: =Bordeaux!P10 -> 0 | K29: PAU | L29: =Bordeaux!F10 -> 0 | M29: =Bordeaux!Q10 -> 0
C30: TOULOUSE | D30: =Toulouse!D9 -> 0 | E30: =Toulouse!O9 -> 0 | G30: TOULOUSE | H30: =Toulouse!E9 -> 0 | I30: =Toulouse!P9 -> 0 | K30: TOULOUSE | L30: =Toulouse!F9 -> 0 | M30: =Toulouse!Q9 -> 0
C31: Total besoins | D31: =SUM(D11:D30) -> 0 | E31: =SUM(E11:E30) -> 0 | G31: Total besoins | H31: =SUM(H11:H30) -> 0 | I31: =SUM(I11:I30) -> 0 | K31: Total besoins | L31: =SUM(L11:L30) -> 0 | M31: =SUM(M11:M30) -> 0
D34: Trépieds | H34: Tourets | L34: Powerpacks
C35: Agence | D35: Besoins | E35: Dispos | G35: Agence | H35: Besoins | I35: Dispos | K35: Agence | L35: Besoins | M35: Dispos
C36: AIX | D36: =Aix!G9 -> 0 | E36: =Aix!R9 -> 0 | G36: AIX | H36: =Aix!H9 -> 0 | I36: =Aix!S9 -> 0 | K36: AIX | L36: =Aix!I9 -> 0 | M36: =Aix!T9 -> 0
C37: ST ETIENNE | D37: ='Saint-Etienne'!G9 -> 0 | E37: ='Saint-Etienne'!R9 -> 0 | G37: ST ETIENNE | H37: ='Saint-Etienne'!H9 -> 0 | I37: ='Saint-Etienne'!S9 -> 0 | K37: ST ETIENNE | L37: ='Saint-Etienne'!I9 -> 0 | M37: ='Saint-Etienne'!T9 -> 0
C38: LYON | D38: ='Saint-Etienne'!G10 -> 0 | E38: ='Saint-Etienne'!R10 -> 0 | G38: LYON | H38: ='Saint-Etienne'!H10 -> 0 | I38: ='Saint-Etienne'!S10 -> 0 | K38: LYON | L38: ='Saint-Etienne'!I10 -> 0 | M38: ='Saint-Etienne'!T10 -> 0
C39: CLERMONT | D39: ='Saint-Etienne'!G11 -> 0 | E39: ='Saint-Etienne'!R11 -> 0 | G39: CLERMONT | H39: ='Saint-Etienne'!H11 -> 0 | I39: ='Saint-Etienne'!S11 -> 0 | K39: CLERMONT | L39: ='Saint-Etienne'!I11 -> 0 | M39: ='Saint-Etienne'!T11 -> 0
C40: DIJON | D40: =Dijon!G9 -> 0 | E40: =Dijon!R9 -> 0 | G40: DIJON | H40: =Dijon!H9 -> 0 | I40: =Dijon!S9 -> 0 | K40: DIJON | L40: =Dijon!I9 -> 0 | M40: =Dijon!T9 -> 0
C41: SENS | D41: =Dijon!G10 -> 0 | E41: =Dijon!R10 -> 0 | G41: SENS | H41: =Dijon!H10 -> 0 | I41: =Dijon!S10 -> 0 | K41: SENS | L41: =Dijon!I10 -> 0 | M41: =Dijon!T10 -> 0
C42: METZ | D42: =Metz!G9 -> 0 | E42: =Metz!R9 -> 0 | G42: METZ | H42: =Metz!H9 -> 0 | I42: =Metz!S9 -> 0 | K42: METZ | L42: =Metz!I9 -> 0 | M42: =Metz!T9 -> 0
C43: STRASBOURG | D43: =Metz!G10 -> 0 | E43: =Metz!R10 -> 0 | G43: STRASBOURG | H43: =Metz!H10 -> 0 | I43: =Metz!S10 -> 0 | K43: STRASBOURG | L43: =Metz!I10 -> 0 | M43: =Metz!T10 -> 0
C44: LILLE | D44: =Lille!G9 -> 0 | E44: =Lille!R9 -> 0 | G44: LILLE | H44: =Lille!H9 -> 0 | I44: =Lille!S9 -> 0 | K44: LILLE | L44: =Lille!I9 -> 0 | M44: =Lille!T9 -> 0
C45: COMPIEGNE | D45: =Lille!G10 -> 0 | E45: =Lille!R10 -> 0 | G45: COMPIEGNE | H45: =Lille!H10 -> 0 | I45: =Lille!S10 -> 0 | K45: COMPIEGNE | L45: =Lille!I10 -> 0 | M45: =Lille!T10 -> 0
C46: MEUDON | D46: =Meudon!G9 -> 0 | E46: =Meudon!R9 -> 0 | G46: MEUDON | H46: =Meudon!H9 -> 0 | I46: =Meudon!S9 -> 0 | K46: MEUDON | L46: =Meudon!I9 -> 0 | M46: =Meudon!T9 -> 0
C47: NANTES | D47: =Nantes!G9 -> 0 | E47: =Nantes!R9 -> 0 | G47: NANTES | H47: =Nantes!H9 -> 0 | I47: =Nantes!S9 -> 0 | K47: NANTES | L47: =Nantes!I9 -> 0 | M47: =Nantes!T9 -> 0
C48: POITIERS | D48: =Nantes!G10 -> 0 | E48: =Nantes!R10 -> 0 | G48: POITIERS | H48: =Nantes!H10 -> 0 | I48: =Nantes!S10 -> 0 | K48: POITIERS | L48: =Nantes!I10 -> 0 | M48: =Nantes!T10 -> 0
C49: RENNES | D49: =Rennes!G9 -> 0 | E49: =Rennes!R9 -> 0 | G49: RENNES | H49: =Rennes!H9 -> 0 | I49: =Rennes!S9 -> 0 | K49: RENNES | L49: =Rennes!I9 -> 0 | M49: =Rennes!T9 -> 0
...
