Workbook

Sheet REMPLIR LA FEUILLE
A1: Merci de renseigner l'activité de le nom de l'intervenant sur chaque feuille
A3: Comment remplir la feuille
A4: Présent = 1
A5: Dispensé avec certificat médical = Disp
A6: Dispensé sans certificat médical = ABI
A7: Absent avec certificat valide = ABJ
A8: Absent sans certificat valide = ABI
A9: Absent car Salarié : SAL
A11: Pourquoi remplir la feuille assiduement ?
A12: Pour que tous les intervenants sachent combien chaque étudiant a effectué de séances et ce quelque soit l'activité support.
A14: En effet...
A15: Pour être évalué, l'étudiant doit satisfaire 2/3 de pratique soit au moins 8 séances sur 12. Si il est dispensé ou absent (justifié) le jour de l'évaluation, vous devez l'évaluer sur son niveau observé lors des séances.
... A20: Indiquer votre note avec (une virgule) dans la colonne correspondante, la moyenne se fera toute seule.

Sheet Bareme
A1: NL / Dos | E1: NL / BRASSE
A2: homme | C2: femme | E2: homme | G2: femme
A3: perf | B3: note | C3: perf | D3: note | E3: perf | F3: note | G3: perf | H3: note
A4: 0.0013888889 | B4: 0 | C4: 0.0013888889 | D4: 0 | E4: 0.0013888889 | F4: 0 | G4: 0.0013888889 | H4: 0
A5: 0.00071747685 | B5: 0.25 | C5: 0.0007712963 | D5: 0.25 | E5: 0.00077581019 | F5: 0 | G5: 0.00082962963 | H5: 0.25
A6: 0.00070856481 | B6: 0.5 | C6: 0.00076238426 | D6: 0.5 | E6: 0.0007650463 | F6: 0.25 | G6: 0.00081886574 | H6: 0.5
A7: 0.00069953704 | B7: 0.75 | C7: 0.00075335648 | D7: 0.75 | E7: 0.00075428241 | F7: 0.5 | G7: 0.00080810185 | H7: 0.75
A8: 0.000690625 | B8: 1 | C8: 0.00074444444 | D8: 1 | E8: 0.00074351852 | F8: 0.75 | G8: 0.00079733796 | H8: 1
A9: 0.00068414352 | B9: 1.25 | C9: 0.00073541667 | D9: 1.25 | E9: 0.00073275463 | F9: 1 | G9: 0.00078657407 | H9: 1.25
A10: 0.00067430556 | B10: 1.5 | C10: 0.00072650463 | D10: 1.5 | E10: 0.00072349537 | F10: 1.25 | G10: 0.00077581019 | H10: 1.5
A11: 0.00066469907 | B11: 1.75 | C11: 0.00071747685 | D11: 1.75 | E11: 0.00071203704 | F11: 1.5 | G11: 0.0007650463 | H11: 1.75
A12: 0.00065439815 | B12: 2 | C12: 0.00070856481 | D12: 2 | E12: 0.00070081019 | F12: 1.75 | G12: 0.00075428241 | H12: 2
A13: 0.00064606481 | B13: 2.25 | C13: 0.00069953704 | D13: 2.25 | E13: 0.00068877315 | F13: 2 | G13: 0.00074351852 | H13: 2.25
A14: 0.00063715278 | B14: 2.5 | C14: 0.000690625 | D14: 2.5 | E14: 0.00067928241 | F14: 2.25 | G14: 0.00073275463 | H14: 2.5
A15: 0.00062835648 | B15: 2.75 | C15: 0.00068414352 | D15: 2.75 | E15: 0.00066886574 | F15: 2.5 | G15: 0.00072349537 | H15: 2.75
... A51: 0.00011574074 | B51: 20 | C51: 0.00011574074 | D51: 20 | E51: 0.00038738426 | F51: 20 | G51: 0.00011574074 | H51: 20
A52: AB | B52: 0 | C52: AB | D52: 0 | E52: 0.00011574074 | F52: 20 | G52: AB | H52: 1
E53: AB | F53: 0

Sheet Gr A
F1: NL / Brasse | J1: NL / Dos | N1: Note Pratique
A2: N° Etu | B2: Nom | C2: Prénom | D2: Statut | E2: Sexe | F2: Perf | G2: Note | H2: Pénalités | I2: Note | J2: Perf | K2: Note | L2: Pénalités | M2: Note
E3: 1 | G3: =IFERROR(IF(F3="","",INDEX(Bareme!$E$4:$H$52,MATCH('Gr A'!F3,IF('Gr A'!E3=1,Bareme!$E$4:$E$52,Bareme!$G$4:$G$52),-1),IF(E3=1,2,4))),"") | I3: =IFERROR(G3-H3,"") | K3: =IFERROR(IF(J3="","",INDEX(Bareme!$A$4:$D$52,MATCH('Gr A'!J3,IF('Gr A'!E3=1,Bareme!$A$4:$A$52,Bareme!$C$4:$C$52),-1),IF(E3=1,2,4))),"") | M3: =IFERROR((K3-L3),"") | N3: =IFERROR(AVERAGE(I3,M3),"")
E4: 2 | G4: {=IFERROR(IF(F4="","",INDEX(Bareme!$E$4:$H$52,MATCH('Gr A'!F4,IF('Gr A'!E4=1,Bareme!$E$4:$E$52,Bareme!$G$4:$G$52),-1),IF(E4=1,2,4))),"")} | I4: =IFERROR(G4-H4,"") | K4: =IFERROR(IF(J4="","",INDEX(Bareme!$A$4:$D$52,MATCH('Gr A'!J4,IF('Gr A'!E4=1,Bareme!$A$4:$A$52,Bareme!$C$4:$C$52),-1),IF(E4=1,2,4))),"") | M4: =IFERROR((K4-L4),"") | N4: =IFERROR(AVERAGE(I4,M4),"")
E5: 2 | G5: {=IFERROR(IF(F5="","",INDEX(Bareme!$E$4:$H$52,MATCH('Gr A'!F5,IF('Gr A'!E5=1,Bareme!$E$4:$E$52,Bareme!$G$4:$G$52),-1),IF(E5=1,2,4))),"")} | I5: =IFERROR(G5-H5,"") | K5: =IFERROR(IF(J5="","",INDEX(Bareme!$A$4:$D$52,MATCH('Gr A'!J5,IF('Gr A'!E5=1,Bareme!$A$4:$A$52,Bareme!$C$4:$C$52),-1),IF(E5=1,2,4))),"") | M5: =IFERROR((K5-L5),"") | N5: =IFERROR(AVERAGE(I5,M5),"")
G6: {=IFERROR(IF(F6="","",INDEX(Bareme!$E$4:$H$52,MATCH('Gr A'!F6,IF('Gr A'!E6=1,Bareme!$E$4:$E$52,Bareme!$G$4:$G$52),-1),IF(E6=1,2,4))),"")} | I6: =IFERROR(G6-H6,"") | K6: =IFERROR(IF(J6="","",INDEX(Bareme!$A$4:$D$52,MATCH('Gr A'!J6,IF('Gr A'!E6=1,Bareme!$A$4:$A$52,Bareme!$C$4:$C$52),-1),IF(E6=1,2,4))),"") | M6: =IFERROR((K6-L6),"") | N6: =IFERROR(AVERAGE(I6,M6),"")
G7: {=IFERROR(IF(F7="","",INDEX(Bareme!$E$4:$H$52,MATCH('Gr A'!F7,IF('Gr A'!E7=1,Bareme!$E$4:$E$52,Bareme!$G$4:$G$52),-1),IF(E7=1,2,4))),"")} | I7: =IFERROR(G7-H7,"") | K7: =IFERROR(IF(J7="","",INDEX(Bareme!$A$4:$D$52,MATCH('Gr A'!J7,IF('Gr A'!E7=1,Bareme!$A$4:$A$52,Bareme!$C$4:$C$52),-1),IF(E7=1,2,4))),"") | M7: =IFERROR((K7-L7),"") | N7: =IFERROR(AVERAGE(I7,M7),"")
G8: {=IFERROR(IF(F8="","",INDEX(Bareme!$E$4:$H$52,MATCH('Gr A'!F8,IF('Gr A'!E8=1,Bareme!$E$4:$E$52,Bareme!$G$4:$G$52),-1),IF(E8=1,2,4))),"")} | I8: =IFERROR(G8-H8,"") | K8: =IFERROR(IF(J8="","",INDEX(Bareme!$A$4:$D$52,MATCH('Gr A'!J8,IF('Gr A'!E8=1,Bareme!$A$4:$A$52,Bareme!$C$4:$C$52),-1),IF(E8=1,2,4))),"") | M8: =IFERROR((K8-L8),"") | N8: =IFERROR(AVERAGE(I8,M8),"")
E9: 4 | G9: {=IFERROR(IF(F9="","",INDEX(Bareme!$E$4:$H$52,MATCH('Gr A'!F9,IF('Gr A'!E9=1,Bareme!$E$4:$E$52,Bareme!$G$4:$G$52),-1),IF(E9=1,2,4))),"")} | I9: =IFERROR(G9-H9,"") | K9: =IFERROR(IF(J9="","",INDEX(Bareme!$A$4:$D$52,MATCH('Gr A'!J9,IF('Gr A'!E9=1,Bareme!$A$4:$A$52,Bareme!$C$4:$C$52),-1),IF(E9=1,2,4))),"") | M9: =IFERROR((K9-L9),"") | N9: =IFERROR(AVERAGE(I9,M9),"")
G10: {=IFERROR(IF(F10="","",INDEX(Bareme!$E$4:$H$52,MATCH('Gr A'!F10,IF('Gr A'!E10=1,Bareme!$E$4:$E$52,Bareme!$G$4:$G$52),-1),IF(E10=1,2,4))),"")} | I10: =IFERROR(G10-H10,"") | K10: =IFERROR(IF(J10="","",INDEX(Bareme!$A$4:$D$52,MATCH('Gr A'!J10,IF('Gr A'!E10=1,Bareme!$A$4:$A$52,Bareme!$C$4:$C$52),-1),IF(E10=1,2,4))),"") | M10: =IFERROR((K10-L10),"") | N10: =IFERROR(AVERAGE(I10,M10),"")
G11: {=IFERROR(IF(F11="","",INDEX(Bareme!$E$4:$H$52,MATCH('Gr A'!F11,IF('Gr A'!E11=1,Bareme!$E$4:$E$52,Bareme!$G$4:$G$52),-1),IF(E11=1,2,4))),"")} | I11: =IFERROR(G11-H11,"") | K11: =IFERROR(IF(J11="","",INDEX(Bareme!$A$4:$D$52,MATCH('Gr A'!J11,IF('Gr A'!E11=1,Bareme!$A$4:$A$52,Bareme!$C$4:$C$52),-1),IF(E11=1,2,4))),"") | M11: =IFERROR((K11-L11),"") | N11: =IFERROR(AVERAGE(I11,M11),"")
G12: {=IFERROR(IF(F12="","",INDEX(Bareme!$E$4:$H$52,MATCH('Gr A'!F12,IF('Gr A'!E12=1,Bareme!$E$4:$E$52,Bareme!$G$4:$G$52),-1),IF(E12=1,2,4))),"")} | I12: =IFERROR(G12-H12,"") | K12: =IFERROR(IF(J12="","",INDEX(Bareme!$A$4:$D$52,MATCH('Gr A'!J12,IF('Gr A'!E12=1,Bareme!$A$4:$A$52,Bareme!$C$4:$C$52),-1),IF(E12=1,2,4))),"") | M12: =IFERROR((K12-L12),"") | N12: =IFERROR(AVERAGE(I12,M12),"")
G13: {=IFERROR(IF(F13="","",INDEX(Bareme!$E$4:$H$52,MATCH('Gr A'!F13,IF('Gr A'!E13=1,Bareme!$E$4:$E$52,Bareme!$G$4:$G$52),-1),IF(E13=1,2,4))),"")} | I13: =IFERROR(G13-H13,"") | K13: =IFERROR(IF(J13="","",INDEX(Bareme!$A$4:$D$52,MATCH('Gr A'!J13,IF('Gr A'!E13=1,Bareme!$A$4:$A$52,Bareme!$C$4:$C$52),-1),IF(E13=1,2,4))),"") | M13: =IFERROR((K13-L13),"") | N13: =IFERROR(AVERAGE(I13,M13),"")
G14: {=IFERROR(IF(F14="","",INDEX(Bareme!$E$4:$H$52,MATCH('Gr A'!F14,IF('Gr A'!E14=1,Bareme!$E$4:$E$52,Bareme!$G$4:$G$52),-1),IF(E14=1,2,4))),"")} | I14: =IFERROR(G14-H14,"") | K14: =IFERROR(IF(J14="","",INDEX(Bareme!$A$4:$D$52,MATCH('Gr A'!J14,IF('Gr A'!E14=1,Bareme!$A$4:$A$52,Bareme!$C$4:$C$52),-1),IF(E14=1,2,4))),"") | M14: =IFERROR((K14-L14),"") | N14: =IFERROR(AVERAGE(I14,M14),"")
G15: {=IFERROR(IF(F15="","",INDEX(Bareme!$E$4:$H$52,MATCH('Gr A'!F15,IF('Gr A'!E15=1,Bareme!$E$4:$E$52,Bareme!$G$4:$G$52),-1),IF(E15=1,2,4))),"")} | I15: =IFERROR(G15-H15,"") | K15: =IFERROR(IF(J15="","",INDEX(Bareme!$A$4:$D$52,MATCH('Gr A'!J15,IF('Gr A'!E15=1,Bareme!$A$4:$A$52,Bareme!$C$4:$C$52),-1),IF(E15=1,2,4))),"") | M15: =IFERROR((K15-L15),"") | N15: =IFERROR(AVERAGE(I15,M15),"")
G16: {=IFERROR(IF(F16="","",INDEX(Bareme!$E$4:$H$52,MATCH('Gr A'!F16,IF('Gr A'!E16=1,Bareme!$E$4:$E$52,Bareme!$G$4:$G$52),-1),IF(E16=1,2,4))),"")} | I16: =IFERROR(G16-H16,"") | K16: =IFERROR(IF(J16="","",INDEX(Bareme!$A$4:$D$52,MATCH('Gr A'!J16,IF('Gr A'!E16=1,Bareme!$A$4:$A$52,Bareme!$C$4:$C$52),-1),IF(E16=1,2,4))),"") | M16: =IFERROR((K16-L16),"") | N16: =IFERROR(AVERAGE(I16,M16),"")
G17: {=IFERROR(IF(F17="","",INDEX(Bareme!$E$4:$H$52,MATCH('Gr A'!F17,IF('Gr A'!E17=1,Bareme!$E$4:$E$52,Bareme!$G$4:$G$52),-1),IF(E17=1,2,4))),"")} | I17: =IFERROR(G17-H17,"") | K17: =IFERROR(IF(J17="","",INDEX(Bareme!$A$4:$D$52,MATCH('Gr A'!J17,IF('Gr A'!E17=1,Bareme!$A$4:$A$52,Bareme!$C$4:$C$52),-1),IF(E17=1,2,4))),"") | M17: =IFERROR((K17-L17),"") | N17: =IFERROR(AVERAGE(I17,M17),"")
G18: {=IFERROR(IF(F18="","",INDEX(Bareme!$E$4:$H$52,MATCH('Gr A'!F18,IF('Gr A'!E18=1,Bareme!$E$4:$E$52,Bareme!$G$4:$G$52),-1),IF(E18=1,2,4))),"")} | I18: =IFERROR(G18-H18,"") | K18: =IFERROR(IF(J18="","",INDEX(Bareme!$A$4:$D$52,MATCH('Gr A'!J18,IF('Gr A'!E18=1,Bareme!$A$4:$A$52,Bareme!$C$4:$C$52),-1),IF(E18=1,2,4))),"") | M18: =IFERROR((K18-L18),"") | N18: =IFERROR(AVERAGE(I18,M18),"")
G19: {=IFERROR(IF(F19="","",INDEX(Bareme!$E$4:$H$52,MATCH('Gr A'!F19,IF('Gr A'!E19=1,Bareme!$E$4:$E$52,Bareme!$G$4:$G$52),-1),IF(E19=1,2,4))),"")} | I19: =IFERROR(G19-H19,"") | K19: =IFERROR(IF(J19="","",INDEX(Bareme!$A$4:$D$52,MATCH('Gr A'!J19,IF('Gr A'!E19=1,Bareme!$A$4:$A$52,Bareme!$C$4:$C$52),-1),IF(E19=1,2,4))),"") | M19: =IFERROR((K19-L19),"") | N19: =IFERROR(AVERAGE(I19,M19),"")
G20: {=IFERROR(IF(F20="","",INDEX(Bareme!$E$4:$H$52,MATCH('Gr A'!F20,IF('Gr A'!E20=1,Bareme!$E$4:$E$52,Bareme!$G$4:$G$52),-1),IF(E20=1,2,4))),"")} | I20: =IFERROR(G20-H20,"") | K20: =IFERROR(IF(J20="","",INDEX(Bareme!$A$4:$D$52,MATCH('Gr A'!J20,IF('Gr A'!E20=1,Bareme!$A$4:$A$52,Bareme!$C$4:$C$52),-1),IF(E20=1,2,4))),"") | M20: =IFERROR((K20-L20),"") | N20: =IFERROR(AVERAGE(I20,M20),"")
G21: {=IFERROR(IF(F21="","",INDEX(Bareme!$E$4:$H$52,MATCH('Gr A'!F21,IF('Gr A'!E21=1,Bareme!$E$4:$E$52,Bareme!$G$4:$G$52),-1),IF(E21=1,2,4))),"")} | I21: =IFERROR(G21-H21,"") | K21: =IFERROR(IF(J21="","",INDEX(Bareme!$A$4:$D$52,MATCH('Gr A'!J21,IF('Gr A'!E21=1,Bareme!$A$4:$A$52,Bareme!$C$4:$C$52),-1),IF(E21=1,2,4))),"") | M21: =IFERROR((K21-L21),"") | N21: =IFERROR(AVERAGE(I21,M21),"")
... G37: {=IFERROR(IF(F37="","",INDEX(Bareme!$E$4:$H$52,MATCH('Gr A'!F37,IF('Gr A'!E37=1,Bareme!$E$4:$E$52,Bareme!$G$4:$G$52),-1),IF(E37=1,2,4))),"")} | I37: =IFERROR(G37-H37,"") | K37: =IFERROR(IF(J37="","",INDEX(Bareme!$A$4:$D$52,MATCH('Gr A'!J37,IF('Gr A'!E37=1,Bareme!$A$4:$A$52,Bareme!$C$4:$C$52),-1),IF(E37=1,2,4))),"") | M37: =IFERROR((K37-L37),"") | N37: =IFERROR(AVERAGE(I37,M37),"")
F38: =IFERROR(AVERAGE(F3:F37),"") | G38: =IFERROR(AVERAGE(G3:G37),"") | J38: =IFERROR(AVERAGE(J3:J37),"") | K38: =IFERROR(AVERAGE(K3:K37),"") | L38: =IFERROR(AVERAGE(L3:L37),"") | M38: =IFERROR(AVERAGE(M3:M37),"") | N38: =IFERROR(AVERAGE(N3:N37),"")
