Workbook

Sheet Plan
A1: Ressource | B1: Numéro d'ordre | C1: Produit | D1: Désignation du produit | E1: Date début activité | F1: Qté totale | G1: UM | H1: Ligne | I1: Ordre
A2: WMPS-GYRO_0805_008 | B2: 992369290694 | C2: DOWN_0805_GYRODOSA | D2: DOWN_0805_GYRODOSA | E2: 42555 | F2: 1 | G2: MIN | H2: =VLOOKUP(A2,Lignes!A:B,2,0) -> Buches | I2: =E2 -> 42555
A3: WMPS-GYRO_0805_008 | B3: 20803708 | C3: 12168384 | D3: Crème Brûlée 6x540g FR | E3: 42556 | F3: 3702 | G3: UDB | H3: =VLOOKUP(A3,Lignes!A:B,2,0) -> Buches | I3: =E3 -> 42556
A4: WMPS-GYRO_0805_008 | B4: 20803708 | C4: 12168384 | D4: Crème Brûlée 6x540g FR | E4: 42556 | F4: 0 | H4: =VLOOKUP(A4,Lignes!A:B,2,0) -> Buches | I4: =E4 -> 42556
A5: WMPS-GYRO_0805_008 | B5: 20807570 | C5: 12020547 | D5: 3 Chocolats 6x540g FR | E5: 42557 | F5: 0 | H5: =VLOOKUP(A5,Lignes!A:B,2,0) -> Buches | I5: =E5 -> 42557
A6: WMPS-GYRO_0805_008 | B6: 20807570 | C6: 12020547 | D6: 3 Chocolats 6x540g FR | E6: 42557 | F6: 21328 | G6: UDB | H6: =VLOOKUP(A6,Lignes!A:B,2,0) -> Buches | I6: =E6 -> 42557
A7: WMPS-GYRO_0805_008 | B7: 20809569 | C7: 12020547 | D7: 3 Chocolats 6x540g FR | E7: 42557 | F7: 0 | H7: =VLOOKUP(A7,Lignes!A:B,2,0) -> Buches | I7: =E7 -> 42557
A8: WMPS-GYRO_0805_008 | B8: 20809569 | C8: 12020547 | D8: 3 Chocolats 6x540g FR | E8: 42557 | F8: 39904 | G8: UDB | H8: =VLOOKUP(A8,Lignes!A:B,2,0) -> Buches | I8: =E8 -> 42557
A9: WMPS-GYRO_0805_008 | B9: 1637430891 | C9: 12020547 | D9: 3 Chocolats 6x540g FR | E9: 42558 | F9: 0 | H9: =VLOOKUP(A9,Lignes!A:B,2,0) -> Buches | I9: =E9 -> 42558
A10: WMPS-GYRO_0805_008 | B10: 1637430891 | C10: 12020547 | D10: 3 Chocolats 6x540g FR | E10: 42558 | F10: 39904 | G10: UDB | H10: =VLOOKUP(A10,Lignes!A:B,2,0) -> Buches | I10: =E10 -> 42558
A11: WMPS-GYRO_0805_008 | B11: 1637430890 | C11: 12020547 | D11: 3 Chocolats 6x540g FR | E11: 42559 | F11: 0 | H11: =VLOOKUP(A11,Lignes!A:B,2,0) -> Buches | I11: =E11 -> 42559
A12: WMPS-GYRO_0805_008 | B12: 1637430890 | C12: 12020547 | D12: 3 Chocolats 6x540g FR | E12: 42559 | F12: 16287 | G12: UDB | H12: =VLOOKUP(A12,Lignes!A:B,2,0) -> Buches | I12: =E12 -> 42559
A13: WMPS-GYRO_0805_008 | B13: 1639539107 | C13: 12224648 | D13: Mangue FrtP 6x540g FR | E13: 42562 | F13: 0 | H13: =VLOOKUP(A13,Lignes!A:B,2,0) -> Buches | I13: =E13 -> 42562
A14: WMPS-GYRO_0805_008 | B14: 1639539107 | C14: 12224648 | D14: Mangue FrtP 6x540g FR | E14: 42562 | F14: 20500 | G14: UDB | H14: =VLOOKUP(A14,Lignes!A:B,2,0) -> Buches | I14: =E14 -> 42562
A15: WMPS-GYRO_0805_008 | B15: 992396814829 | C15: DOWN_0805_GYRODOSA | D15: DOWN_0805_GYRODOSA | E15: 42562 | F15: 1 | G15: MIN | H15: =VLOOKUP(A15,Lignes!A:B,2,0) -> Buches | I15: =E15 -> 42562
A16: WMPS-GYRO_0805_008 | B16: 1639539130 | C16: 12256688 | D16: Citron Meringue 6x455g FR | E16: 42563 | F16: 0 | H16: =VLOOKUP(A16,Lignes!A:B,2,0) -> Buches | I16: =E16 -> 42563
A17: WMPS-GYRO_0805_008 | B17: 1639539130 | C17: 12256688 | D17: Citron Meringue 6x455g FR | E17: 42563 | F17: 21113 | G17: UDB | H17: =VLOOKUP(A17,Lignes!A:B,2,0) -> Buches | I17: =E17 -> 42563
A18: WMPS-GYRO_0805_008 | B18: 1639539137 | C18: 12256747 | D18: Fruits Rouges Mrg 6x455g FR | E18: 42563 | F18: 0 | H18: =VLOOKUP(A18,Lignes!A:B,2,0) -> Buches | I18: =E18 -> 42563
A19: WMPS-GYRO_0805_008 | B19: 1639539137 | C19: 12256747 | D19: Fruits Rouges Mrg 6x455g FR | E19: 42563 | F19: 29033 | G19: UDB | H19: =VLOOKUP(A19,Lignes!A:B,2,0) -> Buches | I19: =E19 -> 42563
A20: WMPS-MENA_0805_008 | B20: 20809570 | C20: 12297502 | D20: Vacherin FrtR Vrac 6x430g FR | E20: 42557 | F20: 0 | H20: =VLOOKUP(A20,Lignes!A:B,2,0) -> T1 GMS | I20: =E20 -> 42557
A21: WMPS-MENA_0805_008 | B21: 20809570 | C21: 12297502 | D21: Vacherin FrtR Vrac 6x430g FR | E21: 42557 | F21: 48960 | G21: UDB | H21: =VLOOKUP(A21,Lignes!A:B,2,0) -> T1 GMS | I21: =E21 -> 42557
A22: WMPS-MENA_0805_008 | B22: 992369275739 | C22: DOWN_0805_MENADOSA | D22: DOWN_0805_MENADOSA | E22: 42557 | F22: 1 | G22: MIN | H22: =VLOOKUP(A22,Lignes!A:B,2,0) -> T1 GMS | I22: =E22 -> 42557
A23: WMPS-MENA_0805_008 | B23: 20809568 | C23: 12297158 | D23: Vanille Pcn Vr 6x430g FR | E23: 42558 | F23: 0 | H23: =VLOOKUP(A23,Lignes!A:B,2,0) -> T1 GMS | I23: =E23 -> 42558
A24: WMPS-MENA_0805_008 | B24: 20809568 | C24: 12297158 | D24: Vanille Pcn Vr 6x430g FR | E24: 42558 | F24: 77374 | G24: UDB | H24: =VLOOKUP(A24,Lignes!A:B,2,0) -> T1 GMS | I24: =E24 -> 42558
A25: WMPS-MENA_0805_008 | B25: 20809567 | C25: 12297503 | D25: Citron Mrg Vrac 6x430g FR | E25: 42558 | F25: 0 | H25: =VLOOKUP(A25,Lignes!A:B,2,0) -> T1 GMS | I25: =E25 -> 42558
A26: WMPS-MENA_0805_008 | B26: 20809567 | C26: 12297503 | D26: Citron Mrg Vrac 6x430g FR | E26: 42558 | F26: 20000 | G26: UDB | H26: =VLOOKUP(A26,Lignes!A:B,2,0) -> T1 GMS | I26: =E26 -> 42558
A27: WMPS-MENA_0805_008 | B27: 1637430872 | C27: 12297158 | D27: Vanille Pcn Vr 6x430g FR | E27: 42559 | F27: 0 | H27: =VLOOKUP(A27,Lignes!A:B,2,0) -> T1 GMS | I27: =E27 -> 42559
A28: WMPS-MENA_0805_008 | B28: 1637430872 | C28: 12297158 | D28: Vanille Pcn Vr 6x430g FR | E28: 42559 | F28: 2626 | G28: UDB | H28: =VLOOKUP(A28,Lignes!A:B,2,0) -> T1 GMS | I28: =E28 -> 42559
A29: WMPS-MENA_0805_008 | B29: 1637430871 | C29: 12297192 | D29: Vanille Crml Vr 6x430g FR | E29: 42559 | F29: 0 | H29: =VLOOKUP(A29,Lignes!A:B,2,0) -> T1 GMS | I29: =E29 -> 42559
A30: WMPS-MENA_0805_008 | B30: 1637430871 | C30: 12297192 | D30: Vanille Crml Vr 6x430g FR | E30: 42559 | F30: 20000 | G30: UDB | H30: =VLOOKUP(A30,Lignes!A:B,2,0) -> T1 GMS | I30: =E30 -> 42559
A31: WMPS-MENA_0805_008 | B31: 1637429847 | C31: 12297466 | D31: Caramel Vrac 6x430g FR | E31: 42559 | F31: 0 | H31: =VLOOKUP(A31,Lignes!A:B,2,0) -> T1 GMS | I31: =E31 -> 42559
A32: WMPS-MENA_0805_008 | B32: 1637429847 | C32: 12297466 | D32: Caramel Vrac 6x430g FR | E32: 42559 | F32: 48960 | G32: UDB | H32: =VLOOKUP(A32,Lignes!A:B,2,0) -> T1 GMS | I32: =E32 -> 42559
A33: WMPS-MENA_0805_008 | B33: 1639539144 | C33: 12297501 | D33: Menthe Vrac 6x430g FR | E33: 42563 | F33: 32000 | G33: UDB | H33: =VLOOKUP(A33,Lignes!A:B,2,0) -> T1 GMS | I33: =E33 -> 42563
A34: WMPS-MENA_0805_008 | B34: 1639539144 | C34: 12297501 | D34: Menthe Vrac 6x430g FR | E34: 42563 | F34: 0 | H34: =VLOOKUP(A34,Lignes!A:B,2,0) -> T1 GMS | I34: =E34 -> 42563
A35: WMPS-MENA_0805_008 | B35: 992406048063 | C35: DOWN_0805_MENADOSA | D35: DOWN_0805_MENADOSA | E35: 42563 | F35: 1 | G35: MIN | H35: =VLOOKUP(A35,Lignes!A:B,2,0) -> T1 GMS | I35: =E35 -> 42563
A36: WMPS-MENA_0805_008 | B36: 1639541028 | C36: 12297159 | D36: Vanille Amde Vr 6x430g FR | E36: 42569 | F36: 0 | H36: =VLOOKUP(A36,Lignes!A:B,2,0) -> T1 GMS | I36: =E36 -> 42569
A37: WMPS-MENA_0805_008 | B37: 1639541024 | C37: 12297500 | D37: Yaourt FrtR Vr 6x430g FR | E37: 42569 | F37: 47186 | G37: UDB | H37: =VLOOKUP(A37,Lignes!A:B,2,0) -> T1 GMS | I37: =E37 -> 42569
A38: WMPS-MENA_0805_008 | B38: 1639541024 | C38: 12297500 | D38: Yaourt FrtR Vr 6x430g FR | E38: 42569 | F38: 0 | H38: =VLOOKUP(A38,Lignes!A:B,2,0) -> T1 GMS | I38: =E38 -> 42569
A39: WMPS-MENA_0805_008 | B39: 992388270606 | C39: DOWN_0805_MENADOSA | D39: DOWN_0805_MENADOSA | E39: 42569 | F39: 1 | G39: MIN | H39: =VLOOKUP(A39,Lignes!A:B,2,0) -> T1 GMS | I39: =E39 -> 42569
A40: WMPS-MENA_0805_008 | B40: 1639541028 | C40: 12297159 | D40: Vanille Amde Vr 6x430g FR | E40: 42570 | F40: 48960 | G40: UDB | H40: =VLOOKUP(A40,Lignes!A:B,2,0) -> T1 GMS | I40: =E40 -> 42570
A41: WMPS-MENA_0805_008 | B41: 1639541027 | C41: 12297465 | D41: Café Vrac 6x430g FR | E41: 42570 | F41: 0 | H41: =VLOOKUP(A41,Lignes!A:B,2,0) -> T1 GMS | I41: =E41 -> 42570
A42: WMPS-MENA_0805_008 | B42: 1639541027 | C42: 12297465 | D42: Café Vrac 6x430g FR | E42: 42570 | F42: 66382 | G42: UDB | H42: =VLOOKUP(A42,Lignes!A:B,2,0) -> T1 GMS | I42: =E42 -> 42570
A43: WMPS-MENA_0805_008 | B43: 1639541026 | C43: 12297465 | D43: Café Vrac 6x430g FR | E43: 42571 | F43: 20284 | G43: UDB | H43: =VLOOKUP(A43,Lignes!A:B,2,0) -> T1 GMS | I43: =E43 -> 42571
A44: WMPS-MENA_0805_008 | B44: 1639541026 | C44: 12297465 | D44: Café Vrac 6x430g FR | E44: 42571 | F44: 0 | H44: =VLOOKUP(A44,Lignes!A:B,2,0) -> T1 GMS | I44: =E44 -> 42571
A45: WMPS-MENA_0805_008 | B45: 1639541025 | C45: 12297466 | D45: Caramel Vrac 6x430g FR | E45: 42571 | F45: 0 | H45: =VLOOKUP(A45,Lignes!A:B,2,0) -> T1 GMS | I45: =E45 -> 42571
A46: WMPS-MENA_0805_008 | B46: 1639541025 | C46: 12297466 | D46: Caramel Vrac 6x430g FR | E46: 42571 | F46: 48960 | G46: UDB | H46: =VLOOKUP(A46,Lignes!A:B,2,0) -> T1 GMS | I46: =E46 -> 42571
A47: WMPS-MENA_0805_008 | B47: 1639541023 | C47: 12297503 | D47: Citron Mrg Vrac 6x430g FR | E47: 42571 | F47: 0 | H47: =VLOOKUP(A47,Lignes!A:B,2,0) -> T1 GMS | I47: =E47 -> 42571
A48: WMPS-MENA_0805_008 | B48: 1639540495 | C48: 12297157 | D48: Vanille Vrac 6x430g FR | E48: 42572 | F48: 0 | H48: =VLOOKUP(A48,Lignes!A:B,2,0) -> T1 GMS | I48: =E48 -> 42572
A49: WMPS-MENA_0805_008 | B49: 1639540495 | C49: 12297157 | D49: Vanille Vrac 6x430g FR | E49: 42572 | F49: 62612 | G49: UDB | H49: =VLOOKUP(A49,Lignes!A:B,2,0) -> T1 GMS | I49: =E49 -> 42572
A50: WMPS-MENA_0805_008 | B50: 1639541029 | C50: 12297157 | D50: Vanille Vrac 6x430g FR | E50: 42572 | F50: 0 | H50: =VLOOKUP(A50,Lignes!A:B,2,0) -> T1 GMS | I50: =E50 -> 42572
A51: WMPS-MENA_0805_008 | B51: 1639541029 | C51: 12297157 | D51: Vanille Vrac 6x430g FR | E51: 42572 | F51: 25390 | G51: UDB | H51: =VLOOKUP(A51,Lignes!A:B,2,0) -> T1 GMS | I51: =E51 -> 42572
A52: WMPS-MENA_0805_008 | B52: 1639541023 | C52: 12297503 | D52: Citron Mrg Vrac 6x430g FR | E52: 42572 | F52: 26667 | G52: UDB | H52: =VLOOKUP(A52,Lignes!A:B,2,0) -> T1 GMS | I52: =E52 -> 42572
A53: WMPS-T2_0805_008 | B53: 1639539151 | C53: 12298001 | D53: Choc Crtn Van Choc 16x110ml N1 DE | E53: 42562 | F53: 0 | H53: =VLOOKUP(A53,Lignes!A:B,2,0) -> T2 | I53: =E53 -> 42562
A54: WMPS-T2_0805_008 | B54: 1639539151 | C54: 12298001 | D54: Choc Crtn Van Choc 16x110ml N1 DE | E54: 42562 | F54: 328947 | G54: UDB | H54: =VLOOKUP(A54,Lignes!A:B,2,0) -> T2 | I54: =E54 -> 42562
A55: WMPS-T2_0805_008 | B55: 1639539154 | C55: 12298001 | D55: Choc Crtn Van Choc 16x110ml N1 DE | E55: 42562 | F55: 0 | H55: =VLOOKUP(A55,Lignes!A:B,2,0) -> T2 | I55: =E55 -> 42562
A56: WMPS-T2_0805_008 | B56: 1639539154 | C56: 12298001 | D56: Choc Crtn Van Choc 16x110ml N1 DE | E56: 42562 | F56: 80144 | G56: UDB | H56: =VLOOKUP(A56,Lignes!A:B,2,0) -> T2 | I56: =E56 -> 42562
A57: WMPS-T2_0805_008 | B57: 992369371793 | C57: DOWN_0805_T2DOSA | D57: DOWN_0805_T2DOSA | E57: 42562 | F57: 1 | G57: MIN | H57: =VLOOKUP(A57,Lignes!A:B,2,0) -> T2 | I57: =E57 -> 42562
A58: WMPS-T2_0805_008 | B58: 1639541019 | C58: 12297781 | D58: Van NPc + Cnc 7(8x39g) FR | E58: 42569 | F58: 0 | H58: =VLOOKUP(A58,Lignes!A:B,2,0) -> T2 | I58: =E58 -> 42569
A59: WMPS-T2_0805_008 | B59: 1639541019 | C59: 12297781 | D59: Van NPc + Cnc 7(8x39g) FR | E59: 42569 | F59: 59444 | G59: UDB | H59: =VLOOKUP(A59,Lignes!A:B,2,0) -> T2 | I59: =E59 -> 42569
A60: WMPS-T2_0805_008 | B60: 992369371778 | C60: DOWN_0805_T2DOSA | D60: DOWN_0805_T2DOSA | E60: 42569 | F60: 480 | G60: MIN | H60: =VLOOKUP(A60,Lignes!A:B,2,0) -> T2 | I60: =E60 -> 42569
A61: WMPS-T2_0805_008 | B61: 1639541018 | C61: 12297781 | D61: Van NPc + Cnc 7(8x39g) FR | E61: 42570 | F61: 0 | H61: =VLOOKUP(A61,Lignes!A:B,2,0) -> T2 | I61: =E61 -> 42570
A62: WMPS-T2_0805_008 | B62: 1639541018 | C62: 12297781 | D62: Van NPc + Cnc 7(8x39g) FR | E62: 42570 | F62: 28056 | G62: UDB | H62: =VLOOKUP(A62,Lignes!A:B,2,0) -> T2 | I62: =E62 -> 42570
A63: WMPS-T2_0805_008 | B63: 1639541022 | C63: 12297749 | D63: Van NPc + Cnc 7(8x39g) FR | E63: 42571 | F63: 0 | H63: =VLOOKUP(A63,Lignes!A:B,2,0) -> T2 | I63: =E63 -> 42571
A64: WMPS-T2_0805_008 | B64: 1639541022 | C64: 12297749 | D64: Van NPc + Cnc 7(8x39g) FR | E64: 42571 | F64: 59535 | G64: UDB | H64: =VLOOKUP(A64,Lignes!A:B,2,0) -> T2 | I64: =E64 -> 42571
A65: WMPS-T2_0805_008 | B65: 1639541021 | C65: 12297749 | D65: Van NPc + Cnc 7(8x39g) FR | E65: 42572 | F65: 0 | H65: =VLOOKUP(A65,Lignes!A:B,2,0) -> T2 | I65: =E65 -> 42572
A66: WMPS-T2_0805_008 | B66: 1639541021 | C66: 12297749 | D66: Van NPc + Cnc 7(8x39g) FR | E66: 42572 | F66: 59535 | G66: UDB | H66: =VLOOKUP(A66,Lignes!A:B,2,0) -> T2 | I66: =E66 -> 42572
A67: WMPS-T2_0805_008 | B67: 1639541020 | C67: 12297749 | D67: Van NPc + Cnc 7(8x39g) FR | E67: 42573 | F67: 56205 | G67: UDB | H67: =VLOOKUP(A67,Lignes!A:B,2,0) -> T2 | I67: =E67 -> 42573
A68: WMPS-T2_0805_008 | B68: 1639541020 | C68: 12297749 | D68: Van NPc + Cnc 7(8x39g) FR | E68: 42573 | F68: 0 | H68: =VLOOKUP(A68,Lignes!A:B,2,0) -> T2 | I68: =E68 -> 42573
A69: WMPS-T7_0805_008 | B69: 992369269926 | C69: DOWN_0805_T7DOSA | D69: DOWN_0805_T7DOSA | E69: 42555 | F69: 1 | G69: MIN | H69: =VLOOKUP(A69,Lignes!A:B,2,0) -> T7 | I69: =E69 -> 42555
A70: WMPS-T7_0805_008 | B70: 20809399 | C70: 1662999 | D70: Menthe Chocolat 6(6x71g) FR | E70: 42557 | F70: 0 | H70: =VLOOKUP(A70,Lignes!A:B,2,0) -> T7 | I70: =E70 -> 42557
A71: WMPS-T7_0805_008 | B71: 20807459 | C71: 12262322 | D71: Chocolat 6(6x71g) FR | E71: 42557 | F71: 0 | H71: =VLOOKUP(A71,Lignes!A:B,2,0) -> T7 | I71: =E71 -> 42557
A72: WMPS-T7_0805_008 | B72: 20807459 | C72: 12262322 | D72: Chocolat 6(6x71g) FR | E72: 42557 | F72: 36665 | G72: UDB | H72: =VLOOKUP(A72,Lignes!A:B,2,0) -> T7 | I72: =E72 -> 42557
A73: WMPS-T7_0805_008 | B73: 992392883704 | C73: DOWN_0805_T7DOSA | D73: DOWN_0805_T7DOSA | E73: 42557 | F73: 30 | G73: MIN | H73: =VLOOKUP(A73,Lignes!A:B,2,0) -> T7 | I73: =E73 -> 42557
A74: WMPS-T7_0805_008 | B74: 20809399 | C74: 1662999 | D74: EXTREME GC Menthe Chocolat 6(6x71g) FR | E74: 42558 | F74: 103482 | G74: UDB | H74: =VLOOKUP(A74,Lignes!A:B,2,0) -> T7 | I74: =E74 -> 42558
A75: WMPS-T7_0805_008 | B75: 20809398 | C75: 1662999 | D75: EXTREME GC Menthe Chocolat 6(6x71g) FR | E75: 42558 | F75: 0 | H75: =VLOOKUP(A75,Lignes!A:B,2,0) -> T7 | I75: =E75 -> 42558
A76: WMPS-T7_0805_008 | B76: 20809398 | C76: 1662999 | D76: EXTREME GC Menthe Chocolat 6(6x71g) FR | E76: 42558 | F76: 12853 | G76: UDB | H76: =VLOOKUP(A76,Lignes!A:B,2,0) -> T7 | I76: =E76 -> 42558
A77: WMPS-T7_0805_008 | B77: 1637430895 | C77: 1663000 | D77: Rhum Raisins 6(6x71g) FR | E77: 42558 | F77: 0 | H77: =VLOOKUP(A77,Lignes!A:B,2,0) -> T7 | I77: =E77 -> 42558
A78: WMPS-T7_0805_008 | B78: 1637430895 | C78: 1663000 | D78: Rhum Raisins 6(6x71g) FR | E78: 42559 | F78: 109135 | G78: UDB | H78: =VLOOKUP(A78,Lignes!A:B,2,0) -> T7 | I78: =E78 -> 42559
A79: WMPS-T7_0805_008 | B79: 1637430894 | C79: 1663000 | D79: Rhum Raisins 6(6x71g) FR | E79: 42559 | F79: 23476 | G79: UDB | H79: =VLOOKUP(A79,Lignes!A:B,2,0) -> T7 | I79: =E79 -> 42559
A80: WMPS-T7_0805_008 | B80: 1637430894 | C80: 1663000 | D80: Rhum Raisins 6(6x71g) FR | E80: 42559 | F80: 0 | H80: =VLOOKUP(A80,Lignes!A:B,2,0) -> T7 | I80: =E80 -> 42559
A81: WMPS-T7_0805_008 | B81: 1639541050 | C81: 1662998 | D81: Fraise Van Sce FrtR 6(6x71g) FR | E81: 42569 | F81: 0 | H81: =VLOOKUP(A81,Lignes!A:B,2,0) -> T7 | I81: =E81 -> 42569
A82: WMPS-T7_0805_008 | B82: 1639541050 | C82: 1662998 | D82: Fraise Van Sce FrtR 6(6x71g) FR | E82: 42569 | F82: 99907 | G82: UDB | H82: =VLOOKUP(A82,Lignes!A:B,2,0) -> T7 | I82: =E82 -> 42569
A83: WMPS-T7_0805_008 | B83: 992369269927 | C83: DOWN_0805_T7DOSA | D83: DOWN_0805_T7DOSA | E83: 42569 | F83: 1 | G83: MIN | H83: =VLOOKUP(A83,Lignes!A:B,2,0) -> T7 | I83: =E83 -> 42569
A84: WMPS-T7_0805_008 | B84: 1639541049 | C84: 1662998 | D84: Fraise Van Sce FrtR 6(6x71g) FR | E84: 42570 | F84: 0 | H84: =VLOOKUP(A84,Lignes!A:B,2,0) -> T7 | I84: =E84 -> 42570
A85: WMPS-T7_0805_008 | B85: 1639541049 | C85: 1662998 | D85: Fraise Van Sce FrtR 6(6x71g) FR | E85: 42570 | F85: 32043 | G85: UDB | H85: =VLOOKUP(A85,Lignes!A:B,2,0) -> T7 | I85: =E85 -> 42570
A86: WMPS-T7_0805_008 | B86: 1639541048 | C86: 12026491 | D86: Crème Brulée 6(6x71g) FR | E86: 42570 | F86: 0 | H86: =VLOOKUP(A86,Lignes!A:B,2,0) -> T7 | I86: =E86 -> 42570
A87: WMPS-T7_0805_008 | B87: 1639541048 | C87: 12026491 | D87: Crème Brulée 6(6x71g) FR | E87: 42570 | F87: 76392 | G87: UDB | H87: =VLOOKUP(A87,Lignes!A:B,2,0) -> T7 | I87: =E87 -> 42570
A88: WMPS-T7_0805_008 | B88: 1639539674 | C88: 12262321 | D88: Vanille 6(6x71g) FR | E88: 42571 | F88: 0 | H88: =VLOOKUP(A88,Lignes!A:B,2,0) -> T7 | I88: =E88 -> 42571
A89: WMPS-T7_0805_008 | B89: 1639539674 | C89: 12262321 | D89: Vanille 6(6x71g) FR | E89: 42571 | F89: 110645 | G89: UDB | H89: =VLOOKUP(A89,Lignes!A:B,2,0) -> T7 | I89: =E89 -> 42571
A90: WMPS-T7_0805_008 | B90: 1639541047 | C90: 12026902 | D90: Café 6(6x71g) FR | E90: 42572 | F90: 0 | H90: =VLOOKUP(A90,Lignes!A:B,2,0) -> T7 | I90: =E90 -> 42572
A91: WMPS-T7_0805_008 | B91: 1639541047 | C91: 12026902 | D91: Café 6(6x71g) FR | E91: 42572 | F91: 79014 | G91: UDB | H91: =VLOOKUP(A91,Lignes!A:B,2,0) -> T7 | I91: =E91 -> 42572
A92: WMPS-T7_0805_008 | B92: 1639541034 | C92: 12262321 | D92: Vanille 6(6x71g) FR | E92: 42572 | F92: 0 | H92: =VLOOKUP(A92,Lignes!A:B,2,0) -> T7 | I92: =E92 -> 42572
A93: WMPS-T7_0805_008 | B93: 1639541034 | C93: 12262321 | D93: Vanille 6(6x71g) FR | E93: 42572 | F93: 53578 | G93: UDB | H93: =VLOOKUP(A93,Lignes!A:B,2,0) -> T7 | I93: =E93 -> 42572
A94: WMPS-T7_0805_008 | B94: 1639541046 | C94: 12026902 | D94: Café 6(6x71g) FR | E94: 42573 | F94: 0 | H94: =VLOOKUP(A94,Lignes!A:B,2,0) -> T7 | I94: =E94 -> 42573
A95: WMPS-T7_0805_008 | B95: 1639541046 | C95: 12026902 | D95: Café 6(6x71g) FR | E95: 42573 | F95: 33843 | G95: UDB | H95: =VLOOKUP(A95,Lignes!A:B,2,0) -> T7 | I95: =E95 -> 42573
A96: WMPS-T7_0805_008 | B96: 1639541045 | C96: 12035261 | D96: Chocolat Pistch 6(6x71g) FR | E96: 42573 | F96: 0 | H96: =VLOOKUP(A96,Lignes!A:B,2,0) -> T7 | I96: =E96 -> 42573
A97: WMPS-T7_0805_008 | B97: 1639541045 | C97: 12035261 | D97: Chocolat Pistch 6(6x71g) FR | E97: 42573 | F97: 69838 | G97: UDB | H97: =VLOOKUP(A97,Lignes!A:B,2,0) -> T7 | I97: =E97 -> 42573
A98: WMPS-T7_0805_008 | B98: 5000131262 | C98: 101185765 | D98: Essai Ligne GA | E98: 42574 | F98: 0 | H98: =VLOOKUP(A98,Lignes!A:B,2,0) -> T7 | I98: =E98 -> 42574
A99: WMPS-T7_0805_008 | B99: 5000131262 | C99: 101185765 | D99: Essai Ligne GA | E99: 42574 | F99: 1 | G99: UDB | H99: =VLOOKUP(A99,Lignes!A:B,2,0) -> T7 | I99: =E99 -> 42574
H100: =VLOOKUP(A100,Lignes!A:B,2,0) -> #N/A | I100: =E100 -> 0
...

Sheet POs HALB
A1: Ordre | B1: N°OrdOriBe | C1: Produit | D1: Désignation du produit | E1: HreDébutOr | F1: HreFin Ord | G1: QtéRequise | H1: Entr./bes. | I1: UQB | J1: DteDébutOr | K1: DteFinOrdr | L1: PF | M1: Libellé | N1: Ligne | O1: Heure PO | P1: PO en tonne
A2: 1639547457 | B2: 1639541039 | C2: 26166045 | D2: Café Matière Grasse Laitière Mix XE | E2: 03:38:02 | F2: 10:43:19 | G2: 12800 | H2: 12800 | I2: KG | J2: 42573 | K2: 42573 | L2: =VLOOKUP(B2,Plan!B:C,2,0) -> #N/A | M2: =VLOOKUP(B2,Plan!B:D,3,0) -> #N/A | N2: =VLOOKUP(B2,Plan!B:H,7,0) -> #N/A | O2: =J2 -> 42573 | P2: =H2/1000 -> 12.8
A3: 1639547458 | B3: 1639541026 | C3: 26166045 | D3: Café Matière Grasse Laitière Mix XE | E3: 21:01:30 | F3: 03:45:22 | G3: 8555.792 | H3: 8600 | I3: KG | J3: 42570 | K3: 42571 | L3: =VLOOKUP(B3,Plan!B:C,2,0) -> 12297465 | M3: =VLOOKUP(B3,Plan!B:D,3,0) -> Café Vrac 6x430g FR | N3: =VLOOKUP(B3,Plan!B:H,7,0) -> T1 GMS | O3: =J3 -> 42570 | P3: =H3/1000 -> 8.6
A4: 1639547459 | B4: 1639541027 | C4: 26166045 | D4: Café Matière Grasse Laitière Mix XE | E4: 02:13:48 | F4: 10:36:36 | G4: 27999.928 | H4: 28000 | I4: KG | J4: 42570 | K4: 42570 | L4: =VLOOKUP(B4,Plan!B:C,2,0) -> 12297465 | M4: =VLOOKUP(B4,Plan!B:D,3,0) -> Café Vrac 6x430g FR | N4: =VLOOKUP(B4,Plan!B:H,7,0) -> T1 GMS | O4: =J4 -> 42570 | P4: =H4/1000 -> 28
A5: 1639548083 | B5: 1639541042 | C5: 43031363 | D5: Vanille Gousse MGL Mix N1 | E5: 07:44:11 | F5: 14:00:00 | G5: 3100 | H5: 3100 | I5: KG | J5: 42570 | K5: 42570 | L5: =VLOOKUP(B5,Plan!B:C,2,0) -> #N/A | M5: =VLOOKUP(B5,Plan!B:D,3,0) -> #N/A | N5: =VLOOKUP(B5,Plan!B:H,7,0) -> #N/A | O5: =J5 -> 42570 | P5: =H5/1000 -> 3.1
A6: 1639548084 | B6: 1639541041 | C6: 43031363 | D6: Vanille Gousse MGL Mix N1 | E6: 21:00:23 | F6: 03:58:01 | G6: 11300 | H6: 11300 | I6: KG | J6: 42570 | K6: 42571 | L6: =VLOOKUP(B6,Plan!B:C,2,0) -> #N/A | M6: =VLOOKUP(B6,Plan!B:D,3,0) -> #N/A | N6: =VLOOKUP(B6,Plan!B:H,7,0) -> #N/A | O6: =J6 -> 42570 | P6: =H6/1000 -> 11.3
A7: 1639548085 | B7: 1639540495 | C7: 43031363 | D7: Vanille Gousse MGL Mix N1 | E7: 22:05:12 | F7: 06:28:00 | G7: 28000 | H7: 28000 | I7: KG | J7: 42571 | K7: 42572 | L7: =VLOOKUP(B7,Plan!B:C,2,0) -> 12297157 | M7: =VLOOKUP(B7,Plan!B:D,3,0) -> Vanille Vrac 6x430g FR | N7: =VLOOKUP(B7,Plan!B:H,7,0) -> T1 GMS | O7: =J7 -> 42571 | P7: =H7/1000 -> 28
A8: 1639548086 | B8: 1639541029 | C8: 43031363 | D8: Vanille Gousse MGL Mix N1 | E8: 15:50:25 | F8: 22:48:33 | G8: 11354.408 | H8: 11400 | I8: KG | J8: 42572 | K8: 42572 | L8: =VLOOKUP(B8,Plan!B:C,2,0) -> 12297157 | M8: =VLOOKUP(B8,Plan!B:D,3,0) -> Vanille Vrac 6x430g FR | N8: =VLOOKUP(B8,Plan!B:H,7,0) -> T1 GMS | O8: =J8 -> 42572 | P8: =H8/1000 -> 11.4
A9: 1639547584 | B9: 1639541028 | C9: 43248841 | D9: Vanille Matière Grasse Laitière Mix | E9: 22:24:16 | F9: 22:43:08 | G9: 3700 | H9: 3700 | I9: KG | J9: 42569 | K9: 42569 | L9: =VLOOKUP(B9,Plan!B:C,2,0) -> 12297159 | M9: =VLOOKUP(B9,Plan!B:D,3,0) -> Vanille Amde Vr 6x430g FR | N9: =VLOOKUP(B9,Plan!B:H,7,0) -> T1 GMS | O9: =J9 -> 42569 | P9: =H9/1000 -> 3.7
A10: 1639547583 | B10: 1639541028 | C10: 43248841 | D10: Vanille Matière Grasse Laitière Mix | E10: 21:21:32 | F10: 22:43:08 | G10: 16000 | H10: 16000 | I10: KG | J10: 42569 | K10: 42569 | L10: =VLOOKUP(B10,Plan!B:C,2,0) -> 12297159 | M10: =VLOOKUP(B10,Plan!B:D,3,0) -> Vanille Amde Vr 6x430g FR | N10: =VLOOKUP(B10,Plan!B:H,7,0) -> T1 GMS | O10: =J10 -> 42569 | P10: =H10/1000 -> 16
A11: 1639548520 | B11: 1639541035 | C11: 43317387 | D11: Chocolat Matière Grasse Laitière Mix N1 | E11: 14:39:06 | F11: 20:56:57 | G11: 3406.461 | H11: 3500 | I11: KG | J11: 42573 | K11: 42573 | L11: =VLOOKUP(B11,Plan!B:C,2,0) -> #N/A | M11: =VLOOKUP(B11,Plan!B:D,3,0) -> #N/A | N11: =VLOOKUP(B11,Plan!B:H,7,0) -> #N/A | O11: =J11 -> 42573 | P11: =H11/1000 -> 3.5
A12: 1639545996 | B12: 1639541031 | C12: 43513920 | D12: Caramel Matière Grasse Végétale Mix N2 | E12: 05:21:44 | F12: 11:50:48 | G12: 5669.875 | H12: 5700 | I12: KG | J12: 42570 | K12: 42570 | L12: =VLOOKUP(B12,Plan!B:C,2,0) -> #N/A | M12: =VLOOKUP(B12,Plan!B:D,3,0) -> #N/A | N12: =VLOOKUP(B12,Plan!B:H,7,0) -> #N/A | O12: =J12 -> 42570 | P12: =H12/1000 -> 5.7
A13: 1639545997 | B13: 1639541030 | C13: 43513920 | D13: Caramel Matière Grasse Végétale Mix N2 | E13: 10:43:12 | F13: 18:19:35 | G13: 18899.74 | H13: 18900 | I13: KG | J13: 42570 | K13: 42570 | L13: =VLOOKUP(B13,Plan!B:C,2,0) -> #N/A | M13: =VLOOKUP(B13,Plan!B:D,3,0) -> #N/A | N13: =VLOOKUP(B13,Plan!B:H,7,0) -> #N/A | O13: =J13 -> 42570 | P13: =H13/1000 -> 18.9
... A51: 1639547550 | B51: 1639540926 | C51: 43569058 | D51: Pamplemousse Sorbet N2 Mix | E51: 06:24:12 | F51: 12:56:20 | G51: 6230.04 | H51: 6300 | I51: KG | J51: 42572 | K51: 42572 | L51: =VLOOKUP(B51,Plan!B:C,2,0) -> #N/A | M51: =VLOOKUP(B51,Plan!B:D,3,0) -> #N/A | N51: =VLOOKUP(B51,Plan!B:H,7,0) -> #N/A | O51: =J51 -> 42572 | P51: =H51/1000 -> 6.3
A52: 1639548899 | C52: 43597988 | D52: Yaourt Matière Grasse Végétale Mix | E52: 17:55:08 | F52: 00:29:49 | G52: 0 | H52: 6800 | I52: KG | J52: 42569 | K52: 42570 | L52: =VLOOKUP(B52,Plan!B:C,2,0) -> #N/A | M52: =VLOOKUP(B52,Plan!B:D,3,0) -> #N/A | N52: =VLOOKUP(B52,Plan!B:H,7,0) -> #N/A | O52: =J52 -> 42569 | P52: =H52/1000 -> 6.8
A53: 1639548891 | C53: 43597988 | D53: Yaourt Matière Grasse Végétale Mix | E53: 07:24:15 | F53: 14:00:58 | G53: 0 | H53: 7200 | I53: KG | J53: 42569 | K53: 42569 | L53: =VLOOKUP(B53,Plan!B:C,2,0) -> #N/A | M53: =VLOOKUP(B53,Plan!B:D,3,0) -> #N/A | N53: =VLOOKUP(B53,Plan!B:H,7,0) -> #N/A | O53: =J53 -> 42569 | P53: =H53/1000 -> 7.2
A54: 1639549553 | B54: 1639541032 | C54: 43680368 | D54: Fruits Rouges Sorbet Mix N3 | E54: 23:43:55 | F54: 00:29:49 | G54: 9000 | H54: 9000 | I54: KG | J54: 42569 | K54: 42570 | L54: =VLOOKUP(B54,Plan!B:C,2,0) -> #N/A | M54: =VLOOKUP(B54,Plan!B:D,3,0) -> #N/A | N54: =VLOOKUP(B54,Plan!B:H,7,0) -> #N/A | O54: =J54 -> 42569 | P54: =H54/1000 -> 9
A55: 1639549552 | B55: 1639541032 | C55: 43680368 | D55: Fruits Rouges Sorbet Mix N3 | E55: 13:11:30 | F55: 14:00:58 | G55: 74.679 | H55: 9700 | I55: KG | J55: 42569 | K55: 42569 | L55: =VLOOKUP(B55,Plan!B:C,2,0) -> #N/A | M55: =VLOOKUP(B55,Plan!B:D,3,0) -> #N/A | N55: =VLOOKUP(B55,Plan!B:H,7,0) -> #N/A | O55: =J55 -> 42569 | P55: =H55/1000 -> 9.7
A56: 1639549552 | B56: 1639541033 | C56: 43680368 | D56: Fruits Rouges Sorbet Mix N3 | E56: 13:11:30 | F56: 14:00:58 | G56: 9625.321 | H56: 9700 | I56: KG | J56: 42569 | K56: 42569 | L56: =VLOOKUP(B56,Plan!B:C,2,0) -> #N/A | M56: =VLOOKUP(B56,Plan!B:D,3,0) -> #N/A | N56: =VLOOKUP(B56,Plan!B:H,7,0) -> #N/A | O56: =J56 -> 42569 | P56: =H56/1000 -> 9.7
A57: 1639549609 | B57: 1639541023 | C57: 43680376 | D57: Citron Vert Sorbet Mix N3 | E57: 21:10:49 | F57: 21:47:02 | G57: 7040.088 | H57: 7100 | I57: KG | J57: 42571 | K57: 42571 | L57: =VLOOKUP(B57,Plan!B:C,2,0) -> 12297503 | M57: =VLOOKUP(B57,Plan!B:D,3,0) -> Citron Mrg Vrac 6x430g FR | N57: =VLOOKUP(B57,Plan!B:H,7,0) -> T1 GMS | O57: =J57 -> 42571 | P57: =H57/1000 -> 7.1
A58: 1639547938 | B58: 1639541024 | C58: 43682621 | D58: Yaourt Matière Grasse Laitière Mix | E58: 12:34:39 | F58: 14:09:00 | G58: 18447.839 | H58: 18500 | I58: KG | J58: 42569 | K58: 42569 | L58: =VLOOKUP(B58,Plan!B:C,2,0) -> 12297500 | M58: =VLOOKUP(B58,Plan!B:D,3,0) -> Yaourt FrtR Vr 6x430g FR | N58: =VLOOKUP(B58,Plan!B:H,7,0) -> T1 GMS | O58: =J58 -> 42569 | P58: =H58/1000 -> 18.5
A59: 1639549171 | B59: 1636768188 | C59: 43684847 | D59: Vanille Gousse MG Végétale N6 Mix | E59: 04:46:43 | F59: 06:00:09 | G59: 14344.375 | H59: 14400 | I59: KG | J59: 42570 | K59: 42570 | L59: =VLOOKUP(B59,Plan!B:C,2,0) -> #N/A | M59: =VLOOKUP(B59,Plan!B:D,3,0) -> #N/A | N59: =VLOOKUP(B59,Plan!B:H,7,0) -> #N/A | O59: =J59 -> 42570 | P59: =H59/1000 -> 14.4
A60: 1639549171 | B60: 1639343461 | C60: 43684847 | D60: Vanille Gousse MG Végétale N6 Mix | E60: 04:46:43 | F60: 06:00:09 | G60: 55.625 | H60: 14400 | I60: KG | J60: 42570 | K60: 42570 | L60: =VLOOKUP(B60,Plan!B:C,2,0) -> #N/A | M60: =VLOOKUP(B60,Plan!B:D,3,0) -> #N/A | N60: =VLOOKUP(B60,Plan!B:H,7,0) -> #N/A | O60: =J60 -> 42570 | P60: =H60/1000 -> 14.4
A61: 1639549172 | B61: 1639539674 | C61: 43684847 | D61: Vanille Gousse MG Végétale N6 Mix | E61: 04:47:13 | F61: 06:00:09 | G61: 11.25 | H61: 14300 | I61: KG | J61: 42571 | K61: 42571 | L61: =VLOOKUP(B61,Plan!B:C,2,0) -> 12262321 | M61: =VLOOKUP(B61,Plan!B:D,3,0) -> Vanille 6(6x71g) FR | N61: =VLOOKUP(B61,Plan!B:H,7,0) -> T7 | O61: =J61 -> 42571 | P61: =H61/1000 -> 14.3
A62: 1639549172 | B62: 1639343461 | C62: 43684847 | D62: Vanille Gousse MG Végétale N6 Mix | E62: 04:47:13 | F62: 06:00:09 | G62: 14288.75 | H62: 14300 | I62: KG | J62: 42571 | K62: 42571 | L62: =VLOOKUP(B62,Plan!B:C,2,0) -> #N/A | M62: =VLOOKUP(B62,Plan!B:D,3,0) -> #N/A | N62: =VLOOKUP(B62,Plan!B:H,7,0) -> #N/A | O62: =J62 -> 42571 | P62: =H62/1000 -> 14.3
A63: 1639549173 | B63: 1639541034 | C63: 43684847 | D63: Vanille Gousse MG Végétale N6 Mix | E63: 09:50:38 | F63: 10:52:21 | G63: 81.474 | H63: 12100 | I63: KG | J63: 42571 | K63: 42571 | L63: =VLOOKUP(B63,Plan!B:C,2,0) -> 12262321 | M63: =VLOOKUP(B63,Plan!B:D,3,0) -> Vanille 6(6x71g) FR | N63: =VLOOKUP(B63,Plan!B:H,7,0) -> T7 | O63: =J63 -> 42571 | P63: =H63/1000 -> 12.1
A64: 1639549173 | B64: 1639539674 | C64: 43684847 | D64: Vanille Gousse MG Végétale N6 Mix | E64: 09:50:38 | F64: 10:52:21 | G64: 12018.526 | H64: 12100 | I64: KG | J64: 42571 | K64: 42571 | L64: =VLOOKUP(B64,Plan!B:C,2,0) -> 12262321 | M64: =VLOOKUP(B64,Plan!B:D,3,0) -> Vanille 6(6x71g) FR | N64: =VLOOKUP(B64,Plan!B:H,7,0) -> T7 | O64: =J64 -> 42571 | P64: =H64/1000 -> 12.1
A65: 1639549176 | B65: 1639541044 | C65: 43684847 | D65: Vanille Gousse MG Végétale N6 Mix | E65: 10:52:30 | F65: 11:34:50 | G65: 8221.85 | H65: 8300 | I65: KG | J65: 42573 | K65: 42573 | L65: =VLOOKUP(B65,Plan!B:C,2,0) -> #N/A | M65: =VLOOKUP(B65,Plan!B:D,3,0) -> #N/A | N65: =VLOOKUP(B65,Plan!B:H,7,0) -> #N/A | O65: =J65 -> 42573 | P65: =H65/1000 -> 8.3
... A82: 1639548280 | B82: 1639541020 | C82: 43684872 | D82: Chocolat Décoration MG Végétale N3 Mix | E82: 05:16:10 | F82: 05:48:18 | G82: 6231.198 | H82: 6300 | I82: KG | J82: 42573 | K82: 42573 | L82: =VLOOKUP(B82,Plan!B:C,2,0) -> 12297749 | M82: =VLOOKUP(B82,Plan!B:D,3,0) -> Van NPc + Cnc 7(8x39g) FR | N82: =VLOOKUP(B82,Plan!B:H,7,0) -> T2 | O82: =J82 -> 42573 | P82: =H82/1000 -> 6.3
L83: =VLOOKUP(B83,Plan!B:C,2,0) -> #N/A | M83: =VLOOKUP(B83,Plan!B:D,3,0) -> #N/A | N83: =VLOOKUP(B83,Plan!B:H,7,0) -> #N/A | O83: =J83 -> 0 | P83: =H83/1000 -> 0
L84: =VLOOKUP(B84,Plan!B:C,2,0) -> #N/A | M84: =VLOOKUP(B84,Plan!B:D,3,0) -> #N/A | N84: =VLOOKUP(B84,Plan!B:H,7,0) -> #N/A | O84: =J84 -> 0 | P84: =H84/1000 -> 0
L85: =VLOOKUP(B85,Plan!B:C,2,0) -> #N/A | M85: =VLOOKUP(B85,Plan!B:D,3,0) -> #N/A | N85: =VLOOKUP(B85,Plan!B:H,7,0) -> #N/A | O85: =J85 -> 0 | P85: =H85/1000 -> 0
L86: =VLOOKUP(B86,Plan!B:C,2,0) -> #N/A | M86: =VLOOKUP(B86,Plan!B:D,3,0) -> #N/A | N86: =VLOOKUP(B86,Plan!B:H,7,0) -> #N/A | O86: =J86 -> 0 | P86: =H86/1000 -> 0
L87: =VLOOKUP(B87,Plan!B:C,2,0) -> #N/A | M87: =VLOOKUP(B87,Plan!B:D,3,0) -> #N/A | N87: =VLOOKUP(B87,Plan!B:H,7,0) -> #N/A | O87: =J87 -> 0 | P87: =H87/1000 -> 0
L88: =VLOOKUP(B88,Plan!B:C,2,0) -> #N/A | M88: =VLOOKUP(B88,Plan!B:D,3,0) -> #N/A | N88: =VLOOKUP(B88,Plan!B:H,7,0) -> #N/A | O88: =J88 -> 0 | P88: =H88/1000 -> 0
L89: =VLOOKUP(B89,Plan!B:C,2,0) -> #N/A | M89: =VLOOKUP(B89,Plan!B:D,3,0) -> #N/A | N89: =VLOOKUP(B89,Plan!B:H,7,0) -> #N/A | O89: =J89 -> 0 | P89: =H89/1000 -> 0
L90: =VLOOKUP(B90,Plan!B:C,2,0) -> #N/A | M90: =VLOOKUP(B90,Plan!B:D,3,0) -> #N/A | N90: =VLOOKUP(B90,Plan!B:H,7,0) -> #N/A | O90: =J90 -> 0 | P90: =H90/1000 -> 0
L91: =VLOOKUP(B91,Plan!B:C,2,0) -> #N/A | M91: =VLOOKUP(B91,Plan!B:D,3,0) -> #N/A | N91: =VLOOKUP(B91,Plan!B:H,7,0) -> #N/A | O91: =J91 -> 0 | P91: =H91/1000 -> 0
L92: =VLOOKUP(B92,Plan!B:C,2,0) -> #N/A | M92: =VLOOKUP(B92,Plan!B:D,3,0) -> #N/A | N92: =VLOOKUP(B92,Plan!B:H,7,0) -> #N/A | O92: =J92 -> 0 | P92: =H92/1000 -> 0
L93: =VLOOKUP(B93,Plan!B:C,2,0) -> #N/A | M93: =VLOOKUP(B93,Plan!B:D,3,0) -> #N/A | N93: =VLOOKUP(B93,Plan!B:H,7,0) -> #N/A | O93: =J93 -> 0 | P93: =H93/1000 -> 0
L94: =VLOOKUP(B94,Plan!B:C,2,0) -> #N/A | M94: =VLOOKUP(B94,Plan!B:D,3,0) -> #N/A | N94: =VLOOKUP(B94,Plan!B:H,7,0) -> #N/A | O94: =J94 -> 0 | P94: =H94/1000 -> 0
... L1073: =VLOOKUP(B1073,Plan!B:C,2,0) -> #N/A | M1073: =VLOOKUP(B1073,Plan!B:D,3,0) -> #N/A | N1073: =VLOOKUP(B1073,Plan!B:H,7,0) -> #N/A | O1073: =J1073 -> 0 | P1073: =H1073/1000 -> 0

Sheet Synthèse besoin
A3: Somme de Entr./bes. | G3: Étiquettes de colonnes
A4: Étiquettes de lignes | B4: Heure PO | C4: PF | D4: Libellé | E4: Produit | F4: Désignation du produit | G4: 42569 | H4: 42570 | I4: 42571 | J4: 42572 | K4: 42573
A5: T2 | B5: 42573 | C5: 12297749 | D5: Van NPc + Cnc 7(8x39g) FR | E5: 43684870 | F5: Vanille Décoration MG Végétale N3 Mix | K5: 6300
E6: 43684872 | F6: Chocolat Décoration MG Végétale N3 Mix | K6: 6300
B7: 42570 | C7: 12297781 | D7: Van NPc + Cnc 7(8x39g) FR | E7: 43517383 | F7: Nata Matière Grasse Végétale Mix N2 | H7: 2900
E8: 43684870 | F8: Vanille Décoration MG Végétale N3 Mix | H8: 2900
C9: 12297749 | D9: Van NPc + Cnc 7(8x39g) FR | E9: 43684870 | F9: Vanille Décoration MG Végétale N3 Mix | H9: 2900
B10: 42571 | C10: 12297749 | D10: Van NPc + Cnc 7(8x39g) FR | E10: 43684870 | F10: Vanille Décoration MG Végétale N3 Mix | I10: 13400
E11: 43684872 | F11: Chocolat Décoration MG Végétale N3 Mix | I11: 6700
B12: 42572 | C12: 12297749 | D12: Van NPc + Cnc 7(8x39g) FR | E12: 43684870 | F12: Vanille Décoration MG Végétale N3 Mix | J12: 13400
E13: 43684872 | F13: Chocolat Décoration MG Végétale N3 Mix | J13: 13600
B14: 42569 | C14: 12297781 | D14: Van NPc + Cnc 7(8x39g) FR | E14: 43517383 | F14: Nata Matière Grasse Végétale Mix N2 | G14: 6100
E15: 43684870 | F15: Vanille Décoration MG Végétale N3 Mix | G15: 12400
A16: T1 GMS | B16: 42570 | C16: 12297465 | D16: Café Vrac 6x430g FR | E16: 26166045 | F16: Café Matière Grasse Laitière Mix XE | H16: 36600
B17: 42571 | C17: 12297157 | D17: Vanille Vrac 6x430g FR | E17: 43031363 | F17: Vanille Gousse MGL Mix N1 | I17: 28000
C18: 12297466 | D18: Caramel Vrac 6x430g FR | E18: 43514862 | F18: Caramel MG Laitière Mix N2 | I18: 20100
C19: 12297503 | D19: Citron Mrg Vrac 6x430g FR | E19: 43517383 | F19: Nata Matière Grasse Végétale Mix N2 | I19: 6000
E20: 43680376 | F20: Citron Vert Sorbet Mix N3 | I20: 7100
B21: 42572 | C21: 12297157 | D21: Vanille Vrac 6x430g FR | E21: 43031363 | F21: Vanille Gousse MGL Mix N1 | J21: 11400
B22: 42569 | C22: 12297159 | D22: Vanille Amde Vr 6x430g FR | E22: 43248841 | F22: Vanille Matière Grasse Laitière Mix | G22: 19700
C23: 12297500 | D23: Yaourt FrtR Vr 6x430g FR | E23: 43682621 | F23: Yaourt Matière Grasse Laitière Mix | G23: 18500
A24: Total général | G24: 56700 | H24: 45300 | I24: 81300 | J24: 38400 | K24: 12600

Sheet Fab mix LUNDI
A1: Fabrication des mixs (feuille journalière)
A3: Pour fabrication du : | H3: Quantième du jour : | K3: =D3-DATE(YEAR(D3),1,0) -> 0
A5: Ligne | B5: N° Tank | C5: N° PO | D5: Référence mix | E5: Désignation mix | F5: Quantité Mix | H5: Recyclage Fonds de cuves | J5: Date&Heure du besoin sur ligne | K5: Observation
F6: Planifiée (Kg) | G6: Obtenue (Kg) | H6: Quantité | I6: N° Cuve

Sheet Lignes
A1: Ressource | B1: Ligne
A2: WMPS-GYRO_0805_008 | B2: Buches
A3: WMPS-MENA_0805_008 | B3: T1 GMS
A4: WMPS-T2_0805_008 | B4: T2
A5: WMPS-T3_0805_008 | B5: Pots
A6: WMPS-T7_0805_008 | B6: T7
A7: WMPS-T8_0805_008 | B7: T8
A8: WRHFDOSA_0805_008 | B8: T1 RHF
A9: WT6DOSA_0805_008 | B9: T6
A10: WPASTO1_0805_008 | B10: PASTO
A11: WPASTO2_0805_008 | B11: PASTO
