Workbook
Name ATJ: Listes!$G$9:$G$10
Name ATV: Listes!$G$2:$G$7
Name CamembertAT: "Groupe 3090"

Sheet Keolis
A2: Keolis
H3: réseau urbain | M3: X | N3: interurbain
Q4: 2016 | S4: 2017 | T4: 2018 | U4: 2019 | V4: 2020 | W4: 2021 | X4: 2022
I5: Nbre H travaillées | J5: Nbre AT | K5: Nbre jours | L5: Taux de fréquence | M5: Taux de gravité | P5: Taux AT/MP | U5: NA | V5: NA | W5: 0.031 | X5: 0.032
C6: Nombre d'accidents du travail : | F6: =COUNTIFS(INDIRECT(CONCATENATE("$G$18:$G$",MATCH(9^9,A:A,1))),"Accident de travail",INDIRECT(CONCATENATE("$H$18:$H$",MATCH(9^9,A:A,1))),"<>Sous-traitant",INDIRECT(CONCATENATE("$N$18:$N$",MATCH(9^9,A:A,1))),"<>Rechute") -> 1 | H6: Accueil commercial | J6: =COUNTIFS(INDIRECT(CONCATENATE("$G$18:$G$",MATCH(9^9,A:A,1))),"Accident de travail",INDIRECT(CONCATENATE("$H$18:$H$",MATCH(9^9,A:A,1))),$H6,INDIRECT(CONCATENATE("$N$18:$N$",MATCH(9^9,A:A,1))),"<>Rechute") -> 0 | K6: =SUMIFS(INDIRECT(CONCATENATE("$Q$18:$Q$",MATCH(9^9,A:A,1))),INDIRECT(CONCATENATE("$G$18:$G$",MATCH(9^9,A:A,1))),"Accident de travail",INDIRECT(CONCATENATE("$H$18:$H$",MATCH(9^9,A:A,1))),$H6) -> 0 | L6: =IF(OR(I6="",I6=0),"",J6*1000000/I6) | M6: =IF(OR(I6="",I6=0),"",K6*1000/I6) | P6: Montants AT/MP | U6: NA | V6: NA | W6: NA
C7: Nombre de jours d'arrêt : | F7: =SUMIFS(INDIRECT(CONCATENATE("$Q$18:$Q$",MATCH(9^9,A:A,1))),INDIRECT(CONCATENATE("$G$18:$G$",MATCH(9^9,A:A,1))),"Accident de travail",INDIRECT(CONCATENATE("$H$18:$H$",MATCH(9^9,A:A,1))),"<>Sous-traitant") -> 3 | H7: Administratif | J7: =COUNTIFS(INDIRECT(CONCATENATE("$G$18:$G$",MATCH(9^9,A:A,1))),"Accident de travail",INDIRECT(CONCATENATE("$H$18:$H$",MATCH(9^9,A:A,1))),$H7,INDIRECT(CONCATENATE("$N$18:$N$",MATCH(9^9,A:A,1))),"<>Rechute") -> 1 | K7: =SUMIFS(INDIRECT(CONCATENATE("$Q$18:$Q$",MATCH(9^9,A:A,1))),INDIRECT(CONCATENATE("$G$18:$G$",MATCH(9^9,A:A,1))),"Accident de travail",INDIRECT(CONCATENATE("$H$18:$H$",MATCH(9^9,A:A,1))),$H7) -> 3 | L7: =IF(OR(I7="",I7=0),"",J7*1000000/I7) | M7: =IF(OR(I7="",I7=0),"",K7*1000/I7)
D8: Nombre de salarié : | F8: 70 | H8: Carrossier | J8: =COUNTIFS(INDIRECT(CONCATENATE("$G$18:$G$",MATCH(9^9,A:A,1))),"Accident de travail",INDIRECT(CONCATENATE("$H$18:$H$",MATCH(9^9,A:A,1))),$H8,INDIRECT(CONCATENATE("$N$18:$N$",MATCH(9^9,A:A,1))),"<>Rechute") -> 0 | K8: =SUMIFS(INDIRECT(CONCATENATE("$Q$18:$Q$",MATCH(9^9,A:A,1))),INDIRECT(CONCATENATE("$G$18:$G$",MATCH(9^9,A:A,1))),"Accident de travail",INDIRECT(CONCATENATE("$H$18:$H$",MATCH(9^9,A:A,1))),$H8) -> 0 | L8: =IF(OR(I8="",I8=0),"",J8*1000000/I8) | M8: =IF(OR(I8="",I8=0),"",K8*1000/I8)
H9: Conducteur | J9: =COUNTIFS(INDIRECT(CONCATENATE("$G$18:$G$",MATCH(9^9,A:A,1))),"Accident de travail",INDIRECT(CONCATENATE("$H$18:$H$",MATCH(9^9,A:A,1))),$H9,INDIRECT(CONCATENATE("$N$18:$N$",MATCH(9^9,A:A,1))),"<>Rechute") -> 0 | K9: =SUMIFS(INDIRECT(CONCATENATE("$Q$18:$Q$",MATCH(9^9,A:A,1))),INDIRECT(CONCATENATE("$G$18:$G$",MATCH(9^9,A:A,1))),"Accident de travail",INDIRECT(CONCATENATE("$H$18:$H$",MATCH(9^9,A:A,1))),$H9) -> 0 | L9: =IF(OR(I9="",I9=0),"",J9*1000000/I9) | M9: =IF(OR(I9="",I9=0),"",K9*1000/I9)
H10: Mécanicien | J10: =COUNTIFS(INDIRECT(CONCATENATE("$G$18:$G$",MATCH(9^9,A:A,1))),"Accident de travail",INDIRECT(CONCATENATE("$H$18:$H$",MATCH(9^9,A:A,1))),$H10,INDIRECT(CONCATENATE("$N$18:$N$",MATCH(9^9,A:A,1))),"<>Rechute") -> 0 | K10: =SUMIFS(INDIRECT(CONCATENATE("$Q$18:$Q$",MATCH(9^9,A:A,1))),INDIRECT(CONCATENATE("$G$18:$G$",MATCH(9^9,A:A,1))),"Accident de travail",INDIRECT(CONCATENATE("$H$18:$H$",MATCH(9^9,A:A,1))),$H10) -> 0 | L10: =IF(OR(I10="",I10=0),"",J10*1000000/I10) | M10: =IF(OR(I10="",I10=0),"",K10*1000/I10)
H11: Sous-traitant | J11: =COUNTIFS(INDIRECT(CONCATENATE("$G$18:$G$",MATCH(9^9,A:A,1))),"Accident de travail",INDIRECT(CONCATENATE("$H$18:$H$",MATCH(9^9,A:A,1))),$H11,INDIRECT(CONCATENATE("$N$18:$N$",MATCH(9^9,A:A,1))),"<>Rechute") -> 0 | K11: =SUMIFS(INDIRECT(CONCATENATE("$Q$18:$Q$",MATCH(9^9,A:A,1))),INDIRECT(CONCATENATE("$G$18:$G$",MATCH(9^9,A:A,1))),"Accident de travail",INDIRECT(CONCATENATE("$H$18:$H$",MATCH(9^9,A:A,1))),$H11) -> 0 | L11: =IF(OR(I11="",I11=0),"",J11*1000000/I11) | M11: =IF(OR(I11="",I11=0),"",K11*1000/I11)
H12: Total | I12: =SUM(I6:I11) -> 0 | J12: =SUM(J6:J10) -> 1 | K12: =SUM(K6:K11) -> 3 | L12: =IF(OR(I12="",I12=0),"",J12*1000000/I12) | M12: =IF(OR(I12="",I12=0),"",K12*1000/I12)
O15: Si arrêt ou rechute
A16: DATE déclaration | B16: Jour | C16: Heure | D16: Nom | E16: Prénom | F16: Tranche d'âge | G16: Type d'accident | H16: Poste | I16: Contrat | J16: Lieu | K16: Nature des lésions | L16: Siège des lésions | M16: Elément matériel | N16: Arrêt de travail | O16: date de début | P16: date de fin | Q16: Nombre de jours d'arrêt | R16: Nombre de semaine | S16: Date de reprise du travail | T16: Nombre de jours perdus | U16: Analyse de l'AT | V16: Date d'obtention/envoi du certificat AT initial | W16: Date de déclaration accident à la CPAM | X16: Date de reconnaissance de l'AT par la CPAM | Y16: Lettre de réserve | Z16: Contestation | AA16: Circonstances
A17: 42370 | B17: =IF(A17="","",TEXT(A17,"jjjj")) -> vendredi | C17: 14h00-14h30 | D17: TOTO | E17: KIKI | F17: 31-35 (12 salariés) | G17: Accident de travail | H17: Administratif | I17: CDI | J17: Bureaux et locaux | K17: Contusion | L17: Membres supérieurs | M17: Objets en cours de transport | N17: Oui | O17: 42610 | P17: 42613 | Q17: =IF(O17="","",P17-O17) -> 3 | R17: =IF(Tableau2[[#This Row],[date de début]]="","",INT((Tableau2[[#This Row],[date de fin]]-Tableau2[[#This Row],[date de début]])/7)) -> 0 | S17: 42614 | T17: =IF(S17="","",(S17)-(A17+1)) -> 243 | U17: 0 - Pas d'analyse
B18: =IF(A18="","",TEXT(A18,"jjjj")) | Q18: =IF(O18="","",P18-O18) | R18: =IF(Tableau2[[#This Row],[date de début]]="","",INT((Tableau2[[#This Row],[date de fin]]-Tableau2[[#This Row],[date de début]])/7)) | T18: =IF(S18="","",(S18)-(A18+1))
B19: =IF(A19="","",TEXT(A19,"jjjj")) | Q19: =IF(O19="","",P19-O19) | R19: =IF(Tableau2[[#This Row],[date de début]]="","",INT((Tableau2[[#This Row],[date de fin]]-Tableau2[[#This Row],[date de début]])/7)) | T19: =IF(S19="","",(S19)-(A19+1))
B20: =IF(A20="","",TEXT(A20,"jjjj")) | Q20: =IF(O20="","",P20-O20) | R20: =IF(Tableau2[[#This Row],[date de début]]="","",INT((Tableau2[[#This Row],[date de fin]]-Tableau2[[#This Row],[date de début]])/7)) | T20: =IF(S20="","",(S20)-(A20+1))
B21: =IF(A21="","",TEXT(A21,"jjjj")) | Q21: =IF(O21="","",P21-O21) | R21: =IF(Tableau2[[#This Row],[date de début]]="","",INT((Tableau2[[#This Row],[date de fin]]-Tableau2[[#This Row],[date de début]])/7)) | T21: =IF(S21="","",(S21)-(A21+1))
B22: =IF(A22="","",TEXT(A22,"jjjj")) | Q22: =IF(O22="","",P22-O22) | R22: =IF(Tableau2[[#This Row],[date de début]]="","",INT((Tableau2[[#This Row],[date de fin]]-Tableau2[[#This Row],[date de début]])/7)) | T22: =IF(S22="","",(S22)-(A22+1))
B23: =IF(A23="","",TEXT(A23,"jjjj")) | Q23: =IF(O23="","",P23-O23) | R23: =IF(Tableau2[[#This Row],[date de début]]="","",INT((Tableau2[[#This Row],[date de fin]]-Tableau2[[#This Row],[date de début]])/7)) | T23: =IF(S23="","",(S23)-(A23+1))
B24: =IF(A24="","",TEXT(A24,"jjjj")) | Q24: =IF(O24="","",P24-O24) | R24: =IF(Tableau2[[#This Row],[date de début]]="","",INT((Tableau2[[#This Row],[date de fin]]-Tableau2[[#This Row],[date de début]])/7)) | T24: =IF(S24="","",(S24)-(A24+1))
B25: =IF(A25="","",TEXT(A25,"jjjj")) | O25: =IF(N25-M25=0,"",N25-M25-1) | Q25: =IF(O25="","",P25-O25) | R25: =IF(Tableau2[[#This Row],[date de début]]="","",INT((Tableau2[[#This Row],[date de fin]]-Tableau2[[#This Row],[date de début]])/7)) | T25: =IF(S25="","",(S25)-(A25+1))
B26: =IF(A26="","",TEXT(A26,"jjjj")) | O26: =IF(N26-M26=0,"",N26-M26-1) | Q26: =IF(O26="","",P26-O26) | R26: =IF(Tableau2[[#This Row],[date de début]]="","",INT((Tableau2[[#This Row],[date de fin]]-Tableau2[[#This Row],[date de début]])/7)) | T26: =IF(S26="","",(S26)-(A26+1))
B27: =IF(A27="","",TEXT(A27,"jjjj")) | O27: =IF(N27-M27=0,"",N27-M27-1) | Q27: =IF(O27="","",P27-O27) | R27: =IF(Tableau2[[#This Row],[date de début]]="","",INT((Tableau2[[#This Row],[date de fin]]-Tableau2[[#This Row],[date de début]])/7)) | T27: =IF(S27="","",(S27)-(A27+1))
B28: =IF(A28="","",TEXT(A28,"jjjj")) | O28: =IF(N28-M28=0,"",N28-M28-1) | Q28: =IF(O28="","",P28-O28) | R28: =IF(Tableau2[[#This Row],[date de début]]="","",INT((Tableau2[[#This Row],[date de fin]]-Tableau2[[#This Row],[date de début]])/7)) | T28: =IF(S28="","",(S28)-(A28+1))
B29: =IF(A29="","",TEXT(A29,"jjjj")) | O29: =IF(N29-M29=0,"",N29-M29-1) | Q29: =IF(O29="","",P29-O29) | R29: =IF(Tableau2[[#This Row],[date de début]]="","",INT((Tableau2[[#This Row],[date de fin]]-Tableau2[[#This Row],[date de début]])/7)) | T29: =IF(S29="","",(S29)-(A29+1))
B30: =IF(A30="","",TEXT(A30,"jjjj")) | O30: =IF(N30-M30=0,"",N30-M30-1) | Q30: =IF(O30="","",P30-O30) | R30: =IF(Tableau2[[#This Row],[date de début]]="","",INT((Tableau2[[#This Row],[date de fin]]-Tableau2[[#This Row],[date de début]])/7)) | T30: =IF(S30="","",(S30)-(A30+1))
B31: =IF(A31="","",TEXT(A31,"jjjj")) | O31: =IF(N31-M31=0,"",N31-M31-1) | Q31: =IF(O31="","",P31-O31) | R31: =IF(Tableau2[[#This Row],[date de début]]="","",INT((Tableau2[[#This Row],[date de fin]]-Tableau2[[#This Row],[date de début]])/7)) | T31: =IF(S31="","",(S31)-(A31+1))
B32: =IF(A32="","",TEXT(A32,"jjjj")) | O32: =IF(N32-M32=0,"",N32-M32-1) | Q32: =IF(O32="","",P32-O32) | R32: =IF(Tableau2[[#This Row],[date de début]]="","",INT((Tableau2[[#This Row],[date de fin]]-Tableau2[[#This Row],[date de début]])/7)) | T32: =IF(S32="","",(S32)-(A32+1))
B33: =IF(A33="","",TEXT(A33,"jjjj")) | O33: =IF(N33-M33=0,"",N33-M33-1) | Q33: =IF(O33="","",P33-O33) | R33: =IF(Tableau2[[#This Row],[date de début]]="","",INT((Tableau2[[#This Row],[date de fin]]-Tableau2[[#This Row],[date de début]])/7)) | T33: =IF(S33="","",(S33)-(A33+1))
B34: =IF(A34="","",TEXT(A34,"jjjj")) | O34: =IF(N34-M34=0,"",N34-M34-1) | Q34: =IF(O34="","",P34-O34) | R34: =IF(Tableau2[[#This Row],[date de début]]="","",INT((Tableau2[[#This Row],[date de fin]]-Tableau2[[#This Row],[date de début]])/7)) | T34: =IF(S34="","",(S34)-(A34+1))
B35: =IF(A35="","",TEXT(A35,"jjjj")) | O35: =IF(N35-M35=0,"",N35-M35-1) | Q35: =IF(O35="","",P35-O35) | R35: =IF(Tableau2[[#This Row],[date de début]]="","",INT((Tableau2[[#This Row],[date de fin]]-Tableau2[[#This Row],[date de début]])/7)) | T35: =IF(S35="","",(S35)-(A35+1))
B36: =IF(A36="","",TEXT(A36,"jjjj")) | O36: =IF(N36-M36=0,"",N36-M36-1) | Q36: =IF(O36="","",P36-O36) | R36: =IF(Tableau2[[#This Row],[date de début]]="","",INT((Tableau2[[#This Row],[date de fin]]-Tableau2[[#This Row],[date de début]])/7)) | T36: =IF(S36="","",(S36)-(A36+1))
... B136: =IF(A136="","",TEXT(A136,"jjjj")) | O136: =IF(N136-M136=0,"",N136-M136-1) | Q136: =IF(O136="","",P136-O136) | R136: =IF(Tableau2[[#This Row],[date de début]]="","",INT((Tableau2[[#This Row],[date de fin]]-Tableau2[[#This Row],[date de début]])/7)) | T136: =IF(S136="","",(S136)-(A136+1))
Q137: =IF(O137="","",P137-O137) | R137: =IF(Tableau2[[#This Row],[date de début]]="","",INT((Tableau2[[#This Row],[date de fin]]-Tableau2[[#This Row],[date de début]])/7)) | T137: =IF(S137="","",(S137)-(A137+1))
Q138: =IF(O138="","",P138-O138) | R138: =IF(Tableau2[[#This Row],[date de début]]="","",INT((Tableau2[[#This Row],[date de fin]]-Tableau2[[#This Row],[date de début]])/7)) | T138: =IF(S138="","",(S138)-(A138+1))
Q139: =IF(O139="","",P139-O139) | R139: =IF(Tableau2[[#This Row],[date de début]]="","",INT((Tableau2[[#This Row],[date de fin]]-Tableau2[[#This Row],[date de début]])/7)) | T139: =IF(S139="","",(S139)-(A139+1))
Q140: =IF(O140="","",P140-O140) | R140: =IF(Tableau2[[#This Row],[date de début]]="","",INT((Tableau2[[#This Row],[date de fin]]-Tableau2[[#This Row],[date de début]])/7)) | T140: =IF(S140="","",(S140)-(A140+1))
Q141: =IF(O141="","",P141-O141) | R141: =IF(Tableau2[[#This Row],[date de début]]="","",INT((Tableau2[[#This Row],[date de fin]]-Tableau2[[#This Row],[date de début]])/7)) | T141: =IF(S141="","",(S141)-(A141+1))
Q142: =IF(O142="","",P142-O142) | R142: =IF(Tableau2[[#This Row],[date de début]]="","",INT((Tableau2[[#This Row],[date de fin]]-Tableau2[[#This Row],[date de début]])/7)) | T142: =IF(S142="","",(S142)-(A142+1))

Sheet Synthèse
L1: Mois | M1: Postes | P1: =Listes!$E$2 -> Accueil commercial | R1: =Listes!$E$3 -> Administratif | T1: =Listes!$E$4 -> Régulateur | V1: =Listes!$E$5 -> Conducteur | X1: =Listes!$E$6 -> Chef d'équipe / Parc | Z1: =Listes!$E$7 -> Sous-traitant | AD1: Total par jour | AG1: Pourcentage | AI1: Données Nationales | AL1: Appréciations | AN1: Tendances | AR1: Commentaires
L4: =Listes!Q2 -> janvier | AG4: =AD4/#REF! -> #REF!
L5: =Listes!Q3 -> février | AG5: =AD5/#REF! -> #REF!
L6: =Listes!Q4 -> mars | AG6: =AD6/#REF! -> #REF!
L7: =Listes!Q5 -> avril | AG7: =AD7/#REF! -> #REF!
L8: =Listes!Q6 -> mai | AG8: =AD8/#REF! -> #REF!
L9: =Listes!Q7 -> juin | AG9: =AD9/#REF! -> #REF!
L10: =Listes!Q8 -> juillet | AG10: =AD10/#REF! -> #REF!
L11: =Listes!Q9 -> août | AG11: =AD11/#REF! -> #REF!
L12: =Listes!Q10 -> septembre | AG12: =AD12/#REF! -> #REF!
L13: =Listes!Q11 -> octobre | AG13: =AD13/#REF! -> #REF!
L14: =Listes!Q12 -> novembre | AG14: =AD14/#REF! -> #REF!
L15: =Listes!Q13 -> décembre | AG15: =AD15/#REF! -> #REF!
L17: Total par poste | P17: =SUM(P4:P10) -> 0 | R17: =SUM(R4:S10) -> 0 | T17: =SUM(T4:T10) -> 0 | V17: =SUM(V4:V10) -> 0 | X17: =SUM(X4:X10) -> 0 | Z17: =SUM(Z4:Z10) -> 0 | AD17: =SUM(AD4:AD15) -> 0 | AG17: =AD17/AD17 -> #DIV/0! | AL17: J | AN17: è
L19: Appréciations | P19: J | R19: J | T19: J | V19: J | X19: J | Z19: J
L21: Tendances | P21: è | R21: è | T21: è | V21: è | X21: è | Z21: è

Sheet Listes
A1: Jour | B1: Heure | C1: Tranche d'âge | D1: Type d'accident | E1: Poste | F1: Contrat | G1: Lieux | H1: Nature des lésions | I1: Siège des lésions | J1: Elément matériel | K1: Arrêt de travail | L1: Nombre de jours d'arrêt | M1: Analyse de l'accident | N1: Lettre de réserve | O1: DU | P1: Toutes les années | Q1: Mois
A2: Lundi | B2: 00h00-00h30 | C2: 25-30 (12 salariés) | D2: Accident de travail | E2: Accueil commercial | F2: CDI | G2: Agence commerciale | H2: Amputation | I2: Main | J2: Accidents de plain-pied | K2: Oui | L2: 0 | M2: 0 - Pas d'analyse | N2: Oui | O2: Oui | P2: 2016 | Q2: janvier
A3: Mardi | B3: 00h30-01h00 | C3: 31-35 (12 salariés) | D3: Accident de trajet | E3: Administratif | F3: CDD | G3: Atelier | H3: Asphyxie | I3: Membres inférieurs | J3: Agression, rixe | K3: Non | L3: 1 | M3: 1 - Accident analysé | N3: Non | O3: Non | P3: 2017 | Q3: février
A4: Mercredi | B4: 01h00-01h30 | C4: 36-40 (11 salariés) | E4: Régulateur | F4: Intérimaire | G4: Bureaux et locaux | H4: Brulure | I4: Membres supérieurs | J4: Appareils à pression | K4: Rechute | L4: 2 | M4: 2 - Causes déterminées | P4: 2018 | Q4: mars
A5: Jeudi | B5: 01h30-02h00 | C5: 41-45 (14 salariés) | E5: Conducteur | F5: Stagiaire | G5: En service | H5: Commotion | I5: Pieds | J5: Appareils avec prod. Caustiques | K5: Prolongation | L5: 3 | M5: 3 - Actions mise en œuvre | P5: 2019 | Q5: avril
A6: Vendredi | B6: 02h00-02h30 | C6: 46-50 (9 salariés) | E6: Chef d'équipe / Parc | F6: Contrat d'apprentissage | G6: Haut le Pied | H6: Contusion | I6: Psychologique | J6: Appareils avec produits chauds | L6: 4 | M6: 4 - Actions clôturées | P6: 2020 | Q6: mai
A7: Samedi | B7: 02h30-03h00 | C7: 51-55 (10 salariés) | E7: Sous-traitant | G7: Parking dépôt | H7: Déchirures musculaires | I7: Siège interne (organe) | J7: Appareils et installation frigo | L7: 5 | M7: 5 - Actions efficace | P7: 2021 | Q7: juin
A8: Dimanche | B8: 03h00-03h30 | C8: 56-60 (10 salariés) | H8: Dermite | I8: Tête (hors yeux) | J8: Appareils, levage, manutention | L8: 6 | Q8: juillet
B9: 03h30-04h00 | C9: 61-65 (6 salariés) | G9: Domicile-Travail | H9: Douleur, lumbago | I9: Tronc | J9: Appraux, levage, amarrage | L9: 7 | Q9: août
B10: 04h00-04h30 | C10: 66-70 (2 salariés) | G10: Travail-Domicile | H10: Entorse | I10: Yeux | J10: Chutes avec dénivellation | L10: 8 | Q10: septembre
B11: 04h30-05h00 | C11: >70 | H11: Fracture ou felure | I11: Localisations multiples | J11: Electricité | L11: 9 | Q11: octobre
B12: 5h00-05h30 | H12: Gelure | I12: Dos, rachis, moelle épinière | J12: Incendie | L12: Supérieur à 10 jours | Q12: novembre
B13: 05h30-06h00 | H13: Hernie | I13: Autre | J13: Machine | Q13: décembre
B14: 06h00-06h30 | H14: Inflammation | I14: inconnue ou non précisé | J14: Matières combustibles, flamme
B15: 06h30-07h00 | H15: Intoxication | J15: Objets en cours de manipulation
B16: 07h00-07h30 | H16: Lésions nerveuses | J16: Objets en cours de transport
B17: 07h30-08h00 | H17: Luxation | J17: Objets en mouvement accidentel
B18: 08h00-08h30 | H18: Piqure | J18: Organes de transmission
B19: 08h30-09h00 | H19: Plaies (coupure … ) | J19: Outils individuels à main
B20: 09h00-09h30 | H20: Présence corps étranger | J20: Outils mécaniques tenus à la main
B21: 09h30-10h00 | H21: Psychologique | J21: Presses mécaniques et pilons
B22: 10h00-10h30 | H22: Troubles auditifs | J22: Rayonnements ionisants ou non
B23: 10h30-11h00 | H23: Troubles visuels | J23: Scies
B24: 11h00-11h30 | H24: Autres lésions | J24: Vapeurs, gaz, poussières
B25: 11h30-12h00 | J25: Véhicules (sauf char.manut)
B26: 12h00-12h30
B27: 12h30-13h00
B28: 13h00-13h30
B29: 13h30-14h00
B30: 14h00-14h30
B31: 14h30-15h00
B32: 15h00-15h30
B33: 15h30-16h00
B34: 16h00-16h30
B35: 16h30-17h00
B36: 17h00-17h30
B37: 17h30-18h00
... B49: 23h30-00h00
