Workbook

Sheet Régime de Travail
E1: Lundi | F1: Mardi | G1: Mercredi | H1: Jeudi | I1: Vendredi | J1: Samedi | K1: Dimanche | N1: Horaires :
C4: 1 | E4: R | F4: 1 | G4: 1 | H4: 1 | I4: 1 | J4: R | K4: R | O4: référence | P4: PS | Q4: FS | R4: référence | S4: PS | T4: FS
C5: 2 | E5: 2 | F5: 2 | G5: 2 | H5: 2 | I5: R | J5: R | K5: 1 | N5: Lundi | O5: 1 | P5: 0.17708333 | Q5: 0.55208333 | R5: 2 | S5: 0.56944444 | T5: 0.90625
C6: 3 | E6: 1 | F6: 1 | G6: 1 | H6: R | I6: R | J6: 2 | K6: 2 | N6: Mardi | O6: 1 | P6: 0.24305556 | Q6: 0.55208333 | R6: 2 | S6: 0.56944444 | T6: 0.90625
C7: 4 | E7: 2 | F7: 2 | G7: R | H7: R | I7: 1 | J7: 1 | K7: 1 | N7: Mercredi | O7: 1 | P7: 0.24305556 | Q7: 0.55208333 | R7: 2 | S7: 0.56944444 | T7: 0.90625
C8: 5 | E8: 1 | F8: R | G8: R | H8: 2 | I8: 2 | J8: 2 | K8: 2 | N8: Jeudi | O8: 1 | P8: 0.24305556 | Q8: 0.55208333 | R8: 2 | S8: 0.56944444 | T8: 0.90625
C9: 6 | E9: R | F9: R | G9: 1 | H9: 1 | I9: 1 | J9: 1 | K9: R | N9: Vendredi | O9: 1 | P9: 0.24305556 | Q9: 0.55208333 | R9: 2 | S9: 0.56944444 | T9: 0.90625
C10: 7 | E10: R | F10: 2 | G10: 2 | H10: 2 | I10: 2 | J10: R | K10: R | N10: Samedi | O10: 1 | P10: 0.24305556 | Q10: 0.56944444 | R10: 2 | S10: 0.56944444 | T10: 0.90625
C11: 8 | E11: 1 | F11: 1 | G11: 1 | H11: 1 | I11: D | J11: R | K11: R | N11: Dimanche | O11: 1 | P11: 0.32638889 | Q11: 0.61458333 | R11: 2 | S11: 0.61458333 | T11: 0.90625
C12: 9 | E12: 2 | F12: 2 | G12: 2 | H12: R | I12: R | J12: 1 | K12: 1 | N12: Fêtes | O12: 1 | P12: 0.32638889 | Q12: 0.61458333 | R12: 2 | S12: 0.61458333 | T12: 0.90625
C13: 10 | E13: 1 | F13: 1 | G13: R | H13: R | I13: 2 | J13: 2 | K13: 2
C14: 11 | E14: 2 | F14: R | G14: R | H14: 1 | I14: 1 | J14: 1 | K14: 1
C15: 12 | E15: R | F15: R | G15: 2 | H15: 2 | I15: 2 | J15: 2 | K15: R
E18: R | F18: = | G18: repos
E19: 1 | F19: = | G19: matin
E20: 2 | F20: = | G20: soir
E21: D | F21: = | G21: dispo

Sheet exemple planning mensuel
B1: 2019
A2: Janvier | B2: 43466 | C2: =B2 -> 43466 | D2: =INDEX('Régime de Travail'!$G$18:$G$21,MATCH(OFFSET('Régime de Travail'!$D$3,MOD(WEEKNUM(B2,2)-1,12)+1,WEEKDAY(B2,2)),'Régime de Travail'!$E$18:$E$21,0),) -> matin
B3: =B2+1 -> 43467 | C3: =C2+1 -> 43467 | D3: =INDEX('Régime de Travail'!$G$18:$G$21,MATCH(OFFSET('Régime de Travail'!$D$3,MOD(WEEKNUM(B3,2)-1,12)+1,WEEKDAY(B3,2)),'Régime de Travail'!$E$18:$E$21,0),) -> matin
B4: =B3+1 -> 43468 | C4: =C3+1 -> 43468 | D4: =INDEX('Régime de Travail'!$G$18:$G$21,MATCH(OFFSET('Régime de Travail'!$D$3,MOD(WEEKNUM(B4,2)-1,12)+1,WEEKDAY(B4,2)),'Régime de Travail'!$E$18:$E$21,0),) -> matin
B5: =B4+1 -> 43469 | C5: =C4+1 -> 43469 | D5: =INDEX('Régime de Travail'!$G$18:$G$21,MATCH(OFFSET('Régime de Travail'!$D$3,MOD(WEEKNUM(B5,2)-1,12)+1,WEEKDAY(B5,2)),'Régime de Travail'!$E$18:$E$21,0),) -> matin
B6: =B5+1 -> 43470 | C6: =C5+1 -> 43470 | D6: =INDEX('Régime de Travail'!$G$18:$G$21,MATCH(OFFSET('Régime de Travail'!$D$3,MOD(WEEKNUM(B6,2)-1,12)+1,WEEKDAY(B6,2)),'Régime de Travail'!$E$18:$E$21,0),) -> repos
B7: =B6+1 -> 43471 | C7: =C6+1 -> 43471 | D7: =INDEX('Régime de Travail'!$G$18:$G$21,MATCH(OFFSET('Régime de Travail'!$D$3,MOD(WEEKNUM(B7,2)-1,12)+1,WEEKDAY(B7,2)),'Régime de Travail'!$E$18:$E$21,0),) -> repos
B8: =B7+1 -> 43472 | C8: =C7+1 -> 43472 | D8: =INDEX('Régime de Travail'!$G$18:$G$21,MATCH(OFFSET('Régime de Travail'!$D$3,MOD(WEEKNUM(B8,2)-1,12)+1,WEEKDAY(B8,2)),'Régime de Travail'!$E$18:$E$21,0),) -> soir
B9: =B8+1 -> 43473 | C9: =C8+1 -> 43473 | D9: =INDEX('Régime de Travail'!$G$18:$G$21,MATCH(OFFSET('Régime de Travail'!$D$3,MOD(WEEKNUM(B9,2)-1,12)+1,WEEKDAY(B9,2)),'Régime de Travail'!$E$18:$E$21,0),) -> soir
B10: =B9+1 -> 43474 | C10: =C9+1 -> 43474 | D10: =INDEX('Régime de Travail'!$G$18:$G$21,MATCH(OFFSET('Régime de Travail'!$D$3,MOD(WEEKNUM(B10,2)-1,12)+1,WEEKDAY(B10,2)),'Régime de Travail'!$E$18:$E$21,0),) -> soir
B11: =B10+1 -> 43475 | C11: =C10+1 -> 43475 | D11: =INDEX('Régime de Travail'!$G$18:$G$21,MATCH(OFFSET('Régime de Travail'!$D$3,MOD(WEEKNUM(B11,2)-1,12)+1,WEEKDAY(B11,2)),'Régime de Travail'!$E$18:$E$21,0),) -> soir
B12: =B11+1 -> 43476 | C12: =C11+1 -> 43476 | D12: =INDEX('Régime de Travail'!$G$18:$G$21,MATCH(OFFSET('Régime de Travail'!$D$3,MOD(WEEKNUM(B12,2)-1,12)+1,WEEKDAY(B12,2)),'Régime de Travail'!$E$18:$E$21,0),) -> repos
B13: =B12+1 -> 43477 | C13: =C12+1 -> 43477 | D13: =INDEX('Régime de Travail'!$G$18:$G$21,MATCH(OFFSET('Régime de Travail'!$D$3,MOD(WEEKNUM(B13,2)-1,12)+1,WEEKDAY(B13,2)),'Régime de Travail'!$E$18:$E$21,0),) -> repos
B14: =B13+1 -> 43478 | C14: =C13+1 -> 43478 | D14: =INDEX('Régime de Travail'!$G$18:$G$21,MATCH(OFFSET('Régime de Travail'!$D$3,MOD(WEEKNUM(B14,2)-1,12)+1,WEEKDAY(B14,2)),'Régime de Travail'!$E$18:$E$21,0),) -> matin
... B32: =B31+1 -> 43496 | C32: =C31+1 -> 43496 | D32: =INDEX('Régime de Travail'!$G$18:$G$21,MATCH(OFFSET('Régime de Travail'!$D$3,MOD(WEEKNUM(B32,2)-1,12)+1,WEEKDAY(B32,2)),'Régime de Travail'!$E$18:$E$21,0),) -> soir
A33: Février | B33: =B32+1 -> 43497 | C33: =C32+1 -> 43497 | D33: =INDEX('Régime de Travail'!$G$18:$G$21,MATCH(OFFSET('Régime de Travail'!$D$3,MOD(WEEKNUM(B33,2)-1,12)+1,WEEKDAY(B33,2)),'Régime de Travail'!$E$18:$E$21,0),) -> soir
B34: =B33+1 -> 43498 | C34: =C33+1 -> 43498 | D34: =INDEX('Régime de Travail'!$G$18:$G$21,MATCH(OFFSET('Régime de Travail'!$D$3,MOD(WEEKNUM(B34,2)-1,12)+1,WEEKDAY(B34,2)),'Régime de Travail'!$E$18:$E$21,0),) -> soir
B35: =B34+1 -> 43499 | C35: =C34+1 -> 43499 | D35: =INDEX('Régime de Travail'!$G$18:$G$21,MATCH(OFFSET('Régime de Travail'!$D$3,MOD(WEEKNUM(B35,2)-1,12)+1,WEEKDAY(B35,2)),'Régime de Travail'!$E$18:$E$21,0),) -> soir
B36: =B35+1 -> 43500 | C36: =C35+1 -> 43500 | D36: =INDEX('Régime de Travail'!$G$18:$G$21,MATCH(OFFSET('Régime de Travail'!$D$3,MOD(WEEKNUM(B36,2)-1,12)+1,WEEKDAY(B36,2)),'Régime de Travail'!$E$18:$E$21,0),) -> repos
B37: =B36+1 -> 43501 | C37: =C36+1 -> 43501 | D37: =INDEX('Régime de Travail'!$G$18:$G$21,MATCH(OFFSET('Régime de Travail'!$D$3,MOD(WEEKNUM(B37,2)-1,12)+1,WEEKDAY(B37,2)),'Régime de Travail'!$E$18:$E$21,0),) -> repos
B38: =B37+1 -> 43502 | C38: =C37+1 -> 43502 | D38: =INDEX('Régime de Travail'!$G$18:$G$21,MATCH(OFFSET('Régime de Travail'!$D$3,MOD(WEEKNUM(B38,2)-1,12)+1,WEEKDAY(B38,2)),'Régime de Travail'!$E$18:$E$21,0),) -> matin
B39: =B38+1 -> 43503 | C39: =C38+1 -> 43503 | D39: =INDEX('Régime de Travail'!$G$18:$G$21,MATCH(OFFSET('Régime de Travail'!$D$3,MOD(WEEKNUM(B39,2)-1,12)+1,WEEKDAY(B39,2)),'Régime de Travail'!$E$18:$E$21,0),) -> matin
B40: =B39+1 -> 43504 | C40: =C39+1 -> 43504 | D40: =INDEX('Régime de Travail'!$G$18:$G$21,MATCH(OFFSET('Régime de Travail'!$D$3,MOD(WEEKNUM(B40,2)-1,12)+1,WEEKDAY(B40,2)),'Régime de Travail'!$E$18:$E$21,0),) -> matin
B41: =B40+1 -> 43505 | C41: =C40+1 -> 43505 | D41: =INDEX('Régime de Travail'!$G$18:$G$21,MATCH(OFFSET('Régime de Travail'!$D$3,MOD(WEEKNUM(B41,2)-1,12)+1,WEEKDAY(B41,2)),'Régime de Travail'!$E$18:$E$21,0),) -> matin
B42: =B41+1 -> 43506 | C42: =C41+1 -> 43506 | D42: =INDEX('Régime de Travail'!$G$18:$G$21,MATCH(OFFSET('Régime de Travail'!$D$3,MOD(WEEKNUM(B42,2)-1,12)+1,WEEKDAY(B42,2)),'Régime de Travail'!$E$18:$E$21,0),) -> repos
B43: =B42+1 -> 43507 | C43: =C42+1 -> 43507 | D43: =INDEX('Régime de Travail'!$G$18:$G$21,MATCH(OFFSET('Régime de Travail'!$D$3,MOD(WEEKNUM(B43,2)-1,12)+1,WEEKDAY(B43,2)),'Régime de Travail'!$E$18:$E$21,0),) -> repos
B44: =B43+1 -> 43508 | C44: =C43+1 -> 43508 | D44: =INDEX('Régime de Travail'!$G$18:$G$21,MATCH(OFFSET('Régime de Travail'!$D$3,MOD(WEEKNUM(B44,2)-1,12)+1,WEEKDAY(B44,2)),'Régime de Travail'!$E$18:$E$21,0),) -> soir
B45: =B44+1 -> 43509 | C45: =C44+1 -> 43509 | D45: =INDEX('Régime de Travail'!$G$18:$G$21,MATCH(OFFSET('Régime de Travail'!$D$3,MOD(WEEKNUM(B45,2)-1,12)+1,WEEKDAY(B45,2)),'Régime de Travail'!$E$18:$E$21,0),) -> soir
... B60: =B59+1 -> 43524 | C60: =C59+1 -> 43524 | D60: =INDEX('Régime de Travail'!$G$18:$G$21,MATCH(OFFSET('Régime de Travail'!$D$3,MOD(WEEKNUM(B60,2)-1,12)+1,WEEKDAY(B60,2)),'Régime de Travail'!$E$18:$E$21,0),) -> repos
A61: Mars | B61: =B60+1 -> 43525 | C61: =C60+1 -> 43525 | D61: =INDEX('Régime de Travail'!$G$18:$G$21,MATCH(OFFSET('Régime de Travail'!$D$3,MOD(WEEKNUM(B61,2)-1,12)+1,WEEKDAY(B61,2)),'Régime de Travail'!$E$18:$E$21,0),) -> repos
B62: =B61+1 -> 43526 | C62: =C61+1 -> 43526 | D62: =INDEX('Régime de Travail'!$G$18:$G$21,MATCH(OFFSET('Régime de Travail'!$D$3,MOD(WEEKNUM(B62,2)-1,12)+1,WEEKDAY(B62,2)),'Régime de Travail'!$E$18:$E$21,0),) -> matin
B63: =B62+1 -> 43527 | C63: =C62+1 -> 43527 | D63: =INDEX('Régime de Travail'!$G$18:$G$21,MATCH(OFFSET('Régime de Travail'!$D$3,MOD(WEEKNUM(B63,2)-1,12)+1,WEEKDAY(B63,2)),'Régime de Travail'!$E$18:$E$21,0),) -> matin
B64: =B63+1 -> 43528 | C64: =C63+1 -> 43528 | D64: =INDEX('Régime de Travail'!$G$18:$G$21,MATCH(OFFSET('Régime de Travail'!$D$3,MOD(WEEKNUM(B64,2)-1,12)+1,WEEKDAY(B64,2)),'Régime de Travail'!$E$18:$E$21,0),) -> matin
B65: =B64+1 -> 43529 | C65: =C64+1 -> 43529 | D65: =INDEX('Régime de Travail'!$G$18:$G$21,MATCH(OFFSET('Régime de Travail'!$D$3,MOD(WEEKNUM(B65,2)-1,12)+1,WEEKDAY(B65,2)),'Régime de Travail'!$E$18:$E$21,0),) -> matin
B66: =B65+1 -> 43530 | C66: =C65+1 -> 43530 | D66: =INDEX('Régime de Travail'!$G$18:$G$21,MATCH(OFFSET('Régime de Travail'!$D$3,MOD(WEEKNUM(B66,2)-1,12)+1,WEEKDAY(B66,2)),'Régime de Travail'!$E$18:$E$21,0),) -> repos
B67: =B66+1 -> 43531 | C67: =C66+1 -> 43531 | D67: =INDEX('Régime de Travail'!$G$18:$G$21,MATCH(OFFSET('Régime de Travail'!$D$3,MOD(WEEKNUM(B67,2)-1,12)+1,WEEKDAY(B67,2)),'Régime de Travail'!$E$18:$E$21,0),) -> repos
B68: =B67+1 -> 43532 | C68: =C67+1 -> 43532 | D68: =INDEX('Régime de Travail'!$G$18:$G$21,MATCH(OFFSET('Régime de Travail'!$D$3,MOD(WEEKNUM(B68,2)-1,12)+1,WEEKDAY(B68,2)),'Régime de Travail'!$E$18:$E$21,0),) -> soir
B69: =B68+1 -> 43533 | C69: =C68+1 -> 43533 | D69: =INDEX('Régime de Travail'!$G$18:$G$21,MATCH(OFFSET('Régime de Travail'!$D$3,MOD(WEEKNUM(B69,2)-1,12)+1,WEEKDAY(B69,2)),'Régime de Travail'!$E$18:$E$21,0),) -> soir
B70: =B69+1 -> 43534 | C70: =C69+1 -> 43534 | D70: =INDEX('Régime de Travail'!$G$18:$G$21,MATCH(OFFSET('Régime de Travail'!$D$3,MOD(WEEKNUM(B70,2)-1,12)+1,WEEKDAY(B70,2)),'Régime de Travail'!$E$18:$E$21,0),) -> soir
B71: =B70+1 -> 43535 | C71: =C70+1 -> 43535 | D71: =INDEX('Régime de Travail'!$G$18:$G$21,MATCH(OFFSET('Régime de Travail'!$D$3,MOD(WEEKNUM(B71,2)-1,12)+1,WEEKDAY(B71,2)),'Régime de Travail'!$E$18:$E$21,0),) -> soir
B72: =B71+1 -> 43536 | C72: =C71+1 -> 43536 | D72: =INDEX('Régime de Travail'!$G$18:$G$21,MATCH(OFFSET('Régime de Travail'!$D$3,MOD(WEEKNUM(B72,2)-1,12)+1,WEEKDAY(B72,2)),'Régime de Travail'!$E$18:$E$21,0),) -> repos
B73: =B72+1 -> 43537 | C73: =C72+1 -> 43537 | D73: =INDEX('Régime de Travail'!$G$18:$G$21,MATCH(OFFSET('Régime de Travail'!$D$3,MOD(WEEKNUM(B73,2)-1,12)+1,WEEKDAY(B73,2)),'Régime de Travail'!$E$18:$E$21,0),) -> repos
... B91: =B90+1 -> 43555 | C91: =C90+1 -> 43555 | D91: =INDEX('Régime de Travail'!$G$18:$G$21,MATCH(OFFSET('Régime de Travail'!$D$3,MOD(WEEKNUM(B91,2)-1,12)+1,WEEKDAY(B91,2)),'Régime de Travail'!$E$18:$E$21,0),) -> repos
A92: Avril | B92: =B91+1 -> 43556 | C92: =C91+1 -> 43556 | D92: =INDEX('Régime de Travail'!$G$18:$G$21,MATCH(OFFSET('Régime de Travail'!$D$3,MOD(WEEKNUM(B92,2)-1,12)+1,WEEKDAY(B92,2)),'Régime de Travail'!$E$18:$E$21,0),) -> soir
B93: =B92+1 -> 43557 | C93: =C92+1 -> 43557 | D93: =INDEX('Régime de Travail'!$G$18:$G$21,MATCH(OFFSET('Régime de Travail'!$D$3,MOD(WEEKNUM(B93,2)-1,12)+1,WEEKDAY(B93,2)),'Régime de Travail'!$E$18:$E$21,0),) -> soir
B94: =B93+1 -> 43558 | C94: =C93+1 -> 43558 | D94: =INDEX('Régime de Travail'!$G$18:$G$21,MATCH(OFFSET('Régime de Travail'!$D$3,MOD(WEEKNUM(B94,2)-1,12)+1,WEEKDAY(B94,2)),'Régime de Travail'!$E$18:$E$21,0),) -> soir
B95: =B94+1 -> 43559 | C95: =C94+1 -> 43559 | D95: =INDEX('Régime de Travail'!$G$18:$G$21,MATCH(OFFSET('Régime de Travail'!$D$3,MOD(WEEKNUM(B95,2)-1,12)+1,WEEKDAY(B95,2)),'Régime de Travail'!$E$18:$E$21,0),) -> soir
B96: =B95+1 -> 43560 | C96: =C95+1 -> 43560 | D96: =INDEX('Régime de Travail'!$G$18:$G$21,MATCH(OFFSET('Régime de Travail'!$D$3,MOD(WEEKNUM(B96,2)-1,12)+1,WEEKDAY(B96,2)),'Régime de Travail'!$E$18:$E$21,0),) -> repos
B97: =B96+1 -> 43561 | C97: =C96+1 -> 43561 | D97: =INDEX('Régime de Travail'!$G$18:$G$21,MATCH(OFFSET('Régime de Travail'!$D$3,MOD(WEEKNUM(B97,2)-1,12)+1,WEEKDAY(B97,2)),'Régime de Travail'!$E$18:$E$21,0),) -> repos
B98: =B97+1 -> 43562 | C98: =C97+1 -> 43562 | D98: =INDEX('Régime de Travail'!$G$18:$G$21,MATCH(OFFSET('Régime de Travail'!$D$3,MOD(WEEKNUM(B98,2)-1,12)+1,WEEKDAY(B98,2)),'Régime de Travail'!$E$18:$E$21,0),) -> matin
B99: =B98+1 -> 43563 | C99: =C98+1 -> 43563 | D99: =INDEX('Régime de Travail'!$G$18:$G$21,MATCH(OFFSET('Régime de Travail'!$D$3,MOD(WEEKNUM(B99,2)-1,12)+1,WEEKDAY(B99,2)),'Régime de Travail'!$E$18:$E$21,0),) -> matin
B100: =B99+1 -> 43564 | C100: =C99+1 -> 43564 | D100: =INDEX('Régime de Travail'!$G$18:$G$21,MATCH(OFFSET('Régime de Travail'!$D$3,MOD(WEEKNUM(B100,2)-1,12)+1,WEEKDAY(B100,2)),'Régime de Travail'!$E$18:$E$21,0),) -> matin
B101: =B100+1 -> 43565 | C101: =C100+1 -> 43565 | D101: =INDEX('Régime de Travail'!$G$18:$G$21,MATCH(OFFSET('Régime de Travail'!$D$3,MOD(WEEKNUM(B101,2)-1,12)+1,WEEKDAY(B101,2)),'Régime de Travail'!$E$18:$E$21,0),) -> matin
B102: =B101+1 -> 43566 | C102: =C101+1 -> 43566 | D102: =INDEX('Régime de Travail'!$G$18:$G$21,MATCH(OFFSET('Régime de Travail'!$D$3,MOD(WEEKNUM(B102,2)-1,12)+1,WEEKDAY(B102,2)),'Régime de Travail'!$E$18:$E$21,0),) -> repos
B103: =B102+1 -> 43567 | C103: =C102+1 -> 43567 | D103: =INDEX('Régime de Travail'!$G$18:$G$21,MATCH(OFFSET('Régime de Travail'!$D$3,MOD(WEEKNUM(B103,2)-1,12)+1,WEEKDAY(B103,2)),'Régime de Travail'!$E$18:$E$21,0),) -> repos
B104: =B103+1 -> 43568 | C104: =C103+1 -> 43568 | D104: =INDEX('Régime de Travail'!$G$18:$G$21,MATCH(OFFSET('Régime de Travail'!$D$3,MOD(WEEKNUM(B104,2)-1,12)+1,WEEKDAY(B104,2)),'Régime de Travail'!$E$18:$E$21,0),) -> soir
... B121: =B120+1 -> 43585 | C121: =C120+1 -> 43585 | D121: =INDEX('Régime de Travail'!$G$18:$G$21,MATCH(OFFSET('Régime de Travail'!$D$3,MOD(WEEKNUM(B121,2)-1,12)+1,WEEKDAY(B121,2)),'Régime de Travail'!$E$18:$E$21,0),) -> repos
A122: Mai | B122: =B121+1 -> 43586 | C122: =C121+1 -> 43586 | D122: =INDEX('Régime de Travail'!$G$18:$G$21,MATCH(OFFSET('Régime de Travail'!$D$3,MOD(WEEKNUM(B122,2)-1,12)+1,WEEKDAY(B122,2)),'Régime de Travail'!$E$18:$E$21,0),) -> matin
B123: =B122+1 -> 43587 | C123: =C122+1 -> 43587 | D123: =INDEX('Régime de Travail'!$G$18:$G$21,MATCH(OFFSET('Régime de Travail'!$D$3,MOD(WEEKNUM(B123,2)-1,12)+1,WEEKDAY(B123,2)),'Régime de Travail'!$E$18:$E$21,0),) -> matin
B124: =B123+1 -> 43588 | C124: =C123+1 -> 43588 | D124: =INDEX('Régime de Travail'!$G$18:$G$21,MATCH(OFFSET('Régime de Travail'!$D$3,MOD(WEEKNUM(B124,2)-1,12)+1,WEEKDAY(B124,2)),'Régime de Travail'!$E$18:$E$21,0),) -> matin
B125: =B124+1 -> 43589 | C125: =C124+1 -> 43589 | D125: =INDEX('Régime de Travail'!$G$18:$G$21,MATCH(OFFSET('Régime de Travail'!$D$3,MOD(WEEKNUM(B125,2)-1,12)+1,WEEKDAY(B125,2)),'Régime de Travail'!$E$18:$E$21,0),) -> matin
B126: =B125+1 -> 43590 | C126: =C125+1 -> 43590 | D126: =INDEX('Régime de Travail'!$G$18:$G$21,MATCH(OFFSET('Régime de Travail'!$D$3,MOD(WEEKNUM(B126,2)-1,12)+1,WEEKDAY(B126,2)),'Régime de Travail'!$E$18:$E$21,0),) -> repos
B127: =B126+1 -> 43591 | C127: =C126+1 -> 43591 | D127: =INDEX('Régime de Travail'!$G$18:$G$21,MATCH(OFFSET('Régime de Travail'!$D$3,MOD(WEEKNUM(B127,2)-1,12)+1,WEEKDAY(B127,2)),'Régime de Travail'!$E$18:$E$21,0),) -> repos
B128: =B127+1 -> 43592 | C128: =C127+1 -> 43592 | D128: =INDEX('Régime de Travail'!$G$18:$G$21,MATCH(OFFSET('Régime de Travail'!$D$3,MOD(WEEKNUM(B128,2)-1,12)+1,WEEKDAY(B128,2)),'Régime de Travail'!$E$18:$E$21,0),) -> soir
B129: =B128+1 -> 43593 | C129: =C128+1 -> 43593 | D129: =INDEX('Régime de Travail'!$G$18:$G$21,MATCH(OFFSET('Régime de Travail'!$D$3,MOD(WEEKNUM(B129,2)-1,12)+1,WEEKDAY(B129,2)),'Régime de Travail'!$E$18:$E$21,0),) -> soir
B130: =B129+1 -> 43594 | C130: =C129+1 -> 43594 | D130: =INDEX('Régime de Travail'!$G$18:$G$21,MATCH(OFFSET('Régime de Travail'!$D$3,MOD(WEEKNUM(B130,2)-1,12)+1,WEEKDAY(B130,2)),'Régime de Travail'!$E$18:$E$21,0),) -> soir
B131: =B130+1 -> 43595 | C131: =C130+1 -> 43595 | D131: =INDEX('Régime de Travail'!$G$18:$G$21,MATCH(OFFSET('Régime de Travail'!$D$3,MOD(WEEKNUM(B131,2)-1,12)+1,WEEKDAY(B131,2)),'Régime de Travail'!$E$18:$E$21,0),) -> soir
B132: =B131+1 -> 43596 | C132: =C131+1 -> 43596 | D132: =INDEX('Régime de Travail'!$G$18:$G$21,MATCH(OFFSET('Régime de Travail'!$D$3,MOD(WEEKNUM(B132,2)-1,12)+1,WEEKDAY(B132,2)),'Régime de Travail'!$E$18:$E$21,0),) -> repos
B133: =B132+1 -> 43597 | C133: =C132+1 -> 43597 | D133: =INDEX('Régime de Travail'!$G$18:$G$21,MATCH(OFFSET('Régime de Travail'!$D$3,MOD(WEEKNUM(B133,2)-1,12)+1,WEEKDAY(B133,2)),'Régime de Travail'!$E$18:$E$21,0),) -> repos
B134: =B133+1 -> 43598 | C134: =C133+1 -> 43598 | D134: =INDEX('Régime de Travail'!$G$18:$G$21,MATCH(OFFSET('Régime de Travail'!$D$3,MOD(WEEKNUM(B134,2)-1,12)+1,WEEKDAY(B134,2)),'Régime de Travail'!$E$18:$E$21,0),) -> matin
... B152: =B151+1 -> 43616 | C152: =C151+1 -> 43616 | D152: =INDEX('Régime de Travail'!$G$18:$G$21,MATCH(OFFSET('Régime de Travail'!$D$3,MOD(WEEKNUM(B152,2)-1,12)+1,WEEKDAY(B152,2)),'Régime de Travail'!$E$18:$E$21,0),) -> soir
A153: Juin | B153: =B152+1 -> 43617 | C153: =C152+1 -> 43617 | D153: =INDEX('Régime de Travail'!$G$18:$G$21,MATCH(OFFSET('Régime de Travail'!$D$3,MOD(WEEKNUM(B153,2)-1,12)+1,WEEKDAY(B153,2)),'Régime de Travail'!$E$18:$E$21,0),) -> soir
B154: =B153+1 -> 43618 | C154: =C153+1 -> 43618 | D154: =INDEX('Régime de Travail'!$G$18:$G$21,MATCH(OFFSET('Régime de Travail'!$D$3,MOD(WEEKNUM(B154,2)-1,12)+1,WEEKDAY(B154,2)),'Régime de Travail'!$E$18:$E$21,0),) -> soir
B155: =B154+1 -> 43619 | C155: =C154+1 -> 43619 | D155: =INDEX('Régime de Travail'!$G$18:$G$21,MATCH(OFFSET('Régime de Travail'!$D$3,MOD(WEEKNUM(B155,2)-1,12)+1,WEEKDAY(B155,2)),'Régime de Travail'!$E$18:$E$21,0),) -> soir
B156: =B155+1 -> 43620 | C156: =C155+1 -> 43620 | D156: =INDEX('Régime de Travail'!$G$18:$G$21,MATCH(OFFSET('Régime de Travail'!$D$3,MOD(WEEKNUM(B156,2)-1,12)+1,WEEKDAY(B156,2)),'Régime de Travail'!$E$18:$E$21,0),) -> repos
B157: =B156+1 -> 43621 | C157: =C156+1 -> 43621 | D157: =INDEX('Régime de Travail'!$G$18:$G$21,MATCH(OFFSET('Régime de Travail'!$D$3,MOD(WEEKNUM(B157,2)-1,12)+1,WEEKDAY(B157,2)),'Régime de Travail'!$E$18:$E$21,0),) -> repos
B158: =B157+1 -> 43622 | C158: =C157+1 -> 43622 | D158: =INDEX('Régime de Travail'!$G$18:$G$21,MATCH(OFFSET('Régime de Travail'!$D$3,MOD(WEEKNUM(B158,2)-1,12)+1,WEEKDAY(B158,2)),'Régime de Travail'!$E$18:$E$21,0),) -> matin
B159: =B158+1 -> 43623 | C159: =C158+1 -> 43623 | D159: =INDEX('Régime de Travail'!$G$18:$G$21,MATCH(OFFSET('Régime de Travail'!$D$3,MOD(WEEKNUM(B159,2)-1,12)+1,WEEKDAY(B159,2)),'Régime de Travail'!$E$18:$E$21,0),) -> matin
B160: =B159+1 -> 43624 | C160: =C159+1 -> 43624 | D160: =INDEX('Régime de Travail'!$G$18:$G$21,MATCH(OFFSET('Régime de Travail'!$D$3,MOD(WEEKNUM(B160,2)-1,12)+1,WEEKDAY(B160,2)),'Régime de Travail'!$E$18:$E$21,0),) -> matin
B161: =B160+1 -> 43625 | C161: =C160+1 -> 43625 | D161: =INDEX('Régime de Travail'!$G$18:$G$21,MATCH(OFFSET('Régime de Travail'!$D$3,MOD(WEEKNUM(B161,2)-1,12)+1,WEEKDAY(B161,2)),'Régime de Travail'!$E$18:$E$21,0),) -> matin
B162: =B161+1 -> 43626 | C162: =C161+1 -> 43626 | D162: =INDEX('Régime de Travail'!$G$18:$G$21,MATCH(OFFSET('Régime de Travail'!$D$3,MOD(WEEKNUM(B162,2)-1,12)+1,WEEKDAY(B162,2)),'Régime de Travail'!$E$18:$E$21,0),) -> repos
B163: =B162+1 -> 43627 | C163: =C162+1 -> 43627 | D163: =INDEX('Régime de Travail'!$G$18:$G$21,MATCH(OFFSET('Régime de Travail'!$D$3,MOD(WEEKNUM(B163,2)-1,12)+1,WEEKDAY(B163,2)),'Régime de Travail'!$E$18:$E$21,0),) -> repos
B164: =B163+1 -> 43628 | C164: =C163+1 -> 43628 | D164: =INDEX('Régime de Travail'!$G$18:$G$21,MATCH(OFFSET('Régime de Travail'!$D$3,MOD(WEEKNUM(B164,2)-1,12)+1,WEEKDAY(B164,2)),'Régime de Travail'!$E$18:$E$21,0),) -> soir
B165: =B164+1 -> 43629 | C165: =C164+1 -> 43629 | D165: =INDEX('Régime de Travail'!$G$18:$G$21,MATCH(OFFSET('Régime de Travail'!$D$3,MOD(WEEKNUM(B165,2)-1,12)+1,WEEKDAY(B165,2)),'Régime de Travail'!$E$18:$E$21,0),) -> soir
... B182: =B181+1 -> 43646 | C182: =C181+1 -> 43646 | D182: =INDEX('Régime de Travail'!$G$18:$G$21,MATCH(OFFSET('Régime de Travail'!$D$3,MOD(WEEKNUM(B182,2)-1,12)+1,WEEKDAY(B182,2)),'Régime de Travail'!$E$18:$E$21,0),) -> matin
A183: Juillet | B183: =B182+1 -> 43647 | C183: =C182+1 -> 43647 | D183: =INDEX('Régime de Travail'!$G$18:$G$21,MATCH(OFFSET('Régime de Travail'!$D$3,MOD(WEEKNUM(B183,2)-1,12)+1,WEEKDAY(B183,2)),'Régime de Travail'!$E$18:$E$21,0),) -> matin
B184: =B183+1 -> 43648 | C184: =C183+1 -> 43648 | D184: =INDEX('Régime de Travail'!$G$18:$G$21,MATCH(OFFSET('Régime de Travail'!$D$3,MOD(WEEKNUM(B184,2)-1,12)+1,WEEKDAY(B184,2)),'Régime de Travail'!$E$18:$E$21,0),) -> matin
B185: =B184+1 -> 43649 | C185: =C184+1 -> 43649 | D185: =INDEX('Régime de Travail'!$G$18:$G$21,MATCH(OFFSET('Régime de Travail'!$D$3,MOD(WEEKNUM(B185,2)-1,12)+1,WEEKDAY(B185,2)),'Régime de Travail'!$E$18:$E$21,0),) -> matin
B186: =B185+1 -> 43650 | C186: =C185+1 -> 43650 | D186: =INDEX('Régime de Travail'!$G$18:$G$21,MATCH(OFFSET('Régime de Travail'!$D$3,MOD(WEEKNUM(B186,2)-1,12)+1,WEEKDAY(B186,2)),'Régime de Travail'!$E$18:$E$21,0),) -> repos
B187: =B186+1 -> 43651 | C187: =C186+1 -> 43651 | D187: =INDEX('Régime de Travail'!$G$18:$G$21,MATCH(OFFSET('Régime de Travail'!$D$3,MOD(WEEKNUM(B187,2)-1,12)+1,WEEKDAY(B187,2)),'Régime de Travail'!$E$18:$E$21,0),) -> repos
B188: =B187+1 -> 43652 | C188: =C187+1 -> 43652 | D188: =INDEX('Régime de Travail'!$G$18:$G$21,MATCH(OFFSET('Régime de Travail'!$D$3,MOD(WEEKNUM(B188,2)-1,12)+1,WEEKDAY(B188,2)),'Régime de Travail'!$E$18:$E$21,0),) -> soir
B189: =B188+1 -> 43653 | C189: =C188+1 -> 43653 | D189: =INDEX('Régime de Travail'!$G$18:$G$21,MATCH(OFFSET('Régime de Travail'!$D$3,MOD(WEEKNUM(B189,2)-1,12)+1,WEEKDAY(B189,2)),'Régime de Travail'!$E$18:$E$21,0),) -> soir
B190: =B189+1 -> 43654 | C190: =C189+1 -> 43654 | D190: =INDEX('Régime de Travail'!$G$18:$G$21,MATCH(OFFSET('Régime de Travail'!$D$3,MOD(WEEKNUM(B190,2)-1,12)+1,WEEKDAY(B190,2)),'Régime de Travail'!$E$18:$E$21,0),) -> soir
B191: =B190+1 -> 43655 | C191: =C190+1 -> 43655 | D191: =INDEX('Régime de Travail'!$G$18:$G$21,MATCH(OFFSET('Régime de Travail'!$D$3,MOD(WEEKNUM(B191,2)-1,12)+1,WEEKDAY(B191,2)),'Régime de Travail'!$E$18:$E$21,0),) -> soir
B192: =B191+1 -> 43656 | C192: =C191+1 -> 43656 | D192: =INDEX('Régime de Travail'!$G$18:$G$21,MATCH(OFFSET('Régime de Travail'!$D$3,MOD(WEEKNUM(B192,2)-1,12)+1,WEEKDAY(B192,2)),'Régime de Travail'!$E$18:$E$21,0),) -> repos
B193: =B192+1 -> 43657 | C193: =C192+1 -> 43657 | D193: =INDEX('Régime de Travail'!$G$18:$G$21,MATCH(OFFSET('Régime de Travail'!$D$3,MOD(WEEKNUM(B193,2)-1,12)+1,WEEKDAY(B193,2)),'Régime de Travail'!$E$18:$E$21,0),) -> repos
B194: =B193+1 -> 43658 | C194: =C193+1 -> 43658 | D194: =INDEX('Régime de Travail'!$G$18:$G$21,MATCH(OFFSET('Régime de Travail'!$D$3,MOD(WEEKNUM(B194,2)-1,12)+1,WEEKDAY(B194,2)),'Régime de Travail'!$E$18:$E$21,0),) -> matin
B195: =B194+1 -> 43659 | C195: =C194+1 -> 43659 | D195: =INDEX('Régime de Travail'!$G$18:$G$21,MATCH(OFFSET('Régime de Travail'!$D$3,MOD(WEEKNUM(B195,2)-1,12)+1,WEEKDAY(B195,2)),'Régime de Travail'!$E$18:$E$21,0),) -> matin
... B213: =B212+1 -> 43677 | C213: =C212+1 -> 43677 | D213: =INDEX('Régime de Travail'!$G$18:$G$21,MATCH(OFFSET('Régime de Travail'!$D$3,MOD(WEEKNUM(B213,2)-1,12)+1,WEEKDAY(B213,2)),'Régime de Travail'!$E$18:$E$21,0),) -> soir
A214: Août | B214: =B213+1 -> 43678 | C214: =C213+1 -> 43678 | D214: =INDEX('Régime de Travail'!$G$18:$G$21,MATCH(OFFSET('Régime de Travail'!$D$3,MOD(WEEKNUM(B214,2)-1,12)+1,WEEKDAY(B214,2)),'Régime de Travail'!$E$18:$E$21,0),) -> soir
...
