Workbook

Sheet Régime de Travail
E1: Lundi | F1: Mardi | G1: Mercredi | H1: Jeudi | I1: Vendredi | J1: Samedi | K1: Dimanche | N1: Horaires :
C4: 1 | E4: R | F4: 1 | G4: 1 | H4: 1 | I4: 1 | J4: R | K4: R | O4: référence | P4: PS | Q4: FS | R4: référence | S4: PS | T4: FS
C5: 2 | E5: 2 | F5: 2 | G5: 2 | H5: 2 | I5: R | J5: R | K5: 1 | N5: Lundi | O5: 1 | P5: 0.17708333 | Q5: 0.55208333 | R5: 2 | S5: 0.56944444 | T5: 0.90625
C6: 3 | E6: 1 | F6: 1 | G6: 1 | H6: R | I6: R | J6: 2 | K6: 2 | N6: Mardi | O6: 1 | P6: 0.24305556 | Q6: 0.55208333 | R6: 2 | S6: 0.56944444 | T6: 0.90625
C7: 4 | E7: 2 | F7: 2 | G7: R | H7: R | I7: 1 | J7: 1 | K7: 1 | N7: Mercredi | O7: 1 | P7: 0.24305556 | Q7: 0.55208333 | R7: 2 | S7: 0.56944444 | T7: 0.90625
C8: 5 | E8: 1 | F8: R | G8: R | H8: 2 | I8: 2 | J8: 2 | K8: 2 | N8: Jeudi | O8: 1 | P8: 0.24305556 | Q8: 0.55208333 | R8: 2 | S8: 0.56944444 | T8: 0.90625
C9: 6 | E9: R | F9: R | G9: 1 | H9: 1 | I9: 1 | J9: 1 | K9: R | N9: Vendredi | O9: 1 | P9: 0.24305556 | Q9: 0.55208333 | R9: 2 | S9: 0.56944444 | T9: 0.90625
C10: 7 | E10: R | F10: 2 | G10: 2 | H10: 2 | I10: 2 | J10: R | K10: R | N10: Samedi | O10: 1 | P10: 0.24305556 | Q10: 0.56944444 | R10: 2 | S10: 0.56944444 | T10: 0.90625
C11: 8 | E11: 1 | F11: 1 | G11: 1 | H11: 1 | I11: D | J11: R | K11: R | N11: Dimanche | O11: 1 | P11: 0.32638889 | Q11: 0.61458333 | R11: 2 | S11: 0.61458333 | T11: 0.90625
C12: 9 | E12: 2 | F12: 2 | G12: 2 | H12: R | I12: R | J12: 1 | K12: 1 | N12: Fêtes | O12: 1 | P12: 0.32638889 | Q12: 0.61458333 | R12: 2 | S12: 0.61458333 | T12: 0.90625
C13: 10 | E13: 1 | F13: 1 | G13: R | H13: R | I13: 2 | J13: 2 | K13: 2
C14: 11 | E14: 2 | F14: R | G14: R | H14: 1 | I14: 1 | J14: 1 | K14: 1
C15: 12 | E15: R | F15: R | G15: 2 | H15: 2 | I15: 2 | J15: 2 | K15: R
E18: R | F18: = | G18: repos
E19: 1 | F19: = | G19: matin
E20: 2 | F20: = | G20: soir
E21: D | F21: = | G21: dispo

Sheet exemple planning mensuel
B1: 2019
A2: Janvier | B2: 43466 | C2: =B2 -> 43466 | D2: =INDEX('Régime de Travail'!$G$18:$G$21,MATCH(OFFSET('Régime de Travail'!$D$3,MOD(WEEKNUM(B2,2)-1,12)+1,WEEKDAY(B2,2)),'Régime de Travail'!$E$18:$E$21,0),) -> matin
B3: =B2+1 -> 43467 | C3: =C2+1 -> 43467 | D3: =INDEX('Régime de Travail'!$G$18:$G$21,MATCH(OFFSET('Régime de Travail'!$D$3,MOD(WEEKNUM(B3,2)-1,12)+1,WEEKDAY(B3,2)),'Régime de Travail'!$E$18:$E$21,0),) -> matin
B4: =B3+1 -> 43468 | C4: =C3+1 -> 43468 | D4: =INDEX('Régime de Travail'!$G$18:$G$21,MATCH(OFFSET('Régime de Travail'!$D$3,MOD(WEEKNUM(B4,2)-1,12)+1,WEEKDAY(B4,2)),'Régime de Travail'!$E$18:$E$21,0),) -> matin
B5: =B4+1 -> 43469 | C5: =C4+1 -> 43469 | D5: =INDEX('Régime de Travail'!$G$18:$G$21,MATCH(OFFSET('Régime de Travail'!$D$3,MOD(WEEKNUM(B5,2)-1,12)+1,WEEKDAY(B5,2)),'Régime de Travail'!$E$18:$E$21,0),) -> matin
B6: =B5+1 -> 43470 | C6: =C5+1 -> 43470 | D6: =INDEX('Régime de Travail'!$G$18:$G$21,MATCH(OFFSET('Régime de Travail'!$D$3,MOD(WEEKNUM(B6,2)-1,12)+1,WEEKDAY(B6,2)),'Régime de Travail'!$E$18:$E$21,0),) -> repos
B7: =B6+1 -> 43471 | C7: =C6+1 -> 43471 | D7: =INDEX('Régime de Travail'!$G$18:$G$21,MATCH(OFFSET('Régime de Travail'!$D$3,MOD(WEEKNUM(B7,2)-1,12)+1,WEEKDAY(B7,2)),'Régime de Travail'!$E$18:$E$21,0),) -> repos
B8: =B7+1 -> 43472 | C8: =C7+1 -> 43472 | D8: =INDEX('Régime de Travail'!$G$18:$G$21,MATCH(OFFSET('Régime de Travail'!$D$3,MOD(WEEKNUM(B8,2)-1,12)+1,WEEKDAY(B8,2)),'Régime de Travail'!$E$18:$E$21,0),) -> soir
B9: =B8+1 -> 43473 | C9: =C8+1 -> 43473 | D9: =INDEX('Régime de Travail'!$G$18:$G$21,MATCH(OFFSET('Régime de Travail'!$D$3,MOD(WEEKNUM(B9,2)-1,12)+1,WEEKDAY(B9,2)),'Régime de Travail'!$E$18:$E$21,0),) -> soir
B10: =B9+1 -> 43474 | C10: =C9+1 -> 43474 | D10: =INDEX('Régime de Travail'!$G$18:$G$21,MATCH(OFFSET('Régime de Travail'!$D$3,MOD(WEEKNUM(B10,2)-1,12)+1,WEEKDAY(B10,2)),'Régime de Travail'!$E$18:$E$21,0),) -> soir
B11: =B10+1 -> 43475 | C11: =C10+1 -> 43475 | D11: =INDEX('Régime de Travail'!$G$18:$G$21,MATCH(OFFSET('Régime de Travail'!$D$3,MOD(WEEKNUM(B11,2)-1,12)+1,WEEKDAY(B11,2)),'Régime de Travail'!$E$18:$E$21,0),) -> soir
B12: =B11+1 -> 43476 | C12: =C11+1 -> 43476 | D12: =INDEX('Régime de Travail'!$G$18:$G$21,MATCH(OFFSET('Régime de Travail'!$D$3,MOD(WEEKNUM(B12,2)-1,12)+1,WEEKDAY(B12,2)),'Régime de Travail'!$E$18:$E$21,0),) -> repos
B13: =B12+1 -> 43477 | C13: =C12+1 -> 43477 | D13: =INDEX('Régime de Travail'!$G$18:$G$21,MATCH(OFFSET('Régime de Travail'!$D$3,MOD(WEEKNUM(B13,2)-1,12)+1,WEEKDAY(B13,2)),'Régime de Travail'!$E$18:$E$21,0),) -> repos
B14: =B13+1 -> 43478 | C14: =C13+1 -> 43478 | D14: =INDEX('Régime de Travail'!$G$18:$G$21,MATCH(OFFSET('Régime de Travail'!$D$3,MOD(WEEKNUM(B14,2)-1,12)+1,WEEKDAY(B14,2)),'Régime de Travail'!$E$18:$E$21,0),) -> matin
... B32: =B31+1 -> 43496 | C32: =C31+1 -> 43496 | D32: =INDEX('Régime de Travail'!$G$18:$G$21,MATCH(OFFSET('Régime de Travail'!$D$3,MOD(WEEKNUM(B32,2)-1,12)+1,WEEKDAY(B32,2)),'Régime de Travail'!$E$18:$E$21,0),) -> soir
A33: Février | B33: =B32+1 -> 43497 | C33: =C32+1 -> 43497 | D33: =INDEX('Régime de Travail'!$G$18:$G$21,MATCH(OFFSET('Régime de Travail'!$D$3,MOD(WEEKNUM(B33,2)-1,12)+1,WEEKDAY(B33,2)),'Régime de Travail'!$E$18:$E$21,0),) -> soir
B34: =B33+1 -> 43498 | C34: =C33+1 -> 43498 | D34: =INDEX('Régime de Travail'!$G$18:$G$21,MATCH(OFFSET('Régime de Travail'!$D$3,MOD(WEEKNUM(B34,2)-1,12)+1,WEEKDAY(B34,2)),'Régime de Travail'!$E$18:$E$21,0),) -> soir
B35: =B34+1 -> 43499 | C35: =C34+1 -> 43499 | D35: =INDEX('Régime de Travail'!$G$18:$G$21,MATCH(OFFSET('Régime de Travail'!$D$3,MOD(WEEKNUM(B35,2)-1,12)+1,WEEKDAY(B35,2)),'Régime de Travail'!$E$18:$E$21,0),) -> soir
B36: =B35+1 -> 43500 | C36: =C35+1 -> 43500 | D36: =INDEX('Régime de Travail'!$G$18:$G$21,MATCH(OFFSET('Régime de Travail'!$D$3,MOD(WEEKNUM(B36,2)-1,12)+1,WEEKDAY(B36,2)),'Régime de Travail'!$E$18:$E$21,0),) -> repos
B37: =B36+1 -> 43501 | C37: =C36+1 -> 43501 | D37: =INDEX('Régime de Travail'!$G$18:$G$21,MATCH(OFFSET('Régime de Travail'!$D$3,MOD(WEEKNUM(B37,2)-1,12)+1,WEEKDAY(B37,2)),'Régime de Travail'!$E$18:$E$21,0),) -> repos
B38: =B37+1 -> 43502 | C38: =C37+1 -> 43502 | D38: =INDEX('Régime de Travail'!$G$18:$G$21,MATCH(OFFSET('Régime de Travail'!$D$3,MOD(WEEKNUM(B38,2)-1,12)+1,WEEKDAY(B38,2)),'Régime de Travail'!$E$18:$E$21,0),) -> matin
B39: =B38+1 -> 43503 | C39: =C38+1 -> 43503 | D39: =INDEX('Régime de Travail'!$G$18:$G$21,MATCH(OFFSET('Régime de Travail'!$D$3,MOD(WEEKNUM(B39,2)-1,12)+1,WEEKDAY(B39,2)),'Régime de Travail'!$E$18:$E$21,0),) -> matin
B40: =B39+1 -> 43504 | C40: =C39+1 -> 43504 | D40: =INDEX('Régime de Travail'!$G$18:$G$21,MATCH(OFFSET('Régime de Travail'!$D$3,MOD(WEEKNUM(B40,2)-1,12)+1,WEEKDAY(B40,2)),'Régime de Travail'!$E$18:$E$21,0),) -> matin
B41: =B40+1 -> 43505 | C41: =C40+1 -> 43505 | D41: =INDEX('Régime de Travail'!$G$18:$G$21,MATCH(OFFSET('Régime de Travail'!$D$3,MOD(WEEKNUM(B41,2)-1,12)+1,WEEKDAY(B41,2)),'Régime de Travail'!$E$18:$E$21,0),) -> matin
B42: =B41+1 -> 43506 | C42: =C41+1 -> 43506 | D42: =INDEX('Régime de Travail'!$G$18:$G$21,MATCH(OFFSET('Régime de Travail'!$D$3,MOD(WEEKNUM(B42,2)-1,12)+1,WEEKDAY(B42,2)),'Régime de Travail'!$E$18:$E$21,0),) -> repos
B43: =B42+1 -> 43507 | C43: =C42+1 -> 43507 | D43: =INDEX('Régime de Travail'!$G$18:$G$21,MATCH(OFFSET('Régime de Travail'!$D$3,MOD(WEEKNUM(B43,2)-1,12)+1,WEEKDAY(B43,2)),'Régime de Travail'!$E$18:$E$21,0),) -> repos
B44: =B43+1 -> 43508 | C44: =C43+1 -> 43508 | D44: =INDEX('Régime de Travail'!$G$18:$G$21,MATCH(OFFSET('Régime de Travail'!$D$3,MOD(WEEKNUM(B44,2)-1,12)+1,WEEKDAY(B44,2)),'Régime de Travail'!$E$18:$E$21,0),) -> soir
B45: =B44+1 -> 43509 | C45: =C44+1 -> 43509 | D45: =INDEX('Régime de Travail'!$G$18:$G$21,MATCH(OFFSET('Régime de Travail'!$D$3,MOD(WEEKNUM(B45,2)-1,12)+1,WEEKDAY(B45,2)),'Régime de Travail'!$E$18:$E$21,0),) -> soir
... B60: =B59+1 -> 43524 | C60: =C59+1 -> 43524 | D60: =INDEX('Régime de Travail'!$G$18:$G$21,MATCH(OFFSET('Régime de Travail'!$D$3,MOD(WEEKNUM(B60,2)-1,12)+1,WEEKDAY(B60,2)),'Régime de Travail'!$E$18:$E$21,0),) -> repos
A61: Mars | B61: =B60+1 -> 43525 | C61: =C60+1 -> 43525 | D61: =INDEX('Régime de Travail'!$G$18:$G$21,MATCH(OFFSET('Régime de Travail'!$D$3,MOD(WEEKNUM(B61,2)-1,12)+1,WEEKDAY(B61,2)),'Régime de Travail'!$E$18:$E$21,0),) -> repos
B62: =B61+1 -> 43526 | C62: =C61+1 -> 43526 | D62: =INDEX('Régime de Travail'!$G$18:$G$21,MATCH(OFFSET('Régime de Travail'!$D$3,MOD(WEEKNUM(B62,2)-1,12)+1,WEEKDAY(B62,2)),'Régime de Travail'!$E$18:$E$21,0),) -> matin
B63: =B62+1 -> 43527 | C63: =C62+1 -> 43527 | D63: =INDEX('Régime de Travail'!$G$18:$G$21,MATCH(OFFSET('Régime de Travail'!$D$3,MOD(WEEKNUM(B63,2)-1,12)+1,WEEKDAY(B63,2)),'Régime de Travail'!$E$18:$E$21,0),) -> matin
B64: =B63+1 -> 43528 | C64: =C63+1 -> 43528 | D64: =INDEX('Régime de Travail'!$G$18:$G$21,MATCH(OFFSET('Régime de Travail'!$D$3,MOD(WEEKNUM(B64,2)-1,12)+1,WEEKDAY(B64,2)),'Régime de Travail'!$E$18:$E$21,0),) -> matin
B65: =B64+1 -> 43529 | C65: =C64+1 -> 43529 | D65: =INDEX('Régime de Travail'!$G$18:$G$21,MATCH(OFFSET('Régime de Travail'!$D$3,MOD(WEEKNUM(B65,2)-1,12)+1,WEEKDAY(B65,2)),'Régime de Travail'!$E$18:$E$21,0),) -> matin
B66: =B65+1 -> 43530 | C66: =C65+1 -> 43530 | D66: =INDEX('Régime de Travail'!$G$18:$G$21,MATCH(OFFSET('Régime de Travail'!$D$3,MOD(WEEKNUM(B66,2)-1,12)+1,WEEKDAY(B66,2)),'Régime de Travail'!$E$18:$E$21,0),) -> repos
B67: =B66+1 -> 43531 | C67: =C66+1 -> 43531 | D67: =INDEX('Régime de Travail'!$G$18:$G$21,MATCH(OFFSET('Régime de Travail'!$D$3,MOD(WEEKNUM(B67,2)-1,12)+1,WEEKDAY(B67,2)),'Régime de Travail'!$E$18:$E$21,0),) -> repos
B68: =B67+1 -> 43532 | C68: =C67+1 -> 43532 | D68: =INDEX('Régime de Travail'!$G$18:$G$21,MATCH(OFFSET('Régime de Travail'!$D$3,MOD(WEEKNUM(B68,2)-1,12)+1,WEEKDAY(B68,2)),'Régime de Travail'!$E$18:$E$21,0),) -> soir
B69: =B68+1 -> 43533 | C69: =C68+1 -> 43533 | D69: =INDEX('Régime de Travail'!$G$18:$G$21,MATCH(OFFSET('Régime de Travail'!$D$3,MOD(WEEKNUM(B69,2)-1,12)+1,WEEKDAY(B69,2)),'Régime de Travail'!$E$18:$E$21,0),) -> soir
B70: =B69+1 -> 43534 | C70: =C69+1 -> 43534 | D70: =INDEX('Régime de Travail'!$G$18:$G$21,MATCH(OFFSET('Régime de Travail'!$D$3,MOD(WEEKNUM(B70,2)-1,12)+1,WEEKDAY(B70,2)),'Régime de Travail'!$E$18:$E$21,0),) -> soir
B71: =B70+1 -> 43535 | C71: =C70+1 -> 43535 | D71: =INDEX('Régime de Travail'!$G$18:$G$21,MATCH(OFFSET('Régime de Travail'!$D$3,MOD(WEEKNUM(B71,2)-1,12)+1,WEEKDAY(B71,2)),'Régime de Travail'!$E$18:$E$21,0),) -> soir
...
