Workbook

Sheet Scrapping Thomas
A1: CUSHMAN & WAKEFIELD | B1: =IFERROR(INDEX('Email Extractor'!A:A,MATCH(C1,'Email Extractor'!B:B,0)),"")
A2: cushman & wakefield (dublin - ireland) | B2: =IFERROR(INDEX('Email Extractor'!A:A,MATCH(C2,'Email Extractor'!B:B,0)),"") | C2: http://www.cushmanwakefield.com/en/offices/dublin/
A3: cushman & wakefield / forton | B3: =IFERROR(INDEX('Email Extractor'!A:A,MATCH(C3,'Email Extractor'!B:B,0)),"") | C3: 0
A4: cushman & wakefield echinox | B4: =IFERROR(INDEX('Email Extractor'!A:A,MATCH(C4,'Email Extractor'!B:B,0)),"") -> info@cwechinox.com | C4: https://cwechinox.com/
A5: cushman & wakefield finland | B5: =IFERROR(INDEX('Email Extractor'!A:A,MATCH(C5,'Email Extractor'!B:B,0)),"") -> pardeep.bhakar@eur.cushwake.com | C5: http://www.cushmanwakefield.com/en/alliances/finland/
A6: cushman & wakefield llp | B6: =IFERROR(INDEX('Email Extractor'!A:A,MATCH(C6,'Email Extractor'!B:B,0)),"") | C6: 0
A7: cushman & wakefield llp | B7: =IFERROR(INDEX('Email Extractor'!A:A,MATCH(C7,'Email Extractor'!B:B,0)),"") | C7: http://www.cushmanwakefield.co.uk/
A8: cushman & wakefield polska sp. zoo | B8: =IFERROR(INDEX('Email Extractor'!A:A,MATCH(C8,'Email Extractor'!B:B,0)),"") | C8: https://www.spcc.pl/en/news/members/details/22094
A9: cushman & wakefield realkapital | B9: =IFERROR(INDEX('Email Extractor'!A:A,MATCH(C9,'Email Extractor'!B:B,0)),"") -> as@cwrealkapital.com | C9: https://cwrealkapital.no/
A10: cushman & wakefield ukraine | B10: =IFERROR(INDEX('Email Extractor'!A:A,MATCH(C10,'Email Extractor'!B:B,0)),"") | C10: 0
A11: cushman and wakefield ltd | B11: =IFERROR(INDEX('Email Extractor'!A:A,MATCH(C11,'Email Extractor'!B:B,0)),"") | C11: http://www.cushmanwakefield.ca/
A12: cviker ar | B12: =IFERROR(INDEX('Email Extractor'!A:A,MATCH(C12,'Email Extractor'!B:B,0)),"") | C12: 0
A13: cwlep - coventry & warwickshire champions | B13: =IFERROR(INDEX('Email Extractor'!A:A,MATCH(C13,'Email Extractor'!B:B,0)),"") -> contact@cwlep.com | C13: https://www.cwlep.com/
A14: cybarco development ltd | B14: =IFERROR(INDEX('Email Extractor'!A:A,MATCH(C14,'Email Extractor'!B:B,0)),"") -> info@cybarco.com | C14: https://www.cybarco.com/
A15: cyprus pavilion (cyprus investment promotion agency) | B15: =IFERROR(INDEX('Email Extractor'!A:A,MATCH(C15,'Email Extractor'!B:B,0)),"") -> info@investcyprus.org.cy | C15: https://www.investcyprus.org.cy/
A16: czechinvest | B16: =IFERROR(INDEX('Email Extractor'!A:A,MATCH(C16,'Email Extractor'!B:B,0)),"") -> info@czechinvest.org | C16: https://www.czechinvest.org/en
A17: d'act - deleuze et associs | B17: =IFERROR(INDEX('Email Extractor'!A:A,MATCH(C17,'Email Extractor'!B:B,0)),"") | C17: 0
A18: d2 architectes et associes sa | B18: =IFERROR(INDEX('Email Extractor'!A:A,MATCH(C18,'Email Extractor'!B:B,0)),"") -> info@d2architectes.ch | C18: https://www.d2architectes.ch/
A19: d2n2 | B19: =IFERROR(INDEX('Email Extractor'!A:A,MATCH(C19,'Email Extractor'!B:B,0)),"") | C19: http://www.d2n2lep.org/
A20: dagli atelier d'architecture | B20: =IFERROR(INDEX('Email Extractor'!A:A,MATCH(C20,'Email Extractor'!B:B,0)),"") | C20: http://dagli.lu/
A21: dahl law firm | B21: =IFERROR(INDEX('Email Extractor'!A:A,MATCH(C21,'Email Extractor'!B:B,0)),"") | C21: 0
A22: daily real estate s.r.l. | B22: =IFERROR(INDEX('Email Extractor'!A:A,MATCH(C22,'Email Extractor'!B:B,0)),"") | C22: http://thedailyrealestate.com/
A23: dal erhvervsmaegler - nai danmark | B23: =IFERROR(INDEX('Email Extractor'!A:A,MATCH(C23,'Email Extractor'!B:B,0)),"") | C23: 0
A24: dan mark ejendomme a/s | B24: =IFERROR(INDEX('Email Extractor'!A:A,MATCH(C24,'Email Extractor'!B:B,0)),"") | C24: http://dmejd.dk/
A25: danbolig projektsalg og erhverv | B25: =IFERROR(INDEX('Email Extractor'!A:A,MATCH(C25,'Email Extractor'!B:B,0)),"") -> aarhus.erhverv@danbolig.dk | C25: https://danboligerhverv.dk/
A26: dandara | B26: =IFERROR(INDEX('Email Extractor'!A:A,MATCH(C26,'Email Extractor'!B:B,0)),"") -> dpo@dandara.com | C26: https://www.dandara.com/
A27: danielsen architecture | B27: =IFERROR(INDEX('Email Extractor'!A:A,MATCH(C27,'Email Extractor'!B:B,0)),"") | C27: 0
A28: danielsen architecture a/s | B28: =IFERROR(INDEX('Email Extractor'!A:A,MATCH(C28,'Email Extractor'!B:B,0)),"") -> post@danielsenarch.com | C28: https://danielsen.eu/architecture/
A29: danielsen spaceplanning | B29: =IFERROR(INDEX('Email Extractor'!A:A,MATCH(C29,'Email Extractor'!B:B,0)),"") | C29: 0
A30: danielsen urban landscape | B30: =IFERROR(INDEX('Email Extractor'!A:A,MATCH(C30,'Email Extractor'!B:B,0)),"") | C30: https://danielsen.eu/danielsen-urban-landscape/
A31: danos greece | B31: =IFERROR(INDEX('Email Extractor'!A:A,MATCH(C31,'Email Extractor'!B:B,0)),"") | C31: 0
A32: dar | B32: =IFERROR(INDEX('Email Extractor'!A:A,MATCH(C32,'Email Extractor'!B:B,0)),"") | C32: https://acronyms.thefreedictionary.com/DAR
A33: dare 2 build | B33: =IFERROR(INDEX('Email Extractor'!A:A,MATCH(C33,'Email Extractor'!B:B,0)),"") | C33: https://www.dare2build.com/
A34: dark as | B34: =IFERROR(INDEX('Email Extractor'!A:A,MATCH(C34,'Email Extractor'!B:B,0)),"") | C34: https://www.merriam-webster.com/dictionary/as%20black/dark%20as%20pitch
A35: darnu group uab | B35: =IFERROR(INDEX('Email Extractor'!A:A,MATCH(C35,'Email Extractor'!B:B,0)),"") | C35: 0
A36: dauvister sa | B36: =IFERROR(INDEX('Email Extractor'!A:A,MATCH(C36,'Email Extractor'!B:B,0)),"") -> info@dauvister.com | C36: https://www.dauvister.com/fr/
A37: david miller architects | B37: =IFERROR(INDEX('Email Extractor'!A:A,MATCH(C37,'Email Extractor'!B:B,0)),"") | C37: http://davidmillerarchitect.com/
A38: david morley architects | B38: =IFERROR(INDEX('Email Extractor'!A:A,MATCH(C38,'Email Extractor'!B:B,0)),"") | C38: http://davidmorleyarchitects.co.uk/
A39: david roden architects | B39: =IFERROR(INDEX('Email Extractor'!A:A,MATCH(C39,'Email Extractor'!B:B,0)),"") | C39: 0
A40: davies partnership | B40: =IFERROR(INDEX('Email Extractor'!A:A,MATCH(C40,'Email Extractor'!B:B,0)),"") | C40: https://daviespartnership.co.uk/
...

Sheet Email Extractor
A1: info@cwechinox.com | B1: https://cwechinox.com/
A2: pardeep.bhakar@eur.cushwake.com | B2: http://www.cushmanwakefield.com/en/alliances/finland/
A3: janne.eriksson@cushwake.fi | B3: http://www.cushmanwakefield.com/en/alliances/finland/
A4: idesk@cushwake.com | B4: http://www.cushmanwakefield.com/en/alliances/finland/
A5: po@huntool.in | B5: https://www.linkedin.com/feed/
A6: julien.frigoul@redlab.io | B6: https://www.linkedin.com/feed/
A7: as@cwrealkapital.com | B7: https://cwrealkapital.no/
A8: post@cwrealkapital.com | B8: https://cwrealkapital.no/
A9: md@cwrealkapital.com | B9: https://cwrealkapital.no/
A10: pmf@cwrealkapital.com | B10: https://cwrealkapital.no/
A11: tsb@cwrealkapital.com | B11: https://cwrealkapital.no/
A12: ae@cwrealkapital.com | B12: https://cwrealkapital.no/
... A387: dabei-sein@baunetz.de | B387: https://www.baunetz-architekten.de/kleihues-kleihues/31527
