Workbook

Sheet Reporting
A1: Noms | B1: Type de contrat | C1: Date de signature
A2: André | C2: 43740
A3: Patrick | C3: 43693
A4: Jean-pierre | C4: 43679
A5: Jean-pierre | C5: 43563
A6: André | C6: 43617
A7: Louis | C7: 43576
A8: Patrick | C8: 43736
A9: André | C9: 43644
A10: Patrick | C10: 43550
A11: André | C11: 43556
A12: Louis | C12: 43679
A13: Jean-pierre | C13: 43619
... A16: Louis | C16: 43685

Sheet Récapitulatif
A1: Noms | B1: janvier | C1: février | D1: mars | E1: avril | F1: mai | G1: juin | H1: juillet | I1: août | J1: septembre | K1: octobre | L1: novembre | M1: décembre | N1: Total
A2: Jean-pierre | B2: =IF(SUMPRODUCT((Reporting!$A$2:$A$16=Récapitulatif!$A2)*(MONTH(Reporting!$C$2:$C$16)=MATCH(B$1,$B$1:$N$1,0))*1)=0,"",SUMPRODUCT((Reporting!$A$2:$A$16=Récapitulatif!$A2)*(MONTH(Reporting!$C$2:$C$16)=MATCH(B$1,$B$1:$N$1,0))*1)) | C2: =IF(SUMPRODUCT((Reporting!$A$2:$A$16=Récapitulatif!$A2)*(MONTH(Reporting!$C$2:$C$16)=MATCH(C$1,$B$1:$N$1,0))*1)=0,"",SUMPRODUCT((Reporting!$A$2:$A$16=Récapitulatif!$A2)*(MONTH(Reporting!$C$2:$C$16)=MATCH(C$1,$B$1:$N$1,0))*1)) | D2: =IF(SUMPRODUCT((Reporting!$A$2:$A$16=Récapitulatif!$A2)*(MONTH(Reporting!$C$2:$C$16)=MATCH(D$1,$B$1:$N$1,0))*1)=0,"",SUMPRODUCT((Reporting!$A$2:$A$16=Récapitulatif!$A2)*(MONTH(Reporting!$C$2:$C$16)=MATCH(D$1,$B$1:$N$1,0))*1)) | E2: =IF(SUMPRODUCT((Reporting!$A$2:$A$16=Récapitulatif!$A2)*(MONTH(Reporting!$C$2:$C$16)=MATCH(E$1,$B$1:$N$1,0))*1)=0,"",SUMPRODUCT((Reporting!$A$2:$A$16=Récapitulatif!$A2)*(MONTH(Reporting!$C$2:$C$16)=MATCH(E$1,$B$1:$N$1,0))*1)) -> 1 | F2: =IF(SUMPRODUCT((Reporting!$A$2:$A$16=Récapitulatif!$A2)*(MONTH(Reporting!$C$2:$C$16)=MATCH(F$1,$B$1:$N$1,0))*1)=0,"",SUMPRODUCT((Reporting!$A$2:$A$16=Récapitulatif!$A2)*(MONTH(Reporting!$C$2:$C$16)=MATCH(F$1,$B$1:$N$1,0))*1)) | G2: =IF(SUMPRODUCT((Reporting!$A$2:$A$16=Récapitulatif!$A2)*(MONTH(Reporting!$C$2:$C$16)=MATCH(G$1,$B$1:$N$1,0))*1)=0,"",SUMPRODUCT((Reporting!$A$2:$A$16=Récapitulatif!$A2)*(MONTH(Reporting!$C$2:$C$16)=MATCH(G$1,$B$1:$N$1,0))*1)) -> 1 | H2: =IF(SUMPRODUCT((Reporting!$A$2:$A$16=Récapitulatif!$A2)*(MONTH(Reporting!$C$2:$C$16)=MATCH(H$1,$B$1:$N$1,0))*1)=0,"",SUMPRODUCT((Reporting!$A$2:$A$16=Récapitulatif!$A2)*(MONTH(Reporting!$C$2:$C$16)=MATCH(H$1,$B$1:$N$1,0))*1)) | I2: =IF(SUMPRODUCT((Reporting!$A$2:$A$16=Récapitulatif!$A2)*(MONTH(Reporting!$C$2:$C$16)=MATCH(I$1,$B$1:$N$1,0))*1)=0,"",SUMPRODUCT((Reporting!$A$2:$A$16=Récapitulatif!$A2)*(MONTH(Reporting!$C$2:$C$16)=MATCH(I$1,$B$1:$N$1,0))*1)) -> 1 | ... M2: =IF(SUMPRODUCT((Reporting!$A$2:$A$16=Récapitulatif!$A2)*(MONTH(Reporting!$C$2:$C$16)=MATCH(M$1,$B$1:$N$1,0))*1)=0,"",SUMPRODUCT((Reporting!$A$2:$A$16=Récapitulatif!$A2)*(MONTH(Reporting!$C$2:$C$16)=MATCH(M$1,$B$1:$N$1,0))*1)) | N2: =SUM(B2:M2) -> 3
A3: André | B3: =IF(SUMPRODUCT((Reporting!$A$2:$A$16=Récapitulatif!$A3)*(MONTH(Reporting!$C$2:$C$16)=MATCH(B$1,$B$1:$N$1,0))*1)=0,"",SUMPRODUCT((Reporting!$A$2:$A$16=Récapitulatif!$A3)*(MONTH(Reporting!$C$2:$C$16)=MATCH(B$1,$B$1:$N$1,0))*1)) | C3: =IF(SUMPRODUCT((Reporting!$A$2:$A$16=Récapitulatif!$A3)*(MONTH(Reporting!$C$2:$C$16)=MATCH(C$1,$B$1:$N$1,0))*1)=0,"",SUMPRODUCT((Reporting!$A$2:$A$16=Récapitulatif!$A3)*(MONTH(Reporting!$C$2:$C$16)=MATCH(C$1,$B$1:$N$1,0))*1)) | D3: =IF(SUMPRODUCT((Reporting!$A$2:$A$16=Récapitulatif!$A3)*(MONTH(Reporting!$C$2:$C$16)=MATCH(D$1,$B$1:$N$1,0))*1)=0,"",SUMPRODUCT((Reporting!$A$2:$A$16=Récapitulatif!$A3)*(MONTH(Reporting!$C$2:$C$16)=MATCH(D$1,$B$1:$N$1,0))*1)) | E3: =IF(SUMPRODUCT((Reporting!$A$2:$A$16=Récapitulatif!$A3)*(MONTH(Reporting!$C$2:$C$16)=MATCH(E$1,$B$1:$N$1,0))*1)=0,"",SUMPRODUCT((Reporting!$A$2:$A$16=Récapitulatif!$A3)*(MONTH(Reporting!$C$2:$C$16)=MATCH(E$1,$B$1:$N$1,0))*1)) -> 1 | F3: =IF(SUMPRODUCT((Reporting!$A$2:$A$16=Récapitulatif!$A3)*(MONTH(Reporting!$C$2:$C$16)=MATCH(F$1,$B$1:$N$1,0))*1)=0,"",SUMPRODUCT((Reporting!$A$2:$A$16=Récapitulatif!$A3)*(MONTH(Reporting!$C$2:$C$16)=MATCH(F$1,$B$1:$N$1,0))*1)) | G3: =IF(SUMPRODUCT((Reporting!$A$2:$A$16=Récapitulatif!$A3)*(MONTH(Reporting!$C$2:$C$16)=MATCH(G$1,$B$1:$N$1,0))*1)=0,"",SUMPRODUCT((Reporting!$A$2:$A$16=Récapitulatif!$A3)*(MONTH(Reporting!$C$2:$C$16)=MATCH(G$1,$B$1:$N$1,0))*1)) -> 2 | H3: =IF(SUMPRODUCT((Reporting!$A$2:$A$16=Récapitulatif!$A3)*(MONTH(Reporting!$C$2:$C$16)=MATCH(H$1,$B$1:$N$1,0))*1)=0,"",SUMPRODUCT((Reporting!$A$2:$A$16=Récapitulatif!$A3)*(MONTH(Reporting!$C$2:$C$16)=MATCH(H$1,$B$1:$N$1,0))*1)) | I3: =IF(SUMPRODUCT((Reporting!$A$2:$A$16=Récapitulatif!$A3)*(MONTH(Reporting!$C$2:$C$16)=MATCH(I$1,$B$1:$N$1,0))*1)=0,"",SUMPRODUCT((Reporting!$A$2:$A$16=Récapitulatif!$A3)*(MONTH(Reporting!$C$2:$C$16)=MATCH(I$1,$B$1:$N$1,0))*1)) | ... M3: =IF(SUMPRODUCT((Reporting!$A$2:$A$16=Récapitulatif!$A3)*(MONTH(Reporting!$C$2:$C$16)=MATCH(M$1,$B$1:$N$1,0))*1)=0,"",SUMPRODUCT((Reporting!$A$2:$A$16=Récapitulatif!$A3)*(MONTH(Reporting!$C$2:$C$16)=MATCH(M$1,$B$1:$N$1,0))*1)) | N3: =SUM(B3:M3) -> 4
A4: Louis | B4: =IF(SUMPRODUCT((Reporting!$A$2:$A$16=Récapitulatif!$A4)*(MONTH(Reporting!$C$2:$C$16)=MATCH(B$1,$B$1:$N$1,0))*1)=0,"",SUMPRODUCT((Reporting!$A$2:$A$16=Récapitulatif!$A4)*(MONTH(Reporting!$C$2:$C$16)=MATCH(B$1,$B$1:$N$1,0))*1)) | C4: =IF(SUMPRODUCT((Reporting!$A$2:$A$16=Récapitulatif!$A4)*(MONTH(Reporting!$C$2:$C$16)=MATCH(C$1,$B$1:$N$1,0))*1)=0,"",SUMPRODUCT((Reporting!$A$2:$A$16=Récapitulatif!$A4)*(MONTH(Reporting!$C$2:$C$16)=MATCH(C$1,$B$1:$N$1,0))*1)) -> 1 | D4: =IF(SUMPRODUCT((Reporting!$A$2:$A$16=Récapitulatif!$A4)*(MONTH(Reporting!$C$2:$C$16)=MATCH(D$1,$B$1:$N$1,0))*1)=0,"",SUMPRODUCT((Reporting!$A$2:$A$16=Récapitulatif!$A4)*(MONTH(Reporting!$C$2:$C$16)=MATCH(D$1,$B$1:$N$1,0))*1)) | E4: =IF(SUMPRODUCT((Reporting!$A$2:$A$16=Récapitulatif!$A4)*(MONTH(Reporting!$C$2:$C$16)=MATCH(E$1,$B$1:$N$1,0))*1)=0,"",SUMPRODUCT((Reporting!$A$2:$A$16=Récapitulatif!$A4)*(MONTH(Reporting!$C$2:$C$16)=MATCH(E$1,$B$1:$N$1,0))*1)) -> 1 | F4: =IF(SUMPRODUCT((Reporting!$A$2:$A$16=Récapitulatif!$A4)*(MONTH(Reporting!$C$2:$C$16)=MATCH(F$1,$B$1:$N$1,0))*1)=0,"",SUMPRODUCT((Reporting!$A$2:$A$16=Récapitulatif!$A4)*(MONTH(Reporting!$C$2:$C$16)=MATCH(F$1,$B$1:$N$1,0))*1)) | G4: =IF(SUMPRODUCT((Reporting!$A$2:$A$16=Récapitulatif!$A4)*(MONTH(Reporting!$C$2:$C$16)=MATCH(G$1,$B$1:$N$1,0))*1)=0,"",SUMPRODUCT((Reporting!$A$2:$A$16=Récapitulatif!$A4)*(MONTH(Reporting!$C$2:$C$16)=MATCH(G$1,$B$1:$N$1,0))*1)) | H4: =IF(SUMPRODUCT((Reporting!$A$2:$A$16=Récapitulatif!$A4)*(MONTH(Reporting!$C$2:$C$16)=MATCH(H$1,$B$1:$N$1,0))*1)=0,"",SUMPRODUCT((Reporting!$A$2:$A$16=Récapitulatif!$A4)*(MONTH(Reporting!$C$2:$C$16)=MATCH(H$1,$B$1:$N$1,0))*1)) | I4: =IF(SUMPRODUCT((Reporting!$A$2:$A$16=Récapitulatif!$A4)*(MONTH(Reporting!$C$2:$C$16)=MATCH(I$1,$B$1:$N$1,0))*1)=0,"",SUMPRODUCT((Reporting!$A$2:$A$16=Récapitulatif!$A4)*(MONTH(Reporting!$C$2:$C$16)=MATCH(I$1,$B$1:$N$1,0))*1)) -> 2 | ... M4: =IF(SUMPRODUCT((Reporting!$A$2:$A$16=Récapitulatif!$A4)*(MONTH(Reporting!$C$2:$C$16)=MATCH(M$1,$B$1:$N$1,0))*1)=0,"",SUMPRODUCT((Reporting!$A$2:$A$16=Récapitulatif!$A4)*(MONTH(Reporting!$C$2:$C$16)=MATCH(M$1,$B$1:$N$1,0))*1)) | N4: =SUM(B4:M4) -> 4
A5: Patrick | B5: =IF(SUMPRODUCT((Reporting!$A$2:$A$16=Récapitulatif!$A5)*(MONTH(Reporting!$C$2:$C$16)=MATCH(B$1,$B$1:$N$1,0))*1)=0,"",SUMPRODUCT((Reporting!$A$2:$A$16=Récapitulatif!$A5)*(MONTH(Reporting!$C$2:$C$16)=MATCH(B$1,$B$1:$N$1,0))*1)) -> 1 | C5: =IF(SUMPRODUCT((Reporting!$A$2:$A$16=Récapitulatif!$A5)*(MONTH(Reporting!$C$2:$C$16)=MATCH(C$1,$B$1:$N$1,0))*1)=0,"",SUMPRODUCT((Reporting!$A$2:$A$16=Récapitulatif!$A5)*(MONTH(Reporting!$C$2:$C$16)=MATCH(C$1,$B$1:$N$1,0))*1)) | D5: =IF(SUMPRODUCT((Reporting!$A$2:$A$16=Récapitulatif!$A5)*(MONTH(Reporting!$C$2:$C$16)=MATCH(D$1,$B$1:$N$1,0))*1)=0,"",SUMPRODUCT((Reporting!$A$2:$A$16=Récapitulatif!$A5)*(MONTH(Reporting!$C$2:$C$16)=MATCH(D$1,$B$1:$N$1,0))*1)) -> 1 | E5: =IF(SUMPRODUCT((Reporting!$A$2:$A$16=Récapitulatif!$A5)*(MONTH(Reporting!$C$2:$C$16)=MATCH(E$1,$B$1:$N$1,0))*1)=0,"",SUMPRODUCT((Reporting!$A$2:$A$16=Récapitulatif!$A5)*(MONTH(Reporting!$C$2:$C$16)=MATCH(E$1,$B$1:$N$1,0))*1)) | F5: =IF(SUMPRODUCT((Reporting!$A$2:$A$16=Récapitulatif!$A5)*(MONTH(Reporting!$C$2:$C$16)=MATCH(F$1,$B$1:$N$1,0))*1)=0,"",SUMPRODUCT((Reporting!$A$2:$A$16=Récapitulatif!$A5)*(MONTH(Reporting!$C$2:$C$16)=MATCH(F$1,$B$1:$N$1,0))*1)) | G5: =IF(SUMPRODUCT((Reporting!$A$2:$A$16=Récapitulatif!$A5)*(MONTH(Reporting!$C$2:$C$16)=MATCH(G$1,$B$1:$N$1,0))*1)=0,"",SUMPRODUCT((Reporting!$A$2:$A$16=Récapitulatif!$A5)*(MONTH(Reporting!$C$2:$C$16)=MATCH(G$1,$B$1:$N$1,0))*1)) | H5: =IF(SUMPRODUCT((Reporting!$A$2:$A$16=Récapitulatif!$A5)*(MONTH(Reporting!$C$2:$C$16)=MATCH(H$1,$B$1:$N$1,0))*1)=0,"",SUMPRODUCT((Reporting!$A$2:$A$16=Récapitulatif!$A5)*(MONTH(Reporting!$C$2:$C$16)=MATCH(H$1,$B$1:$N$1,0))*1)) | I5: =IF(SUMPRODUCT((Reporting!$A$2:$A$16=Récapitulatif!$A5)*(MONTH(Reporting!$C$2:$C$16)=MATCH(I$1,$B$1:$N$1,0))*1)=0,"",SUMPRODUCT((Reporting!$A$2:$A$16=Récapitulatif!$A5)*(MONTH(Reporting!$C$2:$C$16)=MATCH(I$1,$B$1:$N$1,0))*1)) -> 1 | ... M5: =IF(SUMPRODUCT((Reporting!$A$2:$A$16=Récapitulatif!$A5)*(MONTH(Reporting!$C$2:$C$16)=MATCH(M$1,$B$1:$N$1,0))*1)=0,"",SUMPRODUCT((Reporting!$A$2:$A$16=Récapitulatif!$A5)*(MONTH(Reporting!$C$2:$C$16)=MATCH(M$1,$B$1:$N$1,0))*1)) | N5: =SUM(B5:M5) -> 4
