Workbook

Sheet DIRECTION
A2: FOURNITURES PRISES 2016
A5: DENOMINATION | B5: JANVIER | C5: FÉVRIER | D5: MARS | E5: AVRIL | F5: MAI | G5: JUIN | H5: JUILLET | I5: AOÛT | J5: SEPTEMBRE | K5: OCTOBRE | L5: NOVEMBRE | M5: DÉCEMBRE | N5: TOTAL
A6: 12A | N6: =IF(SUM(B6:M6)=0,"",SUM(B6:M6))
A7: 85A | N7: =IF(SUM(B7:M7)=0,"",SUM(B7:M7))
A8: 78A | G8: 1 | H8: 1 | N8: =IF(SUM(B8:M8)=0,"",SUM(B8:M8)) -> 2
A9: 53X | N9: =IF(SUM(B9:M9)=0,"",SUM(B9:M9))
A10: 64A | N10: =IF(SUM(B10:M10)=0,"",SUM(B10:M10))
A11: 05X | N11: =IF(SUM(B11:M11)=0,"",SUM(B11:M11))
A12: 80X | N12: =IF(SUM(B12:M12)=0,"",SUM(B12:M12))
A13: 55X | N13: =IF(SUM(B13:M13)=0,"",SUM(B13:M13))
A14: Samsung MR COUDENE | N14: =IF(SUM(B14:M14)=0,"",SUM(B14:M14))
A16: Agrafes | N16: =IF(SUM(B16:M16)=0,"",SUM(B16:M16))
A17: Bannette | N17: =IF(SUM(B17:M17)=0,"",SUM(B17:M17))
A18: Batonnet de colle | N18: =IF(SUM(B18:M18)=0,"",SUM(B18:M18))
A19: Bobine thermique | G19: 1 | N19: =IF(SUM(B19:M19)=0,"",SUM(B19:M19)) -> 1
A20: Boite archives | N20: =IF(SUM(B20:M20)=0,"",SUM(B20:M20))
A21: Boite carton bouteille | N21: =IF(SUM(B21:M21)=0,"",SUM(B21:M21))
A22: Bombe de colle | N22: =IF(SUM(B22:M22)=0,"",SUM(B22:M22))
A23: Cadenas | N23: =IF(SUM(B23:M23)=0,"",SUM(B23:M23))
A24: Cahier tout format | G24: 2 | N24: =IF(SUM(B24:M24)=0,"",SUM(B24:M24)) -> 2
A25: Calculatrice | N25: =IF(SUM(B25:M25)=0,"",SUM(B25:M25))
A26: Chemises | N26: =IF(SUM(B26:M26)=0,"",SUM(B26:M26))
A27: Chemises trapec | N27: =IF(SUM(B27:M27)=0,"",SUM(B27:M27))
A28: Classeurs | N28: =IF(SUM(B28:M28)=0,"",SUM(B28:M28))
A29: Crayon a papier | G29: 4 | N29: =IF(SUM(B29:M29)=0,"",SUM(B29:M29)) -> 4
A30: Dossier suspendu | H30: 3 | N30: =IF(SUM(B30:M30)=0,"",SUM(B30:M30)) -> 3
A31: Enveloppes a soufflet | N31: =IF(SUM(B31:M31)=0,"",SUM(B31:M31))
A32: Enveloppes blanche a fenetre petit format | N32: =IF(SUM(B32:M32)=0,"",SUM(B32:M32))
A33: Enveloppes blanche grand format | N33: =IF(SUM(B33:M33)=0,"",SUM(B33:M33))
A34: Enveloppes blanche moyen format | N34: =IF(SUM(B34:M34)=0,"",SUM(B34:M34))
A35: Enveloppes blanche sans fenetre petit format | I35: 1 | N35: =IF(SUM(B35:M35)=0,"",SUM(B35:M35)) -> 1
A36: Enveloppes marron grand format | N36: =IF(SUM(B36:M36)=0,"",SUM(B36:M36))
A37: Enveloppes marron moyen format | N37: =IF(SUM(B37:M37)=0,"",SUM(B37:M37))
A38: Etiquettes | N38: =IF(SUM(B38:M38)=0,"",SUM(B38:M38))
A39: Feutre effacable | N39: =IF(SUM(B39:M39)=0,"",SUM(B39:M39))
A40: Gaz dépoussiérant | N40: =IF(SUM(B40:M40)=0,"",SUM(B40:M40))
A41: Gomme | N41: =IF(SUM(B41:M41)=0,"",SUM(B41:M41))
A42: Intercalaires | G42: 1 | N42: =IF(SUM(B42:M42)=0,"",SUM(B42:M42)) -> 1
A43: Markeur ONYX petit format | N43: =IF(SUM(B43:M43)=0,"",SUM(B43:M43))
A44: Markeur ONYX grand format | N44: =IF(SUM(B44:M44)=0,"",SUM(B44:M44))
A45: Papier A3 blanc | N45: =IF(SUM(B45:M45)=0,"",SUM(B45:M45))
A46: Papier A3 couleurs | N46: =IF(SUM(B46:M46)=0,"",SUM(B46:M46))
A47: Papier A4 blanc | G47: 2 | N47: =IF(SUM(B47:M47)=0,"",SUM(B47:M47)) -> 2
A48: Papier A4 couleurs | N48: =IF(SUM(B48:M48)=0,"",SUM(B48:M48))
A49: Papier clairefontaine blanc marketing 2618 | N49: =IF(SUM(B49:M49)=0,"",SUM(B49:M49))
A50: Papier en tête | N50: =IF(SUM(B50:M50)=0,"",SUM(B50:M50))
A51: Papier paperboard | N51: =IF(SUM(B51:M51)=0,"",SUM(B51:M51))
A52: Papier photo | N52: =IF(SUM(B52:M52)=0,"",SUM(B52:M52))
A53: Piles 2025 | N53: =IF(SUM(B53:M53)=0,"",SUM(B53:M53))
A54: Piles 2032 | N54: =IF(SUM(B54:M54)=0,"",SUM(B54:M54))
A55: Piles 9V | N55: =IF(SUM(B55:M55)=0,"",SUM(B55:M55))
A56: Piles AA | I56: 1 | N56: =IF(SUM(B56:M56)=0,"",SUM(B56:M56)) -> 1
A57: Piles AAA | N57: =IF(SUM(B57:M57)=0,"",SUM(B57:M57))
A58: Piles LR44 | N58: =IF(SUM(B58:M58)=0,"",SUM(B58:M58))
A59: Piles LR54 | N59: =IF(SUM(B59:M59)=0,"",SUM(B59:M59))
A60: Piles392HD | N60: =IF(SUM(B60:M60)=0,"",SUM(B60:M60))
A61: Pochette à bulles | G61: 5 | H61: 8 | I61: 6 | N61: =IF(SUM(B61:M61)=0,"",SUM(B61:M61)) -> 19
A62: Pochette avec elastiques | N62: =IF(SUM(B62:M62)=0,"",SUM(B62:M62))
A63: Pochette plastique coin | N63: =IF(SUM(B63:M63)=0,"",SUM(B63:M63))
A64: Pochettes plastiques perforé classeur | G64: 1 | H64: 1 | N64: =IF(SUM(B64:M64)=0,"",SUM(B64:M64)) -> 2
A65: Porte clefs | H65: 3 | N65: =IF(SUM(B65:M65)=0,"",SUM(B65:M65)) -> 3
A66: Porte vue | N66: =IF(SUM(B66:M66)=0,"",SUM(B66:M66))
A67: Plastique à plastifier | N67: =IF(SUM(B67:M67)=0,"",SUM(B67:M67))
A68: Reliure plastique | N68: =IF(SUM(B68:M68)=0,"",SUM(B68:M68))
A69: Roller de correction | G69: 1 | N69: =IF(SUM(B69:M69)=0,"",SUM(B69:M69)) -> 1
A70: Scotch | I70: 1 | N70: =IF(SUM(B70:M70)=0,"",SUM(B70:M70)) -> 1
A71: Sous chemises | N71: =IF(SUM(B71:M71)=0,"",SUM(B71:M71))
A72: Stabilo | G72: 1 | H72: 1 | N72: =IF(SUM(B72:M72)=0,"",SUM(B72:M72)) -> 2
A73: Stylo bleu a capuchon | G73: 3 | N73: =IF(SUM(B73:M73)=0,"",SUM(B73:M73)) -> 3
A74: Stylo noir a capuchon | N74: =IF(SUM(B74:M74)=0,"",SUM(B74:M74))
A75: Stylo retractable bleu | N75: =IF(SUM(B75:M75)=0,"",SUM(B75:M75))
A76: Stylo retractable rouge | N76: =IF(SUM(B76:M76)=0,"",SUM(B76:M76))
A77: Stylo rouge a capuchon | N77: =IF(SUM(B77:M77)=0,"",SUM(B77:M77))
A78: Stylo signature | N78: =IF(SUM(B78:M78)=0,"",SUM(B78:M78))
A79: Tampons | N79: =IF(SUM(B79:M79)=0,"",SUM(B79:M79))
A80: Traite | N80: =IF(SUM(B80:M80)=0,"",SUM(B80:M80))
A81: Trieurs | G81: 2 | H81: 2 | N81: =IF(SUM(B81:M81)=0,"",SUM(B81:M81)) -> 4
A83: Agitateur | N83: =IF(SUM(B83:M83)=0,"",SUM(B83:M83))
A84: Assiettes | N84: =IF(SUM(B84:M84)=0,"",SUM(B84:M84))
A85: Chemin de table | N85: =IF(SUM(B85:M85)=0,"",SUM(B85:M85))
A86: Couteaux | N86: =IF(SUM(B86:M86)=0,"",SUM(B86:M86))
A87: Cuillere à soupe | N87: =IF(SUM(B87:M87)=0,"",SUM(B87:M87))
A88: Cuillere petit format | N88: =IF(SUM(B88:M88)=0,"",SUM(B88:M88))
A89: Fourchettes | N89: =IF(SUM(B89:M89)=0,"",SUM(B89:M89))
A90: mini bouchée | N90: =IF(SUM(B90:M90)=0,"",SUM(B90:M90))
A91: Mini poissons | N91: =IF(SUM(B91:M91)=0,"",SUM(B91:M91))
A92: Plateaux | N92: =IF(SUM(B92:M92)=0,"",SUM(B92:M92))
A93: poche a douille | N93: =IF(SUM(B93:M93)=0,"",SUM(B93:M93))
A94: Serviettes | N94: =IF(SUM(B94:M94)=0,"",SUM(B94:M94))
... A97: Verre à champagne | N97: =IF(SUM(B97:M97)=0,"",SUM(B97:M97))
A98: Verre en plastique | H98: 6 | N98: =IF(SUM(B98:M98)=0,"",SUM(B98:M98)) -> 6
A99: Verre en verre | N99: =IF(SUM(B99:M99)=0,"",SUM(B99:M99))
A100: Verres à vins | N100: =IF(SUM(B100:M100)=0,"",SUM(B100:M100))
A101: Verrines | N101: =IF(SUM(B101:M101)=0,"",SUM(B101:M101))

Sheet COMPTA
A2: FOURNITURES PRISES 2016
A5: DENOMINATION | B5: JANVIER | C5: FÉVRIER | D5: MARS | E5: AVRIL | F5: MAI | G5: JUIN | H5: JUILLET | I5: AOÛT | J5: SEPTEMBRE | K5: OCTOBRE | L5: NOVEMBRE | M5: DÉCEMBRE | N5: TOTAL
A6: 12A | G6: 1 | N6: =IF(SUM(B6:M6)=0,"",SUM(B6:M6)) -> 1
A7: 85A | N7: =IF(SUM(B7:M7)=0,"",SUM(B7:M7))
A8: 78A | N8: =IF(SUM(B8:M8)=0,"",SUM(B8:M8))
A9: 53X | N9: =IF(SUM(B9:M9)=0,"",SUM(B9:M9))
A10: 64A | N10: =IF(SUM(B10:M10)=0,"",SUM(B10:M10))
A11: 05X | N11: =IF(SUM(B11:M11)=0,"",SUM(B11:M11))
A12: 80X | N12: =IF(SUM(B12:M12)=0,"",SUM(B12:M12))
A13: 55X | N13: =IF(SUM(B13:M13)=0,"",SUM(B13:M13))
A14: Samsung MR COUDENE | N14: =IF(SUM(B14:M14)=0,"",SUM(B14:M14))
A16: Agrafes | N16: =IF(SUM(B16:M16)=0,"",SUM(B16:M16))
A17: Bannette | N17: =IF(SUM(B17:M17)=0,"",SUM(B17:M17))
A18: Batonnet de colle | H18: 1 | N18: =IF(SUM(B18:M18)=0,"",SUM(B18:M18)) -> 1
A19: Bobine thermique | G19: 1 | N19: =IF(SUM(B19:M19)=0,"",SUM(B19:M19)) -> 1
A20: Boite archives | H20: 6 | N20: =IF(SUM(B20:M20)=0,"",SUM(B20:M20)) -> 6
A21: Boite carton bouteille | N21: =IF(SUM(B21:M21)=0,"",SUM(B21:M21))
A22: Bombe de colle | N22: =IF(SUM(B22:M22)=0,"",SUM(B22:M22))
A23: Cadenas | N23: =IF(SUM(B23:M23)=0,"",SUM(B23:M23))
A24: Cahier tout format | N24: =IF(SUM(B24:M24)=0,"",SUM(B24:M24))
A25: Calculatrice | N25: =IF(SUM(B25:M25)=0,"",SUM(B25:M25))
A26: Chemises | G26: 5 | N26: =IF(SUM(B26:M26)=0,"",SUM(B26:M26)) -> 5
A27: Chemises trapec | N27: =IF(SUM(B27:M27)=0,"",SUM(B27:M27))
A28: Classeurs | N28: =IF(SUM(B28:M28)=0,"",SUM(B28:M28))
A29: Crayon a papier | N29: =IF(SUM(B29:M29)=0,"",SUM(B29:M29))
A30: Dossier suspendu | N30: =IF(SUM(B30:M30)=0,"",SUM(B30:M30))
A31: Enveloppes a soufflet | N31: =IF(SUM(B31:M31)=0,"",SUM(B31:M31))
A32: Enveloppes blanche a fenetre petit format | H32: 1 | N32: =IF(SUM(B32:M32)=0,"",SUM(B32:M32)) -> 1
A33: Enveloppes blanche grand format | N33: =IF(SUM(B33:M33)=0,"",SUM(B33:M33))
A34: Enveloppes blanche moyen format | N34: =IF(SUM(B34:M34)=0,"",SUM(B34:M34))
A35: Enveloppes blanche sans fenetre petit format | N35: =IF(SUM(B35:M35)=0,"",SUM(B35:M35))
A36: Enveloppes marron grand format | N36: =IF(SUM(B36:M36)=0,"",SUM(B36:M36))
A37: Enveloppes marron moyen format | N37: =IF(SUM(B37:M37)=0,"",SUM(B37:M37))
A38: Etiquettes | N38: =IF(SUM(B38:M38)=0,"",SUM(B38:M38))
A39: Feutre effacable | N39: =IF(SUM(B39:M39)=0,"",SUM(B39:M39))
A40: Gaz dépoussiérant | N40: =IF(SUM(B40:M40)=0,"",SUM(B40:M40))
A41: Gomme | N41: =IF(SUM(B41:M41)=0,"",SUM(B41:M41))
A42: Intercalaires | N42: =IF(SUM(B42:M42)=0,"",SUM(B42:M42))
A43: Markeur ONYX petit format | N43: =IF(SUM(B43:M43)=0,"",SUM(B43:M43))
A44: Markeur ONYX grand format | N44: =IF(SUM(B44:M44)=0,"",SUM(B44:M44))
... A46: Papier A3 couleurs | N46: =IF(SUM(B46:M46)=0,"",SUM(B46:M46))
A47: Papier A4 blanc | G47: 10 | N47: =IF(SUM(B47:M47)=0,"",SUM(B47:M47)) -> 10
A48: Papier A4 couleurs | N48: =IF(SUM(B48:M48)=0,"",SUM(B48:M48))
A49: Papier clairefontaine blanc marketing 2618 | N49: =IF(SUM(B49:M49)=0,"",SUM(B49:M49))
A50: Papier en tête | N50: =IF(SUM(B50:M50)=0,"",SUM(B50:M50))
A51: Papier paperboard | N51: =IF(SUM(B51:M51)=0,"",SUM(B51:M51))
A52: Papier photo | N52: =IF(SUM(B52:M52)=0,"",SUM(B52:M52))
A53: Piles 2025 | N53: =IF(SUM(B53:M53)=0,"",SUM(B53:M53))
A54: Piles 2032 | N54: =IF(SUM(B54:M54)=0,"",SUM(B54:M54))
A55: Piles 9V | N55: =IF(SUM(B55:M55)=0,"",SUM(B55:M55))
A56: Piles AA | N56: =IF(SUM(B56:M56)=0,"",SUM(B56:M56))
A57: Piles AAA | N57: =IF(SUM(B57:M57)=0,"",SUM(B57:M57))
A58: Piles LR44 | N58: =IF(SUM(B58:M58)=0,"",SUM(B58:M58))
A59: Piles LR54 | N59: =IF(SUM(B59:M59)=0,"",SUM(B59:M59))
... A62: Pochette avec elastiques | N62: =IF(SUM(B62:M62)=0,"",SUM(B62:M62))
A63: Pochette plastique coin | H63: 1 | N63: =IF(SUM(B63:M63)=0,"",SUM(B63:M63)) -> 1
A64: Pochettes plastiques perforé classeur | N64: =IF(SUM(B64:M64)=0,"",SUM(B64:M64))
A65: Porte clefs | N65: =IF(SUM(B65:M65)=0,"",SUM(B65:M65))
A66: Porte vue | N66: =IF(SUM(B66:M66)=0,"",SUM(B66:M66))
A67: Plastique à plastifier | N67: =IF(SUM(B67:M67)=0,"",SUM(B67:M67))
A68: Reliure plastique | N68: =IF(SUM(B68:M68)=0,"",SUM(B68:M68))
A69: Roller de correction | N69: =IF(SUM(B69:M69)=0,"",SUM(B69:M69))
A70: Scotch | G70: 1 | H70: 1 | N70: =IF(SUM(B70:M70)=0,"",SUM(B70:M70)) -> 2
A71: Sous chemises | G71: 14 | H71: 21 | I71: 10 | N71: =IF(SUM(B71:M71)=0,"",SUM(B71:M71)) -> 45
A72: Stabilo | G72: 1 | H72: 1 | N72: =IF(SUM(B72:M72)=0,"",SUM(B72:M72)) -> 2
A73: Stylo bleu a capuchon | G73: 1 | H73: 1 | N73: =IF(SUM(B73:M73)=0,"",SUM(B73:M73)) -> 2
A74: Stylo noir a capuchon | N74: =IF(SUM(B74:M74)=0,"",SUM(B74:M74))
A75: Stylo retractable bleu | N75: =IF(SUM(B75:M75)=0,"",SUM(B75:M75))
A76: Stylo retractable rouge | N76: =IF(SUM(B76:M76)=0,"",SUM(B76:M76))
A77: Stylo rouge a capuchon | N77: =IF(SUM(B77:M77)=0,"",SUM(B77:M77))
A78: Stylo signature | N78: =IF(SUM(B78:M78)=0,"",SUM(B78:M78))
A79: Tampons | N79: =IF(SUM(B79:M79)=0,"",SUM(B79:M79))
A80: Traite | N80: =IF(SUM(B80:M80)=0,"",SUM(B80:M80))
A81: Trieurs | N81: =IF(SUM(B81:M81)=0,"",SUM(B81:M81))
A83: Agitateur | N83: =IF(SUM(B83:M83)=0,"",SUM(B83:M83))
A84: Assiettes | N84: =IF(SUM(B84:M84)=0,"",SUM(B84:M84))
A85: Chemin de table | N85: =IF(SUM(B85:M85)=0,"",SUM(B85:M85))
A86: Couteaux | N86: =IF(SUM(B86:M86)=0,"",SUM(B86:M86))
... A101: Verrines | N101: =IF(SUM(B101:M101)=0,"",SUM(B101:M101))

Sheet ACCUEIL
A2: FOURNITURES PRISES 2016
A5: DENOMINATION | B5: JANVIER | C5: FÉVRIER | D5: MARS | E5: AVRIL | F5: MAI | G5: JUIN | H5: JUILLET | I5: AOÛT | J5: SEPTEMBRE | K5: OCTOBRE | L5: NOVEMBRE | M5: DÉCEMBRE | N5: TOTAL
A6: 12A | N6: =IF(SUM(B6:M6)=0,"",SUM(B6:M6))
A7: 85A | N7: =IF(SUM(B7:M7)=0,"",SUM(B7:M7))
A8: 78A | N8: =IF(SUM(B8:M8)=0,"",SUM(B8:M8))
A9: 53X | N9: =IF(SUM(B9:M9)=0,"",SUM(B9:M9))
A10: 64A | N10: =IF(SUM(B10:M10)=0,"",SUM(B10:M10))
A11: 05X | N11: =IF(SUM(B11:M11)=0,"",SUM(B11:M11))
A12: 80X | N12: =IF(SUM(B12:M12)=0,"",SUM(B12:M12))
A13: 55X | N13: =IF(SUM(B13:M13)=0,"",SUM(B13:M13))
A14: Samsung MR COUDENE | N14: =IF(SUM(B14:M14)=0,"",SUM(B14:M14))
A16: Agrafes | G16: 1 | N16: =IF(SUM(B16:M16)=0,"",SUM(B16:M16)) -> 1
A17: Bannette | N17: =IF(SUM(B17:M17)=0,"",SUM(B17:M17))
A18: Batonnet de colle | N18: =IF(SUM(B18:M18)=0,"",SUM(B18:M18))
A19: Bobine thermique | N19: =IF(SUM(B19:M19)=0,"",SUM(B19:M19))
A20: Boite archives | N20: =IF(SUM(B20:M20)=0,"",SUM(B20:M20))
A21: Boite carton bouteille | N21: =IF(SUM(B21:M21)=0,"",SUM(B21:M21))
A22: Bombe de colle | N22: =IF(SUM(B22:M22)=0,"",SUM(B22:M22))
A23: Cadenas | N23: =IF(SUM(B23:M23)=0,"",SUM(B23:M23))
A24: Cahier tout format | H24: 2 | N24: =IF(SUM(B24:M24)=0,"",SUM(B24:M24)) -> 2
A25: Calculatrice | N25: =IF(SUM(B25:M25)=0,"",SUM(B25:M25))
A26: Chemises | N26: =IF(SUM(B26:M26)=0,"",SUM(B26:M26))
A27: Chemises trapec | N27: =IF(SUM(B27:M27)=0,"",SUM(B27:M27))
A28: Classeurs | N28: =IF(SUM(B28:M28)=0,"",SUM(B28:M28))
A29: Crayon a papier | N29: =IF(SUM(B29:M29)=0,"",SUM(B29:M29))
A30: Dossier suspendu | N30: =IF(SUM(B30:M30)=0,"",SUM(B30:M30))
A31: Enveloppes a soufflet | N31: =IF(SUM(B31:M31)=0,"",SUM(B31:M31))
A32: Enveloppes blanche a fenetre petit format | G32: 2 | H32: 3 | I32: 3 | N32: =IF(SUM(B32:M32)=0,"",SUM(B32:M32)) -> 8
A33: Enveloppes blanche grand format | H33: 1 | N33: =IF(SUM(B33:M33)=0,"",SUM(B33:M33)) -> 1
A34: Enveloppes blanche moyen format | I34: 1 | N34: =IF(SUM(B34:M34)=0,"",SUM(B34:M34)) -> 1
A35: Enveloppes blanche sans fenetre petit format | H35: 1 | N35: =IF(SUM(B35:M35)=0,"",SUM(B35:M35)) -> 1
A36: Enveloppes marron grand format | H36: 1 | N36: =IF(SUM(B36:M36)=0,"",SUM(B36:M36)) -> 1
A37: Enveloppes marron moyen format | N37: =IF(SUM(B37:M37)=0,"",SUM(B37:M37))
A38: Etiquettes | N38: =IF(SUM(B38:M38)=0,"",SUM(B38:M38))
A39: Feutre effacable | N39: =IF(SUM(B39:M39)=0,"",SUM(B39:M39))
A40: Gaz dépoussiérant | N40: =IF(SUM(B40:M40)=0,"",SUM(B40:M40))
A41: Gomme | N41: =IF(SUM(B41:M41)=0,"",SUM(B41:M41))
A42: Intercalaires | N42: =IF(SUM(B42:M42)=0,"",SUM(B42:M42))
A43: Markeur ONYX petit format | N43: =IF(SUM(B43:M43)=0,"",SUM(B43:M43))
A44: Markeur ONYX grand format | N44: =IF(SUM(B44:M44)=0,"",SUM(B44:M44))
A45: Papier A3 blanc | G45: 1 | N45: =IF(SUM(B45:M45)=0,"",SUM(B45:M45)) -> 1
A46: Papier A3 couleurs | N46: =IF(SUM(B46:M46)=0,"",SUM(B46:M46))
A47: Papier A4 blanc | G47: 30 | H47: 15 | I47: 6 | N47: =IF(SUM(B47:M47)=0,"",SUM(B47:M47)) -> 51
A48: Papier A4 couleurs | N48: =IF(SUM(B48:M48)=0,"",SUM(B48:M48))
A49: Papier clairefontaine blanc marketing 2618 | N49: =IF(SUM(B49:M49)=0,"",SUM(B49:M49))
A50: Papier en tête | N50: =IF(SUM(B50:M50)=0,"",SUM(B50:M50))
A51: Papier paperboard | N51: =IF(SUM(B51:M51)=0,"",SUM(B51:M51))
A52: Papier photo | N52: =IF(SUM(B52:M52)=0,"",SUM(B52:M52))
A53: Piles 2025 | N53: =IF(SUM(B53:M53)=0,"",SUM(B53:M53))
A54: Piles 2032 | N54: =IF(SUM(B54:M54)=0,"",SUM(B54:M54))
A55: Piles 9V | N55: =IF(SUM(B55:M55)=0,"",SUM(B55:M55))
A56: Piles AA | H56: 1 | N56: =IF(SUM(B56:M56)=0,"",SUM(B56:M56)) -> 1
A57: Piles AAA | I57: 2 | N57: =IF(SUM(B57:M57)=0,"",SUM(B57:M57)) -> 2
A58: Piles LR44 | N58: =IF(SUM(B58:M58)=0,"",SUM(B58:M58))
A59: Piles LR54 | N59: =IF(SUM(B59:M59)=0,"",SUM(B59:M59))
A60: Piles392HD | N60: =IF(SUM(B60:M60)=0,"",SUM(B60:M60))
A61: Pochette à bulles | N61: =IF(SUM(B61:M61)=0,"",SUM(B61:M61))
A62: Pochette avec elastiques | N62: =IF(SUM(B62:M62)=0,"",SUM(B62:M62))
A63: Pochette plastique coin | N63: =IF(SUM(B63:M63)=0,"",SUM(B63:M63))
A64: Pochettes plastiques perforé classeur | N64: =IF(SUM(B64:M64)=0,"",SUM(B64:M64))
A65: Porte clefs | N65: =IF(SUM(B65:M65)=0,"",SUM(B65:M65))
A66: Porte vue | N66: =IF(SUM(B66:M66)=0,"",SUM(B66:M66))
A67: Plastique à plastifier | N67: =IF(SUM(B67:M67)=0,"",SUM(B67:M67))
A68: Reliure plastique | N68: =IF(SUM(B68:M68)=0,"",SUM(B68:M68))
A69: Roller de correction | G69: 1 | H69: 1 | N69: =IF(SUM(B69:M69)=0,"",SUM(B69:M69)) -> 2
A70: Scotch | H70: 1 | N70: =IF(SUM(B70:M70)=0,"",SUM(B70:M70)) -> 1
A71: Sous chemises | N71: =IF(SUM(B71:M71)=0,"",SUM(B71:M71))
A72: Stabilo | G72: 1 | N72: =IF(SUM(B72:M72)=0,"",SUM(B72:M72)) -> 1
A73: Stylo bleu a capuchon | N73: =IF(SUM(B73:M73)=0,"",SUM(B73:M73))
A74: Stylo noir a capuchon | N74: =IF(SUM(B74:M74)=0,"",SUM(B74:M74))
A75: Stylo retractable bleu | N75: =IF(SUM(B75:M75)=0,"",SUM(B75:M75))
A76: Stylo retractable rouge | N76: =IF(SUM(B76:M76)=0,"",SUM(B76:M76))
A77: Stylo rouge a capuchon | N77: =IF(SUM(B77:M77)=0,"",SUM(B77:M77))
A78: Stylo signature | N78: =IF(SUM(B78:M78)=0,"",SUM(B78:M78))
A79: Tampons | H79: 1 | N79: =IF(SUM(B79:M79)=0,"",SUM(B79:M79)) -> 1
A80: Traite | N80: =IF(SUM(B80:M80)=0,"",SUM(B80:M80))
A81: Trieurs | N81: =IF(SUM(B81:M81)=0,"",SUM(B81:M81))
A83: Agitateur | N83: =IF(SUM(B83:M83)=0,"",SUM(B83:M83))
A84: Assiettes | N84: =IF(SUM(B84:M84)=0,"",SUM(B84:M84))
A85: Chemin de table | N85: =IF(SUM(B85:M85)=0,"",SUM(B85:M85))
A86: Couteaux | N86: =IF(SUM(B86:M86)=0,"",SUM(B86:M86))
A87: Cuillere à soupe | N87: =IF(SUM(B87:M87)=0,"",SUM(B87:M87))
A88: Cuillere petit format | N88: =IF(SUM(B88:M88)=0,"",SUM(B88:M88))
A89: Fourchettes | N89: =IF(SUM(B89:M89)=0,"",SUM(B89:M89))
A90: mini bouchée | N90: =IF(SUM(B90:M90)=0,"",SUM(B90:M90))
A91: Mini poissons | N91: =IF(SUM(B91:M91)=0,"",SUM(B91:M91))
A92: Plateaux | N92: =IF(SUM(B92:M92)=0,"",SUM(B92:M92))
... A101: Verrines | N101: =IF(SUM(B101:M101)=0,"",SUM(B101:M101))

Sheet ADV
A2: FOURNITURES PRISES 2016
A5: DENOMINATION | B5: JANVIER | C5: FÉVRIER | D5: MARS | E5: AVRIL | F5: MAI | G5: JUIN | H5: JUILLET | I5: AOÛT | J5: SEPTEMBRE | K5: OCTOBRE | L5: NOVEMBRE | M5: DÉCEMBRE | N5: TOTAL
A6: 12A | N6: =IF(SUM(B6:M6)=0,"",SUM(B6:M6))
A7: 85A | N7: =IF(SUM(B7:M7)=0,"",SUM(B7:M7))
A8: 78A | G8: 1 | H8: 1 | N8: =IF(SUM(B8:M8)=0,"",SUM(B8:M8)) -> 2
A9: 53X | N9: =IF(SUM(B9:M9)=0,"",SUM(B9:M9))
A10: 64A | N10: =IF(SUM(B10:M10)=0,"",SUM(B10:M10))
A11: 05X | N11: =IF(SUM(B11:M11)=0,"",SUM(B11:M11))
A12: 80X | G12: 1 | N12: =IF(SUM(B12:M12)=0,"",SUM(B12:M12)) -> 1
A13: 55X | N13: =IF(SUM(B13:M13)=0,"",SUM(B13:M13))
A14: Samsung MR COUDENE | N14: =IF(SUM(B14:M14)=0,"",SUM(B14:M14))
A16: Agrafes | G16: 1 | H16: 1 | N16: =IF(SUM(B16:M16)=0,"",SUM(B16:M16)) -> 2
A17: Bannette | N17: =IF(SUM(B17:M17)=0,"",SUM(B17:M17))
A18: Batonnet de colle | N18: =IF(SUM(B18:M18)=0,"",SUM(B18:M18))
A19: Bobine thermique | N19: =IF(SUM(B19:M19)=0,"",SUM(B19:M19))
A20: Boite archives | N20: =IF(SUM(B20:M20)=0,"",SUM(B20:M20))
A21: Boite carton bouteille | N21: =IF(SUM(B21:M21)=0,"",SUM(B21:M21))
A22: Bombe de colle | N22: =IF(SUM(B22:M22)=0,"",SUM(B22:M22))
A23: Cadenas | N23: =IF(SUM(B23:M23)=0,"",SUM(B23:M23))
A24: Cahier tout format | G24: 1 | N24: =IF(SUM(B24:M24)=0,"",SUM(B24:M24)) -> 1
A25: Calculatrice | N25: =IF(SUM(B25:M25)=0,"",SUM(B25:M25))
A26: Chemises | G26: 5 | H26: 1 | N26: =IF(SUM(B26:M26)=0,"",SUM(B26:M26)) -> 6
A27: Chemises trapec | N27: =IF(SUM(B27:M27)=0,"",SUM(B27:M27))
A28: Classeurs | N28: =IF(SUM(B28:M28)=0,"",SUM(B28:M28))
A29: Crayon a papier | G29: 1 | N29: =IF(SUM(B29:M29)=0,"",SUM(B29:M29)) -> 1
A30: Dossier suspendu | G30: 6 | N30: =IF(SUM(B30:M30)=0,"",SUM(B30:M30)) -> 6
A31: Enveloppes a soufflet | N31: =IF(SUM(B31:M31)=0,"",SUM(B31:M31))
A32: Enveloppes blanche a fenetre petit format | N32: =IF(SUM(B32:M32)=0,"",SUM(B32:M32))
A33: Enveloppes blanche grand format | N33: =IF(SUM(B33:M33)=0,"",SUM(B33:M33))
A34: Enveloppes blanche moyen format | N34: =IF(SUM(B34:M34)=0,"",SUM(B34:M34))
A35: Enveloppes blanche sans fenetre petit format | N35: =IF(SUM(B35:M35)=0,"",SUM(B35:M35))
A36: Enveloppes marron grand format | H36: 1 | N36: =IF(SUM(B36:M36)=0,"",SUM(B36:M36)) -> 1
A37: Enveloppes marron moyen format | N37: =IF(SUM(B37:M37)=0,"",SUM(B37:M37))
A38: Etiquettes | N38: =IF(SUM(B38:M38)=0,"",SUM(B38:M38))
A39: Feutre effacable | N39: =IF(SUM(B39:M39)=0,"",SUM(B39:M39))
A40: Gaz dépoussiérant | N40: =IF(SUM(B40:M40)=0,"",SUM(B40:M40))
A41: Gomme | N41: =IF(SUM(B41:M41)=0,"",SUM(B41:M41))
A42: Intercalaires | N42: =IF(SUM(B42:M42)=0,"",SUM(B42:M42))
A43: Markeur ONYX petit format | N43: =IF(SUM(B43:M43)=0,"",SUM(B43:M43))
A44: Markeur ONYX grand format | N44: =IF(SUM(B44:M44)=0,"",SUM(B44:M44))
A45: Papier A3 blanc | N45: =IF(SUM(B45:M45)=0,"",SUM(B45:M45))
A46: Papier A3 couleurs | N46: =IF(SUM(B46:M46)=0,"",SUM(B46:M46))
A47: Papier A4 blanc | G47: 11 | H47: 20 | I47: 1 | N47: =IF(SUM(B47:M47)=0,"",SUM(B47:M47)) -> 32
A48: Papier A4 couleurs | N48: =IF(SUM(B48:M48)=0,"",SUM(B48:M48))
A49: Papier clairefontaine blanc marketing 2618 | N49: =IF(SUM(B49:M49)=0,"",SUM(B49:M49))
A50: Papier en tête | N50: =IF(SUM(B50:M50)=0,"",SUM(B50:M50))
A51: Papier paperboard | N51: =IF(SUM(B51:M51)=0,"",SUM(B51:M51))
A52: Papier photo | N52: =IF(SUM(B52:M52)=0,"",SUM(B52:M52))
A53: Piles 2025 | N53: =IF(SUM(B53:M53)=0,"",SUM(B53:M53))
A54: Piles 2032 | N54: =IF(SUM(B54:M54)=0,"",SUM(B54:M54))
A55: Piles 9V | N55: =IF(SUM(B55:M55)=0,"",SUM(B55:M55))
A56: Piles AA | G56: 3 | H56: 2 | N56: =IF(SUM(B56:M56)=0,"",SUM(B56:M56)) -> 5
A57: Piles AAA | N57: =IF(SUM(B57:M57)=0,"",SUM(B57:M57))
A58: Piles LR44 | N58: =IF(SUM(B58:M58)=0,"",SUM(B58:M58))
A59: Piles LR54 | N59: =IF(SUM(B59:M59)=0,"",SUM(B59:M59))
A60: Piles392HD | N60: =IF(SUM(B60:M60)=0,"",SUM(B60:M60))
A61: Pochette à bulles | N61: =IF(SUM(B61:M61)=0,"",SUM(B61:M61))
A62: Pochette avec elastiques | N62: =IF(SUM(B62:M62)=0,"",SUM(B62:M62))
A63: Pochette plastique coin | N63: =IF(SUM(B63:M63)=0,"",SUM(B63:M63))
A64: Pochettes plastiques perforé classeur | N64: =IF(SUM(B64:M64)=0,"",SUM(B64:M64))
A65: Porte clefs | N65: =IF(SUM(B65:M65)=0,"",SUM(B65:M65))
A66: Porte vue | N66: =IF(SUM(B66:M66)=0,"",SUM(B66:M66))
A67: Plastique à plastifier | N67: =IF(SUM(B67:M67)=0,"",SUM(B67:M67))
A68: Reliure plastique | N68: =IF(SUM(B68:M68)=0,"",SUM(B68:M68))
A69: Roller de correction | G69: 1 | H69: 2 | N69: =IF(SUM(B69:M69)=0,"",SUM(B69:M69)) -> 3
A70: Scotch | N70: =IF(SUM(B70:M70)=0,"",SUM(B70:M70))
A71: Sous chemises | G71: 2 | N71: =IF(SUM(B71:M71)=0,"",SUM(B71:M71)) -> 2
A72: Stabilo | N72: =IF(SUM(B72:M72)=0,"",SUM(B72:M72))
A73: Stylo bleu a capuchon | G73: 2 | H73: 1 | N73: =IF(SUM(B73:M73)=0,"",SUM(B73:M73)) -> 3
A74: Stylo noir a capuchon | G74: 1 | N74: =IF(SUM(B74:M74)=0,"",SUM(B74:M74)) -> 1
A75: Stylo retractable bleu | N75: =IF(SUM(B75:M75)=0,"",SUM(B75:M75))
A76: Stylo retractable rouge | N76: =IF(SUM(B76:M76)=0,"",SUM(B76:M76))
A77: Stylo rouge a capuchon | N77: =IF(SUM(B77:M77)=0,"",SUM(B77:M77))
A78: Stylo signature | N78: =IF(SUM(B78:M78)=0,"",SUM(B78:M78))
A79: Tampons | N79: =IF(SUM(B79:M79)=0,"",SUM(B79:M79))
A80: Traite | G80: 1 | H80: 1 | N80: =IF(SUM(B80:M80)=0,"",SUM(B80:M80)) -> 2
A81: Trieurs | N81: =IF(SUM(B81:M81)=0,"",SUM(B81:M81))
A83: Agitateur | N83: =IF(SUM(B83:M83)=0,"",SUM(B83:M83))
A84: Assiettes | G84: 1 | H84: 4 | I84: 1 | N84: =IF(SUM(B84:M84)=0,"",SUM(B84:M84)) -> 6
A85: Chemin de table | N85: =IF(SUM(B85:M85)=0,"",SUM(B85:M85))
A86: Couteaux | G86: 1 | H86: 1 | I86: 1 | N86: =IF(SUM(B86:M86)=0,"",SUM(B86:M86)) -> 3
A87: Cuillere à soupe | H87: 1 | I87: 1 | N87: =IF(SUM(B87:M87)=0,"",SUM(B87:M87)) -> 2
A88: Cuillere petit format | G88: 1 | H88: 3 | I88: 1 | N88: =IF(SUM(B88:M88)=0,"",SUM(B88:M88)) -> 5
A89: Fourchettes | G89: 1 | H89: 1 | N89: =IF(SUM(B89:M89)=0,"",SUM(B89:M89)) -> 2
A90: Mini bouchée | I90: 1 | N90: =IF(SUM(B90:M90)=0,"",SUM(B90:M90)) -> 1
A91: Mini poissons | G91: 2 | H91: 3 | I91: 1 | N91: =IF(SUM(B91:M91)=0,"",SUM(B91:M91)) -> 6
A92: Plateaux | G92: =9+7 -> 16 | H92: =25+14 -> 39 | N92: =IF(SUM(B92:M92)=0,"",SUM(B92:M92)) -> 55
A93: poche a douille | N93: =IF(SUM(B93:M93)=0,"",SUM(B93:M93))
A94: Serviettes | H94: 3 | N94: =IF(SUM(B94:M94)=0,"",SUM(B94:M94)) -> 3
A95: Sopalin | N95: =IF(SUM(B95:M95)=0,"",SUM(B95:M95))
A96: Sucre | N96: =IF(SUM(B96:M96)=0,"",SUM(B96:M96))
A97: Verre à champagne | N97: =IF(SUM(B97:M97)=0,"",SUM(B97:M97))
A98: Verre en plastique | N98: =IF(SUM(B98:M98)=0,"",SUM(B98:M98))
A99: Verre en verre | N99: =IF(SUM(B99:M99)=0,"",SUM(B99:M99))
A100: Verres à vins | N100: =IF(SUM(B100:M100)=0,"",SUM(B100:M100))
A101: Verrines | N101: =IF(SUM(B101:M101)=0,"",SUM(B101:M101))

Sheet COMMERCIAUX
A2: FOURNITURES PRISES 2016
A5: DENOMINATION | B5: JANVIER | C5: FÉVRIER | D5: MARS | E5: AVRIL | F5: MAI | G5: JUIN | H5: JUILLET | I5: AOÛT | J5: SEPTEMBRE | K5: OCTOBRE | L5: NOVEMBRE | M5: DÉCEMBRE | N5: TOTAL
A6: 12A | N6: =IF(SUM(B6:M6)=0,"",SUM(B6:M6))
A7: 85A | N7: =IF(SUM(B7:M7)=0,"",SUM(B7:M7))
A8: 78A | N8: =IF(SUM(B8:M8)=0,"",SUM(B8:M8))
A9: 53X | N9: =IF(SUM(B9:M9)=0,"",SUM(B9:M9))
A10: 64A | N10: =IF(SUM(B10:M10)=0,"",SUM(B10:M10))
A11: 05X | N11: =IF(SUM(B11:M11)=0,"",SUM(B11:M11))
A12: 80X | N12: =IF(SUM(B12:M12)=0,"",SUM(B12:M12))
A13: 55X | N13: =IF(SUM(B13:M13)=0,"",SUM(B13:M13))
A14: Samsung MR COUDENE | N14: =IF(SUM(B14:M14)=0,"",SUM(B14:M14))
A16: Agrafes | G16: 2 | N16: =IF(SUM(B16:M16)=0,"",SUM(B16:M16)) -> 2
A17: Bannette | N17: =IF(SUM(B17:M17)=0,"",SUM(B17:M17))
A18: Batonnet de colle | N18: =IF(SUM(B18:M18)=0,"",SUM(B18:M18))
A19: Bobine thermique | N19: =IF(SUM(B19:M19)=0,"",SUM(B19:M19))
A20: Boite archives | N20: =IF(SUM(B20:M20)=0,"",SUM(B20:M20))
A21: Boite carton bouteille | N21: =IF(SUM(B21:M21)=0,"",SUM(B21:M21))
A22: Bombe de colle | N22: =IF(SUM(B22:M22)=0,"",SUM(B22:M22))
A23: Cadenas | N23: =IF(SUM(B23:M23)=0,"",SUM(B23:M23))
A24: Cahier tout format | G24: 1 | H24: 2 | N24: =IF(SUM(B24:M24)=0,"",SUM(B24:M24)) -> 3
A25: Calculatrice | H25: 1 | N25: =IF(SUM(B25:M25)=0,"",SUM(B25:M25)) -> 1
A26: Chemises | G26: 25 | N26: =IF(SUM(B26:M26)=0,"",SUM(B26:M26)) -> 25
A27: Chemises trapec | N27: =IF(SUM(B27:M27)=0,"",SUM(B27:M27))
A28: Classeurs | N28: =IF(SUM(B28:M28)=0,"",SUM(B28:M28))
A29: Crayon a papier | H29: 1 | N29: =IF(SUM(B29:M29)=0,"",SUM(B29:M29)) -> 1
A30: Dossier suspendu | N30: =IF(SUM(B30:M30)=0,"",SUM(B30:M30))
A31: Enveloppes a soufflet | N31: =IF(SUM(B31:M31)=0,"",SUM(B31:M31))
A32: Enveloppes blanche a fenetre petit format | N32: =IF(SUM(B32:M32)=0,"",SUM(B32:M32))
A33: Enveloppes blanche grand format | N33: =IF(SUM(B33:M33)=0,"",SUM(B33:M33))
A34: Enveloppes blanche moyen format | N34: =IF(SUM(B34:M34)=0,"",SUM(B34:M34))
A35: Enveloppes blanche sans fenetre petit format | N35: =IF(SUM(B35:M35)=0,"",SUM(B35:M35))
A36: Enveloppes marron grand format | N36: =IF(SUM(B36:M36)=0,"",SUM(B36:M36))
A37: Enveloppes marron moyen format | N37: =IF(SUM(B37:M37)=0,"",SUM(B37:M37))
A38: Etiquettes | N38: =IF(SUM(B38:M38)=0,"",SUM(B38:M38))
A39: Feutre effacable | N39: =IF(SUM(B39:M39)=0,"",SUM(B39:M39))
A40: Gaz dépoussiérant | N40: =IF(SUM(B40:M40)=0,"",SUM(B40:M40))
A41: Gomme | N41: =IF(SUM(B41:M41)=0,"",SUM(B41:M41))
A42: Intercalaires | N42: =IF(SUM(B42:M42)=0,"",SUM(B42:M42))
A43: Markeur ONYX petit format | H43: 1 | N43: =IF(SUM(B43:M43)=0,"",SUM(B43:M43)) -> 1
A44: Markeur ONYX grand format | N44: =IF(SUM(B44:M44)=0,"",SUM(B44:M44))
A45: Papier A3 blanc | N45: =IF(SUM(B45:M45)=0,"",SUM(B45:M45))
A46: Papier A3 couleurs | N46: =IF(SUM(B46:M46)=0,"",SUM(B46:M46))
A47: Papier A4 blanc | G47: 1 | H47: 1 | N47: =IF(SUM(B47:M47)=0,"",SUM(B47:M47)) -> 2
A48: Papier A4 couleurs | N48: =IF(SUM(B48:M48)=0,"",SUM(B48:M48))
A49: Papier clairefontaine blanc marketing 2618 | N49: =IF(SUM(B49:M49)=0,"",SUM(B49:M49))
A50: Papier en tête | N50: =IF(SUM(B50:M50)=0,"",SUM(B50:M50))
A51: Papier paperboard | N51: =IF(SUM(B51:M51)=0,"",SUM(B51:M51))
A52: Papier photo | N52: =IF(SUM(B52:M52)=0,"",SUM(B52:M52))
A53: Piles 2025 | N53: =IF(SUM(B53:M53)=0,"",SUM(B53:M53))
A54: Piles 2032 | N54: =IF(SUM(B54:M54)=0,"",SUM(B54:M54))
A55: Piles 9V | N55: =IF(SUM(B55:M55)=0,"",SUM(B55:M55))
A56: Piles AA | N56: =IF(SUM(B56:M56)=0,"",SUM(B56:M56))
A57: Piles AAA | N57: =IF(SUM(B57:M57)=0,"",SUM(B57:M57))
A58: Piles LR44 | N58: =IF(SUM(B58:M58)=0,"",SUM(B58:M58))
A59: Piles LR54 | N59: =IF(SUM(B59:M59)=0,"",SUM(B59:M59))
... A62: Pochette avec elastiques | N62: =IF(SUM(B62:M62)=0,"",SUM(B62:M62))
A63: Pochette plastique coin | H63: 1 | N63: =IF(SUM(B63:M63)=0,"",SUM(B63:M63)) -> 1
A64: Pochettes plastiques perforé classeur | H64: 1 | N64: =IF(SUM(B64:M64)=0,"",SUM(B64:M64)) -> 1
A65: Porte clefs | N65: =IF(SUM(B65:M65)=0,"",SUM(B65:M65))
A66: Porte vue | H66: 1 | N66: =IF(SUM(B66:M66)=0,"",SUM(B66:M66)) -> 1
A67: Plastique à plastifier | N67: =IF(SUM(B67:M67)=0,"",SUM(B67:M67))
A68: Reliure plastique | N68: =IF(SUM(B68:M68)=0,"",SUM(B68:M68))
A69: Roller de correction | N69: =IF(SUM(B69:M69)=0,"",SUM(B69:M69))
A70: Scotch | N70: =IF(SUM(B70:M70)=0,"",SUM(B70:M70))
A71: Sous chemises | G71: 10 | N71: =IF(SUM(B71:M71)=0,"",SUM(B71:M71)) -> 10
A72: Stabilo | N72: =IF(SUM(B72:M72)=0,"",SUM(B72:M72))
A73: Stylo bleu a capuchon | H73: 1 | N73: =IF(SUM(B73:M73)=0,"",SUM(B73:M73)) -> 1
A74: Stylo noir a capuchon | N74: =IF(SUM(B74:M74)=0,"",SUM(B74:M74))
A75: Stylo retractable bleu | N75: =IF(SUM(B75:M75)=0,"",SUM(B75:M75))
A76: Stylo retractable rouge | N76: =IF(SUM(B76:M76)=0,"",SUM(B76:M76))
A77: Stylo rouge a capuchon | N77: =IF(SUM(B77:M77)=0,"",SUM(B77:M77))
A78: Stylo signature | N78: =IF(SUM(B78:M78)=0,"",SUM(B78:M78))
A79: Tampons | N79: =IF(SUM(B79:M79)=0,"",SUM(B79:M79))
A80: Traite | N80: =IF(SUM(B80:M80)=0,"",SUM(B80:M80))
A81: Trieurs | N81: =IF(SUM(B81:M81)=0,"",SUM(B81:M81))
A83: Agitateur | N83: =IF(SUM(B83:M83)=0,"",SUM(B83:M83))
A84: Assiettes | N84: =IF(SUM(B84:M84)=0,"",SUM(B84:M84))
A85: Chemin de table | N85: =IF(SUM(B85:M85)=0,"",SUM(B85:M85))
A86: Couteaux | N86: =IF(SUM(B86:M86)=0,"",SUM(B86:M86))
... A97: Verre à champagne | N97: =IF(SUM(B97:M97)=0,"",SUM(B97:M97))
A98: Verre en plastique | H98: 2 | N98: =IF(SUM(B98:M98)=0,"",SUM(B98:M98)) -> 2
A99: Verre en verre | N99: =IF(SUM(B99:M99)=0,"",SUM(B99:M99))
A100: Verres à vins | N100: =IF(SUM(B100:M100)=0,"",SUM(B100:M100))
A101: Verrines | N101: =IF(SUM(B101:M101)=0,"",SUM(B101:M101))

Sheet MARKETING
A2: FOURNITURES PRISES 2016
A5: DENOMINATION | B5: JANVIER | C5: FÉVRIER | D5: MARS | E5: AVRIL | F5: MAI | G5: JUIN | H5: JUILLET | I5: AOÛT | J5: SEPTEMBRE | K5: OCTOBRE | L5: NOVEMBRE | M5: DÉCEMBRE | N5: TOTAL
A6: 12A | N6: =IF(SUM(B6:M6)=0,"",SUM(B6:M6))
A7: 85A | N7: =IF(SUM(B7:M7)=0,"",SUM(B7:M7))
A8: 78A | N8: =IF(SUM(B8:M8)=0,"",SUM(B8:M8))
A9: 53X | N9: =IF(SUM(B9:M9)=0,"",SUM(B9:M9))
A10: 64A | N10: =IF(SUM(B10:M10)=0,"",SUM(B10:M10))
A11: 05X | N11: =IF(SUM(B11:M11)=0,"",SUM(B11:M11))
A12: 80X | N12: =IF(SUM(B12:M12)=0,"",SUM(B12:M12))
A13: 55X | N13: =IF(SUM(B13:M13)=0,"",SUM(B13:M13))
A14: Samsung MR COUDENE | N14: =IF(SUM(B14:M14)=0,"",SUM(B14:M14))
A16: Agrafes | N16: =IF(SUM(B16:M16)=0,"",SUM(B16:M16))
A17: Bannette | N17: =IF(SUM(B17:M17)=0,"",SUM(B17:M17))
A18: Batonnet de colle | N18: =IF(SUM(B18:M18)=0,"",SUM(B18:M18))
... A23: Cadenas | N23: =IF(SUM(B23:M23)=0,"",SUM(B23:M23))
A24: Cahier tout format | H24: 1 | N24: =IF(SUM(B24:M24)=0,"",SUM(B24:M24)) -> 1
A25: Calculatrice | N25: =IF(SUM(B25:M25)=0,"",SUM(B25:M25))
A26: Chemises | N26: =IF(SUM(B26:M26)=0,"",SUM(B26:M26))
A27: Chemises trapec | N27: =IF(SUM(B27:M27)=0,"",SUM(B27:M27))
A28: Classeurs | H28: 2 | N28: =IF(SUM(B28:M28)=0,"",SUM(B28:M28)) -> 2
A29: Crayon a papier | N29: =IF(SUM(B29:M29)=0,"",SUM(B29:M29))
A30: Dossier suspendu | N30: =IF(SUM(B30:M30)=0,"",SUM(B30:M30))
A31: Enveloppes a soufflet | N31: =IF(SUM(B31:M31)=0,"",SUM(B31:M31))
A32: Enveloppes blanche a fenetre petit format | N32: =IF(SUM(B32:M32)=0,"",SUM(B32:M32))
A33: Enveloppes blanche grand format | N33: =IF(SUM(B33:M33)=0,"",SUM(B33:M33))
A34: Enveloppes blanche moyen format | N34: =IF(SUM(B34:M34)=0,"",SUM(B34:M34))
A35: Enveloppes blanche sans fenetre petit format | N35: =IF(SUM(B35:M35)=0,"",SUM(B35:M35))
A36: Enveloppes marron grand format | N36: =IF(SUM(B36:M36)=0,"",SUM(B36:M36))
A37: Enveloppes marron moyen format | N37: =IF(SUM(B37:M37)=0,"",SUM(B37:M37))
A38: Etiquettes | G38: 2 | N38: =IF(SUM(B38:M38)=0,"",SUM(B38:M38)) -> 2
A39: Feutre effacable | H39: 4 | N39: =IF(SUM(B39:M39)=0,"",SUM(B39:M39)) -> 4
A40: Gaz dépoussiérant | N40: =IF(SUM(B40:M40)=0,"",SUM(B40:M40))
A41: Gomme | N41: =IF(SUM(B41:M41)=0,"",SUM(B41:M41))
A42: Intercalaires | N42: =IF(SUM(B42:M42)=0,"",SUM(B42:M42))
A43: Markeur ONYX petit format | N43: =IF(SUM(B43:M43)=0,"",SUM(B43:M43))
A44: Markeur ONYX grand format | N44: =IF(SUM(B44:M44)=0,"",SUM(B44:M44))
A45: Papier A3 blanc | N45: =IF(SUM(B45:M45)=0,"",SUM(B45:M45))
A46: Papier A3 couleurs | N46: =IF(SUM(B46:M46)=0,"",SUM(B46:M46))
A47: Papier A4 blanc | N47: =IF(SUM(B47:M47)=0,"",SUM(B47:M47))
A48: Papier A4 couleurs | N48: =IF(SUM(B48:M48)=0,"",SUM(B48:M48))
A49: Papier clairefontaine blanc marketing 2618 | N49: =IF(SUM(B49:M49)=0,"",SUM(B49:M49))
A50: Papier en tête | N50: =IF(SUM(B50:M50)=0,"",SUM(B50:M50))
A51: Papier paperboard | N51: =IF(SUM(B51:M51)=0,"",SUM(B51:M51))
... A55: Piles 9V | N55: =IF(SUM(B55:M55)=0,"",SUM(B55:M55))
A56: Piles AA | H56: 2 | N56: =IF(SUM(B56:M56)=0,"",SUM(B56:M56)) -> 2
A57: Piles AAA | N57: =IF(SUM(B57:M57)=0,"",SUM(B57:M57))
A58: Piles LR44 | N58: =IF(SUM(B58:M58)=0,"",SUM(B58:M58))
A59: Piles LR54 | N59: =IF(SUM(B59:M59)=0,"",SUM(B59:M59))
A60: Piles392HD | N60: =IF(SUM(B60:M60)=0,"",SUM(B60:M60))
A61: Pochette à bulles | N61: =IF(SUM(B61:M61)=0,"",SUM(B61:M61))
A62: Pochette avec elastiques | N62: =IF(SUM(B62:M62)=0,"",SUM(B62:M62))
A63: Pochette plastique coin | N63: =IF(SUM(B63:M63)=0,"",SUM(B63:M63))
A64: Pochettes plastiques perforé classeur | H64: 1 | N64: =IF(SUM(B64:M64)=0,"",SUM(B64:M64)) -> 1
A65: Porte clefs | N65: =IF(SUM(B65:M65)=0,"",SUM(B65:M65))
A66: Porte vue | N66: =IF(SUM(B66:M66)=0,"",SUM(B66:M66))
A67: Plastique à plastifier | N67: =IF(SUM(B67:M67)=0,"",SUM(B67:M67))
A68: Reliure plastique | N68: =IF(SUM(B68:M68)=0,"",SUM(B68:M68))
A69: Roller de correction | N69: =IF(SUM(B69:M69)=0,"",SUM(B69:M69))
A70: Scotch | N70: =IF(SUM(B70:M70)=0,"",SUM(B70:M70))
A71: Sous chemises | N71: =IF(SUM(B71:M71)=0,"",SUM(B71:M71))
A72: Stabilo | N72: =IF(SUM(B72:M72)=0,"",SUM(B72:M72))
A73: Stylo bleu a capuchon | N73: =IF(SUM(B73:M73)=0,"",SUM(B73:M73))
A74: Stylo noir a capuchon | N74: =IF(SUM(B74:M74)=0,"",SUM(B74:M74))
A75: Stylo retractable bleu | N75: =IF(SUM(B75:M75)=0,"",SUM(B75:M75))
A76: Stylo retractable rouge | N76: =IF(SUM(B76:M76)=0,"",SUM(B76:M76))
... A101: Verrines | N101: =IF(SUM(B101:M101)=0,"",SUM(B101:M101))

Sheet MAINTENANCE
A2: FOURNITURES PRISES 2016
A5: DENOMINATION | B5: JANVIER | C5: FÉVRIER | D5: MARS | E5: AVRIL | F5: MAI | G5: JUIN | H5: JUILLET | I5: AOÛT | J5: SEPTEMBRE | K5: OCTOBRE | L5: NOVEMBRE | M5: DÉCEMBRE | N5: TOTAL
A6: 12A | N6: =IF(SUM(B6:M6)=0,"",SUM(B6:M6))
A7: 85A | N7: =IF(SUM(B7:M7)=0,"",SUM(B7:M7))
A8: 78A | N8: =IF(SUM(B8:M8)=0,"",SUM(B8:M8))
A9: 53X | N9: =IF(SUM(B9:M9)=0,"",SUM(B9:M9))
A10: 64A | N10: =IF(SUM(B10:M10)=0,"",SUM(B10:M10))
A11: 05X | N11: =IF(SUM(B11:M11)=0,"",SUM(B11:M11))
A12: 80X | N12: =IF(SUM(B12:M12)=0,"",SUM(B12:M12))
A13: 55X | N13: =IF(SUM(B13:M13)=0,"",SUM(B13:M13))
A14: Samsung MR COUDENE | N14: =IF(SUM(B14:M14)=0,"",SUM(B14:M14))
A16: Agrafes | N16: =IF(SUM(B16:M16)=0,"",SUM(B16:M16))
A17: Bannette | N17: =IF(SUM(B17:M17)=0,"",SUM(B17:M17))
A18: Batonnet de colle | N18: =IF(SUM(B18:M18)=0,"",SUM(B18:M18))
A19: Bobine thermique | N19: =IF(SUM(B19:M19)=0,"",SUM(B19:M19))
A20: Boite archives | G20: 20 | I20: 3 | N20: =IF(SUM(B20:M20)=0,"",SUM(B20:M20)) -> 23
A21: Boite carton bouteille | N21: =IF(SUM(B21:M21)=0,"",SUM(B21:M21))
A22: Bombe de colle | N22: =IF(SUM(B22:M22)=0,"",SUM(B22:M22))
A23: Cadenas | N23: =IF(SUM(B23:M23)=0,"",SUM(B23:M23))
A24: Cahier tout format | H24: =2+3 -> 5 | N24: =IF(SUM(B24:M24)=0,"",SUM(B24:M24)) -> 5
A25: Calculatrice | N25: =IF(SUM(B25:M25)=0,"",SUM(B25:M25))
A26: Chemises | G26: 3 | N26: =IF(SUM(B26:M26)=0,"",SUM(B26:M26)) -> 3
A27: Chemises trapec | N27: =IF(SUM(B27:M27)=0,"",SUM(B27:M27))
A28: Classeurs | G28: 1 | H28: 2 | N28: =IF(SUM(B28:M28)=0,"",SUM(B28:M28)) -> 3
A29: Crayon a papier | H29: 1 | N29: =IF(SUM(B29:M29)=0,"",SUM(B29:M29)) -> 1
A30: Dossier suspendu | N30: =IF(SUM(B30:M30)=0,"",SUM(B30:M30))
A31: Enveloppes a soufflet | N31: =IF(SUM(B31:M31)=0,"",SUM(B31:M31))
A32: Enveloppes blanche a fenetre petit format | N32: =IF(SUM(B32:M32)=0,"",SUM(B32:M32))
A33: Enveloppes blanche grand format | N33: =IF(SUM(B33:M33)=0,"",SUM(B33:M33))
A34: Enveloppes blanche moyen format | N34: =IF(SUM(B34:M34)=0,"",SUM(B34:M34))
A35: Enveloppes blanche sans fenetre petit format | N35: =IF(SUM(B35:M35)=0,"",SUM(B35:M35))
A36: Enveloppes marron grand format | N36: =IF(SUM(B36:M36)=0,"",SUM(B36:M36))
A37: Enveloppes marron moyen format | N37: =IF(SUM(B37:M37)=0,"",SUM(B37:M37))
A38: Etiquettes | N38: =IF(SUM(B38:M38)=0,"",SUM(B38:M38))
A39: Feutre effacable | N39: =IF(SUM(B39:M39)=0,"",SUM(B39:M39))
A40: Gaz dépoussiérant | N40: =IF(SUM(B40:M40)=0,"",SUM(B40:M40))
A41: Gomme | N41: =IF(SUM(B41:M41)=0,"",SUM(B41:M41))
... A46: Papier A3 couleurs | N46: =IF(SUM(B46:M46)=0,"",SUM(B46:M46))
A47: Papier A4 blanc | H47: 1 | N47: =IF(SUM(B47:M47)=0,"",SUM(B47:M47)) -> 1
A48: Papier A4 couleurs | N48: =IF(SUM(B48:M48)=0,"",SUM(B48:M48))
A49: Papier clairefontaine blanc marketing 2618 | N49: =IF(SUM(B49:M49)=0,"",SUM(B49:M49))
A50: Papier en tête | N50: =IF(SUM(B50:M50)=0,"",SUM(B50:M50))
A51: Papier paperboard | N51: =IF(SUM(B51:M51)=0,"",SUM(B51:M51))
A52: Papier photo | N52: =IF(SUM(B52:M52)=0,"",SUM(B52:M52))
A53: Piles 2025 | N53: =IF(SUM(B53:M53)=0,"",SUM(B53:M53))
A54: Piles 2032 | N54: =IF(SUM(B54:M54)=0,"",SUM(B54:M54))
A55: Piles 9V | N55: =IF(SUM(B55:M55)=0,"",SUM(B55:M55))
A56: Piles AA | N56: =IF(SUM(B56:M56)=0,"",SUM(B56:M56))
A57: Piles AAA | N57: =IF(SUM(B57:M57)=0,"",SUM(B57:M57))
A58: Piles LR44 | N58: =IF(SUM(B58:M58)=0,"",SUM(B58:M58))
A59: Piles LR54 | N59: =IF(SUM(B59:M59)=0,"",SUM(B59:M59))
... A63: Pochette plastique coin | N63: =IF(SUM(B63:M63)=0,"",SUM(B63:M63))
A64: Pochettes plastiques perforé classeur | H64: 1 | N64: =IF(SUM(B64:M64)=0,"",SUM(B64:M64)) -> 1
A65: Porte clefs | N65: =IF(SUM(B65:M65)=0,"",SUM(B65:M65))
A66: Porte vue | N66: =IF(SUM(B66:M66)=0,"",SUM(B66:M66))
A67: Plastique à plastifier | N67: =IF(SUM(B67:M67)=0,"",SUM(B67:M67))
A68: Reliure plastique | N68: =IF(SUM(B68:M68)=0,"",SUM(B68:M68))
A69: Roller de correction | N69: =IF(SUM(B69:M69)=0,"",SUM(B69:M69))
A70: Scotch | N70: =IF(SUM(B70:M70)=0,"",SUM(B70:M70))
A71: Sous chemises | N71: =IF(SUM(B71:M71)=0,"",SUM(B71:M71))
A72: Stabilo | N72: =IF(SUM(B72:M72)=0,"",SUM(B72:M72))
A73: Stylo bleu a capuchon | N73: =IF(SUM(B73:M73)=0,"",SUM(B73:M73))
A74: Stylo noir a capuchon | N74: =IF(SUM(B74:M74)=0,"",SUM(B74:M74))
A75: Stylo retractable bleu | N75: =IF(SUM(B75:M75)=0,"",SUM(B75:M75))
A76: Stylo retractable rouge | N76: =IF(SUM(B76:M76)=0,"",SUM(B76:M76))
A77: Stylo rouge a capuchon | N77: =IF(SUM(B77:M77)=0,"",SUM(B77:M77))
A78: Stylo signature | G78: 2 | N78: =IF(SUM(B78:M78)=0,"",SUM(B78:M78)) -> 2
A79: Tampons | N79: =IF(SUM(B79:M79)=0,"",SUM(B79:M79))
A80: Traite | N80: =IF(SUM(B80:M80)=0,"",SUM(B80:M80))
A81: Trieurs | N81: =IF(SUM(B81:M81)=0,"",SUM(B81:M81))
A83: Agitateur | N83: =IF(SUM(B83:M83)=0,"",SUM(B83:M83))
A84: Assiettes | N84: =IF(SUM(B84:M84)=0,"",SUM(B84:M84))
A85: Chemin de table | N85: =IF(SUM(B85:M85)=0,"",SUM(B85:M85))
A86: Couteaux | N86: =IF(SUM(B86:M86)=0,"",SUM(B86:M86))
A87: Cuillere à soupe | N87: =IF(SUM(B87:M87)=0,"",SUM(B87:M87))
A88: Cuillere petit format | N88: =IF(SUM(B88:M88)=0,"",SUM(B88:M88))
A89: Fourchettes | N89: =IF(SUM(B89:M89)=0,"",SUM(B89:M89))
A90: mini bouchée | N90: =IF(SUM(B90:M90)=0,"",SUM(B90:M90))
A91: Mini poissons | N91: =IF(SUM(B91:M91)=0,"",SUM(B91:M91))
... A101: Verrines | N101: =IF(SUM(B101:M101)=0,"",SUM(B101:M101))

Sheet PRODUCTION
A2: FOURNITURES PRISES 2016
A5: DENOMINATION | B5: JANVIER | C5: FÉVRIER | D5: MARS | E5: AVRIL | F5: MAI | G5: JUIN | H5: JUILLET | I5: AOÛT | J5: SEPTEMBRE | K5: OCTOBRE | L5: NOVEMBRE | M5: DÉCEMBRE | N5: TOTAL
A6: 12A | G6: 1 | N6: =IF(SUM(B6:M6)=0,"",SUM(B6:M6)) -> 1
A7: 85A | N7: =IF(SUM(B7:M7)=0,"",SUM(B7:M7))
A8: 78A | N8: =IF(SUM(B8:M8)=0,"",SUM(B8:M8))
A9: 53X | N9: =IF(SUM(B9:M9)=0,"",SUM(B9:M9))
A10: 64A | N10: =IF(SUM(B10:M10)=0,"",SUM(B10:M10))
A11: 05X | N11: =IF(SUM(B11:M11)=0,"",SUM(B11:M11))
A12: 80X | N12: =IF(SUM(B12:M12)=0,"",SUM(B12:M12))
A13: 55X | N13: =IF(SUM(B13:M13)=0,"",SUM(B13:M13))
A14: Samsung MR COUDENE | N14: =IF(SUM(B14:M14)=0,"",SUM(B14:M14))
A16: Agrafes | N16: =IF(SUM(B16:M16)=0,"",SUM(B16:M16))
A17: Bannette | N17: =IF(SUM(B17:M17)=0,"",SUM(B17:M17))
A18: Batonnet de colle | N18: =IF(SUM(B18:M18)=0,"",SUM(B18:M18))
A19: Bobine thermique | N19: =IF(SUM(B19:M19)=0,"",SUM(B19:M19))
... A24: Cahier tout format | N24: =IF(SUM(B24:M24)=0,"",SUM(B24:M24))
A25: Calculatrice | G25: 1 | I25: 1 | N25: =IF(SUM(B25:M25)=0,"",SUM(B25:M25)) -> 2
A26: Chemises | N26: =IF(SUM(B26:M26)=0,"",SUM(B26:M26))
A27: Chemises trapec | N27: =IF(SUM(B27:M27)=0,"",SUM(B27:M27))
A28: Classeurs | N28: =IF(SUM(B28:M28)=0,"",SUM(B28:M28))
A29: Crayon a papier | N29: =IF(SUM(B29:M29)=0,"",SUM(B29:M29))
A30: Dossier suspendu | N30: =IF(SUM(B30:M30)=0,"",SUM(B30:M30))
A31: Enveloppes a soufflet | N31: =IF(SUM(B31:M31)=0,"",SUM(B31:M31))
A32: Enveloppes blanche a fenetre petit format | N32: =IF(SUM(B32:M32)=0,"",SUM(B32:M32))
A33: Enveloppes blanche grand format | N33: =IF(SUM(B33:M33)=0,"",SUM(B33:M33))
A34: Enveloppes blanche moyen format | N34: =IF(SUM(B34:M34)=0,"",SUM(B34:M34))
A35: Enveloppes blanche sans fenetre petit format | N35: =IF(SUM(B35:M35)=0,"",SUM(B35:M35))
A36: Enveloppes marron grand format | N36: =IF(SUM(B36:M36)=0,"",SUM(B36:M36))
A37: Enveloppes marron moyen format | N37: =IF(SUM(B37:M37)=0,"",SUM(B37:M37))
A38: Etiquettes | N38: =IF(SUM(B38:M38)=0,"",SUM(B38:M38))
A39: Feutre effacable | G39: 3 | N39: =IF(SUM(B39:M39)=0,"",SUM(B39:M39)) -> 3
A40: Gaz dépoussiérant | N40: =IF(SUM(B40:M40)=0,"",SUM(B40:M40))
A41: Gomme | N41: =IF(SUM(B41:M41)=0,"",SUM(B41:M41))
A42: Intercalaires | N42: =IF(SUM(B42:M42)=0,"",SUM(B42:M42))
A43: Markeur ONYX petit format | G43: 5 | H43: 5 | I43: 6 | N43: =IF(SUM(B43:M43)=0,"",SUM(B43:M43)) -> 16
A44: Markeur ONYX grand format | G44: 4 | H44: 5 | N44: =IF(SUM(B44:M44)=0,"",SUM(B44:M44)) -> 9
A45: Papier A3 blanc | N45: =IF(SUM(B45:M45)=0,"",SUM(B45:M45))
A46: Papier A3 couleurs | N46: =IF(SUM(B46:M46)=0,"",SUM(B46:M46))
A47: Papier A4 blanc | H47: 1 | N47: =IF(SUM(B47:M47)=0,"",SUM(B47:M47)) -> 1
A48: Papier A4 couleurs | N48: =IF(SUM(B48:M48)=0,"",SUM(B48:M48))
A49: Papier clairefontaine blanc marketing 2618 | N49: =IF(SUM(B49:M49)=0,"",SUM(B49:M49))
A50: Papier en tête | N50: =IF(SUM(B50:M50)=0,"",SUM(B50:M50))
A51: Papier paperboard | N51: =IF(SUM(B51:M51)=0,"",SUM(B51:M51))
A52: Papier photo | N52: =IF(SUM(B52:M52)=0,"",SUM(B52:M52))
A53: Piles 2025 | N53: =IF(SUM(B53:M53)=0,"",SUM(B53:M53))
A54: Piles 2032 | G54: 2 | H54: 1 | N54: =IF(SUM(B54:M54)=0,"",SUM(B54:M54)) -> 3
A55: Piles 9V | N55: =IF(SUM(B55:M55)=0,"",SUM(B55:M55))
A56: Piles AA | N56: =IF(SUM(B56:M56)=0,"",SUM(B56:M56))
A57: Piles AAA | H57: 3 | N57: =IF(SUM(B57:M57)=0,"",SUM(B57:M57)) -> 3
A58: Piles LR44 | N58: =IF(SUM(B58:M58)=0,"",SUM(B58:M58))
A59: Piles LR54 | N59: =IF(SUM(B59:M59)=0,"",SUM(B59:M59))
A60: Piles392HD | N60: =IF(SUM(B60:M60)=0,"",SUM(B60:M60))
A61: Pochette à bulles | N61: =IF(SUM(B61:M61)=0,"",SUM(B61:M61))
A62: Pochette avec elastiques | N62: =IF(SUM(B62:M62)=0,"",SUM(B62:M62))
A63: Pochette plastique coin | N63: =IF(SUM(B63:M63)=0,"",SUM(B63:M63))
A64: Pochettes plastiques perforé classeur | N64: =IF(SUM(B64:M64)=0,"",SUM(B64:M64))
A65: Porte clefs | N65: =IF(SUM(B65:M65)=0,"",SUM(B65:M65))
A66: Porte vue | N66: =IF(SUM(B66:M66)=0,"",SUM(B66:M66))
A67: Plastique à plastifier | N67: =IF(SUM(B67:M67)=0,"",SUM(B67:M67))
A68: Reliure plastique | N68: =IF(SUM(B68:M68)=0,"",SUM(B68:M68))
A69: Roller de correction | N69: =IF(SUM(B69:M69)=0,"",SUM(B69:M69))
... A74: Stylo noir a capuchon | N74: =IF(SUM(B74:M74)=0,"",SUM(B74:M74))
A75: Stylo retractable bleu | G75: 15 | H75: 23 | I75: 6 | N75: =IF(SUM(B75:M75)=0,"",SUM(B75:M75)) -> 44
A76: Stylo retractable rouge | N76: =IF(SUM(B76:M76)=0,"",SUM(B76:M76))
A77: Stylo rouge a capuchon | N77: =IF(SUM(B77:M77)=0,"",SUM(B77:M77))
A78: Stylo signature | H78: 4 | N78: =IF(SUM(B78:M78)=0,"",SUM(B78:M78)) -> 4
A79: Tampons | N79: =IF(SUM(B79:M79)=0,"",SUM(B79:M79))
A80: Traite | N80: =IF(SUM(B80:M80)=0,"",SUM(B80:M80))
A81: Trieurs | N81: =IF(SUM(B81:M81)=0,"",SUM(B81:M81))
A83: Agitateur | N83: =IF(SUM(B83:M83)=0,"",SUM(B83:M83))
A84: Assiettes | N84: =IF(SUM(B84:M84)=0,"",SUM(B84:M84))
A85: Chemin de table | N85: =IF(SUM(B85:M85)=0,"",SUM(B85:M85))
A86: Couteaux | N86: =IF(SUM(B86:M86)=0,"",SUM(B86:M86))
A87: Cuillere à soupe | N87: =IF(SUM(B87:M87)=0,"",SUM(B87:M87))
A88: Cuillere petit format | N88: =IF(SUM(B88:M88)=0,"",SUM(B88:M88))
A89: Fourchettes | N89: =IF(SUM(B89:M89)=0,"",SUM(B89:M89))
A90: mini bouchée | N90: =IF(SUM(B90:M90)=0,"",SUM(B90:M90))
A91: Mini poissons | N91: =IF(SUM(B91:M91)=0,"",SUM(B91:M91))
... A101: Verrines | N101: =IF(SUM(B101:M101)=0,"",SUM(B101:M101))

Sheet EMBALLAGE
A2: FOURNITURES PRISES 2016
A5: DENOMINATION | B5: JANVIER | C5: FÉVRIER | D5: MARS | E5: AVRIL | F5: MAI | G5: JUIN | H5: JUILLET | I5: AOÛT | J5: SEPTEMBRE | K5: OCTOBRE | L5: NOVEMBRE | M5: DÉCEMBRE | N5: TOTAL
A6: 12A | N6: =IF(SUM(B6:M6)=0,"",SUM(B6:M6))
A7: 85A | N7: =IF(SUM(B7:M7)=0,"",SUM(B7:M7))
A8: 78A | N8: =IF(SUM(B8:M8)=0,"",SUM(B8:M8))
A9: 53X | N9: =IF(SUM(B9:M9)=0,"",SUM(B9:M9))
A10: 64A | N10: =IF(SUM(B10:M10)=0,"",SUM(B10:M10))
A11: 05X | N11: =IF(SUM(B11:M11)=0,"",SUM(B11:M11))
A12: 80X | N12: =IF(SUM(B12:M12)=0,"",SUM(B12:M12))
A13: 55X | N13: =IF(SUM(B13:M13)=0,"",SUM(B13:M13))
A14: Samsung MR COUDENE | N14: =IF(SUM(B14:M14)=0,"",SUM(B14:M14))
A16: Agrafes | N16: =IF(SUM(B16:M16)=0,"",SUM(B16:M16))
A17: Bannette | N17: =IF(SUM(B17:M17)=0,"",SUM(B17:M17))
A18: Batonnet de colle | N18: =IF(SUM(B18:M18)=0,"",SUM(B18:M18))
... A21: Boite carton bouteille | N21: =IF(SUM(B21:M21)=0,"",SUM(B21:M21))
A22: Bombe de colle | G22: 2 | N22: =IF(SUM(B22:M22)=0,"",SUM(B22:M22)) -> 2
A23: Cadenas | N23: =IF(SUM(B23:M23)=0,"",SUM(B23:M23))
A24: Cahier tout format | N24: =IF(SUM(B24:M24)=0,"",SUM(B24:M24))
A25: Calculatrice | N25: =IF(SUM(B25:M25)=0,"",SUM(B25:M25))
A26: Chemises | N26: =IF(SUM(B26:M26)=0,"",SUM(B26:M26))
A27: Chemises trapec | N27: =IF(SUM(B27:M27)=0,"",SUM(B27:M27))
A28: Classeurs | G28: 2 | N28: =IF(SUM(B28:M28)=0,"",SUM(B28:M28)) -> 2
A29: Crayon a papier | N29: =IF(SUM(B29:M29)=0,"",SUM(B29:M29))
A30: Dossier suspendu | N30: =IF(SUM(B30:M30)=0,"",SUM(B30:M30))
A31: Enveloppes a soufflet | N31: =IF(SUM(B31:M31)=0,"",SUM(B31:M31))
A32: Enveloppes blanche a fenetre petit format | N32: =IF(SUM(B32:M32)=0,"",SUM(B32:M32))
A33: Enveloppes blanche grand format | N33: =IF(SUM(B33:M33)=0,"",SUM(B33:M33))
A34: Enveloppes blanche moyen format | N34: =IF(SUM(B34:M34)=0,"",SUM(B34:M34))
A35: Enveloppes blanche sans fenetre petit format | N35: =IF(SUM(B35:M35)=0,"",SUM(B35:M35))
A36: Enveloppes marron grand format | N36: =IF(SUM(B36:M36)=0,"",SUM(B36:M36))
A37: Enveloppes marron moyen format | N37: =IF(SUM(B37:M37)=0,"",SUM(B37:M37))
A38: Etiquettes | N38: =IF(SUM(B38:M38)=0,"",SUM(B38:M38))
A39: Feutre effacable | G39: 4 | N39: =IF(SUM(B39:M39)=0,"",SUM(B39:M39)) -> 4
A40: Gaz dépoussiérant | N40: =IF(SUM(B40:M40)=0,"",SUM(B40:M40))
A41: Gomme | N41: =IF(SUM(B41:M41)=0,"",SUM(B41:M41))
A42: Intercalaires | N42: =IF(SUM(B42:M42)=0,"",SUM(B42:M42))
A43: Markeur ONYX petit format | G43: 5 | I43: 3 | N43: =IF(SUM(B43:M43)=0,"",SUM(B43:M43)) -> 8
A44: Markeur ONYX grand format | N44: =IF(SUM(B44:M44)=0,"",SUM(B44:M44))
A45: Papier A3 blanc | N45: =IF(SUM(B45:M45)=0,"",SUM(B45:M45))
A46: Papier A3 couleurs | N46: =IF(SUM(B46:M46)=0,"",SUM(B46:M46))
A47: Papier A4 blanc | N47: =IF(SUM(B47:M47)=0,"",SUM(B47:M47))
A48: Papier A4 couleurs | G48: 2 | H48: 3 | N48: =IF(SUM(B48:M48)=0,"",SUM(B48:M48)) -> 5
A49: Papier clairefontaine blanc marketing 2618 | N49: =IF(SUM(B49:M49)=0,"",SUM(B49:M49))
A50: Papier en tête | N50: =IF(SUM(B50:M50)=0,"",SUM(B50:M50))
A51: Papier paperboard | N51: =IF(SUM(B51:M51)=0,"",SUM(B51:M51))
A52: Papier photo | N52: =IF(SUM(B52:M52)=0,"",SUM(B52:M52))
A53: Piles 2025 | N53: =IF(SUM(B53:M53)=0,"",SUM(B53:M53))
A54: Piles 2032 | N54: =IF(SUM(B54:M54)=0,"",SUM(B54:M54))
A55: Piles 9V | N55: =IF(SUM(B55:M55)=0,"",SUM(B55:M55))
A56: Piles AA | N56: =IF(SUM(B56:M56)=0,"",SUM(B56:M56))
A57: Piles AAA | N57: =IF(SUM(B57:M57)=0,"",SUM(B57:M57))
A58: Piles LR44 | N58: =IF(SUM(B58:M58)=0,"",SUM(B58:M58))
A59: Piles LR54 | N59: =IF(SUM(B59:M59)=0,"",SUM(B59:M59))
A60: Piles392HD | N60: =IF(SUM(B60:M60)=0,"",SUM(B60:M60))
A61: Pochette à bulles | N61: =IF(SUM(B61:M61)=0,"",SUM(B61:M61))
A62: Pochette avec elastiques | G62: 34 | N62: =IF(SUM(B62:M62)=0,"",SUM(B62:M62)) -> 34
A63: Pochette plastique coin | N63: =IF(SUM(B63:M63)=0,"",SUM(B63:M63))
A64: Pochettes plastiques perforé classeur | N64: =IF(SUM(B64:M64)=0,"",SUM(B64:M64))
A65: Porte clefs | N65: =IF(SUM(B65:M65)=0,"",SUM(B65:M65))
A66: Porte vue | N66: =IF(SUM(B66:M66)=0,"",SUM(B66:M66))
A67: Plastique à plastifier | N67: =IF(SUM(B67:M67)=0,"",SUM(B67:M67))
A68: Reliure plastique | N68: =IF(SUM(B68:M68)=0,"",SUM(B68:M68))
A69: Roller de correction | N69: =IF(SUM(B69:M69)=0,"",SUM(B69:M69))
A70: Scotch | N70: =IF(SUM(B70:M70)=0,"",SUM(B70:M70))
A71: Sous chemises | N71: =IF(SUM(B71:M71)=0,"",SUM(B71:M71))
A72: Stabilo | N72: =IF(SUM(B72:M72)=0,"",SUM(B72:M72))
A73: Stylo bleu a capuchon | N73: =IF(SUM(B73:M73)=0,"",SUM(B73:M73))
A74: Stylo noir a capuchon | N74: =IF(SUM(B74:M74)=0,"",SUM(B74:M74))
A75: Stylo retractable bleu | G75: 5 | I75: 3 | N75: =IF(SUM(B75:M75)=0,"",SUM(B75:M75)) -> 8
A76: Stylo retractable rouge | N76: =IF(SUM(B76:M76)=0,"",SUM(B76:M76))
A77: Stylo rouge a capuchon | N77: =IF(SUM(B77:M77)=0,"",SUM(B77:M77))
A78: Stylo signature | N78: =IF(SUM(B78:M78)=0,"",SUM(B78:M78))
A79: Tampons | N79: =IF(SUM(B79:M79)=0,"",SUM(B79:M79))
A80: Traite | N80: =IF(SUM(B80:M80)=0,"",SUM(B80:M80))
A81: Trieurs | N81: =IF(SUM(B81:M81)=0,"",SUM(B81:M81))
A83: Agitateur | N83: =IF(SUM(B83:M83)=0,"",SUM(B83:M83))
A84: Assiettes | N84: =IF(SUM(B84:M84)=0,"",SUM(B84:M84))
A85: Chemin de table | N85: =IF(SUM(B85:M85)=0,"",SUM(B85:M85))
A86: Couteaux | N86: =IF(SUM(B86:M86)=0,"",SUM(B86:M86))
A87: Cuillere à soupe | N87: =IF(SUM(B87:M87)=0,"",SUM(B87:M87))
A88: Cuillere petit format | N88: =IF(SUM(B88:M88)=0,"",SUM(B88:M88))
... A101: Verrines | N101: =IF(SUM(B101:M101)=0,"",SUM(B101:M101))

Sheet EXPEDITION
A2: FOURNITURES PRISES 2016
A5: DENOMINATION | B5: JANVIER | C5: FÉVRIER | D5: MARS | E5: AVRIL | F5: MAI | G5: JUIN | H5: JUILLET | I5: AOÛT | J5: SEPTEMBRE | K5: OCTOBRE | L5: NOVEMBRE | M5: DÉCEMBRE | N5: TOTAL
A6: 12A | N6: =IF(SUM(B6:M6)=0,"",SUM(B6:M6))
A7: 85A | N7: =IF(SUM(B7:M7)=0,"",SUM(B7:M7))
A8: 78A | N8: =IF(SUM(B8:M8)=0,"",SUM(B8:M8))
A9: 53X | N9: =IF(SUM(B9:M9)=0,"",SUM(B9:M9))
A10: 64A | N10: =IF(SUM(B10:M10)=0,"",SUM(B10:M10))
A11: 05X | N11: =IF(SUM(B11:M11)=0,"",SUM(B11:M11))
A12: 80X | N12: =IF(SUM(B12:M12)=0,"",SUM(B12:M12))
A13: 55X | G13: 1 | H13: 1 | N13: =IF(SUM(B13:M13)=0,"",SUM(B13:M13)) -> 2
A14: Samsung MR COUDENE | N14: =IF(SUM(B14:M14)=0,"",SUM(B14:M14))
A16: Agrafes | H16: 1 | N16: =IF(SUM(B16:M16)=0,"",SUM(B16:M16)) -> 1
A17: Bannette | N17: =IF(SUM(B17:M17)=0,"",SUM(B17:M17))
A18: Batonnet de colle | N18: =IF(SUM(B18:M18)=0,"",SUM(B18:M18))
A19: Bobine thermique | N19: =IF(SUM(B19:M19)=0,"",SUM(B19:M19))
A20: Boite archives | N20: =IF(SUM(B20:M20)=0,"",SUM(B20:M20))
A21: Boite carton bouteille | N21: =IF(SUM(B21:M21)=0,"",SUM(B21:M21))
A22: Bombe de colle | N22: =IF(SUM(B22:M22)=0,"",SUM(B22:M22))
A23: Cadenas | N23: =IF(SUM(B23:M23)=0,"",SUM(B23:M23))
A24: Cahier tout format | N24: =IF(SUM(B24:M24)=0,"",SUM(B24:M24))
A25: Calculatrice | N25: =IF(SUM(B25:M25)=0,"",SUM(B25:M25))
A26: Chemises | N26: =IF(SUM(B26:M26)=0,"",SUM(B26:M26))
A27: Chemises trapec | N27: =IF(SUM(B27:M27)=0,"",SUM(B27:M27))
A28: Classeurs | N28: =IF(SUM(B28:M28)=0,"",SUM(B28:M28))
... A35: Enveloppes blanche sans fenetre petit format | N35: =IF(SUM(B35:M35)=0,"",SUM(B35:M35))
A36: Enveloppes marron grand format | G36: 1 | H36: 1 | N36: =IF(SUM(B36:M36)=0,"",SUM(B36:M36)) -> 2
A37: Enveloppes marron moyen format | N37: =IF(SUM(B37:M37)=0,"",SUM(B37:M37))
A38: Etiquettes | N38: =IF(SUM(B38:M38)=0,"",SUM(B38:M38))
A39: Feutre effacable | N39: =IF(SUM(B39:M39)=0,"",SUM(B39:M39))
A40: Gaz dépoussiérant | N40: =IF(SUM(B40:M40)=0,"",SUM(B40:M40))
A41: Gomme | N41: =IF(SUM(B41:M41)=0,"",SUM(B41:M41))
A42: Intercalaires | N42: =IF(SUM(B42:M42)=0,"",SUM(B42:M42))
A43: Markeur ONYX petit format | N43: =IF(SUM(B43:M43)=0,"",SUM(B43:M43))
A44: Markeur ONYX grand format | G44: 7 | H44: 7 | I44: 3 | N44: =IF(SUM(B44:M44)=0,"",SUM(B44:M44)) -> 17
A45: Papier A3 blanc | N45: =IF(SUM(B45:M45)=0,"",SUM(B45:M45))
A46: Papier A3 couleurs | N46: =IF(SUM(B46:M46)=0,"",SUM(B46:M46))
A47: Papier A4 blanc | H47: 15 | N47: =IF(SUM(B47:M47)=0,"",SUM(B47:M47)) -> 15
A48: Papier A4 couleurs | N48: =IF(SUM(B48:M48)=0,"",SUM(B48:M48))
A49: Papier clairefontaine blanc marketing 2618 | N49: =IF(SUM(B49:M49)=0,"",SUM(B49:M49))
A50: Papier en tête | N50: =IF(SUM(B50:M50)=0,"",SUM(B50:M50))
A51: Papier paperboard | N51: =IF(SUM(B51:M51)=0,"",SUM(B51:M51))
A52: Papier photo | N52: =IF(SUM(B52:M52)=0,"",SUM(B52:M52))
A53: Piles 2025 | N53: =IF(SUM(B53:M53)=0,"",SUM(B53:M53))
A54: Piles 2032 | N54: =IF(SUM(B54:M54)=0,"",SUM(B54:M54))
A55: Piles 9V | N55: =IF(SUM(B55:M55)=0,"",SUM(B55:M55))
A56: Piles AA | N56: =IF(SUM(B56:M56)=0,"",SUM(B56:M56))
A57: Piles AAA | N57: =IF(SUM(B57:M57)=0,"",SUM(B57:M57))
A58: Piles LR44 | N58: =IF(SUM(B58:M58)=0,"",SUM(B58:M58))
A59: Piles LR54 | N59: =IF(SUM(B59:M59)=0,"",SUM(B59:M59))
... A68: Reliure plastique | N68: =IF(SUM(B68:M68)=0,"",SUM(B68:M68))
A69: Roller de correction | G69: 1 | N69: =IF(SUM(B69:M69)=0,"",SUM(B69:M69)) -> 1
A70: Scotch | N70: =IF(SUM(B70:M70)=0,"",SUM(B70:M70))
A71: Sous chemises | N71: =IF(SUM(B71:M71)=0,"",SUM(B71:M71))
A72: Stabilo | N72: =IF(SUM(B72:M72)=0,"",SUM(B72:M72))
A73: Stylo bleu a capuchon | N73: =IF(SUM(B73:M73)=0,"",SUM(B73:M73))
A74: Stylo noir a capuchon | N74: =IF(SUM(B74:M74)=0,"",SUM(B74:M74))
A75: Stylo retractable bleu | G75: 4 | N75: =IF(SUM(B75:M75)=0,"",SUM(B75:M75)) -> 4
A76: Stylo retractable rouge | N76: =IF(SUM(B76:M76)=0,"",SUM(B76:M76))
A77: Stylo rouge a capuchon | N77: =IF(SUM(B77:M77)=0,"",SUM(B77:M77))
A78: Stylo signature | N78: =IF(SUM(B78:M78)=0,"",SUM(B78:M78))
A79: Tampons | N79: =IF(SUM(B79:M79)=0,"",SUM(B79:M79))
A80: Traite | N80: =IF(SUM(B80:M80)=0,"",SUM(B80:M80))
A81: Trieurs | N81: =IF(SUM(B81:M81)=0,"",SUM(B81:M81))
A83: Agitateur | N83: =IF(SUM(B83:M83)=0,"",SUM(B83:M83))
A84: Assiettes | N84: =IF(SUM(B84:M84)=0,"",SUM(B84:M84))
A85: Chemin de table | N85: =IF(SUM(B85:M85)=0,"",SUM(B85:M85))
A86: Couteaux | N86: =IF(SUM(B86:M86)=0,"",SUM(B86:M86))
A87: Cuillere à soupe | N87: =IF(SUM(B87:M87)=0,"",SUM(B87:M87))
A88: Cuillere petit format | N88: =IF(SUM(B88:M88)=0,"",SUM(B88:M88))
... A101: Verrines | N101: =IF(SUM(B101:M101)=0,"",SUM(B101:M101))

Sheet RECEPTION
A2: FOURNITURES PRISES 2016
A5: DENOMINATION | B5: JANVIER | C5: FÉVRIER | D5: MARS | E5: AVRIL | F5: MAI | G5: JUIN | H5: JUILLET | I5: AOÛT | J5: SEPTEMBRE | K5: OCTOBRE | L5: NOVEMBRE | M5: DÉCEMBRE | N5: TOTAL
A6: 12A | N6: =IF(SUM(B6:M6)=0,"",SUM(B6:M6))
A7: 85A | N7: =IF(SUM(B7:M7)=0,"",SUM(B7:M7))
A8: 78A | N8: =IF(SUM(B8:M8)=0,"",SUM(B8:M8))
A9: 53X | N9: =IF(SUM(B9:M9)=0,"",SUM(B9:M9))
A10: 64A | N10: =IF(SUM(B10:M10)=0,"",SUM(B10:M10))
A11: 05X | N11: =IF(SUM(B11:M11)=0,"",SUM(B11:M11))
A12: 80X | N12: =IF(SUM(B12:M12)=0,"",SUM(B12:M12))
A13: 55X | N13: =IF(SUM(B13:M13)=0,"",SUM(B13:M13))
A14: Samsung MR COUDENE | N14: =IF(SUM(B14:M14)=0,"",SUM(B14:M14))
A16: Agrafes | N16: =IF(SUM(B16:M16)=0,"",SUM(B16:M16))
A17: Bannette | N17: =IF(SUM(B17:M17)=0,"",SUM(B17:M17))
A18: Batonnet de colle | N18: =IF(SUM(B18:M18)=0,"",SUM(B18:M18))
... A42: Intercalaires | N42: =IF(SUM(B42:M42)=0,"",SUM(B42:M42))
A43: Markeur ONYX petit format | G43: 2 | N43: =IF(SUM(B43:M43)=0,"",SUM(B43:M43)) -> 2
A44: Markeur ONYX grand format | N44: =IF(SUM(B44:M44)=0,"",SUM(B44:M44))
A45: Papier A3 blanc | N45: =IF(SUM(B45:M45)=0,"",SUM(B45:M45))
A46: Papier A3 couleurs | N46: =IF(SUM(B46:M46)=0,"",SUM(B46:M46))
A47: Papier A4 blanc | N47: =IF(SUM(B47:M47)=0,"",SUM(B47:M47))
A48: Papier A4 couleurs | N48: =IF(SUM(B48:M48)=0,"",SUM(B48:M48))
A49: Papier clairefontaine blanc marketing 2618 | N49: =IF(SUM(B49:M49)=0,"",SUM(B49:M49))
A50: Papier en tête | N50: =IF(SUM(B50:M50)=0,"",SUM(B50:M50))
A51: Papier paperboard | N51: =IF(SUM(B51:M51)=0,"",SUM(B51:M51))
A52: Papier photo | N52: =IF(SUM(B52:M52)=0,"",SUM(B52:M52))
A53: Piles 2025 | N53: =IF(SUM(B53:M53)=0,"",SUM(B53:M53))
A54: Piles 2032 | N54: =IF(SUM(B54:M54)=0,"",SUM(B54:M54))
A55: Piles 9V | N55: =IF(SUM(B55:M55)=0,"",SUM(B55:M55))
... A74: Stylo noir a capuchon | N74: =IF(SUM(B74:M74)=0,"",SUM(B74:M74))
A75: Stylo retractable bleu | G75: 1 | H75: 4 | N75: =IF(SUM(B75:M75)=0,"",SUM(B75:M75)) -> 5
A76: Stylo retractable rouge | N76: =IF(SUM(B76:M76)=0,"",SUM(B76:M76))
A77: Stylo rouge a capuchon | N77: =IF(SUM(B77:M77)=0,"",SUM(B77:M77))
A78: Stylo signature | N78: =IF(SUM(B78:M78)=0,"",SUM(B78:M78))
A79: Tampons | N79: =IF(SUM(B79:M79)=0,"",SUM(B79:M79))
A80: Traite | N80: =IF(SUM(B80:M80)=0,"",SUM(B80:M80))
A81: Trieurs | N81: =IF(SUM(B81:M81)=0,"",SUM(B81:M81))
A83: Agitateur | N83: =IF(SUM(B83:M83)=0,"",SUM(B83:M83))
A84: Assiettes | N84: =IF(SUM(B84:M84)=0,"",SUM(B84:M84))
A85: Chemin de table | N85: =IF(SUM(B85:M85)=0,"",SUM(B85:M85))
A86: Couteaux | N86: =IF(SUM(B86:M86)=0,"",SUM(B86:M86))
A87: Cuillere à soupe | N87: =IF(SUM(B87:M87)=0,"",SUM(B87:M87))
A88: Cuillere petit format | N88: =IF(SUM(B88:M88)=0,"",SUM(B88:M88))
... A101: Verrines | N101: =IF(SUM(B101:M101)=0,"",SUM(B101:M101))

Sheet LABO
A2: FOURNITURES PRISES 2016
A5: DENOMINATION | B5: JANVIER | C5: FÉVRIER | D5: MARS | E5: AVRIL | F5: MAI | G5: JUIN | H5: JUILLET | I5: AOÛT | J5: SEPTEMBRE | K5: OCTOBRE | L5: NOVEMBRE | M5: DÉCEMBRE | N5: TOTAL
A6: 12A | N6: =IF(SUM(B6:M6)=0,"",SUM(B6:M6))
A7: 85A | N7: =IF(SUM(B7:M7)=0,"",SUM(B7:M7))
A8: 78A | N8: =IF(SUM(B8:M8)=0,"",SUM(B8:M8))
A9: 53X | N9: =IF(SUM(B9:M9)=0,"",SUM(B9:M9))
A10: 64A | N10: =IF(SUM(B10:M10)=0,"",SUM(B10:M10))
A11: 05X | N11: =IF(SUM(B11:M11)=0,"",SUM(B11:M11))
A12: 80X | N12: =IF(SUM(B12:M12)=0,"",SUM(B12:M12))
A13: 55X | N13: =IF(SUM(B13:M13)=0,"",SUM(B13:M13))
A14: Samsung MR COUDENE | N14: =IF(SUM(B14:M14)=0,"",SUM(B14:M14))
A16: Agrafes | N16: =IF(SUM(B16:M16)=0,"",SUM(B16:M16))
A17: Bannette | N17: =IF(SUM(B17:M17)=0,"",SUM(B17:M17))
A18: Batonnet de colle | N18: =IF(SUM(B18:M18)=0,"",SUM(B18:M18))
... A23: Cadenas | N23: =IF(SUM(B23:M23)=0,"",SUM(B23:M23))
A24: Cahier tout format | H24: 1 | N24: =IF(SUM(B24:M24)=0,"",SUM(B24:M24)) -> 1
A25: Calculatrice | N25: =IF(SUM(B25:M25)=0,"",SUM(B25:M25))
A26: Chemises | N26: =IF(SUM(B26:M26)=0,"",SUM(B26:M26))
A27: Chemises trapec | N27: =IF(SUM(B27:M27)=0,"",SUM(B27:M27))
A28: Classeurs | N28: =IF(SUM(B28:M28)=0,"",SUM(B28:M28))
A29: Crayon a papier | N29: =IF(SUM(B29:M29)=0,"",SUM(B29:M29))
A30: Dossier suspendu | N30: =IF(SUM(B30:M30)=0,"",SUM(B30:M30))
A31: Enveloppes a soufflet | N31: =IF(SUM(B31:M31)=0,"",SUM(B31:M31))
A32: Enveloppes blanche a fenetre petit format | N32: =IF(SUM(B32:M32)=0,"",SUM(B32:M32))
A33: Enveloppes blanche grand format | N33: =IF(SUM(B33:M33)=0,"",SUM(B33:M33))
A34: Enveloppes blanche moyen format | N34: =IF(SUM(B34:M34)=0,"",SUM(B34:M34))
A35: Enveloppes blanche sans fenetre petit format | N35: =IF(SUM(B35:M35)=0,"",SUM(B35:M35))
A36: Enveloppes marron grand format | N36: =IF(SUM(B36:M36)=0,"",SUM(B36:M36))
... A42: Intercalaires | N42: =IF(SUM(B42:M42)=0,"",SUM(B42:M42))
A43: Markeur ONYX petit format | G43: 1 | N43: =IF(SUM(B43:M43)=0,"",SUM(B43:M43)) -> 1
A44: Markeur ONYX grand format | N44: =IF(SUM(B44:M44)=0,"",SUM(B44:M44))
A45: Papier A3 blanc | N45: =IF(SUM(B45:M45)=0,"",SUM(B45:M45))
A46: Papier A3 couleurs | N46: =IF(SUM(B46:M46)=0,"",SUM(B46:M46))
A47: Papier A4 blanc | N47: =IF(SUM(B47:M47)=0,"",SUM(B47:M47))
A48: Papier A4 couleurs | N48: =IF(SUM(B48:M48)=0,"",SUM(B48:M48))
A49: Papier clairefontaine blanc marketing 2618 | N49: =IF(SUM(B49:M49)=0,"",SUM(B49:M49))
A50: Papier en tête | N50: =IF(SUM(B50:M50)=0,"",SUM(B50:M50))
A51: Papier paperboard | N51: =IF(SUM(B51:M51)=0,"",SUM(B51:M51))
A52: Papier photo | N52: =IF(SUM(B52:M52)=0,"",SUM(B52:M52))
A53: Piles 2025 | N53: =IF(SUM(B53:M53)=0,"",SUM(B53:M53))
A54: Piles 2032 | N54: =IF(SUM(B54:M54)=0,"",SUM(B54:M54))
A55: Piles 9V | N55: =IF(SUM(B55:M55)=0,"",SUM(B55:M55))
... A63: Pochette plastique coin | N63: =IF(SUM(B63:M63)=0,"",SUM(B63:M63))
A64: Pochettes plastiques perforé classeur | H64: 1 | N64: =IF(SUM(B64:M64)=0,"",SUM(B64:M64)) -> 1
A65: Porte clefs | N65: =IF(SUM(B65:M65)=0,"",SUM(B65:M65))
A66: Porte vue | N66: =IF(SUM(B66:M66)=0,"",SUM(B66:M66))
A67: Plastique à plastifier | N67: =IF(SUM(B67:M67)=0,"",SUM(B67:M67))
A68: Reliure plastique | N68: =IF(SUM(B68:M68)=0,"",SUM(B68:M68))
A69: Roller de correction | N69: =IF(SUM(B69:M69)=0,"",SUM(B69:M69))
A70: Scotch | N70: =IF(SUM(B70:M70)=0,"",SUM(B70:M70))
A71: Sous chemises | N71: =IF(SUM(B71:M71)=0,"",SUM(B71:M71))
A72: Stabilo | N72: =IF(SUM(B72:M72)=0,"",SUM(B72:M72))
A73: Stylo bleu a capuchon | N73: =IF(SUM(B73:M73)=0,"",SUM(B73:M73))
A74: Stylo noir a capuchon | N74: =IF(SUM(B74:M74)=0,"",SUM(B74:M74))
A75: Stylo retractable bleu | G75: 2 | H75: 1 | N75: =IF(SUM(B75:M75)=0,"",SUM(B75:M75)) -> 3
A76: Stylo retractable rouge | N76: =IF(SUM(B76:M76)=0,"",SUM(B76:M76))
A77: Stylo rouge a capuchon | N77: =IF(SUM(B77:M77)=0,"",SUM(B77:M77))
A78: Stylo signature | G78: 1 | N78: =IF(SUM(B78:M78)=0,"",SUM(B78:M78)) -> 1
A79: Tampons | N79: =IF(SUM(B79:M79)=0,"",SUM(B79:M79))
A80: Traite | N80: =IF(SUM(B80:M80)=0,"",SUM(B80:M80))
A81: Trieurs | N81: =IF(SUM(B81:M81)=0,"",SUM(B81:M81))
A83: Agitateur | N83: =IF(SUM(B83:M83)=0,"",SUM(B83:M83))
A84: Assiettes | G84: 1 | H84: 2 | N84: =IF(SUM(B84:M84)=0,"",SUM(B84:M84)) -> 3
A85: Chemin de table | N85: =IF(SUM(B85:M85)=0,"",SUM(B85:M85))
A86: Couteaux | N86: =IF(SUM(B86:M86)=0,"",SUM(B86:M86))
A87: Cuillere à soupe | N87: =IF(SUM(B87:M87)=0,"",SUM(B87:M87))
A88: Cuillere petit format | G88: 1 | H88: 2 | N88: =IF(SUM(B88:M88)=0,"",SUM(B88:M88)) -> 3
A89: Fourchettes | N89: =IF(SUM(B89:M89)=0,"",SUM(B89:M89))
A90: mini bouchée | N90: =IF(SUM(B90:M90)=0,"",SUM(B90:M90))
A91: Mini poissons | N91: =IF(SUM(B91:M91)=0,"",SUM(B91:M91))
A92: Plateaux | N92: =IF(SUM(B92:M92)=0,"",SUM(B92:M92))
A93: poche a douille | N93: =IF(SUM(B93:M93)=0,"",SUM(B93:M93))
A94: Serviettes | N94: =IF(SUM(B94:M94)=0,"",SUM(B94:M94))
A95: Sopalin | N95: =IF(SUM(B95:M95)=0,"",SUM(B95:M95))
A96: Sucre | N96: =IF(SUM(B96:M96)=0,"",SUM(B96:M96))
A97: Verre à champagne | N97: =IF(SUM(B97:M97)=0,"",SUM(B97:M97))
A98: Verre en plastique | H98: 1 | N98: =IF(SUM(B98:M98)=0,"",SUM(B98:M98)) -> 1
A99: Verre en verre | N99: =IF(SUM(B99:M99)=0,"",SUM(B99:M99))
A100: Verres à vins | N100: =IF(SUM(B100:M100)=0,"",SUM(B100:M100))
A101: Verrines | N101: =IF(SUM(B101:M101)=0,"",SUM(B101:M101))

Sheet R&D
A2: FOURNITURES PRISES 2016
A5: DENOMINATION | B5: JANVIER | C5: FÉVRIER | D5: MARS | E5: AVRIL | F5: MAI | G5: JUIN | H5: JUILLET | I5: AOÛT | J5: SEPTEMBRE | K5: OCTOBRE | L5: NOVEMBRE | M5: DÉCEMBRE | N5: TOTAL
A6: 12A | N6: =IF(SUM(B6:M6)=0,"",SUM(B6:M6))
A7: 85A | N7: =IF(SUM(B7:M7)=0,"",SUM(B7:M7))
A8: 78A | N8: =IF(SUM(B8:M8)=0,"",SUM(B8:M8))
A9: 53X | N9: =IF(SUM(B9:M9)=0,"",SUM(B9:M9))
A10: 64A | N10: =IF(SUM(B10:M10)=0,"",SUM(B10:M10))
A11: 05X | N11: =IF(SUM(B11:M11)=0,"",SUM(B11:M11))
A12: 80X | N12: =IF(SUM(B12:M12)=0,"",SUM(B12:M12))
A13: 55X | N13: =IF(SUM(B13:M13)=0,"",SUM(B13:M13))
A14: Samsung MR COUDENE | N14: =IF(SUM(B14:M14)=0,"",SUM(B14:M14))
A16: Agrafes | N16: =IF(SUM(B16:M16)=0,"",SUM(B16:M16))
A17: Bannette | N17: =IF(SUM(B17:M17)=0,"",SUM(B17:M17))
A18: Batonnet de colle | N18: =IF(SUM(B18:M18)=0,"",SUM(B18:M18))
... A62: Pochette avec elastiques | N62: =IF(SUM(B62:M62)=0,"",SUM(B62:M62))
A63: Pochette plastique coin | H63: 1 | N63: =IF(SUM(B63:M63)=0,"",SUM(B63:M63)) -> 1
A64: Pochettes plastiques perforé classeur | N64: =IF(SUM(B64:M64)=0,"",SUM(B64:M64))
A65: Porte clefs | N65: =IF(SUM(B65:M65)=0,"",SUM(B65:M65))
A66: Porte vue | N66: =IF(SUM(B66:M66)=0,"",SUM(B66:M66))
A67: Plastique à plastifier | N67: =IF(SUM(B67:M67)=0,"",SUM(B67:M67))
A68: Reliure plastique | N68: =IF(SUM(B68:M68)=0,"",SUM(B68:M68))
A69: Roller de correction | N69: =IF(SUM(B69:M69)=0,"",SUM(B69:M69))
A70: Scotch | N70: =IF(SUM(B70:M70)=0,"",SUM(B70:M70))
A71: Sous chemises | N71: =IF(SUM(B71:M71)=0,"",SUM(B71:M71))
A72: Stabilo | N72: =IF(SUM(B72:M72)=0,"",SUM(B72:M72))
A73: Stylo bleu a capuchon | N73: =IF(SUM(B73:M73)=0,"",SUM(B73:M73))
A74: Stylo noir a capuchon | N74: =IF(SUM(B74:M74)=0,"",SUM(B74:M74))
A75: Stylo retractable bleu | G75: 3 | N75: =IF(SUM(B75:M75)=0,"",SUM(B75:M75)) -> 3
A76: Stylo retractable rouge | N76: =IF(SUM(B76:M76)=0,"",SUM(B76:M76))
A77: Stylo rouge a capuchon | N77: =IF(SUM(B77:M77)=0,"",SUM(B77:M77))
A78: Stylo signature | N78: =IF(SUM(B78:M78)=0,"",SUM(B78:M78))
A79: Tampons | N79: =IF(SUM(B79:M79)=0,"",SUM(B79:M79))
A80: Traite | N80: =IF(SUM(B80:M80)=0,"",SUM(B80:M80))
A81: Trieurs | N81: =IF(SUM(B81:M81)=0,"",SUM(B81:M81))
A83: Agitateur | N83: =IF(SUM(B83:M83)=0,"",SUM(B83:M83))
A84: Assiettes | N84: =IF(SUM(B84:M84)=0,"",SUM(B84:M84))
A85: Chemin de table | N85: =IF(SUM(B85:M85)=0,"",SUM(B85:M85))
A86: Couteaux | N86: =IF(SUM(B86:M86)=0,"",SUM(B86:M86))
A87: Cuillere à soupe | N87: =IF(SUM(B87:M87)=0,"",SUM(B87:M87))
A88: Cuillere petit format | N88: =IF(SUM(B88:M88)=0,"",SUM(B88:M88))
... A101: Verrines | N101: =IF(SUM(B101:M101)=0,"",SUM(B101:M101))

Sheet QUALITE
A2: FOURNITURES PRISES 2016
A5: DENOMINATION | B5: JANVIER | C5: FÉVRIER | D5: MARS | E5: AVRIL | F5: MAI | G5: JUIN | H5: JUILLET | I5: AOÛT | J5: SEPTEMBRE | K5: OCTOBRE | L5: NOVEMBRE | M5: DÉCEMBRE | N5: TOTAL
A6: 12A | N6: =IF(SUM(B6:M6)=0,"",SUM(B6:M6))
A7: 85A | N7: =IF(SUM(B7:M7)=0,"",SUM(B7:M7))
A8: 78A | N8: =IF(SUM(B8:M8)=0,"",SUM(B8:M8))
A9: 53X | N9: =IF(SUM(B9:M9)=0,"",SUM(B9:M9))
A10: 64A | N10: =IF(SUM(B10:M10)=0,"",SUM(B10:M10))
A11: 05X | N11: =IF(SUM(B11:M11)=0,"",SUM(B11:M11))
A12: 80X | N12: =IF(SUM(B12:M12)=0,"",SUM(B12:M12))
A13: 55X | N13: =IF(SUM(B13:M13)=0,"",SUM(B13:M13))
A14: Samsung MR COUDENE | N14: =IF(SUM(B14:M14)=0,"",SUM(B14:M14))
A16: Agrafes | G16: 1 | N16: =IF(SUM(B16:M16)=0,"",SUM(B16:M16)) -> 1
A17: Bannette | N17: =IF(SUM(B17:M17)=0,"",SUM(B17:M17))
A18: Batonnet de colle | N18: =IF(SUM(B18:M18)=0,"",SUM(B18:M18))
A19: Bobine thermique | N19: =IF(SUM(B19:M19)=0,"",SUM(B19:M19))
A20: Boite archives | G20: 7 | H20: 6 | N20: =IF(SUM(B20:M20)=0,"",SUM(B20:M20)) -> 13
A21: Boite carton bouteille | N21: =IF(SUM(B21:M21)=0,"",SUM(B21:M21))
A22: Bombe de colle | N22: =IF(SUM(B22:M22)=0,"",SUM(B22:M22))
A23: Cadenas | N23: =IF(SUM(B23:M23)=0,"",SUM(B23:M23))
A24: Cahier tout format | N24: =IF(SUM(B24:M24)=0,"",SUM(B24:M24))
A25: Calculatrice | N25: =IF(SUM(B25:M25)=0,"",SUM(B25:M25))
A26: Chemises | N26: =IF(SUM(B26:M26)=0,"",SUM(B26:M26))
A27: Chemises trapec | H27: 2 | N27: =IF(SUM(B27:M27)=0,"",SUM(B27:M27)) -> 2
A28: Classeurs | N28: =IF(SUM(B28:M28)=0,"",SUM(B28:M28))
A29: Crayon a papier | G29: 2 | N29: =IF(SUM(B29:M29)=0,"",SUM(B29:M29)) -> 2
A30: Dossier suspendu | N30: =IF(SUM(B30:M30)=0,"",SUM(B30:M30))
A31: Enveloppes a soufflet | N31: =IF(SUM(B31:M31)=0,"",SUM(B31:M31))
A32: Enveloppes blanche a fenetre petit format | N32: =IF(SUM(B32:M32)=0,"",SUM(B32:M32))
A33: Enveloppes blanche grand format | N33: =IF(SUM(B33:M33)=0,"",SUM(B33:M33))
A34: Enveloppes blanche moyen format | N34: =IF(SUM(B34:M34)=0,"",SUM(B34:M34))
A35: Enveloppes blanche sans fenetre petit format | N35: =IF(SUM(B35:M35)=0,"",SUM(B35:M35))
A36: Enveloppes marron grand format | N36: =IF(SUM(B36:M36)=0,"",SUM(B36:M36))
A37: Enveloppes marron moyen format | N37: =IF(SUM(B37:M37)=0,"",SUM(B37:M37))
A38: Etiquettes | G38: 1 | N38: =IF(SUM(B38:M38)=0,"",SUM(B38:M38)) -> 1
A39: Feutre effacable | N39: =IF(SUM(B39:M39)=0,"",SUM(B39:M39))
A40: Gaz dépoussiérant | N40: =IF(SUM(B40:M40)=0,"",SUM(B40:M40))
A41: Gomme | N41: =IF(SUM(B41:M41)=0,"",SUM(B41:M41))
A42: Intercalaires | N42: =IF(SUM(B42:M42)=0,"",SUM(B42:M42))
A43: Markeur ONYX petit format | N43: =IF(SUM(B43:M43)=0,"",SUM(B43:M43))
A44: Markeur ONYX grand format | N44: =IF(SUM(B44:M44)=0,"",SUM(B44:M44))
A45: Papier A3 blanc | N45: =IF(SUM(B45:M45)=0,"",SUM(B45:M45))
A46: Papier A3 couleurs | N46: =IF(SUM(B46:M46)=0,"",SUM(B46:M46))
A47: Papier A4 blanc | N47: =IF(SUM(B47:M47)=0,"",SUM(B47:M47))
A48: Papier A4 couleurs | G48: 1 | N48: =IF(SUM(B48:M48)=0,"",SUM(B48:M48)) -> 1
A49: Papier clairefontaine blanc marketing 2618 | N49: =IF(SUM(B49:M49)=0,"",SUM(B49:M49))
A50: Papier en tête | N50: =IF(SUM(B50:M50)=0,"",SUM(B50:M50))
A51: Papier paperboard | N51: =IF(SUM(B51:M51)=0,"",SUM(B51:M51))
A52: Papier photo | N52: =IF(SUM(B52:M52)=0,"",SUM(B52:M52))
A53: Piles 2025 | N53: =IF(SUM(B53:M53)=0,"",SUM(B53:M53))
A54: Piles 2032 | H54: 1 | N54: =IF(SUM(B54:M54)=0,"",SUM(B54:M54)) -> 1
A55: Piles 9V | N55: =IF(SUM(B55:M55)=0,"",SUM(B55:M55))
A56: Piles AA | G56: 3 | N56: =IF(SUM(B56:M56)=0,"",SUM(B56:M56)) -> 3
A57: Piles AAA | N57: =IF(SUM(B57:M57)=0,"",SUM(B57:M57))
A58: Piles LR44 | N58: =IF(SUM(B58:M58)=0,"",SUM(B58:M58))
A59: Piles LR54 | N59: =IF(SUM(B59:M59)=0,"",SUM(B59:M59))
A60: Piles392HD | N60: =IF(SUM(B60:M60)=0,"",SUM(B60:M60))
A61: Pochette à bulles | N61: =IF(SUM(B61:M61)=0,"",SUM(B61:M61))
A62: Pochette avec elastiques | N62: =IF(SUM(B62:M62)=0,"",SUM(B62:M62))
A63: Pochette plastique coin | N63: =IF(SUM(B63:M63)=0,"",SUM(B63:M63))
A64: Pochettes plastiques perforé classeur | H64: 1 | N64: =IF(SUM(B64:M64)=0,"",SUM(B64:M64)) -> 1
A65: Porte clefs | N65: =IF(SUM(B65:M65)=0,"",SUM(B65:M65))
A66: Porte vue | N66: =IF(SUM(B66:M66)=0,"",SUM(B66:M66))
A67: Plastique à plastifier | N67: =IF(SUM(B67:M67)=0,"",SUM(B67:M67))
A68: Reliure plastique | N68: =IF(SUM(B68:M68)=0,"",SUM(B68:M68))
A69: Roller de correction | G69: 1 | H69: 1 | N69: =IF(SUM(B69:M69)=0,"",SUM(B69:M69)) -> 2
A70: Scotch | N70: =IF(SUM(B70:M70)=0,"",SUM(B70:M70))
A71: Sous chemises | N71: =IF(SUM(B71:M71)=0,"",SUM(B71:M71))
A72: Stabilo | N72: =IF(SUM(B72:M72)=0,"",SUM(B72:M72))
A73: Stylo bleu a capuchon | N73: =IF(SUM(B73:M73)=0,"",SUM(B73:M73))
A74: Stylo noir a capuchon | N74: =IF(SUM(B74:M74)=0,"",SUM(B74:M74))
A75: Stylo retractable bleu | G75: 3 | N75: =IF(SUM(B75:M75)=0,"",SUM(B75:M75)) -> 3
A76: Stylo retractable rouge | N76: =IF(SUM(B76:M76)=0,"",SUM(B76:M76))
A77: Stylo rouge a capuchon | N77: =IF(SUM(B77:M77)=0,"",SUM(B77:M77))
A78: Stylo signature | N78: =IF(SUM(B78:M78)=0,"",SUM(B78:M78))
A79: Tampons | N79: =IF(SUM(B79:M79)=0,"",SUM(B79:M79))
A80: Traite | N80: =IF(SUM(B80:M80)=0,"",SUM(B80:M80))
A81: Trieurs | N81: =IF(SUM(B81:M81)=0,"",SUM(B81:M81))
A83: Agitateur | N83: =IF(SUM(B83:M83)=0,"",SUM(B83:M83))
A84: Assiettes | N84: =IF(SUM(B84:M84)=0,"",SUM(B84:M84))
A85: Chemin de table | N85: =IF(SUM(B85:M85)=0,"",SUM(B85:M85))
A86: Couteaux | N86: =IF(SUM(B86:M86)=0,"",SUM(B86:M86))
A87: Cuillere à soupe | N87: =IF(SUM(B87:M87)=0,"",SUM(B87:M87))
A88: Cuillere petit format | N88: =IF(SUM(B88:M88)=0,"",SUM(B88:M88))
... A101: Verrines | N101: =IF(SUM(B101:M101)=0,"",SUM(B101:M101))

Sheet UCIA
A2: FOURNITURES PRISES 2016
A5: DENOMINATION | B5: JANVIER | C5: FÉVRIER | D5: MARS | E5: AVRIL | F5: MAI | G5: JUIN | H5: JUILLET | I5: AOÛT | J5: SEPTEMBRE | K5: OCTOBRE | L5: NOVEMBRE | M5: DÉCEMBRE | N5: TOTAL
A6: 12A | N6: =IF(SUM(B6:M6)=0,"",SUM(B6:M6))
A7: 85A | N7: =IF(SUM(B7:M7)=0,"",SUM(B7:M7))
A8: 78A | N8: =IF(SUM(B8:M8)=0,"",SUM(B8:M8))
A9: 53X | N9: =IF(SUM(B9:M9)=0,"",SUM(B9:M9))
A10: 64A | N10: =IF(SUM(B10:M10)=0,"",SUM(B10:M10))
A11: 05X | N11: =IF(SUM(B11:M11)=0,"",SUM(B11:M11))
A12: 80X | N12: =IF(SUM(B12:M12)=0,"",SUM(B12:M12))
A13: 55X | N13: =IF(SUM(B13:M13)=0,"",SUM(B13:M13))
A14: Samsung MR COUDENE | N14: =IF(SUM(B14:M14)=0,"",SUM(B14:M14))
A16: Agrafes | N16: =IF(SUM(B16:M16)=0,"",SUM(B16:M16))
A17: Bannette | N17: =IF(SUM(B17:M17)=0,"",SUM(B17:M17))
A18: Batonnet de colle | H18: 4 | N18: =IF(SUM(B18:M18)=0,"",SUM(B18:M18)) -> 4
A19: Bobine thermique | N19: =IF(SUM(B19:M19)=0,"",SUM(B19:M19))
A20: Boite archives | N20: =IF(SUM(B20:M20)=0,"",SUM(B20:M20))
A21: Boite carton bouteille | N21: =IF(SUM(B21:M21)=0,"",SUM(B21:M21))
A22: Bombe de colle | N22: =IF(SUM(B22:M22)=0,"",SUM(B22:M22))
A23: Cadenas | N23: =IF(SUM(B23:M23)=0,"",SUM(B23:M23))
A24: Cahier tout format | N24: =IF(SUM(B24:M24)=0,"",SUM(B24:M24))
A25: Calculatrice | N25: =IF(SUM(B25:M25)=0,"",SUM(B25:M25))
A26: Chemises | N26: =IF(SUM(B26:M26)=0,"",SUM(B26:M26))
A27: Chemises trapec | N27: =IF(SUM(B27:M27)=0,"",SUM(B27:M27))
A28: Classeurs | N28: =IF(SUM(B28:M28)=0,"",SUM(B28:M28))
A29: Crayon a papier | N29: =IF(SUM(B29:M29)=0,"",SUM(B29:M29))
A30: Dossier suspendu | N30: =IF(SUM(B30:M30)=0,"",SUM(B30:M30))
... A63: Pochette plastique coin | N63: =IF(SUM(B63:M63)=0,"",SUM(B63:M63))
A64: Pochettes plastiques perforé classeur | G64: 1 | N64: =IF(SUM(B64:M64)=0,"",SUM(B64:M64)) -> 1
A65: Porte clefs | N65: =IF(SUM(B65:M65)=0,"",SUM(B65:M65))
A66: Porte vue | N66: =IF(SUM(B66:M66)=0,"",SUM(B66:M66))
A67: Plastique à plastifier | N67: =IF(SUM(B67:M67)=0,"",SUM(B67:M67))
A68: Reliure plastique | N68: =IF(SUM(B68:M68)=0,"",SUM(B68:M68))
A69: Roller de correction | N69: =IF(SUM(B69:M69)=0,"",SUM(B69:M69))
A70: Scotch | N70: =IF(SUM(B70:M70)=0,"",SUM(B70:M70))
A71: Sous chemises | N71: =IF(SUM(B71:M71)=0,"",SUM(B71:M71))
A72: Stabilo | N72: =IF(SUM(B72:M72)=0,"",SUM(B72:M72))
A73: Stylo bleu a capuchon | N73: =IF(SUM(B73:M73)=0,"",SUM(B73:M73))
A74: Stylo noir a capuchon | N74: =IF(SUM(B74:M74)=0,"",SUM(B74:M74))
A75: Stylo retractable bleu | N75: =IF(SUM(B75:M75)=0,"",SUM(B75:M75))
A76: Stylo retractable rouge | N76: =IF(SUM(B76:M76)=0,"",SUM(B76:M76))
... A101: Verrines | N101: =IF(SUM(B101:M101)=0,"",SUM(B101:M101))

Sheet GLOBAL 2016 SERVICES
A2: TOTAL DES FOURNITURES PRISES 2016 tous services confondus
A5: DENOMINATION | B5: JANVIER | C5: FÉVRIER | D5: MARS | E5: AVRIL | F5: MAI | G5: JUIN | H5: JUILLET | I5: AOÛT | J5: SEPTEMBRE | K5: OCTOBRE | L5: NOVEMBRE | M5: DÉCEMBRE | N5: UNITE | O5: TOTAL | P5: DIRECTION | Q5: COMPTA | R5: ACCUEIL | S5: ADV | T5: COMMERCIAUX | U5: MARKETING | V5: MAINTENANCE | W5: PRODUCTION | X5: EMBALLAGE | Y5: EXPEDITION | Z5: RECEPTION | AA5: LABO | AB5: R&D | AC5: QUALITE | AD5: UCIA
A6: 12A | B6: =IF(COMMERCIAUX!B6+MAINTENANCE!B6+ADV!B6+'R&D'!B6+RECEPTION!B6+DIRECTION!B6+EMBALLAGE!B6+MARKETING!B6+EXPEDITION!B6+QUALITE!B6+ACCUEIL!B6+PRODUCTION!B6+LABO!B6+COMPTA!B6=0,"",COMMERCIAUX!B6+MAINTENANCE!B6+ADV!B6+'R&D'!B6+RECEPTION!B6+DIRECTION!B6+EMBALLAGE!B6+MARKETING!B6+EXPEDITION!B6+QUALITE!B6+ACCUEIL!B6+PRODUCTION!B6+LABO!B6+COMPTA!B6+UCIA!B6) | C6: =IF(COMMERCIAUX!C6+MAINTENANCE!C6+ADV!C6+'R&D'!C6+RECEPTION!C6+DIRECTION!C6+EMBALLAGE!C6+MARKETING!C6+EXPEDITION!C6+QUALITE!C6+ACCUEIL!C6+PRODUCTION!C6+LABO!C6+COMPTA!C6=0,"",COMMERCIAUX!C6+MAINTENANCE!C6+ADV!C6+'R&D'!C6+RECEPTION!C6+DIRECTION!C6+EMBALLAGE!C6+MARKETING!C6+EXPEDITION!C6+QUALITE!C6+ACCUEIL!C6+PRODUCTION!C6+LABO!C6+COMPTA!C6+UCIA!C6) | D6: =IF(COMMERCIAUX!D6+MAINTENANCE!D6+ADV!D6+'R&D'!D6+RECEPTION!D6+DIRECTION!D6+EMBALLAGE!D6+MARKETING!D6+EXPEDITION!D6+QUALITE!D6+ACCUEIL!D6+PRODUCTION!D6+LABO!D6+COMPTA!D6=0,"",COMMERCIAUX!D6+MAINTENANCE!D6+ADV!D6+'R&D'!D6+RECEPTION!D6+DIRECTION!D6+EMBALLAGE!D6+MARKETING!D6+EXPEDITION!D6+QUALITE!D6+ACCUEIL!D6+PRODUCTION!D6+LABO!D6+COMPTA!D6+UCIA!D6) | E6: =IF(COMMERCIAUX!E6+MAINTENANCE!E6+ADV!E6+'R&D'!E6+RECEPTION!E6+DIRECTION!E6+EMBALLAGE!E6+MARKETING!E6+EXPEDITION!E6+QUALITE!E6+ACCUEIL!E6+PRODUCTION!E6+LABO!E6+COMPTA!E6=0,"",COMMERCIAUX!E6+MAINTENANCE!E6+ADV!E6+'R&D'!E6+RECEPTION!E6+DIRECTION!E6+EMBALLAGE!E6+MARKETING!E6+EXPEDITION!E6+QUALITE!E6+ACCUEIL!E6+PRODUCTION!E6+LABO!E6+COMPTA!E6+UCIA!E6) | F6: =IF(COMMERCIAUX!F6+MAINTENANCE!F6+ADV!F6+'R&D'!F6+RECEPTION!F6+DIRECTION!F6+EMBALLAGE!F6+MARKETING!F6+EXPEDITION!F6+QUALITE!F6+ACCUEIL!F6+PRODUCTION!F6+LABO!F6+COMPTA!F6=0,"",COMMERCIAUX!F6+MAINTENANCE!F6+ADV!F6+'R&D'!F6+RECEPTION!F6+DIRECTION!F6+EMBALLAGE!F6+MARKETING!F6+EXPEDITION!F6+QUALITE!F6+ACCUEIL!F6+PRODUCTION!F6+LABO!F6+COMPTA!F6+UCIA!F6) | G6: =IF(COMMERCIAUX!G6+MAINTENANCE!G6+ADV!G6+'R&D'!G6+RECEPTION!G6+DIRECTION!G6+EMBALLAGE!G6+MARKETING!G6+EXPEDITION!G6+QUALITE!G6+ACCUEIL!G6+PRODUCTION!G6+LABO!G6+COMPTA!G6=0,"",COMMERCIAUX!G6+MAINTENANCE!G6+ADV!G6+'R&D'!G6+RECEPTION!G6+DIRECTION!G6+EMBALLAGE!G6+MARKETING!G6+EXPEDITION!G6+QUALITE!G6+ACCUEIL!G6+PRODUCTION!G6+LABO!G6+COMPTA!G6+UCIA!G6) -> 2 | H6: =IF(COMMERCIAUX!H6+MAINTENANCE!H6+ADV!H6+'R&D'!H6+RECEPTION!H6+DIRECTION!H6+EMBALLAGE!H6+MARKETING!H6+EXPEDITION!H6+QUALITE!H6+ACCUEIL!H6+PRODUCTION!H6+LABO!H6+COMPTA!H6=0,"",COMMERCIAUX!H6+MAINTENANCE!H6+ADV!H6+'R&D'!H6+RECEPTION!H6+DIRECTION!H6+EMBALLAGE!H6+MARKETING!H6+EXPEDITION!H6+QUALITE!H6+ACCUEIL!H6+PRODUCTION!H6+LABO!H6+COMPTA!H6+UCIA!H6) | I6: =IF(COMMERCIAUX!I6+MAINTENANCE!I6+ADV!I6+'R&D'!I6+RECEPTION!I6+DIRECTION!I6+EMBALLAGE!I6+MARKETING!I6+EXPEDITION!I6+QUALITE!I6+ACCUEIL!I6+PRODUCTION!I6+LABO!I6+COMPTA!I6=0,"",COMMERCIAUX!I6+MAINTENANCE!I6+ADV!I6+'R&D'!I6+RECEPTION!I6+DIRECTION!I6+EMBALLAGE!I6+MARKETING!I6+EXPEDITION!I6+QUALITE!I6+ACCUEIL!I6+PRODUCTION!I6+LABO!I6+COMPTA!I6+UCIA!I6) | ... M6: =IF(COMMERCIAUX!M6+MAINTENANCE!M6+ADV!M6+'R&D'!M6+RECEPTION!M6+DIRECTION!M6+EMBALLAGE!M6+MARKETING!M6+EXPEDITION!M6+QUALITE!M6+ACCUEIL!M6+PRODUCTION!M6+LABO!M6+COMPTA!M6=0,"",COMMERCIAUX!M6+MAINTENANCE!M6+ADV!M6+'R&D'!M6+RECEPTION!M6+DIRECTION!M6+EMBALLAGE!M6+MARKETING!M6+EXPEDITION!M6+QUALITE!M6+ACCUEIL!M6+PRODUCTION!M6+LABO!M6+COMPTA!M6+UCIA!M6) | O6: =IF(SUM(B6:M6)=0,"",SUM(B6:M6)) -> 2 | P6: =IF(DIRECTION!N6=0,"",DIRECTION!N6) | Q6: =IF(COMPTA!N6=0,"",COMPTA!N6) -> 1 | R6: =IF(ACCUEIL!N6=0,"",ACCUEIL!N6) | S6: =IF(ADV!N6=0,"",ADV!N6) | T6: =IF(COMMERCIAUX!N6=0,"",COMMERCIAUX!N6) | U6: =IF(MARKETING!N6=0,"",MARKETING!N6) | V6: =IF(MAINTENANCE!N6=0,"",MAINTENANCE!N6) | W6: =IF(PRODUCTION!N6=0,"",PRODUCTION!N6) -> 1 | X6: =IF(EMBALLAGE!N6=0,"",EMBALLAGE!N6) | Y6: =IF(EXPEDITION!N6=0,"",EXPEDITION!N6) | Z6: =IF(RECEPTION!N6=0,"",RECEPTION!N6) | AA6: =IF(LABO!N6=0,"",LABO!N6) | AB6: =IF('R&D'!N6=0,"",'R&D'!N6) | AC6: =IF(QUALITE!N6=0,"",QUALITE!N6) | AD6: =IF(UCIA!N6=0,"",UCIA!N6)
A7: 85A | B7: =IF(COMMERCIAUX!B7+MAINTENANCE!B7+ADV!B7+'R&D'!B7+RECEPTION!B7+DIRECTION!B7+EMBALLAGE!B7+MARKETING!B7+EXPEDITION!B7+QUALITE!B7+ACCUEIL!B7+PRODUCTION!B7+LABO!B7+COMPTA!B7=0,"",COMMERCIAUX!B7+MAINTENANCE!B7+ADV!B7+'R&D'!B7+RECEPTION!B7+DIRECTION!B7+EMBALLAGE!B7+MARKETING!B7+EXPEDITION!B7+QUALITE!B7+ACCUEIL!B7+PRODUCTION!B7+LABO!B7+COMPTA!B7+UCIA!B7) | C7: =IF(COMMERCIAUX!C7+MAINTENANCE!C7+ADV!C7+'R&D'!C7+RECEPTION!C7+DIRECTION!C7+EMBALLAGE!C7+MARKETING!C7+EXPEDITION!C7+QUALITE!C7+ACCUEIL!C7+PRODUCTION!C7+LABO!C7+COMPTA!C7=0,"",COMMERCIAUX!C7+MAINTENANCE!C7+ADV!C7+'R&D'!C7+RECEPTION!C7+DIRECTION!C7+EMBALLAGE!C7+MARKETING!C7+EXPEDITION!C7+QUALITE!C7+ACCUEIL!C7+PRODUCTION!C7+LABO!C7+COMPTA!C7+UCIA!C7) | D7: =IF(COMMERCIAUX!D7+MAINTENANCE!D7+ADV!D7+'R&D'!D7+RECEPTION!D7+DIRECTION!D7+EMBALLAGE!D7+MARKETING!D7+EXPEDITION!D7+QUALITE!D7+ACCUEIL!D7+PRODUCTION!D7+LABO!D7+COMPTA!D7=0,"",COMMERCIAUX!D7+MAINTENANCE!D7+ADV!D7+'R&D'!D7+RECEPTION!D7+DIRECTION!D7+EMBALLAGE!D7+MARKETING!D7+EXPEDITION!D7+QUALITE!D7+ACCUEIL!D7+PRODUCTION!D7+LABO!D7+COMPTA!D7+UCIA!D7) | E7: =IF(COMMERCIAUX!E7+MAINTENANCE!E7+ADV!E7+'R&D'!E7+RECEPTION!E7+DIRECTION!E7+EMBALLAGE!E7+MARKETING!E7+EXPEDITION!E7+QUALITE!E7+ACCUEIL!E7+PRODUCTION!E7+LABO!E7+COMPTA!E7=0,"",COMMERCIAUX!E7+MAINTENANCE!E7+ADV!E7+'R&D'!E7+RECEPTION!E7+DIRECTION!E7+EMBALLAGE!E7+MARKETING!E7+EXPEDITION!E7+QUALITE!E7+ACCUEIL!E7+PRODUCTION!E7+LABO!E7+COMPTA!E7+UCIA!E7) | F7: =IF(COMMERCIAUX!F7+MAINTENANCE!F7+ADV!F7+'R&D'!F7+RECEPTION!F7+DIRECTION!F7+EMBALLAGE!F7+MARKETING!F7+EXPEDITION!F7+QUALITE!F7+ACCUEIL!F7+PRODUCTION!F7+LABO!F7+COMPTA!F7=0,"",COMMERCIAUX!F7+MAINTENANCE!F7+ADV!F7+'R&D'!F7+RECEPTION!F7+DIRECTION!F7+EMBALLAGE!F7+MARKETING!F7+EXPEDITION!F7+QUALITE!F7+ACCUEIL!F7+PRODUCTION!F7+LABO!F7+COMPTA!F7+UCIA!F7) | G7: =IF(COMMERCIAUX!G7+MAINTENANCE!G7+ADV!G7+'R&D'!G7+RECEPTION!G7+DIRECTION!G7+EMBALLAGE!G7+MARKETING!G7+EXPEDITION!G7+QUALITE!G7+ACCUEIL!G7+PRODUCTION!G7+LABO!G7+COMPTA!G7=0,"",COMMERCIAUX!G7+MAINTENANCE!G7+ADV!G7+'R&D'!G7+RECEPTION!G7+DIRECTION!G7+EMBALLAGE!G7+MARKETING!G7+EXPEDITION!G7+QUALITE!G7+ACCUEIL!G7+PRODUCTION!G7+LABO!G7+COMPTA!G7+UCIA!G7) | H7: =IF(COMMERCIAUX!H7+MAINTENANCE!H7+ADV!H7+'R&D'!H7+RECEPTION!H7+DIRECTION!H7+EMBALLAGE!H7+MARKETING!H7+EXPEDITION!H7+QUALITE!H7+ACCUEIL!H7+PRODUCTION!H7+LABO!H7+COMPTA!H7=0,"",COMMERCIAUX!H7+MAINTENANCE!H7+ADV!H7+'R&D'!H7+RECEPTION!H7+DIRECTION!H7+EMBALLAGE!H7+MARKETING!H7+EXPEDITION!H7+QUALITE!H7+ACCUEIL!H7+PRODUCTION!H7+LABO!H7+COMPTA!H7+UCIA!H7) | I7: =IF(COMMERCIAUX!I7+MAINTENANCE!I7+ADV!I7+'R&D'!I7+RECEPTION!I7+DIRECTION!I7+EMBALLAGE!I7+MARKETING!I7+EXPEDITION!I7+QUALITE!I7+ACCUEIL!I7+PRODUCTION!I7+LABO!I7+COMPTA!I7=0,"",COMMERCIAUX!I7+MAINTENANCE!I7+ADV!I7+'R&D'!I7+RECEPTION!I7+DIRECTION!I7+EMBALLAGE!I7+MARKETING!I7+EXPEDITION!I7+QUALITE!I7+ACCUEIL!I7+PRODUCTION!I7+LABO!I7+COMPTA!I7+UCIA!I7) | ... M7: =IF(COMMERCIAUX!M7+MAINTENANCE!M7+ADV!M7+'R&D'!M7+RECEPTION!M7+DIRECTION!M7+EMBALLAGE!M7+MARKETING!M7+EXPEDITION!M7+QUALITE!M7+ACCUEIL!M7+PRODUCTION!M7+LABO!M7+COMPTA!M7=0,"",COMMERCIAUX!M7+MAINTENANCE!M7+ADV!M7+'R&D'!M7+RECEPTION!M7+DIRECTION!M7+EMBALLAGE!M7+MARKETING!M7+EXPEDITION!M7+QUALITE!M7+ACCUEIL!M7+PRODUCTION!M7+LABO!M7+COMPTA!M7+UCIA!M7) | O7: =IF(SUM(B7:M7)=0,"",SUM(B7:M7)) | P7: =IF(DIRECTION!N7=0,"",DIRECTION!N7) | Q7: =IF(COMPTA!N7=0,"",COMPTA!N7) | R7: =IF(ACCUEIL!N7=0,"",ACCUEIL!N7) | S7: =IF(ADV!N7=0,"",ADV!N7) | T7: =IF(COMMERCIAUX!N7=0,"",COMMERCIAUX!N7) | U7: =IF(MARKETING!N7=0,"",MARKETING!N7) | V7: =IF(MAINTENANCE!N7=0,"",MAINTENANCE!N7) | W7: =IF(PRODUCTION!N7=0,"",PRODUCTION!N7) | X7: =IF(EMBALLAGE!N7=0,"",EMBALLAGE!N7) | Y7: =IF(EXPEDITION!N7=0,"",EXPEDITION!N7) | Z7: =IF(RECEPTION!N7=0,"",RECEPTION!N7) | AA7: =IF(LABO!N7=0,"",LABO!N7) | AB7: =IF('R&D'!N7=0,"",'R&D'!N7) | AC7: =IF(QUALITE!N7=0,"",QUALITE!N7) | AD7: =IF(UCIA!N7=0,"",UCIA!N7)
A8: 78A | B8: =IF(COMMERCIAUX!B8+MAINTENANCE!B8+ADV!B8+'R&D'!B8+RECEPTION!B8+DIRECTION!B8+EMBALLAGE!B8+MARKETING!B8+EXPEDITION!B8+QUALITE!B8+ACCUEIL!B8+PRODUCTION!B8+LABO!B8+COMPTA!B8=0,"",COMMERCIAUX!B8+MAINTENANCE!B8+ADV!B8+'R&D'!B8+RECEPTION!B8+DIRECTION!B8+EMBALLAGE!B8+MARKETING!B8+EXPEDITION!B8+QUALITE!B8+ACCUEIL!B8+PRODUCTION!B8+LABO!B8+COMPTA!B8+UCIA!B8) | C8: =IF(COMMERCIAUX!C8+MAINTENANCE!C8+ADV!C8+'R&D'!C8+RECEPTION!C8+DIRECTION!C8+EMBALLAGE!C8+MARKETING!C8+EXPEDITION!C8+QUALITE!C8+ACCUEIL!C8+PRODUCTION!C8+LABO!C8+COMPTA!C8=0,"",COMMERCIAUX!C8+MAINTENANCE!C8+ADV!C8+'R&D'!C8+RECEPTION!C8+DIRECTION!C8+EMBALLAGE!C8+MARKETING!C8+EXPEDITION!C8+QUALITE!C8+ACCUEIL!C8+PRODUCTION!C8+LABO!C8+COMPTA!C8+UCIA!C8) | D8: =IF(COMMERCIAUX!D8+MAINTENANCE!D8+ADV!D8+'R&D'!D8+RECEPTION!D8+DIRECTION!D8+EMBALLAGE!D8+MARKETING!D8+EXPEDITION!D8+QUALITE!D8+ACCUEIL!D8+PRODUCTION!D8+LABO!D8+COMPTA!D8=0,"",COMMERCIAUX!D8+MAINTENANCE!D8+ADV!D8+'R&D'!D8+RECEPTION!D8+DIRECTION!D8+EMBALLAGE!D8+MARKETING!D8+EXPEDITION!D8+QUALITE!D8+ACCUEIL!D8+PRODUCTION!D8+LABO!D8+COMPTA!D8+UCIA!D8) | E8: =IF(COMMERCIAUX!E8+MAINTENANCE!E8+ADV!E8+'R&D'!E8+RECEPTION!E8+DIRECTION!E8+EMBALLAGE!E8+MARKETING!E8+EXPEDITION!E8+QUALITE!E8+ACCUEIL!E8+PRODUCTION!E8+LABO!E8+COMPTA!E8=0,"",COMMERCIAUX!E8+MAINTENANCE!E8+ADV!E8+'R&D'!E8+RECEPTION!E8+DIRECTION!E8+EMBALLAGE!E8+MARKETING!E8+EXPEDITION!E8+QUALITE!E8+ACCUEIL!E8+PRODUCTION!E8+LABO!E8+COMPTA!E8+UCIA!E8) | F8: =IF(COMMERCIAUX!F8+MAINTENANCE!F8+ADV!F8+'R&D'!F8+RECEPTION!F8+DIRECTION!F8+EMBALLAGE!F8+MARKETING!F8+EXPEDITION!F8+QUALITE!F8+ACCUEIL!F8+PRODUCTION!F8+LABO!F8+COMPTA!F8=0,"",COMMERCIAUX!F8+MAINTENANCE!F8+ADV!F8+'R&D'!F8+RECEPTION!F8+DIRECTION!F8+EMBALLAGE!F8+MARKETING!F8+EXPEDITION!F8+QUALITE!F8+ACCUEIL!F8+PRODUCTION!F8+LABO!F8+COMPTA!F8+UCIA!F8) | G8: =IF(COMMERCIAUX!G8+MAINTENANCE!G8+ADV!G8+'R&D'!G8+RECEPTION!G8+DIRECTION!G8+EMBALLAGE!G8+MARKETING!G8+EXPEDITION!G8+QUALITE!G8+ACCUEIL!G8+PRODUCTION!G8+LABO!G8+COMPTA!G8=0,"",COMMERCIAUX!G8+MAINTENANCE!G8+ADV!G8+'R&D'!G8+RECEPTION!G8+DIRECTION!G8+EMBALLAGE!G8+MARKETING!G8+EXPEDITION!G8+QUALITE!G8+ACCUEIL!G8+PRODUCTION!G8+LABO!G8+COMPTA!G8+UCIA!G8) -> 2 | H8: =IF(COMMERCIAUX!H8+MAINTENANCE!H8+ADV!H8+'R&D'!H8+RECEPTION!H8+DIRECTION!H8+EMBALLAGE!H8+MARKETING!H8+EXPEDITION!H8+QUALITE!H8+ACCUEIL!H8+PRODUCTION!H8+LABO!H8+COMPTA!H8=0,"",COMMERCIAUX!H8+MAINTENANCE!H8+ADV!H8+'R&D'!H8+RECEPTION!H8+DIRECTION!H8+EMBALLAGE!H8+MARKETING!H8+EXPEDITION!H8+QUALITE!H8+ACCUEIL!H8+PRODUCTION!H8+LABO!H8+COMPTA!H8+UCIA!H8) -> 2 | I8: =IF(COMMERCIAUX!I8+MAINTENANCE!I8+ADV!I8+'R&D'!I8+RECEPTION!I8+DIRECTION!I8+EMBALLAGE!I8+MARKETING!I8+EXPEDITION!I8+QUALITE!I8+ACCUEIL!I8+PRODUCTION!I8+LABO!I8+COMPTA!I8=0,"",COMMERCIAUX!I8+MAINTENANCE!I8+ADV!I8+'R&D'!I8+RECEPTION!I8+DIRECTION!I8+EMBALLAGE!I8+MARKETING!I8+EXPEDITION!I8+QUALITE!I8+ACCUEIL!I8+PRODUCTION!I8+LABO!I8+COMPTA!I8+UCIA!I8) | ... M8: =IF(COMMERCIAUX!M8+MAINTENANCE!M8+ADV!M8+'R&D'!M8+RECEPTION!M8+DIRECTION!M8+EMBALLAGE!M8+MARKETING!M8+EXPEDITION!M8+QUALITE!M8+ACCUEIL!M8+PRODUCTION!M8+LABO!M8+COMPTA!M8=0,"",COMMERCIAUX!M8+MAINTENANCE!M8+ADV!M8+'R&D'!M8+RECEPTION!M8+DIRECTION!M8+EMBALLAGE!M8+MARKETING!M8+EXPEDITION!M8+QUALITE!M8+ACCUEIL!M8+PRODUCTION!M8+LABO!M8+COMPTA!M8+UCIA!M8) | O8: =IF(SUM(B8:M8)=0,"",SUM(B8:M8)) -> 4 | P8: =IF(DIRECTION!N8=0,"",DIRECTION!N8) -> 2 | Q8: =IF(COMPTA!N8=0,"",COMPTA!N8) | R8: =IF(ACCUEIL!N8=0,"",ACCUEIL!N8) | S8: =IF(ADV!N8=0,"",ADV!N8) -> 2 | T8: =IF(COMMERCIAUX!N8=0,"",COMMERCIAUX!N8) | U8: =IF(MARKETING!N8=0,"",MARKETING!N8) | V8: =IF(MAINTENANCE!N8=0,"",MAINTENANCE!N8) | W8: =IF(PRODUCTION!N8=0,"",PRODUCTION!N8) | X8: =IF(EMBALLAGE!N8=0,"",EMBALLAGE!N8) | Y8: =IF(EXPEDITION!N8=0,"",EXPEDITION!N8) | Z8: =IF(RECEPTION!N8=0,"",RECEPTION!N8) | AA8: =IF(LABO!N8=0,"",LABO!N8) | AB8: =IF('R&D'!N8=0,"",'R&D'!N8) | AC8: =IF(QUALITE!N8=0,"",QUALITE!N8) | AD8: =IF(UCIA!N8=0,"",UCIA!N8)
A9: 53X | B9: =IF(COMMERCIAUX!B9+MAINTENANCE!B9+ADV!B9+'R&D'!B9+RECEPTION!B9+DIRECTION!B9+EMBALLAGE!B9+MARKETING!B9+EXPEDITION!B9+QUALITE!B9+ACCUEIL!B9+PRODUCTION!B9+LABO!B9+COMPTA!B9=0,"",COMMERCIAUX!B9+MAINTENANCE!B9+ADV!B9+'R&D'!B9+RECEPTION!B9+DIRECTION!B9+EMBALLAGE!B9+MARKETING!B9+EXPEDITION!B9+QUALITE!B9+ACCUEIL!B9+PRODUCTION!B9+LABO!B9+COMPTA!B9+UCIA!B9) | C9: =IF(COMMERCIAUX!C9+MAINTENANCE!C9+ADV!C9+'R&D'!C9+RECEPTION!C9+DIRECTION!C9+EMBALLAGE!C9+MARKETING!C9+EXPEDITION!C9+QUALITE!C9+ACCUEIL!C9+PRODUCTION!C9+LABO!C9+COMPTA!C9=0,"",COMMERCIAUX!C9+MAINTENANCE!C9+ADV!C9+'R&D'!C9+RECEPTION!C9+DIRECTION!C9+EMBALLAGE!C9+MARKETING!C9+EXPEDITION!C9+QUALITE!C9+ACCUEIL!C9+PRODUCTION!C9+LABO!C9+COMPTA!C9+UCIA!C9) | D9: =IF(COMMERCIAUX!D9+MAINTENANCE!D9+ADV!D9+'R&D'!D9+RECEPTION!D9+DIRECTION!D9+EMBALLAGE!D9+MARKETING!D9+EXPEDITION!D9+QUALITE!D9+ACCUEIL!D9+PRODUCTION!D9+LABO!D9+COMPTA!D9=0,"",COMMERCIAUX!D9+MAINTENANCE!D9+ADV!D9+'R&D'!D9+RECEPTION!D9+DIRECTION!D9+EMBALLAGE!D9+MARKETING!D9+EXPEDITION!D9+QUALITE!D9+ACCUEIL!D9+PRODUCTION!D9+LABO!D9+COMPTA!D9+UCIA!D9) | E9: =IF(COMMERCIAUX!E9+MAINTENANCE!E9+ADV!E9+'R&D'!E9+RECEPTION!E9+DIRECTION!E9+EMBALLAGE!E9+MARKETING!E9+EXPEDITION!E9+QUALITE!E9+ACCUEIL!E9+PRODUCTION!E9+LABO!E9+COMPTA!E9=0,"",COMMERCIAUX!E9+MAINTENANCE!E9+ADV!E9+'R&D'!E9+RECEPTION!E9+DIRECTION!E9+EMBALLAGE!E9+MARKETING!E9+EXPEDITION!E9+QUALITE!E9+ACCUEIL!E9+PRODUCTION!E9+LABO!E9+COMPTA!E9+UCIA!E9) | F9: =IF(COMMERCIAUX!F9+MAINTENANCE!F9+ADV!F9+'R&D'!F9+RECEPTION!F9+DIRECTION!F9+EMBALLAGE!F9+MARKETING!F9+EXPEDITION!F9+QUALITE!F9+ACCUEIL!F9+PRODUCTION!F9+LABO!F9+COMPTA!F9=0,"",COMMERCIAUX!F9+MAINTENANCE!F9+ADV!F9+'R&D'!F9+RECEPTION!F9+DIRECTION!F9+EMBALLAGE!F9+MARKETING!F9+EXPEDITION!F9+QUALITE!F9+ACCUEIL!F9+PRODUCTION!F9+LABO!F9+COMPTA!F9+UCIA!F9) | G9: =IF(COMMERCIAUX!G9+MAINTENANCE!G9+ADV!G9+'R&D'!G9+RECEPTION!G9+DIRECTION!G9+EMBALLAGE!G9+MARKETING!G9+EXPEDITION!G9+QUALITE!G9+ACCUEIL!G9+PRODUCTION!G9+LABO!G9+COMPTA!G9=0,"",COMMERCIAUX!G9+MAINTENANCE!G9+ADV!G9+'R&D'!G9+RECEPTION!G9+DIRECTION!G9+EMBALLAGE!G9+MARKETING!G9+EXPEDITION!G9+QUALITE!G9+ACCUEIL!G9+PRODUCTION!G9+LABO!G9+COMPTA!G9+UCIA!G9) | H9: =IF(COMMERCIAUX!H9+MAINTENANCE!H9+ADV!H9+'R&D'!H9+RECEPTION!H9+DIRECTION!H9+EMBALLAGE!H9+MARKETING!H9+EXPEDITION!H9+QUALITE!H9+ACCUEIL!H9+PRODUCTION!H9+LABO!H9+COMPTA!H9=0,"",COMMERCIAUX!H9+MAINTENANCE!H9+ADV!H9+'R&D'!H9+RECEPTION!H9+DIRECTION!H9+EMBALLAGE!H9+MARKETING!H9+EXPEDITION!H9+QUALITE!H9+ACCUEIL!H9+PRODUCTION!H9+LABO!H9+COMPTA!H9+UCIA!H9) | I9: =IF(COMMERCIAUX!I9+MAINTENANCE!I9+ADV!I9+'R&D'!I9+RECEPTION!I9+DIRECTION!I9+EMBALLAGE!I9+MARKETING!I9+EXPEDITION!I9+QUALITE!I9+ACCUEIL!I9+PRODUCTION!I9+LABO!I9+COMPTA!I9=0,"",COMMERCIAUX!I9+MAINTENANCE!I9+ADV!I9+'R&D'!I9+RECEPTION!I9+DIRECTION!I9+EMBALLAGE!I9+MARKETING!I9+EXPEDITION!I9+QUALITE!I9+ACCUEIL!I9+PRODUCTION!I9+LABO!I9+COMPTA!I9+UCIA!I9) | ... M9: =IF(COMMERCIAUX!M9+MAINTENANCE!M9+ADV!M9+'R&D'!M9+RECEPTION!M9+DIRECTION!M9+EMBALLAGE!M9+MARKETING!M9+EXPEDITION!M9+QUALITE!M9+ACCUEIL!M9+PRODUCTION!M9+LABO!M9+COMPTA!M9=0,"",COMMERCIAUX!M9+MAINTENANCE!M9+ADV!M9+'R&D'!M9+RECEPTION!M9+DIRECTION!M9+EMBALLAGE!M9+MARKETING!M9+EXPEDITION!M9+QUALITE!M9+ACCUEIL!M9+PRODUCTION!M9+LABO!M9+COMPTA!M9+UCIA!M9) | O9: =IF(SUM(B9:M9)=0,"",SUM(B9:M9)) | P9: =IF(DIRECTION!N9=0,"",DIRECTION!N9) | Q9: =IF(COMPTA!N9=0,"",COMPTA!N9) | R9: =IF(ACCUEIL!N9=0,"",ACCUEIL!N9) | S9: =IF(ADV!N9=0,"",ADV!N9) | T9: =IF(COMMERCIAUX!N9=0,"",COMMERCIAUX!N9) | U9: =IF(MARKETING!N9=0,"",MARKETING!N9) | V9: =IF(MAINTENANCE!N9=0,"",MAINTENANCE!N9) | W9: =IF(PRODUCTION!N9=0,"",PRODUCTION!N9) | X9: =IF(EMBALLAGE!N9=0,"",EMBALLAGE!N9) | Y9: =IF(EXPEDITION!N9=0,"",EXPEDITION!N9) | Z9: =IF(RECEPTION!N9=0,"",RECEPTION!N9) | AA9: =IF(LABO!N9=0,"",LABO!N9) | AB9: =IF('R&D'!N9=0,"",'R&D'!N9) | AC9: =IF(QUALITE!N9=0,"",QUALITE!N9) | AD9: =IF(UCIA!N9=0,"",UCIA!N9)
A10: 64A | B10: =IF(COMMERCIAUX!B10+MAINTENANCE!B10+ADV!B10+'R&D'!B10+RECEPTION!B10+DIRECTION!B10+EMBALLAGE!B10+MARKETING!B10+EXPEDITION!B10+QUALITE!B10+ACCUEIL!B10+PRODUCTION!B10+LABO!B10+COMPTA!B10=0,"",COMMERCIAUX!B10+MAINTENANCE!B10+ADV!B10+'R&D'!B10+RECEPTION!B10+DIRECTION!B10+EMBALLAGE!B10+MARKETING!B10+EXPEDITION!B10+QUALITE!B10+ACCUEIL!B10+PRODUCTION!B10+LABO!B10+COMPTA!B10+UCIA!B10) | C10: =IF(COMMERCIAUX!C10+MAINTENANCE!C10+ADV!C10+'R&D'!C10+RECEPTION!C10+DIRECTION!C10+EMBALLAGE!C10+MARKETING!C10+EXPEDITION!C10+QUALITE!C10+ACCUEIL!C10+PRODUCTION!C10+LABO!C10+COMPTA!C10=0,"",COMMERCIAUX!C10+MAINTENANCE!C10+ADV!C10+'R&D'!C10+RECEPTION!C10+DIRECTION!C10+EMBALLAGE!C10+MARKETING!C10+EXPEDITION!C10+QUALITE!C10+ACCUEIL!C10+PRODUCTION!C10+LABO!C10+COMPTA!C10+UCIA!C10) | D10: =IF(COMMERCIAUX!D10+MAINTENANCE!D10+ADV!D10+'R&D'!D10+RECEPTION!D10+DIRECTION!D10+EMBALLAGE!D10+MARKETING!D10+EXPEDITION!D10+QUALITE!D10+ACCUEIL!D10+PRODUCTION!D10+LABO!D10+COMPTA!D10=0,"",COMMERCIAUX!D10+MAINTENANCE!D10+ADV!D10+'R&D'!D10+RECEPTION!D10+DIRECTION!D10+EMBALLAGE!D10+MARKETING!D10+EXPEDITION!D10+QUALITE!D10+ACCUEIL!D10+PRODUCTION!D10+LABO!D10+COMPTA!D10+UCIA!D10) | E10: =IF(COMMERCIAUX!E10+MAINTENANCE!E10+ADV!E10+'R&D'!E10+RECEPTION!E10+DIRECTION!E10+EMBALLAGE!E10+MARKETING!E10+EXPEDITION!E10+QUALITE!E10+ACCUEIL!E10+PRODUCTION!E10+LABO!E10+COMPTA!E10=0,"",COMMERCIAUX!E10+MAINTENANCE!E10+ADV!E10+'R&D'!E10+RECEPTION!E10+DIRECTION!E10+EMBALLAGE!E10+MARKETING!E10+EXPEDITION!E10+QUALITE!E10+ACCUEIL!E10+PRODUCTION!E10+LABO!E10+COMPTA!E10+UCIA!E10) | F10: =IF(COMMERCIAUX!F10+MAINTENANCE!F10+ADV!F10+'R&D'!F10+RECEPTION!F10+DIRECTION!F10+EMBALLAGE!F10+MARKETING!F10+EXPEDITION!F10+QUALITE!F10+ACCUEIL!F10+PRODUCTION!F10+LABO!F10+COMPTA!F10=0,"",COMMERCIAUX!F10+MAINTENANCE!F10+ADV!F10+'R&D'!F10+RECEPTION!F10+DIRECTION!F10+EMBALLAGE!F10+MARKETING!F10+EXPEDITION!F10+QUALITE!F10+ACCUEIL!F10+PRODUCTION!F10+LABO!F10+COMPTA!F10+UCIA!F10) | G10: =IF(COMMERCIAUX!G10+MAINTENANCE!G10+ADV!G10+'R&D'!G10+RECEPTION!G10+DIRECTION!G10+EMBALLAGE!G10+MARKETING!G10+EXPEDITION!G10+QUALITE!G10+ACCUEIL!G10+PRODUCTION!G10+LABO!G10+COMPTA!G10=0,"",COMMERCIAUX!G10+MAINTENANCE!G10+ADV!G10+'R&D'!G10+RECEPTION!G10+DIRECTION!G10+EMBALLAGE!G10+MARKETING!G10+EXPEDITION!G10+QUALITE!G10+ACCUEIL!G10+PRODUCTION!G10+LABO!G10+COMPTA!G10+UCIA!G10) | H10: =IF(COMMERCIAUX!H10+MAINTENANCE!H10+ADV!H10+'R&D'!H10+RECEPTION!H10+DIRECTION!H10+EMBALLAGE!H10+MARKETING!H10+EXPEDITION!H10+QUALITE!H10+ACCUEIL!H10+PRODUCTION!H10+LABO!H10+COMPTA!H10=0,"",COMMERCIAUX!H10+MAINTENANCE!H10+ADV!H10+'R&D'!H10+RECEPTION!H10+DIRECTION!H10+EMBALLAGE!H10+MARKETING!H10+EXPEDITION!H10+QUALITE!H10+ACCUEIL!H10+PRODUCTION!H10+LABO!H10+COMPTA!H10+UCIA!H10) | I10: =IF(COMMERCIAUX!I10+MAINTENANCE!I10+ADV!I10+'R&D'!I10+RECEPTION!I10+DIRECTION!I10+EMBALLAGE!I10+MARKETING!I10+EXPEDITION!I10+QUALITE!I10+ACCUEIL!I10+PRODUCTION!I10+LABO!I10+COMPTA!I10=0,"",COMMERCIAUX!I10+MAINTENANCE!I10+ADV!I10+'R&D'!I10+RECEPTION!I10+DIRECTION!I10+EMBALLAGE!I10+MARKETING!I10+EXPEDITION!I10+QUALITE!I10+ACCUEIL!I10+PRODUCTION!I10+LABO!I10+COMPTA!I10+UCIA!I10) | ... M10: =IF(COMMERCIAUX!M10+MAINTENANCE!M10+ADV!M10+'R&D'!M10+RECEPTION!M10+DIRECTION!M10+EMBALLAGE!M10+MARKETING!M10+EXPEDITION!M10+QUALITE!M10+ACCUEIL!M10+PRODUCTION!M10+LABO!M10+COMPTA!M10=0,"",COMMERCIAUX!M10+MAINTENANCE!M10+ADV!M10+'R&D'!M10+RECEPTION!M10+DIRECTION!M10+EMBALLAGE!M10+MARKETING!M10+EXPEDITION!M10+QUALITE!M10+ACCUEIL!M10+PRODUCTION!M10+LABO!M10+COMPTA!M10+UCIA!M10) | O10: =IF(SUM(B10:M10)=0,"",SUM(B10:M10)) | P10: =IF(DIRECTION!N10=0,"",DIRECTION!N10) | Q10: =IF(COMPTA!N10=0,"",COMPTA!N10) | R10: =IF(ACCUEIL!N10=0,"",ACCUEIL!N10) | S10: =IF(ADV!N10=0,"",ADV!N10) | T10: =IF(COMMERCIAUX!N10=0,"",COMMERCIAUX!N10) | U10: =IF(MARKETING!N10=0,"",MARKETING!N10) | V10: =IF(MAINTENANCE!N10=0,"",MAINTENANCE!N10) | W10: =IF(PRODUCTION!N10=0,"",PRODUCTION!N10) | X10: =IF(EMBALLAGE!N10=0,"",EMBALLAGE!N10) | Y10: =IF(EXPEDITION!N10=0,"",EXPEDITION!N10) | Z10: =IF(RECEPTION!N10=0,"",RECEPTION!N10) | AA10: =IF(LABO!N10=0,"",LABO!N10) | AB10: =IF('R&D'!N10=0,"",'R&D'!N10) | AC10: =IF(QUALITE!N10=0,"",QUALITE!N10) | AD10: =IF(UCIA!N10=0,"",UCIA!N10)
A11: 05X | B11: =IF(COMMERCIAUX!B11+MAINTENANCE!B11+ADV!B11+'R&D'!B11+RECEPTION!B11+DIRECTION!B11+EMBALLAGE!B11+MARKETING!B11+EXPEDITION!B11+QUALITE!B11+ACCUEIL!B11+PRODUCTION!B11+LABO!B11+COMPTA!B11=0,"",COMMERCIAUX!B11+MAINTENANCE!B11+ADV!B11+'R&D'!B11+RECEPTION!B11+DIRECTION!B11+EMBALLAGE!B11+MARKETING!B11+EXPEDITION!B11+QUALITE!B11+ACCUEIL!B11+PRODUCTION!B11+LABO!B11+COMPTA!B11+UCIA!B11) | C11: =IF(COMMERCIAUX!C11+MAINTENANCE!C11+ADV!C11+'R&D'!C11+RECEPTION!C11+DIRECTION!C11+EMBALLAGE!C11+MARKETING!C11+EXPEDITION!C11+QUALITE!C11+ACCUEIL!C11+PRODUCTION!C11+LABO!C11+COMPTA!C11=0,"",COMMERCIAUX!C11+MAINTENANCE!C11+ADV!C11+'R&D'!C11+RECEPTION!C11+DIRECTION!C11+EMBALLAGE!C11+MARKETING!C11+EXPEDITION!C11+QUALITE!C11+ACCUEIL!C11+PRODUCTION!C11+LABO!C11+COMPTA!C11+UCIA!C11) | D11: =IF(COMMERCIAUX!D11+MAINTENANCE!D11+ADV!D11+'R&D'!D11+RECEPTION!D11+DIRECTION!D11+EMBALLAGE!D11+MARKETING!D11+EXPEDITION!D11+QUALITE!D11+ACCUEIL!D11+PRODUCTION!D11+LABO!D11+COMPTA!D11=0,"",COMMERCIAUX!D11+MAINTENANCE!D11+ADV!D11+'R&D'!D11+RECEPTION!D11+DIRECTION!D11+EMBALLAGE!D11+MARKETING!D11+EXPEDITION!D11+QUALITE!D11+ACCUEIL!D11+PRODUCTION!D11+LABO!D11+COMPTA!D11+UCIA!D11) | E11: =IF(COMMERCIAUX!E11+MAINTENANCE!E11+ADV!E11+'R&D'!E11+RECEPTION!E11+DIRECTION!E11+EMBALLAGE!E11+MARKETING!E11+EXPEDITION!E11+QUALITE!E11+ACCUEIL!E11+PRODUCTION!E11+LABO!E11+COMPTA!E11=0,"",COMMERCIAUX!E11+MAINTENANCE!E11+ADV!E11+'R&D'!E11+RECEPTION!E11+DIRECTION!E11+EMBALLAGE!E11+MARKETING!E11+EXPEDITION!E11+QUALITE!E11+ACCUEIL!E11+PRODUCTION!E11+LABO!E11+COMPTA!E11+UCIA!E11) | F11: =IF(COMMERCIAUX!F11+MAINTENANCE!F11+ADV!F11+'R&D'!F11+RECEPTION!F11+DIRECTION!F11+EMBALLAGE!F11+MARKETING!F11+EXPEDITION!F11+QUALITE!F11+ACCUEIL!F11+PRODUCTION!F11+LABO!F11+COMPTA!F11=0,"",COMMERCIAUX!F11+MAINTENANCE!F11+ADV!F11+'R&D'!F11+RECEPTION!F11+DIRECTION!F11+EMBALLAGE!F11+MARKETING!F11+EXPEDITION!F11+QUALITE!F11+ACCUEIL!F11+PRODUCTION!F11+LABO!F11+COMPTA!F11+UCIA!F11) | G11: =IF(COMMERCIAUX!G11+MAINTENANCE!G11+ADV!G11+'R&D'!G11+RECEPTION!G11+DIRECTION!G11+EMBALLAGE!G11+MARKETING!G11+EXPEDITION!G11+QUALITE!G11+ACCUEIL!G11+PRODUCTION!G11+LABO!G11+COMPTA!G11=0,"",COMMERCIAUX!G11+MAINTENANCE!G11+ADV!G11+'R&D'!G11+RECEPTION!G11+DIRECTION!G11+EMBALLAGE!G11+MARKETING!G11+EXPEDITION!G11+QUALITE!G11+ACCUEIL!G11+PRODUCTION!G11+LABO!G11+COMPTA!G11+UCIA!G11) | H11: =IF(COMMERCIAUX!H11+MAINTENANCE!H11+ADV!H11+'R&D'!H11+RECEPTION!H11+DIRECTION!H11+EMBALLAGE!H11+MARKETING!H11+EXPEDITION!H11+QUALITE!H11+ACCUEIL!H11+PRODUCTION!H11+LABO!H11+COMPTA!H11=0,"",COMMERCIAUX!H11+MAINTENANCE!H11+ADV!H11+'R&D'!H11+RECEPTION!H11+DIRECTION!H11+EMBALLAGE!H11+MARKETING!H11+EXPEDITION!H11+QUALITE!H11+ACCUEIL!H11+PRODUCTION!H11+LABO!H11+COMPTA!H11+UCIA!H11) | I11: =IF(COMMERCIAUX!I11+MAINTENANCE!I11+ADV!I11+'R&D'!I11+RECEPTION!I11+DIRECTION!I11+EMBALLAGE!I11+MARKETING!I11+EXPEDITION!I11+QUALITE!I11+ACCUEIL!I11+PRODUCTION!I11+LABO!I11+COMPTA!I11=0,"",COMMERCIAUX!I11+MAINTENANCE!I11+ADV!I11+'R&D'!I11+RECEPTION!I11+DIRECTION!I11+EMBALLAGE!I11+MARKETING!I11+EXPEDITION!I11+QUALITE!I11+ACCUEIL!I11+PRODUCTION!I11+LABO!I11+COMPTA!I11+UCIA!I11) | ... M11: =IF(COMMERCIAUX!M11+MAINTENANCE!M11+ADV!M11+'R&D'!M11+RECEPTION!M11+DIRECTION!M11+EMBALLAGE!M11+MARKETING!M11+EXPEDITION!M11+QUALITE!M11+ACCUEIL!M11+PRODUCTION!M11+LABO!M11+COMPTA!M11=0,"",COMMERCIAUX!M11+MAINTENANCE!M11+ADV!M11+'R&D'!M11+RECEPTION!M11+DIRECTION!M11+EMBALLAGE!M11+MARKETING!M11+EXPEDITION!M11+QUALITE!M11+ACCUEIL!M11+PRODUCTION!M11+LABO!M11+COMPTA!M11+UCIA!M11) | O11: =IF(SUM(B11:M11)=0,"",SUM(B11:M11)) | P11: =IF(DIRECTION!N11=0,"",DIRECTION!N11) | Q11: =IF(COMPTA!N11=0,"",COMPTA!N11) | R11: =IF(ACCUEIL!N11=0,"",ACCUEIL!N11) | S11: =IF(ADV!N11=0,"",ADV!N11) | T11: =IF(COMMERCIAUX!N11=0,"",COMMERCIAUX!N11) | U11: =IF(MARKETING!N11=0,"",MARKETING!N11) | V11: =IF(MAINTENANCE!N11=0,"",MAINTENANCE!N11) | W11: =IF(PRODUCTION!N11=0,"",PRODUCTION!N11) | X11: =IF(EMBALLAGE!N11=0,"",EMBALLAGE!N11) | Y11: =IF(EXPEDITION!N11=0,"",EXPEDITION!N11) | Z11: =IF(RECEPTION!N11=0,"",RECEPTION!N11) | AA11: =IF(LABO!N11=0,"",LABO!N11) | AB11: =IF('R&D'!N11=0,"",'R&D'!N11) | AC11: =IF(QUALITE!N11=0,"",QUALITE!N11) | AD11: =IF(UCIA!N11=0,"",UCIA!N11)
A12: 80X | B12: =IF(COMMERCIAUX!B12+MAINTENANCE!B12+ADV!B12+'R&D'!B12+RECEPTION!B12+DIRECTION!B12+EMBALLAGE!B12+MARKETING!B12+EXPEDITION!B12+QUALITE!B12+ACCUEIL!B12+PRODUCTION!B12+LABO!B12+COMPTA!B12=0,"",COMMERCIAUX!B12+MAINTENANCE!B12+ADV!B12+'R&D'!B12+RECEPTION!B12+DIRECTION!B12+EMBALLAGE!B12+MARKETING!B12+EXPEDITION!B12+QUALITE!B12+ACCUEIL!B12+PRODUCTION!B12+LABO!B12+COMPTA!B12+UCIA!B12) | C12: =IF(COMMERCIAUX!C12+MAINTENANCE!C12+ADV!C12+'R&D'!C12+RECEPTION!C12+DIRECTION!C12+EMBALLAGE!C12+MARKETING!C12+EXPEDITION!C12+QUALITE!C12+ACCUEIL!C12+PRODUCTION!C12+LABO!C12+COMPTA!C12=0,"",COMMERCIAUX!C12+MAINTENANCE!C12+ADV!C12+'R&D'!C12+RECEPTION!C12+DIRECTION!C12+EMBALLAGE!C12+MARKETING!C12+EXPEDITION!C12+QUALITE!C12+ACCUEIL!C12+PRODUCTION!C12+LABO!C12+COMPTA!C12+UCIA!C12) | D12: =IF(COMMERCIAUX!D12+MAINTENANCE!D12+ADV!D12+'R&D'!D12+RECEPTION!D12+DIRECTION!D12+EMBALLAGE!D12+MARKETING!D12+EXPEDITION!D12+QUALITE!D12+ACCUEIL!D12+PRODUCTION!D12+LABO!D12+COMPTA!D12=0,"",COMMERCIAUX!D12+MAINTENANCE!D12+ADV!D12+'R&D'!D12+RECEPTION!D12+DIRECTION!D12+EMBALLAGE!D12+MARKETING!D12+EXPEDITION!D12+QUALITE!D12+ACCUEIL!D12+PRODUCTION!D12+LABO!D12+COMPTA!D12+UCIA!D12) | E12: =IF(COMMERCIAUX!E12+MAINTENANCE!E12+ADV!E12+'R&D'!E12+RECEPTION!E12+DIRECTION!E12+EMBALLAGE!E12+MARKETING!E12+EXPEDITION!E12+QUALITE!E12+ACCUEIL!E12+PRODUCTION!E12+LABO!E12+COMPTA!E12=0,"",COMMERCIAUX!E12+MAINTENANCE!E12+ADV!E12+'R&D'!E12+RECEPTION!E12+DIRECTION!E12+EMBALLAGE!E12+MARKETING!E12+EXPEDITION!E12+QUALITE!E12+ACCUEIL!E12+PRODUCTION!E12+LABO!E12+COMPTA!E12+UCIA!E12) | F12: =IF(COMMERCIAUX!F12+MAINTENANCE!F12+ADV!F12+'R&D'!F12+RECEPTION!F12+DIRECTION!F12+EMBALLAGE!F12+MARKETING!F12+EXPEDITION!F12+QUALITE!F12+ACCUEIL!F12+PRODUCTION!F12+LABO!F12+COMPTA!F12=0,"",COMMERCIAUX!F12+MAINTENANCE!F12+ADV!F12+'R&D'!F12+RECEPTION!F12+DIRECTION!F12+EMBALLAGE!F12+MARKETING!F12+EXPEDITION!F12+QUALITE!F12+ACCUEIL!F12+PRODUCTION!F12+LABO!F12+COMPTA!F12+UCIA!F12) | G12: =IF(COMMERCIAUX!G12+MAINTENANCE!G12+ADV!G12+'R&D'!G12+RECEPTION!G12+DIRECTION!G12+EMBALLAGE!G12+MARKETING!G12+EXPEDITION!G12+QUALITE!G12+ACCUEIL!G12+PRODUCTION!G12+LABO!G12+COMPTA!G12=0,"",COMMERCIAUX!G12+MAINTENANCE!G12+ADV!G12+'R&D'!G12+RECEPTION!G12+DIRECTION!G12+EMBALLAGE!G12+MARKETING!G12+EXPEDITION!G12+QUALITE!G12+ACCUEIL!G12+PRODUCTION!G12+LABO!G12+COMPTA!G12+UCIA!G12) -> 1 | H12: =IF(COMMERCIAUX!H12+MAINTENANCE!H12+ADV!H12+'R&D'!H12+RECEPTION!H12+DIRECTION!H12+EMBALLAGE!H12+MARKETING!H12+EXPEDITION!H12+QUALITE!H12+ACCUEIL!H12+PRODUCTION!H12+LABO!H12+COMPTA!H12=0,"",COMMERCIAUX!H12+MAINTENANCE!H12+ADV!H12+'R&D'!H12+RECEPTION!H12+DIRECTION!H12+EMBALLAGE!H12+MARKETING!H12+EXPEDITION!H12+QUALITE!H12+ACCUEIL!H12+PRODUCTION!H12+LABO!H12+COMPTA!H12+UCIA!H12) | I12: =IF(COMMERCIAUX!I12+MAINTENANCE!I12+ADV!I12+'R&D'!I12+RECEPTION!I12+DIRECTION!I12+EMBALLAGE!I12+MARKETING!I12+EXPEDITION!I12+QUALITE!I12+ACCUEIL!I12+PRODUCTION!I12+LABO!I12+COMPTA!I12=0,"",COMMERCIAUX!I12+MAINTENANCE!I12+ADV!I12+'R&D'!I12+RECEPTION!I12+DIRECTION!I12+EMBALLAGE!I12+MARKETING!I12+EXPEDITION!I12+QUALITE!I12+ACCUEIL!I12+PRODUCTION!I12+LABO!I12+COMPTA!I12+UCIA!I12) | ... M12: =IF(COMMERCIAUX!M12+MAINTENANCE!M12+ADV!M12+'R&D'!M12+RECEPTION!M12+DIRECTION!M12+EMBALLAGE!M12+MARKETING!M12+EXPEDITION!M12+QUALITE!M12+ACCUEIL!M12+PRODUCTION!M12+LABO!M12+COMPTA!M12=0,"",COMMERCIAUX!M12+MAINTENANCE!M12+ADV!M12+'R&D'!M12+RECEPTION!M12+DIRECTION!M12+EMBALLAGE!M12+MARKETING!M12+EXPEDITION!M12+QUALITE!M12+ACCUEIL!M12+PRODUCTION!M12+LABO!M12+COMPTA!M12+UCIA!M12) | O12: =IF(SUM(B12:M12)=0,"",SUM(B12:M12)) -> 1 | P12: =IF(DIRECTION!N12=0,"",DIRECTION!N12) | Q12: =IF(COMPTA!N12=0,"",COMPTA!N12) | R12: =IF(ACCUEIL!N12=0,"",ACCUEIL!N12) | S12: =IF(ADV!N12=0,"",ADV!N12) -> 1 | T12: =IF(COMMERCIAUX!N12=0,"",COMMERCIAUX!N12) | U12: =IF(MARKETING!N12=0,"",MARKETING!N12) | V12: =IF(MAINTENANCE!N12=0,"",MAINTENANCE!N12) | W12: =IF(PRODUCTION!N12=0,"",PRODUCTION!N12) | X12: =IF(EMBALLAGE!N12=0,"",EMBALLAGE!N12) | Y12: =IF(EXPEDITION!N12=0,"",EXPEDITION!N12) | Z12: =IF(RECEPTION!N12=0,"",RECEPTION!N12) | AA12: =IF(LABO!N12=0,"",LABO!N12) | AB12: =IF('R&D'!N12=0,"",'R&D'!N12) | AC12: =IF(QUALITE!N12=0,"",QUALITE!N12) | AD12: =IF(UCIA!N12=0,"",UCIA!N12)
A13: 55X | B13: =IF(COMMERCIAUX!B13+MAINTENANCE!B13+ADV!B13+'R&D'!B13+RECEPTION!B13+DIRECTION!B13+EMBALLAGE!B13+MARKETING!B13+EXPEDITION!B13+QUALITE!B13+ACCUEIL!B13+PRODUCTION!B13+LABO!B13+COMPTA!B13=0,"",COMMERCIAUX!B13+MAINTENANCE!B13+ADV!B13+'R&D'!B13+RECEPTION!B13+DIRECTION!B13+EMBALLAGE!B13+MARKETING!B13+EXPEDITION!B13+QUALITE!B13+ACCUEIL!B13+PRODUCTION!B13+LABO!B13+COMPTA!B13+UCIA!B13) | C13: =IF(COMMERCIAUX!C13+MAINTENANCE!C13+ADV!C13+'R&D'!C13+RECEPTION!C13+DIRECTION!C13+EMBALLAGE!C13+MARKETING!C13+EXPEDITION!C13+QUALITE!C13+ACCUEIL!C13+PRODUCTION!C13+LABO!C13+COMPTA!C13=0,"",COMMERCIAUX!C13+MAINTENANCE!C13+ADV!C13+'R&D'!C13+RECEPTION!C13+DIRECTION!C13+EMBALLAGE!C13+MARKETING!C13+EXPEDITION!C13+QUALITE!C13+ACCUEIL!C13+PRODUCTION!C13+LABO!C13+COMPTA!C13+UCIA!C13) | D13: =IF(COMMERCIAUX!D13+MAINTENANCE!D13+ADV!D13+'R&D'!D13+RECEPTION!D13+DIRECTION!D13+EMBALLAGE!D13+MARKETING!D13+EXPEDITION!D13+QUALITE!D13+ACCUEIL!D13+PRODUCTION!D13+LABO!D13+COMPTA!D13=0,"",COMMERCIAUX!D13+MAINTENANCE!D13+ADV!D13+'R&D'!D13+RECEPTION!D13+DIRECTION!D13+EMBALLAGE!D13+MARKETING!D13+EXPEDITION!D13+QUALITE!D13+ACCUEIL!D13+PRODUCTION!D13+LABO!D13+COMPTA!D13+UCIA!D13) | E13: =IF(COMMERCIAUX!E13+MAINTENANCE!E13+ADV!E13+'R&D'!E13+RECEPTION!E13+DIRECTION!E13+EMBALLAGE!E13+MARKETING!E13+EXPEDITION!E13+QUALITE!E13+ACCUEIL!E13+PRODUCTION!E13+LABO!E13+COMPTA!E13=0,"",COMMERCIAUX!E13+MAINTENANCE!E13+ADV!E13+'R&D'!E13+RECEPTION!E13+DIRECTION!E13+EMBALLAGE!E13+MARKETING!E13+EXPEDITION!E13+QUALITE!E13+ACCUEIL!E13+PRODUCTION!E13+LABO!E13+COMPTA!E13+UCIA!E13) | F13: =IF(COMMERCIAUX!F13+MAINTENANCE!F13+ADV!F13+'R&D'!F13+RECEPTION!F13+DIRECTION!F13+EMBALLAGE!F13+MARKETING!F13+EXPEDITION!F13+QUALITE!F13+ACCUEIL!F13+PRODUCTION!F13+LABO!F13+COMPTA!F13=0,"",COMMERCIAUX!F13+MAINTENANCE!F13+ADV!F13+'R&D'!F13+RECEPTION!F13+DIRECTION!F13+EMBALLAGE!F13+MARKETING!F13+EXPEDITION!F13+QUALITE!F13+ACCUEIL!F13+PRODUCTION!F13+LABO!F13+COMPTA!F13+UCIA!F13) | G13: =IF(COMMERCIAUX!G13+MAINTENANCE!G13+ADV!G13+'R&D'!G13+RECEPTION!G13+DIRECTION!G13+EMBALLAGE!G13+MARKETING!G13+EXPEDITION!G13+QUALITE!G13+ACCUEIL!G13+PRODUCTION!G13+LABO!G13+COMPTA!G13=0,"",COMMERCIAUX!G13+MAINTENANCE!G13+ADV!G13+'R&D'!G13+RECEPTION!G13+DIRECTION!G13+EMBALLAGE!G13+MARKETING!G13+EXPEDITION!G13+QUALITE!G13+ACCUEIL!G13+PRODUCTION!G13+LABO!G13+COMPTA!G13+UCIA!G13) -> 1 | H13: =IF(COMMERCIAUX!H13+MAINTENANCE!H13+ADV!H13+'R&D'!H13+RECEPTION!H13+DIRECTION!H13+EMBALLAGE!H13+MARKETING!H13+EXPEDITION!H13+QUALITE!H13+ACCUEIL!H13+PRODUCTION!H13+LABO!H13+COMPTA!H13=0,"",COMMERCIAUX!H13+MAINTENANCE!H13+ADV!H13+'R&D'!H13+RECEPTION!H13+DIRECTION!H13+EMBALLAGE!H13+MARKETING!H13+EXPEDITION!H13+QUALITE!H13+ACCUEIL!H13+PRODUCTION!H13+LABO!H13+COMPTA!H13+UCIA!H13) -> 1 | I13: =IF(COMMERCIAUX!I13+MAINTENANCE!I13+ADV!I13+'R&D'!I13+RECEPTION!I13+DIRECTION!I13+EMBALLAGE!I13+MARKETING!I13+EXPEDITION!I13+QUALITE!I13+ACCUEIL!I13+PRODUCTION!I13+LABO!I13+COMPTA!I13=0,"",COMMERCIAUX!I13+MAINTENANCE!I13+ADV!I13+'R&D'!I13+RECEPTION!I13+DIRECTION!I13+EMBALLAGE!I13+MARKETING!I13+EXPEDITION!I13+QUALITE!I13+ACCUEIL!I13+PRODUCTION!I13+LABO!I13+COMPTA!I13+UCIA!I13) | ... M13: =IF(COMMERCIAUX!M13+MAINTENANCE!M13+ADV!M13+'R&D'!M13+RECEPTION!M13+DIRECTION!M13+EMBALLAGE!M13+MARKETING!M13+EXPEDITION!M13+QUALITE!M13+ACCUEIL!M13+PRODUCTION!M13+LABO!M13+COMPTA!M13=0,"",COMMERCIAUX!M13+MAINTENANCE!M13+ADV!M13+'R&D'!M13+RECEPTION!M13+DIRECTION!M13+EMBALLAGE!M13+MARKETING!M13+EXPEDITION!M13+QUALITE!M13+ACCUEIL!M13+PRODUCTION!M13+LABO!M13+COMPTA!M13+UCIA!M13) | O13: =IF(SUM(B13:M13)=0,"",SUM(B13:M13)) -> 2 | P13: =IF(DIRECTION!N13=0,"",DIRECTION!N13) | Q13: =IF(COMPTA!N13=0,"",COMPTA!N13) | R13: =IF(ACCUEIL!N13=0,"",ACCUEIL!N13) | S13: =IF(ADV!N13=0,"",ADV!N13) | T13: =IF(COMMERCIAUX!N13=0,"",COMMERCIAUX!N13) | U13: =IF(MARKETING!N13=0,"",MARKETING!N13) | V13: =IF(MAINTENANCE!N13=0,"",MAINTENANCE!N13) | W13: =IF(PRODUCTION!N13=0,"",PRODUCTION!N13) | X13: =IF(EMBALLAGE!N13=0,"",EMBALLAGE!N13) | Y13: =IF(EXPEDITION!N13=0,"",EXPEDITION!N13) -> 2 | Z13: =IF(RECEPTION!N13=0,"",RECEPTION!N13) | AA13: =IF(LABO!N13=0,"",LABO!N13) | AB13: =IF('R&D'!N13=0,"",'R&D'!N13) | AC13: =IF(QUALITE!N13=0,"",QUALITE!N13) | AD13: =IF(UCIA!N13=0,"",UCIA!N13)
A14: Samsung MR COUDENE | B14: =IF(COMMERCIAUX!B14+MAINTENANCE!B14+ADV!B14+'R&D'!B14+RECEPTION!B14+DIRECTION!B14+EMBALLAGE!B14+MARKETING!B14+EXPEDITION!B14+QUALITE!B14+ACCUEIL!B14+PRODUCTION!B14+LABO!B14+COMPTA!B14=0,"",COMMERCIAUX!B14+MAINTENANCE!B14+ADV!B14+'R&D'!B14+RECEPTION!B14+DIRECTION!B14+EMBALLAGE!B14+MARKETING!B14+EXPEDITION!B14+QUALITE!B14+ACCUEIL!B14+PRODUCTION!B14+LABO!B14+COMPTA!B14+UCIA!B14) | C14: =IF(COMMERCIAUX!C14+MAINTENANCE!C14+ADV!C14+'R&D'!C14+RECEPTION!C14+DIRECTION!C14+EMBALLAGE!C14+MARKETING!C14+EXPEDITION!C14+QUALITE!C14+ACCUEIL!C14+PRODUCTION!C14+LABO!C14+COMPTA!C14=0,"",COMMERCIAUX!C14+MAINTENANCE!C14+ADV!C14+'R&D'!C14+RECEPTION!C14+DIRECTION!C14+EMBALLAGE!C14+MARKETING!C14+EXPEDITION!C14+QUALITE!C14+ACCUEIL!C14+PRODUCTION!C14+LABO!C14+COMPTA!C14+UCIA!C14) | D14: =IF(COMMERCIAUX!D14+MAINTENANCE!D14+ADV!D14+'R&D'!D14+RECEPTION!D14+DIRECTION!D14+EMBALLAGE!D14+MARKETING!D14+EXPEDITION!D14+QUALITE!D14+ACCUEIL!D14+PRODUCTION!D14+LABO!D14+COMPTA!D14=0,"",COMMERCIAUX!D14+MAINTENANCE!D14+ADV!D14+'R&D'!D14+RECEPTION!D14+DIRECTION!D14+EMBALLAGE!D14+MARKETING!D14+EXPEDITION!D14+QUALITE!D14+ACCUEIL!D14+PRODUCTION!D14+LABO!D14+COMPTA!D14+UCIA!D14) | E14: =IF(COMMERCIAUX!E14+MAINTENANCE!E14+ADV!E14+'R&D'!E14+RECEPTION!E14+DIRECTION!E14+EMBALLAGE!E14+MARKETING!E14+EXPEDITION!E14+QUALITE!E14+ACCUEIL!E14+PRODUCTION!E14+LABO!E14+COMPTA!E14=0,"",COMMERCIAUX!E14+MAINTENANCE!E14+ADV!E14+'R&D'!E14+RECEPTION!E14+DIRECTION!E14+EMBALLAGE!E14+MARKETING!E14+EXPEDITION!E14+QUALITE!E14+ACCUEIL!E14+PRODUCTION!E14+LABO!E14+COMPTA!E14+UCIA!E14) | F14: =IF(COMMERCIAUX!F14+MAINTENANCE!F14+ADV!F14+'R&D'!F14+RECEPTION!F14+DIRECTION!F14+EMBALLAGE!F14+MARKETING!F14+EXPEDITION!F14+QUALITE!F14+ACCUEIL!F14+PRODUCTION!F14+LABO!F14+COMPTA!F14=0,"",COMMERCIAUX!F14+MAINTENANCE!F14+ADV!F14+'R&D'!F14+RECEPTION!F14+DIRECTION!F14+EMBALLAGE!F14+MARKETING!F14+EXPEDITION!F14+QUALITE!F14+ACCUEIL!F14+PRODUCTION!F14+LABO!F14+COMPTA!F14+UCIA!F14) | G14: =IF(COMMERCIAUX!G14+MAINTENANCE!G14+ADV!G14+'R&D'!G14+RECEPTION!G14+DIRECTION!G14+EMBALLAGE!G14+MARKETING!G14+EXPEDITION!G14+QUALITE!G14+ACCUEIL!G14+PRODUCTION!G14+LABO!G14+COMPTA!G14=0,"",COMMERCIAUX!G14+MAINTENANCE!G14+ADV!G14+'R&D'!G14+RECEPTION!G14+DIRECTION!G14+EMBALLAGE!G14+MARKETING!G14+EXPEDITION!G14+QUALITE!G14+ACCUEIL!G14+PRODUCTION!G14+LABO!G14+COMPTA!G14+UCIA!G14) | H14: =IF(COMMERCIAUX!H14+MAINTENANCE!H14+ADV!H14+'R&D'!H14+RECEPTION!H14+DIRECTION!H14+EMBALLAGE!H14+MARKETING!H14+EXPEDITION!H14+QUALITE!H14+ACCUEIL!H14+PRODUCTION!H14+LABO!H14+COMPTA!H14=0,"",COMMERCIAUX!H14+MAINTENANCE!H14+ADV!H14+'R&D'!H14+RECEPTION!H14+DIRECTION!H14+EMBALLAGE!H14+MARKETING!H14+EXPEDITION!H14+QUALITE!H14+ACCUEIL!H14+PRODUCTION!H14+LABO!H14+COMPTA!H14+UCIA!H14) | I14: =IF(COMMERCIAUX!I14+MAINTENANCE!I14+ADV!I14+'R&D'!I14+RECEPTION!I14+DIRECTION!I14+EMBALLAGE!I14+MARKETING!I14+EXPEDITION!I14+QUALITE!I14+ACCUEIL!I14+PRODUCTION!I14+LABO!I14+COMPTA!I14=0,"",COMMERCIAUX!I14+MAINTENANCE!I14+ADV!I14+'R&D'!I14+RECEPTION!I14+DIRECTION!I14+EMBALLAGE!I14+MARKETING!I14+EXPEDITION!I14+QUALITE!I14+ACCUEIL!I14+PRODUCTION!I14+LABO!I14+COMPTA!I14+UCIA!I14) | ... M14: =IF(COMMERCIAUX!M14+MAINTENANCE!M14+ADV!M14+'R&D'!M14+RECEPTION!M14+DIRECTION!M14+EMBALLAGE!M14+MARKETING!M14+EXPEDITION!M14+QUALITE!M14+ACCUEIL!M14+PRODUCTION!M14+LABO!M14+COMPTA!M14=0,"",COMMERCIAUX!M14+MAINTENANCE!M14+ADV!M14+'R&D'!M14+RECEPTION!M14+DIRECTION!M14+EMBALLAGE!M14+MARKETING!M14+EXPEDITION!M14+QUALITE!M14+ACCUEIL!M14+PRODUCTION!M14+LABO!M14+COMPTA!M14+UCIA!M14) | O14: =IF(SUM(B14:M14)=0,"",SUM(B14:M14)) | P14: =IF(DIRECTION!N14=0,"",DIRECTION!N14) | Q14: =IF(COMPTA!N14=0,"",COMPTA!N14) | R14: =IF(ACCUEIL!N14=0,"",ACCUEIL!N14) | S14: =IF(ADV!N14=0,"",ADV!N14) | T14: =IF(COMMERCIAUX!N14=0,"",COMMERCIAUX!N14) | U14: =IF(MARKETING!N14=0,"",MARKETING!N14) | V14: =IF(MAINTENANCE!N14=0,"",MAINTENANCE!N14) | W14: =IF(PRODUCTION!N14=0,"",PRODUCTION!N14) | X14: =IF(EMBALLAGE!N14=0,"",EMBALLAGE!N14) | Y14: =IF(EXPEDITION!N14=0,"",EXPEDITION!N14) | Z14: =IF(RECEPTION!N14=0,"",RECEPTION!N14) | AA14: =IF(LABO!N14=0,"",LABO!N14) | AB14: =IF('R&D'!N14=0,"",'R&D'!N14) | AC14: =IF(QUALITE!N14=0,"",QUALITE!N14) | AD14: =IF(UCIA!N14=0,"",UCIA!N14)
A16: Agrafes | B16: =IF(COMMERCIAUX!B16+MAINTENANCE!B16+ADV!B16+'R&D'!B16+RECEPTION!B16+DIRECTION!B16+EMBALLAGE!B16+MARKETING!B16+EXPEDITION!B16+QUALITE!B16+ACCUEIL!B16+PRODUCTION!B16+LABO!B16+COMPTA!B16=0,"",COMMERCIAUX!B16+MAINTENANCE!B16+ADV!B16+'R&D'!B16+RECEPTION!B16+DIRECTION!B16+EMBALLAGE!B16+MARKETING!B16+EXPEDITION!B16+QUALITE!B16+ACCUEIL!B16+PRODUCTION!B16+LABO!B16+COMPTA!B16+UCIA!B16) | C16: =IF(COMMERCIAUX!C16+MAINTENANCE!C16+ADV!C16+'R&D'!C16+RECEPTION!C16+DIRECTION!C16+EMBALLAGE!C16+MARKETING!C16+EXPEDITION!C16+QUALITE!C16+ACCUEIL!C16+PRODUCTION!C16+LABO!C16+COMPTA!C16=0,"",COMMERCIAUX!C16+MAINTENANCE!C16+ADV!C16+'R&D'!C16+RECEPTION!C16+DIRECTION!C16+EMBALLAGE!C16+MARKETING!C16+EXPEDITION!C16+QUALITE!C16+ACCUEIL!C16+PRODUCTION!C16+LABO!C16+COMPTA!C16+UCIA!C16) | D16: =IF(COMMERCIAUX!D16+MAINTENANCE!D16+ADV!D16+'R&D'!D16+RECEPTION!D16+DIRECTION!D16+EMBALLAGE!D16+MARKETING!D16+EXPEDITION!D16+QUALITE!D16+ACCUEIL!D16+PRODUCTION!D16+LABO!D16+COMPTA!D16=0,"",COMMERCIAUX!D16+MAINTENANCE!D16+ADV!D16+'R&D'!D16+RECEPTION!D16+DIRECTION!D16+EMBALLAGE!D16+MARKETING!D16+EXPEDITION!D16+QUALITE!D16+ACCUEIL!D16+PRODUCTION!D16+LABO!D16+COMPTA!D16+UCIA!D16) | E16: =IF(COMMERCIAUX!E16+MAINTENANCE!E16+ADV!E16+'R&D'!E16+RECEPTION!E16+DIRECTION!E16+EMBALLAGE!E16+MARKETING!E16+EXPEDITION!E16+QUALITE!E16+ACCUEIL!E16+PRODUCTION!E16+LABO!E16+COMPTA!E16=0,"",COMMERCIAUX!E16+MAINTENANCE!E16+ADV!E16+'R&D'!E16+RECEPTION!E16+DIRECTION!E16+EMBALLAGE!E16+MARKETING!E16+EXPEDITION!E16+QUALITE!E16+ACCUEIL!E16+PRODUCTION!E16+LABO!E16+COMPTA!E16+UCIA!E16) | F16: =IF(COMMERCIAUX!F16+MAINTENANCE!F16+ADV!F16+'R&D'!F16+RECEPTION!F16+DIRECTION!F16+EMBALLAGE!F16+MARKETING!F16+EXPEDITION!F16+QUALITE!F16+ACCUEIL!F16+PRODUCTION!F16+LABO!F16+COMPTA!F16=0,"",COMMERCIAUX!F16+MAINTENANCE!F16+ADV!F16+'R&D'!F16+RECEPTION!F16+DIRECTION!F16+EMBALLAGE!F16+MARKETING!F16+EXPEDITION!F16+QUALITE!F16+ACCUEIL!F16+PRODUCTION!F16+LABO!F16+COMPTA!F16+UCIA!F16) | G16: =IF(COMMERCIAUX!G16+MAINTENANCE!G16+ADV!G16+'R&D'!G16+RECEPTION!G16+DIRECTION!G16+EMBALLAGE!G16+MARKETING!G16+EXPEDITION!G16+QUALITE!G16+ACCUEIL!G16+PRODUCTION!G16+LABO!G16+COMPTA!G16=0,"",COMMERCIAUX!G16+MAINTENANCE!G16+ADV!G16+'R&D'!G16+RECEPTION!G16+DIRECTION!G16+EMBALLAGE!G16+MARKETING!G16+EXPEDITION!G16+QUALITE!G16+ACCUEIL!G16+PRODUCTION!G16+LABO!G16+COMPTA!G16+UCIA!G16) -> 5 | H16: =IF(COMMERCIAUX!H16+MAINTENANCE!H16+ADV!H16+'R&D'!H16+RECEPTION!H16+DIRECTION!H16+EMBALLAGE!H16+MARKETING!H16+EXPEDITION!H16+QUALITE!H16+ACCUEIL!H16+PRODUCTION!H16+LABO!H16+COMPTA!H16=0,"",COMMERCIAUX!H16+MAINTENANCE!H16+ADV!H16+'R&D'!H16+RECEPTION!H16+DIRECTION!H16+EMBALLAGE!H16+MARKETING!H16+EXPEDITION!H16+QUALITE!H16+ACCUEIL!H16+PRODUCTION!H16+LABO!H16+COMPTA!H16+UCIA!H16) -> 2 | I16: =IF(COMMERCIAUX!I16+MAINTENANCE!I16+ADV!I16+'R&D'!I16+RECEPTION!I16+DIRECTION!I16+EMBALLAGE!I16+MARKETING!I16+EXPEDITION!I16+QUALITE!I16+ACCUEIL!I16+PRODUCTION!I16+LABO!I16+COMPTA!I16=0,"",COMMERCIAUX!I16+MAINTENANCE!I16+ADV!I16+'R&D'!I16+RECEPTION!I16+DIRECTION!I16+EMBALLAGE!I16+MARKETING!I16+EXPEDITION!I16+QUALITE!I16+ACCUEIL!I16+PRODUCTION!I16+LABO!I16+COMPTA!I16+UCIA!I16) | ... M16: =IF(COMMERCIAUX!M16+MAINTENANCE!M16+ADV!M16+'R&D'!M16+RECEPTION!M16+DIRECTION!M16+EMBALLAGE!M16+MARKETING!M16+EXPEDITION!M16+QUALITE!M16+ACCUEIL!M16+PRODUCTION!M16+LABO!M16+COMPTA!M16=0,"",COMMERCIAUX!M16+MAINTENANCE!M16+ADV!M16+'R&D'!M16+RECEPTION!M16+DIRECTION!M16+EMBALLAGE!M16+MARKETING!M16+EXPEDITION!M16+QUALITE!M16+ACCUEIL!M16+PRODUCTION!M16+LABO!M16+COMPTA!M16+UCIA!M16) | N16: boite | O16: =IF(SUM(B16:M16)=0,"",SUM(B16:M16)) -> 7 | P16: =IF(DIRECTION!N16=0,"",DIRECTION!N16) | Q16: =IF(COMPTA!N16=0,"",COMPTA!N16) | R16: =IF(ACCUEIL!N16=0,"",ACCUEIL!N16) -> 1 | S16: =IF(ADV!N16=0,"",ADV!N16) -> 2 | T16: =IF(COMMERCIAUX!N16=0,"",COMMERCIAUX!N16) -> 2 | U16: =IF(MARKETING!N16=0,"",MARKETING!N16) | V16: =IF(MAINTENANCE!N16=0,"",MAINTENANCE!N16) | W16: =IF(PRODUCTION!N16=0,"",PRODUCTION!N16) | X16: =IF(EMBALLAGE!N16=0,"",EMBALLAGE!N16) | Y16: =IF(EXPEDITION!N16=0,"",EXPEDITION!N16) -> 1 | Z16: =IF(RECEPTION!N16=0,"",RECEPTION!N16) | AA16: =IF(LABO!N16=0,"",LABO!N16) | AB16: =IF('R&D'!N16=0,"",'R&D'!N16) | AC16: =IF(QUALITE!N16=0,"",QUALITE!N16) -> 1 | AD16: =IF(UCIA!N16=0,"",UCIA!N16)
A17: Bannette | B17: =IF(COMMERCIAUX!B17+MAINTENANCE!B17+ADV!B17+'R&D'!B17+RECEPTION!B17+DIRECTION!B17+EMBALLAGE!B17+MARKETING!B17+EXPEDITION!B17+QUALITE!B17+ACCUEIL!B17+PRODUCTION!B17+LABO!B17+COMPTA!B17=0,"",COMMERCIAUX!B17+MAINTENANCE!B17+ADV!B17+'R&D'!B17+RECEPTION!B17+DIRECTION!B17+EMBALLAGE!B17+MARKETING!B17+EXPEDITION!B17+QUALITE!B17+ACCUEIL!B17+PRODUCTION!B17+LABO!B17+COMPTA!B17+UCIA!B17) | C17: =IF(COMMERCIAUX!C17+MAINTENANCE!C17+ADV!C17+'R&D'!C17+RECEPTION!C17+DIRECTION!C17+EMBALLAGE!C17+MARKETING!C17+EXPEDITION!C17+QUALITE!C17+ACCUEIL!C17+PRODUCTION!C17+LABO!C17+COMPTA!C17=0,"",COMMERCIAUX!C17+MAINTENANCE!C17+ADV!C17+'R&D'!C17+RECEPTION!C17+DIRECTION!C17+EMBALLAGE!C17+MARKETING!C17+EXPEDITION!C17+QUALITE!C17+ACCUEIL!C17+PRODUCTION!C17+LABO!C17+COMPTA!C17+UCIA!C17) | D17: =IF(COMMERCIAUX!D17+MAINTENANCE!D17+ADV!D17+'R&D'!D17+RECEPTION!D17+DIRECTION!D17+EMBALLAGE!D17+MARKETING!D17+EXPEDITION!D17+QUALITE!D17+ACCUEIL!D17+PRODUCTION!D17+LABO!D17+COMPTA!D17=0,"",COMMERCIAUX!D17+MAINTENANCE!D17+ADV!D17+'R&D'!D17+RECEPTION!D17+DIRECTION!D17+EMBALLAGE!D17+MARKETING!D17+EXPEDITION!D17+QUALITE!D17+ACCUEIL!D17+PRODUCTION!D17+LABO!D17+COMPTA!D17+UCIA!D17) | E17: =IF(COMMERCIAUX!E17+MAINTENANCE!E17+ADV!E17+'R&D'!E17+RECEPTION!E17+DIRECTION!E17+EMBALLAGE!E17+MARKETING!E17+EXPEDITION!E17+QUALITE!E17+ACCUEIL!E17+PRODUCTION!E17+LABO!E17+COMPTA!E17=0,"",COMMERCIAUX!E17+MAINTENANCE!E17+ADV!E17+'R&D'!E17+RECEPTION!E17+DIRECTION!E17+EMBALLAGE!E17+MARKETING!E17+EXPEDITION!E17+QUALITE!E17+ACCUEIL!E17+PRODUCTION!E17+LABO!E17+COMPTA!E17+UCIA!E17) | F17: =IF(COMMERCIAUX!F17+MAINTENANCE!F17+ADV!F17+'R&D'!F17+RECEPTION!F17+DIRECTION!F17+EMBALLAGE!F17+MARKETING!F17+EXPEDITION!F17+QUALITE!F17+ACCUEIL!F17+PRODUCTION!F17+LABO!F17+COMPTA!F17=0,"",COMMERCIAUX!F17+MAINTENANCE!F17+ADV!F17+'R&D'!F17+RECEPTION!F17+DIRECTION!F17+EMBALLAGE!F17+MARKETING!F17+EXPEDITION!F17+QUALITE!F17+ACCUEIL!F17+PRODUCTION!F17+LABO!F17+COMPTA!F17+UCIA!F17) | G17: =IF(COMMERCIAUX!G17+MAINTENANCE!G17+ADV!G17+'R&D'!G17+RECEPTION!G17+DIRECTION!G17+EMBALLAGE!G17+MARKETING!G17+EXPEDITION!G17+QUALITE!G17+ACCUEIL!G17+PRODUCTION!G17+LABO!G17+COMPTA!G17=0,"",COMMERCIAUX!G17+MAINTENANCE!G17+ADV!G17+'R&D'!G17+RECEPTION!G17+DIRECTION!G17+EMBALLAGE!G17+MARKETING!G17+EXPEDITION!G17+QUALITE!G17+ACCUEIL!G17+PRODUCTION!G17+LABO!G17+COMPTA!G17+UCIA!G17) | H17: =IF(COMMERCIAUX!H17+MAINTENANCE!H17+ADV!H17+'R&D'!H17+RECEPTION!H17+DIRECTION!H17+EMBALLAGE!H17+MARKETING!H17+EXPEDITION!H17+QUALITE!H17+ACCUEIL!H17+PRODUCTION!H17+LABO!H17+COMPTA!H17=0,"",COMMERCIAUX!H17+MAINTENANCE!H17+ADV!H17+'R&D'!H17+RECEPTION!H17+DIRECTION!H17+EMBALLAGE!H17+MARKETING!H17+EXPEDITION!H17+QUALITE!H17+ACCUEIL!H17+PRODUCTION!H17+LABO!H17+COMPTA!H17+UCIA!H17) | I17: =IF(COMMERCIAUX!I17+MAINTENANCE!I17+ADV!I17+'R&D'!I17+RECEPTION!I17+DIRECTION!I17+EMBALLAGE!I17+MARKETING!I17+EXPEDITION!I17+QUALITE!I17+ACCUEIL!I17+PRODUCTION!I17+LABO!I17+COMPTA!I17=0,"",COMMERCIAUX!I17+MAINTENANCE!I17+ADV!I17+'R&D'!I17+RECEPTION!I17+DIRECTION!I17+EMBALLAGE!I17+MARKETING!I17+EXPEDITION!I17+QUALITE!I17+ACCUEIL!I17+PRODUCTION!I17+LABO!I17+COMPTA!I17+UCIA!I17) | ... M17: =IF(COMMERCIAUX!M17+MAINTENANCE!M17+ADV!M17+'R&D'!M17+RECEPTION!M17+DIRECTION!M17+EMBALLAGE!M17+MARKETING!M17+EXPEDITION!M17+QUALITE!M17+ACCUEIL!M17+PRODUCTION!M17+LABO!M17+COMPTA!M17=0,"",COMMERCIAUX!M17+MAINTENANCE!M17+ADV!M17+'R&D'!M17+RECEPTION!M17+DIRECTION!M17+EMBALLAGE!M17+MARKETING!M17+EXPEDITION!M17+QUALITE!M17+ACCUEIL!M17+PRODUCTION!M17+LABO!M17+COMPTA!M17+UCIA!M17) | O17: =IF(SUM(B17:M17)=0,"",SUM(B17:M17)) | P17: =IF(DIRECTION!N17=0,"",DIRECTION!N17) | Q17: =IF(COMPTA!N17=0,"",COMPTA!N17) | R17: =IF(ACCUEIL!N17=0,"",ACCUEIL!N17) | S17: =IF(ADV!N17=0,"",ADV!N17) | T17: =IF(COMMERCIAUX!N17=0,"",COMMERCIAUX!N17) | U17: =IF(MARKETING!N17=0,"",MARKETING!N17) | V17: =IF(MAINTENANCE!N17=0,"",MAINTENANCE!N17) | W17: =IF(PRODUCTION!N17=0,"",PRODUCTION!N17) | X17: =IF(EMBALLAGE!N17=0,"",EMBALLAGE!N17) | Y17: =IF(EXPEDITION!N17=0,"",EXPEDITION!N17) | Z17: =IF(RECEPTION!N17=0,"",RECEPTION!N17) | AA17: =IF(LABO!N17=0,"",LABO!N17) | AB17: =IF('R&D'!N17=0,"",'R&D'!N17) | AC17: =IF(QUALITE!N17=0,"",QUALITE!N17) | AD17: =IF(UCIA!N17=0,"",UCIA!N17)
A18: Batonnet de colle | B18: =IF(COMMERCIAUX!B18+MAINTENANCE!B18+ADV!B18+'R&D'!B18+RECEPTION!B18+DIRECTION!B18+EMBALLAGE!B18+MARKETING!B18+EXPEDITION!B18+QUALITE!B18+ACCUEIL!B18+PRODUCTION!B18+LABO!B18+COMPTA!B18=0,"",COMMERCIAUX!B18+MAINTENANCE!B18+ADV!B18+'R&D'!B18+RECEPTION!B18+DIRECTION!B18+EMBALLAGE!B18+MARKETING!B18+EXPEDITION!B18+QUALITE!B18+ACCUEIL!B18+PRODUCTION!B18+LABO!B18+COMPTA!B18+UCIA!B18) | C18: =IF(COMMERCIAUX!C18+MAINTENANCE!C18+ADV!C18+'R&D'!C18+RECEPTION!C18+DIRECTION!C18+EMBALLAGE!C18+MARKETING!C18+EXPEDITION!C18+QUALITE!C18+ACCUEIL!C18+PRODUCTION!C18+LABO!C18+COMPTA!C18=0,"",COMMERCIAUX!C18+MAINTENANCE!C18+ADV!C18+'R&D'!C18+RECEPTION!C18+DIRECTION!C18+EMBALLAGE!C18+MARKETING!C18+EXPEDITION!C18+QUALITE!C18+ACCUEIL!C18+PRODUCTION!C18+LABO!C18+COMPTA!C18+UCIA!C18) | D18: =IF(COMMERCIAUX!D18+MAINTENANCE!D18+ADV!D18+'R&D'!D18+RECEPTION!D18+DIRECTION!D18+EMBALLAGE!D18+MARKETING!D18+EXPEDITION!D18+QUALITE!D18+ACCUEIL!D18+PRODUCTION!D18+LABO!D18+COMPTA!D18=0,"",COMMERCIAUX!D18+MAINTENANCE!D18+ADV!D18+'R&D'!D18+RECEPTION!D18+DIRECTION!D18+EMBALLAGE!D18+MARKETING!D18+EXPEDITION!D18+QUALITE!D18+ACCUEIL!D18+PRODUCTION!D18+LABO!D18+COMPTA!D18+UCIA!D18) | E18: =IF(COMMERCIAUX!E18+MAINTENANCE!E18+ADV!E18+'R&D'!E18+RECEPTION!E18+DIRECTION!E18+EMBALLAGE!E18+MARKETING!E18+EXPEDITION!E18+QUALITE!E18+ACCUEIL!E18+PRODUCTION!E18+LABO!E18+COMPTA!E18=0,"",COMMERCIAUX!E18+MAINTENANCE!E18+ADV!E18+'R&D'!E18+RECEPTION!E18+DIRECTION!E18+EMBALLAGE!E18+MARKETING!E18+EXPEDITION!E18+QUALITE!E18+ACCUEIL!E18+PRODUCTION!E18+LABO!E18+COMPTA!E18+UCIA!E18) | F18: =IF(COMMERCIAUX!F18+MAINTENANCE!F18+ADV!F18+'R&D'!F18+RECEPTION!F18+DIRECTION!F18+EMBALLAGE!F18+MARKETING!F18+EXPEDITION!F18+QUALITE!F18+ACCUEIL!F18+PRODUCTION!F18+LABO!F18+COMPTA!F18=0,"",COMMERCIAUX!F18+MAINTENANCE!F18+ADV!F18+'R&D'!F18+RECEPTION!F18+DIRECTION!F18+EMBALLAGE!F18+MARKETING!F18+EXPEDITION!F18+QUALITE!F18+ACCUEIL!F18+PRODUCTION!F18+LABO!F18+COMPTA!F18+UCIA!F18) | G18: =IF(COMMERCIAUX!G18+MAINTENANCE!G18+ADV!G18+'R&D'!G18+RECEPTION!G18+DIRECTION!G18+EMBALLAGE!G18+MARKETING!G18+EXPEDITION!G18+QUALITE!G18+ACCUEIL!G18+PRODUCTION!G18+LABO!G18+COMPTA!G18=0,"",COMMERCIAUX!G18+MAINTENANCE!G18+ADV!G18+'R&D'!G18+RECEPTION!G18+DIRECTION!G18+EMBALLAGE!G18+MARKETING!G18+EXPEDITION!G18+QUALITE!G18+ACCUEIL!G18+PRODUCTION!G18+LABO!G18+COMPTA!G18+UCIA!G18) | H18: =IF(COMMERCIAUX!H18+MAINTENANCE!H18+ADV!H18+'R&D'!H18+RECEPTION!H18+DIRECTION!H18+EMBALLAGE!H18+MARKETING!H18+EXPEDITION!H18+QUALITE!H18+ACCUEIL!H18+PRODUCTION!H18+LABO!H18+COMPTA!H18=0,"",COMMERCIAUX!H18+MAINTENANCE!H18+ADV!H18+'R&D'!H18+RECEPTION!H18+DIRECTION!H18+EMBALLAGE!H18+MARKETING!H18+EXPEDITION!H18+QUALITE!H18+ACCUEIL!H18+PRODUCTION!H18+LABO!H18+COMPTA!H18+UCIA!H18) -> 5 | I18: =IF(COMMERCIAUX!I18+MAINTENANCE!I18+ADV!I18+'R&D'!I18+RECEPTION!I18+DIRECTION!I18+EMBALLAGE!I18+MARKETING!I18+EXPEDITION!I18+QUALITE!I18+ACCUEIL!I18+PRODUCTION!I18+LABO!I18+COMPTA!I18=0,"",COMMERCIAUX!I18+MAINTENANCE!I18+ADV!I18+'R&D'!I18+RECEPTION!I18+DIRECTION!I18+EMBALLAGE!I18+MARKETING!I18+EXPEDITION!I18+QUALITE!I18+ACCUEIL!I18+PRODUCTION!I18+LABO!I18+COMPTA!I18+UCIA!I18) | ... M18: =IF(COMMERCIAUX!M18+MAINTENANCE!M18+ADV!M18+'R&D'!M18+RECEPTION!M18+DIRECTION!M18+EMBALLAGE!M18+MARKETING!M18+EXPEDITION!M18+QUALITE!M18+ACCUEIL!M18+PRODUCTION!M18+LABO!M18+COMPTA!M18=0,"",COMMERCIAUX!M18+MAINTENANCE!M18+ADV!M18+'R&D'!M18+RECEPTION!M18+DIRECTION!M18+EMBALLAGE!M18+MARKETING!M18+EXPEDITION!M18+QUALITE!M18+ACCUEIL!M18+PRODUCTION!M18+LABO!M18+COMPTA!M18+UCIA!M18) | O18: =IF(SUM(B18:M18)=0,"",SUM(B18:M18)) -> 5 | P18: =IF(DIRECTION!N18=0,"",DIRECTION!N18) | Q18: =IF(COMPTA!N18=0,"",COMPTA!N18) -> 1 | R18: =IF(ACCUEIL!N18=0,"",ACCUEIL!N18) | S18: =IF(ADV!N18=0,"",ADV!N18) | T18: =IF(COMMERCIAUX!N18=0,"",COMMERCIAUX!N18) | U18: =IF(MARKETING!N18=0,"",MARKETING!N18) | V18: =IF(MAINTENANCE!N18=0,"",MAINTENANCE!N18) | W18: =IF(PRODUCTION!N18=0,"",PRODUCTION!N18) | X18: =IF(EMBALLAGE!N18=0,"",EMBALLAGE!N18) | Y18: =IF(EXPEDITION!N18=0,"",EXPEDITION!N18) | Z18: =IF(RECEPTION!N18=0,"",RECEPTION!N18) | AA18: =IF(LABO!N18=0,"",LABO!N18) | AB18: =IF('R&D'!N18=0,"",'R&D'!N18) | AC18: =IF(QUALITE!N18=0,"",QUALITE!N18) | AD18: =IF(UCIA!N18=0,"",UCIA!N18) -> 4
A19: Bobine thermique | B19: =IF(COMMERCIAUX!B19+MAINTENANCE!B19+ADV!B19+'R&D'!B19+RECEPTION!B19+DIRECTION!B19+EMBALLAGE!B19+MARKETING!B19+EXPEDITION!B19+QUALITE!B19+ACCUEIL!B19+PRODUCTION!B19+LABO!B19+COMPTA!B19=0,"",COMMERCIAUX!B19+MAINTENANCE!B19+ADV!B19+'R&D'!B19+RECEPTION!B19+DIRECTION!B19+EMBALLAGE!B19+MARKETING!B19+EXPEDITION!B19+QUALITE!B19+ACCUEIL!B19+PRODUCTION!B19+LABO!B19+COMPTA!B19+UCIA!B19) | C19: =IF(COMMERCIAUX!C19+MAINTENANCE!C19+ADV!C19+'R&D'!C19+RECEPTION!C19+DIRECTION!C19+EMBALLAGE!C19+MARKETING!C19+EXPEDITION!C19+QUALITE!C19+ACCUEIL!C19+PRODUCTION!C19+LABO!C19+COMPTA!C19=0,"",COMMERCIAUX!C19+MAINTENANCE!C19+ADV!C19+'R&D'!C19+RECEPTION!C19+DIRECTION!C19+EMBALLAGE!C19+MARKETING!C19+EXPEDITION!C19+QUALITE!C19+ACCUEIL!C19+PRODUCTION!C19+LABO!C19+COMPTA!C19+UCIA!C19) | D19: =IF(COMMERCIAUX!D19+MAINTENANCE!D19+ADV!D19+'R&D'!D19+RECEPTION!D19+DIRECTION!D19+EMBALLAGE!D19+MARKETING!D19+EXPEDITION!D19+QUALITE!D19+ACCUEIL!D19+PRODUCTION!D19+LABO!D19+COMPTA!D19=0,"",COMMERCIAUX!D19+MAINTENANCE!D19+ADV!D19+'R&D'!D19+RECEPTION!D19+DIRECTION!D19+EMBALLAGE!D19+MARKETING!D19+EXPEDITION!D19+QUALITE!D19+ACCUEIL!D19+PRODUCTION!D19+LABO!D19+COMPTA!D19+UCIA!D19) | E19: =IF(COMMERCIAUX!E19+MAINTENANCE!E19+ADV!E19+'R&D'!E19+RECEPTION!E19+DIRECTION!E19+EMBALLAGE!E19+MARKETING!E19+EXPEDITION!E19+QUALITE!E19+ACCUEIL!E19+PRODUCTION!E19+LABO!E19+COMPTA!E19=0,"",COMMERCIAUX!E19+MAINTENANCE!E19+ADV!E19+'R&D'!E19+RECEPTION!E19+DIRECTION!E19+EMBALLAGE!E19+MARKETING!E19+EXPEDITION!E19+QUALITE!E19+ACCUEIL!E19+PRODUCTION!E19+LABO!E19+COMPTA!E19+UCIA!E19) | F19: =IF(COMMERCIAUX!F19+MAINTENANCE!F19+ADV!F19+'R&D'!F19+RECEPTION!F19+DIRECTION!F19+EMBALLAGE!F19+MARKETING!F19+EXPEDITION!F19+QUALITE!F19+ACCUEIL!F19+PRODUCTION!F19+LABO!F19+COMPTA!F19=0,"",COMMERCIAUX!F19+MAINTENANCE!F19+ADV!F19+'R&D'!F19+RECEPTION!F19+DIRECTION!F19+EMBALLAGE!F19+MARKETING!F19+EXPEDITION!F19+QUALITE!F19+ACCUEIL!F19+PRODUCTION!F19+LABO!F19+COMPTA!F19+UCIA!F19) | G19: =IF(COMMERCIAUX!G19+MAINTENANCE!G19+ADV!G19+'R&D'!G19+RECEPTION!G19+DIRECTION!G19+EMBALLAGE!G19+MARKETING!G19+EXPEDITION!G19+QUALITE!G19+ACCUEIL!G19+PRODUCTION!G19+LABO!G19+COMPTA!G19=0,"",COMMERCIAUX!G19+MAINTENANCE!G19+ADV!G19+'R&D'!G19+RECEPTION!G19+DIRECTION!G19+EMBALLAGE!G19+MARKETING!G19+EXPEDITION!G19+QUALITE!G19+ACCUEIL!G19+PRODUCTION!G19+LABO!G19+COMPTA!G19+UCIA!G19) -> 2 | H19: =IF(COMMERCIAUX!H19+MAINTENANCE!H19+ADV!H19+'R&D'!H19+RECEPTION!H19+DIRECTION!H19+EMBALLAGE!H19+MARKETING!H19+EXPEDITION!H19+QUALITE!H19+ACCUEIL!H19+PRODUCTION!H19+LABO!H19+COMPTA!H19=0,"",COMMERCIAUX!H19+MAINTENANCE!H19+ADV!H19+'R&D'!H19+RECEPTION!H19+DIRECTION!H19+EMBALLAGE!H19+MARKETING!H19+EXPEDITION!H19+QUALITE!H19+ACCUEIL!H19+PRODUCTION!H19+LABO!H19+COMPTA!H19+UCIA!H19) | I19: =IF(COMMERCIAUX!I19+MAINTENANCE!I19+ADV!I19+'R&D'!I19+RECEPTION!I19+DIRECTION!I19+EMBALLAGE!I19+MARKETING!I19+EXPEDITION!I19+QUALITE!I19+ACCUEIL!I19+PRODUCTION!I19+LABO!I19+COMPTA!I19=0,"",COMMERCIAUX!I19+MAINTENANCE!I19+ADV!I19+'R&D'!I19+RECEPTION!I19+DIRECTION!I19+EMBALLAGE!I19+MARKETING!I19+EXPEDITION!I19+QUALITE!I19+ACCUEIL!I19+PRODUCTION!I19+LABO!I19+COMPTA!I19+UCIA!I19) | ... M19: =IF(COMMERCIAUX!M19+MAINTENANCE!M19+ADV!M19+'R&D'!M19+RECEPTION!M19+DIRECTION!M19+EMBALLAGE!M19+MARKETING!M19+EXPEDITION!M19+QUALITE!M19+ACCUEIL!M19+PRODUCTION!M19+LABO!M19+COMPTA!M19=0,"",COMMERCIAUX!M19+MAINTENANCE!M19+ADV!M19+'R&D'!M19+RECEPTION!M19+DIRECTION!M19+EMBALLAGE!M19+MARKETING!M19+EXPEDITION!M19+QUALITE!M19+ACCUEIL!M19+PRODUCTION!M19+LABO!M19+COMPTA!M19+UCIA!M19) | O19: =IF(SUM(B19:M19)=0,"",SUM(B19:M19)) -> 2 | P19: =IF(DIRECTION!N19=0,"",DIRECTION!N19) -> 1 | Q19: =IF(COMPTA!N19=0,"",COMPTA!N19) -> 1 | R19: =IF(ACCUEIL!N19=0,"",ACCUEIL!N19) | S19: =IF(ADV!N19=0,"",ADV!N19) | T19: =IF(COMMERCIAUX!N19=0,"",COMMERCIAUX!N19) | U19: =IF(MARKETING!N19=0,"",MARKETING!N19) | V19: =IF(MAINTENANCE!N19=0,"",MAINTENANCE!N19) | W19: =IF(PRODUCTION!N19=0,"",PRODUCTION!N19) | X19: =IF(EMBALLAGE!N19=0,"",EMBALLAGE!N19) | Y19: =IF(EXPEDITION!N19=0,"",EXPEDITION!N19) | Z19: =IF(RECEPTION!N19=0,"",RECEPTION!N19) | AA19: =IF(LABO!N19=0,"",LABO!N19) | AB19: =IF('R&D'!N19=0,"",'R&D'!N19) | AC19: =IF(QUALITE!N19=0,"",QUALITE!N19) | AD19: =IF(UCIA!N19=0,"",UCIA!N19)
A20: Boite archives | B20: =IF(COMMERCIAUX!B20+MAINTENANCE!B20+ADV!B20+'R&D'!B20+RECEPTION!B20+DIRECTION!B20+EMBALLAGE!B20+MARKETING!B20+EXPEDITION!B20+QUALITE!B20+ACCUEIL!B20+PRODUCTION!B20+LABO!B20+COMPTA!B20=0,"",COMMERCIAUX!B20+MAINTENANCE!B20+ADV!B20+'R&D'!B20+RECEPTION!B20+DIRECTION!B20+EMBALLAGE!B20+MARKETING!B20+EXPEDITION!B20+QUALITE!B20+ACCUEIL!B20+PRODUCTION!B20+LABO!B20+COMPTA!B20+UCIA!B20) | C20: =IF(COMMERCIAUX!C20+MAINTENANCE!C20+ADV!C20+'R&D'!C20+RECEPTION!C20+DIRECTION!C20+EMBALLAGE!C20+MARKETING!C20+EXPEDITION!C20+QUALITE!C20+ACCUEIL!C20+PRODUCTION!C20+LABO!C20+COMPTA!C20=0,"",COMMERCIAUX!C20+MAINTENANCE!C20+ADV!C20+'R&D'!C20+RECEPTION!C20+DIRECTION!C20+EMBALLAGE!C20+MARKETING!C20+EXPEDITION!C20+QUALITE!C20+ACCUEIL!C20+PRODUCTION!C20+LABO!C20+COMPTA!C20+UCIA!C20) | D20: =IF(COMMERCIAUX!D20+MAINTENANCE!D20+ADV!D20+'R&D'!D20+RECEPTION!D20+DIRECTION!D20+EMBALLAGE!D20+MARKETING!D20+EXPEDITION!D20+QUALITE!D20+ACCUEIL!D20+PRODUCTION!D20+LABO!D20+COMPTA!D20=0,"",COMMERCIAUX!D20+MAINTENANCE!D20+ADV!D20+'R&D'!D20+RECEPTION!D20+DIRECTION!D20+EMBALLAGE!D20+MARKETING!D20+EXPEDITION!D20+QUALITE!D20+ACCUEIL!D20+PRODUCTION!D20+LABO!D20+COMPTA!D20+UCIA!D20) | E20: =IF(COMMERCIAUX!E20+MAINTENANCE!E20+ADV!E20+'R&D'!E20+RECEPTION!E20+DIRECTION!E20+EMBALLAGE!E20+MARKETING!E20+EXPEDITION!E20+QUALITE!E20+ACCUEIL!E20+PRODUCTION!E20+LABO!E20+COMPTA!E20=0,"",COMMERCIAUX!E20+MAINTENANCE!E20+ADV!E20+'R&D'!E20+RECEPTION!E20+DIRECTION!E20+EMBALLAGE!E20+MARKETING!E20+EXPEDITION!E20+QUALITE!E20+ACCUEIL!E20+PRODUCTION!E20+LABO!E20+COMPTA!E20+UCIA!E20) | F20: =IF(COMMERCIAUX!F20+MAINTENANCE!F20+ADV!F20+'R&D'!F20+RECEPTION!F20+DIRECTION!F20+EMBALLAGE!F20+MARKETING!F20+EXPEDITION!F20+QUALITE!F20+ACCUEIL!F20+PRODUCTION!F20+LABO!F20+COMPTA!F20=0,"",COMMERCIAUX!F20+MAINTENANCE!F20+ADV!F20+'R&D'!F20+RECEPTION!F20+DIRECTION!F20+EMBALLAGE!F20+MARKETING!F20+EXPEDITION!F20+QUALITE!F20+ACCUEIL!F20+PRODUCTION!F20+LABO!F20+COMPTA!F20+UCIA!F20) | G20: =IF(COMMERCIAUX!G20+MAINTENANCE!G20+ADV!G20+'R&D'!G20+RECEPTION!G20+DIRECTION!G20+EMBALLAGE!G20+MARKETING!G20+EXPEDITION!G20+QUALITE!G20+ACCUEIL!G20+PRODUCTION!G20+LABO!G20+COMPTA!G20=0,"",COMMERCIAUX!G20+MAINTENANCE!G20+ADV!G20+'R&D'!G20+RECEPTION!G20+DIRECTION!G20+EMBALLAGE!G20+MARKETING!G20+EXPEDITION!G20+QUALITE!G20+ACCUEIL!G20+PRODUCTION!G20+LABO!G20+COMPTA!G20+UCIA!G20) -> 27 | H20: =IF(COMMERCIAUX!H20+MAINTENANCE!H20+ADV!H20+'R&D'!H20+RECEPTION!H20+DIRECTION!H20+EMBALLAGE!H20+MARKETING!H20+EXPEDITION!H20+QUALITE!H20+ACCUEIL!H20+PRODUCTION!H20+LABO!H20+COMPTA!H20=0,"",COMMERCIAUX!H20+MAINTENANCE!H20+ADV!H20+'R&D'!H20+RECEPTION!H20+DIRECTION!H20+EMBALLAGE!H20+MARKETING!H20+EXPEDITION!H20+QUALITE!H20+ACCUEIL!H20+PRODUCTION!H20+LABO!H20+COMPTA!H20+UCIA!H20) -> 12 | I20: =IF(COMMERCIAUX!I20+MAINTENANCE!I20+ADV!I20+'R&D'!I20+RECEPTION!I20+DIRECTION!I20+EMBALLAGE!I20+MARKETING!I20+EXPEDITION!I20+QUALITE!I20+ACCUEIL!I20+PRODUCTION!I20+LABO!I20+COMPTA!I20=0,"",COMMERCIAUX!I20+MAINTENANCE!I20+ADV!I20+'R&D'!I20+RECEPTION!I20+DIRECTION!I20+EMBALLAGE!I20+MARKETING!I20+EXPEDITION!I20+QUALITE!I20+ACCUEIL!I20+PRODUCTION!I20+LABO!I20+COMPTA!I20+UCIA!I20) -> 3 | ... M20: =IF(COMMERCIAUX!M20+MAINTENANCE!M20+ADV!M20+'R&D'!M20+RECEPTION!M20+DIRECTION!M20+EMBALLAGE!M20+MARKETING!M20+EXPEDITION!M20+QUALITE!M20+ACCUEIL!M20+PRODUCTION!M20+LABO!M20+COMPTA!M20=0,"",COMMERCIAUX!M20+MAINTENANCE!M20+ADV!M20+'R&D'!M20+RECEPTION!M20+DIRECTION!M20+EMBALLAGE!M20+MARKETING!M20+EXPEDITION!M20+QUALITE!M20+ACCUEIL!M20+PRODUCTION!M20+LABO!M20+COMPTA!M20+UCIA!M20) | O20: =IF(SUM(B20:M20)=0,"",SUM(B20:M20)) -> 42 | P20: =IF(DIRECTION!N20=0,"",DIRECTION!N20) | Q20: =IF(COMPTA!N20=0,"",COMPTA!N20) -> 6 | R20: =IF(ACCUEIL!N20=0,"",ACCUEIL!N20) | S20: =IF(ADV!N20=0,"",ADV!N20) | T20: =IF(COMMERCIAUX!N20=0,"",COMMERCIAUX!N20) | U20: =IF(MARKETING!N20=0,"",MARKETING!N20) | V20: =IF(MAINTENANCE!N20=0,"",MAINTENANCE!N20) -> 23 | W20: =IF(PRODUCTION!N20=0,"",PRODUCTION!N20) | X20: =IF(EMBALLAGE!N20=0,"",EMBALLAGE!N20) | Y20: =IF(EXPEDITION!N20=0,"",EXPEDITION!N20) | Z20: =IF(RECEPTION!N20=0,"",RECEPTION!N20) | AA20: =IF(LABO!N20=0,"",LABO!N20) | AB20: =IF('R&D'!N20=0,"",'R&D'!N20) | AC20: =IF(QUALITE!N20=0,"",QUALITE!N20) -> 13 | AD20: =IF(UCIA!N20=0,"",UCIA!N20)
A21: Boite carton bouteille | B21: =IF(COMMERCIAUX!B21+MAINTENANCE!B21+ADV!B21+'R&D'!B21+RECEPTION!B21+DIRECTION!B21+EMBALLAGE!B21+MARKETING!B21+EXPEDITION!B21+QUALITE!B21+ACCUEIL!B21+PRODUCTION!B21+LABO!B21+COMPTA!B21=0,"",COMMERCIAUX!B21+MAINTENANCE!B21+ADV!B21+'R&D'!B21+RECEPTION!B21+DIRECTION!B21+EMBALLAGE!B21+MARKETING!B21+EXPEDITION!B21+QUALITE!B21+ACCUEIL!B21+PRODUCTION!B21+LABO!B21+COMPTA!B21+UCIA!B21) | C21: =IF(COMMERCIAUX!C21+MAINTENANCE!C21+ADV!C21+'R&D'!C21+RECEPTION!C21+DIRECTION!C21+EMBALLAGE!C21+MARKETING!C21+EXPEDITION!C21+QUALITE!C21+ACCUEIL!C21+PRODUCTION!C21+LABO!C21+COMPTA!C21=0,"",COMMERCIAUX!C21+MAINTENANCE!C21+ADV!C21+'R&D'!C21+RECEPTION!C21+DIRECTION!C21+EMBALLAGE!C21+MARKETING!C21+EXPEDITION!C21+QUALITE!C21+ACCUEIL!C21+PRODUCTION!C21+LABO!C21+COMPTA!C21+UCIA!C21) | D21: =IF(COMMERCIAUX!D21+MAINTENANCE!D21+ADV!D21+'R&D'!D21+RECEPTION!D21+DIRECTION!D21+EMBALLAGE!D21+MARKETING!D21+EXPEDITION!D21+QUALITE!D21+ACCUEIL!D21+PRODUCTION!D21+LABO!D21+COMPTA!D21=0,"",COMMERCIAUX!D21+MAINTENANCE!D21+ADV!D21+'R&D'!D21+RECEPTION!D21+DIRECTION!D21+EMBALLAGE!D21+MARKETING!D21+EXPEDITION!D21+QUALITE!D21+ACCUEIL!D21+PRODUCTION!D21+LABO!D21+COMPTA!D21+UCIA!D21) | E21: =IF(COMMERCIAUX!E21+MAINTENANCE!E21+ADV!E21+'R&D'!E21+RECEPTION!E21+DIRECTION!E21+EMBALLAGE!E21+MARKETING!E21+EXPEDITION!E21+QUALITE!E21+ACCUEIL!E21+PRODUCTION!E21+LABO!E21+COMPTA!E21=0,"",COMMERCIAUX!E21+MAINTENANCE!E21+ADV!E21+'R&D'!E21+RECEPTION!E21+DIRECTION!E21+EMBALLAGE!E21+MARKETING!E21+EXPEDITION!E21+QUALITE!E21+ACCUEIL!E21+PRODUCTION!E21+LABO!E21+COMPTA!E21+UCIA!E21) | F21: =IF(COMMERCIAUX!F21+MAINTENANCE!F21+ADV!F21+'R&D'!F21+RECEPTION!F21+DIRECTION!F21+EMBALLAGE!F21+MARKETING!F21+EXPEDITION!F21+QUALITE!F21+ACCUEIL!F21+PRODUCTION!F21+LABO!F21+COMPTA!F21=0,"",COMMERCIAUX!F21+MAINTENANCE!F21+ADV!F21+'R&D'!F21+RECEPTION!F21+DIRECTION!F21+EMBALLAGE!F21+MARKETING!F21+EXPEDITION!F21+QUALITE!F21+ACCUEIL!F21+PRODUCTION!F21+LABO!F21+COMPTA!F21+UCIA!F21) | G21: =IF(COMMERCIAUX!G21+MAINTENANCE!G21+ADV!G21+'R&D'!G21+RECEPTION!G21+DIRECTION!G21+EMBALLAGE!G21+MARKETING!G21+EXPEDITION!G21+QUALITE!G21+ACCUEIL!G21+PRODUCTION!G21+LABO!G21+COMPTA!G21=0,"",COMMERCIAUX!G21+MAINTENANCE!G21+ADV!G21+'R&D'!G21+RECEPTION!G21+DIRECTION!G21+EMBALLAGE!G21+MARKETING!G21+EXPEDITION!G21+QUALITE!G21+ACCUEIL!G21+PRODUCTION!G21+LABO!G21+COMPTA!G21+UCIA!G21) | H21: =IF(COMMERCIAUX!H21+MAINTENANCE!H21+ADV!H21+'R&D'!H21+RECEPTION!H21+DIRECTION!H21+EMBALLAGE!H21+MARKETING!H21+EXPEDITION!H21+QUALITE!H21+ACCUEIL!H21+PRODUCTION!H21+LABO!H21+COMPTA!H21=0,"",COMMERCIAUX!H21+MAINTENANCE!H21+ADV!H21+'R&D'!H21+RECEPTION!H21+DIRECTION!H21+EMBALLAGE!H21+MARKETING!H21+EXPEDITION!H21+QUALITE!H21+ACCUEIL!H21+PRODUCTION!H21+LABO!H21+COMPTA!H21+UCIA!H21) | I21: =IF(COMMERCIAUX!I21+MAINTENANCE!I21+ADV!I21+'R&D'!I21+RECEPTION!I21+DIRECTION!I21+EMBALLAGE!I21+MARKETING!I21+EXPEDITION!I21+QUALITE!I21+ACCUEIL!I21+PRODUCTION!I21+LABO!I21+COMPTA!I21=0,"",COMMERCIAUX!I21+MAINTENANCE!I21+ADV!I21+'R&D'!I21+RECEPTION!I21+DIRECTION!I21+EMBALLAGE!I21+MARKETING!I21+EXPEDITION!I21+QUALITE!I21+ACCUEIL!I21+PRODUCTION!I21+LABO!I21+COMPTA!I21+UCIA!I21) | ... M21: =IF(COMMERCIAUX!M21+MAINTENANCE!M21+ADV!M21+'R&D'!M21+RECEPTION!M21+DIRECTION!M21+EMBALLAGE!M21+MARKETING!M21+EXPEDITION!M21+QUALITE!M21+ACCUEIL!M21+PRODUCTION!M21+LABO!M21+COMPTA!M21=0,"",COMMERCIAUX!M21+MAINTENANCE!M21+ADV!M21+'R&D'!M21+RECEPTION!M21+DIRECTION!M21+EMBALLAGE!M21+MARKETING!M21+EXPEDITION!M21+QUALITE!M21+ACCUEIL!M21+PRODUCTION!M21+LABO!M21+COMPTA!M21+UCIA!M21) | O21: =IF(SUM(B21:M21)=0,"",SUM(B21:M21)) | P21: =IF(DIRECTION!N21=0,"",DIRECTION!N21) | Q21: =IF(COMPTA!N21=0,"",COMPTA!N21) | R21: =IF(ACCUEIL!N21=0,"",ACCUEIL!N21) | S21: =IF(ADV!N21=0,"",ADV!N21) | T21: =IF(COMMERCIAUX!N21=0,"",COMMERCIAUX!N21) | U21: =IF(MARKETING!N21=0,"",MARKETING!N21) | V21: =IF(MAINTENANCE!N21=0,"",MAINTENANCE!N21) | W21: =IF(PRODUCTION!N21=0,"",PRODUCTION!N21) | X21: =IF(EMBALLAGE!N21=0,"",EMBALLAGE!N21) | Y21: =IF(EXPEDITION!N21=0,"",EXPEDITION!N21) | Z21: =IF(RECEPTION!N21=0,"",RECEPTION!N21) | AA21: =IF(LABO!N21=0,"",LABO!N21) | AB21: =IF('R&D'!N21=0,"",'R&D'!N21) | AC21: =IF(QUALITE!N21=0,"",QUALITE!N21) | AD21: =IF(UCIA!N21=0,"",UCIA!N21)
A22: Bombe de colle | B22: =IF(COMMERCIAUX!B22+MAINTENANCE!B22+ADV!B22+'R&D'!B22+RECEPTION!B22+DIRECTION!B22+EMBALLAGE!B22+MARKETING!B22+EXPEDITION!B22+QUALITE!B22+ACCUEIL!B22+PRODUCTION!B22+LABO!B22+COMPTA!B22=0,"",COMMERCIAUX!B22+MAINTENANCE!B22+ADV!B22+'R&D'!B22+RECEPTION!B22+DIRECTION!B22+EMBALLAGE!B22+MARKETING!B22+EXPEDITION!B22+QUALITE!B22+ACCUEIL!B22+PRODUCTION!B22+LABO!B22+COMPTA!B22+UCIA!B22) | C22: =IF(COMMERCIAUX!C22+MAINTENANCE!C22+ADV!C22+'R&D'!C22+RECEPTION!C22+DIRECTION!C22+EMBALLAGE!C22+MARKETING!C22+EXPEDITION!C22+QUALITE!C22+ACCUEIL!C22+PRODUCTION!C22+LABO!C22+COMPTA!C22=0,"",COMMERCIAUX!C22+MAINTENANCE!C22+ADV!C22+'R&D'!C22+RECEPTION!C22+DIRECTION!C22+EMBALLAGE!C22+MARKETING!C22+EXPEDITION!C22+QUALITE!C22+ACCUEIL!C22+PRODUCTION!C22+LABO!C22+COMPTA!C22+UCIA!C22) | D22: =IF(COMMERCIAUX!D22+MAINTENANCE!D22+ADV!D22+'R&D'!D22+RECEPTION!D22+DIRECTION!D22+EMBALLAGE!D22+MARKETING!D22+EXPEDITION!D22+QUALITE!D22+ACCUEIL!D22+PRODUCTION!D22+LABO!D22+COMPTA!D22=0,"",COMMERCIAUX!D22+MAINTENANCE!D22+ADV!D22+'R&D'!D22+RECEPTION!D22+DIRECTION!D22+EMBALLAGE!D22+MARKETING!D22+EXPEDITION!D22+QUALITE!D22+ACCUEIL!D22+PRODUCTION!D22+LABO!D22+COMPTA!D22+UCIA!D22) | E22: =IF(COMMERCIAUX!E22+MAINTENANCE!E22+ADV!E22+'R&D'!E22+RECEPTION!E22+DIRECTION!E22+EMBALLAGE!E22+MARKETING!E22+EXPEDITION!E22+QUALITE!E22+ACCUEIL!E22+PRODUCTION!E22+LABO!E22+COMPTA!E22=0,"",COMMERCIAUX!E22+MAINTENANCE!E22+ADV!E22+'R&D'!E22+RECEPTION!E22+DIRECTION!E22+EMBALLAGE!E22+MARKETING!E22+EXPEDITION!E22+QUALITE!E22+ACCUEIL!E22+PRODUCTION!E22+LABO!E22+COMPTA!E22+UCIA!E22) | F22: =IF(COMMERCIAUX!F22+MAINTENANCE!F22+ADV!F22+'R&D'!F22+RECEPTION!F22+DIRECTION!F22+EMBALLAGE!F22+MARKETING!F22+EXPEDITION!F22+QUALITE!F22+ACCUEIL!F22+PRODUCTION!F22+LABO!F22+COMPTA!F22=0,"",COMMERCIAUX!F22+MAINTENANCE!F22+ADV!F22+'R&D'!F22+RECEPTION!F22+DIRECTION!F22+EMBALLAGE!F22+MARKETING!F22+EXPEDITION!F22+QUALITE!F22+ACCUEIL!F22+PRODUCTION!F22+LABO!F22+COMPTA!F22+UCIA!F22) | G22: =IF(COMMERCIAUX!G22+MAINTENANCE!G22+ADV!G22+'R&D'!G22+RECEPTION!G22+DIRECTION!G22+EMBALLAGE!G22+MARKETING!G22+EXPEDITION!G22+QUALITE!G22+ACCUEIL!G22+PRODUCTION!G22+LABO!G22+COMPTA!G22=0,"",COMMERCIAUX!G22+MAINTENANCE!G22+ADV!G22+'R&D'!G22+RECEPTION!G22+DIRECTION!G22+EMBALLAGE!G22+MARKETING!G22+EXPEDITION!G22+QUALITE!G22+ACCUEIL!G22+PRODUCTION!G22+LABO!G22+COMPTA!G22+UCIA!G22) -> 2 | H22: =IF(COMMERCIAUX!H22+MAINTENANCE!H22+ADV!H22+'R&D'!H22+RECEPTION!H22+DIRECTION!H22+EMBALLAGE!H22+MARKETING!H22+EXPEDITION!H22+QUALITE!H22+ACCUEIL!H22+PRODUCTION!H22+LABO!H22+COMPTA!H22=0,"",COMMERCIAUX!H22+MAINTENANCE!H22+ADV!H22+'R&D'!H22+RECEPTION!H22+DIRECTION!H22+EMBALLAGE!H22+MARKETING!H22+EXPEDITION!H22+QUALITE!H22+ACCUEIL!H22+PRODUCTION!H22+LABO!H22+COMPTA!H22+UCIA!H22) | I22: =IF(COMMERCIAUX!I22+MAINTENANCE!I22+ADV!I22+'R&D'!I22+RECEPTION!I22+DIRECTION!I22+EMBALLAGE!I22+MARKETING!I22+EXPEDITION!I22+QUALITE!I22+ACCUEIL!I22+PRODUCTION!I22+LABO!I22+COMPTA!I22=0,"",COMMERCIAUX!I22+MAINTENANCE!I22+ADV!I22+'R&D'!I22+RECEPTION!I22+DIRECTION!I22+EMBALLAGE!I22+MARKETING!I22+EXPEDITION!I22+QUALITE!I22+ACCUEIL!I22+PRODUCTION!I22+LABO!I22+COMPTA!I22+UCIA!I22) | ... M22: =IF(COMMERCIAUX!M22+MAINTENANCE!M22+ADV!M22+'R&D'!M22+RECEPTION!M22+DIRECTION!M22+EMBALLAGE!M22+MARKETING!M22+EXPEDITION!M22+QUALITE!M22+ACCUEIL!M22+PRODUCTION!M22+LABO!M22+COMPTA!M22=0,"",COMMERCIAUX!M22+MAINTENANCE!M22+ADV!M22+'R&D'!M22+RECEPTION!M22+DIRECTION!M22+EMBALLAGE!M22+MARKETING!M22+EXPEDITION!M22+QUALITE!M22+ACCUEIL!M22+PRODUCTION!M22+LABO!M22+COMPTA!M22+UCIA!M22) | O22: =IF(SUM(B22:M22)=0,"",SUM(B22:M22)) -> 2 | P22: =IF(DIRECTION!N22=0,"",DIRECTION!N22) | Q22: =IF(COMPTA!N22=0,"",COMPTA!N22) | R22: =IF(ACCUEIL!N22=0,"",ACCUEIL!N22) | S22: =IF(ADV!N22=0,"",ADV!N22) | T22: =IF(COMMERCIAUX!N22=0,"",COMMERCIAUX!N22) | U22: =IF(MARKETING!N22=0,"",MARKETING!N22) | V22: =IF(MAINTENANCE!N22=0,"",MAINTENANCE!N22) | W22: =IF(PRODUCTION!N22=0,"",PRODUCTION!N22) | X22: =IF(EMBALLAGE!N22=0,"",EMBALLAGE!N22) -> 2 | Y22: =IF(EXPEDITION!N22=0,"",EXPEDITION!N22) | Z22: =IF(RECEPTION!N22=0,"",RECEPTION!N22) | AA22: =IF(LABO!N22=0,"",LABO!N22) | AB22: =IF('R&D'!N22=0,"",'R&D'!N22) | AC22: =IF(QUALITE!N22=0,"",QUALITE!N22) | AD22: =IF(UCIA!N22=0,"",UCIA!N22)
A23: Cadenas | B23: =IF(COMMERCIAUX!B23+MAINTENANCE!B23+ADV!B23+'R&D'!B23+RECEPTION!B23+DIRECTION!B23+EMBALLAGE!B23+MARKETING!B23+EXPEDITION!B23+QUALITE!B23+ACCUEIL!B23+PRODUCTION!B23+LABO!B23+COMPTA!B23=0,"",COMMERCIAUX!B23+MAINTENANCE!B23+ADV!B23+'R&D'!B23+RECEPTION!B23+DIRECTION!B23+EMBALLAGE!B23+MARKETING!B23+EXPEDITION!B23+QUALITE!B23+ACCUEIL!B23+PRODUCTION!B23+LABO!B23+COMPTA!B23+UCIA!B23) | C23: =IF(COMMERCIAUX!C23+MAINTENANCE!C23+ADV!C23+'R&D'!C23+RECEPTION!C23+DIRECTION!C23+EMBALLAGE!C23+MARKETING!C23+EXPEDITION!C23+QUALITE!C23+ACCUEIL!C23+PRODUCTION!C23+LABO!C23+COMPTA!C23=0,"",COMMERCIAUX!C23+MAINTENANCE!C23+ADV!C23+'R&D'!C23+RECEPTION!C23+DIRECTION!C23+EMBALLAGE!C23+MARKETING!C23+EXPEDITION!C23+QUALITE!C23+ACCUEIL!C23+PRODUCTION!C23+LABO!C23+COMPTA!C23+UCIA!C23) | D23: =IF(COMMERCIAUX!D23+MAINTENANCE!D23+ADV!D23+'R&D'!D23+RECEPTION!D23+DIRECTION!D23+EMBALLAGE!D23+MARKETING!D23+EXPEDITION!D23+QUALITE!D23+ACCUEIL!D23+PRODUCTION!D23+LABO!D23+COMPTA!D23=0,"",COMMERCIAUX!D23+MAINTENANCE!D23+ADV!D23+'R&D'!D23+RECEPTION!D23+DIRECTION!D23+EMBALLAGE!D23+MARKETING!D23+EXPEDITION!D23+QUALITE!D23+ACCUEIL!D23+PRODUCTION!D23+LABO!D23+COMPTA!D23+UCIA!D23) | E23: =IF(COMMERCIAUX!E23+MAINTENANCE!E23+ADV!E23+'R&D'!E23+RECEPTION!E23+DIRECTION!E23+EMBALLAGE!E23+MARKETING!E23+EXPEDITION!E23+QUALITE!E23+ACCUEIL!E23+PRODUCTION!E23+LABO!E23+COMPTA!E23=0,"",COMMERCIAUX!E23+MAINTENANCE!E23+ADV!E23+'R&D'!E23+RECEPTION!E23+DIRECTION!E23+EMBALLAGE!E23+MARKETING!E23+EXPEDITION!E23+QUALITE!E23+ACCUEIL!E23+PRODUCTION!E23+LABO!E23+COMPTA!E23+UCIA!E23) | F23: =IF(COMMERCIAUX!F23+MAINTENANCE!F23+ADV!F23+'R&D'!F23+RECEPTION!F23+DIRECTION!F23+EMBALLAGE!F23+MARKETING!F23+EXPEDITION!F23+QUALITE!F23+ACCUEIL!F23+PRODUCTION!F23+LABO!F23+COMPTA!F23=0,"",COMMERCIAUX!F23+MAINTENANCE!F23+ADV!F23+'R&D'!F23+RECEPTION!F23+DIRECTION!F23+EMBALLAGE!F23+MARKETING!F23+EXPEDITION!F23+QUALITE!F23+ACCUEIL!F23+PRODUCTION!F23+LABO!F23+COMPTA!F23+UCIA!F23) | G23: =IF(COMMERCIAUX!G23+MAINTENANCE!G23+ADV!G23+'R&D'!G23+RECEPTION!G23+DIRECTION!G23+EMBALLAGE!G23+MARKETING!G23+EXPEDITION!G23+QUALITE!G23+ACCUEIL!G23+PRODUCTION!G23+LABO!G23+COMPTA!G23=0,"",COMMERCIAUX!G23+MAINTENANCE!G23+ADV!G23+'R&D'!G23+RECEPTION!G23+DIRECTION!G23+EMBALLAGE!G23+MARKETING!G23+EXPEDITION!G23+QUALITE!G23+ACCUEIL!G23+PRODUCTION!G23+LABO!G23+COMPTA!G23+UCIA!G23) | H23: =IF(COMMERCIAUX!H23+MAINTENANCE!H23+ADV!H23+'R&D'!H23+RECEPTION!H23+DIRECTION!H23+EMBALLAGE!H23+MARKETING!H23+EXPEDITION!H23+QUALITE!H23+ACCUEIL!H23+PRODUCTION!H23+LABO!H23+COMPTA!H23=0,"",COMMERCIAUX!H23+MAINTENANCE!H23+ADV!H23+'R&D'!H23+RECEPTION!H23+DIRECTION!H23+EMBALLAGE!H23+MARKETING!H23+EXPEDITION!H23+QUALITE!H23+ACCUEIL!H23+PRODUCTION!H23+LABO!H23+COMPTA!H23+UCIA!H23) | I23: =IF(COMMERCIAUX!I23+MAINTENANCE!I23+ADV!I23+'R&D'!I23+RECEPTION!I23+DIRECTION!I23+EMBALLAGE!I23+MARKETING!I23+EXPEDITION!I23+QUALITE!I23+ACCUEIL!I23+PRODUCTION!I23+LABO!I23+COMPTA!I23=0,"",COMMERCIAUX!I23+MAINTENANCE!I23+ADV!I23+'R&D'!I23+RECEPTION!I23+DIRECTION!I23+EMBALLAGE!I23+MARKETING!I23+EXPEDITION!I23+QUALITE!I23+ACCUEIL!I23+PRODUCTION!I23+LABO!I23+COMPTA!I23+UCIA!I23) | ... M23: =IF(COMMERCIAUX!M23+MAINTENANCE!M23+ADV!M23+'R&D'!M23+RECEPTION!M23+DIRECTION!M23+EMBALLAGE!M23+MARKETING!M23+EXPEDITION!M23+QUALITE!M23+ACCUEIL!M23+PRODUCTION!M23+LABO!M23+COMPTA!M23=0,"",COMMERCIAUX!M23+MAINTENANCE!M23+ADV!M23+'R&D'!M23+RECEPTION!M23+DIRECTION!M23+EMBALLAGE!M23+MARKETING!M23+EXPEDITION!M23+QUALITE!M23+ACCUEIL!M23+PRODUCTION!M23+LABO!M23+COMPTA!M23+UCIA!M23) | O23: =IF(SUM(B23:M23)=0,"",SUM(B23:M23)) | P23: =IF(DIRECTION!N23=0,"",DIRECTION!N23) | Q23: =IF(COMPTA!N23=0,"",COMPTA!N23) | R23: =IF(ACCUEIL!N23=0,"",ACCUEIL!N23) | S23: =IF(ADV!N23=0,"",ADV!N23) | T23: =IF(COMMERCIAUX!N23=0,"",COMMERCIAUX!N23) | U23: =IF(MARKETING!N23=0,"",MARKETING!N23) | V23: =IF(MAINTENANCE!N23=0,"",MAINTENANCE!N23) | W23: =IF(PRODUCTION!N23=0,"",PRODUCTION!N23) | X23: =IF(EMBALLAGE!N23=0,"",EMBALLAGE!N23) | Y23: =IF(EXPEDITION!N23=0,"",EXPEDITION!N23) | Z23: =IF(RECEPTION!N23=0,"",RECEPTION!N23) | AA23: =IF(LABO!N23=0,"",LABO!N23) | AB23: =IF('R&D'!N23=0,"",'R&D'!N23) | AC23: =IF(QUALITE!N23=0,"",QUALITE!N23) | AD23: =IF(UCIA!N23=0,"",UCIA!N23)
A24: Cahier tout format | B24: =IF(COMMERCIAUX!B24+MAINTENANCE!B24+ADV!B24+'R&D'!B24+RECEPTION!B24+DIRECTION!B24+EMBALLAGE!B24+MARKETING!B24+EXPEDITION!B24+QUALITE!B24+ACCUEIL!B24+PRODUCTION!B24+LABO!B24+COMPTA!B24=0,"",COMMERCIAUX!B24+MAINTENANCE!B24+ADV!B24+'R&D'!B24+RECEPTION!B24+DIRECTION!B24+EMBALLAGE!B24+MARKETING!B24+EXPEDITION!B24+QUALITE!B24+ACCUEIL!B24+PRODUCTION!B24+LABO!B24+COMPTA!B24+UCIA!B24) | C24: =IF(COMMERCIAUX!C24+MAINTENANCE!C24+ADV!C24+'R&D'!C24+RECEPTION!C24+DIRECTION!C24+EMBALLAGE!C24+MARKETING!C24+EXPEDITION!C24+QUALITE!C24+ACCUEIL!C24+PRODUCTION!C24+LABO!C24+COMPTA!C24=0,"",COMMERCIAUX!C24+MAINTENANCE!C24+ADV!C24+'R&D'!C24+RECEPTION!C24+DIRECTION!C24+EMBALLAGE!C24+MARKETING!C24+EXPEDITION!C24+QUALITE!C24+ACCUEIL!C24+PRODUCTION!C24+LABO!C24+COMPTA!C24+UCIA!C24) | D24: =IF(COMMERCIAUX!D24+MAINTENANCE!D24+ADV!D24+'R&D'!D24+RECEPTION!D24+DIRECTION!D24+EMBALLAGE!D24+MARKETING!D24+EXPEDITION!D24+QUALITE!D24+ACCUEIL!D24+PRODUCTION!D24+LABO!D24+COMPTA!D24=0,"",COMMERCIAUX!D24+MAINTENANCE!D24+ADV!D24+'R&D'!D24+RECEPTION!D24+DIRECTION!D24+EMBALLAGE!D24+MARKETING!D24+EXPEDITION!D24+QUALITE!D24+ACCUEIL!D24+PRODUCTION!D24+LABO!D24+COMPTA!D24+UCIA!D24) | E24: =IF(COMMERCIAUX!E24+MAINTENANCE!E24+ADV!E24+'R&D'!E24+RECEPTION!E24+DIRECTION!E24+EMBALLAGE!E24+MARKETING!E24+EXPEDITION!E24+QUALITE!E24+ACCUEIL!E24+PRODUCTION!E24+LABO!E24+COMPTA!E24=0,"",COMMERCIAUX!E24+MAINTENANCE!E24+ADV!E24+'R&D'!E24+RECEPTION!E24+DIRECTION!E24+EMBALLAGE!E24+MARKETING!E24+EXPEDITION!E24+QUALITE!E24+ACCUEIL!E24+PRODUCTION!E24+LABO!E24+COMPTA!E24+UCIA!E24) | F24: =IF(COMMERCIAUX!F24+MAINTENANCE!F24+ADV!F24+'R&D'!F24+RECEPTION!F24+DIRECTION!F24+EMBALLAGE!F24+MARKETING!F24+EXPEDITION!F24+QUALITE!F24+ACCUEIL!F24+PRODUCTION!F24+LABO!F24+COMPTA!F24=0,"",COMMERCIAUX!F24+MAINTENANCE!F24+ADV!F24+'R&D'!F24+RECEPTION!F24+DIRECTION!F24+EMBALLAGE!F24+MARKETING!F24+EXPEDITION!F24+QUALITE!F24+ACCUEIL!F24+PRODUCTION!F24+LABO!F24+COMPTA!F24+UCIA!F24) | G24: =IF(COMMERCIAUX!G24+MAINTENANCE!G24+ADV!G24+'R&D'!G24+RECEPTION!G24+DIRECTION!G24+EMBALLAGE!G24+MARKETING!G24+EXPEDITION!G24+QUALITE!G24+ACCUEIL!G24+PRODUCTION!G24+LABO!G24+COMPTA!G24=0,"",COMMERCIAUX!G24+MAINTENANCE!G24+ADV!G24+'R&D'!G24+RECEPTION!G24+DIRECTION!G24+EMBALLAGE!G24+MARKETING!G24+EXPEDITION!G24+QUALITE!G24+ACCUEIL!G24+PRODUCTION!G24+LABO!G24+COMPTA!G24+UCIA!G24) -> 4 | H24: =IF(COMMERCIAUX!H24+MAINTENANCE!H24+ADV!H24+'R&D'!H24+RECEPTION!H24+DIRECTION!H24+EMBALLAGE!H24+MARKETING!H24+EXPEDITION!H24+QUALITE!H24+ACCUEIL!H24+PRODUCTION!H24+LABO!H24+COMPTA!H24=0,"",COMMERCIAUX!H24+MAINTENANCE!H24+ADV!H24+'R&D'!H24+RECEPTION!H24+DIRECTION!H24+EMBALLAGE!H24+MARKETING!H24+EXPEDITION!H24+QUALITE!H24+ACCUEIL!H24+PRODUCTION!H24+LABO!H24+COMPTA!H24+UCIA!H24) -> 11 | I24: =IF(COMMERCIAUX!I24+MAINTENANCE!I24+ADV!I24+'R&D'!I24+RECEPTION!I24+DIRECTION!I24+EMBALLAGE!I24+MARKETING!I24+EXPEDITION!I24+QUALITE!I24+ACCUEIL!I24+PRODUCTION!I24+LABO!I24+COMPTA!I24=0,"",COMMERCIAUX!I24+MAINTENANCE!I24+ADV!I24+'R&D'!I24+RECEPTION!I24+DIRECTION!I24+EMBALLAGE!I24+MARKETING!I24+EXPEDITION!I24+QUALITE!I24+ACCUEIL!I24+PRODUCTION!I24+LABO!I24+COMPTA!I24+UCIA!I24) | ... M24: =IF(COMMERCIAUX!M24+MAINTENANCE!M24+ADV!M24+'R&D'!M24+RECEPTION!M24+DIRECTION!M24+EMBALLAGE!M24+MARKETING!M24+EXPEDITION!M24+QUALITE!M24+ACCUEIL!M24+PRODUCTION!M24+LABO!M24+COMPTA!M24=0,"",COMMERCIAUX!M24+MAINTENANCE!M24+ADV!M24+'R&D'!M24+RECEPTION!M24+DIRECTION!M24+EMBALLAGE!M24+MARKETING!M24+EXPEDITION!M24+QUALITE!M24+ACCUEIL!M24+PRODUCTION!M24+LABO!M24+COMPTA!M24+UCIA!M24) | O24: =IF(SUM(B24:M24)=0,"",SUM(B24:M24)) -> 15 | P24: =IF(DIRECTION!N24=0,"",DIRECTION!N24) -> 2 | Q24: =IF(COMPTA!N24=0,"",COMPTA!N24) | R24: =IF(ACCUEIL!N24=0,"",ACCUEIL!N24) -> 2 | S24: =IF(ADV!N24=0,"",ADV!N24) -> 1 | T24: =IF(COMMERCIAUX!N24=0,"",COMMERCIAUX!N24) -> 3 | U24: =IF(MARKETING!N24=0,"",MARKETING!N24) -> 1 | V24: =IF(MAINTENANCE!N24=0,"",MAINTENANCE!N24) -> 5 | W24: =IF(PRODUCTION!N24=0,"",PRODUCTION!N24) | X24: =IF(EMBALLAGE!N24=0,"",EMBALLAGE!N24) | Y24: =IF(EXPEDITION!N24=0,"",EXPEDITION!N24) | Z24: =IF(RECEPTION!N24=0,"",RECEPTION!N24) | AA24: =IF(LABO!N24=0,"",LABO!N24) -> 1 | AB24: =IF('R&D'!N24=0,"",'R&D'!N24) | AC24: =IF(QUALITE!N24=0,"",QUALITE!N24) | AD24: =IF(UCIA!N24=0,"",UCIA!N24)
A25: Calculatrice | B25: =IF(COMMERCIAUX!B25+MAINTENANCE!B25+ADV!B25+'R&D'!B25+RECEPTION!B25+DIRECTION!B25+EMBALLAGE!B25+MARKETING!B25+EXPEDITION!B25+QUALITE!B25+ACCUEIL!B25+PRODUCTION!B25+LABO!B25+COMPTA!B25=0,"",COMMERCIAUX!B25+MAINTENANCE!B25+ADV!B25+'R&D'!B25+RECEPTION!B25+DIRECTION!B25+EMBALLAGE!B25+MARKETING!B25+EXPEDITION!B25+QUALITE!B25+ACCUEIL!B25+PRODUCTION!B25+LABO!B25+COMPTA!B25+UCIA!B25) | C25: =IF(COMMERCIAUX!C25+MAINTENANCE!C25+ADV!C25+'R&D'!C25+RECEPTION!C25+DIRECTION!C25+EMBALLAGE!C25+MARKETING!C25+EXPEDITION!C25+QUALITE!C25+ACCUEIL!C25+PRODUCTION!C25+LABO!C25+COMPTA!C25=0,"",COMMERCIAUX!C25+MAINTENANCE!C25+ADV!C25+'R&D'!C25+RECEPTION!C25+DIRECTION!C25+EMBALLAGE!C25+MARKETING!C25+EXPEDITION!C25+QUALITE!C25+ACCUEIL!C25+PRODUCTION!C25+LABO!C25+COMPTA!C25+UCIA!C25) | D25: =IF(COMMERCIAUX!D25+MAINTENANCE!D25+ADV!D25+'R&D'!D25+RECEPTION!D25+DIRECTION!D25+EMBALLAGE!D25+MARKETING!D25+EXPEDITION!D25+QUALITE!D25+ACCUEIL!D25+PRODUCTION!D25+LABO!D25+COMPTA!D25=0,"",COMMERCIAUX!D25+MAINTENANCE!D25+ADV!D25+'R&D'!D25+RECEPTION!D25+DIRECTION!D25+EMBALLAGE!D25+MARKETING!D25+EXPEDITION!D25+QUALITE!D25+ACCUEIL!D25+PRODUCTION!D25+LABO!D25+COMPTA!D25+UCIA!D25) | E25: =IF(COMMERCIAUX!E25+MAINTENANCE!E25+ADV!E25+'R&D'!E25+RECEPTION!E25+DIRECTION!E25+EMBALLAGE!E25+MARKETING!E25+EXPEDITION!E25+QUALITE!E25+ACCUEIL!E25+PRODUCTION!E25+LABO!E25+COMPTA!E25=0,"",COMMERCIAUX!E25+MAINTENANCE!E25+ADV!E25+'R&D'!E25+RECEPTION!E25+DIRECTION!E25+EMBALLAGE!E25+MARKETING!E25+EXPEDITION!E25+QUALITE!E25+ACCUEIL!E25+PRODUCTION!E25+LABO!E25+COMPTA!E25+UCIA!E25) | F25: =IF(COMMERCIAUX!F25+MAINTENANCE!F25+ADV!F25+'R&D'!F25+RECEPTION!F25+DIRECTION!F25+EMBALLAGE!F25+MARKETING!F25+EXPEDITION!F25+QUALITE!F25+ACCUEIL!F25+PRODUCTION!F25+LABO!F25+COMPTA!F25=0,"",COMMERCIAUX!F25+MAINTENANCE!F25+ADV!F25+'R&D'!F25+RECEPTION!F25+DIRECTION!F25+EMBALLAGE!F25+MARKETING!F25+EXPEDITION!F25+QUALITE!F25+ACCUEIL!F25+PRODUCTION!F25+LABO!F25+COMPTA!F25+UCIA!F25) | G25: =IF(COMMERCIAUX!G25+MAINTENANCE!G25+ADV!G25+'R&D'!G25+RECEPTION!G25+DIRECTION!G25+EMBALLAGE!G25+MARKETING!G25+EXPEDITION!G25+QUALITE!G25+ACCUEIL!G25+PRODUCTION!G25+LABO!G25+COMPTA!G25=0,"",COMMERCIAUX!G25+MAINTENANCE!G25+ADV!G25+'R&D'!G25+RECEPTION!G25+DIRECTION!G25+EMBALLAGE!G25+MARKETING!G25+EXPEDITION!G25+QUALITE!G25+ACCUEIL!G25+PRODUCTION!G25+LABO!G25+COMPTA!G25+UCIA!G25) -> 1 | H25: =IF(COMMERCIAUX!H25+MAINTENANCE!H25+ADV!H25+'R&D'!H25+RECEPTION!H25+DIRECTION!H25+EMBALLAGE!H25+MARKETING!H25+EXPEDITION!H25+QUALITE!H25+ACCUEIL!H25+PRODUCTION!H25+LABO!H25+COMPTA!H25=0,"",COMMERCIAUX!H25+MAINTENANCE!H25+ADV!H25+'R&D'!H25+RECEPTION!H25+DIRECTION!H25+EMBALLAGE!H25+MARKETING!H25+EXPEDITION!H25+QUALITE!H25+ACCUEIL!H25+PRODUCTION!H25+LABO!H25+COMPTA!H25+UCIA!H25) -> 1 | I25: =IF(COMMERCIAUX!I25+MAINTENANCE!I25+ADV!I25+'R&D'!I25+RECEPTION!I25+DIRECTION!I25+EMBALLAGE!I25+MARKETING!I25+EXPEDITION!I25+QUALITE!I25+ACCUEIL!I25+PRODUCTION!I25+LABO!I25+COMPTA!I25=0,"",COMMERCIAUX!I25+MAINTENANCE!I25+ADV!I25+'R&D'!I25+RECEPTION!I25+DIRECTION!I25+EMBALLAGE!I25+MARKETING!I25+EXPEDITION!I25+QUALITE!I25+ACCUEIL!I25+PRODUCTION!I25+LABO!I25+COMPTA!I25+UCIA!I25) -> 1 | ... M25: =IF(COMMERCIAUX!M25+MAINTENANCE!M25+ADV!M25+'R&D'!M25+RECEPTION!M25+DIRECTION!M25+EMBALLAGE!M25+MARKETING!M25+EXPEDITION!M25+QUALITE!M25+ACCUEIL!M25+PRODUCTION!M25+LABO!M25+COMPTA!M25=0,"",COMMERCIAUX!M25+MAINTENANCE!M25+ADV!M25+'R&D'!M25+RECEPTION!M25+DIRECTION!M25+EMBALLAGE!M25+MARKETING!M25+EXPEDITION!M25+QUALITE!M25+ACCUEIL!M25+PRODUCTION!M25+LABO!M25+COMPTA!M25+UCIA!M25) | O25: =IF(SUM(B25:M25)=0,"",SUM(B25:M25)) -> 3 | P25: =IF(DIRECTION!N25=0,"",DIRECTION!N25) | Q25: =IF(COMPTA!N25=0,"",COMPTA!N25) | R25: =IF(ACCUEIL!N25=0,"",ACCUEIL!N25) | S25: =IF(ADV!N25=0,"",ADV!N25) | T25: =IF(COMMERCIAUX!N25=0,"",COMMERCIAUX!N25) -> 1 | U25: =IF(MARKETING!N25=0,"",MARKETING!N25) | V25: =IF(MAINTENANCE!N25=0,"",MAINTENANCE!N25) | W25: =IF(PRODUCTION!N25=0,"",PRODUCTION!N25) -> 2 | X25: =IF(EMBALLAGE!N25=0,"",EMBALLAGE!N25) | Y25: =IF(EXPEDITION!N25=0,"",EXPEDITION!N25) | Z25: =IF(RECEPTION!N25=0,"",RECEPTION!N25) | AA25: =IF(LABO!N25=0,"",LABO!N25) | AB25: =IF('R&D'!N25=0,"",'R&D'!N25) | AC25: =IF(QUALITE!N25=0,"",QUALITE!N25) | AD25: =IF(UCIA!N25=0,"",UCIA!N25)
A26: Chemises | B26: =IF(COMMERCIAUX!B26+MAINTENANCE!B26+ADV!B26+'R&D'!B26+RECEPTION!B26+DIRECTION!B26+EMBALLAGE!B26+MARKETING!B26+EXPEDITION!B26+QUALITE!B26+ACCUEIL!B26+PRODUCTION!B26+LABO!B26+COMPTA!B26=0,"",COMMERCIAUX!B26+MAINTENANCE!B26+ADV!B26+'R&D'!B26+RECEPTION!B26+DIRECTION!B26+EMBALLAGE!B26+MARKETING!B26+EXPEDITION!B26+QUALITE!B26+ACCUEIL!B26+PRODUCTION!B26+LABO!B26+COMPTA!B26+UCIA!B26) | C26: =IF(COMMERCIAUX!C26+MAINTENANCE!C26+ADV!C26+'R&D'!C26+RECEPTION!C26+DIRECTION!C26+EMBALLAGE!C26+MARKETING!C26+EXPEDITION!C26+QUALITE!C26+ACCUEIL!C26+PRODUCTION!C26+LABO!C26+COMPTA!C26=0,"",COMMERCIAUX!C26+MAINTENANCE!C26+ADV!C26+'R&D'!C26+RECEPTION!C26+DIRECTION!C26+EMBALLAGE!C26+MARKETING!C26+EXPEDITION!C26+QUALITE!C26+ACCUEIL!C26+PRODUCTION!C26+LABO!C26+COMPTA!C26+UCIA!C26) | D26: =IF(COMMERCIAUX!D26+MAINTENANCE!D26+ADV!D26+'R&D'!D26+RECEPTION!D26+DIRECTION!D26+EMBALLAGE!D26+MARKETING!D26+EXPEDITION!D26+QUALITE!D26+ACCUEIL!D26+PRODUCTION!D26+LABO!D26+COMPTA!D26=0,"",COMMERCIAUX!D26+MAINTENANCE!D26+ADV!D26+'R&D'!D26+RECEPTION!D26+DIRECTION!D26+EMBALLAGE!D26+MARKETING!D26+EXPEDITION!D26+QUALITE!D26+ACCUEIL!D26+PRODUCTION!D26+LABO!D26+COMPTA!D26+UCIA!D26) | E26: =IF(COMMERCIAUX!E26+MAINTENANCE!E26+ADV!E26+'R&D'!E26+RECEPTION!E26+DIRECTION!E26+EMBALLAGE!E26+MARKETING!E26+EXPEDITION!E26+QUALITE!E26+ACCUEIL!E26+PRODUCTION!E26+LABO!E26+COMPTA!E26=0,"",COMMERCIAUX!E26+MAINTENANCE!E26+ADV!E26+'R&D'!E26+RECEPTION!E26+DIRECTION!E26+EMBALLAGE!E26+MARKETING!E26+EXPEDITION!E26+QUALITE!E26+ACCUEIL!E26+PRODUCTION!E26+LABO!E26+COMPTA!E26+UCIA!E26) | F26: =IF(COMMERCIAUX!F26+MAINTENANCE!F26+ADV!F26+'R&D'!F26+RECEPTION!F26+DIRECTION!F26+EMBALLAGE!F26+MARKETING!F26+EXPEDITION!F26+QUALITE!F26+ACCUEIL!F26+PRODUCTION!F26+LABO!F26+COMPTA!F26=0,"",COMMERCIAUX!F26+MAINTENANCE!F26+ADV!F26+'R&D'!F26+RECEPTION!F26+DIRECTION!F26+EMBALLAGE!F26+MARKETING!F26+EXPEDITION!F26+QUALITE!F26+ACCUEIL!F26+PRODUCTION!F26+LABO!F26+COMPTA!F26+UCIA!F26) | G26: =IF(COMMERCIAUX!G26+MAINTENANCE!G26+ADV!G26+'R&D'!G26+RECEPTION!G26+DIRECTION!G26+EMBALLAGE!G26+MARKETING!G26+EXPEDITION!G26+QUALITE!G26+ACCUEIL!G26+PRODUCTION!G26+LABO!G26+COMPTA!G26=0,"",COMMERCIAUX!G26+MAINTENANCE!G26+ADV!G26+'R&D'!G26+RECEPTION!G26+DIRECTION!G26+EMBALLAGE!G26+MARKETING!G26+EXPEDITION!G26+QUALITE!G26+ACCUEIL!G26+PRODUCTION!G26+LABO!G26+COMPTA!G26+UCIA!G26) -> 38 | H26: =IF(COMMERCIAUX!H26+MAINTENANCE!H26+ADV!H26+'R&D'!H26+RECEPTION!H26+DIRECTION!H26+EMBALLAGE!H26+MARKETING!H26+EXPEDITION!H26+QUALITE!H26+ACCUEIL!H26+PRODUCTION!H26+LABO!H26+COMPTA!H26=0,"",COMMERCIAUX!H26+MAINTENANCE!H26+ADV!H26+'R&D'!H26+RECEPTION!H26+DIRECTION!H26+EMBALLAGE!H26+MARKETING!H26+EXPEDITION!H26+QUALITE!H26+ACCUEIL!H26+PRODUCTION!H26+LABO!H26+COMPTA!H26+UCIA!H26) -> 1 | I26: =IF(COMMERCIAUX!I26+MAINTENANCE!I26+ADV!I26+'R&D'!I26+RECEPTION!I26+DIRECTION!I26+EMBALLAGE!I26+MARKETING!I26+EXPEDITION!I26+QUALITE!I26+ACCUEIL!I26+PRODUCTION!I26+LABO!I26+COMPTA!I26=0,"",COMMERCIAUX!I26+MAINTENANCE!I26+ADV!I26+'R&D'!I26+RECEPTION!I26+DIRECTION!I26+EMBALLAGE!I26+MARKETING!I26+EXPEDITION!I26+QUALITE!I26+ACCUEIL!I26+PRODUCTION!I26+LABO!I26+COMPTA!I26+UCIA!I26) | ... M26: =IF(COMMERCIAUX!M26+MAINTENANCE!M26+ADV!M26+'R&D'!M26+RECEPTION!M26+DIRECTION!M26+EMBALLAGE!M26+MARKETING!M26+EXPEDITION!M26+QUALITE!M26+ACCUEIL!M26+PRODUCTION!M26+LABO!M26+COMPTA!M26=0,"",COMMERCIAUX!M26+MAINTENANCE!M26+ADV!M26+'R&D'!M26+RECEPTION!M26+DIRECTION!M26+EMBALLAGE!M26+MARKETING!M26+EXPEDITION!M26+QUALITE!M26+ACCUEIL!M26+PRODUCTION!M26+LABO!M26+COMPTA!M26+UCIA!M26) | N26: paquet | O26: =IF(SUM(B26:M26)=0,"",SUM(B26:M26)) -> 39 | P26: =IF(DIRECTION!N26=0,"",DIRECTION!N26) | Q26: =IF(COMPTA!N26=0,"",COMPTA!N26) -> 5 | R26: =IF(ACCUEIL!N26=0,"",ACCUEIL!N26) | S26: =IF(ADV!N26=0,"",ADV!N26) -> 6 | T26: =IF(COMMERCIAUX!N26=0,"",COMMERCIAUX!N26) -> 25 | U26: =IF(MARKETING!N26=0,"",MARKETING!N26) | V26: =IF(MAINTENANCE!N26=0,"",MAINTENANCE!N26) -> 3 | W26: =IF(PRODUCTION!N26=0,"",PRODUCTION!N26) | X26: =IF(EMBALLAGE!N26=0,"",EMBALLAGE!N26) | Y26: =IF(EXPEDITION!N26=0,"",EXPEDITION!N26) | Z26: =IF(RECEPTION!N26=0,"",RECEPTION!N26) | AA26: =IF(LABO!N26=0,"",LABO!N26) | AB26: =IF('R&D'!N26=0,"",'R&D'!N26) | AC26: =IF(QUALITE!N26=0,"",QUALITE!N26) | AD26: =IF(UCIA!N26=0,"",UCIA!N26)
A27: Chemises trapec | B27: =IF(COMMERCIAUX!B27+MAINTENANCE!B27+ADV!B27+'R&D'!B27+RECEPTION!B27+DIRECTION!B27+EMBALLAGE!B27+MARKETING!B27+EXPEDITION!B27+QUALITE!B27+ACCUEIL!B27+PRODUCTION!B27+LABO!B27+COMPTA!B27=0,"",COMMERCIAUX!B27+MAINTENANCE!B27+ADV!B27+'R&D'!B27+RECEPTION!B27+DIRECTION!B27+EMBALLAGE!B27+MARKETING!B27+EXPEDITION!B27+QUALITE!B27+ACCUEIL!B27+PRODUCTION!B27+LABO!B27+COMPTA!B27+UCIA!B27) | C27: =IF(COMMERCIAUX!C27+MAINTENANCE!C27+ADV!C27+'R&D'!C27+RECEPTION!C27+DIRECTION!C27+EMBALLAGE!C27+MARKETING!C27+EXPEDITION!C27+QUALITE!C27+ACCUEIL!C27+PRODUCTION!C27+LABO!C27+COMPTA!C27=0,"",COMMERCIAUX!C27+MAINTENANCE!C27+ADV!C27+'R&D'!C27+RECEPTION!C27+DIRECTION!C27+EMBALLAGE!C27+MARKETING!C27+EXPEDITION!C27+QUALITE!C27+ACCUEIL!C27+PRODUCTION!C27+LABO!C27+COMPTA!C27+UCIA!C27) | D27: =IF(COMMERCIAUX!D27+MAINTENANCE!D27+ADV!D27+'R&D'!D27+RECEPTION!D27+DIRECTION!D27+EMBALLAGE!D27+MARKETING!D27+EXPEDITION!D27+QUALITE!D27+ACCUEIL!D27+PRODUCTION!D27+LABO!D27+COMPTA!D27=0,"",COMMERCIAUX!D27+MAINTENANCE!D27+ADV!D27+'R&D'!D27+RECEPTION!D27+DIRECTION!D27+EMBALLAGE!D27+MARKETING!D27+EXPEDITION!D27+QUALITE!D27+ACCUEIL!D27+PRODUCTION!D27+LABO!D27+COMPTA!D27+UCIA!D27) | E27: =IF(COMMERCIAUX!E27+MAINTENANCE!E27+ADV!E27+'R&D'!E27+RECEPTION!E27+DIRECTION!E27+EMBALLAGE!E27+MARKETING!E27+EXPEDITION!E27+QUALITE!E27+ACCUEIL!E27+PRODUCTION!E27+LABO!E27+COMPTA!E27=0,"",COMMERCIAUX!E27+MAINTENANCE!E27+ADV!E27+'R&D'!E27+RECEPTION!E27+DIRECTION!E27+EMBALLAGE!E27+MARKETING!E27+EXPEDITION!E27+QUALITE!E27+ACCUEIL!E27+PRODUCTION!E27+LABO!E27+COMPTA!E27+UCIA!E27) | F27: =IF(COMMERCIAUX!F27+MAINTENANCE!F27+ADV!F27+'R&D'!F27+RECEPTION!F27+DIRECTION!F27+EMBALLAGE!F27+MARKETING!F27+EXPEDITION!F27+QUALITE!F27+ACCUEIL!F27+PRODUCTION!F27+LABO!F27+COMPTA!F27=0,"",COMMERCIAUX!F27+MAINTENANCE!F27+ADV!F27+'R&D'!F27+RECEPTION!F27+DIRECTION!F27+EMBALLAGE!F27+MARKETING!F27+EXPEDITION!F27+QUALITE!F27+ACCUEIL!F27+PRODUCTION!F27+LABO!F27+COMPTA!F27+UCIA!F27) | G27: =IF(COMMERCIAUX!G27+MAINTENANCE!G27+ADV!G27+'R&D'!G27+RECEPTION!G27+DIRECTION!G27+EMBALLAGE!G27+MARKETING!G27+EXPEDITION!G27+QUALITE!G27+ACCUEIL!G27+PRODUCTION!G27+LABO!G27+COMPTA!G27=0,"",COMMERCIAUX!G27+MAINTENANCE!G27+ADV!G27+'R&D'!G27+RECEPTION!G27+DIRECTION!G27+EMBALLAGE!G27+MARKETING!G27+EXPEDITION!G27+QUALITE!G27+ACCUEIL!G27+PRODUCTION!G27+LABO!G27+COMPTA!G27+UCIA!G27) | H27: =IF(COMMERCIAUX!H27+MAINTENANCE!H27+ADV!H27+'R&D'!H27+RECEPTION!H27+DIRECTION!H27+EMBALLAGE!H27+MARKETING!H27+EXPEDITION!H27+QUALITE!H27+ACCUEIL!H27+PRODUCTION!H27+LABO!H27+COMPTA!H27=0,"",COMMERCIAUX!H27+MAINTENANCE!H27+ADV!H27+'R&D'!H27+RECEPTION!H27+DIRECTION!H27+EMBALLAGE!H27+MARKETING!H27+EXPEDITION!H27+QUALITE!H27+ACCUEIL!H27+PRODUCTION!H27+LABO!H27+COMPTA!H27+UCIA!H27) -> 2 | I27: =IF(COMMERCIAUX!I27+MAINTENANCE!I27+ADV!I27+'R&D'!I27+RECEPTION!I27+DIRECTION!I27+EMBALLAGE!I27+MARKETING!I27+EXPEDITION!I27+QUALITE!I27+ACCUEIL!I27+PRODUCTION!I27+LABO!I27+COMPTA!I27=0,"",COMMERCIAUX!I27+MAINTENANCE!I27+ADV!I27+'R&D'!I27+RECEPTION!I27+DIRECTION!I27+EMBALLAGE!I27+MARKETING!I27+EXPEDITION!I27+QUALITE!I27+ACCUEIL!I27+PRODUCTION!I27+LABO!I27+COMPTA!I27+UCIA!I27) | ... M27: =IF(COMMERCIAUX!M27+MAINTENANCE!M27+ADV!M27+'R&D'!M27+RECEPTION!M27+DIRECTION!M27+EMBALLAGE!M27+MARKETING!M27+EXPEDITION!M27+QUALITE!M27+ACCUEIL!M27+PRODUCTION!M27+LABO!M27+COMPTA!M27=0,"",COMMERCIAUX!M27+MAINTENANCE!M27+ADV!M27+'R&D'!M27+RECEPTION!M27+DIRECTION!M27+EMBALLAGE!M27+MARKETING!M27+EXPEDITION!M27+QUALITE!M27+ACCUEIL!M27+PRODUCTION!M27+LABO!M27+COMPTA!M27+UCIA!M27) | N27: paquet | O27: =IF(SUM(B27:M27)=0,"",SUM(B27:M27)) -> 2 | P27: =IF(DIRECTION!N27=0,"",DIRECTION!N27) | Q27: =IF(COMPTA!N27=0,"",COMPTA!N27) | R27: =IF(ACCUEIL!N27=0,"",ACCUEIL!N27) | S27: =IF(ADV!N27=0,"",ADV!N27) | T27: =IF(COMMERCIAUX!N27=0,"",COMMERCIAUX!N27) | U27: =IF(MARKETING!N27=0,"",MARKETING!N27) | V27: =IF(MAINTENANCE!N27=0,"",MAINTENANCE!N27) | W27: =IF(PRODUCTION!N27=0,"",PRODUCTION!N27) | X27: =IF(EMBALLAGE!N27=0,"",EMBALLAGE!N27) | Y27: =IF(EXPEDITION!N27=0,"",EXPEDITION!N27) | Z27: =IF(RECEPTION!N27=0,"",RECEPTION!N27) | AA27: =IF(LABO!N27=0,"",LABO!N27) | AB27: =IF('R&D'!N27=0,"",'R&D'!N27) | AC27: =IF(QUALITE!N27=0,"",QUALITE!N27) -> 2 | AD27: =IF(UCIA!N27=0,"",UCIA!N27)
A28: Classeurs | B28: =IF(COMMERCIAUX!B28+MAINTENANCE!B28+ADV!B28+'R&D'!B28+RECEPTION!B28+DIRECTION!B28+EMBALLAGE!B28+MARKETING!B28+EXPEDITION!B28+QUALITE!B28+ACCUEIL!B28+PRODUCTION!B28+LABO!B28+COMPTA!B28=0,"",COMMERCIAUX!B28+MAINTENANCE!B28+ADV!B28+'R&D'!B28+RECEPTION!B28+DIRECTION!B28+EMBALLAGE!B28+MARKETING!B28+EXPEDITION!B28+QUALITE!B28+ACCUEIL!B28+PRODUCTION!B28+LABO!B28+COMPTA!B28+UCIA!B28) | C28: =IF(COMMERCIAUX!C28+MAINTENANCE!C28+ADV!C28+'R&D'!C28+RECEPTION!C28+DIRECTION!C28+EMBALLAGE!C28+MARKETING!C28+EXPEDITION!C28+QUALITE!C28+ACCUEIL!C28+PRODUCTION!C28+LABO!C28+COMPTA!C28=0,"",COMMERCIAUX!C28+MAINTENANCE!C28+ADV!C28+'R&D'!C28+RECEPTION!C28+DIRECTION!C28+EMBALLAGE!C28+MARKETING!C28+EXPEDITION!C28+QUALITE!C28+ACCUEIL!C28+PRODUCTION!C28+LABO!C28+COMPTA!C28+UCIA!C28) | D28: =IF(COMMERCIAUX!D28+MAINTENANCE!D28+ADV!D28+'R&D'!D28+RECEPTION!D28+DIRECTION!D28+EMBALLAGE!D28+MARKETING!D28+EXPEDITION!D28+QUALITE!D28+ACCUEIL!D28+PRODUCTION!D28+LABO!D28+COMPTA!D28=0,"",COMMERCIAUX!D28+MAINTENANCE!D28+ADV!D28+'R&D'!D28+RECEPTION!D28+DIRECTION!D28+EMBALLAGE!D28+MARKETING!D28+EXPEDITION!D28+QUALITE!D28+ACCUEIL!D28+PRODUCTION!D28+LABO!D28+COMPTA!D28+UCIA!D28) | E28: =IF(COMMERCIAUX!E28+MAINTENANCE!E28+ADV!E28+'R&D'!E28+RECEPTION!E28+DIRECTION!E28+EMBALLAGE!E28+MARKETING!E28+EXPEDITION!E28+QUALITE!E28+ACCUEIL!E28+PRODUCTION!E28+LABO!E28+COMPTA!E28=0,"",COMMERCIAUX!E28+MAINTENANCE!E28+ADV!E28+'R&D'!E28+RECEPTION!E28+DIRECTION!E28+EMBALLAGE!E28+MARKETING!E28+EXPEDITION!E28+QUALITE!E28+ACCUEIL!E28+PRODUCTION!E28+LABO!E28+COMPTA!E28+UCIA!E28) | F28: =IF(COMMERCIAUX!F28+MAINTENANCE!F28+ADV!F28+'R&D'!F28+RECEPTION!F28+DIRECTION!F28+EMBALLAGE!F28+MARKETING!F28+EXPEDITION!F28+QUALITE!F28+ACCUEIL!F28+PRODUCTION!F28+LABO!F28+COMPTA!F28=0,"",COMMERCIAUX!F28+MAINTENANCE!F28+ADV!F28+'R&D'!F28+RECEPTION!F28+DIRECTION!F28+EMBALLAGE!F28+MARKETING!F28+EXPEDITION!F28+QUALITE!F28+ACCUEIL!F28+PRODUCTION!F28+LABO!F28+COMPTA!F28+UCIA!F28) | G28: =IF(COMMERCIAUX!G28+MAINTENANCE!G28+ADV!G28+'R&D'!G28+RECEPTION!G28+DIRECTION!G28+EMBALLAGE!G28+MARKETING!G28+EXPEDITION!G28+QUALITE!G28+ACCUEIL!G28+PRODUCTION!G28+LABO!G28+COMPTA!G28=0,"",COMMERCIAUX!G28+MAINTENANCE!G28+ADV!G28+'R&D'!G28+RECEPTION!G28+DIRECTION!G28+EMBALLAGE!G28+MARKETING!G28+EXPEDITION!G28+QUALITE!G28+ACCUEIL!G28+PRODUCTION!G28+LABO!G28+COMPTA!G28+UCIA!G28) -> 3 | H28: =IF(COMMERCIAUX!H28+MAINTENANCE!H28+ADV!H28+'R&D'!H28+RECEPTION!H28+DIRECTION!H28+EMBALLAGE!H28+MARKETING!H28+EXPEDITION!H28+QUALITE!H28+ACCUEIL!H28+PRODUCTION!H28+LABO!H28+COMPTA!H28=0,"",COMMERCIAUX!H28+MAINTENANCE!H28+ADV!H28+'R&D'!H28+RECEPTION!H28+DIRECTION!H28+EMBALLAGE!H28+MARKETING!H28+EXPEDITION!H28+QUALITE!H28+ACCUEIL!H28+PRODUCTION!H28+LABO!H28+COMPTA!H28+UCIA!H28) -> 4 | I28: =IF(COMMERCIAUX!I28+MAINTENANCE!I28+ADV!I28+'R&D'!I28+RECEPTION!I28+DIRECTION!I28+EMBALLAGE!I28+MARKETING!I28+EXPEDITION!I28+QUALITE!I28+ACCUEIL!I28+PRODUCTION!I28+LABO!I28+COMPTA!I28=0,"",COMMERCIAUX!I28+MAINTENANCE!I28+ADV!I28+'R&D'!I28+RECEPTION!I28+DIRECTION!I28+EMBALLAGE!I28+MARKETING!I28+EXPEDITION!I28+QUALITE!I28+ACCUEIL!I28+PRODUCTION!I28+LABO!I28+COMPTA!I28+UCIA!I28) | ... M28: =IF(COMMERCIAUX!M28+MAINTENANCE!M28+ADV!M28+'R&D'!M28+RECEPTION!M28+DIRECTION!M28+EMBALLAGE!M28+MARKETING!M28+EXPEDITION!M28+QUALITE!M28+ACCUEIL!M28+PRODUCTION!M28+LABO!M28+COMPTA!M28=0,"",COMMERCIAUX!M28+MAINTENANCE!M28+ADV!M28+'R&D'!M28+RECEPTION!M28+DIRECTION!M28+EMBALLAGE!M28+MARKETING!M28+EXPEDITION!M28+QUALITE!M28+ACCUEIL!M28+PRODUCTION!M28+LABO!M28+COMPTA!M28+UCIA!M28) | O28: =IF(SUM(B28:M28)=0,"",SUM(B28:M28)) -> 7 | P28: =IF(DIRECTION!N28=0,"",DIRECTION!N28) | Q28: =IF(COMPTA!N28=0,"",COMPTA!N28) | R28: =IF(ACCUEIL!N28=0,"",ACCUEIL!N28) | S28: =IF(ADV!N28=0,"",ADV!N28) | T28: =IF(COMMERCIAUX!N28=0,"",COMMERCIAUX!N28) | U28: =IF(MARKETING!N28=0,"",MARKETING!N28) -> 2 | V28: =IF(MAINTENANCE!N28=0,"",MAINTENANCE!N28) -> 3 | W28: =IF(PRODUCTION!N28=0,"",PRODUCTION!N28) | X28: =IF(EMBALLAGE!N28=0,"",EMBALLAGE!N28) -> 2 | Y28: =IF(EXPEDITION!N28=0,"",EXPEDITION!N28) | Z28: =IF(RECEPTION!N28=0,"",RECEPTION!N28) | AA28: =IF(LABO!N28=0,"",LABO!N28) | AB28: =IF('R&D'!N28=0,"",'R&D'!N28) | AC28: =IF(QUALITE!N28=0,"",QUALITE!N28) | AD28: =IF(UCIA!N28=0,"",UCIA!N28)
A29: Crayon a papier | B29: =IF(COMMERCIAUX!B29+MAINTENANCE!B29+ADV!B29+'R&D'!B29+RECEPTION!B29+DIRECTION!B29+EMBALLAGE!B29+MARKETING!B29+EXPEDITION!B29+QUALITE!B29+ACCUEIL!B29+PRODUCTION!B29+LABO!B29+COMPTA!B29=0,"",COMMERCIAUX!B29+MAINTENANCE!B29+ADV!B29+'R&D'!B29+RECEPTION!B29+DIRECTION!B29+EMBALLAGE!B29+MARKETING!B29+EXPEDITION!B29+QUALITE!B29+ACCUEIL!B29+PRODUCTION!B29+LABO!B29+COMPTA!B29+UCIA!B29) | C29: =IF(COMMERCIAUX!C29+MAINTENANCE!C29+ADV!C29+'R&D'!C29+RECEPTION!C29+DIRECTION!C29+EMBALLAGE!C29+MARKETING!C29+EXPEDITION!C29+QUALITE!C29+ACCUEIL!C29+PRODUCTION!C29+LABO!C29+COMPTA!C29=0,"",COMMERCIAUX!C29+MAINTENANCE!C29+ADV!C29+'R&D'!C29+RECEPTION!C29+DIRECTION!C29+EMBALLAGE!C29+MARKETING!C29+EXPEDITION!C29+QUALITE!C29+ACCUEIL!C29+PRODUCTION!C29+LABO!C29+COMPTA!C29+UCIA!C29) | D29: =IF(COMMERCIAUX!D29+MAINTENANCE!D29+ADV!D29+'R&D'!D29+RECEPTION!D29+DIRECTION!D29+EMBALLAGE!D29+MARKETING!D29+EXPEDITION!D29+QUALITE!D29+ACCUEIL!D29+PRODUCTION!D29+LABO!D29+COMPTA!D29=0,"",COMMERCIAUX!D29+MAINTENANCE!D29+ADV!D29+'R&D'!D29+RECEPTION!D29+DIRECTION!D29+EMBALLAGE!D29+MARKETING!D29+EXPEDITION!D29+QUALITE!D29+ACCUEIL!D29+PRODUCTION!D29+LABO!D29+COMPTA!D29+UCIA!D29) | E29: =IF(COMMERCIAUX!E29+MAINTENANCE!E29+ADV!E29+'R&D'!E29+RECEPTION!E29+DIRECTION!E29+EMBALLAGE!E29+MARKETING!E29+EXPEDITION!E29+QUALITE!E29+ACCUEIL!E29+PRODUCTION!E29+LABO!E29+COMPTA!E29=0,"",COMMERCIAUX!E29+MAINTENANCE!E29+ADV!E29+'R&D'!E29+RECEPTION!E29+DIRECTION!E29+EMBALLAGE!E29+MARKETING!E29+EXPEDITION!E29+QUALITE!E29+ACCUEIL!E29+PRODUCTION!E29+LABO!E29+COMPTA!E29+UCIA!E29) | F29: =IF(COMMERCIAUX!F29+MAINTENANCE!F29+ADV!F29+'R&D'!F29+RECEPTION!F29+DIRECTION!F29+EMBALLAGE!F29+MARKETING!F29+EXPEDITION!F29+QUALITE!F29+ACCUEIL!F29+PRODUCTION!F29+LABO!F29+COMPTA!F29=0,"",COMMERCIAUX!F29+MAINTENANCE!F29+ADV!F29+'R&D'!F29+RECEPTION!F29+DIRECTION!F29+EMBALLAGE!F29+MARKETING!F29+EXPEDITION!F29+QUALITE!F29+ACCUEIL!F29+PRODUCTION!F29+LABO!F29+COMPTA!F29+UCIA!F29) | G29: =IF(COMMERCIAUX!G29+MAINTENANCE!G29+ADV!G29+'R&D'!G29+RECEPTION!G29+DIRECTION!G29+EMBALLAGE!G29+MARKETING!G29+EXPEDITION!G29+QUALITE!G29+ACCUEIL!G29+PRODUCTION!G29+LABO!G29+COMPTA!G29=0,"",COMMERCIAUX!G29+MAINTENANCE!G29+ADV!G29+'R&D'!G29+RECEPTION!G29+DIRECTION!G29+EMBALLAGE!G29+MARKETING!G29+EXPEDITION!G29+QUALITE!G29+ACCUEIL!G29+PRODUCTION!G29+LABO!G29+COMPTA!G29+UCIA!G29) -> 7 | H29: =IF(COMMERCIAUX!H29+MAINTENANCE!H29+ADV!H29+'R&D'!H29+RECEPTION!H29+DIRECTION!H29+EMBALLAGE!H29+MARKETING!H29+EXPEDITION!H29+QUALITE!H29+ACCUEIL!H29+PRODUCTION!H29+LABO!H29+COMPTA!H29=0,"",COMMERCIAUX!H29+MAINTENANCE!H29+ADV!H29+'R&D'!H29+RECEPTION!H29+DIRECTION!H29+EMBALLAGE!H29+MARKETING!H29+EXPEDITION!H29+QUALITE!H29+ACCUEIL!H29+PRODUCTION!H29+LABO!H29+COMPTA!H29+UCIA!H29) -> 2 | I29: =IF(COMMERCIAUX!I29+MAINTENANCE!I29+ADV!I29+'R&D'!I29+RECEPTION!I29+DIRECTION!I29+EMBALLAGE!I29+MARKETING!I29+EXPEDITION!I29+QUALITE!I29+ACCUEIL!I29+PRODUCTION!I29+LABO!I29+COMPTA!I29=0,"",COMMERCIAUX!I29+MAINTENANCE!I29+ADV!I29+'R&D'!I29+RECEPTION!I29+DIRECTION!I29+EMBALLAGE!I29+MARKETING!I29+EXPEDITION!I29+QUALITE!I29+ACCUEIL!I29+PRODUCTION!I29+LABO!I29+COMPTA!I29+UCIA!I29) | ... M29: =IF(COMMERCIAUX!M29+MAINTENANCE!M29+ADV!M29+'R&D'!M29+RECEPTION!M29+DIRECTION!M29+EMBALLAGE!M29+MARKETING!M29+EXPEDITION!M29+QUALITE!M29+ACCUEIL!M29+PRODUCTION!M29+LABO!M29+COMPTA!M29=0,"",COMMERCIAUX!M29+MAINTENANCE!M29+ADV!M29+'R&D'!M29+RECEPTION!M29+DIRECTION!M29+EMBALLAGE!M29+MARKETING!M29+EXPEDITION!M29+QUALITE!M29+ACCUEIL!M29+PRODUCTION!M29+LABO!M29+COMPTA!M29+UCIA!M29) | O29: =IF(SUM(B29:M29)=0,"",SUM(B29:M29)) -> 9 | P29: =IF(DIRECTION!N29=0,"",DIRECTION!N29) -> 4 | Q29: =IF(COMPTA!N29=0,"",COMPTA!N29) | R29: =IF(ACCUEIL!N29=0,"",ACCUEIL!N29) | S29: =IF(ADV!N29=0,"",ADV!N29) -> 1 | T29: =IF(COMMERCIAUX!N29=0,"",COMMERCIAUX!N29) -> 1 | U29: =IF(MARKETING!N29=0,"",MARKETING!N29) | V29: =IF(MAINTENANCE!N29=0,"",MAINTENANCE!N29) -> 1 | W29: =IF(PRODUCTION!N29=0,"",PRODUCTION!N29) | X29: =IF(EMBALLAGE!N29=0,"",EMBALLAGE!N29) | Y29: =IF(EXPEDITION!N29=0,"",EXPEDITION!N29) | Z29: =IF(RECEPTION!N29=0,"",RECEPTION!N29) | AA29: =IF(LABO!N29=0,"",LABO!N29) | AB29: =IF('R&D'!N29=0,"",'R&D'!N29) | AC29: =IF(QUALITE!N29=0,"",QUALITE!N29) -> 2 | AD29: =IF(UCIA!N29=0,"",UCIA!N29)
A30: Dossier suspendu | B30: =IF(COMMERCIAUX!B30+MAINTENANCE!B30+ADV!B30+'R&D'!B30+RECEPTION!B30+DIRECTION!B30+EMBALLAGE!B30+MARKETING!B30+EXPEDITION!B30+QUALITE!B30+ACCUEIL!B30+PRODUCTION!B30+LABO!B30+COMPTA!B30=0,"",COMMERCIAUX!B30+MAINTENANCE!B30+ADV!B30+'R&D'!B30+RECEPTION!B30+DIRECTION!B30+EMBALLAGE!B30+MARKETING!B30+EXPEDITION!B30+QUALITE!B30+ACCUEIL!B30+PRODUCTION!B30+LABO!B30+COMPTA!B30+UCIA!B30) | C30: =IF(COMMERCIAUX!C30+MAINTENANCE!C30+ADV!C30+'R&D'!C30+RECEPTION!C30+DIRECTION!C30+EMBALLAGE!C30+MARKETING!C30+EXPEDITION!C30+QUALITE!C30+ACCUEIL!C30+PRODUCTION!C30+LABO!C30+COMPTA!C30=0,"",COMMERCIAUX!C30+MAINTENANCE!C30+ADV!C30+'R&D'!C30+RECEPTION!C30+DIRECTION!C30+EMBALLAGE!C30+MARKETING!C30+EXPEDITION!C30+QUALITE!C30+ACCUEIL!C30+PRODUCTION!C30+LABO!C30+COMPTA!C30+UCIA!C30) | D30: =IF(COMMERCIAUX!D30+MAINTENANCE!D30+ADV!D30+'R&D'!D30+RECEPTION!D30+DIRECTION!D30+EMBALLAGE!D30+MARKETING!D30+EXPEDITION!D30+QUALITE!D30+ACCUEIL!D30+PRODUCTION!D30+LABO!D30+COMPTA!D30=0,"",COMMERCIAUX!D30+MAINTENANCE!D30+ADV!D30+'R&D'!D30+RECEPTION!D30+DIRECTION!D30+EMBALLAGE!D30+MARKETING!D30+EXPEDITION!D30+QUALITE!D30+ACCUEIL!D30+PRODUCTION!D30+LABO!D30+COMPTA!D30+UCIA!D30) | E30: =IF(COMMERCIAUX!E30+MAINTENANCE!E30+ADV!E30+'R&D'!E30+RECEPTION!E30+DIRECTION!E30+EMBALLAGE!E30+MARKETING!E30+EXPEDITION!E30+QUALITE!E30+ACCUEIL!E30+PRODUCTION!E30+LABO!E30+COMPTA!E30=0,"",COMMERCIAUX!E30+MAINTENANCE!E30+ADV!E30+'R&D'!E30+RECEPTION!E30+DIRECTION!E30+EMBALLAGE!E30+MARKETING!E30+EXPEDITION!E30+QUALITE!E30+ACCUEIL!E30+PRODUCTION!E30+LABO!E30+COMPTA!E30+UCIA!E30) | F30: =IF(COMMERCIAUX!F30+MAINTENANCE!F30+ADV!F30+'R&D'!F30+RECEPTION!F30+DIRECTION!F30+EMBALLAGE!F30+MARKETING!F30+EXPEDITION!F30+QUALITE!F30+ACCUEIL!F30+PRODUCTION!F30+LABO!F30+COMPTA!F30=0,"",COMMERCIAUX!F30+MAINTENANCE!F30+ADV!F30+'R&D'!F30+RECEPTION!F30+DIRECTION!F30+EMBALLAGE!F30+MARKETING!F30+EXPEDITION!F30+QUALITE!F30+ACCUEIL!F30+PRODUCTION!F30+LABO!F30+COMPTA!F30+UCIA!F30) | G30: =IF(COMMERCIAUX!G30+MAINTENANCE!G30+ADV!G30+'R&D'!G30+RECEPTION!G30+DIRECTION!G30+EMBALLAGE!G30+MARKETING!G30+EXPEDITION!G30+QUALITE!G30+ACCUEIL!G30+PRODUCTION!G30+LABO!G30+COMPTA!G30=0,"",COMMERCIAUX!G30+MAINTENANCE!G30+ADV!G30+'R&D'!G30+RECEPTION!G30+DIRECTION!G30+EMBALLAGE!G30+MARKETING!G30+EXPEDITION!G30+QUALITE!G30+ACCUEIL!G30+PRODUCTION!G30+LABO!G30+COMPTA!G30+UCIA!G30) -> 6 | H30: =IF(COMMERCIAUX!H30+MAINTENANCE!H30+ADV!H30+'R&D'!H30+RECEPTION!H30+DIRECTION!H30+EMBALLAGE!H30+MARKETING!H30+EXPEDITION!H30+QUALITE!H30+ACCUEIL!H30+PRODUCTION!H30+LABO!H30+COMPTA!H30=0,"",COMMERCIAUX!H30+MAINTENANCE!H30+ADV!H30+'R&D'!H30+RECEPTION!H30+DIRECTION!H30+EMBALLAGE!H30+MARKETING!H30+EXPEDITION!H30+QUALITE!H30+ACCUEIL!H30+PRODUCTION!H30+LABO!H30+COMPTA!H30+UCIA!H30) -> 3 | I30: =IF(COMMERCIAUX!I30+MAINTENANCE!I30+ADV!I30+'R&D'!I30+RECEPTION!I30+DIRECTION!I30+EMBALLAGE!I30+MARKETING!I30+EXPEDITION!I30+QUALITE!I30+ACCUEIL!I30+PRODUCTION!I30+LABO!I30+COMPTA!I30=0,"",COMMERCIAUX!I30+MAINTENANCE!I30+ADV!I30+'R&D'!I30+RECEPTION!I30+DIRECTION!I30+EMBALLAGE!I30+MARKETING!I30+EXPEDITION!I30+QUALITE!I30+ACCUEIL!I30+PRODUCTION!I30+LABO!I30+COMPTA!I30+UCIA!I30) | ... M30: =IF(COMMERCIAUX!M30+MAINTENANCE!M30+ADV!M30+'R&D'!M30+RECEPTION!M30+DIRECTION!M30+EMBALLAGE!M30+MARKETING!M30+EXPEDITION!M30+QUALITE!M30+ACCUEIL!M30+PRODUCTION!M30+LABO!M30+COMPTA!M30=0,"",COMMERCIAUX!M30+MAINTENANCE!M30+ADV!M30+'R&D'!M30+RECEPTION!M30+DIRECTION!M30+EMBALLAGE!M30+MARKETING!M30+EXPEDITION!M30+QUALITE!M30+ACCUEIL!M30+PRODUCTION!M30+LABO!M30+COMPTA!M30+UCIA!M30) | O30: =IF(SUM(B30:M30)=0,"",SUM(B30:M30)) -> 9 | P30: =IF(DIRECTION!N30=0,"",DIRECTION!N30) -> 3 | Q30: =IF(COMPTA!N30=0,"",COMPTA!N30) | R30: =IF(ACCUEIL!N30=0,"",ACCUEIL!N30) | S30: =IF(ADV!N30=0,"",ADV!N30) -> 6 | T30: =IF(COMMERCIAUX!N30=0,"",COMMERCIAUX!N30) | U30: =IF(MARKETING!N30=0,"",MARKETING!N30) | V30: =IF(MAINTENANCE!N30=0,"",MAINTENANCE!N30) | W30: =IF(PRODUCTION!N30=0,"",PRODUCTION!N30) | X30: =IF(EMBALLAGE!N30=0,"",EMBALLAGE!N30) | Y30: =IF(EXPEDITION!N30=0,"",EXPEDITION!N30) | Z30: =IF(RECEPTION!N30=0,"",RECEPTION!N30) | AA30: =IF(LABO!N30=0,"",LABO!N30) | AB30: =IF('R&D'!N30=0,"",'R&D'!N30) | AC30: =IF(QUALITE!N30=0,"",QUALITE!N30) | AD30: =IF(UCIA!N30=0,"",UCIA!N30)
A31: Enveloppes a soufflet | B31: =IF(COMMERCIAUX!B31+MAINTENANCE!B31+ADV!B31+'R&D'!B31+RECEPTION!B31+DIRECTION!B31+EMBALLAGE!B31+MARKETING!B31+EXPEDITION!B31+QUALITE!B31+ACCUEIL!B31+PRODUCTION!B31+LABO!B31+COMPTA!B31=0,"",COMMERCIAUX!B31+MAINTENANCE!B31+ADV!B31+'R&D'!B31+RECEPTION!B31+DIRECTION!B31+EMBALLAGE!B31+MARKETING!B31+EXPEDITION!B31+QUALITE!B31+ACCUEIL!B31+PRODUCTION!B31+LABO!B31+COMPTA!B31+UCIA!B31) | C31: =IF(COMMERCIAUX!C31+MAINTENANCE!C31+ADV!C31+'R&D'!C31+RECEPTION!C31+DIRECTION!C31+EMBALLAGE!C31+MARKETING!C31+EXPEDITION!C31+QUALITE!C31+ACCUEIL!C31+PRODUCTION!C31+LABO!C31+COMPTA!C31=0,"",COMMERCIAUX!C31+MAINTENANCE!C31+ADV!C31+'R&D'!C31+RECEPTION!C31+DIRECTION!C31+EMBALLAGE!C31+MARKETING!C31+EXPEDITION!C31+QUALITE!C31+ACCUEIL!C31+PRODUCTION!C31+LABO!C31+COMPTA!C31+UCIA!C31) | D31: =IF(COMMERCIAUX!D31+MAINTENANCE!D31+ADV!D31+'R&D'!D31+RECEPTION!D31+DIRECTION!D31+EMBALLAGE!D31+MARKETING!D31+EXPEDITION!D31+QUALITE!D31+ACCUEIL!D31+PRODUCTION!D31+LABO!D31+COMPTA!D31=0,"",COMMERCIAUX!D31+MAINTENANCE!D31+ADV!D31+'R&D'!D31+RECEPTION!D31+DIRECTION!D31+EMBALLAGE!D31+MARKETING!D31+EXPEDITION!D31+QUALITE!D31+ACCUEIL!D31+PRODUCTION!D31+LABO!D31+COMPTA!D31+UCIA!D31) | E31: =IF(COMMERCIAUX!E31+MAINTENANCE!E31+ADV!E31+'R&D'!E31+RECEPTION!E31+DIRECTION!E31+EMBALLAGE!E31+MARKETING!E31+EXPEDITION!E31+QUALITE!E31+ACCUEIL!E31+PRODUCTION!E31+LABO!E31+COMPTA!E31=0,"",COMMERCIAUX!E31+MAINTENANCE!E31+ADV!E31+'R&D'!E31+RECEPTION!E31+DIRECTION!E31+EMBALLAGE!E31+MARKETING!E31+EXPEDITION!E31+QUALITE!E31+ACCUEIL!E31+PRODUCTION!E31+LABO!E31+COMPTA!E31+UCIA!E31) | F31: =IF(COMMERCIAUX!F31+MAINTENANCE!F31+ADV!F31+'R&D'!F31+RECEPTION!F31+DIRECTION!F31+EMBALLAGE!F31+MARKETING!F31+EXPEDITION!F31+QUALITE!F31+ACCUEIL!F31+PRODUCTION!F31+LABO!F31+COMPTA!F31=0,"",COMMERCIAUX!F31+MAINTENANCE!F31+ADV!F31+'R&D'!F31+RECEPTION!F31+DIRECTION!F31+EMBALLAGE!F31+MARKETING!F31+EXPEDITION!F31+QUALITE!F31+ACCUEIL!F31+PRODUCTION!F31+LABO!F31+COMPTA!F31+UCIA!F31) | G31: =IF(COMMERCIAUX!G31+MAINTENANCE!G31+ADV!G31+'R&D'!G31+RECEPTION!G31+DIRECTION!G31+EMBALLAGE!G31+MARKETING!G31+EXPEDITION!G31+QUALITE!G31+ACCUEIL!G31+PRODUCTION!G31+LABO!G31+COMPTA!G31=0,"",COMMERCIAUX!G31+MAINTENANCE!G31+ADV!G31+'R&D'!G31+RECEPTION!G31+DIRECTION!G31+EMBALLAGE!G31+MARKETING!G31+EXPEDITION!G31+QUALITE!G31+ACCUEIL!G31+PRODUCTION!G31+LABO!G31+COMPTA!G31+UCIA!G31) | H31: =IF(COMMERCIAUX!H31+MAINTENANCE!H31+ADV!H31+'R&D'!H31+RECEPTION!H31+DIRECTION!H31+EMBALLAGE!H31+MARKETING!H31+EXPEDITION!H31+QUALITE!H31+ACCUEIL!H31+PRODUCTION!H31+LABO!H31+COMPTA!H31=0,"",COMMERCIAUX!H31+MAINTENANCE!H31+ADV!H31+'R&D'!H31+RECEPTION!H31+DIRECTION!H31+EMBALLAGE!H31+MARKETING!H31+EXPEDITION!H31+QUALITE!H31+ACCUEIL!H31+PRODUCTION!H31+LABO!H31+COMPTA!H31+UCIA!H31) | I31: =IF(COMMERCIAUX!I31+MAINTENANCE!I31+ADV!I31+'R&D'!I31+RECEPTION!I31+DIRECTION!I31+EMBALLAGE!I31+MARKETING!I31+EXPEDITION!I31+QUALITE!I31+ACCUEIL!I31+PRODUCTION!I31+LABO!I31+COMPTA!I31=0,"",COMMERCIAUX!I31+MAINTENANCE!I31+ADV!I31+'R&D'!I31+RECEPTION!I31+DIRECTION!I31+EMBALLAGE!I31+MARKETING!I31+EXPEDITION!I31+QUALITE!I31+ACCUEIL!I31+PRODUCTION!I31+LABO!I31+COMPTA!I31+UCIA!I31) | ... M31: =IF(COMMERCIAUX!M31+MAINTENANCE!M31+ADV!M31+'R&D'!M31+RECEPTION!M31+DIRECTION!M31+EMBALLAGE!M31+MARKETING!M31+EXPEDITION!M31+QUALITE!M31+ACCUEIL!M31+PRODUCTION!M31+LABO!M31+COMPTA!M31=0,"",COMMERCIAUX!M31+MAINTENANCE!M31+ADV!M31+'R&D'!M31+RECEPTION!M31+DIRECTION!M31+EMBALLAGE!M31+MARKETING!M31+EXPEDITION!M31+QUALITE!M31+ACCUEIL!M31+PRODUCTION!M31+LABO!M31+COMPTA!M31+UCIA!M31) | N31: cartons | O31: =IF(SUM(B31:M31)=0,"",SUM(B31:M31)) | P31: =IF(DIRECTION!N31=0,"",DIRECTION!N31) | Q31: =IF(COMPTA!N31=0,"",COMPTA!N31) | R31: =IF(ACCUEIL!N31=0,"",ACCUEIL!N31) | S31: =IF(ADV!N31=0,"",ADV!N31) | T31: =IF(COMMERCIAUX!N31=0,"",COMMERCIAUX!N31) | U31: =IF(MARKETING!N31=0,"",MARKETING!N31) | V31: =IF(MAINTENANCE!N31=0,"",MAINTENANCE!N31) | W31: =IF(PRODUCTION!N31=0,"",PRODUCTION!N31) | X31: =IF(EMBALLAGE!N31=0,"",EMBALLAGE!N31) | Y31: =IF(EXPEDITION!N31=0,"",EXPEDITION!N31) | Z31: =IF(RECEPTION!N31=0,"",RECEPTION!N31) | AA31: =IF(LABO!N31=0,"",LABO!N31) | AB31: =IF('R&D'!N31=0,"",'R&D'!N31) | AC31: =IF(QUALITE!N31=0,"",QUALITE!N31) | AD31: =IF(UCIA!N31=0,"",UCIA!N31)
A32: Enveloppes blanche a fenetre petit format | B32: =IF(COMMERCIAUX!B32+MAINTENANCE!B32+ADV!B32+'R&D'!B32+RECEPTION!B32+DIRECTION!B32+EMBALLAGE!B32+MARKETING!B32+EXPEDITION!B32+QUALITE!B32+ACCUEIL!B32+PRODUCTION!B32+LABO!B32+COMPTA!B32=0,"",COMMERCIAUX!B32+MAINTENANCE!B32+ADV!B32+'R&D'!B32+RECEPTION!B32+DIRECTION!B32+EMBALLAGE!B32+MARKETING!B32+EXPEDITION!B32+QUALITE!B32+ACCUEIL!B32+PRODUCTION!B32+LABO!B32+COMPTA!B32+UCIA!B32) | C32: =IF(COMMERCIAUX!C32+MAINTENANCE!C32+ADV!C32+'R&D'!C32+RECEPTION!C32+DIRECTION!C32+EMBALLAGE!C32+MARKETING!C32+EXPEDITION!C32+QUALITE!C32+ACCUEIL!C32+PRODUCTION!C32+LABO!C32+COMPTA!C32=0,"",COMMERCIAUX!C32+MAINTENANCE!C32+ADV!C32+'R&D'!C32+RECEPTION!C32+DIRECTION!C32+EMBALLAGE!C32+MARKETING!C32+EXPEDITION!C32+QUALITE!C32+ACCUEIL!C32+PRODUCTION!C32+LABO!C32+COMPTA!C32+UCIA!C32) | D32: =IF(COMMERCIAUX!D32+MAINTENANCE!D32+ADV!D32+'R&D'!D32+RECEPTION!D32+DIRECTION!D32+EMBALLAGE!D32+MARKETING!D32+EXPEDITION!D32+QUALITE!D32+ACCUEIL!D32+PRODUCTION!D32+LABO!D32+COMPTA!D32=0,"",COMMERCIAUX!D32+MAINTENANCE!D32+ADV!D32+'R&D'!D32+RECEPTION!D32+DIRECTION!D32+EMBALLAGE!D32+MARKETING!D32+EXPEDITION!D32+QUALITE!D32+ACCUEIL!D32+PRODUCTION!D32+LABO!D32+COMPTA!D32+UCIA!D32) | E32: =IF(COMMERCIAUX!E32+MAINTENANCE!E32+ADV!E32+'R&D'!E32+RECEPTION!E32+DIRECTION!E32+EMBALLAGE!E32+MARKETING!E32+EXPEDITION!E32+QUALITE!E32+ACCUEIL!E32+PRODUCTION!E32+LABO!E32+COMPTA!E32=0,"",COMMERCIAUX!E32+MAINTENANCE!E32+ADV!E32+'R&D'!E32+RECEPTION!E32+DIRECTION!E32+EMBALLAGE!E32+MARKETING!E32+EXPEDITION!E32+QUALITE!E32+ACCUEIL!E32+PRODUCTION!E32+LABO!E32+COMPTA!E32+UCIA!E32) | F32: =IF(COMMERCIAUX!F32+MAINTENANCE!F32+ADV!F32+'R&D'!F32+RECEPTION!F32+DIRECTION!F32+EMBALLAGE!F32+MARKETING!F32+EXPEDITION!F32+QUALITE!F32+ACCUEIL!F32+PRODUCTION!F32+LABO!F32+COMPTA!F32=0,"",COMMERCIAUX!F32+MAINTENANCE!F32+ADV!F32+'R&D'!F32+RECEPTION!F32+DIRECTION!F32+EMBALLAGE!F32+MARKETING!F32+EXPEDITION!F32+QUALITE!F32+ACCUEIL!F32+PRODUCTION!F32+LABO!F32+COMPTA!F32+UCIA!F32) | G32: =IF(COMMERCIAUX!G32+MAINTENANCE!G32+ADV!G32+'R&D'!G32+RECEPTION!G32+DIRECTION!G32+EMBALLAGE!G32+MARKETING!G32+EXPEDITION!G32+QUALITE!G32+ACCUEIL!G32+PRODUCTION!G32+LABO!G32+COMPTA!G32=0,"",COMMERCIAUX!G32+MAINTENANCE!G32+ADV!G32+'R&D'!G32+RECEPTION!G32+DIRECTION!G32+EMBALLAGE!G32+MARKETING!G32+EXPEDITION!G32+QUALITE!G32+ACCUEIL!G32+PRODUCTION!G32+LABO!G32+COMPTA!G32+UCIA!G32) -> 2 | H32: =IF(COMMERCIAUX!H32+MAINTENANCE!H32+ADV!H32+'R&D'!H32+RECEPTION!H32+DIRECTION!H32+EMBALLAGE!H32+MARKETING!H32+EXPEDITION!H32+QUALITE!H32+ACCUEIL!H32+PRODUCTION!H32+LABO!H32+COMPTA!H32=0,"",COMMERCIAUX!H32+MAINTENANCE!H32+ADV!H32+'R&D'!H32+RECEPTION!H32+DIRECTION!H32+EMBALLAGE!H32+MARKETING!H32+EXPEDITION!H32+QUALITE!H32+ACCUEIL!H32+PRODUCTION!H32+LABO!H32+COMPTA!H32+UCIA!H32) -> 4 | I32: =IF(COMMERCIAUX!I32+MAINTENANCE!I32+ADV!I32+'R&D'!I32+RECEPTION!I32+DIRECTION!I32+EMBALLAGE!I32+MARKETING!I32+EXPEDITION!I32+QUALITE!I32+ACCUEIL!I32+PRODUCTION!I32+LABO!I32+COMPTA!I32=0,"",COMMERCIAUX!I32+MAINTENANCE!I32+ADV!I32+'R&D'!I32+RECEPTION!I32+DIRECTION!I32+EMBALLAGE!I32+MARKETING!I32+EXPEDITION!I32+QUALITE!I32+ACCUEIL!I32+PRODUCTION!I32+LABO!I32+COMPTA!I32+UCIA!I32) -> 3 | ... M32: =IF(COMMERCIAUX!M32+MAINTENANCE!M32+ADV!M32+'R&D'!M32+RECEPTION!M32+DIRECTION!M32+EMBALLAGE!M32+MARKETING!M32+EXPEDITION!M32+QUALITE!M32+ACCUEIL!M32+PRODUCTION!M32+LABO!M32+COMPTA!M32=0,"",COMMERCIAUX!M32+MAINTENANCE!M32+ADV!M32+'R&D'!M32+RECEPTION!M32+DIRECTION!M32+EMBALLAGE!M32+MARKETING!M32+EXPEDITION!M32+QUALITE!M32+ACCUEIL!M32+PRODUCTION!M32+LABO!M32+COMPTA!M32+UCIA!M32) | N32: cartons | O32: =IF(SUM(B32:M32)=0,"",SUM(B32:M32)) -> 9 | P32: =IF(DIRECTION!N32=0,"",DIRECTION!N32) | Q32: =IF(COMPTA!N32=0,"",COMPTA!N32) -> 1 | R32: =IF(ACCUEIL!N32=0,"",ACCUEIL!N32) -> 8 | S32: =IF(ADV!N32=0,"",ADV!N32) | T32: =IF(COMMERCIAUX!N32=0,"",COMMERCIAUX!N32) | U32: =IF(MARKETING!N32=0,"",MARKETING!N32) | V32: =IF(MAINTENANCE!N32=0,"",MAINTENANCE!N32) | W32: =IF(PRODUCTION!N32=0,"",PRODUCTION!N32) | X32: =IF(EMBALLAGE!N32=0,"",EMBALLAGE!N32) | Y32: =IF(EXPEDITION!N32=0,"",EXPEDITION!N32) | Z32: =IF(RECEPTION!N32=0,"",RECEPTION!N32) | AA32: =IF(LABO!N32=0,"",LABO!N32) | AB32: =IF('R&D'!N32=0,"",'R&D'!N32) | AC32: =IF(QUALITE!N32=0,"",QUALITE!N32) | AD32: =IF(UCIA!N32=0,"",UCIA!N32)
A33: Enveloppes blanche grand format | B33: =IF(COMMERCIAUX!B33+MAINTENANCE!B33+ADV!B33+'R&D'!B33+RECEPTION!B33+DIRECTION!B33+EMBALLAGE!B33+MARKETING!B33+EXPEDITION!B33+QUALITE!B33+ACCUEIL!B33+PRODUCTION!B33+LABO!B33+COMPTA!B33=0,"",COMMERCIAUX!B33+MAINTENANCE!B33+ADV!B33+'R&D'!B33+RECEPTION!B33+DIRECTION!B33+EMBALLAGE!B33+MARKETING!B33+EXPEDITION!B33+QUALITE!B33+ACCUEIL!B33+PRODUCTION!B33+LABO!B33+COMPTA!B33+UCIA!B33) | C33: =IF(COMMERCIAUX!C33+MAINTENANCE!C33+ADV!C33+'R&D'!C33+RECEPTION!C33+DIRECTION!C33+EMBALLAGE!C33+MARKETING!C33+EXPEDITION!C33+QUALITE!C33+ACCUEIL!C33+PRODUCTION!C33+LABO!C33+COMPTA!C33=0,"",COMMERCIAUX!C33+MAINTENANCE!C33+ADV!C33+'R&D'!C33+RECEPTION!C33+DIRECTION!C33+EMBALLAGE!C33+MARKETING!C33+EXPEDITION!C33+QUALITE!C33+ACCUEIL!C33+PRODUCTION!C33+LABO!C33+COMPTA!C33+UCIA!C33) | D33: =IF(COMMERCIAUX!D33+MAINTENANCE!D33+ADV!D33+'R&D'!D33+RECEPTION!D33+DIRECTION!D33+EMBALLAGE!D33+MARKETING!D33+EXPEDITION!D33+QUALITE!D33+ACCUEIL!D33+PRODUCTION!D33+LABO!D33+COMPTA!D33=0,"",COMMERCIAUX!D33+MAINTENANCE!D33+ADV!D33+'R&D'!D33+RECEPTION!D33+DIRECTION!D33+EMBALLAGE!D33+MARKETING!D33+EXPEDITION!D33+QUALITE!D33+ACCUEIL!D33+PRODUCTION!D33+LABO!D33+COMPTA!D33+UCIA!D33) | E33: =IF(COMMERCIAUX!E33+MAINTENANCE!E33+ADV!E33+'R&D'!E33+RECEPTION!E33+DIRECTION!E33+EMBALLAGE!E33+MARKETING!E33+EXPEDITION!E33+QUALITE!E33+ACCUEIL!E33+PRODUCTION!E33+LABO!E33+COMPTA!E33=0,"",COMMERCIAUX!E33+MAINTENANCE!E33+ADV!E33+'R&D'!E33+RECEPTION!E33+DIRECTION!E33+EMBALLAGE!E33+MARKETING!E33+EXPEDITION!E33+QUALITE!E33+ACCUEIL!E33+PRODUCTION!E33+LABO!E33+COMPTA!E33+UCIA!E33) | F33: =IF(COMMERCIAUX!F33+MAINTENANCE!F33+ADV!F33+'R&D'!F33+RECEPTION!F33+DIRECTION!F33+EMBALLAGE!F33+MARKETING!F33+EXPEDITION!F33+QUALITE!F33+ACCUEIL!F33+PRODUCTION!F33+LABO!F33+COMPTA!F33=0,"",COMMERCIAUX!F33+MAINTENANCE!F33+ADV!F33+'R&D'!F33+RECEPTION!F33+DIRECTION!F33+EMBALLAGE!F33+MARKETING!F33+EXPEDITION!F33+QUALITE!F33+ACCUEIL!F33+PRODUCTION!F33+LABO!F33+COMPTA!F33+UCIA!F33) | G33: =IF(COMMERCIAUX!G33+MAINTENANCE!G33+ADV!G33+'R&D'!G33+RECEPTION!G33+DIRECTION!G33+EMBALLAGE!G33+MARKETING!G33+EXPEDITION!G33+QUALITE!G33+ACCUEIL!G33+PRODUCTION!G33+LABO!G33+COMPTA!G33=0,"",COMMERCIAUX!G33+MAINTENANCE!G33+ADV!G33+'R&D'!G33+RECEPTION!G33+DIRECTION!G33+EMBALLAGE!G33+MARKETING!G33+EXPEDITION!G33+QUALITE!G33+ACCUEIL!G33+PRODUCTION!G33+LABO!G33+COMPTA!G33+UCIA!G33) | H33: =IF(COMMERCIAUX!H33+MAINTENANCE!H33+ADV!H33+'R&D'!H33+RECEPTION!H33+DIRECTION!H33+EMBALLAGE!H33+MARKETING!H33+EXPEDITION!H33+QUALITE!H33+ACCUEIL!H33+PRODUCTION!H33+LABO!H33+COMPTA!H33=0,"",COMMERCIAUX!H33+MAINTENANCE!H33+ADV!H33+'R&D'!H33+RECEPTION!H33+DIRECTION!H33+EMBALLAGE!H33+MARKETING!H33+EXPEDITION!H33+QUALITE!H33+ACCUEIL!H33+PRODUCTION!H33+LABO!H33+COMPTA!H33+UCIA!H33) -> 1 | I33: =IF(COMMERCIAUX!I33+MAINTENANCE!I33+ADV!I33+'R&D'!I33+RECEPTION!I33+DIRECTION!I33+EMBALLAGE!I33+MARKETING!I33+EXPEDITION!I33+QUALITE!I33+ACCUEIL!I33+PRODUCTION!I33+LABO!I33+COMPTA!I33=0,"",COMMERCIAUX!I33+MAINTENANCE!I33+ADV!I33+'R&D'!I33+RECEPTION!I33+DIRECTION!I33+EMBALLAGE!I33+MARKETING!I33+EXPEDITION!I33+QUALITE!I33+ACCUEIL!I33+PRODUCTION!I33+LABO!I33+COMPTA!I33+UCIA!I33) | ... M33: =IF(COMMERCIAUX!M33+MAINTENANCE!M33+ADV!M33+'R&D'!M33+RECEPTION!M33+DIRECTION!M33+EMBALLAGE!M33+MARKETING!M33+EXPEDITION!M33+QUALITE!M33+ACCUEIL!M33+PRODUCTION!M33+LABO!M33+COMPTA!M33=0,"",COMMERCIAUX!M33+MAINTENANCE!M33+ADV!M33+'R&D'!M33+RECEPTION!M33+DIRECTION!M33+EMBALLAGE!M33+MARKETING!M33+EXPEDITION!M33+QUALITE!M33+ACCUEIL!M33+PRODUCTION!M33+LABO!M33+COMPTA!M33+UCIA!M33) | N33: cartons | O33: =IF(SUM(B33:M33)=0,"",SUM(B33:M33)) -> 1 | P33: =IF(DIRECTION!N33=0,"",DIRECTION!N33) | Q33: =IF(COMPTA!N33=0,"",COMPTA!N33) | R33: =IF(ACCUEIL!N33=0,"",ACCUEIL!N33) -> 1 | S33: =IF(ADV!N33=0,"",ADV!N33) | T33: =IF(COMMERCIAUX!N33=0,"",COMMERCIAUX!N33) | U33: =IF(MARKETING!N33=0,"",MARKETING!N33) | V33: =IF(MAINTENANCE!N33=0,"",MAINTENANCE!N33) | W33: =IF(PRODUCTION!N33=0,"",PRODUCTION!N33) | X33: =IF(EMBALLAGE!N33=0,"",EMBALLAGE!N33) | Y33: =IF(EXPEDITION!N33=0,"",EXPEDITION!N33) | Z33: =IF(RECEPTION!N33=0,"",RECEPTION!N33) | AA33: =IF(LABO!N33=0,"",LABO!N33) | AB33: =IF('R&D'!N33=0,"",'R&D'!N33) | AC33: =IF(QUALITE!N33=0,"",QUALITE!N33) | AD33: =IF(UCIA!N33=0,"",UCIA!N33)
A34: Enveloppes blanche moyen format | B34: =IF(COMMERCIAUX!B34+MAINTENANCE!B34+ADV!B34+'R&D'!B34+RECEPTION!B34+DIRECTION!B34+EMBALLAGE!B34+MARKETING!B34+EXPEDITION!B34+QUALITE!B34+ACCUEIL!B34+PRODUCTION!B34+LABO!B34+COMPTA!B34=0,"",COMMERCIAUX!B34+MAINTENANCE!B34+ADV!B34+'R&D'!B34+RECEPTION!B34+DIRECTION!B34+EMBALLAGE!B34+MARKETING!B34+EXPEDITION!B34+QUALITE!B34+ACCUEIL!B34+PRODUCTION!B34+LABO!B34+COMPTA!B34+UCIA!B34) | C34: =IF(COMMERCIAUX!C34+MAINTENANCE!C34+ADV!C34+'R&D'!C34+RECEPTION!C34+DIRECTION!C34+EMBALLAGE!C34+MARKETING!C34+EXPEDITION!C34+QUALITE!C34+ACCUEIL!C34+PRODUCTION!C34+LABO!C34+COMPTA!C34=0,"",COMMERCIAUX!C34+MAINTENANCE!C34+ADV!C34+'R&D'!C34+RECEPTION!C34+DIRECTION!C34+EMBALLAGE!C34+MARKETING!C34+EXPEDITION!C34+QUALITE!C34+ACCUEIL!C34+PRODUCTION!C34+LABO!C34+COMPTA!C34+UCIA!C34) | D34: =IF(COMMERCIAUX!D34+MAINTENANCE!D34+ADV!D34+'R&D'!D34+RECEPTION!D34+DIRECTION!D34+EMBALLAGE!D34+MARKETING!D34+EXPEDITION!D34+QUALITE!D34+ACCUEIL!D34+PRODUCTION!D34+LABO!D34+COMPTA!D34=0,"",COMMERCIAUX!D34+MAINTENANCE!D34+ADV!D34+'R&D'!D34+RECEPTION!D34+DIRECTION!D34+EMBALLAGE!D34+MARKETING!D34+EXPEDITION!D34+QUALITE!D34+ACCUEIL!D34+PRODUCTION!D34+LABO!D34+COMPTA!D34+UCIA!D34) | E34: =IF(COMMERCIAUX!E34+MAINTENANCE!E34+ADV!E34+'R&D'!E34+RECEPTION!E34+DIRECTION!E34+EMBALLAGE!E34+MARKETING!E34+EXPEDITION!E34+QUALITE!E34+ACCUEIL!E34+PRODUCTION!E34+LABO!E34+COMPTA!E34=0,"",COMMERCIAUX!E34+MAINTENANCE!E34+ADV!E34+'R&D'!E34+RECEPTION!E34+DIRECTION!E34+EMBALLAGE!E34+MARKETING!E34+EXPEDITION!E34+QUALITE!E34+ACCUEIL!E34+PRODUCTION!E34+LABO!E34+COMPTA!E34+UCIA!E34) | F34: =IF(COMMERCIAUX!F34+MAINTENANCE!F34+ADV!F34+'R&D'!F34+RECEPTION!F34+DIRECTION!F34+EMBALLAGE!F34+MARKETING!F34+EXPEDITION!F34+QUALITE!F34+ACCUEIL!F34+PRODUCTION!F34+LABO!F34+COMPTA!F34=0,"",COMMERCIAUX!F34+MAINTENANCE!F34+ADV!F34+'R&D'!F34+RECEPTION!F34+DIRECTION!F34+EMBALLAGE!F34+MARKETING!F34+EXPEDITION!F34+QUALITE!F34+ACCUEIL!F34+PRODUCTION!F34+LABO!F34+COMPTA!F34+UCIA!F34) | G34: =IF(COMMERCIAUX!G34+MAINTENANCE!G34+ADV!G34+'R&D'!G34+RECEPTION!G34+DIRECTION!G34+EMBALLAGE!G34+MARKETING!G34+EXPEDITION!G34+QUALITE!G34+ACCUEIL!G34+PRODUCTION!G34+LABO!G34+COMPTA!G34=0,"",COMMERCIAUX!G34+MAINTENANCE!G34+ADV!G34+'R&D'!G34+RECEPTION!G34+DIRECTION!G34+EMBALLAGE!G34+MARKETING!G34+EXPEDITION!G34+QUALITE!G34+ACCUEIL!G34+PRODUCTION!G34+LABO!G34+COMPTA!G34+UCIA!G34) | H34: =IF(COMMERCIAUX!H34+MAINTENANCE!H34+ADV!H34+'R&D'!H34+RECEPTION!H34+DIRECTION!H34+EMBALLAGE!H34+MARKETING!H34+EXPEDITION!H34+QUALITE!H34+ACCUEIL!H34+PRODUCTION!H34+LABO!H34+COMPTA!H34=0,"",COMMERCIAUX!H34+MAINTENANCE!H34+ADV!H34+'R&D'!H34+RECEPTION!H34+DIRECTION!H34+EMBALLAGE!H34+MARKETING!H34+EXPEDITION!H34+QUALITE!H34+ACCUEIL!H34+PRODUCTION!H34+LABO!H34+COMPTA!H34+UCIA!H34) | I34: =IF(COMMERCIAUX!I34+MAINTENANCE!I34+ADV!I34+'R&D'!I34+RECEPTION!I34+DIRECTION!I34+EMBALLAGE!I34+MARKETING!I34+EXPEDITION!I34+QUALITE!I34+ACCUEIL!I34+PRODUCTION!I34+LABO!I34+COMPTA!I34=0,"",COMMERCIAUX!I34+MAINTENANCE!I34+ADV!I34+'R&D'!I34+RECEPTION!I34+DIRECTION!I34+EMBALLAGE!I34+MARKETING!I34+EXPEDITION!I34+QUALITE!I34+ACCUEIL!I34+PRODUCTION!I34+LABO!I34+COMPTA!I34+UCIA!I34) -> 1 | ... M34: =IF(COMMERCIAUX!M34+MAINTENANCE!M34+ADV!M34+'R&D'!M34+RECEPTION!M34+DIRECTION!M34+EMBALLAGE!M34+MARKETING!M34+EXPEDITION!M34+QUALITE!M34+ACCUEIL!M34+PRODUCTION!M34+LABO!M34+COMPTA!M34=0,"",COMMERCIAUX!M34+MAINTENANCE!M34+ADV!M34+'R&D'!M34+RECEPTION!M34+DIRECTION!M34+EMBALLAGE!M34+MARKETING!M34+EXPEDITION!M34+QUALITE!M34+ACCUEIL!M34+PRODUCTION!M34+LABO!M34+COMPTA!M34+UCIA!M34) | N34: cartons | O34: =IF(SUM(B34:M34)=0,"",SUM(B34:M34)) -> 1 | P34: =IF(DIRECTION!N34=0,"",DIRECTION!N34) | Q34: =IF(COMPTA!N34=0,"",COMPTA!N34) | R34: =IF(ACCUEIL!N34=0,"",ACCUEIL!N34) -> 1 | S34: =IF(ADV!N34=0,"",ADV!N34) | T34: =IF(COMMERCIAUX!N34=0,"",COMMERCIAUX!N34) | U34: =IF(MARKETING!N34=0,"",MARKETING!N34) | V34: =IF(MAINTENANCE!N34=0,"",MAINTENANCE!N34) | W34: =IF(PRODUCTION!N34=0,"",PRODUCTION!N34) | X34: =IF(EMBALLAGE!N34=0,"",EMBALLAGE!N34) | Y34: =IF(EXPEDITION!N34=0,"",EXPEDITION!N34) | Z34: =IF(RECEPTION!N34=0,"",RECEPTION!N34) | AA34: =IF(LABO!N34=0,"",LABO!N34) | AB34: =IF('R&D'!N34=0,"",'R&D'!N34) | AC34: =IF(QUALITE!N34=0,"",QUALITE!N34) | AD34: =IF(UCIA!N34=0,"",UCIA!N34)
A35: Enveloppes blanche sans fenetre petit format | B35: =IF(COMMERCIAUX!B35+MAINTENANCE!B35+ADV!B35+'R&D'!B35+RECEPTION!B35+DIRECTION!B35+EMBALLAGE!B35+MARKETING!B35+EXPEDITION!B35+QUALITE!B35+ACCUEIL!B35+PRODUCTION!B35+LABO!B35+COMPTA!B35=0,"",COMMERCIAUX!B35+MAINTENANCE!B35+ADV!B35+'R&D'!B35+RECEPTION!B35+DIRECTION!B35+EMBALLAGE!B35+MARKETING!B35+EXPEDITION!B35+QUALITE!B35+ACCUEIL!B35+PRODUCTION!B35+LABO!B35+COMPTA!B35+UCIA!B35) | C35: =IF(COMMERCIAUX!C35+MAINTENANCE!C35+ADV!C35+'R&D'!C35+RECEPTION!C35+DIRECTION!C35+EMBALLAGE!C35+MARKETING!C35+EXPEDITION!C35+QUALITE!C35+ACCUEIL!C35+PRODUCTION!C35+LABO!C35+COMPTA!C35=0,"",COMMERCIAUX!C35+MAINTENANCE!C35+ADV!C35+'R&D'!C35+RECEPTION!C35+DIRECTION!C35+EMBALLAGE!C35+MARKETING!C35+EXPEDITION!C35+QUALITE!C35+ACCUEIL!C35+PRODUCTION!C35+LABO!C35+COMPTA!C35+UCIA!C35) | D35: =IF(COMMERCIAUX!D35+MAINTENANCE!D35+ADV!D35+'R&D'!D35+RECEPTION!D35+DIRECTION!D35+EMBALLAGE!D35+MARKETING!D35+EXPEDITION!D35+QUALITE!D35+ACCUEIL!D35+PRODUCTION!D35+LABO!D35+COMPTA!D35=0,"",COMMERCIAUX!D35+MAINTENANCE!D35+ADV!D35+'R&D'!D35+RECEPTION!D35+DIRECTION!D35+EMBALLAGE!D35+MARKETING!D35+EXPEDITION!D35+QUALITE!D35+ACCUEIL!D35+PRODUCTION!D35+LABO!D35+COMPTA!D35+UCIA!D35) | E35: =IF(COMMERCIAUX!E35+MAINTENANCE!E35+ADV!E35+'R&D'!E35+RECEPTION!E35+DIRECTION!E35+EMBALLAGE!E35+MARKETING!E35+EXPEDITION!E35+QUALITE!E35+ACCUEIL!E35+PRODUCTION!E35+LABO!E35+COMPTA!E35=0,"",COMMERCIAUX!E35+MAINTENANCE!E35+ADV!E35+'R&D'!E35+RECEPTION!E35+DIRECTION!E35+EMBALLAGE!E35+MARKETING!E35+EXPEDITION!E35+QUALITE!E35+ACCUEIL!E35+PRODUCTION!E35+LABO!E35+COMPTA!E35+UCIA!E35) | F35: =IF(COMMERCIAUX!F35+MAINTENANCE!F35+ADV!F35+'R&D'!F35+RECEPTION!F35+DIRECTION!F35+EMBALLAGE!F35+MARKETING!F35+EXPEDITION!F35+QUALITE!F35+ACCUEIL!F35+PRODUCTION!F35+LABO!F35+COMPTA!F35=0,"",COMMERCIAUX!F35+MAINTENANCE!F35+ADV!F35+'R&D'!F35+RECEPTION!F35+DIRECTION!F35+EMBALLAGE!F35+MARKETING!F35+EXPEDITION!F35+QUALITE!F35+ACCUEIL!F35+PRODUCTION!F35+LABO!F35+COMPTA!F35+UCIA!F35) | G35: =IF(COMMERCIAUX!G35+MAINTENANCE!G35+ADV!G35+'R&D'!G35+RECEPTION!G35+DIRECTION!G35+EMBALLAGE!G35+MARKETING!G35+EXPEDITION!G35+QUALITE!G35+ACCUEIL!G35+PRODUCTION!G35+LABO!G35+COMPTA!G35=0,"",COMMERCIAUX!G35+MAINTENANCE!G35+ADV!G35+'R&D'!G35+RECEPTION!G35+DIRECTION!G35+EMBALLAGE!G35+MARKETING!G35+EXPEDITION!G35+QUALITE!G35+ACCUEIL!G35+PRODUCTION!G35+LABO!G35+COMPTA!G35+UCIA!G35) | H35: =IF(COMMERCIAUX!H35+MAINTENANCE!H35+ADV!H35+'R&D'!H35+RECEPTION!H35+DIRECTION!H35+EMBALLAGE!H35+MARKETING!H35+EXPEDITION!H35+QUALITE!H35+ACCUEIL!H35+PRODUCTION!H35+LABO!H35+COMPTA!H35=0,"",COMMERCIAUX!H35+MAINTENANCE!H35+ADV!H35+'R&D'!H35+RECEPTION!H35+DIRECTION!H35+EMBALLAGE!H35+MARKETING!H35+EXPEDITION!H35+QUALITE!H35+ACCUEIL!H35+PRODUCTION!H35+LABO!H35+COMPTA!H35+UCIA!H35) -> 1 | I35: =IF(COMMERCIAUX!I35+MAINTENANCE!I35+ADV!I35+'R&D'!I35+RECEPTION!I35+DIRECTION!I35+EMBALLAGE!I35+MARKETING!I35+EXPEDITION!I35+QUALITE!I35+ACCUEIL!I35+PRODUCTION!I35+LABO!I35+COMPTA!I35=0,"",COMMERCIAUX!I35+MAINTENANCE!I35+ADV!I35+'R&D'!I35+RECEPTION!I35+DIRECTION!I35+EMBALLAGE!I35+MARKETING!I35+EXPEDITION!I35+QUALITE!I35+ACCUEIL!I35+PRODUCTION!I35+LABO!I35+COMPTA!I35+UCIA!I35) -> 1 | ... M35: =IF(COMMERCIAUX!M35+MAINTENANCE!M35+ADV!M35+'R&D'!M35+RECEPTION!M35+DIRECTION!M35+EMBALLAGE!M35+MARKETING!M35+EXPEDITION!M35+QUALITE!M35+ACCUEIL!M35+PRODUCTION!M35+LABO!M35+COMPTA!M35=0,"",COMMERCIAUX!M35+MAINTENANCE!M35+ADV!M35+'R&D'!M35+RECEPTION!M35+DIRECTION!M35+EMBALLAGE!M35+MARKETING!M35+EXPEDITION!M35+QUALITE!M35+ACCUEIL!M35+PRODUCTION!M35+LABO!M35+COMPTA!M35+UCIA!M35) | N35: cartons | O35: =IF(SUM(B35:M35)=0,"",SUM(B35:M35)) -> 2 | P35: =IF(DIRECTION!N35=0,"",DIRECTION!N35) -> 1 | Q35: =IF(COMPTA!N35=0,"",COMPTA!N35) | R35: =IF(ACCUEIL!N35=0,"",ACCUEIL!N35) -> 1 | S35: =IF(ADV!N35=0,"",ADV!N35) | T35: =IF(COMMERCIAUX!N35=0,"",COMMERCIAUX!N35) | U35: =IF(MARKETING!N35=0,"",MARKETING!N35) | V35: =IF(MAINTENANCE!N35=0,"",MAINTENANCE!N35) | W35: =IF(PRODUCTION!N35=0,"",PRODUCTION!N35) | X35: =IF(EMBALLAGE!N35=0,"",EMBALLAGE!N35) | Y35: =IF(EXPEDITION!N35=0,"",EXPEDITION!N35) | Z35: =IF(RECEPTION!N35=0,"",RECEPTION!N35) | AA35: =IF(LABO!N35=0,"",LABO!N35) | AB35: =IF('R&D'!N35=0,"",'R&D'!N35) | AC35: =IF(QUALITE!N35=0,"",QUALITE!N35) | AD35: =IF(UCIA!N35=0,"",UCIA!N35)
A36: Enveloppes marron grand format | B36: =IF(COMMERCIAUX!B36+MAINTENANCE!B36+ADV!B36+'R&D'!B36+RECEPTION!B36+DIRECTION!B36+EMBALLAGE!B36+MARKETING!B36+EXPEDITION!B36+QUALITE!B36+ACCUEIL!B36+PRODUCTION!B36+LABO!B36+COMPTA!B36=0,"",COMMERCIAUX!B36+MAINTENANCE!B36+ADV!B36+'R&D'!B36+RECEPTION!B36+DIRECTION!B36+EMBALLAGE!B36+MARKETING!B36+EXPEDITION!B36+QUALITE!B36+ACCUEIL!B36+PRODUCTION!B36+LABO!B36+COMPTA!B36+UCIA!B36) | C36: =IF(COMMERCIAUX!C36+MAINTENANCE!C36+ADV!C36+'R&D'!C36+RECEPTION!C36+DIRECTION!C36+EMBALLAGE!C36+MARKETING!C36+EXPEDITION!C36+QUALITE!C36+ACCUEIL!C36+PRODUCTION!C36+LABO!C36+COMPTA!C36=0,"",COMMERCIAUX!C36+MAINTENANCE!C36+ADV!C36+'R&D'!C36+RECEPTION!C36+DIRECTION!C36+EMBALLAGE!C36+MARKETING!C36+EXPEDITION!C36+QUALITE!C36+ACCUEIL!C36+PRODUCTION!C36+LABO!C36+COMPTA!C36+UCIA!C36) | D36: =IF(COMMERCIAUX!D36+MAINTENANCE!D36+ADV!D36+'R&D'!D36+RECEPTION!D36+DIRECTION!D36+EMBALLAGE!D36+MARKETING!D36+EXPEDITION!D36+QUALITE!D36+ACCUEIL!D36+PRODUCTION!D36+LABO!D36+COMPTA!D36=0,"",COMMERCIAUX!D36+MAINTENANCE!D36+ADV!D36+'R&D'!D36+RECEPTION!D36+DIRECTION!D36+EMBALLAGE!D36+MARKETING!D36+EXPEDITION!D36+QUALITE!D36+ACCUEIL!D36+PRODUCTION!D36+LABO!D36+COMPTA!D36+UCIA!D36) | E36: =IF(COMMERCIAUX!E36+MAINTENANCE!E36+ADV!E36+'R&D'!E36+RECEPTION!E36+DIRECTION!E36+EMBALLAGE!E36+MARKETING!E36+EXPEDITION!E36+QUALITE!E36+ACCUEIL!E36+PRODUCTION!E36+LABO!E36+COMPTA!E36=0,"",COMMERCIAUX!E36+MAINTENANCE!E36+ADV!E36+'R&D'!E36+RECEPTION!E36+DIRECTION!E36+EMBALLAGE!E36+MARKETING!E36+EXPEDITION!E36+QUALITE!E36+ACCUEIL!E36+PRODUCTION!E36+LABO!E36+COMPTA!E36+UCIA!E36) | F36: =IF(COMMERCIAUX!F36+MAINTENANCE!F36+ADV!F36+'R&D'!F36+RECEPTION!F36+DIRECTION!F36+EMBALLAGE!F36+MARKETING!F36+EXPEDITION!F36+QUALITE!F36+ACCUEIL!F36+PRODUCTION!F36+LABO!F36+COMPTA!F36=0,"",COMMERCIAUX!F36+MAINTENANCE!F36+ADV!F36+'R&D'!F36+RECEPTION!F36+DIRECTION!F36+EMBALLAGE!F36+MARKETING!F36+EXPEDITION!F36+QUALITE!F36+ACCUEIL!F36+PRODUCTION!F36+LABO!F36+COMPTA!F36+UCIA!F36) | G36: =IF(COMMERCIAUX!G36+MAINTENANCE!G36+ADV!G36+'R&D'!G36+RECEPTION!G36+DIRECTION!G36+EMBALLAGE!G36+MARKETING!G36+EXPEDITION!G36+QUALITE!G36+ACCUEIL!G36+PRODUCTION!G36+LABO!G36+COMPTA!G36=0,"",COMMERCIAUX!G36+MAINTENANCE!G36+ADV!G36+'R&D'!G36+RECEPTION!G36+DIRECTION!G36+EMBALLAGE!G36+MARKETING!G36+EXPEDITION!G36+QUALITE!G36+ACCUEIL!G36+PRODUCTION!G36+LABO!G36+COMPTA!G36+UCIA!G36) -> 1 | H36: =IF(COMMERCIAUX!H36+MAINTENANCE!H36+ADV!H36+'R&D'!H36+RECEPTION!H36+DIRECTION!H36+EMBALLAGE!H36+MARKETING!H36+EXPEDITION!H36+QUALITE!H36+ACCUEIL!H36+PRODUCTION!H36+LABO!H36+COMPTA!H36=0,"",COMMERCIAUX!H36+MAINTENANCE!H36+ADV!H36+'R&D'!H36+RECEPTION!H36+DIRECTION!H36+EMBALLAGE!H36+MARKETING!H36+EXPEDITION!H36+QUALITE!H36+ACCUEIL!H36+PRODUCTION!H36+LABO!H36+COMPTA!H36+UCIA!H36) -> 3 | I36: =IF(COMMERCIAUX!I36+MAINTENANCE!I36+ADV!I36+'R&D'!I36+RECEPTION!I36+DIRECTION!I36+EMBALLAGE!I36+MARKETING!I36+EXPEDITION!I36+QUALITE!I36+ACCUEIL!I36+PRODUCTION!I36+LABO!I36+COMPTA!I36=0,"",COMMERCIAUX!I36+MAINTENANCE!I36+ADV!I36+'R&D'!I36+RECEPTION!I36+DIRECTION!I36+EMBALLAGE!I36+MARKETING!I36+EXPEDITION!I36+QUALITE!I36+ACCUEIL!I36+PRODUCTION!I36+LABO!I36+COMPTA!I36+UCIA!I36) | ... M36: =IF(COMMERCIAUX!M36+MAINTENANCE!M36+ADV!M36+'R&D'!M36+RECEPTION!M36+DIRECTION!M36+EMBALLAGE!M36+MARKETING!M36+EXPEDITION!M36+QUALITE!M36+ACCUEIL!M36+PRODUCTION!M36+LABO!M36+COMPTA!M36=0,"",COMMERCIAUX!M36+MAINTENANCE!M36+ADV!M36+'R&D'!M36+RECEPTION!M36+DIRECTION!M36+EMBALLAGE!M36+MARKETING!M36+EXPEDITION!M36+QUALITE!M36+ACCUEIL!M36+PRODUCTION!M36+LABO!M36+COMPTA!M36+UCIA!M36) | N36: cartons | O36: =IF(SUM(B36:M36)=0,"",SUM(B36:M36)) -> 4 | P36: =IF(DIRECTION!N36=0,"",DIRECTION!N36) | Q36: =IF(COMPTA!N36=0,"",COMPTA!N36) | R36: =IF(ACCUEIL!N36=0,"",ACCUEIL!N36) -> 1 | S36: =IF(ADV!N36=0,"",ADV!N36) -> 1 | T36: =IF(COMMERCIAUX!N36=0,"",COMMERCIAUX!N36) | U36: =IF(MARKETING!N36=0,"",MARKETING!N36) | V36: =IF(MAINTENANCE!N36=0,"",MAINTENANCE!N36) | W36: =IF(PRODUCTION!N36=0,"",PRODUCTION!N36) | X36: =IF(EMBALLAGE!N36=0,"",EMBALLAGE!N36) | Y36: =IF(EXPEDITION!N36=0,"",EXPEDITION!N36) -> 2 | Z36: =IF(RECEPTION!N36=0,"",RECEPTION!N36) | AA36: =IF(LABO!N36=0,"",LABO!N36) | AB36: =IF('R&D'!N36=0,"",'R&D'!N36) | AC36: =IF(QUALITE!N36=0,"",QUALITE!N36) | AD36: =IF(UCIA!N36=0,"",UCIA!N36)
