Workbook

Sheet DIRECTION
A2: FOURNITURES PRISES 2016
A5: DENOMINATION | B5: JANVIER | C5: FÉVRIER | D5: MARS | E5: AVRIL | F5: MAI | G5: JUIN | H5: JUILLET | I5: AOÛT | J5: SEPTEMBRE | K5: OCTOBRE | L5: NOVEMBRE | M5: DÉCEMBRE | N5: TOTAL
A6: 12A | N6: =IF(SUM(B6:M6)=0,"",SUM(B6:M6))
A7: 85A | N7: =IF(SUM(B7:M7)=0,"",SUM(B7:M7))
A8: 78A | G8: 1 | H8: 1 | N8: =IF(SUM(B8:M8)=0,"",SUM(B8:M8)) -> 2
A9: 53X | N9: =IF(SUM(B9:M9)=0,"",SUM(B9:M9))
A10: 64A | N10: =IF(SUM(B10:M10)=0,"",SUM(B10:M10))
A11: 05X | N11: =IF(SUM(B11:M11)=0,"",SUM(B11:M11))
A12: 80X | N12: =IF(SUM(B12:M12)=0,"",SUM(B12:M12))
A13: 55X | N13: =IF(SUM(B13:M13)=0,"",SUM(B13:M13))
A14: Samsung MR COUDENE | N14: =IF(SUM(B14:M14)=0,"",SUM(B14:M14))
A16: Agrafes | N16: =IF(SUM(B16:M16)=0,"",SUM(B16:M16))
A17: Bannette | N17: =IF(SUM(B17:M17)=0,"",SUM(B17:M17))
A18: Batonnet de colle | N18: =IF(SUM(B18:M18)=0,"",SUM(B18:M18))
A19: Bobine thermique | G19: 1 | N19: =IF(SUM(B19:M19)=0,"",SUM(B19:M19)) -> 1
A20: Boite archives | N20: =IF(SUM(B20:M20)=0,"",SUM(B20:M20))
A21: Boite carton bouteille | N21: =IF(SUM(B21:M21)=0,"",SUM(B21:M21))
A22: Bombe de colle | N22: =IF(SUM(B22:M22)=0,"",SUM(B22:M22))
A23: Cadenas | N23: =IF(SUM(B23:M23)=0,"",SUM(B23:M23))
A24: Cahier tout format | G24: 2 | N24: =IF(SUM(B24:M24)=0,"",SUM(B24:M24)) -> 2
A25: Calculatrice | N25: =IF(SUM(B25:M25)=0,"",SUM(B25:M25))
A26: Chemises | N26: =IF(SUM(B26:M26)=0,"",SUM(B26:M26))
A27: Chemises trapec | N27: =IF(SUM(B27:M27)=0,"",SUM(B27:M27))
A28: Classeurs | N28: =IF(SUM(B28:M28)=0,"",SUM(B28:M28))
A29: Crayon a papier | G29: 4 | N29: =IF(SUM(B29:M29)=0,"",SUM(B29:M29)) -> 4
A30: Dossier suspendu | H30: 3 | N30: =IF(SUM(B30:M30)=0,"",SUM(B30:M30)) -> 3
A31: Enveloppes a soufflet | N31: =IF(SUM(B31:M31)=0,"",SUM(B31:M31))
A32: Enveloppes blanche a fenetre petit format | N32: =IF(SUM(B32:M32)=0,"",SUM(B32:M32))
A33: Enveloppes blanche grand format | N33: =IF(SUM(B33:M33)=0,"",SUM(B33:M33))
A34: Enveloppes blanche moyen format | N34: =IF(SUM(B34:M34)=0,"",SUM(B34:M34))
A35: Enveloppes blanche sans fenetre petit format | I35: 1 | N35: =IF(SUM(B35:M35)=0,"",SUM(B35:M35)) -> 1
A36: Enveloppes marron grand format | N36: =IF(SUM(B36:M36)=0,"",SUM(B36:M36))
A37: Enveloppes marron moyen format | N37: =IF(SUM(B37:M37)=0,"",SUM(B37:M37))
A38: Etiquettes | N38: =IF(SUM(B38:M38)=0,"",SUM(B38:M38))
A39: Feutre effacable | N39: =IF(SUM(B39:M39)=0,"",SUM(B39:M39))
A40: Gaz dépoussiérant | N40: =IF(SUM(B40:M40)=0,"",SUM(B40:M40))
A41: Gomme | N41: =IF(SUM(B41:M41)=0,"",SUM(B41:M41))
A42: Intercalaires | G42: 1 | N42: =IF(SUM(B42:M42)=0,"",SUM(B42:M42)) -> 1
A43: Markeur ONYX petit format | N43: =IF(SUM(B43:M43)=0,"",SUM(B43:M43))
A44: Markeur ONYX grand format | N44: =IF(SUM(B44:M44)=0,"",SUM(B44:M44))
...

Sheet COMPTA
A2: FOURNITURES PRISES 2016
A5: DENOMINATION | B5: JANVIER | C5: FÉVRIER | D5: MARS | E5: AVRIL | F5: MAI | G5: JUIN | H5: JUILLET | I5: AOÛT | J5: SEPTEMBRE | K5: OCTOBRE | L5: NOVEMBRE | M5: DÉCEMBRE | N5: TOTAL
A6: 12A | G6: 1 | N6: =IF(SUM(B6:M6)=0,"",SUM(B6:M6)) -> 1
A7: 85A | N7: =IF(SUM(B7:M7)=0,"",SUM(B7:M7))
A8: 78A | N8: =IF(SUM(B8:M8)=0,"",SUM(B8:M8))
A9: 53X | N9: =IF(SUM(B9:M9)=0,"",SUM(B9:M9))
A10: 64A | N10: =IF(SUM(B10:M10)=0,"",SUM(B10:M10))
A11: 05X | N11: =IF(SUM(B11:M11)=0,"",SUM(B11:M11))
A12: 80X | N12: =IF(SUM(B12:M12)=0,"",SUM(B12:M12))
A13: 55X | N13: =IF(SUM(B13:M13)=0,"",SUM(B13:M13))
A14: Samsung MR COUDENE | N14: =IF(SUM(B14:M14)=0,"",SUM(B14:M14))
A16: Agrafes | N16: =IF(SUM(B16:M16)=0,"",SUM(B16:M16))
A17: Bannette | N17: =IF(SUM(B17:M17)=0,"",SUM(B17:M17))
A18: Batonnet de colle | H18: 1 | N18: =IF(SUM(B18:M18)=0,"",SUM(B18:M18)) -> 1
A19: Bobine thermique | G19: 1 | N19: =IF(SUM(B19:M19)=0,"",SUM(B19:M19)) -> 1
A20: Boite archives | H20: 6 | N20: =IF(SUM(B20:M20)=0,"",SUM(B20:M20)) -> 6
A21: Boite carton bouteille | N21: =IF(SUM(B21:M21)=0,"",SUM(B21:M21))
A22: Bombe de colle | N22: =IF(SUM(B22:M22)=0,"",SUM(B22:M22))
A23: Cadenas | N23: =IF(SUM(B23:M23)=0,"",SUM(B23:M23))
A24: Cahier tout format | N24: =IF(SUM(B24:M24)=0,"",SUM(B24:M24))
A25: Calculatrice | N25: =IF(SUM(B25:M25)=0,"",SUM(B25:M25))
A26: Chemises | G26: 5 | N26: =IF(SUM(B26:M26)=0,"",SUM(B26:M26)) -> 5
A27: Chemises trapec | N27: =IF(SUM(B27:M27)=0,"",SUM(B27:M27))
A28: Classeurs | N28: =IF(SUM(B28:M28)=0,"",SUM(B28:M28))
A29: Crayon a papier | N29: =IF(SUM(B29:M29)=0,"",SUM(B29:M29))
A30: Dossier suspendu | N30: =IF(SUM(B30:M30)=0,"",SUM(B30:M30))
A31: Enveloppes a soufflet | N31: =IF(SUM(B31:M31)=0,"",SUM(B31:M31))
A32: Enveloppes blanche a fenetre petit format | H32: 1 | N32: =IF(SUM(B32:M32)=0,"",SUM(B32:M32)) -> 1
A33: Enveloppes blanche grand format | N33: =IF(SUM(B33:M33)=0,"",SUM(B33:M33))
A34: Enveloppes blanche moyen format | N34: =IF(SUM(B34:M34)=0,"",SUM(B34:M34))
A35: Enveloppes blanche sans fenetre petit format | N35: =IF(SUM(B35:M35)=0,"",SUM(B35:M35))
A36: Enveloppes marron grand format | N36: =IF(SUM(B36:M36)=0,"",SUM(B36:M36))
A37: Enveloppes marron moyen format | N37: =IF(SUM(B37:M37)=0,"",SUM(B37:M37))
A38: Etiquettes | N38: =IF(SUM(B38:M38)=0,"",SUM(B38:M38))
A39: Feutre effacable | N39: =IF(SUM(B39:M39)=0,"",SUM(B39:M39))
A40: Gaz dépoussiérant | N40: =IF(SUM(B40:M40)=0,"",SUM(B40:M40))
A41: Gomme | N41: =IF(SUM(B41:M41)=0,"",SUM(B41:M41))
A42: Intercalaires | N42: =IF(SUM(B42:M42)=0,"",SUM(B42:M42))
A43: Markeur ONYX petit format | N43: =IF(SUM(B43:M43)=0,"",SUM(B43:M43))
A44: Markeur ONYX grand format | N44: =IF(SUM(B44:M44)=0,"",SUM(B44:M44))
...

Sheet ACCUEIL
A2: FOURNITURES PRISES 2016
A5: DENOMINATION | B5: JANVIER | C5: FÉVRIER | D5: MARS | E5: AVRIL | F5: MAI | G5: JUIN | H5: JUILLET | I5: AOÛT | J5: SEPTEMBRE | K5: OCTOBRE | L5: NOVEMBRE | M5: DÉCEMBRE | N5: TOTAL
A6: 12A | N6: =IF(SUM(B6:M6)=0,"",SUM(B6:M6))
A7: 85A | N7: =IF(SUM(B7:M7)=0,"",SUM(B7:M7))
A8: 78A | N8: =IF(SUM(B8:M8)=0,"",SUM(B8:M8))
A9: 53X | N9: =IF(SUM(B9:M9)=0,"",SUM(B9:M9))
A10: 64A | N10: =IF(SUM(B10:M10)=0,"",SUM(B10:M10))
A11: 05X | N11: =IF(SUM(B11:M11)=0,"",SUM(B11:M11))
A12: 80X | N12: =IF(SUM(B12:M12)=0,"",SUM(B12:M12))
A13: 55X | N13: =IF(SUM(B13:M13)=0,"",SUM(B13:M13))
A14: Samsung MR COUDENE | N14: =IF(SUM(B14:M14)=0,"",SUM(B14:M14))
A16: Agrafes | G16: 1 | N16: =IF(SUM(B16:M16)=0,"",SUM(B16:M16)) -> 1
A17: Bannette | N17: =IF(SUM(B17:M17)=0,"",SUM(B17:M17))
A18: Batonnet de colle | N18: =IF(SUM(B18:M18)=0,"",SUM(B18:M18))
A19: Bobine thermique | N19: =IF(SUM(B19:M19)=0,"",SUM(B19:M19))
A20: Boite archives | N20: =IF(SUM(B20:M20)=0,"",SUM(B20:M20))
A21: Boite carton bouteille | N21: =IF(SUM(B21:M21)=0,"",SUM(B21:M21))
A22: Bombe de colle | N22: =IF(SUM(B22:M22)=0,"",SUM(B22:M22))
A23: Cadenas | N23: =IF(SUM(B23:M23)=0,"",SUM(B23:M23))
A24: Cahier tout format | H24: 2 | N24: =IF(SUM(B24:M24)=0,"",SUM(B24:M24)) -> 2
A25: Calculatrice | N25: =IF(SUM(B25:M25)=0,"",SUM(B25:M25))
A26: Chemises | N26: =IF(SUM(B26:M26)=0,"",SUM(B26:M26))
A27: Chemises trapec | N27: =IF(SUM(B27:M27)=0,"",SUM(B27:M27))
A28: Classeurs | N28: =IF(SUM(B28:M28)=0,"",SUM(B28:M28))
A29: Crayon a papier | N29: =IF(SUM(B29:M29)=0,"",SUM(B29:M29))
A30: Dossier suspendu | N30: =IF(SUM(B30:M30)=0,"",SUM(B30:M30))
A31: Enveloppes a soufflet | N31: =IF(SUM(B31:M31)=0,"",SUM(B31:M31))
A32: Enveloppes blanche a fenetre petit format | G32: 2 | H32: 3 | I32: 3 | N32: =IF(SUM(B32:M32)=0,"",SUM(B32:M32)) -> 8
A33: Enveloppes blanche grand format | H33: 1 | N33: =IF(SUM(B33:M33)=0,"",SUM(B33:M33)) -> 1
A34: Enveloppes blanche moyen format | I34: 1 | N34: =IF(SUM(B34:M34)=0,"",SUM(B34:M34)) -> 1
A35: Enveloppes blanche sans fenetre petit format | H35: 1 | N35: =IF(SUM(B35:M35)=0,"",SUM(B35:M35)) -> 1
A36: Enveloppes marron grand format | H36: 1 | N36: =IF(SUM(B36:M36)=0,"",SUM(B36:M36)) -> 1
A37: Enveloppes marron moyen format | N37: =IF(SUM(B37:M37)=0,"",SUM(B37:M37))
A38: Etiquettes | N38: =IF(SUM(B38:M38)=0,"",SUM(B38:M38))
A39: Feutre effacable | N39: =IF(SUM(B39:M39)=0,"",SUM(B39:M39))
A40: Gaz dépoussiérant | N40: =IF(SUM(B40:M40)=0,"",SUM(B40:M40))
A41: Gomme | N41: =IF(SUM(B41:M41)=0,"",SUM(B41:M41))
A42: Intercalaires | N42: =IF(SUM(B42:M42)=0,"",SUM(B42:M42))
A43: Markeur ONYX petit format | N43: =IF(SUM(B43:M43)=0,"",SUM(B43:M43))
A44: Markeur ONYX grand format | N44: =IF(SUM(B44:M44)=0,"",SUM(B44:M44))
...

Sheet ADV
A2: FOURNITURES PRISES 2016
A5: DENOMINATION | B5: JANVIER | C5: FÉVRIER | D5: MARS | E5: AVRIL | F5: MAI | G5: JUIN | H5: JUILLET | I5: AOÛT | J5: SEPTEMBRE | K5: OCTOBRE | L5: NOVEMBRE | M5: DÉCEMBRE | N5: TOTAL
A6: 12A | N6: =IF(SUM(B6:M6)=0,"",SUM(B6:M6))
A7: 85A | N7: =IF(SUM(B7:M7)=0,"",SUM(B7:M7))
A8: 78A | G8: 1 | H8: 1 | N8: =IF(SUM(B8:M8)=0,"",SUM(B8:M8)) -> 2
A9: 53X | N9: =IF(SUM(B9:M9)=0,"",SUM(B9:M9))
A10: 64A | N10: =IF(SUM(B10:M10)=0,"",SUM(B10:M10))
A11: 05X | N11: =IF(SUM(B11:M11)=0,"",SUM(B11:M11))
A12: 80X | G12: 1 | N12: =IF(SUM(B12:M12)=0,"",SUM(B12:M12)) -> 1
A13: 55X | N13: =IF(SUM(B13:M13)=0,"",SUM(B13:M13))
A14: Samsung MR COUDENE | N14: =IF(SUM(B14:M14)=0,"",SUM(B14:M14))
A16: Agrafes | G16: 1 | H16: 1 | N16: =IF(SUM(B16:M16)=0,"",SUM(B16:M16)) -> 2
A17: Bannette | N17: =IF(SUM(B17:M17)=0,"",SUM(B17:M17))
A18: Batonnet de colle | N18: =IF(SUM(B18:M18)=0,"",SUM(B18:M18))
A19: Bobine thermique | N19: =IF(SUM(B19:M19)=0,"",SUM(B19:M19))
A20: Boite archives | N20: =IF(SUM(B20:M20)=0,"",SUM(B20:M20))
A21: Boite carton bouteille | N21: =IF(SUM(B21:M21)=0,"",SUM(B21:M21))
A22: Bombe de colle | N22: =IF(SUM(B22:M22)=0,"",SUM(B22:M22))
A23: Cadenas | N23: =IF(SUM(B23:M23)=0,"",SUM(B23:M23))
A24: Cahier tout format | G24: 1 | N24: =IF(SUM(B24:M24)=0,"",SUM(B24:M24)) -> 1
A25: Calculatrice | N25: =IF(SUM(B25:M25)=0,"",SUM(B25:M25))
A26: Chemises | G26: 5 | H26: 1 | N26: =IF(SUM(B26:M26)=0,"",SUM(B26:M26)) -> 6
A27: Chemises trapec | N27: =IF(SUM(B27:M27)=0,"",SUM(B27:M27))
A28: Classeurs | N28: =IF(SUM(B28:M28)=0,"",SUM(B28:M28))
A29: Crayon a papier | G29: 1 | N29: =IF(SUM(B29:M29)=0,"",SUM(B29:M29)) -> 1
A30: Dossier suspendu | G30: 6 | N30: =IF(SUM(B30:M30)=0,"",SUM(B30:M30)) -> 6
A31: Enveloppes a soufflet | N31: =IF(SUM(B31:M31)=0,"",SUM(B31:M31))
A32: Enveloppes blanche a fenetre petit format | N32: =IF(SUM(B32:M32)=0,"",SUM(B32:M32))
A33: Enveloppes blanche grand format | N33: =IF(SUM(B33:M33)=0,"",SUM(B33:M33))
A34: Enveloppes blanche moyen format | N34: =IF(SUM(B34:M34)=0,"",SUM(B34:M34))
A35: Enveloppes blanche sans fenetre petit format | N35: =IF(SUM(B35:M35)=0,"",SUM(B35:M35))
A36: Enveloppes marron grand format | H36: 1 | N36: =IF(SUM(B36:M36)=0,"",SUM(B36:M36)) -> 1
A37: Enveloppes marron moyen format | N37: =IF(SUM(B37:M37)=0,"",SUM(B37:M37))
A38: Etiquettes | N38: =IF(SUM(B38:M38)=0,"",SUM(B38:M38))
A39: Feutre effacable | N39: =IF(SUM(B39:M39)=0,"",SUM(B39:M39))
A40: Gaz dépoussiérant | N40: =IF(SUM(B40:M40)=0,"",SUM(B40:M40))
A41: Gomme | N41: =IF(SUM(B41:M41)=0,"",SUM(B41:M41))
A42: Intercalaires | N42: =IF(SUM(B42:M42)=0,"",SUM(B42:M42))
A43: Markeur ONYX petit format | N43: =IF(SUM(B43:M43)=0,"",SUM(B43:M43))
A44: Markeur ONYX grand format | N44: =IF(SUM(B44:M44)=0,"",SUM(B44:M44))
...

Sheet COMMERCIAUX
A2: FOURNITURES PRISES 2016
A5: DENOMINATION | B5: JANVIER | C5: FÉVRIER | D5: MARS | E5: AVRIL | F5: MAI | G5: JUIN | H5: JUILLET | I5: AOÛT | J5: SEPTEMBRE | K5: OCTOBRE | L5: NOVEMBRE | M5: DÉCEMBRE | N5: TOTAL
A6: 12A | N6: =IF(SUM(B6:M6)=0,"",SUM(B6:M6))
A7: 85A | N7: =IF(SUM(B7:M7)=0,"",SUM(B7:M7))
A8: 78A | N8: =IF(SUM(B8:M8)=0,"",SUM(B8:M8))
A9: 53X | N9: =IF(SUM(B9:M9)=0,"",SUM(B9:M9))
A10: 64A | N10: =IF(SUM(B10:M10)=0,"",SUM(B10:M10))
A11: 05X | N11: =IF(SUM(B11:M11)=0,"",SUM(B11:M11))
A12: 80X | N12: =IF(SUM(B12:M12)=0,"",SUM(B12:M12))
A13: 55X | N13: =IF(SUM(B13:M13)=0,"",SUM(B13:M13))
A14: Samsung MR COUDENE | N14: =IF(SUM(B14:M14)=0,"",SUM(B14:M14))
A16: Agrafes | G16: 2 | N16: =IF(SUM(B16:M16)=0,"",SUM(B16:M16)) -> 2
A17: Bannette | N17: =IF(SUM(B17:M17)=0,"",SUM(B17:M17))
A18: Batonnet de colle | N18: =IF(SUM(B18:M18)=0,"",SUM(B18:M18))
A19: Bobine thermique | N19: =IF(SUM(B19:M19)=0,"",SUM(B19:M19))
A20: Boite archives | N20: =IF(SUM(B20:M20)=0,"",SUM(B20:M20))
A21: Boite carton bouteille | N21: =IF(SUM(B21:M21)=0,"",SUM(B21:M21))
A22: Bombe de colle | N22: =IF(SUM(B22:M22)=0,"",SUM(B22:M22))
A23: Cadenas | N23: =IF(SUM(B23:M23)=0,"",SUM(B23:M23))
A24: Cahier tout format | G24: 1 | H24: 2 | N24: =IF(SUM(B24:M24)=0,"",SUM(B24:M24)) -> 3
A25: Calculatrice | H25: 1 | N25: =IF(SUM(B25:M25)=0,"",SUM(B25:M25)) -> 1
A26: Chemises | G26: 25 | N26: =IF(SUM(B26:M26)=0,"",SUM(B26:M26)) -> 25
A27: Chemises trapec | N27: =IF(SUM(B27:M27)=0,"",SUM(B27:M27))
A28: Classeurs | N28: =IF(SUM(B28:M28)=0,"",SUM(B28:M28))
A29: Crayon a papier | H29: 1 | N29: =IF(SUM(B29:M29)=0,"",SUM(B29:M29)) -> 1
A30: Dossier suspendu | N30: =IF(SUM(B30:M30)=0,"",SUM(B30:M30))
A31: Enveloppes a soufflet | N31: =IF(SUM(B31:M31)=0,"",SUM(B31:M31))
A32: Enveloppes blanche a fenetre petit format | N32: =IF(SUM(B32:M32)=0,"",SUM(B32:M32))
A33: Enveloppes blanche grand format | N33: =IF(SUM(B33:M33)=0,"",SUM(B33:M33))
A34: Enveloppes blanche moyen format | N34: =IF(SUM(B34:M34)=0,"",SUM(B34:M34))
A35: Enveloppes blanche sans fenetre petit format | N35: =IF(SUM(B35:M35)=0,"",SUM(B35:M35))
A36: Enveloppes marron grand format | N36: =IF(SUM(B36:M36)=0,"",SUM(B36:M36))
A37: Enveloppes marron moyen format | N37: =IF(SUM(B37:M37)=0,"",SUM(B37:M37))
A38: Etiquettes | N38: =IF(SUM(B38:M38)=0,"",SUM(B38:M38))
A39: Feutre effacable | N39: =IF(SUM(B39:M39)=0,"",SUM(B39:M39))
A40: Gaz dépoussiérant | N40: =IF(SUM(B40:M40)=0,"",SUM(B40:M40))
A41: Gomme | N41: =IF(SUM(B41:M41)=0,"",SUM(B41:M41))
A42: Intercalaires | N42: =IF(SUM(B42:M42)=0,"",SUM(B42:M42))
A43: Markeur ONYX petit format | H43: 1 | N43: =IF(SUM(B43:M43)=0,"",SUM(B43:M43)) -> 1
A44: Markeur ONYX grand format | N44: =IF(SUM(B44:M44)=0,"",SUM(B44:M44))
...

Sheet MARKETING
A2: FOURNITURES PRISES 2016
A5: DENOMINATION | B5: JANVIER | C5: FÉVRIER | D5: MARS | E5: AVRIL | F5: MAI | G5: JUIN | H5: JUILLET | I5: AOÛT | J5: SEPTEMBRE | K5: OCTOBRE | L5: NOVEMBRE | M5: DÉCEMBRE | N5: TOTAL
A6: 12A | N6: =IF(SUM(B6:M6)=0,"",SUM(B6:M6))
A7: 85A | N7: =IF(SUM(B7:M7)=0,"",SUM(B7:M7))
A8: 78A | N8: =IF(SUM(B8:M8)=0,"",SUM(B8:M8))
A9: 53X | N9: =IF(SUM(B9:M9)=0,"",SUM(B9:M9))
A10: 64A | N10: =IF(SUM(B10:M10)=0,"",SUM(B10:M10))
A11: 05X | N11: =IF(SUM(B11:M11)=0,"",SUM(B11:M11))
A12: 80X | N12: =IF(SUM(B12:M12)=0,"",SUM(B12:M12))
A13: 55X | N13: =IF(SUM(B13:M13)=0,"",SUM(B13:M13))
A14: Samsung MR COUDENE | N14: =IF(SUM(B14:M14)=0,"",SUM(B14:M14))
A16: Agrafes | N16: =IF(SUM(B16:M16)=0,"",SUM(B16:M16))
A17: Bannette | N17: =IF(SUM(B17:M17)=0,"",SUM(B17:M17))
A18: Batonnet de colle | N18: =IF(SUM(B18:M18)=0,"",SUM(B18:M18))
... A23: Cadenas | N23: =IF(SUM(B23:M23)=0,"",SUM(B23:M23))
A24: Cahier tout format | H24: 1 | N24: =IF(SUM(B24:M24)=0,"",SUM(B24:M24)) -> 1
A25: Calculatrice | N25: =IF(SUM(B25:M25)=0,"",SUM(B25:M25))
A26: Chemises | N26: =IF(SUM(B26:M26)=0,"",SUM(B26:M26))
A27: Chemises trapec | N27: =IF(SUM(B27:M27)=0,"",SUM(B27:M27))
A28: Classeurs | H28: 2 | N28: =IF(SUM(B28:M28)=0,"",SUM(B28:M28)) -> 2
A29: Crayon a papier | N29: =IF(SUM(B29:M29)=0,"",SUM(B29:M29))
A30: Dossier suspendu | N30: =IF(SUM(B30:M30)=0,"",SUM(B30:M30))
A31: Enveloppes a soufflet | N31: =IF(SUM(B31:M31)=0,"",SUM(B31:M31))
A32: Enveloppes blanche a fenetre petit format | N32: =IF(SUM(B32:M32)=0,"",SUM(B32:M32))
A33: Enveloppes blanche grand format | N33: =IF(SUM(B33:M33)=0,"",SUM(B33:M33))
A34: Enveloppes blanche moyen format | N34: =IF(SUM(B34:M34)=0,"",SUM(B34:M34))
A35: Enveloppes blanche sans fenetre petit format | N35: =IF(SUM(B35:M35)=0,"",SUM(B35:M35))
A36: Enveloppes marron grand format | N36: =IF(SUM(B36:M36)=0,"",SUM(B36:M36))
A37: Enveloppes marron moyen format | N37: =IF(SUM(B37:M37)=0,"",SUM(B37:M37))
A38: Etiquettes | G38: 2 | N38: =IF(SUM(B38:M38)=0,"",SUM(B38:M38)) -> 2
A39: Feutre effacable | H39: 4 | N39: =IF(SUM(B39:M39)=0,"",SUM(B39:M39)) -> 4
A40: Gaz dépoussiérant | N40: =IF(SUM(B40:M40)=0,"",SUM(B40:M40))
A41: Gomme | N41: =IF(SUM(B41:M41)=0,"",SUM(B41:M41))
A42: Intercalaires | N42: =IF(SUM(B42:M42)=0,"",SUM(B42:M42))
A43: Markeur ONYX petit format | N43: =IF(SUM(B43:M43)=0,"",SUM(B43:M43))
A44: Markeur ONYX grand format | N44: =IF(SUM(B44:M44)=0,"",SUM(B44:M44))
A45: Papier A3 blanc | N45: =IF(SUM(B45:M45)=0,"",SUM(B45:M45))
A46: Papier A3 couleurs | N46: =IF(SUM(B46:M46)=0,"",SUM(B46:M46))
A47: Papier A4 blanc | N47: =IF(SUM(B47:M47)=0,"",SUM(B47:M47))
A48: Papier A4 couleurs | N48: =IF(SUM(B48:M48)=0,"",SUM(B48:M48))
...

Sheet MAINTENANCE
A2: FOURNITURES PRISES 2016
A5: DENOMINATION | B5: JANVIER | C5: FÉVRIER | D5: MARS | E5: AVRIL | F5: MAI | G5: JUIN | H5: JUILLET | I5: AOÛT | J5: SEPTEMBRE | K5: OCTOBRE | L5: NOVEMBRE | M5: DÉCEMBRE | N5: TOTAL
A6: 12A | N6: =IF(SUM(B6:M6)=0,"",SUM(B6:M6))
A7: 85A | N7: =IF(SUM(B7:M7)=0,"",SUM(B7:M7))
A8: 78A | N8: =IF(SUM(B8:M8)=0,"",SUM(B8:M8))
A9: 53X | N9: =IF(SUM(B9:M9)=0,"",SUM(B9:M9))
A10: 64A | N10: =IF(SUM(B10:M10)=0,"",SUM(B10:M10))
A11: 05X | N11: =IF(SUM(B11:M11)=0,"",SUM(B11:M11))
A12: 80X | N12: =IF(SUM(B12:M12)=0,"",SUM(B12:M12))
A13: 55X | N13: =IF(SUM(B13:M13)=0,"",SUM(B13:M13))
A14: Samsung MR COUDENE | N14: =IF(SUM(B14:M14)=0,"",SUM(B14:M14))
A16: Agrafes | N16: =IF(SUM(B16:M16)=0,"",SUM(B16:M16))
A17: Bannette | N17: =IF(SUM(B17:M17)=0,"",SUM(B17:M17))
A18: Batonnet de colle | N18: =IF(SUM(B18:M18)=0,"",SUM(B18:M18))
A19: Bobine thermique | N19: =IF(SUM(B19:M19)=0,"",SUM(B19:M19))
A20: Boite archives | G20: 20 | I20: 3 | N20: =IF(SUM(B20:M20)=0,"",SUM(B20:M20)) -> 23
A21: Boite carton bouteille | N21: =IF(SUM(B21:M21)=0,"",SUM(B21:M21))
A22: Bombe de colle | N22: =IF(SUM(B22:M22)=0,"",SUM(B22:M22))
A23: Cadenas | N23: =IF(SUM(B23:M23)=0,"",SUM(B23:M23))
A24: Cahier tout format | H24: =2+3 -> 5 | N24: =IF(SUM(B24:M24)=0,"",SUM(B24:M24)) -> 5
A25: Calculatrice | N25: =IF(SUM(B25:M25)=0,"",SUM(B25:M25))
A26: Chemises | G26: 3 | N26: =IF(SUM(B26:M26)=0,"",SUM(B26:M26)) -> 3
A27: Chemises trapec | N27: =IF(SUM(B27:M27)=0,"",SUM(B27:M27))
A28: Classeurs | G28: 1 | H28: 2 | N28: =IF(SUM(B28:M28)=0,"",SUM(B28:M28)) -> 3
A29: Crayon a papier | H29: 1 | N29: =IF(SUM(B29:M29)=0,"",SUM(B29:M29)) -> 1
A30: Dossier suspendu | N30: =IF(SUM(B30:M30)=0,"",SUM(B30:M30))
A31: Enveloppes a soufflet | N31: =IF(SUM(B31:M31)=0,"",SUM(B31:M31))
A32: Enveloppes blanche a fenetre petit format | N32: =IF(SUM(B32:M32)=0,"",SUM(B32:M32))
A33: Enveloppes blanche grand format | N33: =IF(SUM(B33:M33)=0,"",SUM(B33:M33))
A34: Enveloppes blanche moyen format | N34: =IF(SUM(B34:M34)=0,"",SUM(B34:M34))
A35: Enveloppes blanche sans fenetre petit format | N35: =IF(SUM(B35:M35)=0,"",SUM(B35:M35))
A36: Enveloppes marron grand format | N36: =IF(SUM(B36:M36)=0,"",SUM(B36:M36))
A37: Enveloppes marron moyen format | N37: =IF(SUM(B37:M37)=0,"",SUM(B37:M37))
A38: Etiquettes | N38: =IF(SUM(B38:M38)=0,"",SUM(B38:M38))
A39: Feutre effacable | N39: =IF(SUM(B39:M39)=0,"",SUM(B39:M39))
A40: Gaz dépoussiérant | N40: =IF(SUM(B40:M40)=0,"",SUM(B40:M40))
A41: Gomme | N41: =IF(SUM(B41:M41)=0,"",SUM(B41:M41))
... A46: Papier A3 couleurs | N46: =IF(SUM(B46:M46)=0,"",SUM(B46:M46))
A47: Papier A4 blanc | H47: 1 | N47: =IF(SUM(B47:M47)=0,"",SUM(B47:M47)) -> 1
A48: Papier A4 couleurs | N48: =IF(SUM(B48:M48)=0,"",SUM(B48:M48))
...

Sheet PRODUCTION
A2: FOURNITURES PRISES 2016
A5: DENOMINATION | B5: JANVIER | C5: FÉVRIER | D5: MARS | E5: AVRIL | F5: MAI | G5: JUIN | H5: JUILLET | I5: AOÛT | J5: SEPTEMBRE | K5: OCTOBRE | L5: NOVEMBRE | M5: DÉCEMBRE | N5: TOTAL
A6: 12A | G6: 1 | N6: =IF(SUM(B6:M6)=0,"",SUM(B6:M6)) -> 1
A7: 85A | N7: =IF(SUM(B7:M7)=0,"",SUM(B7:M7))
A8: 78A | N8: =IF(SUM(B8:M8)=0,"",SUM(B8:M8))
A9: 53X | N9: =IF(SUM(B9:M9)=0,"",SUM(B9:M9))
A10: 64A | N10: =IF(SUM(B10:M10)=0,"",SUM(B10:M10))
A11: 05X | N11: =IF(SUM(B11:M11)=0,"",SUM(B11:M11))
A12: 80X | N12: =IF(SUM(B12:M12)=0,"",SUM(B12:M12))
A13: 55X | N13: =IF(SUM(B13:M13)=0,"",SUM(B13:M13))
A14: Samsung MR COUDENE | N14: =IF(SUM(B14:M14)=0,"",SUM(B14:M14))
A16: Agrafes | N16: =IF(SUM(B16:M16)=0,"",SUM(B16:M16))
A17: Bannette | N17: =IF(SUM(B17:M17)=0,"",SUM(B17:M17))
A18: Batonnet de colle | N18: =IF(SUM(B18:M18)=0,"",SUM(B18:M18))
A19: Bobine thermique | N19: =IF(SUM(B19:M19)=0,"",SUM(B19:M19))
... A24: Cahier tout format | N24: =IF(SUM(B24:M24)=0,"",SUM(B24:M24))
A25: Calculatrice | G25: 1 | I25: 1 | N25: =IF(SUM(B25:M25)=0,"",SUM(B25:M25)) -> 2
A26: Chemises | N26: =IF(SUM(B26:M26)=0,"",SUM(B26:M26))
A27: Chemises trapec | N27: =IF(SUM(B27:M27)=0,"",SUM(B27:M27))
A28: Classeurs | N28: =IF(SUM(B28:M28)=0,"",SUM(B28:M28))
A29: Crayon a papier | N29: =IF(SUM(B29:M29)=0,"",SUM(B29:M29))
A30: Dossier suspendu | N30: =IF(SUM(B30:M30)=0,"",SUM(B30:M30))
A31: Enveloppes a soufflet | N31: =IF(SUM(B31:M31)=0,"",SUM(B31:M31))
A32: Enveloppes blanche a fenetre petit format | N32: =IF(SUM(B32:M32)=0,"",SUM(B32:M32))
A33: Enveloppes blanche grand format | N33: =IF(SUM(B33:M33)=0,"",SUM(B33:M33))
A34: Enveloppes blanche moyen format | N34: =IF(SUM(B34:M34)=0,"",SUM(B34:M34))
A35: Enveloppes blanche sans fenetre petit format | N35: =IF(SUM(B35:M35)=0,"",SUM(B35:M35))
A36: Enveloppes marron grand format | N36: =IF(SUM(B36:M36)=0,"",SUM(B36:M36))
A37: Enveloppes marron moyen format | N37: =IF(SUM(B37:M37)=0,"",SUM(B37:M37))
A38: Etiquettes | N38: =IF(SUM(B38:M38)=0,"",SUM(B38:M38))
A39: Feutre effacable | G39: 3 | N39: =IF(SUM(B39:M39)=0,"",SUM(B39:M39)) -> 3
A40: Gaz dépoussiérant | N40: =IF(SUM(B40:M40)=0,"",SUM(B40:M40))
A41: Gomme | N41: =IF(SUM(B41:M41)=0,"",SUM(B41:M41))
A42: Intercalaires | N42: =IF(SUM(B42:M42)=0,"",SUM(B42:M42))
A43: Markeur ONYX petit format | G43: 5 | H43: 5 | I43: 6 | N43: =IF(SUM(B43:M43)=0,"",SUM(B43:M43)) -> 16
A44: Markeur ONYX grand format | G44: 4 | H44: 5 | N44: =IF(SUM(B44:M44)=0,"",SUM(B44:M44)) -> 9
A45: Papier A3 blanc | N45: =IF(SUM(B45:M45)=0,"",SUM(B45:M45))
A46: Papier A3 couleurs | N46: =IF(SUM(B46:M46)=0,"",SUM(B46:M46))
A47: Papier A4 blanc | H47: 1 | N47: =IF(SUM(B47:M47)=0,"",SUM(B47:M47)) -> 1
A48: Papier A4 couleurs | N48: =IF(SUM(B48:M48)=0,"",SUM(B48:M48))
...

Sheet EMBALLAGE
A2: FOURNITURES PRISES 2016
A5: DENOMINATION | B5: JANVIER | C5: FÉVRIER | D5: MARS | E5: AVRIL | F5: MAI | G5: JUIN | H5: JUILLET | I5: AOÛT | J5: SEPTEMBRE | K5: OCTOBRE | L5: NOVEMBRE | M5: DÉCEMBRE | N5: TOTAL
A6: 12A | N6: =IF(SUM(B6:M6)=0,"",SUM(B6:M6))
A7: 85A | N7: =IF(SUM(B7:M7)=0,"",SUM(B7:M7))
A8: 78A | N8: =IF(SUM(B8:M8)=0,"",SUM(B8:M8))
A9: 53X | N9: =IF(SUM(B9:M9)=0,"",SUM(B9:M9))
A10: 64A | N10: =IF(SUM(B10:M10)=0,"",SUM(B10:M10))
A11: 05X | N11: =IF(SUM(B11:M11)=0,"",SUM(B11:M11))
A12: 80X | N12: =IF(SUM(B12:M12)=0,"",SUM(B12:M12))
A13: 55X | N13: =IF(SUM(B13:M13)=0,"",SUM(B13:M13))
A14: Samsung MR COUDENE | N14: =IF(SUM(B14:M14)=0,"",SUM(B14:M14))
A16: Agrafes | N16: =IF(SUM(B16:M16)=0,"",SUM(B16:M16))
A17: Bannette | N17: =IF(SUM(B17:M17)=0,"",SUM(B17:M17))
A18: Batonnet de colle | N18: =IF(SUM(B18:M18)=0,"",SUM(B18:M18))
... A21: Boite carton bouteille | N21: =IF(SUM(B21:M21)=0,"",SUM(B21:M21))
A22: Bombe de colle | G22: 2 | N22: =IF(SUM(B22:M22)=0,"",SUM(B22:M22)) -> 2
A23: Cadenas | N23: =IF(SUM(B23:M23)=0,"",SUM(B23:M23))
A24: Cahier tout format | N24: =IF(SUM(B24:M24)=0,"",SUM(B24:M24))
A25: Calculatrice | N25: =IF(SUM(B25:M25)=0,"",SUM(B25:M25))
A26: Chemises | N26: =IF(SUM(B26:M26)=0,"",SUM(B26:M26))
A27: Chemises trapec | N27: =IF(SUM(B27:M27)=0,"",SUM(B27:M27))
A28: Classeurs | G28: 2 | N28: =IF(SUM(B28:M28)=0,"",SUM(B28:M28)) -> 2
A29: Crayon a papier | N29: =IF(SUM(B29:M29)=0,"",SUM(B29:M29))
A30: Dossier suspendu | N30: =IF(SUM(B30:M30)=0,"",SUM(B30:M30))
A31: Enveloppes a soufflet | N31: =IF(SUM(B31:M31)=0,"",SUM(B31:M31))
A32: Enveloppes blanche a fenetre petit format | N32: =IF(SUM(B32:M32)=0,"",SUM(B32:M32))
A33: Enveloppes blanche grand format | N33: =IF(SUM(B33:M33)=0,"",SUM(B33:M33))
A34: Enveloppes blanche moyen format | N34: =IF(SUM(B34:M34)=0,"",SUM(B34:M34))
A35: Enveloppes blanche sans fenetre petit format | N35: =IF(SUM(B35:M35)=0,"",SUM(B35:M35))
A36: Enveloppes marron grand format | N36: =IF(SUM(B36:M36)=0,"",SUM(B36:M36))
A37: Enveloppes marron moyen format | N37: =IF(SUM(B37:M37)=0,"",SUM(B37:M37))
A38: Etiquettes | N38: =IF(SUM(B38:M38)=0,"",SUM(B38:M38))
A39: Feutre effacable | G39: 4 | N39: =IF(SUM(B39:M39)=0,"",SUM(B39:M39)) -> 4
A40: Gaz dépoussiérant | N40: =IF(SUM(B40:M40)=0,"",SUM(B40:M40))
A41: Gomme | N41: =IF(SUM(B41:M41)=0,"",SUM(B41:M41))
A42: Intercalaires | N42: =IF(SUM(B42:M42)=0,"",SUM(B42:M42))
A43: Markeur ONYX petit format | G43: 5 | I43: 3 | N43: =IF(SUM(B43:M43)=0,"",SUM(B43:M43)) -> 8
A44: Markeur ONYX grand format | N44: =IF(SUM(B44:M44)=0,"",SUM(B44:M44))
A45: Papier A3 blanc | N45: =IF(SUM(B45:M45)=0,"",SUM(B45:M45))
A46: Papier A3 couleurs | N46: =IF(SUM(B46:M46)=0,"",SUM(B46:M46))
...

Sheet EXPEDITION
A2: FOURNITURES PRISES 2016
A5: DENOMINATION | B5: JANVIER | C5: FÉVRIER | D5: MARS | E5: AVRIL | F5: MAI | G5: JUIN | H5: JUILLET | I5: AOÛT | J5: SEPTEMBRE | K5: OCTOBRE | L5: NOVEMBRE | M5: DÉCEMBRE | N5: TOTAL
A6: 12A | N6: =IF(SUM(B6:M6)=0,"",SUM(B6:M6))
A7: 85A | N7: =IF(SUM(B7:M7)=0,"",SUM(B7:M7))
A8: 78A | N8: =IF(SUM(B8:M8)=0,"",SUM(B8:M8))
A9: 53X | N9: =IF(SUM(B9:M9)=0,"",SUM(B9:M9))
A10: 64A | N10: =IF(SUM(B10:M10)=0,"",SUM(B10:M10))
A11: 05X | N11: =IF(SUM(B11:M11)=0,"",SUM(B11:M11))
A12: 80X | N12: =IF(SUM(B12:M12)=0,"",SUM(B12:M12))
A13: 55X | G13: 1 | H13: 1 | N13: =IF(SUM(B13:M13)=0,"",SUM(B13:M13)) -> 2
A14: Samsung MR COUDENE | N14: =IF(SUM(B14:M14)=0,"",SUM(B14:M14))
A16: Agrafes | H16: 1 | N16: =IF(SUM(B16:M16)=0,"",SUM(B16:M16)) -> 1
A17: Bannette | N17: =IF(SUM(B17:M17)=0,"",SUM(B17:M17))
A18: Batonnet de colle | N18: =IF(SUM(B18:M18)=0,"",SUM(B18:M18))
A19: Bobine thermique | N19: =IF(SUM(B19:M19)=0,"",SUM(B19:M19))
A20: Boite archives | N20: =IF(SUM(B20:M20)=0,"",SUM(B20:M20))
A21: Boite carton bouteille | N21: =IF(SUM(B21:M21)=0,"",SUM(B21:M21))
A22: Bombe de colle | N22: =IF(SUM(B22:M22)=0,"",SUM(B22:M22))
A23: Cadenas | N23: =IF(SUM(B23:M23)=0,"",SUM(B23:M23))
A24: Cahier tout format | N24: =IF(SUM(B24:M24)=0,"",SUM(B24:M24))
A25: Calculatrice | N25: =IF(SUM(B25:M25)=0,"",SUM(B25:M25))
A26: Chemises | N26: =IF(SUM(B26:M26)=0,"",SUM(B26:M26))
A27: Chemises trapec | N27: =IF(SUM(B27:M27)=0,"",SUM(B27:M27))
A28: Classeurs | N28: =IF(SUM(B28:M28)=0,"",SUM(B28:M28))
... A35: Enveloppes blanche sans fenetre petit format | N35: =IF(SUM(B35:M35)=0,"",SUM(B35:M35))
A36: Enveloppes marron grand format | G36: 1 | H36: 1 | N36: =IF(SUM(B36:M36)=0,"",SUM(B36:M36)) -> 2
A37: Enveloppes marron moyen format | N37: =IF(SUM(B37:M37)=0,"",SUM(B37:M37))
A38: Etiquettes | N38: =IF(SUM(B38:M38)=0,"",SUM(B38:M38))
A39: Feutre effacable | N39: =IF(SUM(B39:M39)=0,"",SUM(B39:M39))
A40: Gaz dépoussiérant | N40: =IF(SUM(B40:M40)=0,"",SUM(B40:M40))
A41: Gomme | N41: =IF(SUM(B41:M41)=0,"",SUM(B41:M41))
A42: Intercalaires | N42: =IF(SUM(B42:M42)=0,"",SUM(B42:M42))
A43: Markeur ONYX petit format | N43: =IF(SUM(B43:M43)=0,"",SUM(B43:M43))
A44: Markeur ONYX grand format | G44: 7 | H44: 7 | I44: 3 | N44: =IF(SUM(B44:M44)=0,"",SUM(B44:M44)) -> 17
A45: Papier A3 blanc | N45: =IF(SUM(B45:M45)=0,"",SUM(B45:M45))
A46: Papier A3 couleurs | N46: =IF(SUM(B46:M46)=0,"",SUM(B46:M46))
A47: Papier A4 blanc | H47: 15 | N47: =IF(SUM(B47:M47)=0,"",SUM(B47:M47)) -> 15
A48: Papier A4 couleurs | N48: =IF(SUM(B48:M48)=0,"",SUM(B48:M48))
A49: Papier clairefontaine blanc marketing 2618 | N49: =IF(SUM(B49:M49)=0,"",SUM(B49:M49))
A50: Papier en tête | N50: =IF(SUM(B50:M50)=0,"",SUM(B50:M50))
...

Sheet RECEPTION
A2: FOURNITURES PRISES 2016
A5: DENOMINATION | B5: JANVIER | C5: FÉVRIER | D5: MARS | E5: AVRIL | F5: MAI | G5: JUIN | H5: JUILLET | I5: AOÛT | J5: SEPTEMBRE | K5: OCTOBRE | L5: NOVEMBRE | M5: DÉCEMBRE | N5: TOTAL
A6: 12A | N6: =IF(SUM(B6:M6)=0,"",SUM(B6:M6))
A7: 85A | N7: =IF(SUM(B7:M7)=0,"",SUM(B7:M7))
A8: 78A | N8: =IF(SUM(B8:M8)=0,"",SUM(B8:M8))
A9: 53X | N9: =IF(SUM(B9:M9)=0,"",SUM(B9:M9))
A10: 64A | N10: =IF(SUM(B10:M10)=0,"",SUM(B10:M10))
A11: 05X | N11: =IF(SUM(B11:M11)=0,"",SUM(B11:M11))
A12: 80X | N12: =IF(SUM(B12:M12)=0,"",SUM(B12:M12))
A13: 55X | N13: =IF(SUM(B13:M13)=0,"",SUM(B13:M13))
A14: Samsung MR COUDENE | N14: =IF(SUM(B14:M14)=0,"",SUM(B14:M14))
A16: Agrafes | N16: =IF(SUM(B16:M16)=0,"",SUM(B16:M16))
A17: Bannette | N17: =IF(SUM(B17:M17)=0,"",SUM(B17:M17))
A18: Batonnet de colle | N18: =IF(SUM(B18:M18)=0,"",SUM(B18:M18))
... A42: Intercalaires | N42: =IF(SUM(B42:M42)=0,"",SUM(B42:M42))
A43: Markeur ONYX petit format | G43: 2 | N43: =IF(SUM(B43:M43)=0,"",SUM(B43:M43)) -> 2
A44: Markeur ONYX grand format | N44: =IF(SUM(B44:M44)=0,"",SUM(B44:M44))
A45: Papier A3 blanc | N45: =IF(SUM(B45:M45)=0,"",SUM(B45:M45))
A46: Papier A3 couleurs | N46: =IF(SUM(B46:M46)=0,"",SUM(B46:M46))
A47: Papier A4 blanc | N47: =IF(SUM(B47:M47)=0,"",SUM(B47:M47))
A48: Papier A4 couleurs | N48: =IF(SUM(B48:M48)=0,"",SUM(B48:M48))
A49: Papier clairefontaine blanc marketing 2618 | N49: =IF(SUM(B49:M49)=0,"",SUM(B49:M49))
A50: Papier en tête | N50: =IF(SUM(B50:M50)=0,"",SUM(B50:M50))
A51: Papier paperboard | N51: =IF(SUM(B51:M51)=0,"",SUM(B51:M51))
A52: Papier photo | N52: =IF(SUM(B52:M52)=0,"",SUM(B52:M52))
A53: Piles 2025 | N53: =IF(SUM(B53:M53)=0,"",SUM(B53:M53))
A54: Piles 2032 | N54: =IF(SUM(B54:M54)=0,"",SUM(B54:M54))
A55: Piles 9V | N55: =IF(SUM(B55:M55)=0,"",SUM(B55:M55))
... A74: Stylo noir a capuchon | N74: =IF(SUM(B74:M74)=0,"",SUM(B74:M74))
A75: Stylo retractable bleu | G75: 1 | H75: 4 | N75: =IF(SUM(B75:M75)=0,"",SUM(B75:M75)) -> 5
A76: Stylo retractable rouge | N76: =IF(SUM(B76:M76)=0,"",SUM(B76:M76))
A77: Stylo rouge a capuchon | N77: =IF(SUM(B77:M77)=0,"",SUM(B77:M77))
A78: Stylo signature | N78: =IF(SUM(B78:M78)=0,"",SUM(B78:M78))
A79: Tampons | N79: =IF(SUM(B79:M79)=0,"",SUM(B79:M79))
A80: Traite | N80: =IF(SUM(B80:M80)=0,"",SUM(B80:M80))
A81: Trieurs | N81: =IF(SUM(B81:M81)=0,"",SUM(B81:M81))
A83: Agitateur | N83: =IF(SUM(B83:M83)=0,"",SUM(B83:M83))
A84: Assiettes | N84: =IF(SUM(B84:M84)=0,"",SUM(B84:M84))
A85: Chemin de table | N85: =IF(SUM(B85:M85)=0,"",SUM(B85:M85))
A86: Couteaux | N86: =IF(SUM(B86:M86)=0,"",SUM(B86:M86))
...

Sheet LABO
A2: FOURNITURES PRISES 2016
A5: DENOMINATION | B5: JANVIER | C5: FÉVRIER | D5: MARS | E5: AVRIL | F5: MAI | G5: JUIN | H5: JUILLET | I5: AOÛT | J5: SEPTEMBRE | K5: OCTOBRE | L5: NOVEMBRE | M5: DÉCEMBRE | N5: TOTAL
A6: 12A | N6: =IF(SUM(B6:M6)=0,"",SUM(B6:M6))
A7: 85A | N7: =IF(SUM(B7:M7)=0,"",SUM(B7:M7))
A8: 78A | N8: =IF(SUM(B8:M8)=0,"",SUM(B8:M8))
A9: 53X | N9: =IF(SUM(B9:M9)=0,"",SUM(B9:M9))
A10: 64A | N10: =IF(SUM(B10:M10)=0,"",SUM(B10:M10))
A11: 05X | N11: =IF(SUM(B11:M11)=0,"",SUM(B11:M11))
A12: 80X | N12: =IF(SUM(B12:M12)=0,"",SUM(B12:M12))
A13: 55X | N13: =IF(SUM(B13:M13)=0,"",SUM(B13:M13))
A14: Samsung MR COUDENE | N14: =IF(SUM(B14:M14)=0,"",SUM(B14:M14))
A16: Agrafes | N16: =IF(SUM(B16:M16)=0,"",SUM(B16:M16))
A17: Bannette | N17: =IF(SUM(B17:M17)=0,"",SUM(B17:M17))
A18: Batonnet de colle | N18: =IF(SUM(B18:M18)=0,"",SUM(B18:M18))
... A23: Cadenas | N23: =IF(SUM(B23:M23)=0,"",SUM(B23:M23))
A24: Cahier tout format | H24: 1 | N24: =IF(SUM(B24:M24)=0,"",SUM(B24:M24)) -> 1
A25: Calculatrice | N25: =IF(SUM(B25:M25)=0,"",SUM(B25:M25))
A26: Chemises | N26: =IF(SUM(B26:M26)=0,"",SUM(B26:M26))
A27: Chemises trapec | N27: =IF(SUM(B27:M27)=0,"",SUM(B27:M27))
A28: Classeurs | N28: =IF(SUM(B28:M28)=0,"",SUM(B28:M28))
A29: Crayon a papier | N29: =IF(SUM(B29:M29)=0,"",SUM(B29:M29))
A30: Dossier suspendu | N30: =IF(SUM(B30:M30)=0,"",SUM(B30:M30))
A31: Enveloppes a soufflet | N31: =IF(SUM(B31:M31)=0,"",SUM(B31:M31))
A32: Enveloppes blanche a fenetre petit format | N32: =IF(SUM(B32:M32)=0,"",SUM(B32:M32))
A33: Enveloppes blanche grand format | N33: =IF(SUM(B33:M33)=0,"",SUM(B33:M33))
A34: Enveloppes blanche moyen format | N34: =IF(SUM(B34:M34)=0,"",SUM(B34:M34))
A35: Enveloppes blanche sans fenetre petit format | N35: =IF(SUM(B35:M35)=0,"",SUM(B35:M35))
A36: Enveloppes marron grand format | N36: =IF(SUM(B36:M36)=0,"",SUM(B36:M36))
... A42: Intercalaires | N42: =IF(SUM(B42:M42)=0,"",SUM(B42:M42))
A43: Markeur ONYX petit format | G43: 1 | N43: =IF(SUM(B43:M43)=0,"",SUM(B43:M43)) -> 1
A44: Markeur ONYX grand format | N44: =IF(SUM(B44:M44)=0,"",SUM(B44:M44))
A45: Papier A3 blanc | N45: =IF(SUM(B45:M45)=0,"",SUM(B45:M45))
A46: Papier A3 couleurs | N46: =IF(SUM(B46:M46)=0,"",SUM(B46:M46))
A47: Papier A4 blanc | N47: =IF(SUM(B47:M47)=0,"",SUM(B47:M47))
A48: Papier A4 couleurs | N48: =IF(SUM(B48:M48)=0,"",SUM(B48:M48))
A49: Papier clairefontaine blanc marketing 2618 | N49: =IF(SUM(B49:M49)=0,"",SUM(B49:M49))
A50: Papier en tête | N50: =IF(SUM(B50:M50)=0,"",SUM(B50:M50))
A51: Papier paperboard | N51: =IF(SUM(B51:M51)=0,"",SUM(B51:M51))
A52: Papier photo | N52: =IF(SUM(B52:M52)=0,"",SUM(B52:M52))
A53: Piles 2025 | N53: =IF(SUM(B53:M53)=0,"",SUM(B53:M53))
...

Sheet R&D
A2: FOURNITURES PRISES 2016
A5: DENOMINATION | B5: JANVIER | C5: FÉVRIER | D5: MARS | E5: AVRIL | F5: MAI | G5: JUIN | H5: JUILLET | I5: AOÛT | J5: SEPTEMBRE | K5: OCTOBRE | L5: NOVEMBRE | M5: DÉCEMBRE | N5: TOTAL
A6: 12A | N6: =IF(SUM(B6:M6)=0,"",SUM(B6:M6))
A7: 85A | N7: =IF(SUM(B7:M7)=0,"",SUM(B7:M7))
A8: 78A | N8: =IF(SUM(B8:M8)=0,"",SUM(B8:M8))
A9: 53X | N9: =IF(SUM(B9:M9)=0,"",SUM(B9:M9))
A10: 64A | N10: =IF(SUM(B10:M10)=0,"",SUM(B10:M10))
A11: 05X | N11: =IF(SUM(B11:M11)=0,"",SUM(B11:M11))
A12: 80X | N12: =IF(SUM(B12:M12)=0,"",SUM(B12:M12))
A13: 55X | N13: =IF(SUM(B13:M13)=0,"",SUM(B13:M13))
A14: Samsung MR COUDENE | N14: =IF(SUM(B14:M14)=0,"",SUM(B14:M14))
A16: Agrafes | N16: =IF(SUM(B16:M16)=0,"",SUM(B16:M16))
A17: Bannette | N17: =IF(SUM(B17:M17)=0,"",SUM(B17:M17))
A18: Batonnet de colle | N18: =IF(SUM(B18:M18)=0,"",SUM(B18:M18))
... A62: Pochette avec elastiques | N62: =IF(SUM(B62:M62)=0,"",SUM(B62:M62))
A63: Pochette plastique coin | H63: 1 | N63: =IF(SUM(B63:M63)=0,"",SUM(B63:M63)) -> 1
A64: Pochettes plastiques perforé classeur | N64: =IF(SUM(B64:M64)=0,"",SUM(B64:M64))
A65: Porte clefs | N65: =IF(SUM(B65:M65)=0,"",SUM(B65:M65))
A66: Porte vue | N66: =IF(SUM(B66:M66)=0,"",SUM(B66:M66))
A67: Plastique à plastifier | N67: =IF(SUM(B67:M67)=0,"",SUM(B67:M67))
A68: Reliure plastique | N68: =IF(SUM(B68:M68)=0,"",SUM(B68:M68))
A69: Roller de correction | N69: =IF(SUM(B69:M69)=0,"",SUM(B69:M69))
A70: Scotch | N70: =IF(SUM(B70:M70)=0,"",SUM(B70:M70))
A71: Sous chemises | N71: =IF(SUM(B71:M71)=0,"",SUM(B71:M71))
A72: Stabilo | N72: =IF(SUM(B72:M72)=0,"",SUM(B72:M72))
A73: Stylo bleu a capuchon | N73: =IF(SUM(B73:M73)=0,"",SUM(B73:M73))
A74: Stylo noir a capuchon | N74: =IF(SUM(B74:M74)=0,"",SUM(B74:M74))
A75: Stylo retractable bleu | G75: 3 | N75: =IF(SUM(B75:M75)=0,"",SUM(B75:M75)) -> 3
A76: Stylo retractable rouge | N76: =IF(SUM(B76:M76)=0,"",SUM(B76:M76))
A77: Stylo rouge a capuchon | N77: =IF(SUM(B77:M77)=0,"",SUM(B77:M77))
A78: Stylo signature | N78: =IF(SUM(B78:M78)=0,"",SUM(B78:M78))
A79: Tampons | N79: =IF(SUM(B79:M79)=0,"",SUM(B79:M79))
A80: Traite | N80: =IF(SUM(B80:M80)=0,"",SUM(B80:M80))
A81: Trieurs | N81: =IF(SUM(B81:M81)=0,"",SUM(B81:M81))
A83: Agitateur | N83: =IF(SUM(B83:M83)=0,"",SUM(B83:M83))
A84: Assiettes | N84: =IF(SUM(B84:M84)=0,"",SUM(B84:M84))
A85: Chemin de table | N85: =IF(SUM(B85:M85)=0,"",SUM(B85:M85))
A86: Couteaux | N86: =IF(SUM(B86:M86)=0,"",SUM(B86:M86))
A87: Cuillere à soupe | N87: =IF(SUM(B87:M87)=0,"",SUM(B87:M87))
A88: Cuillere petit format | N88: =IF(SUM(B88:M88)=0,"",SUM(B88:M88))
...

Sheet QUALITE
A2: FOURNITURES PRISES 2016
A5: DENOMINATION | B5: JANVIER | C5: FÉVRIER | D5: MARS | E5: AVRIL | F5: MAI | G5: JUIN | H5: JUILLET | I5: AOÛT | J5: SEPTEMBRE | K5: OCTOBRE | L5: NOVEMBRE | M5: DÉCEMBRE | N5: TOTAL
A6: 12A | N6: =IF(SUM(B6:M6)=0,"",SUM(B6:M6))
A7: 85A | N7: =IF(SUM(B7:M7)=0,"",SUM(B7:M7))
A8: 78A | N8: =IF(SUM(B8:M8)=0,"",SUM(B8:M8))
A9: 53X | N9: =IF(SUM(B9:M9)=0,"",SUM(B9:M9))
A10: 64A | N10: =IF(SUM(B10:M10)=0,"",SUM(B10:M10))
A11: 05X | N11: =IF(SUM(B11:M11)=0,"",SUM(B11:M11))
A12: 80X | N12: =IF(SUM(B12:M12)=0,"",SUM(B12:M12))
A13: 55X | N13: =IF(SUM(B13:M13)=0,"",SUM(B13:M13))
A14: Samsung MR COUDENE | N14: =IF(SUM(B14:M14)=0,"",SUM(B14:M14))
A16: Agrafes | G16: 1 | N16: =IF(SUM(B16:M16)=0,"",SUM(B16:M16)) -> 1
A17: Bannette | N17: =IF(SUM(B17:M17)=0,"",SUM(B17:M17))
A18: Batonnet de colle | N18: =IF(SUM(B18:M18)=0,"",SUM(B18:M18))
A19: Bobine thermique | N19: =IF(SUM(B19:M19)=0,"",SUM(B19:M19))
A20: Boite archives | G20: 7 | H20: 6 | N20: =IF(SUM(B20:M20)=0,"",SUM(B20:M20)) -> 13
A21: Boite carton bouteille | N21: =IF(SUM(B21:M21)=0,"",SUM(B21:M21))
A22: Bombe de colle | N22: =IF(SUM(B22:M22)=0,"",SUM(B22:M22))
A23: Cadenas | N23: =IF(SUM(B23:M23)=0,"",SUM(B23:M23))
A24: Cahier tout format | N24: =IF(SUM(B24:M24)=0,"",SUM(B24:M24))
A25: Calculatrice | N25: =IF(SUM(B25:M25)=0,"",SUM(B25:M25))
A26: Chemises | N26: =IF(SUM(B26:M26)=0,"",SUM(B26:M26))
A27: Chemises trapec | H27: 2 | N27: =IF(SUM(B27:M27)=0,"",SUM(B27:M27)) -> 2
A28: Classeurs | N28: =IF(SUM(B28:M28)=0,"",SUM(B28:M28))
A29: Crayon a papier | G29: 2 | N29: =IF(SUM(B29:M29)=0,"",SUM(B29:M29)) -> 2
A30: Dossier suspendu | N30: =IF(SUM(B30:M30)=0,"",SUM(B30:M30))
A31: Enveloppes a soufflet | N31: =IF(SUM(B31:M31)=0,"",SUM(B31:M31))
A32: Enveloppes blanche a fenetre petit format | N32: =IF(SUM(B32:M32)=0,"",SUM(B32:M32))
A33: Enveloppes blanche grand format | N33: =IF(SUM(B33:M33)=0,"",SUM(B33:M33))
A34: Enveloppes blanche moyen format | N34: =IF(SUM(B34:M34)=0,"",SUM(B34:M34))
A35: Enveloppes blanche sans fenetre petit format | N35: =IF(SUM(B35:M35)=0,"",SUM(B35:M35))
A36: Enveloppes marron grand format | N36: =IF(SUM(B36:M36)=0,"",SUM(B36:M36))
A37: Enveloppes marron moyen format | N37: =IF(SUM(B37:M37)=0,"",SUM(B37:M37))
A38: Etiquettes | G38: 1 | N38: =IF(SUM(B38:M38)=0,"",SUM(B38:M38)) -> 1
A39: Feutre effacable | N39: =IF(SUM(B39:M39)=0,"",SUM(B39:M39))
A40: Gaz dépoussiérant | N40: =IF(SUM(B40:M40)=0,"",SUM(B40:M40))
A41: Gomme | N41: =IF(SUM(B41:M41)=0,"",SUM(B41:M41))
A42: Intercalaires | N42: =IF(SUM(B42:M42)=0,"",SUM(B42:M42))
A43: Markeur ONYX petit format | N43: =IF(SUM(B43:M43)=0,"",SUM(B43:M43))
A44: Markeur ONYX grand format | N44: =IF(SUM(B44:M44)=0,"",SUM(B44:M44))
...

Sheet UCIA
A2: FOURNITURES PRISES 2016
A5: DENOMINATION | B5: JANVIER | C5: FÉVRIER | D5: MARS | E5: AVRIL | F5: MAI | G5: JUIN | H5: JUILLET | I5: AOÛT | J5: SEPTEMBRE | K5: OCTOBRE | L5: NOVEMBRE | M5: DÉCEMBRE | N5: TOTAL
A6: 12A | N6: =IF(SUM(B6:M6)=0,"",SUM(B6:M6))
A7: 85A | N7: =IF(SUM(B7:M7)=0,"",SUM(B7:M7))
A8: 78A | N8: =IF(SUM(B8:M8)=0,"",SUM(B8:M8))
A9: 53X | N9: =IF(SUM(B9:M9)=0,"",SUM(B9:M9))
A10: 64A | N10: =IF(SUM(B10:M10)=0,"",SUM(B10:M10))
A11: 05X | N11: =IF(SUM(B11:M11)=0,"",SUM(B11:M11))
A12: 80X | N12: =IF(SUM(B12:M12)=0,"",SUM(B12:M12))
A13: 55X | N13: =IF(SUM(B13:M13)=0,"",SUM(B13:M13))
A14: Samsung MR COUDENE | N14: =IF(SUM(B14:M14)=0,"",SUM(B14:M14))
A16: Agrafes | N16: =IF(SUM(B16:M16)=0,"",SUM(B16:M16))
A17: Bannette | N17: =IF(SUM(B17:M17)=0,"",SUM(B17:M17))
A18: Batonnet de colle | H18: 4 | N18: =IF(SUM(B18:M18)=0,"",SUM(B18:M18)) -> 4
A19: Bobine thermique | N19: =IF(SUM(B19:M19)=0,"",SUM(B19:M19))
A20: Boite archives | N20: =IF(SUM(B20:M20)=0,"",SUM(B20:M20))
A21: Boite carton bouteille | N21: =IF(SUM(B21:M21)=0,"",SUM(B21:M21))
A22: Bombe de colle | N22: =IF(SUM(B22:M22)=0,"",SUM(B22:M22))
A23: Cadenas | N23: =IF(SUM(B23:M23)=0,"",SUM(B23:M23))
A24: Cahier tout format | N24: =IF(SUM(B24:M24)=0,"",SUM(B24:M24))
A25: Calculatrice | N25: =IF(SUM(B25:M25)=0,"",SUM(B25:M25))
A26: Chemises | N26: =IF(SUM(B26:M26)=0,"",SUM(B26:M26))
A27: Chemises trapec | N27: =IF(SUM(B27:M27)=0,"",SUM(B27:M27))
A28: Classeurs | N28: =IF(SUM(B28:M28)=0,"",SUM(B28:M28))
A29: Crayon a papier | N29: =IF(SUM(B29:M29)=0,"",SUM(B29:M29))
A30: Dossier suspendu | N30: =IF(SUM(B30:M30)=0,"",SUM(B30:M30))
... A63: Pochette plastique coin | N63: =IF(SUM(B63:M63)=0,"",SUM(B63:M63))
A64: Pochettes plastiques perforé classeur | G64: 1 | N64: =IF(SUM(B64:M64)=0,"",SUM(B64:M64)) -> 1
A65: Porte clefs | N65: =IF(SUM(B65:M65)=0,"",SUM(B65:M65))
A66: Porte vue | N66: =IF(SUM(B66:M66)=0,"",SUM(B66:M66))
A67: Plastique à plastifier | N67: =IF(SUM(B67:M67)=0,"",SUM(B67:M67))
A68: Reliure plastique | N68: =IF(SUM(B68:M68)=0,"",SUM(B68:M68))
A69: Roller de correction | N69: =IF(SUM(B69:M69)=0,"",SUM(B69:M69))
A70: Scotch | N70: =IF(SUM(B70:M70)=0,"",SUM(B70:M70))
A71: Sous chemises | N71: =IF(SUM(B71:M71)=0,"",SUM(B71:M71))
A72: Stabilo | N72: =IF(SUM(B72:M72)=0,"",SUM(B72:M72))
A73: Stylo bleu a capuchon | N73: =IF(SUM(B73:M73)=0,"",SUM(B73:M73))
A74: Stylo noir a capuchon | N74: =IF(SUM(B74:M74)=0,"",SUM(B74:M74))
A75: Stylo retractable bleu | N75: =IF(SUM(B75:M75)=0,"",SUM(B75:M75))
A76: Stylo retractable rouge | N76: =IF(SUM(B76:M76)=0,"",SUM(B76:M76))
...

Sheet GLOBAL 2016 SERVICES
A2: TOTAL DES FOURNITURES PRISES 2016 tous services confondus
A5: DENOMINATION | B5: JANVIER | C5: FÉVRIER | D5: MARS | E5: AVRIL | F5: MAI | G5: JUIN | H5: JUILLET | I5: AOÛT | J5: SEPTEMBRE | K5: OCTOBRE | L5: NOVEMBRE | M5: DÉCEMBRE | N5: UNITE | O5: TOTAL | P5: DIRECTION | Q5: COMPTA | R5: ACCUEIL | S5: ADV | T5: COMMERCIAUX | U5: MARKETING | V5: MAINTENANCE | W5: PRODUCTION | X5: EMBALLAGE | Y5: EXPEDITION | Z5: RECEPTION | AA5: LABO | AB5: R&D | AC5: QUALITE | AD5: UCIA
A6: 12A | B6: =IF(COMMERCIAUX!B6+MAINTENANCE!B6+ADV!B6+'R&D'!B6+RECEPTION!B6+DIRECTION!B6+EMBALLAGE!B6+MARKETING!B6+EXPEDITION!B6+QUALITE!B6+ACCUEIL!B6+PRODUCTION!B6+LABO!B6+COMPTA!B6=0,"",COMMERCIAUX!B6+MAINTENANCE!B6+ADV!B6+'R&D'!B6+RECEPTION!B6+DIRECTION!B6+EMBALLAGE!B6+MARKETING!B6+EXPEDITION!B6+QUALITE!B6+ACCUEIL!B6+PRODUCTION!B6+LABO!B6+COMPTA!B6+UCIA!B6) | C6: =IF(COMMERCIAUX!C6+MAINTENANCE!C6+ADV!C6+'R&D'!C6+RECEPTION!C6+DIRECTION!C6+EMBALLAGE!C6+MARKETING!C6+EXPEDITION!C6+QUALITE!C6+ACCUEIL!C6+PRODUCTION!C6+LABO!C6+COMPTA!C6=0,"",COMMERCIAUX!C6+MAINTENANCE!C6+ADV!C6+'R&D'!C6+RECEPTION!C6+DIRECTION!C6+EMBALLAGE!C6+MARKETING!C6+EXPEDITION!C6+QUALITE!C6+ACCUEIL!C6+PRODUCTION!C6+LABO!C6+COMPTA!C6+UCIA!C6) | D6: =IF(COMMERCIAUX!D6+MAINTENANCE!D6+ADV!D6+'R&D'!D6+RECEPTION!D6+DIRECTION!D6+EMBALLAGE!D6+MARKETING!D6+EXPEDITION!D6+QUALITE!D6+ACCUEIL!D6+PRODUCTION!D6+LABO!D6+COMPTA!D6=0,"",COMMERCIAUX!D6+MAINTENANCE!D6+ADV!D6+'R&D'!D6+RECEPTION!D6+DIRECTION!D6+EMBALLAGE!D6+MARKETING!D6+EXPEDITION!D6+QUALITE!D6+ACCUEIL!D6+PRODUCTION!D6+LABO!D6+COMPTA!D6+UCIA!D6) | E6: =IF(COMMERCIAUX!E6+MAINTENANCE!E6+ADV!E6+'R&D'!E6+RECEPTION!E6+DIRECTION!E6+EMBALLAGE!E6+MARKETING!E6+EXPEDITION!E6+QUALITE!E6+ACCUEIL!E6+PRODUCTION!E6+LABO!E6+COMPTA!E6=0,"",COMMERCIAUX!E6+MAINTENANCE!E6+ADV!E6+'R&D'!E6+RECEPTION!E6+DIRECTION!E6+EMBALLAGE!E6+MARKETING!E6+EXPEDITION!E6+QUALITE!E6+ACCUEIL!E6+PRODUCTION!E6+LABO!E6+COMPTA!E6+UCIA!E6) | F6: =IF(COMMERCIAUX!F6+MAINTENANCE!F6+ADV!F6+'R&D'!F6+RECEPTION!F6+DIRECTION!F6+EMBALLAGE!F6+MARKETING!F6+EXPEDITION!F6+QUALITE!F6+ACCUEIL!F6+PRODUCTION!F6+LABO!F6+COMPTA!F6=0,"",COMMERCIAUX!F6+MAINTENANCE!F6+ADV!F6+'R&D'!F6+RECEPTION!F6+DIRECTION!F6+EMBALLAGE!F6+MARKETING!F6+EXPEDITION!F6+QUALITE!F6+ACCUEIL!F6+PRODUCTION!F6+LABO!F6+COMPTA!F6+UCIA!F6) | G6: =IF(COMMERCIAUX!G6+MAINTENANCE!G6+ADV!G6+'R&D'!G6+RECEPTION!G6+DIRECTION!G6+EMBALLAGE!G6+MARKETING!G6+EXPEDITION!G6+QUALITE!G6+ACCUEIL!G6+PRODUCTION!G6+LABO!G6+COMPTA!G6=0,"",COMMERCIAUX!G6+MAINTENANCE!G6+ADV!G6+'R&D'!G6+RECEPTION!G6+DIRECTION!G6+EMBALLAGE!G6+MARKETING!G6+EXPEDITION!G6+QUALITE!G6+ACCUEIL!G6+PRODUCTION!G6+LABO!G6+COMPTA!G6+UCIA!G6) -> 2 | H6: =IF(COMMERCIAUX!H6+MAINTENANCE!H6+ADV!H6+'R&D'!H6+RECEPTION!H6+DIRECTION!H6+EMBALLAGE!H6+MARKETING!H6+EXPEDITION!H6+QUALITE!H6+ACCUEIL!H6+PRODUCTION!H6+LABO!H6+COMPTA!H6=0,"",COMMERCIAUX!H6+MAINTENANCE!H6+ADV!H6+'R&D'!H6+RECEPTION!H6+DIRECTION!H6+EMBALLAGE!H6+MARKETING!H6+EXPEDITION!H6+QUALITE!H6+ACCUEIL!H6+PRODUCTION!H6+LABO!H6+COMPTA!H6+UCIA!H6) | I6: =IF(COMMERCIAUX!I6+MAINTENANCE!I6+ADV!I6+'R&D'!I6+RECEPTION!I6+DIRECTION!I6+EMBALLAGE!I6+MARKETING!I6+EXPEDITION!I6+QUALITE!I6+ACCUEIL!I6+PRODUCTION!I6+LABO!I6+COMPTA!I6=0,"",COMMERCIAUX!I6+MAINTENANCE!I6+ADV!I6+'R&D'!I6+RECEPTION!I6+DIRECTION!I6+EMBALLAGE!I6+MARKETING!I6+EXPEDITION!I6+QUALITE!I6+ACCUEIL!I6+PRODUCTION!I6+LABO!I6+COMPTA!I6+UCIA!I6) | ... M6: =IF(COMMERCIAUX!M6+MAINTENANCE!M6+ADV!M6+'R&D'!M6+RECEPTION!M6+DIRECTION!M6+EMBALLAGE!M6+MARKETING!M6+EXPEDITION!M6+QUALITE!M6+ACCUEIL!M6+PRODUCTION!M6+LABO!M6+COMPTA!M6=0,"",COMMERCIAUX!M6+MAINTENANCE!M6+ADV!M6+'R&D'!M6+RECEPTION!M6+DIRECTION!M6+EMBALLAGE!M6+MARKETING!M6+EXPEDITION!M6+QUALITE!M6+ACCUEIL!M6+PRODUCTION!M6+LABO!M6+COMPTA!M6+UCIA!M6) | O6: =IF(SUM(B6:M6)=0,"",SUM(B6:M6)) -> 2 | P6: =IF(DIRECTION!N6=0,"",DIRECTION!N6) | Q6: =IF(COMPTA!N6=0,"",COMPTA!N6) -> 1 | R6: =IF(ACCUEIL!N6=0,"",ACCUEIL!N6) | S6: =IF(ADV!N6=0,"",ADV!N6) | T6: =IF(COMMERCIAUX!N6=0,"",COMMERCIAUX!N6) | U6: =IF(MARKETING!N6=0,"",MARKETING!N6) | V6: =IF(MAINTENANCE!N6=0,"",MAINTENANCE!N6) | W6: =IF(PRODUCTION!N6=0,"",PRODUCTION!N6) -> 1 | X6: =IF(EMBALLAGE!N6=0,"",EMBALLAGE!N6) | Y6: =IF(EXPEDITION!N6=0,"",EXPEDITION!N6) | Z6: =IF(RECEPTION!N6=0,"",RECEPTION!N6) | AA6: =IF(LABO!N6=0,"",LABO!N6) | AB6: =IF('R&D'!N6=0,"",'R&D'!N6) | AC6: =IF(QUALITE!N6=0,"",QUALITE!N6) | AD6: =IF(UCIA!N6=0,"",UCIA!N6)
A7: 85A | B7: =IF(COMMERCIAUX!B7+MAINTENANCE!B7+ADV!B7+'R&D'!B7+RECEPTION!B7+DIRECTION!B7+EMBALLAGE!B7+MARKETING!B7+EXPEDITION!B7+QUALITE!B7+ACCUEIL!B7+PRODUCTION!B7+LABO!B7+COMPTA!B7=0,"",COMMERCIAUX!B7+MAINTENANCE!B7+ADV!B7+'R&D'!B7+RECEPTION!B7+DIRECTION!B7+EMBALLAGE!B7+MARKETING!B7+EXPEDITION!B7+QUALITE!B7+ACCUEIL!B7+PRODUCTION!B7+LABO!B7+COMPTA!B7+UCIA!B7) | C7: =IF(COMMERCIAUX!C7+MAINTENANCE!C7+ADV!C7+'R&D'!C7+RECEPTION!C7+DIRECTION!C7+EMBALLAGE!C7+MARKETING!C7+EXPEDITION!C7+QUALITE!C7+ACCUEIL!C7+PRODUCTION!C7+LABO!C7+COMPTA!C7=0,"",COMMERCIAUX!C7+MAINTENANCE!C7+ADV!C7+'R&D'!C7+RECEPTION!C7+DIRECTION!C7+EMBALLAGE!C7+MARKETING!C7+EXPEDITION!C7+QUALITE!C7+ACCUEIL!C7+PRODUCTION!C7+LABO!C7+COMPTA!C7+UCIA!C7) | D7: =IF(COMMERCIAUX!D7+MAINTENANCE!D7+ADV!D7+'R&D'!D7+RECEPTION!D7+DIRECTION!D7+EMBALLAGE!D7+MARKETING!D7+EXPEDITION!D7+QUALITE!D7+ACCUEIL!D7+PRODUCTION!D7+LABO!D7+COMPTA!D7=0,"",COMMERCIAUX!D7+MAINTENANCE!D7+ADV!D7+'R&D'!D7+RECEPTION!D7+DIRECTION!D7+EMBALLAGE!D7+MARKETING!D7+EXPEDITION!D7+QUALITE!D7+ACCUEIL!D7+PRODUCTION!D7+LABO!D7+COMPTA!D7+UCIA!D7) | E7: =IF(COMMERCIAUX!E7+MAINTENANCE!E7+ADV!E7+'R&D'!E7+RECEPTION!E7+DIRECTION!E7+EMBALLAGE!E7+MARKETING!E7+EXPEDITION!E7+QUALITE!E7+ACCUEIL!E7+PRODUCTION!E7+LABO!E7+COMPTA!E7=0,"",COMMERCIAUX!E7+MAINTENANCE!E7+ADV!E7+'R&D'!E7+RECEPTION!E7+DIRECTION!E7+EMBALLAGE!E7+MARKETING!E7+EXPEDITION!E7+QUALITE!E7+ACCUEIL!E7+PRODUCTION!E7+LABO!E7+COMPTA!E7+UCIA!E7) | F7: =IF(COMMERCIAUX!F7+MAINTENANCE!F7+ADV!F7+'R&D'!F7+RECEPTION!F7+DIRECTION!F7+EMBALLAGE!F7+MARKETING!F7+EXPEDITION!F7+QUALITE!F7+ACCUEIL!F7+PRODUCTION!F7+LABO!F7+COMPTA!F7=0,"",COMMERCIAUX!F7+MAINTENANCE!F7+ADV!F7+'R&D'!F7+RECEPTION!F7+DIRECTION!F7+EMBALLAGE!F7+MARKETING!F7+EXPEDITION!F7+QUALITE!F7+ACCUEIL!F7+PRODUCTION!F7+LABO!F7+COMPTA!F7+UCIA!F7) | G7: =IF(COMMERCIAUX!G7+MAINTENANCE!G7+ADV!G7+'R&D'!G7+RECEPTION!G7+DIRECTION!G7+EMBALLAGE!G7+MARKETING!G7+EXPEDITION!G7+QUALITE!G7+ACCUEIL!G7+PRODUCTION!G7+LABO!G7+COMPTA!G7=0,"",COMMERCIAUX!G7+MAINTENANCE!G7+ADV!G7+'R&D'!G7+RECEPTION!G7+DIRECTION!G7+EMBALLAGE!G7+MARKETING!G7+EXPEDITION!G7+QUALITE!G7+ACCUEIL!G7+PRODUCTION!G7+LABO!G7+COMPTA!G7+UCIA!G7) | H7: =IF(COMMERCIAUX!H7+MAINTENANCE!H7+ADV!H7+'R&D'!H7+RECEPTION!H7+DIRECTION!H7+EMBALLAGE!H7+MARKETING!H7+EXPEDITION!H7+QUALITE!H7+ACCUEIL!H7+PRODUCTION!H7+LABO!H7+COMPTA!H7=0,"",COMMERCIAUX!H7+MAINTENANCE!H7+ADV!H7+'R&D'!H7+RECEPTION!H7+DIRECTION!H7+EMBALLAGE!H7+MARKETING!H7+EXPEDITION!H7+QUALITE!H7+ACCUEIL!H7+PRODUCTION!H7+LABO!H7+COMPTA!H7+UCIA!H7) | I7: =IF(COMMERCIAUX!I7+MAINTENANCE!I7+ADV!I7+'R&D'!I7+RECEPTION!I7+DIRECTION!I7+EMBALLAGE!I7+MARKETING!I7+EXPEDITION!I7+QUALITE!I7+ACCUEIL!I7+PRODUCTION!I7+LABO!I7+COMPTA!I7=0,"",COMMERCIAUX!I7+MAINTENANCE!I7+ADV!I7+'R&D'!I7+RECEPTION!I7+DIRECTION!I7+EMBALLAGE!I7+MARKETING!I7+EXPEDITION!I7+QUALITE!I7+ACCUEIL!I7+PRODUCTION!I7+LABO!I7+COMPTA!I7+UCIA!I7) | ... M7: =IF(COMMERCIAUX!M7+MAINTENANCE!M7+ADV!M7+'R&D'!M7+RECEPTION!M7+DIRECTION!M7+EMBALLAGE!M7+MARKETING!M7+EXPEDITION!M7+QUALITE!M7+ACCUEIL!M7+PRODUCTION!M7+LABO!M7+COMPTA!M7=0,"",COMMERCIAUX!M7+MAINTENANCE!M7+ADV!M7+'R&D'!M7+RECEPTION!M7+DIRECTION!M7+EMBALLAGE!M7+MARKETING!M7+EXPEDITION!M7+QUALITE!M7+ACCUEIL!M7+PRODUCTION!M7+LABO!M7+COMPTA!M7+UCIA!M7) | O7: =IF(SUM(B7:M7)=0,"",SUM(B7:M7)) | P7: =IF(DIRECTION!N7=0,"",DIRECTION!N7) | Q7: =IF(COMPTA!N7=0,"",COMPTA!N7) | R7: =IF(ACCUEIL!N7=0,"",ACCUEIL!N7) | S7: =IF(ADV!N7=0,"",ADV!N7) | T7: =IF(COMMERCIAUX!N7=0,"",COMMERCIAUX!N7) | U7: =IF(MARKETING!N7=0,"",MARKETING!N7) | V7: =IF(MAINTENANCE!N7=0,"",MAINTENANCE!N7) | W7: =IF(PRODUCTION!N7=0,"",PRODUCTION!N7) | X7: =IF(EMBALLAGE!N7=0,"",EMBALLAGE!N7) | Y7: =IF(EXPEDITION!N7=0,"",EXPEDITION!N7) | Z7: =IF(RECEPTION!N7=0,"",RECEPTION!N7) | AA7: =IF(LABO!N7=0,"",LABO!N7) | AB7: =IF('R&D'!N7=0,"",'R&D'!N7) | AC7: =IF(QUALITE!N7=0,"",QUALITE!N7) | AD7: =IF(UCIA!N7=0,"",UCIA!N7)
A8: 78A | B8: =IF(COMMERCIAUX!B8+MAINTENANCE!B8+ADV!B8+'R&D'!B8+RECEPTION!B8+DIRECTION!B8+EMBALLAGE!B8+MARKETING!B8+EXPEDITION!B8+QUALITE!B8+ACCUEIL!B8+PRODUCTION!B8+LABO!B8+COMPTA!B8=0,"",COMMERCIAUX!B8+MAINTENANCE!B8+ADV!B8+'R&D'!B8+RECEPTION!B8+DIRECTION!B8+EMBALLAGE!B8+MARKETING!B8+EXPEDITION!B8+QUALITE!B8+ACCUEIL!B8+PRODUCTION!B8+LABO!B8+COMPTA!B8+UCIA!B8) | C8: =IF(COMMERCIAUX!C8+MAINTENANCE!C8+ADV!C8+'R&D'!C8+RECEPTION!C8+DIRECTION!C8+EMBALLAGE!C8+MARKETING!C8+EXPEDITION!C8+QUALITE!C8+ACCUEIL!C8+PRODUCTION!C8+LABO!C8+COMPTA!C8=0,"",COMMERCIAUX!C8+MAINTENANCE!C8+ADV!C8+'R&D'!C8+RECEPTION!C8+DIRECTION!C8+EMBALLAGE!C8+MARKETING!C8+EXPEDITION!C8+QUALITE!C8+ACCUEIL!C8+PRODUCTION!C8+LABO!C8+COMPTA!C8+UCIA!C8) | D8: =IF(COMMERCIAUX!D8+MAINTENANCE!D8+ADV!D8+'R&D'!D8+RECEPTION!D8+DIRECTION!D8+EMBALLAGE!D8+MARKETING!D8+EXPEDITION!D8+QUALITE!D8+ACCUEIL!D8+PRODUCTION!D8+LABO!D8+COMPTA!D8=0,"",COMMERCIAUX!D8+MAINTENANCE!D8+ADV!D8+'R&D'!D8+RECEPTION!D8+DIRECTION!D8+EMBALLAGE!D8+MARKETING!D8+EXPEDITION!D8+QUALITE!D8+ACCUEIL!D8+PRODUCTION!D8+LABO!D8+COMPTA!D8+UCIA!D8) | E8: =IF(COMMERCIAUX!E8+MAINTENANCE!E8+ADV!E8+'R&D'!E8+RECEPTION!E8+DIRECTION!E8+EMBALLAGE!E8+MARKETING!E8+EXPEDITION!E8+QUALITE!E8+ACCUEIL!E8+PRODUCTION!E8+LABO!E8+COMPTA!E8=0,"",COMMERCIAUX!E8+MAINTENANCE!E8+ADV!E8+'R&D'!E8+RECEPTION!E8+DIRECTION!E8+EMBALLAGE!E8+MARKETING!E8+EXPEDITION!E8+QUALITE!E8+ACCUEIL!E8+PRODUCTION!E8+LABO!E8+COMPTA!E8+UCIA!E8) | F8: =IF(COMMERCIAUX!F8+MAINTENANCE!F8+ADV!F8+'R&D'!F8+RECEPTION!F8+DIRECTION!F8+EMBALLAGE!F8+MARKETING!F8+EXPEDITION!F8+QUALITE!F8+ACCUEIL!F8+PRODUCTION!F8+LABO!F8+COMPTA!F8=0,"",COMMERCIAUX!F8+MAINTENANCE!F8+ADV!F8+'R&D'!F8+RECEPTION!F8+DIRECTION!F8+EMBALLAGE!F8+MARKETING!F8+EXPEDITION!F8+QUALITE!F8+ACCUEIL!F8+PRODUCTION!F8+LABO!F8+COMPTA!F8+UCIA!F8) | G8: =IF(COMMERCIAUX!G8+MAINTENANCE!G8+ADV!G8+'R&D'!G8+RECEPTION!G8+DIRECTION!G8+EMBALLAGE!G8+MARKETING!G8+EXPEDITION!G8+QUALITE!G8+ACCUEIL!G8+PRODUCTION!G8+LABO!G8+COMPTA!G8=0,"",COMMERCIAUX!G8+MAINTENANCE!G8+ADV!G8+'R&D'!G8+RECEPTION!G8+DIRECTION!G8+EMBALLAGE!G8+MARKETING!G8+EXPEDITION!G8+QUALITE!G8+ACCUEIL!G8+PRODUCTION!G8+LABO!G8+COMPTA!G8+UCIA!G8) -> 2 | H8: =IF(COMMERCIAUX!H8+MAINTENANCE!H8+ADV!H8+'R&D'!H8+RECEPTION!H8+DIRECTION!H8+EMBALLAGE!H8+MARKETING!H8+EXPEDITION!H8+QUALITE!H8+ACCUEIL!H8+PRODUCTION!H8+LABO!H8+COMPTA!H8=0,"",COMMERCIAUX!H8+MAINTENANCE!H8+ADV!H8+'R&D'!H8+RECEPTION!H8+DIRECTION!H8+EMBALLAGE!H8+MARKETING!H8+EXPEDITION!H8+QUALITE!H8+ACCUEIL!H8+PRODUCTION!H8+LABO!H8+COMPTA!H8+UCIA!H8) -> 2 | I8: =IF(COMMERCIAUX!I8+MAINTENANCE!I8+ADV!I8+'R&D'!I8+RECEPTION!I8+DIRECTION!I8+EMBALLAGE!I8+MARKETING!I8+EXPEDITION!I8+QUALITE!I8+ACCUEIL!I8+PRODUCTION!I8+LABO!I8+COMPTA!I8=0,"",COMMERCIAUX!I8+MAINTENANCE!I8+ADV!I8+'R&D'!I8+RECEPTION!I8+DIRECTION!I8+EMBALLAGE!I8+MARKETING!I8+EXPEDITION!I8+QUALITE!I8+ACCUEIL!I8+PRODUCTION!I8+LABO!I8+COMPTA!I8+UCIA!I8) | ... M8: =IF(COMMERCIAUX!M8+MAINTENANCE!M8+ADV!M8+'R&D'!M8+RECEPTION!M8+DIRECTION!M8+EMBALLAGE!M8+MARKETING!M8+EXPEDITION!M8+QUALITE!M8+ACCUEIL!M8+PRODUCTION!M8+LABO!M8+COMPTA!M8=0,"",COMMERCIAUX!M8+MAINTENANCE!M8+ADV!M8+'R&D'!M8+RECEPTION!M8+DIRECTION!M8+EMBALLAGE!M8+MARKETING!M8+EXPEDITION!M8+QUALITE!M8+ACCUEIL!M8+PRODUCTION!M8+LABO!M8+COMPTA!M8+UCIA!M8) | O8: =IF(SUM(B8:M8)=0,"",SUM(B8:M8)) -> 4 | P8: =IF(DIRECTION!N8=0,"",DIRECTION!N8) -> 2 | Q8: =IF(COMPTA!N8=0,"",COMPTA!N8) | R8: =IF(ACCUEIL!N8=0,"",ACCUEIL!N8) | S8: =IF(ADV!N8=0,"",ADV!N8) -> 2 | T8: =IF(COMMERCIAUX!N8=0,"",COMMERCIAUX!N8) | U8: =IF(MARKETING!N8=0,"",MARKETING!N8) | V8: =IF(MAINTENANCE!N8=0,"",MAINTENANCE!N8) | W8: =IF(PRODUCTION!N8=0,"",PRODUCTION!N8) | X8: =IF(EMBALLAGE!N8=0,"",EMBALLAGE!N8) | Y8: =IF(EXPEDITION!N8=0,"",EXPEDITION!N8) | Z8: =IF(RECEPTION!N8=0,"",RECEPTION!N8) | AA8: =IF(LABO!N8=0,"",LABO!N8) | AB8: =IF('R&D'!N8=0,"",'R&D'!N8) | AC8: =IF(QUALITE!N8=0,"",QUALITE!N8) | AD8: =IF(UCIA!N8=0,"",UCIA!N8)
A9: 53X | B9: =IF(COMMERCIAUX!B9+MAINTENANCE!B9+ADV!B9+'R&D'!B9+RECEPTION!B9+DIRECTION!B9+EMBALLAGE!B9+MARKETING!B9+EXPEDITION!B9+QUALITE!B9+ACCUEIL!B9+PRODUCTION!B9+LABO!B9+COMPTA!B9=0,"",COMMERCIAUX!B9+MAINTENANCE!B9+ADV!B9+'R&D'!B9+RECEPTION!B9+DIRECTION!B9+EMBALLAGE!B9+MARKETING!B9+EXPEDITION!B9+QUALITE!B9+ACCUEIL!B9+PRODUCTION!B9+LABO!B9+COMPTA!B9+UCIA!B9) | C9: =IF(COMMERCIAUX!C9+MAINTENANCE!C9+ADV!C9+'R&D'!C9+RECEPTION!C9+DIRECTION!C9+EMBALLAGE!C9+MARKETING!C9+EXPEDITION!C9+QUALITE!C9+ACCUEIL!C9+PRODUCTION!C9+LABO!C9+COMPTA!C9=0,"",COMMERCIAUX!C9+MAINTENANCE!C9+ADV!C9+'R&D'!C9+RECEPTION!C9+DIRECTION!C9+EMBALLAGE!C9+MARKETING!C9+EXPEDITION!C9+QUALITE!C9+ACCUEIL!C9+PRODUCTION!C9+LABO!C9+COMPTA!C9+UCIA!C9) | D9: =IF(COMMERCIAUX!D9+MAINTENANCE!D9+ADV!D9+'R&D'!D9+RECEPTION!D9+DIRECTION!D9+EMBALLAGE!D9+MARKETING!D9+EXPEDITION!D9+QUALITE!D9+ACCUEIL!D9+PRODUCTION!D9+LABO!D9+COMPTA!D9=0,"",COMMERCIAUX!D9+MAINTENANCE!D9+ADV!D9+'R&D'!D9+RECEPTION!D9+DIRECTION!D9+EMBALLAGE!D9+MARKETING!D9+EXPEDITION!D9+QUALITE!D9+ACCUEIL!D9+PRODUCTION!D9+LABO!D9+COMPTA!D9+UCIA!D9) | E9: =IF(COMMERCIAUX!E9+MAINTENANCE!E9+ADV!E9+'R&D'!E9+RECEPTION!E9+DIRECTION!E9+EMBALLAGE!E9+MARKETING!E9+EXPEDITION!E9+QUALITE!E9+ACCUEIL!E9+PRODUCTION!E9+LABO!E9+COMPTA!E9=0,"",COMMERCIAUX!E9+MAINTENANCE!E9+ADV!E9+'R&D'!E9+RECEPTION!E9+DIRECTION!E9+EMBALLAGE!E9+MARKETING!E9+EXPEDITION!E9+QUALITE!E9+ACCUEIL!E9+PRODUCTION!E9+LABO!E9+COMPTA!E9+UCIA!E9) | F9: =IF(COMMERCIAUX!F9+MAINTENANCE!F9+ADV!F9+'R&D'!F9+RECEPTION!F9+DIRECTION!F9+EMBALLAGE!F9+MARKETING!F9+EXPEDITION!F9+QUALITE!F9+ACCUEIL!F9+PRODUCTION!F9+LABO!F9+COMPTA!F9=0,"",COMMERCIAUX!F9+MAINTENANCE!F9+ADV!F9+'R&D'!F9+RECEPTION!F9+DIRECTION!F9+EMBALLAGE!F9+MARKETING!F9+EXPEDITION!F9+QUALITE!F9+ACCUEIL!F9+PRODUCTION!F9+LABO!F9+COMPTA!F9+UCIA!F9) | G9: =IF(COMMERCIAUX!G9+MAINTENANCE!G9+ADV!G9+'R&D'!G9+RECEPTION!G9+DIRECTION!G9+EMBALLAGE!G9+MARKETING!G9+EXPEDITION!G9+QUALITE!G9+ACCUEIL!G9+PRODUCTION!G9+LABO!G9+COMPTA!G9=0,"",COMMERCIAUX!G9+MAINTENANCE!G9+ADV!G9+'R&D'!G9+RECEPTION!G9+DIRECTION!G9+EMBALLAGE!G9+MARKETING!G9+EXPEDITION!G9+QUALITE!G9+ACCUEIL!G9+PRODUCTION!G9+LABO!G9+COMPTA!G9+UCIA!G9) | H9: =IF(COMMERCIAUX!H9+MAINTENANCE!H9+ADV!H9+'R&D'!H9+RECEPTION!H9+DIRECTION!H9+EMBALLAGE!H9+MARKETING!H9+EXPEDITION!H9+QUALITE!H9+ACCUEIL!H9+PRODUCTION!H9+LABO!H9+COMPTA!H9=0,"",COMMERCIAUX!H9+MAINTENANCE!H9+ADV!H9+'R&D'!H9+RECEPTION!H9+DIRECTION!H9+EMBALLAGE!H9+MARKETING!H9+EXPEDITION!H9+QUALITE!H9+ACCUEIL!H9+PRODUCTION!H9+LABO!H9+COMPTA!H9+UCIA!H9) | I9: =IF(COMMERCIAUX!I9+MAINTENANCE!I9+ADV!I9+'R&D'!I9+RECEPTION!I9+DIRECTION!I9+EMBALLAGE!I9+MARKETING!I9+EXPEDITION!I9+QUALITE!I9+ACCUEIL!I9+PRODUCTION!I9+LABO!I9+COMPTA!I9=0,"",COMMERCIAUX!I9+MAINTENANCE!I9+ADV!I9+'R&D'!I9+RECEPTION!I9+DIRECTION!I9+EMBALLAGE!I9+MARKETING!I9+EXPEDITION!I9+QUALITE!I9+ACCUEIL!I9+PRODUCTION!I9+LABO!I9+COMPTA!I9+UCIA!I9) | ... M9: =IF(COMMERCIAUX!M9+MAINTENANCE!M9+ADV!M9+'R&D'!M9+RECEPTION!M9+DIRECTION!M9+EMBALLAGE!M9+MARKETING!M9+EXPEDITION!M9+QUALITE!M9+ACCUEIL!M9+PRODUCTION!M9+LABO!M9+COMPTA!M9=0,"",COMMERCIAUX!M9+MAINTENANCE!M9+ADV!M9+'R&D'!M9+RECEPTION!M9+DIRECTION!M9+EMBALLAGE!M9+MARKETING!M9+EXPEDITION!M9+QUALITE!M9+ACCUEIL!M9+PRODUCTION!M9+LABO!M9+COMPTA!M9+UCIA!M9) | O9: =IF(SUM(B9:M9)=0,"",SUM(B9:M9)) | P9: =IF(DIRECTION!N9=0,"",DIRECTION!N9) | Q9: =IF(COMPTA!N9=0,"",COMPTA!N9) | R9: =IF(ACCUEIL!N9=0,"",ACCUEIL!N9) | S9: =IF(ADV!N9=0,"",ADV!N9) | T9: =IF(COMMERCIAUX!N9=0,"",COMMERCIAUX!N9) | U9: =IF(MARKETING!N9=0,"",MARKETING!N9) | V9: =IF(MAINTENANCE!N9=0,"",MAINTENANCE!N9) | W9: =IF(PRODUCTION!N9=0,"",PRODUCTION!N9) | X9: =IF(EMBALLAGE!N9=0,"",EMBALLAGE!N9) | Y9: =IF(EXPEDITION!N9=0,"",EXPEDITION!N9) | Z9: =IF(RECEPTION!N9=0,"",RECEPTION!N9) | AA9: =IF(LABO!N9=0,"",LABO!N9) | AB9: =IF('R&D'!N9=0,"",'R&D'!N9) | AC9: =IF(QUALITE!N9=0,"",QUALITE!N9) | AD9: =IF(UCIA!N9=0,"",UCIA!N9)
