Workbook
Name clients: [1]!Tableau1[clients]

Sheet Coûts déplacements
C2: Coût déplacement SICK
B4: Dates d'intervention | C4: Client | D4: Lieu | E4: Département | F4: Distance A/R en Km | G4: Déplacement Train / avion | H4: Temps de déplacement en Heures | I4: Intervention semaine € / h | J4: Intervention nuit / samedi € /h | K4: Intervention dimanche / Fériés € / h | L4: Hôtel par nuitée | M4: Restauration par repas
B5: Barême 2013 HT | F5: 0.5 | H5: 10 | I5: 40 | J5: 60 | K5: 80 | L5: 100 | M5: 20 | N5: Total HT
B6: 2 au 4/07/2013 | C6: Cinetic | D6: Lovate Pozzolo | E6: Italie | F6: 880 | H6: 9 | I6: 13 | L6: 2 | M6: 4 | N6: =(F$5*F6)+(H$5*H6)+(I$5*I6)+(J$5*J6)+(K$5*K6)+(L$5*L6)+(M$5*M6) -> 1330
B7: 2 au 4/08/2013 | C7: Colipost | D7: Toulouse | E7: 31 | F7: 1150 | H7: 11 | I7: 0 | J7: 10 | K7: 8 | L7: 2 | M7: 5 | N7: =(F$5*F7)+(H$5*H7)+(I$5*I7)+(J$5*J7)+(K$5*K7)+(L$5*L7)+(M$5*M7) -> 2225
B8: 41373 | C8: Colipost | D8: Toulouse | E8: 31 | G8: 183.5 | H8: 8 | J8: 6 | M8: 0.5 | N8: =(F$5*F8)+(H$5*H8)+(I$5*I8)+(J$5*J8)+(K$5*K8)+(L$5*L8)+(M$5*M8)+G8 -> 633.5
B9: 41499 | C9: Alainé | D9: Mâcon | E9: 71 | F9: 150 | H9: 2 | I9: 6 | M9: 1 | N9: =(F$5*F9)+(H$5*H9)+(I$5*I9)+(J$5*J9)+(K$5*K9)+(L$5*L9)+(M$5*M9)+G9 -> 355
B10: 19 au 23/08/2013 | C10: Chronopost Corbas | D10: Corbas | E10: 69 | F10: 300 | H10: 5 | I10: 38 | J10: 3 | M10: 5 | N10: =(F$5*F10)+(H$5*H10)+(I$5*I10)+(J$5*J10)+(K$5*K10)+(L$5*L10)+(M$5*M10)+G10 -> 2000
B11: 26 au 30/08/2013 | C11: Chronopost Corbas | D11: Corbas | E11: 69 | F11: 360 | H11: 6 | I11: 41 | J11: 4 | M11: 6 | N11: =(F$5*F11)+(H$5*H11)+(I$5*I11)+(J$5*J11)+(K$5*K11)+(L$5*L11)+(M$5*M11)+G11 -> 2240
N12: =(F$5*F12)+(H$5*H12)+(I$5*I12)+(J$5*J12)+(K$5*K12)+(L$5*L12)+(M$5*M12)+G12 -> 0
N13: =(F$5*F13)+(H$5*H13)+(I$5*I13)+(J$5*J13)+(K$5*K13)+(L$5*L13)+(M$5*M13)+G13 -> 0
N14: =(F$5*F14)+(H$5*H14)+(I$5*I14)+(J$5*J14)+(K$5*K14)+(L$5*L14)+(M$5*M14)+G14 -> 0
N15: =(F$5*F15)+(H$5*H15)+(I$5*I15)+(J$5*J15)+(K$5*K15)+(L$5*L15)+(M$5*M15)+G15 -> 0
N16: =(F$5*F16)+(H$5*H16)+(I$5*I16)+(J$5*J16)+(K$5*K16)+(L$5*L16)+(M$5*M16)+G16 -> 0
N17: =(F$5*F17)+(H$5*H17)+(I$5*I17)+(J$5*J17)+(K$5*K17)+(L$5*L17)+(M$5*M17)+G17 -> 0
N18: =(F$5*F18)+(H$5*H18)+(I$5*I18)+(J$5*J18)+(K$5*K18)+(L$5*L18)+(M$5*M18)+G18 -> 0
N19: =(F$5*F19)+(H$5*H19)+(I$5*I19)+(J$5*J19)+(K$5*K19)+(L$5*L19)+(M$5*M19)+G19 -> 0
N20: =(F$5*F20)+(H$5*H20)+(I$5*I20)+(J$5*J20)+(K$5*K20)+(L$5*L20)+(M$5*M20)+G20 -> 0
N21: =(F$5*F21)+(H$5*H21)+(I$5*I21)+(J$5*J21)+(K$5*K21)+(L$5*L21)+(M$5*M21)+G21 -> 0
N22: =(F$5*F22)+(H$5*H22)+(I$5*I22)+(J$5*J22)+(K$5*K22)+(L$5*L22)+(M$5*M22)+G22 -> 0
N23: =(F$5*F23)+(H$5*H23)+(I$5*I23)+(J$5*J23)+(K$5*K23)+(L$5*L23)+(M$5*M23)+G23 -> 0
... N33: =(F$5*F33)+(H$5*H33)+(I$5*I33)+(J$5*J33)+(K$5*K33)+(L$5*L33)+(M$5*M33)+G33 -> 0

Sheet  Base des Index
B1: LUNDI | C1: MARDI | D1: MERCREDI | E1: JEUDI | F1: VENDREDI | G1: SAMEDI | H1: DIMANCHE | J1: 0.25 | L1: Clients/Fournisseurs | M1: semaine | N1: samedi | O1: dimanche | P1: Nuit | Q1: Nuit weekend | R1: Heures travaillées seul | S1: Heures totales | T1: 1
G2: 1 | H2: 2 | J2: 0.27083333 | L2: SICK | M2: 55 | N2: 75 | O2: 110 | P2: 75 | Q2: 110 | T2: 2
A3: 1 | B3: 3 | C3: 4 | D3: 5 | E3: 6 | F3: 7 | G3: 8 | H3: 9 | J3: 0.29166667 | L3: AVN | M3: 90 | N3: 110 | O3: 130 | P3: 110 | Q3: 130 | T3: 3 | X3: =(V3)/35 -> 0
A4: 2 | B4: 10 | C4: 11 | D4: 12 | E4: 13 | F4: 14 | G4: 15 | H4: 16 | J4: 0.3125 | L4: HENRI REIGNIR | M4: 30 | N4: 45 | O4: 60 | P4: 45 | Q4: 60 | T4: 4
A5: 3 | B5: 17 | C5: 18 | D5: 19 | E5: 20 | F5: 21 | G5: 22 | H5: 23 | J5: 0.33333333 | L5: CLA | M5: 30 | N5: 45 | O5: 60 | P5: 45 | Q5: 60 | T5: 5
A6: 4 | B6: 24 | C6: 25 | D6: 26 | E6: 27 | F6: 28 | G6: 29 | H6: 30 | J6: 0.35416667 | L6: BF INDUSTRIES | M6: 30 | N6: 45 | O6: 60 | P6: 45 | Q6: 60
A7: 5 | B7: 31 | C7: 1 | D7: 2 | E7: 3 | F7: 4 | G7: 5 | H7: 6 | J7: 0.375
A8: 6 | B8: 7 | C8: 8 | D8: 9 | E8: 10 | F8: 11 | G8: 12 | H8: 13 | J8: 0.39583333
A9: 7 | B9: 14 | C9: 15 | D9: 16 | E9: 17 | F9: 18 | G9: 19 | H9: 20 | J9: 0.41666667
A10: 8 | B10: 21 | C10: 22 | D10: 23 | E10: 24 | F10: 25 | G10: 26 | H10: 27 | J10: 0.4375 | L10: DEVIS
A11: 9 | B11: 28 | C11: 1 | D11: 2 | E11: 3 | F11: 4 | G11: 5 | H11: 6 | J11: 0.45833333 | L11: A FACTURER
A12: 10 | B12: 7 | C12: 8 | D12: 9 | E12: 10 | F12: 11 | G12: 12 | H12: 13 | J12: 0.47916667
A13: 11 | B13: 14 | C13: 15 | D13: 16 | E13: 17 | F13: 18 | G13: 19 | H13: 20 | J13: 0.5
A14: 12 | B14: 21 | C14: 22 | D14: 23 | E14: 24 | F14: 25 | G14: 26 | H14: 27 | J14: 0.52083333
A15: 13 | B15: 28 | C15: 29 | D15: 30 | E15: 31 | F15: 1 | G15: 2 | H15: 3 | J15: 0.54166667
A16: 14 | B16: 4 | C16: 5 | D16: 6 | E16: 7 | F16: 8 | G16: 9 | H16: 10 | J16: 0.5625
A17: 15 | B17: 11 | C17: 12 | D17: 13 | E17: 14 | F17: 15 | G17: 16 | H17: 17 | J17: 0.58333333
A18: 16 | B18: 18 | C18: 19 | D18: 20 | E18: 21 | F18: 22 | G18: 23 | H18: 24 | J18: 0.60416667
A19: 17 | B19: 25 | C19: 26 | D19: 27 | E19: 28 | F19: 29 | G19: 30 | H19: 1 | J19: 0.625
A20: 18 | B20: 2 | C20: 3 | D20: 4 | E20: 5 | F20: 6 | G20: 7 | H20: 8 | J20: 0.64583333
A21: 19 | B21: 9 | C21: 10 | D21: 11 | E21: 12 | F21: 13 | G21: 14 | H21: 15 | J21: 0.66666667
A22: 20 | B22: 16 | C22: 17 | D22: 18 | E22: 19 | F22: 20 | G22: 21 | H22: 22 | J22: 0.6875
A23: 21 | B23: 23 | C23: 24 | D23: 25 | E23: 26 | F23: 27 | G23: 28 | H23: 29 | J23: 0.70833333
... A49: 47 | B49: 22 | C49: 23 | D49: 24 | E49: 25 | F49: 26 | G49: 27 | H49: 28 | J49: 1.25
A50: 48 | B50: 29 | C50: 30 | D50: 31 | E50: 1 | F50: 2 | G50: 3 | H50: 4
A51: 49 | B51: 5 | C51: 6 | D51: 7 | E51: 8 | F51: 9 | G51: 10 | H51: 11
A52: 50 | B52: 12 | C52: 13 | D52: 14 | E52: 15 | F52: 16 | G52: 17 | H52: 18
A53: 51 | B53: 19 | C53: 20 | D53: 21 | E53: 22 | F53: 23 | G53: 24 | H53: 25
A54: 52 | B54: 26 | C54: 27 | D54: 28 | E54: 29 | F54: 30 | G54: 31

Sheet Onglet de référence
C2: 2021 | F2: DEVIS | AF2: S1 | AH2: =AH20 -> 0
C4: Client et lieu d'intervention | H4: =MID(CELL("nomfichier",$H$4),FIND("]",CELL("nomfichier",$H$4))+1,32) -> Onglet de référence | AF4: S2 | AH4: =AH30 -> 0
B6: SICK | F6: N° de Commande : | AF6: S3 | AH6: =AH40 -> 0
AF8: S4 | AH8: =AH50 -> 0
AF10: Total | AH10: =AH2+AH4+AH6+AH8 -> 0
B12: N° de Techniciens | C12: Semaine | D12: 5 | F12: Matin | H12: Après-Midi | J12: Total heures par technicien | K12: Total Heures jour | L12: Coût | N12: nuit | P12: Total heures Nuit | Q12: Coût | S12: Forfait repas par jour et par personne | T12: Coût | V12: Distance kilomètrique Aller / Retour | W12: Coût | Y12: Temps déplacement Aller / Retour par personne | Z12: Coût | AB12: Forfait hôtel par personne | AC12: Coût | AE12: Autres: Parking, Achat fournitures | AF12: Coût | AH12: Total HT
C13: Lundi | D13: =VLOOKUP($D$12,' Base des Index'!A:H,2,0) -> 31 | J13: =((MOD(G13-F13,1)+MOD(I13-H13,1))*24) -> 0 | K13: =((MOD(G13-F13,1)+MOD(I13-H13,1))*$B$13)*24 -> 0 | L13: =IF(ISERROR($K$13)*VLOOKUP($B$6,' Base des Index'!$L$1:$Q$6,CHOOSE(ROWS($1:1),2,2,2,2,2,3,4),FALSE),"",($K$13)*VLOOKUP($B$6,' Base des Index'!$L$1:$Q$6,CHOOSE(ROWS($1:1),2,2,2,2,2,3,4),FALSE)) -> 0 | P13: =MOD(O13-N13,1) -> 0 | Q13: =IF(ISERROR(P13*24)*75,"",(P13*24)*75) -> 0 | T13: =((S13*$B$13)*20) -> 0 | W13: =SUM(V13*0.6) -> 0 | Z13: =SUM(Y13*$B$13)*25 -> 0 | AC13: =SUM(AB13*$B$13)*110 -> 0 | AF13: =AE13 -> 0
C14: Mardi | D14: =VLOOKUP($D$12,' Base des Index'!A:H,3,0) -> 1 | J14: =((MOD(G14-F14,1)+MOD(I14-H14,1))*24) -> 0 | K14: =((MOD(G14-F14,1)+MOD(I14-H14,1))*$B$14)*24 -> 0 | L14: =IF(ISERROR($K$14)*VLOOKUP($B$6,' Base des Index'!$L$1:$Q$6,CHOOSE(ROWS($1:2),2,2,2,2,2,3,4),FALSE),"",($K$14)*VLOOKUP($B$6,' Base des Index'!$L$1:$Q$6,CHOOSE(ROWS($1:2),2,2,2,2,2,3,4),FALSE)) -> 0 | P14: =MOD(O14-N14,1) -> 0 | Q14: =IF(ISERROR(P14*24)*75,"",(P14*24)*75) -> 0 | T14: =((S14*$B$14*20)) -> 0 | W14: =SUM(V14*0.6) -> 0 | Z14: =SUM(Y14*$B$14)*25 -> 0 | AC14: =SUM(AB14*$B$14)*110 -> 0 | AF14: =AE14 -> 0
C15: Mercredi | D15: =VLOOKUP($D$12,' Base des Index'!A:H,4,0) -> 2 | J15: =((MOD(G15-F15,1)+MOD(I15-H15,1))*24) -> 0 | K15: =((MOD(G15-F15,1)+MOD(I15-H15,1))*$B$15)*24 -> 0 | L15: =IF(ISERROR($K$15)*VLOOKUP($B$6,' Base des Index'!$L$1:$Q$6,CHOOSE(ROWS($1:3),2,2,2,2,2,3,4),FALSE),"",($K$15)*VLOOKUP($B$6,' Base des Index'!$L$1:$Q$6,CHOOSE(ROWS($1:3),2,2,2,2,2,3,4),FALSE)) -> 0 | P15: =MOD(O15-N15,1) -> 0 | Q15: =IF(ISERROR(P15*24)*75,"",(P15*24)*75) -> 0 | T15: =((S15*$B$15)*20) -> 0 | W15: =SUM(V15*0.6) -> 0 | Z15: =SUM(Y15*$B$15)*25 -> 0 | AC15: =SUM(AB15*$B$15)*110 -> 0 | AF15: =AE15 -> 0
C16: Jeudi | D16: =VLOOKUP($D$12,' Base des Index'!A:H,5,0) -> 3 | J16: =((MOD(G16-F16,1)+MOD(I16-H16,1))*24) -> 0 | K16: =((MOD(G16-F16,1)+MOD(I16-H16,1))*$B$16)*24 -> 0 | L16: =IF(ISERROR($K$16)*VLOOKUP($B$6,' Base des Index'!$L$1:$Q$6,CHOOSE(ROWS($1:4),2,2,2,2,2,3,4),FALSE),"",($K$16)*VLOOKUP($B$6,' Base des Index'!$L$1:$Q$6,CHOOSE(ROWS($1:4),2,2,2,2,2,3,4),FALSE)) -> 0 | P16: =MOD(O16-N16,1) -> 0 | Q16: =IF(ISERROR(P16*24)*75,"",(P16*24)*75) -> 0 | T16: =((S16*$B$16)*20) -> 0 | W16: =SUM(V16*0.6) -> 0 | Z16: =SUM(Y16*$B$16)*25 -> 0 | AC16: =SUM(AB16*$B$16)*110 -> 0 | AF16: =AE16 -> 0
C17: Vendredi | D17: =VLOOKUP($D$12,' Base des Index'!A:H,6,0) -> 4 | J17: =((MOD(G17-F17,1)+MOD(I17-H17,1))*24) -> 0 | K17: =((MOD(G17-F17,1)+MOD(I17-H17,1))*$B$17)*24 -> 0 | L17: =IF(ISERROR($K$17)*VLOOKUP($B$6,' Base des Index'!$L$1:$Q$6,CHOOSE(ROWS($1:5),2,2,2,2,2,3,4),FALSE),"",($K$17)*VLOOKUP($B$6,' Base des Index'!$L$1:$Q$6,CHOOSE(ROWS($1:5),2,2,2,2,2,3,4),FALSE)) -> 0 | P17: =MOD(O17-N17,1) -> 0 | Q17: =IF(ISERROR(P17*24)*75,"",(P17*24)*75) -> 0 | T17: =((S17*$B$17)*20) -> 0 | W17: =SUM(V17*0.6) -> 0 | Z17: =SUM(Y17*$B$17)*25 -> 0 | AC17: =SUM(AB17*$B$17)*110 -> 0 | AF17: =AE17 -> 0
C18: Samedi | D18: =VLOOKUP($D$12,' Base des Index'!A:H,7,0) -> 5 | J18: =((MOD(G18-F18,1)+MOD(I18-H18,1))*24) -> 0 | K18: =((MOD(G18-F18,1)+MOD(I18-H18,1))*$B$18)*24 -> 0 | L18: =IF(ISERROR($K$18)*VLOOKUP($B$6,' Base des Index'!$L$1:$Q$6,CHOOSE(ROWS($1:6),2,2,2,2,2,3,4),FALSE),"",($K$18)*VLOOKUP($B$6,' Base des Index'!$L$1:$Q$6,CHOOSE(ROWS($1:6),2,2,2,2,2,3,4),FALSE)) -> 0 | P18: =MOD(O18-N18,1) -> 0 | Q18: =IF(ISERROR(P18*24)*110,"",(P18*24)*110) -> 0 | T18: =((S18*$B$18)*20) -> 0 | W18: =SUM(V18*0.6) -> 0 | Z18: =SUM(Y18*$B$18)*30 -> 0 | AC18: =SUM(AB18*$B$18)*110 -> 0 | AF18: =AE18 -> 0
C19: Dimanche | D19: =VLOOKUP($D$12,' Base des Index'!A:H,8,0) -> 6 | J19: =((MOD(G19-F19,1)+MOD(I19-H19,1))*24) -> 0 | K19: =((MOD(G19-F19,1)+MOD(I19-H19,1))*$B$19)*24 -> 0 | L19: =IF(ISERROR($K$19)*VLOOKUP($B$6,' Base des Index'!$L$1:$Q$6,CHOOSE(ROWS($1:7),2,2,2,2,2,3,4),FALSE),"",($K$19)*VLOOKUP($B$6,' Base des Index'!$L$1:$Q$6,CHOOSE(ROWS($1:7),2,2,2,2,2,3,4),FALSE)) -> 0 | P19: =MOD(O19-N19,1) -> 0 | Q19: =IF(ISERROR(P19*24)*110,"",(P19*24)*110) -> 0 | T19: =((S19*$B$19)*20) -> 0 | W19: =SUM(V19*0.6) -> 0 | Z19: =SUM(Y19*$B$19)*30 -> 0 | AC19: =SUM(AB19*$B$19)*110 -> 0 | AF19: =AE19 -> 0
C20: Total semaine | J20: =SUM(J13:J19) -> 0 | K20: =SUM(K13:K19) -> 0 | L20: =SUM(L13:L19) -> 0 | P20: =SUM(P13:P19) -> 0 | Q20: =SUM(Q13:Q19) -> 0 | S20: =SUM(S13:S19) -> 0 | T20: =SUM(T13:T19) -> 0 | V20: =SUM(V13:V19) -> 0 | W20: =SUM(W13:W19) -> 0 | Y20: =SUM(Y14:Y19) -> 0 | Z20: =SUM(Z13:Z19) -> 0 | AB20: =SUM(AB13:AB19) -> 0 | AC20: =SUM(AC13:AC19) -> 0 | AF20: =SUM(AF13:AF19) -> 0 | AH20: =SUM(L20+T20+Z20+W20+Q20+AF20+AC20) -> 0
B22: N° de Techniciens | C22: Semaine | D22: 6 | F22: Matin | H22: Après-Midi | J22: Total heures par technicien | K22: Total Heures jour | L22: Coût | N22: nuit | P22: Total heures Nuit | Q22: Coût | S22: Forfait repas par jour et par personne | T22: Coût | V22: Distance kilomètrique Aller / Retour | W22: Coût | Y22: Temps déplacement Aller / Retour par personne | Z22: Coût | AB22: Forfait hôtel par personne | AC22: Coût | AE22: Autres: Parking, Achat fournitures | AF22: Coût | AH22: Total HT
C23: Lundi | D23: =VLOOKUP($D$22,' Base des Index'!A:H,2,0) -> 7 | J23: =((MOD(G23-F23,1)+MOD(I23-H23,1))*24) -> 0 | K23: =((MOD(G23-F23,1)+MOD(I23-H23,1))*$B$23)*24 -> 0 | L23: =IF(ISERROR($K$23)*VLOOKUP($B$6,' Base des Index'!$L$1:$Q$6,CHOOSE(ROWS($1:1),2,2,2,2,2,3,4),FALSE),"",($K$23)*VLOOKUP($B$6,' Base des Index'!$L$1:$Q$6,CHOOSE(ROWS($1:1),2,2,2,2,2,3,4),FALSE)) -> 0 | P23: =MOD(O23-N23,1) -> 0 | Q23: =IF(ISERROR(P23*24)*75,"",(P23*24)*75) -> 0 | T23: =((S23*$B$23)*20) -> 0 | W23: =SUM(V23*0.6) -> 0 | Z23: =SUM(Y23*$B$13)*25 -> 0 | AC23: =SUM(AB23*$B$23)*110 -> 0 | AF23: =AE23 -> 0
C24: Mardi | D24: =VLOOKUP($D$22,' Base des Index'!A:H,3,0) -> 8 | J24: =((MOD(G24-F24,1)+MOD(I24-H24,1))*24) -> 0 | K24: =((MOD(G24-F24,1)+MOD(I24-H24,1))*$B$24)*24 -> 0 | L24: =IF(ISERROR($K$24)*VLOOKUP($B$6,' Base des Index'!$L$1:$Q$6,CHOOSE(ROWS($1:1),2,2,2,2,2,3,4),FALSE),"",($K$24)*VLOOKUP($B$6,' Base des Index'!$L$1:$Q$6,CHOOSE(ROWS($1:1),2,2,2,2,2,3,4),FALSE)) -> 0 | P24: =MOD(O24-N24,1) -> 0 | Q24: =IF(ISERROR(P24*24)*75,"",(P24*24)*75) -> 0 | T24: =((S24*$B$24*20)) -> 0 | W24: =SUM(V24*0.6) -> 0 | Z24: =SUM(Y24*$B$14)*25 -> 0 | AC24: =SUM(AB24*$B$24)*110 -> 0 | AF24: =AE24 -> 0
C25: Mercredi | D25: =VLOOKUP($D$22,' Base des Index'!A:H,4,0) -> 9 | J25: =((MOD(G25-F25,1)+MOD(I25-H25,1))*24) -> 0 | K25: =((MOD(G25-F25,1)+MOD(I25-H25,1))*$B$25)*24 -> 0 | L25: =IF(ISERROR($K$25)*VLOOKUP($B$6,' Base des Index'!$L$1:$Q$6,CHOOSE(ROWS($1:1),2,2,2,2,2,3,4),FALSE),"",($K$25)*VLOOKUP($B$6,' Base des Index'!$L$1:$Q$6,CHOOSE(ROWS($1:1),2,2,2,2,2,3,4),FALSE)) -> 0 | P25: =MOD(O25-N25,1) -> 0 | Q25: =IF(ISERROR(P25*24)*75,"",(P25*24)*75) -> 0 | T25: =((S25*$B$25)*20) -> 0 | W25: =SUM(V25*0.6) -> 0 | Z25: =SUM(Y25*$B$15)*25 -> 0 | AC25: =SUM(AB25*$B$25)*110 -> 0 | AF25: =AE25 -> 0
C26: Jeudi | D26: =VLOOKUP($D$22,' Base des Index'!A:H,5,0) -> 10 | J26: =((MOD(G26-F26,1)+MOD(I26-H26,1))*24) -> 0 | K26: =((MOD(G26-F26,1)+MOD(I26-H26,1))*$B$26)*24 -> 0 | L26: =IF(ISERROR($K$26)*VLOOKUP($B$6,' Base des Index'!$L$1:$Q$6,CHOOSE(ROWS($1:1),2,2,2,2,2,3,4),FALSE),"",($K$26)*VLOOKUP($B$6,' Base des Index'!$L$1:$Q$6,CHOOSE(ROWS($1:1),2,2,2,2,2,3,4),FALSE)) -> 0 | P26: =MOD(O26-N26,1) -> 0 | Q26: =IF(ISERROR(P26*24)*75,"",(P26*24)*75) -> 0 | T26: =((S26*$B$26)*20) -> 0 | W26: =SUM(V26*0.6) -> 0 | Z26: =SUM(Y26*$B$16)*25 -> 0 | AC26: =SUM(AB26*$B$26)*110 -> 0 | AF26: =AE26 -> 0
C27: Vendredi | D27: =VLOOKUP($D$22,' Base des Index'!A:H,6,0) -> 11 | J27: =((MOD(G27-F27,1)+MOD(I27-H27,1))*24) -> 0 | K27: =((MOD(G27-F27,1)+MOD(I27-H27,1))*$B$27)*24 -> 0 | L27: =IF(ISERROR($K$27)*VLOOKUP($B$6,' Base des Index'!$L$1:$Q$6,CHOOSE(ROWS($1:1),2,2,2,2,2,3,4),FALSE),"",($K$27)*VLOOKUP($B$6,' Base des Index'!$L$1:$Q$6,CHOOSE(ROWS($1:1),2,2,2,2,2,3,4),FALSE)) -> 0 | P27: =MOD(O27-N27,1) -> 0 | Q27: =IF(ISERROR(P27*24)*75,"",(P27*24)*75) -> 0 | T27: =((S27*$B$27)*20) -> 0 | W27: =SUM(V27*0.6) -> 0 | Z27: =SUM(Y27*$B$17)*25 -> 0 | AC27: =SUM(AB27*$B$27)*110 -> 0 | AF27: =AE27 -> 0
C28: Samedi | D28: =VLOOKUP($D$22,' Base des Index'!A:H,7,0) -> 12 | J28: =((MOD(G28-F28,1)+MOD(I28-H28,1))*24) -> 0 | K28: =((MOD(G28-F28,1)+MOD(I28-H28,1))*$B$28)*24 -> 0 | L28: =IF(ISERROR($K$28)*VLOOKUP($B$6,' Base des Index'!$L$1:$Q$6,CHOOSE(ROWS($1:6),2,2,2,2,2,3,4),FALSE),"",($K$28)*VLOOKUP($B$6,' Base des Index'!$L$1:$Q$6,CHOOSE(ROWS($1:6),2,2,2,2,2,3,4),FALSE)) -> 0 | P28: =MOD(O28-N28,1) -> 0 | Q28: =IF(ISERROR(P28*24)*110,"",(P28*24)*110) -> 0 | T28: =((S28*$B$28)*20) -> 0 | W28: =SUM(V28*0.6) -> 0 | Z28: =SUM(Y28*$B$18)*30 -> 0 | AC28: =SUM(AB28*$B$28)*110 -> 0 | AF28: =AE28 -> 0
C29: Dimanche | D29: =VLOOKUP($D$22,' Base des Index'!A:H,8,0) -> 13 | J29: =((MOD(G29-F29,1)+MOD(I29-H29,1))*24) -> 0 | K29: =((MOD(G29-F29,1)+MOD(I29-H29,1))*$B$29)*24 -> 0 | L29: =IF(ISERROR($K$29)*VLOOKUP($B$6,' Base des Index'!$L$1:$Q$6,CHOOSE(ROWS($1:7),2,2,2,2,2,3,4),FALSE),"",($K$29))*VLOOKUP($B$6,' Base des Index'!$L$1:$Q$6,CHOOSE(ROWS($1:7),2,2,2,2,2,3,4),FALSE) -> 0 | P29: =MOD(O29-N29,1) -> 0 | Q29: =IF(ISERROR(P29*24)*110,"",(P29*24)*110) -> 0 | T29: =((S29*$B$29)*20) -> 0 | W29: =SUM(V29*0.6) -> 0 | Z29: =SUM(Y29*$B$19)*30 -> 0 | AC29: =SUM(AB29*$B$29)*110 -> 0 | AF29: =AE29 -> 0
C30: Total semaine | J30: =SUM(J23:J29) -> 0 | K30: =SUM(K23:K29) -> 0 | L30: =SUM(L23:L29) -> 0 | P30: =SUM(P23:P29) -> 0 | Q30: =SUM(Q23:Q29) -> 0 | S30: =SUM(S23:S29) -> 0 | T30: =SUM(T23:T29) -> 0 | V30: =SUM(V23:V29) -> 0 | W30: =SUM(W23:W29) -> 0 | Y30: =SUM(Y24:Y29) -> 0 | Z30: =SUM(Z23:Z29) -> 0 | AB30: =SUM(AB23:AB29) -> 0 | AC30: =SUM(AC23:AC29) -> 0 | AE30: =SUM(AE23:AE29) -> 0 | AF30: =SUM(AF23:AF29) -> 0 | AH30: =SUM(L30+T30+Z30+W30+Q30+AF30+AC30) -> 0
B32: N° de Techniciens | C32: Semaine | D32: 7 | F32: Matin | H32: Après-Midi | J32: Total heures par technicien | K32: Total Heures jour | L32: Coût | N32: nuit | P32: Total heures Nuit | Q32: Coût | S32: Forfait repas par jour et par personne | T32: Coût | V32: Distance kilomètrique Aller / Retour | W32: Coût | Y32: Temps déplacement Aller / Retour par personne | Z32: Coût | AB32: Forfait hôtel par personne | AC32: Coût | AE32: Autres: Parking, Achat fournitures | AF32: Coût | AH32: Total HT
C33: Lundi | D33: =VLOOKUP($D$32,' Base des Index'!A:H,2,0) -> 14 | J33: =((MOD(G33-F33,1)+MOD(I33-H33,1))*24) -> 0 | K33: =((MOD(G33-F33,1)+MOD(I33-H33,1))*$B$33)*24 -> 0 | L33: =IF(ISERROR($K$33)*VLOOKUP($B$6,' Base des Index'!$L$1:$Q$6,CHOOSE(ROWS($1:1),2,2,2,2,2,3,4),FALSE),"",($K$33)*VLOOKUP($B$6,' Base des Index'!$L$1:$Q$6,CHOOSE(ROWS($1:1),2,2,2,2,2,3,4),FALSE)) -> 0 | P33: =MOD(O33-N33,1) -> 0 | Q33: =IF(ISERROR(P33*24)*75,"",(P33*24)*75) -> 0 | T33: =((S33*$B$33)*20) -> 0 | W33: =SUM(V33*0.6) -> 0 | Z33: =SUM(Y33*$B$33)*25 -> 0 | AC33: =SUM(AB33*$B$33)*110 -> 0 | AF33: =AE33 -> 0
C34: Mardi | D34: =VLOOKUP($D$32,' Base des Index'!A:H,3,0) -> 15 | J34: =((MOD(G34-F34,1)+MOD(I34-H34,1))*24) -> 0 | K34: =((MOD(G34-F34,1)+MOD(I34-H34,1))*$B$34)*24 -> 0 | L34: =IF(ISERROR($K$34)*VLOOKUP($B$6,' Base des Index'!$L$1:$Q$6,CHOOSE(ROWS($1:1),2,2,2,2,2,3,4),FALSE),"",($K$34)*VLOOKUP($B$6,' Base des Index'!$L$1:$Q$6,CHOOSE(ROWS($1:1),2,2,2,2,2,3,4),FALSE)) -> 0 | P34: =MOD(O34-N34,1) -> 0 | Q34: =IF(ISERROR(P34*24)*75,"",(P34*24)*75) -> 0 | T34: =((S34*$B$34*20)) -> 0 | W34: =SUM(V34*0.6) -> 0 | Z34: =SUM(Y34*$B$34)*25 -> 0 | AC34: =SUM(AB34*$B$34)*110 -> 0 | AF34: =AE34 -> 0
C35: Mercredi | D35: =VLOOKUP($D$32,' Base des Index'!A:H,4,0) -> 16 | J35: =((MOD(G35-F35,1)+MOD(I35-H35,1))*24) -> 0 | K35: =((MOD(G35-F35,1)+MOD(I35-H35,1))*$B$35)*24 -> 0 | L35: =IF(ISERROR($K$35)*VLOOKUP($B$6,' Base des Index'!$L$1:$Q$6,CHOOSE(ROWS($1:1),2,2,2,2,2,3,4),FALSE),"",($K$35)*VLOOKUP($B$6,' Base des Index'!$L$1:$Q$6,CHOOSE(ROWS($1:1),2,2,2,2,2,3,4),FALSE)) -> 0 | P35: =MOD(O35-N35,1) -> 0 | Q35: =IF(ISERROR(P35*24)*75,"",(P35*24)*75) -> 0 | T35: =((S35*$B$35)*20) -> 0 | W35: =SUM(V35*0.6) -> 0 | Z35: =SUM(Y35*$B$35)*25 -> 0 | AC35: =SUM(AB35*$B$35)*110 -> 0 | AF35: =AE35 -> 0
C36: Jeudi | D36: =VLOOKUP($D$32,' Base des Index'!A:H,5,0) -> 17 | J36: =((MOD(G36-F36,1)+MOD(I36-H36,1))*24) -> 0 | K36: =((MOD(G36-F36,1)+MOD(I36-H36,1))*$B$36)*24 -> 0 | L36: =IF(ISERROR($K$36)*VLOOKUP($B$6,' Base des Index'!$L$1:$Q$6,CHOOSE(ROWS($1:1),2,2,2,2,2,3,4),FALSE),"",($K$36)*VLOOKUP($B$6,' Base des Index'!$L$1:$Q$6,CHOOSE(ROWS($1:1),2,2,2,2,2,3,4),FALSE)) -> 0 | P36: =MOD(O36-N36,1) -> 0 | Q36: =IF(ISERROR(P36*24)*75,"",(P36*24)*75) -> 0 | T36: =((S36*$B$36)*20) -> 0 | W36: =SUM(V36*0.6) -> 0 | Z36: =SUM(Y36*$B$36)*25 -> 0 | AC36: =SUM(AB36*$B$36)*110 -> 0 | AF36: =AE36 -> 0
C37: Vendredi | D37: =VLOOKUP($D$32,' Base des Index'!A:H,6,0) -> 18 | J37: =((MOD(G37-F37,1)+MOD(I37-H37,1))*24) -> 0 | K37: =((MOD(G37-F37,1)+MOD(I37-H37,1))*$B$37)*24 -> 0 | L37: =IF(ISERROR($K$37)*VLOOKUP($B$6,' Base des Index'!$L$1:$Q$6,CHOOSE(ROWS($1:1),2,2,2,2,2,3,4),FALSE),"",($K$37)*VLOOKUP($B$6,' Base des Index'!$L$1:$Q$6,CHOOSE(ROWS($1:1),2,2,2,2,2,3,4),FALSE)) -> 0 | P37: =MOD(O37-N37,1) -> 0 | Q37: =IF(ISERROR(P37*24)*75,"",(P37*24)*75) -> 0 | T37: =((S37*$B$37)*20) -> 0 | W37: =SUM(V37*0.6) -> 0 | Z37: =SUM(Y37*$B$37)*25 -> 0 | AC37: =SUM(AB37*$B$37)*110 -> 0 | AF37: =AE37 -> 0
C38: Samedi | D38: =VLOOKUP($D$32,' Base des Index'!A:H,7,0) -> 19 | J38: =((MOD(G38-F38,1)+MOD(I38-H38,1))*24) -> 0 | K38: =((MOD(G38-F38,1)+MOD(I38-H38,1))*$B$38)*24 -> 0 | L38: =IF(ISERROR($K$38)*VLOOKUP($B$6,' Base des Index'!$L$1:$Q$6,CHOOSE(ROWS($1:6),2,2,2,2,2,3,4),FALSE),"",($K$38)*VLOOKUP($B$6,' Base des Index'!$L$1:$Q$6,CHOOSE(ROWS($1:6),2,2,2,2,2,3,4),FALSE)) -> 0 | P38: =MOD(O38-N38,1) -> 0 | Q38: =IF(ISERROR(P38*24)*110,"",(P38*24)*110) -> 0 | T38: =((S38*$B$38)*20) -> 0 | W38: =SUM(V38*0.6) -> 0 | Z38: =SUM(Y38*$B$38)*30 -> 0 | AC38: =SUM(AB38*$B$38)*110 -> 0 | AF38: =AE38 -> 0
C39: Dimanche | D39: =VLOOKUP($D$32,' Base des Index'!A:H,8,0) -> 20 | J39: =((MOD(G39-F39,1)+MOD(I39-H39,1))*24) -> 0 | K39: =((MOD(G39-F39,1)+MOD(I39-H39,1))*$B$39)*24 -> 0 | L39: =IF(ISERROR($K$39)*VLOOKUP($B$6,' Base des Index'!$L$1:$Q$6,CHOOSE(ROWS($1:7),2,2,2,2,2,3,4),FALSE),"",($K$39)*VLOOKUP($B$6,' Base des Index'!$L$1:$Q$6,CHOOSE(ROWS($1:7),2,2,2,2,2,3,4),FALSE)) -> 0 | P39: =MOD(O39-N39,1) -> 0 | Q39: =IF(ISERROR(P39*24)*110,"",(P39*24)*110) -> 0 | T39: =((S39*$B$39)*20) -> 0 | W39: =SUM(V39*0.6) -> 0 | Z39: =SUM(Y39*$B$39)*30 -> 0 | AC39: =SUM(AB39*$B$39)*110 -> 0 | AF39: =AE39 -> 0
C40: Total semaine | J40: =SUM(J33:J39) -> 0 | K40: =SUM(K33:K39) -> 0 | L40: =SUM(L33:L39) -> 0 | P40: =SUM(P33:P39) -> 0 | Q40: =SUM(Q33:Q39) -> 0 | S40: =SUM(S33:S39) -> 0 | T40: =SUM(T33:T39) -> 0 | V40: =SUM(V33:V39) -> 0 | W40: =SUM(W33:W39) -> 0 | Y40: =SUM(Y34:Y39) -> 0 | Z40: =SUM(Z33:Z39) -> 0 | AB40: =SUM(AB33:AB39) -> 0 | AC40: =SUM(AC33:AC39) -> 0 | AE40: =SUM(AE33:AE39) -> 0 | AF40: =SUM(AF33:AF39) -> 0 | AH40: =SUM(L40+T40+Z40+W40+Q40+AF40+AC40) -> 0
B42: N° de Techniciens | C42: Semaine | D42: 7 | F42: Matin | H42: Après-Midi | J42: Total heures par technicien | K42: Total Heures jour | L42: Coût | N42: nuit | P42: Total heures Nuit | Q42: Coût | S42: Forfait repas par jour et par personne | T42: Coût | V42: Distance kilomètrique Aller / Retour | W42: Coût | Y42: Temps déplacement Aller / Retour par personne | Z42: Coût | AB42: Forfait hôtel par personne | AC42: Coût | AE42: Autres: Parking, Achat fournitures | AF42: Coût | AH42: Total HT
C43: Lundi | D43: =VLOOKUP($D$32,' Base des Index'!A:H,2,0) -> 14 | J43: =((MOD(G43-F43,1)+MOD(I43-H43,1))*24) -> 0 | K43: =((MOD(G43-F43,1)+MOD(I43-H43,1))*$B$33)*24 -> 0 | L43: =IF(ISERROR($K$43)*VLOOKUP($B$6,' Base des Index'!$L$1:$Q$6,CHOOSE(ROWS($K$43),2,2,2,2,2,3,4),FALSE),"",($K$43)*VLOOKUP($B$6,' Base des Index'!$L$1:$Q$6,CHOOSE(ROWS($K$43),2,2,2,2,2,3,4),FALSE)) -> 0 | P43: =MOD(O43-N43,1) -> 0 | Q43: =IF(ISERROR(P43*24)*75,"",(P43*24)*75) -> 0 | T43: =((S43*$B$33)*20) -> 0 | W43: =SUM(V43*0.6) -> 0 | Z43: =SUM(Y43*$B$33)*25 -> 0 | AC43: =SUM(AB43*$B$33)*110 -> 0 | AF43: =AE43 -> 0
C44: Mardi | D44: =VLOOKUP($D$32,' Base des Index'!A:H,3,0) -> 15 | J44: =((MOD(G44-F44,1)+MOD(I44-H44,1))*24) -> 0 | K44: =((MOD(G44-F44,1)+MOD(I44-H44,1))*$B$44)*24 -> 0 | L44: =IF(ISERROR($K$44)*VLOOKUP($B$6,' Base des Index'!$L$1:$Q$6,CHOOSE(ROWS($K$44),2,2,2,2,2,3,4),FALSE),"",($K$44)*VLOOKUP($B$6,' Base des Index'!$L$1:$Q$6,CHOOSE(ROWS($K$44),2,2,2,2,2,3,4),FALSE)) -> 0 | P44: =MOD(O44-N44,1) -> 0 | Q44: =IF(ISERROR(P44*24)*75,"",(P44*24)*75) -> 0 | T44: =((S44*$B$34*20)) -> 0 | W44: =SUM(V44*0.6) -> 0 | Z44: =SUM(Y44*$B$34)*25 -> 0 | AC44: =SUM(AB44*$B$34)*110 -> 0 | AF44: =AE44 -> 0
C45: Mercredi | D45: =VLOOKUP($D$32,' Base des Index'!A:H,4,0) -> 16 | J45: =((MOD(G45-F45,1)+MOD(I45-H45,1))*24) -> 0 | K45: =((MOD(G45-F45,1)+MOD(I45-H45,1))*$B$35)*24 -> 0 | L45: =IF(ISERROR($K$45)*VLOOKUP($B$6,' Base des Index'!$L$1:$Q$6,CHOOSE(ROWS($K$45),2,2,2,2,2,3,4),FALSE),"",($K$45)*VLOOKUP($B$6,' Base des Index'!$L$1:$Q$6,CHOOSE(ROWS($K$45),2,2,2,2,2,3,4),FALSE)) -> 0 | P45: =MOD(O45-N45,1) -> 0 | Q45: =IF(ISERROR(P45*24)*75,"",(P45*24)*75) -> 0 | T45: =((S45*$B$35)*20) -> 0 | W45: =SUM(V45*0.6) -> 0 | Z45: =SUM(Y45*$B$35)*25 -> 0 | AC45: =SUM(AB45*$B$35)*110 -> 0 | AF45: =AE45 -> 0
C46: Jeudi | D46: =VLOOKUP($D$32,' Base des Index'!A:H,5,0) -> 17 | J46: =((MOD(G46-F46,1)+MOD(I46-H46,1))*24) -> 0 | K46: =((MOD(G46-F46,1)+MOD(I46-H46,1))*$B$36)*24 -> 0 | L46: =IF(ISERROR($K$46)*VLOOKUP($B$6,' Base des Index'!$L$1:$Q$6,CHOOSE(ROWS($K$46),2,2,2,2,2,3,4),FALSE),"",($K$46)*VLOOKUP($B$6,' Base des Index'!$L$1:$Q$6,CHOOSE(ROWS($K$46),2,2,2,2,2,3,4),FALSE)) -> 0 | P46: =MOD(O46-N46,1) -> 0 | Q46: =IF(ISERROR(P46*24)*75,"",(P46*24)*75) -> 0 | T46: =((S46*$B$36)*20) -> 0 | W46: =SUM(V46*0.6) -> 0 | Z46: =SUM(Y46*$B$36)*25 -> 0 | AC46: =SUM(AB46*$B$36)*110 -> 0 | AF46: =AE46 -> 0
C47: Vendredi | D47: =VLOOKUP($D$32,' Base des Index'!A:H,6,0) -> 18 | J47: =((MOD(G47-F47,1)+MOD(I47-H47,1))*24) -> 0 | K47: =((MOD(G47-F47,1)+MOD(I47-H47,1))*$B$37)*24 -> 0 | L47: =IF(ISERROR($K$47)*VLOOKUP($B$6,' Base des Index'!$L$1:$Q$6,CHOOSE(ROWS($K$47),2,2,2,2,2,3,4),FALSE),"",($K$47)*VLOOKUP($B$6,' Base des Index'!$L$1:$Q$6,CHOOSE(ROWS($K$47),2,2,2,2,2,3,4),FALSE)) -> 0 | P47: =MOD(O47-N47,1) -> 0 | Q47: =IF(ISERROR(P47*24)*75,"",(P47*24)*75) -> 0 | T47: =((S47*$B$37)*20) -> 0 | W47: =SUM(V47*0.6) -> 0 | Z47: =SUM(Y47*$B$37)*25 -> 0 | AC47: =SUM(AB47*$B$37)*110 -> 0 | AF47: =AE47 -> 0
C48: Samedi | D48: =VLOOKUP($D$32,' Base des Index'!A:H,7,0) -> 19 | J48: =((MOD(G48-F48,1)+MOD(I48-H48,1))*24) -> 0 | K48: =((MOD(G48-F48,1)+MOD(I48-H48,1))*$B$38)*24 -> 0 | L48: =IF(ISERROR($K$48)*VLOOKUP($B$6,' Base des Index'!$L$1:$Q$6,CHOOSE(ROWS($K$48),2,2,2,2,2,3,4),FALSE),"",($K$48)*VLOOKUP($B$6,' Base des Index'!$L$1:$Q$6,CHOOSE(ROWS($K$48),2,2,2,2,2,3,4),FALSE)) -> 0 | P48: =MOD(O48-N48,1) -> 0 | Q48: =IF(ISERROR(P48*24)*110,"",(P48*24)*110) -> 0 | T48: =((S48*$B$38)*20) -> 0 | W48: =SUM(V48*0.6) -> 0 | Z48: =SUM(Y48*$B$38)*30 -> 0 | AC48: =SUM(AB48*$B$38)*110 -> 0 | AF48: =AE48 -> 0
C49: Dimanche | D49: =VLOOKUP($D$32,' Base des Index'!A:H,8,0) -> 20 | J49: =((MOD(G49-F49,1)+MOD(I49-H49,1))*24) -> 0 | K49: =((MOD(G49-F49,1)+MOD(I49-H49,1))*$B$39)*24 -> 0 | L49: =IF(ISERROR($K$49)*VLOOKUP($B$6,' Base des Index'!$L$1:$Q$6,CHOOSE(ROWS($K$49),2,2,2,2,2,3,4),FALSE),"",($K$49)*VLOOKUP($B$6,' Base des Index'!$L$1:$Q$6,CHOOSE(ROWS($K$49),2,2,2,2,2,3,4),FALSE)) -> 0 | P49: =MOD(O49-N49,1) -> 0 | Q49: =IF(ISERROR(P49*24)*110,"",(P49*24)*110) -> 0 | T49: =((S49*$B$39)*20) -> 0 | W49: =SUM(V49*0.6) -> 0 | Z49: =SUM(Y49*$B$39)*30 -> 0 | AC49: =SUM(AB49*$B$39)*110 -> 0 | AF49: =AE49 -> 0
...

Sheet FedEx rétrofit Pierre Bénite
C2: 2021 | F2: A FACTURER
C4: Client et lieu d'intervention | H4: =MID(CELL("nomfichier",$H$4),FIND("]",CELL("nomfichier",$H$4))+1,32) -> FedEx rétrofit Pierre Bénite | AF4: S1 | AH4: =AH20 -> 2311
B6: SICK | F6: N° de Commande : | AF6: S2 | AH6: =AH30 -> 3232
AF8: S3 | AH8: =AH40 -> 0
AF10: Total | AH10: =AH4+AH6+AH8 -> 5543
B12: N° de Techniciens | C12: Semaine | D12: 5 | F12: Matin | H12: Après-Midi | J12: Total heures par technicien | K12: Total Heures jour | L12: Coût | N12: nuit | P12: Total heures Nuit | Q12: Coût | S12: Forfait repas par jour et par personne | T12: Coût | V12: Distance kilomètrique Aller / Retour | W12: Coût | Y12: Temps déplacement Aller / Retour par personne | Z12: Coût | AB12: Forfait hôtel par personne | AC12: Coût | AE12: Câble 12G1 | AF12: Coût | AH12: Total HT
C13: Lundi | D13: =VLOOKUP($D$12,' Base des Index'!A:H,2,0) -> 31 | J13: =((MOD(G13-F13,1)+MOD(I13-H13,1))*24) -> 0 | K13: =((MOD(G13-F13,1)+MOD(I13-H13,1))*$B$13)*24 -> 0 | L13: =IF(ISERROR($K$13)*VLOOKUP($B$6,' Base des Index'!$L$1:$Q$6,CHOOSE(ROWS($1:1),2,2,2,2,2,3,4),FALSE),"",($K$13)*VLOOKUP($B$6,' Base des Index'!$L$1:$Q$6,CHOOSE(ROWS($1:1),2,2,2,2,2,3,4),FALSE)) -> 0 | P13: =MOD(O13-N13,1) -> 0 | Q13: =IF(ISERROR(P13*24)*75,"",(P13*24)*75) -> 0 | T13: =((S13*$B$13)*20) -> 0 | W13: =SUM(V13*0.6) -> 0 | Z13: =SUM(Y13*$B$13)*25 -> 0 | AC13: =SUM(AB13*$B$13)*110 -> 0 | AF13: =AE13 -> 0
C14: Mardi | D14: =VLOOKUP($D$12,' Base des Index'!A:H,3,0) -> 1 | J14: =((MOD(G14-F14,1)+MOD(I14-H14,1))*24) -> 0 | K14: =((MOD(G14-F14,1)+MOD(I14-H14,1))*$B$14)*24 -> 0 | L14: =IF(ISERROR($K$14)*VLOOKUP($B$6,' Base des Index'!$L$1:$Q$6,CHOOSE(ROWS($1:2),2,2,2,2,2,3,4),FALSE),"",($K$14)*VLOOKUP($B$6,' Base des Index'!$L$1:$Q$6,CHOOSE(ROWS($1:2),2,2,2,2,2,3,4),FALSE)) -> 0 | P14: =MOD(O14-N14,1) -> 0 | Q14: =IF(ISERROR(P14*24)*75,"",(P14*24)*75) -> 0 | T14: =((S14*$B$14*20)) -> 0 | W14: =SUM(V14*0.6) -> 0 | Z14: =SUM(Y14*$B$14)*25 -> 0 | AC14: =SUM(AB14*$B$14)*110 -> 0 | AF14: =AE14 -> 0
C15: Mercredi | D15: =VLOOKUP($D$12,' Base des Index'!A:H,4,0) -> 2 | J15: =((MOD(G15-F15,1)+MOD(I15-H15,1))*24) -> 0 | K15: =((MOD(G15-F15,1)+MOD(I15-H15,1))*$B$15)*24 -> 0 | L15: =IF(ISERROR($K$15)*VLOOKUP($B$6,' Base des Index'!$L$1:$Q$6,CHOOSE(ROWS($1:3),2,2,2,2,2,3,4),FALSE),"",($K$15)*VLOOKUP($B$6,' Base des Index'!$L$1:$Q$6,CHOOSE(ROWS($1:3),2,2,2,2,2,3,4),FALSE)) -> 0 | P15: =MOD(O15-N15,1) -> 0 | Q15: =IF(ISERROR(P15*24)*75,"",(P15*24)*75) -> 0 | T15: =((S15*$B$15)*20) -> 0 | W15: =SUM(V15*0.6) -> 0 | Z15: =SUM(Y15*$B$15)*25 -> 0 | AC15: =SUM(AB15*$B$15)*110 -> 0 | AF15: =AE15 -> 0
C16: Jeudi | D16: =VLOOKUP($D$12,' Base des Index'!A:H,5,0) -> 3 | J16: =((MOD(G16-F16,1)+MOD(I16-H16,1))*24) -> 0 | K16: =((MOD(G16-F16,1)+MOD(I16-H16,1))*$B$16)*24 -> 0 | L16: =IF(ISERROR($K$16)*VLOOKUP($B$6,' Base des Index'!$L$1:$Q$6,CHOOSE(ROWS($1:4),2,2,2,2,2,3,4),FALSE),"",($K$16)*VLOOKUP($B$6,' Base des Index'!$L$1:$Q$6,CHOOSE(ROWS($1:4),2,2,2,2,2,3,4),FALSE)) -> 0 | P16: =MOD(O16-N16,1) -> 0 | Q16: =IF(ISERROR(P16*24)*75,"",(P16*24)*75) -> 0 | T16: =((S16*$B$16)*20) -> 0 | W16: =SUM(V16*0.6) -> 0 | Z16: =SUM(Y16*$B$16)*25 -> 0 | AC16: =SUM(AB16*$B$16)*110 -> 0 | AF16: =AE16 -> 0
B17: 3 | C17: Vendredi | D17: =VLOOKUP($D$12,' Base des Index'!A:H,6,0) -> 4 | F17: 0.33333333 | G17: 0.5 | H17: 0.54166667 | I17: 0.79166667 | J17: =((MOD(G17-F17,1)+MOD(I17-H17,1))*24) -> 10 | K17: =((MOD(G17-F17,1)+MOD(I17-H17,1))*$B$17)*24 -> 30 | L17: =IF(ISERROR($K$17)*VLOOKUP($B$6,' Base des Index'!$L$1:$Q$6,CHOOSE(ROWS($1:5),2,2,2,2,2,3,4),FALSE),"",($K$17)*VLOOKUP($B$6,' Base des Index'!$L$1:$Q$6,CHOOSE(ROWS($1:5),2,2,2,2,2,3,4),FALSE)) -> 1650 | P17: =MOD(O17-N17,1) -> 0 | Q17: =IF(ISERROR(P17*24)*75,"",(P17*24)*75) -> 0 | S17: 1 | T17: =((S17*$B$17)*20) -> 60 | V17: 460 | W17: =SUM(V17*0.6) -> 276 | Y17: 2 | Z17: =SUM(Y17*$B$17)*25 -> 150 | AC17: =SUM(AB17*$B$17)*110 -> 0 | AE17: 175 | AF17: =AE17 -> 175
C18: Samedi | D18: =VLOOKUP($D$12,' Base des Index'!A:H,7,0) -> 5 | J18: =((MOD(G18-F18,1)+MOD(I18-H18,1))*24) -> 0 | K18: =((MOD(G18-F18,1)+MOD(I18-H18,1))*$B$18)*24 -> 0 | L18: =IF(ISERROR($K$18)*VLOOKUP($B$6,' Base des Index'!$L$1:$Q$6,CHOOSE(ROWS($1:6),2,2,2,2,2,3,4),FALSE),"",($K$18)*VLOOKUP($B$6,' Base des Index'!$L$1:$Q$6,CHOOSE(ROWS($1:6),2,2,2,2,2,3,4),FALSE)) -> 0 | P18: =MOD(O18-N18,1) -> 0 | Q18: =IF(ISERROR(P18*24)*110,"",(P18*24)*110) -> 0 | T18: =((S18*$B$18)*20) -> 0 | W18: =SUM(V18*0.6) -> 0 | Z18: =SUM(Y18*$B$18)*30 -> 0 | AC18: =SUM(AB18*$B$18)*110 -> 0 | AF18: =AE18 -> 0
C19: Dimanche | D19: =VLOOKUP($D$12,' Base des Index'!A:H,8,0) -> 6 | J19: =((MOD(G19-F19,1)+MOD(I19-H19,1))*24) -> 0 | K19: =((MOD(G19-F19,1)+MOD(I19-H19,1))*$B$19)*24 -> 0 | L19: =IF(ISERROR($K$19)*VLOOKUP($B$6,' Base des Index'!$L$1:$Q$6,CHOOSE(ROWS($1:7),2,2,2,2,2,3,4),FALSE),"",($K$19)*VLOOKUP($B$6,' Base des Index'!$L$1:$Q$6,CHOOSE(ROWS($1:7),2,2,2,2,2,3,4),FALSE)) -> 0 | P19: =MOD(O19-N19,1) -> 0 | Q19: =IF(ISERROR(P19*24)*110,"",(P19*24)*110) -> 0 | T19: =((S19*$B$19)*20) -> 0 | W19: =SUM(V19*0.6) -> 0 | Z19: =SUM(Y19*$B$19)*30 -> 0 | AC19: =SUM(AB19*$B$19)*110 -> 0 | AF19: =AE19 -> 0
C20: Total semaine | J20: =SUM(J13:J19) -> 10 | K20: =SUM(K13:K19) -> 30 | L20: =SUM(L13:L19) -> 1650 | P20: =SUM(P13:P19) -> 0 | Q20: =SUM(Q13:Q19) -> 0 | S20: =SUM(S13:S19) -> 1 | T20: =SUM(T13:T19) -> 60 | V20: =SUM(V13:V19) -> 460 | W20: =SUM(W13:W19) -> 276 | Y20: =SUM(Y14:Y19) -> 2 | Z20: =SUM(Z13:Z19) -> 150 | AB20: =SUM(AB13:AB19) -> 0 | AC20: =SUM(AC13:AC19) -> 0 | AF20: =SUM(AF13:AF19) -> 175 | AH20: =SUM(L20+T20+Z20+W20+Q20+AF20+AC20) -> 2311
B22: N° de Techniciens | C22: Semaine | D22: 7 | F22: Matin | H22: Après-Midi | J22: Total heures par technicien | K22: Total Heures jour | L22: Coût | N22: nuit | P22: Total heures Nuit | Q22: Coût | S22: Forfait repas par jour et par personne | T22: Coût | V22: Distance kilomètrique Aller / Retour | W22: Coût | Y22: Temps déplacement Aller / Retour par personne | Z22: Coût | AB22: Forfait hôtel par personne | AC22: Coût | AE22: Autres: Parking, Achat fournitures | AF22: Coût | AH22: Total HT
C23: Lundi | D23: =VLOOKUP($D$22,' Base des Index'!A:H,2,0) -> 14 | J23: =((MOD(G23-F23,1)+MOD(I23-H23,1))*24) -> 0 | K23: =((MOD(G23-F23,1)+MOD(I23-H23,1))*$B$23)*24 -> 0 | L23: =IF(ISERROR($K$23)*VLOOKUP($B$6,' Base des Index'!$L$1:$Q$6,CHOOSE(ROWS($1:1),2,2,2,2,2,3,4),FALSE),"",($K$23)*VLOOKUP($B$6,' Base des Index'!$L$1:$Q$6,CHOOSE(ROWS($1:1),2,2,2,2,2,3,4),FALSE)) -> 0 | P23: =MOD(O23-N23,1) -> 0 | Q23: =IF(ISERROR(P23*24)*75,"",(P23*24)*75) -> 0 | T23: =((S23*$B$23)*20) -> 0 | W23: =SUM(V23*0.6) -> 0 | Z23: =SUM(Y23*$B$23)*25 -> 0 | AC23: =SUM(AB23*$B$23)*110 -> 0 | AF23: =AE23 -> 0
C24: Mardi | D24: =VLOOKUP($D$22,' Base des Index'!A:H,3,0) -> 15 | J24: =((MOD(G24-F24,1)+MOD(I24-H24,1))*24) -> 0 | K24: =((MOD(G24-F24,1)+MOD(I24-H24,1))*$B$24)*24 -> 0 | L24: =IF(ISERROR($K$24)*VLOOKUP($B$6,' Base des Index'!$L$1:$Q$6,CHOOSE(ROWS($1:1),2,2,2,2,2,3,4),FALSE),"",($K$24)*VLOOKUP($B$6,' Base des Index'!$L$1:$Q$6,CHOOSE(ROWS($1:1),2,2,2,2,2,3,4),FALSE)) -> 0 | P24: =MOD(O24-N24,1) -> 0 | Q24: =IF(ISERROR(P24*24)*75,"",(P24*24)*75) -> 0 | T24: =((S24*$B$24*20)) -> 0 | W24: =SUM(V24*0.6) -> 0 | Z24: =SUM(Y24*$B$24)*25 -> 0 | AC24: =SUM(AB24*$B$24)*110 -> 0 | AF24: =AE24 -> 0
C25: Mercredi | D25: =VLOOKUP($D$22,' Base des Index'!A:H,4,0) -> 16 | J25: =((MOD(G25-F25,1)+MOD(I25-H25,1))*24) -> 0 | K25: =((MOD(G25-F25,1)+MOD(I25-H25,1))*$B$25)*24 -> 0 | L25: =IF(ISERROR($K$25)*VLOOKUP($B$6,' Base des Index'!$L$1:$Q$6,CHOOSE(ROWS($1:1),2,2,2,2,2,3,4),FALSE),"",($K$25)*VLOOKUP($B$6,' Base des Index'!$L$1:$Q$6,CHOOSE(ROWS($1:1),2,2,2,2,2,3,4),FALSE)) -> 0 | P25: =MOD(O25-N25,1) -> 0 | Q25: =IF(ISERROR(P25*24)*75,"",(P25*24)*75) -> 0 | T25: =((S25*$B$25)*20) -> 0 | W25: =SUM(V25*0.6) -> 0 | Z25: =SUM(Y25*$B$25)*25 -> 0 | AC25: =SUM(AB25*$B$25)*110 -> 0 | AF25: =AE25 -> 0
B26: 1 | C26: Jeudi | D26: =VLOOKUP($D$22,' Base des Index'!A:H,5,0) -> 17 | F26: 0.33333333 | G26: 0.5 | H26: 0.54166667 | I26: 0.79166667 | J26: =((MOD(G26-F26,1)+MOD(I26-H26,1))*24) -> 10 | K26: =((MOD(G26-F26,1)+MOD(I26-H26,1))*$B$26)*24 -> 10 | L26: =IF(ISERROR($K$26)*VLOOKUP($B$6,' Base des Index'!$L$1:$Q$6,CHOOSE(ROWS($1:1),2,2,2,2,2,3,4),FALSE),"",($K$26)*VLOOKUP($B$6,' Base des Index'!$L$1:$Q$6,CHOOSE(ROWS($1:1),2,2,2,2,2,3,4),FALSE)) -> 550 | P26: =MOD(O26-N26,1) -> 0 | Q26: =IF(ISERROR(P26*24)*75,"",(P26*24)*75) -> 0 | S26: 1 | T26: =((S26*$B$26)*20) -> 20 | V26: 60 | W26: =SUM(V26*0.6) -> 36 | Y26: 1 | Z26: =SUM(Y26*$B$26)*25 -> 25 | AC26: =SUM(AB26*$B$26)*110 -> 0 | AF26: =AE26 -> 0
C27: Vendredi | D27: =VLOOKUP($D$22,' Base des Index'!A:H,6,0) -> 18 | J27: =((MOD(G27-F27,1)+MOD(I27-H27,1))*24) -> 0 | K27: =((MOD(G27-F27,1)+MOD(I27-H27,1))*$B$27)*24 -> 0 | L27: =IF(ISERROR($K$27)*VLOOKUP($B$6,' Base des Index'!$L$1:$Q$6,CHOOSE(ROWS($1:1),2,2,2,2,2,3,4),FALSE),"",($K$27)*VLOOKUP($B$6,' Base des Index'!$L$1:$Q$6,CHOOSE(ROWS($1:1),2,2,2,2,2,3,4),FALSE)) -> 0 | P27: =MOD(O27-N27,1) -> 0 | Q27: =IF(ISERROR(P27*24)*75,"",(P27*24)*75) -> 0 | T27: =((S27*$B$27)*20) -> 0 | W27: =SUM(V27*0.6) -> 0 | Z27: =SUM(Y27*$B$27)*25 -> 0 | AC27: =SUM(AB27*$B$27)*110 -> 0 | AF27: =AE27 -> 0
B28: 3 | C28: Samedi | D28: =VLOOKUP($D$22,' Base des Index'!A:H,7,0) -> 19 | F28: 0.33333333 | G28: 0.5 | H28: 0.5 | I28: 0.79166667 | J28: =((MOD(G28-F28,1)+MOD(I28-H28,1))*24) -> 11 | K28: =((MOD(G28-F28,1)+MOD(I28-H28,1))*$B$28)*24 -> 33 | L28: =IF(ISERROR($K$28)*VLOOKUP($B$6,' Base des Index'!$L$1:$Q$6,CHOOSE(ROWS($1:6),2,2,2,2,2,3,4),FALSE),"",($K$28)*VLOOKUP($B$6,' Base des Index'!$L$1:$Q$6,CHOOSE(ROWS($1:6),2,2,2,2,2,3,4),FALSE)) -> 2475 | P28: =MOD(O28-N28,1) -> 0 | Q28: =IF(ISERROR(P28*24)*110,"",(P28*24)*110) -> 0 | T28: =((S28*$B$28)*20) -> 0 | V28: 60 | W28: =SUM(V28*0.6) -> 36 | Y28: 1 | Z28: =SUM(Y28*$B$28)*30 -> 90 | AC28: =SUM(AB28*$B$28)*110 -> 0 | AF28: =AE28 -> 0
C29: Dimanche | D29: =VLOOKUP($D$22,' Base des Index'!A:H,8,0) -> 20 | J29: =((MOD(G29-F29,1)+MOD(I29-H29,1))*24) -> 0 | K29: =((MOD(G29-F29,1)+MOD(I29-H29,1))*$B$29)*24 -> 0 | L29: =IF(ISERROR($K$29)*VLOOKUP($B$6,' Base des Index'!$L$1:$Q$6,CHOOSE(ROWS($1:7),2,2,2,2,2,3,4),FALSE),"",($K$29))*VLOOKUP($B$6,' Base des Index'!$L$1:$Q$6,CHOOSE(ROWS($1:7),2,2,2,2,2,3,4),FALSE) -> 0 | P29: =MOD(O29-N29,1) -> 0 | Q29: =IF(ISERROR(P29*24)*110,"",(P29*24)*110) -> 0 | T29: =((S29*$B$29)*20) -> 0 | W29: =SUM(V29*0.6) -> 0 | Z29: =SUM(Y29*$B$29)*30 -> 0 | AC29: =SUM(AB29*$B$29)*110 -> 0 | AF29: =AE29 -> 0
C30: Total semaine | J30: =SUM(J23:J29) -> 21 | K30: =SUM(K23:K29) -> 43 | L30: =SUM(L23:L29) -> 3025 | P30: =SUM(P23:P29) -> 0 | Q30: =SUM(Q23:Q29) -> 0 | S30: =SUM(S23:S29) -> 1 | T30: =SUM(T23:T29) -> 20 | V30: =SUM(V23:V29) -> 120 | W30: =SUM(W23:W29) -> 72 | Y30: =SUM(Y24:Y29) -> 2 | Z30: =SUM(Z23:Z29) -> 115 | AB30: =SUM(AB23:AB29) -> 0 | AC30: =SUM(AC23:AC29) -> 0 | AE30: =SUM(AE23:AE29) -> 0 | AF30: =SUM(AF23:AF29) -> 0 | AH30: =SUM(L30+T30+Z30+W30+Q30+AF30+AC30) -> 3232
B32: N° de Techniciens | C32: Semaine | D32: 14 | F32: Matin | H32: Après-Midi | J32: Total heures par technicien | K32: Total Heures jour | L32: Coût | N32: nuit | P32: Total heures Nuit | Q32: Coût | S32: Forfait repas par jour et par personne | T32: Coût | V32: Distance kilomètrique Aller / Retour | W32: Coût | Y32: Temps déplacement Aller / Retour par personne | Z32: Coût | AB32: Forfait hôtel par personne | AC32: Coût | AE32: Autres: Parking, Achat fournitures | AF32: Coût | AH32: Total HT
C33: Lundi | D33: =VLOOKUP($D$32,' Base des Index'!A:H,2,0) -> 4 | J33: =((MOD(G33-F33,1)+MOD(I33-H33,1))*24) -> 0 | K33: =((MOD(G33-F33,1)+MOD(I33-H33,1))*$B$33)*24 -> 0 | L33: =IF(ISERROR($K$33)*VLOOKUP($B$6,' Base des Index'!$L$1:$Q$6,CHOOSE(ROWS($1:1),2,2,2,2,2,3,4),FALSE),"",($K$33)*VLOOKUP($B$6,' Base des Index'!$L$1:$Q$6,CHOOSE(ROWS($1:1),2,2,2,2,2,3,4),FALSE)) -> 0 | P33: =MOD(O33-N33,1) -> 0 | Q33: =IF(ISERROR(P33*24)*75,"",(P33*24)*75) -> 0 | T33: =((S33*$B$33)*20) -> 0 | W33: =SUM(V33*0.6) -> 0 | Z33: =SUM(Y33*$B$33)*25 -> 0 | AC33: =SUM(AB33*$B$33)*110 -> 0 | AF33: =AE33 -> 0
C34: Mardi | D34: =VLOOKUP($D$32,' Base des Index'!A:H,3,0) -> 5 | J34: =((MOD(G34-F34,1)+MOD(I34-H34,1))*24) -> 0 | K34: =((MOD(G34-F34,1)+MOD(I34-H34,1))*$B$34)*24 -> 0 | L34: =IF(ISERROR($K$34)*VLOOKUP($B$6,' Base des Index'!$L$1:$Q$6,CHOOSE(ROWS($1:1),2,2,2,2,2,3,4),FALSE),"",($K$34)*VLOOKUP($B$6,' Base des Index'!$L$1:$Q$6,CHOOSE(ROWS($1:1),2,2,2,2,2,3,4),FALSE)) -> 0 | P34: =MOD(O34-N34,1) -> 0 | Q34: =IF(ISERROR(P34*24)*75,"",(P34*24)*75) -> 0 | T34: =((S34*$B$34*20)) -> 0 | W34: =SUM(V34*0.6) -> 0 | Z34: =SUM(Y34*$B$34)*25 -> 0 | AC34: =SUM(AB34*$B$34)*110 -> 0 | AF34: =AE34 -> 0
C35: Mercredi | D35: =VLOOKUP($D$32,' Base des Index'!A:H,4,0) -> 6 | J35: =((MOD(G35-F35,1)+MOD(I35-H35,1))*24) -> 0 | K35: =((MOD(G35-F35,1)+MOD(I35-H35,1))*$B$35)*24 -> 0 | L35: =IF(ISERROR($K$35)*VLOOKUP($B$6,' Base des Index'!$L$1:$Q$6,CHOOSE(ROWS($1:1),2,2,2,2,2,3,4),FALSE),"",($K$35)*VLOOKUP($B$6,' Base des Index'!$L$1:$Q$6,CHOOSE(ROWS($1:1),2,2,2,2,2,3,4),FALSE)) -> 0 | P35: =MOD(O35-N35,1) -> 0 | Q35: =IF(ISERROR(P35*24)*75,"",(P35*24)*75) -> 0 | T35: =((S35*$B$35)*20) -> 0 | W35: =SUM(V35*0.6) -> 0 | Z35: =SUM(Y35*$B$35)*25 -> 0 | AC35: =SUM(AB35*$B$35)*110 -> 0 | AF35: =AE35 -> 0
C36: Jeudi | D36: =VLOOKUP($D$32,' Base des Index'!A:H,5,0) -> 7 | J36: =((MOD(G36-F36,1)+MOD(I36-H36,1))*24) -> 0 | K36: =((MOD(G36-F36,1)+MOD(I36-H36,1))*$B$36)*24 -> 0 | L36: =IF(ISERROR($K$36)*VLOOKUP($B$6,' Base des Index'!$L$1:$Q$6,CHOOSE(ROWS($1:1),2,2,2,2,2,3,4),FALSE),"",($K$36)*VLOOKUP($B$6,' Base des Index'!$L$1:$Q$6,CHOOSE(ROWS($1:1),2,2,2,2,2,3,4),FALSE)) -> 0 | P36: =MOD(O36-N36,1) -> 0 | Q36: =IF(ISERROR(P36*24)*75,"",(P36*24)*75) -> 0 | T36: =((S36*$B$36)*20) -> 0 | W36: =SUM(V36*0.6) -> 0 | Z36: =SUM(Y36*$B$36)*25 -> 0 | AC36: =SUM(AB36*$B$36)*110 -> 0 | AF36: =AE36 -> 0
C37: Vendredi | D37: =VLOOKUP($D$32,' Base des Index'!A:H,6,0) -> 8 | J37: =((MOD(G37-F37,1)+MOD(I37-H37,1))*24) -> 0 | K37: =((MOD(G37-F37,1)+MOD(I37-H37,1))*$B$37)*24 -> 0 | L37: =IF(ISERROR($K$37)*VLOOKUP($B$6,' Base des Index'!$L$1:$Q$6,CHOOSE(ROWS($1:1),2,2,2,2,2,3,4),FALSE),"",($K$37)*VLOOKUP($B$6,' Base des Index'!$L$1:$Q$6,CHOOSE(ROWS($1:1),2,2,2,2,2,3,4),FALSE)) -> 0 | P37: =MOD(O37-N37,1) -> 0 | Q37: =IF(ISERROR(P37*24)*75,"",(P37*24)*75) -> 0 | T37: =((S37*$B$37)*20) -> 0 | W37: =SUM(V37*0.6) -> 0 | Z37: =SUM(Y37*$B$37)*25 -> 0 | AC37: =SUM(AB37*$B$37)*110 -> 0 | AF37: =AE37 -> 0
C38: Samedi | D38: =VLOOKUP($D$32,' Base des Index'!A:H,7,0) -> 9 | J38: =((MOD(G38-F38,1)+MOD(I38-H38,1))*24) -> 0 | K38: =((MOD(G38-F38,1)+MOD(I38-H38,1))*$B$38)*24 -> 0 | L38: =IF(ISERROR($K$38)*VLOOKUP($B$6,' Base des Index'!$L$1:$Q$6,CHOOSE(ROWS($1:6),2,2,2,2,2,3,4),FALSE),"",($K$38)*VLOOKUP($B$6,' Base des Index'!$L$1:$Q$6,CHOOSE(ROWS($1:6),2,2,2,2,2,3,4),FALSE)) -> 0 | P38: =MOD(O38-N38,1) -> 0 | Q38: =IF(ISERROR(P38*24)*110,"",(P38*24)*110) -> 0 | T38: =((S38*$B$38)*20) -> 0 | W38: =SUM(V38*0.6) -> 0 | Z38: =SUM(Y38*$B$38)*30 -> 0 | AC38: =SUM(AB38*$B$38)*110 -> 0 | AF38: =AE38 -> 0
C39: Dimanche | D39: =VLOOKUP($D$32,' Base des Index'!A:H,8,0) -> 10 | J39: =((MOD(G39-F39,1)+MOD(I39-H39,1))*24) -> 0 | K39: =((MOD(G39-F39,1)+MOD(I39-H39,1))*$B$39)*24 -> 0 | L39: =IF(ISERROR($K$39)*VLOOKUP($B$6,' Base des Index'!$L$1:$Q$6,CHOOSE(ROWS($1:7),2,2,2,2,2,3,4),FALSE),"",($K$39)*VLOOKUP($B$6,' Base des Index'!$L$1:$Q$6,CHOOSE(ROWS($1:7),2,2,2,2,2,3,4),FALSE)) -> 0 | P39: =MOD(O39-N39,1) -> 0 | Q39: =IF(ISERROR(P39*24)*110,"",(P39*24)*110) -> 0 | T39: =((S39*$B$39)*20) -> 0 | W39: =SUM(V39*0.6) -> 0 | Z39: =SUM(Y39*$B$39)*30 -> 0 | AC39: =SUM(AB39*$B$39)*110 -> 0 | AF39: =AE39 -> 0
C40: Total semaine | J40: =SUM(J33:J39) -> 0 | K40: =SUM(K33:K39) -> 0 | L40: =SUM(L33:L39) -> 0 | P40: =SUM(P33:P39) -> 0 | Q40: =SUM(Q33:Q39) -> 0 | S40: =SUM(S33:S39) -> 0 | T40: =SUM(T33:T39) -> 0 | V40: =SUM(V33:V39) -> 0 | W40: =SUM(W33:W39) -> 0 | Y40: =SUM(Y34:Y39) -> 0 | Z40: =SUM(Z33:Z39) -> 0 | AB40: =SUM(AB33:AB39) -> 0 | AC40: =SUM(AC33:AC39) -> 0 | AE40: =SUM(AE33:AE39) -> 0 | AF40: =SUM(AF33:AF39) -> 0 | AH40: =SUM(L40+T40+Z40+W40+Q40+AF40+AC40) -> 0
J43: =J20+J30+J40 -> 31 | K43: =K20+K30+K40 -> 73

Sheet FedEx Toulouse via Vanderlande
C2: 2021 | F2: DEVIS | AF2: S1 | AH2: =AH20 -> 3966
C4: Client et lieu d'intervention | H4: =MID(CELL("nomfichier",$H$4),FIND("]",CELL("nomfichier",$H$4))+1,32) -> FedEx Toulouse via Vanderlande | AF4: S2 | AH4: =AH30 -> 5951
B6: SICK | F6: N° de Commande : | AF6: S3 | AH6: =AH40 -> 0
AF8: S4 | AH8: 0
AF10: Total | AH10: =AH2+AH4+AH6+AH8 -> 9917
B12: N° de Techniciens | C12: Semaine | D12: 10 | F12: Matin | H12: Après-Midi | J12: Total heures par technicien | K12: Total Heures jour | L12: Coût | N12: nuit | P12: Total heures Nuit | Q12: Coût | S12: Forfait repas par jour et par personne | T12: Coût | V12: Distance kilomètrique Aller / Retour | W12: Coût | Y12: Temps déplacement Aller / Retour par personne | Z12: Coût | AB12: Forfait hôtel par personne | AC12: Coût | AE12: Autres: Parking, Achat fournitures | AF12: Coût | AH12: Total HT
B13: 2 | C13: Lundi | D13: =VLOOKUP($D$12,' Base des Index'!A:H,2,0) -> 7 | H13: 0.54166667 | I13: 0.77083333 | J13: =((MOD(G13-F13,1)+MOD(I13-H13,1))*24) -> 5.5 | K13: =((MOD(G13-F13,1)+MOD(I13-H13,1))*$B$13)*24 -> 11 | L13: =IF(ISERROR($K$13)*VLOOKUP($B$6,' Base des Index'!$L$1:$Q$6,CHOOSE(ROWS($1:1),2,2,2,2,2,3,4),FALSE),"",($K$13)*VLOOKUP($B$6,' Base des Index'!$L$1:$Q$6,CHOOSE(ROWS($1:1),2,2,2,2,2,3,4),FALSE)) -> 605 | P13: =MOD(O13-N13,1) -> 0 | Q13: =IF(ISERROR(P13*24)*75,"",(P13*24)*75) -> 0 | S13: 2 | T13: =((S13*$B$13)*20) -> 80 | V13: 580 | W13: =SUM(V13*0.6) -> 348 | Y13: 5 | Z13: =SUM(Y13*$B$13)*25 -> 250 | AB13: 1 | AC13: =SUM(AB13*$B$13)*110 -> 220 | AF13: =AE13 -> 0
B14: 2 | C14: Mardi | D14: =VLOOKUP($D$12,' Base des Index'!A:H,3,0) -> 8 | F14: 0.33333333 | G14: 0.5 | H14: 0.54166667 | I14: 0.77083333 | J14: =((MOD(G14-F14,1)+MOD(I14-H14,1))*24) -> 9.5 | K14: =((MOD(G14-F14,1)+MOD(I14-H14,1))*$B$14)*24 -> 19 | L14: =IF(ISERROR($K$14)*VLOOKUP($B$6,' Base des Index'!$L$1:$Q$6,CHOOSE(ROWS($1:2),2,2,2,2,2,3,4),FALSE),"",($K$14)*VLOOKUP($B$6,' Base des Index'!$L$1:$Q$6,CHOOSE(ROWS($1:2),2,2,2,2,2,3,4),FALSE)) -> 1045 | P14: =MOD(O14-N14,1) -> 0 | Q14: =IF(ISERROR(P14*24)*75,"",(P14*24)*75) -> 0 | S14: 2 | T14: =((S14*$B$14*20)) -> 80 | W14: =SUM(V14*0.6) -> 0 | Z14: =SUM(Y14*$B$14)*25 -> 0 | AB14: 1 | AC14: =SUM(AB14*$B$14)*110 -> 220 | AF14: =AE14 -> 0
B15: 2 | C15: Mercredi | D15: =VLOOKUP($D$12,' Base des Index'!A:H,4,0) -> 9 | F15: 0.33333333 | G15: 0.5 | J15: =((MOD(G15-F15,1)+MOD(I15-H15,1))*24) -> 4 | K15: =((MOD(G15-F15,1)+MOD(I15-H15,1))*$B$15)*24 -> 8 | L15: =IF(ISERROR($K$15)*VLOOKUP($B$6,' Base des Index'!$L$1:$Q$6,CHOOSE(ROWS($1:3),2,2,2,2,2,3,4),FALSE),"",($K$15)*VLOOKUP($B$6,' Base des Index'!$L$1:$Q$6,CHOOSE(ROWS($1:3),2,2,2,2,2,3,4),FALSE)) -> 440 | P15: =MOD(O15-N15,1) -> 0 | Q15: =IF(ISERROR(P15*24)*75,"",(P15*24)*75) -> 0 | S15: 2 | T15: =((S15*$B$15)*20) -> 80 | V15: 580 | W15: =SUM(V15*0.6) -> 348 | Y15: 5 | Z15: =SUM(Y15*$B$15)*25 -> 250 | AC15: =SUM(AB15*$B$15)*110 -> 0 | AF15: =AE15 -> 0
C16: Jeudi | D16: =VLOOKUP($D$12,' Base des Index'!A:H,5,0) -> 10 | J16: =((MOD(G16-F16,1)+MOD(I16-H16,1))*24) -> 0 | K16: =((MOD(G16-F16,1)+MOD(I16-H16,1))*$B$16)*24 -> 0 | L16: =IF(ISERROR($K$16)*VLOOKUP($B$6,' Base des Index'!$L$1:$Q$6,CHOOSE(ROWS($1:4),2,2,2,2,2,3,4),FALSE),"",($K$16)*VLOOKUP($B$6,' Base des Index'!$L$1:$Q$6,CHOOSE(ROWS($1:4),2,2,2,2,2,3,4),FALSE)) -> 0 | P16: =MOD(O16-N16,1) -> 0 | Q16: =IF(ISERROR(P16*24)*75,"",(P16*24)*75) -> 0 | T16: =((S16*$B$16)*20) -> 0 | W16: =SUM(V16*0.6) -> 0 | Z16: =SUM(Y16*$B$16)*25 -> 0 | AC16: =SUM(AB16*$B$16)*110 -> 0 | AF16: =AE16 -> 0
C17: Vendredi | D17: =VLOOKUP($D$12,' Base des Index'!A:H,6,0) -> 11 | J17: =((MOD(G17-F17,1)+MOD(I17-H17,1))*24) -> 0 | K17: =((MOD(G17-F17,1)+MOD(I17-H17,1))*$B$17)*24 -> 0 | L17: =IF(ISERROR($K$17)*VLOOKUP($B$6,' Base des Index'!$L$1:$Q$6,CHOOSE(ROWS($1:5),2,2,2,2,2,3,4),FALSE),"",($K$17)*VLOOKUP($B$6,' Base des Index'!$L$1:$Q$6,CHOOSE(ROWS($1:5),2,2,2,2,2,3,4),FALSE)) -> 0 | P17: =MOD(O17-N17,1) -> 0 | Q17: =IF(ISERROR(P17*24)*75,"",(P17*24)*75) -> 0 | T17: =((S17*$B$17)*20) -> 0 | W17: =SUM(V17*0.6) -> 0 | Z17: =SUM(Y17*$B$17)*25 -> 0 | AC17: =SUM(AB17*$B$17)*110 -> 0 | AF17: =AE17 -> 0
C18: Samedi | D18: =VLOOKUP($D$12,' Base des Index'!A:H,7,0) -> 12 | J18: =((MOD(G18-F18,1)+MOD(I18-H18,1))*24) -> 0 | K18: =((MOD(G18-F18,1)+MOD(I18-H18,1))*$B$18)*24 -> 0 | L18: =IF(ISERROR($K$18)*VLOOKUP($B$6,' Base des Index'!$L$1:$Q$6,CHOOSE(ROWS($1:6),2,2,2,2,2,3,4),FALSE),"",($K$18)*VLOOKUP($B$6,' Base des Index'!$L$1:$Q$6,CHOOSE(ROWS($1:6),2,2,2,2,2,3,4),FALSE)) -> 0 | P18: =MOD(O18-N18,1) -> 0 | Q18: =IF(ISERROR(P18*24)*110,"",(P18*24)*110) -> 0 | T18: =((S18*$B$18)*20) -> 0 | W18: =SUM(V18*0.6) -> 0 | Z18: =SUM(Y18*$B$18)*30 -> 0 | AC18: =SUM(AB18*$B$18)*110 -> 0 | AF18: =AE18 -> 0
C19: Dimanche | D19: =VLOOKUP($D$12,' Base des Index'!A:H,8,0) -> 13 | J19: =((MOD(G19-F19,1)+MOD(I19-H19,1))*24) -> 0 | K19: =((MOD(G19-F19,1)+MOD(I19-H19,1))*$B$19)*24 -> 0 | L19: =IF(ISERROR($K$19)*VLOOKUP($B$6,' Base des Index'!$L$1:$Q$6,CHOOSE(ROWS($1:7),2,2,2,2,2,3,4),FALSE),"",($K$19)*VLOOKUP($B$6,' Base des Index'!$L$1:$Q$6,CHOOSE(ROWS($1:7),2,2,2,2,2,3,4),FALSE)) -> 0 | P19: =MOD(O19-N19,1) -> 0 | Q19: =IF(ISERROR(P19*24)*110,"",(P19*24)*110) -> 0 | T19: =((S19*$B$19)*20) -> 0 | W19: =SUM(V19*0.6) -> 0 | Z19: =SUM(Y19*$B$19)*30 -> 0 | AC19: =SUM(AB19*$B$19)*110 -> 0 | AF19: =AE19 -> 0
C20: Total semaine | J20: =SUM(J13:J19) -> 19 | K20: =SUM(K13:K19) -> 38 | L20: =SUM(L13:L19) -> 2090 | P20: =SUM(P13:P19) -> 0 | Q20: =SUM(Q13:Q19) -> 0 | S20: =SUM(S13:S19) -> 6 | T20: =SUM(T13:T19) -> 240 | V20: =SUM(V13:V19) -> 1160 | W20: =SUM(W13:W19) -> 696 | Y20: =SUM(Y14:Y19) -> 5 | Z20: =SUM(Z13:Z19) -> 500 | AB20: =SUM(AB13:AB19) -> 2 | AC20: =SUM(AC13:AC19) -> 440 | AF20: =SUM(AF13:AF19) -> 0 | AH20: =SUM(L20+T20+Z20+W20+Q20+AF20+AC20) -> 3966
B22: N° de Techniciens | C22: Semaine | D22: 14 | F22: Matin | H22: Après-Midi | J22: Total heures par technicien | K22: Total Heures jour | L22: Coût | N22: nuit | P22: Total heures Nuit | Q22: Coût | S22: Forfait repas par jour et par personne | T22: Coût | V22: Distance kilomètrique Aller / Retour | W22: Coût | Y22: Temps déplacement Aller / Retour par personne | Z22: Coût | AB22: Forfait hôtel par personne | AC22: Coût | AE22: Autres: Parking, Achat fournitures | AF22: Coût | AH22: Total HT
B23: 2 | C23: Lundi | D23: =VLOOKUP($D$22,' Base des Index'!A:H,2,0) -> 4 | H23: 0.54166667 | I23: 0.77083333 | J23: =((MOD(G23-F23,1)+MOD(I23-H23,1))*24) -> 5.5 | K23: =((MOD(G23-F23,1)+MOD(I23-H23,1))*$B$23)*24 -> 11 | L23: =IF(ISERROR($K$23)*VLOOKUP($B$6,' Base des Index'!$L$1:$Q$6,CHOOSE(ROWS($1:1),2,2,2,2,2,3,4),FALSE),"",($K$23)*VLOOKUP($B$6,' Base des Index'!$L$1:$Q$6,CHOOSE(ROWS($1:1),2,2,2,2,2,3,4),FALSE)) -> 605 | P23: =MOD(O23-N23,1) -> 0 | Q23: =IF(ISERROR(P23*24)*75,"",(P23*24)*75) -> 0 | S23: 2 | T23: =((S23*$B$23)*20) -> 80 | V23: 580 | W23: =SUM(V23*0.6) -> 348 | Z23: =SUM(Y23*$B$23)*25 -> 0 | AB23: 1 | AC23: =SUM(AB23*$B$23)*110 -> 220 | AF23: =AE23 -> 0
B24: 2 | C24: Mardi | D24: =VLOOKUP($D$22,' Base des Index'!A:H,3,0) -> 5 | F24: 0.33333333 | G24: 0.5 | H24: 0.54166667 | I24: 0.75 | J24: =((MOD(G24-F24,1)+MOD(I24-H24,1))*24) -> 9 | K24: =((MOD(G24-F24,1)+MOD(I24-H24,1))*$B$24)*24 -> 18 | L24: =IF(ISERROR($K$24)*VLOOKUP($B$6,' Base des Index'!$L$1:$Q$6,CHOOSE(ROWS($1:1),2,2,2,2,2,3,4),FALSE),"",($K$24)*VLOOKUP($B$6,' Base des Index'!$L$1:$Q$6,CHOOSE(ROWS($1:1),2,2,2,2,2,3,4),FALSE)) -> 990 | P24: =MOD(O24-N24,1) -> 0 | Q24: =IF(ISERROR(P24*24)*75,"",(P24*24)*75) -> 0 | S24: 2 | T24: =((S24*$B$24*20)) -> 80 | W24: =SUM(V24*0.6) -> 0 | Z24: =SUM(Y24*$B$24)*25 -> 0 | AB24: 1 | AC24: =SUM(AB24*$B$24)*110 -> 220 | AF24: =AE24 -> 0
B25: 2 | C25: Mercredi | D25: =VLOOKUP($D$22,' Base des Index'!A:H,4,0) -> 6 | F25: 0.33333333 | G25: 0.5 | H25: 0.54166667 | I25: 0.75 | J25: =((MOD(G25-F25,1)+MOD(I25-H25,1))*24) -> 9 | K25: =((MOD(G25-F25,1)+MOD(I25-H25,1))*$B$25)*24 -> 18 | L25: =IF(ISERROR($K$25)*VLOOKUP($B$6,' Base des Index'!$L$1:$Q$6,CHOOSE(ROWS($1:1),2,2,2,2,2,3,4),FALSE),"",($K$25)*VLOOKUP($B$6,' Base des Index'!$L$1:$Q$6,CHOOSE(ROWS($1:1),2,2,2,2,2,3,4),FALSE)) -> 990 | P25: =MOD(O25-N25,1) -> 0 | Q25: =IF(ISERROR(P25*24)*75,"",(P25*24)*75) -> 0 | S25: 2 | T25: =((S25*$B$25)*20) -> 80 | W25: =SUM(V25*0.6) -> 0 | Z25: =SUM(Y25*$B$25)*25 -> 0 | AB25: 1 | AC25: =SUM(AB25*$B$25)*110 -> 220 | AF25: =AE25 -> 0
B26: 2 | C26: Jeudi | D26: =VLOOKUP($D$22,' Base des Index'!A:H,5,0) -> 7 | F26: 0.33333333 | G26: 0.5 | H26: 0.54166667 | I26: 0.75 | J26: =((MOD(G26-F26,1)+MOD(I26-H26,1))*24) -> 9 | K26: =((MOD(G26-F26,1)+MOD(I26-H26,1))*$B$26)*24 -> 18 | L26: =IF(ISERROR($K$26)*VLOOKUP($B$6,' Base des Index'!$L$1:$Q$6,CHOOSE(ROWS($1:1),2,2,2,2,2,3,4),FALSE),"",($K$26)*VLOOKUP($B$6,' Base des Index'!$L$1:$Q$6,CHOOSE(ROWS($1:1),2,2,2,2,2,3,4),FALSE)) -> 990 | P26: =MOD(O26-N26,1) -> 0 | Q26: =IF(ISERROR(P26*24)*75,"",(P26*24)*75) -> 0 | S26: 2 | T26: =((S26*$B$26)*20) -> 80 | W26: =SUM(V26*0.6) -> 0 | Z26: =SUM(Y26*$B$26)*25 -> 0 | AB26: 1 | AC26: =SUM(AB26*$B$26)*110 -> 220 | AF26: =AE26 -> 0
B27: 2 | C27: Vendredi | D27: =VLOOKUP($D$22,' Base des Index'!A:H,6,0) -> 8 | F27: 0.33333333 | G27: 0.5 | J27: =((MOD(G27-F27,1)+MOD(I27-H27,1))*24) -> 4 | K27: =((MOD(G27-F27,1)+MOD(I27-H27,1))*$B$27)*24 -> 8 | L27: =IF(ISERROR($K$27)*VLOOKUP($B$6,' Base des Index'!$L$1:$Q$6,CHOOSE(ROWS($1:1),2,2,2,2,2,3,4),FALSE),"",($K$27)*VLOOKUP($B$6,' Base des Index'!$L$1:$Q$6,CHOOSE(ROWS($1:1),2,2,2,2,2,3,4),FALSE)) -> 440 | P27: =MOD(O27-N27,1) -> 0 | Q27: =IF(ISERROR(P27*24)*75,"",(P27*24)*75) -> 0 | S27: 1 | T27: =((S27*$B$27)*20) -> 40 | V27: 580 | W27: =SUM(V27*0.6) -> 348 | Z27: =SUM(Y27*$B$27)*25 -> 0 | AC27: =SUM(AB27*$B$27)*110 -> 0 | AF27: =AE27 -> 0
C28: Samedi | D28: =VLOOKUP($D$22,' Base des Index'!A:H,7,0) -> 9 | J28: =((MOD(G28-F28,1)+MOD(I28-H28,1))*24) -> 0 | K28: =((MOD(G28-F28,1)+MOD(I28-H28,1))*$B$28)*24 -> 0 | L28: =IF(ISERROR($K$28)*VLOOKUP($B$6,' Base des Index'!$L$1:$Q$6,CHOOSE(ROWS($1:6),2,2,2,2,2,3,4),FALSE),"",($K$28)*VLOOKUP($B$6,' Base des Index'!$L$1:$Q$6,CHOOSE(ROWS($1:6),2,2,2,2,2,3,4),FALSE)) -> 0 | P28: =MOD(O28-N28,1) -> 0 | Q28: =IF(ISERROR(P28*24)*110,"",(P28*24)*110) -> 0 | T28: =((S28*$B$28)*20) -> 0 | W28: =SUM(V28*0.6) -> 0 | Z28: =SUM(Y28*$B$28)*30 -> 0 | AC28: =SUM(AB28*$B$28)*110 -> 0 | AF28: =AE28 -> 0
C29: Dimanche | D29: =VLOOKUP($D$22,' Base des Index'!A:H,8,0) -> 10 | J29: =((MOD(G29-F29,1)+MOD(I29-H29,1))*24) -> 0 | K29: =((MOD(G29-F29,1)+MOD(I29-H29,1))*$B$29)*24 -> 0 | L29: =IF(ISERROR($K$29)*VLOOKUP($B$6,' Base des Index'!$L$1:$Q$6,CHOOSE(ROWS($1:7),2,2,2,2,2,3,4),FALSE),"",($K$29)*VLOOKUP($B$6,' Base des Index'!$L$1:$Q$6,CHOOSE(ROWS($1:7),2,2,2,2,2,3,4),FALSE)) -> 0 | P29: =MOD(O29-N29,1) -> 0 | Q29: =IF(ISERROR(P29*24)*110,"",(P29*24)*110) -> 0 | T29: =((S29*$B$29)*20) -> 0 | W29: =SUM(V29*0.6) -> 0 | Z29: =SUM(Y29*$B$29)*30 -> 0 | AC29: =SUM(AB29*$B$29)*110 -> 0 | AF29: =AE29 -> 0
C30: Total semaine | J30: =SUM(J23:J29) -> 36.5 | K30: =SUM(K23:K29) -> 73 | L30: =SUM(L23:L29) -> 4015 | P30: =SUM(P23:P29) -> 0 | Q30: =SUM(Q23:Q29) -> 0 | S30: =SUM(S23:S29) -> 9 | T30: =SUM(T23:T29) -> 360 | V30: =SUM(V23:V29) -> 1160 | W30: =SUM(W23:W29) -> 696 | Y30: =SUM(Y24:Y29) -> 0 | Z30: =SUM(Z23:Z29) -> 0 | AB30: =SUM(AB23:AB29) -> 4 | AC30: =SUM(AC23:AC29) -> 880 | AE30: =SUM(AE23:AE29) -> 0 | AF30: =SUM(AF23:AF29) -> 0 | AH30: =SUM(L30+T30+Z30+W30+Q30+AF30+AC30) -> 5951
B32: N° de Techniciens | C32: Semaine | D32: 15 | F32: Matin | H32: Après-Midi | J32: Total heures par technicien | K32: Total Heures jour | L32: Coût | N32: nuit | P32: Total heures Nuit | Q32: Coût | S32: Forfait repas par jour et par personne | T32: Coût | V32: Distance kilomètrique Aller / Retour | W32: Coût | Y32: Temps déplacement Aller / Retour par personne | Z32: Coût | AB32: Forfait hôtel par personne | AC32: Coût | AE32: Autres: Parking, Achat fournitures | AF32: Coût | AH32: Total HT
C33: Lundi | D33: =VLOOKUP($D$32,' Base des Index'!A:H,2,0) -> 11 | J33: =((MOD(G33-F33,1)+MOD(I33-H33,1))*24) -> 0 | K33: =((MOD(G33-F33,1)+MOD(I33-H33,1))*$B$33)*24 -> 0 | L33: =IF(ISERROR($K$33)*VLOOKUP($B$6,' Base des Index'!$L$1:$Q$6,CHOOSE(ROWS($1:1),2,2,2,2,2,3,4),FALSE),"",($K$33)*VLOOKUP($B$6,' Base des Index'!$L$1:$Q$6,CHOOSE(ROWS($1:1),2,2,2,2,2,3,4),FALSE)) -> 0 | P33: =MOD(O33-N33,1) -> 0 | Q33: =IF(ISERROR(P33*24)*75,"",(P33*24)*75) -> 0 | T33: =((S33*$B$33)*20) -> 0 | W33: =SUM(V33*0.6) -> 0 | Z33: =SUM(Y33*$B$33)*25 -> 0 | AC33: =SUM(AB33*$B$33)*110 -> 0 | AF33: =AE33 -> 0
C34: Mardi | D34: =VLOOKUP($D$32,' Base des Index'!A:H,3,0) -> 12 | J34: =((MOD(G34-F34,1)+MOD(I34-H34,1))*24) -> 0 | K34: =((MOD(G34-F34,1)+MOD(I34-H34,1))*$B$34)*24 -> 0 | L34: =IF(ISERROR($K$34)*VLOOKUP($B$6,' Base des Index'!$L$1:$Q$6,CHOOSE(ROWS($1:1),2,2,2,2,2,3,4),FALSE),"",($K$34)*VLOOKUP($B$6,' Base des Index'!$L$1:$Q$6,CHOOSE(ROWS($1:1),2,2,2,2,2,3,4),FALSE)) -> 0 | P34: =MOD(O34-N34,1) -> 0 | Q34: =IF(ISERROR(P34*24)*75,"",(P34*24)*75) -> 0 | T34: =((S34*$B$34*20)) -> 0 | W34: =SUM(V34*0.6) -> 0 | Z34: =SUM(Y34*$B$34)*25 -> 0 | AC34: =SUM(AB34*$B$34)*110 -> 0 | AF34: =AE34 -> 0
C35: Mercredi | D35: =VLOOKUP($D$32,' Base des Index'!A:H,4,0) -> 13 | J35: =((MOD(G35-F35,1)+MOD(I35-H35,1))*24) -> 0 | K35: =((MOD(G35-F35,1)+MOD(I35-H35,1))*$B$35)*24 -> 0 | L35: =IF(ISERROR($K$35)*VLOOKUP($B$6,' Base des Index'!$L$1:$Q$6,CHOOSE(ROWS($1:1),2,2,2,2,2,3,4),FALSE),"",($K$35)*VLOOKUP($B$6,' Base des Index'!$L$1:$Q$6,CHOOSE(ROWS($1:1),2,2,2,2,2,3,4),FALSE)) -> 0 | P35: =MOD(O35-N35,1) -> 0 | Q35: =IF(ISERROR(P35*24)*75,"",(P35*24)*75) -> 0 | T35: =((S35*$B$35)*20) -> 0 | W35: =SUM(V35*0.6) -> 0 | Z35: =SUM(Y35*$B$35)*25 -> 0 | AC35: =SUM(AB35*$B$35)*110 -> 0 | AF35: =AE35 -> 0
C36: Jeudi | D36: =VLOOKUP($D$32,' Base des Index'!A:H,5,0) -> 14 | J36: =((MOD(G36-F36,1)+MOD(I36-H36,1))*24) -> 0 | K36: =((MOD(G36-F36,1)+MOD(I36-H36,1))*$B$36)*24 -> 0 | L36: =IF(ISERROR($K$36)*VLOOKUP($B$6,' Base des Index'!$L$1:$Q$6,CHOOSE(ROWS($1:1),2,2,2,2,2,3,4),FALSE),"",($K$36)*VLOOKUP($B$6,' Base des Index'!$L$1:$Q$6,CHOOSE(ROWS($1:1),2,2,2,2,2,3,4),FALSE)) -> 0 | P36: =MOD(O36-N36,1) -> 0 | Q36: =IF(ISERROR(P36*24)*75,"",(P36*24)*75) -> 0 | T36: =((S36*$B$36)*20) -> 0 | W36: =SUM(V36*0.6) -> 0 | Z36: =SUM(Y36*$B$36)*25 -> 0 | AC36: =SUM(AB36*$B$36)*110 -> 0 | AF36: =AE36 -> 0
C37: Vendredi | D37: =VLOOKUP($D$32,' Base des Index'!A:H,6,0) -> 15 | J37: =((MOD(G37-F37,1)+MOD(I37-H37,1))*24) -> 0 | K37: =((MOD(G37-F37,1)+MOD(I37-H37,1))*$B$37)*24 -> 0 | L37: =IF(ISERROR($K$37)*VLOOKUP($B$6,' Base des Index'!$L$1:$Q$6,CHOOSE(ROWS($1:1),2,2,2,2,2,3,4),FALSE),"",($K$37)*VLOOKUP($B$6,' Base des Index'!$L$1:$Q$6,CHOOSE(ROWS($1:1),2,2,2,2,2,3,4),FALSE)) -> 0 | P37: =MOD(O37-N37,1) -> 0 | Q37: =IF(ISERROR(P37*24)*75,"",(P37*24)*75) -> 0 | T37: =((S37*$B$37)*20) -> 0 | W37: =SUM(V37*0.6) -> 0 | Z37: =SUM(Y37*$B$37)*25 -> 0 | AC37: =SUM(AB37*$B$37)*110 -> 0 | AF37: =AE37 -> 0
C38: Samedi | D38: =VLOOKUP($D$32,' Base des Index'!A:H,7,0) -> 16 | J38: =((MOD(G38-F38,1)+MOD(I38-H38,1))*24) -> 0 | K38: =((MOD(G38-F38,1)+MOD(I38-H38,1))*$B$38)*24 -> 0 | L38: =IF(ISERROR($K$38)*VLOOKUP($B$6,' Base des Index'!$L$1:$Q$6,CHOOSE(ROWS($1:6),2,2,2,2,2,3,4),FALSE),"",($K$38)*VLOOKUP($B$6,' Base des Index'!$L$1:$Q$6,CHOOSE(ROWS($1:6),2,2,2,2,2,3,4),FALSE)) -> 0 | P38: =MOD(O38-N38,1) -> 0 | Q38: =IF(ISERROR(P38*24)*110,"",(P38*24)*110) -> 0 | T38: =((S38*$B$38)*20) -> 0 | W38: =SUM(V38*0.6) -> 0 | Z38: =SUM(Y38*$B$38)*30 -> 0 | AC38: =SUM(AB38*$B$38)*110 -> 0 | AF38: =AE38 -> 0
C39: Dimanche | D39: =VLOOKUP($D$32,' Base des Index'!A:H,8,0) -> 17 | J39: =((MOD(G39-F39,1)+MOD(I39-H39,1))*24) -> 0 | K39: =((MOD(G39-F39,1)+MOD(I39-H39,1))*$B$39)*24 -> 0 | L39: =IF(ISERROR($K$39)*VLOOKUP($B$6,' Base des Index'!$L$1:$Q$6,CHOOSE(ROWS($1:7),2,2,2,2,2,3,4),FALSE),"",($K$39)*VLOOKUP($B$6,' Base des Index'!$L$1:$Q$6,CHOOSE(ROWS($1:7),2,2,2,2,2,3,4),FALSE)) -> 0 | P39: =MOD(O39-N39,1) -> 0 | Q39: =IF(ISERROR(P39*24)*110,"",(P39*24)*110) -> 0 | T39: =((S39*$B$39)*20) -> 0 | W39: =SUM(V39*0.6) -> 0 | Z39: =SUM(Y39*$B$39)*30 -> 0 | AC39: =SUM(AB39*$B$39)*110 -> 0 | AF39: =AE39 -> 0
C40: Total semaine | J40: =SUM(J33:J39) -> 0 | K40: =SUM(K33:K39) -> 0 | L40: =SUM(L33:L39) -> 0 | P40: =SUM(P33:P39) -> 0 | Q40: =SUM(Q33:Q39) -> 0 | S40: =SUM(S33:S39) -> 0 | T40: =SUM(T33:T39) -> 0 | V40: =SUM(V33:V39) -> 0 | W40: =SUM(W33:W39) -> 0 | Y40: =SUM(Y34:Y39) -> 0 | Z40: =SUM(Z33:Z39) -> 0 | AB40: =SUM(AB33:AB39) -> 0 | AC40: =SUM(AC33:AC39) -> 0 | AE40: =SUM(AE33:AE39) -> 0 | AF40: =SUM(AF33:AF39) -> 0 | AH40: =SUM(L40+T40+Z40+W40+Q40+AF40+AC40) -> 0
J43: =J20+J30+J40 -> 55.5 | K43: =K20+K30+K40 -> 111

Sheet UPS Aéroport St Exupéry
C2: 2021 | F2: DEVIS | AF2: S1 | AH2: =AH20 -> 143.5
C4: Client et lieu d'intervention | H4: =MID(CELL("nomfichier",$H$4),FIND("]",CELL("nomfichier",$H$4))+1,32) -> UPS Aéroport St Exupéry | AF4: S2 | AH4: =AH30 -> 3644
B6: SICK | F6: N° de Commande : | AF6: S3 | AH6: =AH40 -> 0
AF8: S4 | AH8: =AH50 -> 0
AF10: Total | AH10: =AH2+AH4+AH6+AH8 -> 3787.5
AH11: ups
B12: N° de Techniciens | C12: Semaine | D12: 5 | F12: Matin | H12: Après-Midi | J12: Total heures par technicien | K12: Total Heures jour | L12: Coût | N12: nuit | P12: Total heures Nuit | Q12: Coût | S12: Forfait repas par jour et par personne | T12: Coût | V12: Distance kilomètrique Aller / Retour | W12: Coût | Y12: Temps déplacement Aller / Retour par personne | Z12: Coût | AB12: Forfait hôtel par personne | AC12: Coût | AE12: Equerres | AF12: Coût | AH12: Total HT
