Workbook
Name clients: [1]!Tableau1[clients]

Sheet Coûts déplacements
C2: Coût déplacement SICK
B4: Dates d'intervention | C4: Client | D4: Lieu | E4: Département | F4: Distance A/R en Km | G4: Déplacement Train / avion | H4: Temps de déplacement en Heures | I4: Intervention semaine € / h | J4: Intervention nuit / samedi € /h | K4: Intervention dimanche / Fériés € / h | L4: Hôtel par nuitée | M4: Restauration par repas
B5: Barême 2013 HT | F5: 0.5 | H5: 10 | I5: 40 | J5: 60 | K5: 80 | L5: 100 | M5: 20 | N5: Total HT
B6: 2 au 4/07/2013 | C6: Cinetic | D6: Lovate Pozzolo | E6: Italie | F6: 880 | H6: 9 | I6: 13 | L6: 2 | M6: 4 | N6: =(F$5*F6)+(H$5*H6)+(I$5*I6)+(J$5*J6)+(K$5*K6)+(L$5*L6)+(M$5*M6) -> 1330
B7: 2 au 4/08/2013 | C7: Colipost | D7: Toulouse | E7: 31 | F7: 1150 | H7: 11 | I7: 0 | J7: 10 | K7: 8 | L7: 2 | M7: 5 | N7: =(F$5*F7)+(H$5*H7)+(I$5*I7)+(J$5*J7)+(K$5*K7)+(L$5*L7)+(M$5*M7) -> 2225
B8: 41373 | C8: Colipost | D8: Toulouse | E8: 31 | G8: 183.5 | H8: 8 | J8: 6 | M8: 0.5 | N8: =(F$5*F8)+(H$5*H8)+(I$5*I8)+(J$5*J8)+(K$5*K8)+(L$5*L8)+(M$5*M8)+G8 -> 633.5
B9: 41499 | C9: Alainé | D9: Mâcon | E9: 71 | F9: 150 | H9: 2 | I9: 6 | M9: 1 | N9: =(F$5*F9)+(H$5*H9)+(I$5*I9)+(J$5*J9)+(K$5*K9)+(L$5*L9)+(M$5*M9)+G9 -> 355
B10: 19 au 23/08/2013 | C10: Chronopost Corbas | D10: Corbas | E10: 69 | F10: 300 | H10: 5 | I10: 38 | J10: 3 | M10: 5 | N10: =(F$5*F10)+(H$5*H10)+(I$5*I10)+(J$5*J10)+(K$5*K10)+(L$5*L10)+(M$5*M10)+G10 -> 2000
B11: 26 au 30/08/2013 | C11: Chronopost Corbas | D11: Corbas | E11: 69 | F11: 360 | H11: 6 | I11: 41 | J11: 4 | M11: 6 | N11: =(F$5*F11)+(H$5*H11)+(I$5*I11)+(J$5*J11)+(K$5*K11)+(L$5*L11)+(M$5*M11)+G11 -> 2240
N12: =(F$5*F12)+(H$5*H12)+(I$5*I12)+(J$5*J12)+(K$5*K12)+(L$5*L12)+(M$5*M12)+G12 -> 0
N13: =(F$5*F13)+(H$5*H13)+(I$5*I13)+(J$5*J13)+(K$5*K13)+(L$5*L13)+(M$5*M13)+G13 -> 0
N14: =(F$5*F14)+(H$5*H14)+(I$5*I14)+(J$5*J14)+(K$5*K14)+(L$5*L14)+(M$5*M14)+G14 -> 0
N15: =(F$5*F15)+(H$5*H15)+(I$5*I15)+(J$5*J15)+(K$5*K15)+(L$5*L15)+(M$5*M15)+G15 -> 0
N16: =(F$5*F16)+(H$5*H16)+(I$5*I16)+(J$5*J16)+(K$5*K16)+(L$5*L16)+(M$5*M16)+G16 -> 0
N17: =(F$5*F17)+(H$5*H17)+(I$5*I17)+(J$5*J17)+(K$5*K17)+(L$5*L17)+(M$5*M17)+G17 -> 0
N18: =(F$5*F18)+(H$5*H18)+(I$5*I18)+(J$5*J18)+(K$5*K18)+(L$5*L18)+(M$5*M18)+G18 -> 0
N19: =(F$5*F19)+(H$5*H19)+(I$5*I19)+(J$5*J19)+(K$5*K19)+(L$5*L19)+(M$5*M19)+G19 -> 0
N20: =(F$5*F20)+(H$5*H20)+(I$5*I20)+(J$5*J20)+(K$5*K20)+(L$5*L20)+(M$5*M20)+G20 -> 0
N21: =(F$5*F21)+(H$5*H21)+(I$5*I21)+(J$5*J21)+(K$5*K21)+(L$5*L21)+(M$5*M21)+G21 -> 0
N22: =(F$5*F22)+(H$5*H22)+(I$5*I22)+(J$5*J22)+(K$5*K22)+(L$5*L22)+(M$5*M22)+G22 -> 0
N23: =(F$5*F23)+(H$5*H23)+(I$5*I23)+(J$5*J23)+(K$5*K23)+(L$5*L23)+(M$5*M23)+G23 -> 0
... N33: =(F$5*F33)+(H$5*H33)+(I$5*I33)+(J$5*J33)+(K$5*K33)+(L$5*L33)+(M$5*M33)+G33 -> 0

Sheet Base de Référence 
C2: 2021 | F2: DEVIS
C4: Client et lieu d'intervention | H4: =MID(CELL("nomfichier",$H$4),FIND("]",CELL("nomfichier",$H$4))+1,32) -> Base de Référence
B6: SICK | F6: N° de Commande : | AH6: =AH16 -> 720
B8: N° de Techniciens | C8: Semaine | D8: 1 | F8: Matin | H8: Après-Midi | J8: Total heures par technicien | K8: Total Heures jour | L8: Coût | N8: nuit | P8: Total heures Nuit | Q8: Coût | S8: Forfait repas par jour et par personne | T8: Coût | V8: Distance kilomètrique Aller / Retour | W8: Coût | Y8: Temps déplacement Aller / Retour par personne | Z8: Coût | AB8: Forfait hôtel par personne | AC8: Coût | AE8: Autres: Parking, Achat fournitures | AF8: Coût | AH8: Total HT
B9: 3 | C9: Lundi | D9: =VLOOKUP($D$8,' Base des Index'!A:H,2,0) -> 3 | F9: 0.25 | G9: 0.29166667 | H9: 0.54166667 | I9: 0.58333333 | J9: =((MOD(G9-F9,1)+MOD(I9-H9,1))*24) -> 2 | K9: =((MOD(G9-F9,1)+MOD(I9-H9,1))*$B$9)*24 -> 6 | L9: =IF(ISERROR(K9)*VLOOKUP($B$6,' Base des Index'!$L$1:$M$93,2,FALSE),"",(K9)*VLOOKUP($B$6,' Base des Index'!$L$1:$M$93,2,FALSE)) -> 330 | P9: =MOD(O9-N9,1) -> 0 | Q9: =IF(ISERROR(P9*24)*90,"",(P9*24)*90) -> 0 | S9: 1 | T9: =((S9*$B$9)*20) -> 60 | W9: =SUM(V9*0.6) -> 0 | Z9: =SUM(Y9*$B$9)*25 -> 0 | AC9: =SUM(AB9*$B$9)*100 -> 0 | AF9: =AE9 -> 0
B10: 1 | C10: Mardi | D10: =VLOOKUP($D$8,' Base des Index'!A:H,3,0) -> 4 | J10: =((MOD(G10-F10,1)+MOD(I10-H10,1))*24) -> 0 | K10: =((MOD(G10-F10,1)+MOD(I10-H10,1))*$B$10)*24 -> 0 | L10: =IF(ISERROR(K10)*VLOOKUP($B$6,' Base des Index'!$L$1:$M$93,2,FALSE),"",(K10)*VLOOKUP($B$6,' Base des Index'!$L$1:$M$93,2,FALSE)) -> 0 | P10: =MOD(O10-N10,1) -> 0 | Q10: =IF(ISERROR(P10*24)*90,"",(P10*24)*90) -> 0 | T10: =((S10*$B$10*20)) -> 0 | W10: =SUM(V10*0.6) -> 0 | Z10: =SUM(Y10*$B$10)*25 -> 0 | AC10: =SUM(AB10*$B$10)*100 -> 0 | AF10: =AE10 -> 0
C11: Mercredi | D11: =VLOOKUP($D$8,' Base des Index'!A:H,4,0) -> 5 | J11: =((MOD(G11-F11,1)+MOD(I11-H11,1))*24) -> 0 | K11: =((MOD(G11-F11,1)+MOD(I11-H11,1))*$B$11)*24 -> 0 | L11: =IF(ISERROR(K11)*VLOOKUP($B$6,' Base des Index'!$L$1:$M$93,2,FALSE),"",(K11)*VLOOKUP($B$6,' Base des Index'!$L$1:$M$93,2,FALSE)) -> 0 | P11: =MOD(O11-N11,1) -> 0 | Q11: =IF(ISERROR(P11*24)*90,"",(P11*24)*90) -> 0 | T11: =((S11*$B$11)*20) -> 0 | W11: =SUM(V11*0.6) -> 0 | Z11: =SUM(Y11*$B$11)*25 -> 0 | AC11: =SUM(AB11*$B$11)*100 -> 0 | AF11: =AE11 -> 0
C12: Jeudi | D12: =VLOOKUP($D$8,' Base des Index'!A:H,5,0) -> 6 | J12: =((MOD(G12-F12,1)+MOD(I12-H12,1))*24) -> 0 | K12: =((MOD(G12-F12,1)+MOD(I12-H12,1))*$B$12)*24 -> 0 | L12: =IF(ISERROR(K12)*VLOOKUP($B$6,' Base des Index'!$L$1:$M$93,2,FALSE),"",(K12)*VLOOKUP($B$6,' Base des Index'!$L$1:$M$93,2,FALSE)) -> 0 | P12: =MOD(O12-N12,1) -> 0 | Q12: =IF(ISERROR(P12*24)*90,"",(P12*24)*90) -> 0 | T12: =((S12*$B$12)*20) -> 0 | W12: =SUM(V12*0.6) -> 0 | Z12: =SUM(Y12*$B$12)*25 -> 0 | AC12: =SUM(AB12*$B$12)*100 -> 0 | AF12: =AE12 -> 0
C13: Vendredi | D13: =VLOOKUP($D$8,' Base des Index'!A:H,6,0) -> 7 | J13: =((MOD(G13-F13,1)+MOD(I13-H13,1))*24) -> 0 | K13: =((MOD(G13-F13,1)+MOD(I13-H13,1))*$B$13)*24 -> 0 | L13: =IF(ISERROR(K13)*VLOOKUP($B$6,' Base des Index'!$L$1:$M$93,2,FALSE),"",(K13)*VLOOKUP($B$6,' Base des Index'!$L$1:$M$93,2,FALSE)) -> 0 | P13: =MOD(O13-N13,1) -> 0 | Q13: =IF(ISERROR(P13*24)*90,"",(P13*24)*90) -> 0 | T13: =((S13*$B$13)*20) -> 0 | W13: =SUM(V13*0.6) -> 0 | Z13: =SUM(Y13*$B$13)*25 -> 0 | AC13: =SUM(AB13*$B$13)*100 -> 0 | AF13: =AE13 -> 0
B14: 2 | C14: Samedi | D14: =VLOOKUP($D$8,' Base des Index'!A:H,7,0) -> 8 | F14: 0.25 | G14: 0.29166667 | H14: 0.54166667 | I14: 0.625 | J14: =((MOD(G14-F14,1)+MOD(I14-H14,1))*24) -> 3 | K14: =((MOD(G14-F14,1)+MOD(I14-H14,1))*$B$14)*24 -> 6 | L14: =IF(ISERROR(K14)*VLOOKUP($B$6,' Base des Index'!$L$1:$M$93,2,FALSE),"",(K14)*VLOOKUP($B$6,' Base des Index'!$L$1:$M$93,2,FALSE)) -> 330 | P14: =MOD(O14-N14,1) -> 0 | Q14: =IF(ISERROR(P14*24)*120,"",(P14*24)*120) -> 0 | T14: =((S14*$B$14)*20) -> 0 | W14: =SUM(V14*0.6) -> 0 | Z14: =SUM(Y14*$B$14)*30 -> 0 | AC14: =SUM(AB14*$B$14)*100 -> 0 | AF14: =AE14 -> 0
C15: Dimanche | D15: =VLOOKUP($D$8,' Base des Index'!A:H,8,0) -> 9 | J15: =((MOD(G15-F15,1)+MOD(I15-H15,1))*24) -> 0 | K15: =((MOD(G15-F15,1)+MOD(I15-H15,1))*$B$15)*24 -> 0 | L15: =IF(ISERROR(K15)*VLOOKUP($B$6,' Base des Index'!$L$1:$M$93,2,FALSE),"",(K15)*VLOOKUP($B$6,' Base des Index'!$L$1:$M$93,2,FALSE)) -> 0 | P15: =MOD(O15-N15,1) -> 0 | Q15: =IF(ISERROR(P15*24)*120,"",(P15*24)*120) -> 0 | T15: =((S15*$B$15)*20) -> 0 | W15: =SUM(V15*0.6) -> 0 | Z15: =SUM(Y15*$B$15)*30 -> 0 | AC15: =SUM(AB15*$B$15)*100 -> 0 | AF15: =AE15 -> 0
C16: Total semaine | J16: =SUM(J9:J15) -> 5 | K16: =SUM(K9:K15) -> 12 | L16: =SUM(L9:L15) -> 660 | P16: =SUM(P9:P15) -> 0 | Q16: =SUM(Q9:Q15) -> 0 | S16: =SUM(S9:S15) -> 1 | T16: =SUM(T9:T15) -> 60 | V16: =SUM(V9:V15) -> 0 | W16: =SUM(W9:W15) -> 0 | Y16: =SUM(Y10:Y15) -> 0 | Z16: =SUM(Z9:Z15) -> 0 | AB16: =SUM(AB9:AB15) -> 0 | AC16: =SUM(AC9:AC15) -> 0 | AE16: =SUM(AE9:AE15) -> 0 | AF16: =SUM(AF9:AF15) -> 0 | AH16: =SUM(L16+T16+Z16+W16+Q16+AF16+AC16) -> 720
B18: N° de Techniciens | C18: Semaine | D18: 2 | F18: Matin | H18: Après-Midi | J18: Total heures par technicien | K18: Total Heures jour | L18: Coût | N18: nuit | P18: Total heures Nuit | Q18: Coût | S18: Forfait repas par jour et par personne | T18: Coût | V18: Distance kilomètrique Aller / Retour | W18: Coût | Y18: Temps déplacement Aller / Retour par personne | Z18: Coût | AB18: Forfait hôtel par personne | AC18: Coût | AE18: Autres: Parking, Achat fournitures | AF18: Coût | AH18: Total HT
B19: 3 | C19: Lundi | D19: =VLOOKUP($D$18,' Base des Index'!A:H,2,0) -> 10 | F19: 0.25 | G19: 0.29166667 | H19: 0.54166667 | I19: 0.58333333 | J19: =((MOD(G19-F19,1)+MOD(I19-H19,1))*24) -> 2 | K19: =((MOD(G19-F19,1)+MOD(I19-H19,1))*$B$9)*24 -> 6 | L19: =IF(ISERROR(K19)*VLOOKUP($B$6,' Base des Index'!$L$1:$M$93,2,FALSE),"",(K19)*VLOOKUP($B$6,' Base des Index'!$L$1:$M$93,2,FALSE)) -> 330 | P19: =MOD(O19-N19,1) -> 0 | Q19: =IF(ISERROR(P19*24)*90,"",(P19*24)*90) -> 0 | S19: 1 | T19: =((S19*$B$9)*20) -> 60 | W19: =SUM(V19*0.6) -> 0 | Z19: =SUM(Y19*$B$9)*25 -> 0 | AC19: =SUM(AB19*$B$9)*100 -> 0 | AF19: =AE19 -> 0
B20: 1 | C20: Mardi | D20: =VLOOKUP($D$18,' Base des Index'!A:H,3,0) -> 11 | J20: =((MOD(G20-F20,1)+MOD(I20-H20,1))*24) -> 0 | K20: =((MOD(G20-F20,1)+MOD(I20-H20,1))*$B$10)*24 -> 0 | L20: =IF(ISERROR(K20)*VLOOKUP($B$6,' Base des Index'!$L$1:$M$93,2,FALSE),"",(K20)*VLOOKUP($B$6,' Base des Index'!$L$1:$M$93,2,FALSE)) -> 0 | P20: =MOD(O20-N20,1) -> 0 | Q20: =IF(ISERROR(P20*24)*90,"",(P20*24)*90) -> 0 | T20: =((S20*$B$10*20)) -> 0 | W20: =SUM(V20*0.6) -> 0 | Z20: =SUM(Y20*$B$10)*25 -> 0 | AC20: =SUM(AB20*$B$10)*100 -> 0 | AF20: =AE20 -> 0
C21: Mercredi | D21: =VLOOKUP($D$18,' Base des Index'!A:H,4,0) -> 12 | J21: =((MOD(G21-F21,1)+MOD(I21-H21,1))*24) -> 0 | K21: =((MOD(G21-F21,1)+MOD(I21-H21,1))*$B$11)*24 -> 0 | L21: =IF(ISERROR(K21)*VLOOKUP($B$6,' Base des Index'!$L$1:$M$93,2,FALSE),"",(K21)*VLOOKUP($B$6,' Base des Index'!$L$1:$M$93,2,FALSE)) -> 0 | P21: =MOD(O21-N21,1) -> 0 | Q21: =IF(ISERROR(P21*24)*90,"",(P21*24)*90) -> 0 | T21: =((S21*$B$11)*20) -> 0 | W21: =SUM(V21*0.6) -> 0 | Z21: =SUM(Y21*$B$11)*25 -> 0 | AC21: =SUM(AB21*$B$11)*100 -> 0 | AF21: =AE21 -> 0
C22: Jeudi | D22: =VLOOKUP($D$18,' Base des Index'!A:H,5,0) -> 13 | J22: =((MOD(G22-F22,1)+MOD(I22-H22,1))*24) -> 0 | K22: =((MOD(G22-F22,1)+MOD(I22-H22,1))*$B$12)*24 -> 0 | L22: =IF(ISERROR(K22)*VLOOKUP($B$6,' Base des Index'!$L$1:$M$93,2,FALSE),"",(K22)*VLOOKUP($B$6,' Base des Index'!$L$1:$M$93,2,FALSE)) -> 0 | P22: =MOD(O22-N22,1) -> 0 | Q22: =IF(ISERROR(P22*24)*90,"",(P22*24)*90) -> 0 | T22: =((S22*$B$12)*20) -> 0 | W22: =SUM(V22*0.6) -> 0 | Z22: =SUM(Y22*$B$12)*25 -> 0 | AC22: =SUM(AB22*$B$12)*100 -> 0 | AF22: =AE22 -> 0
C23: Vendredi | D23: =VLOOKUP($D$18,' Base des Index'!A:H,6,0) -> 14 | J23: =((MOD(G23-F23,1)+MOD(I23-H23,1))*24) -> 0 | K23: =((MOD(G23-F23,1)+MOD(I23-H23,1))*$B$13)*24 -> 0 | L23: =IF(ISERROR(K23)*VLOOKUP($B$6,' Base des Index'!$L$1:$M$93,2,FALSE),"",(K23)*VLOOKUP($B$6,' Base des Index'!$L$1:$M$93,2,FALSE)) -> 0 | P23: =MOD(O23-N23,1) -> 0 | Q23: =IF(ISERROR(P23*24)*90,"",(P23*24)*90) -> 0 | T23: =((S23*$B$13)*20) -> 0 | W23: =SUM(V23*0.6) -> 0 | Z23: =SUM(Y23*$B$13)*25 -> 0 | AC23: =SUM(AB23*$B$13)*100 -> 0 | AF23: =AE23 -> 0
B24: 2 | C24: Samedi | D24: =VLOOKUP($D$18,' Base des Index'!A:H,7,0) -> 15 | F24: 0.25 | G24: 0.29166667 | H24: 0.54166667 | I24: 0.625 | J24: =((MOD(G24-F24,1)+MOD(I24-H24,1))*24) -> 3 | K24: =((MOD(G24-F24,1)+MOD(I24-H24,1))*$B$14)*24 -> 6 | L24: =IF(ISERROR(K24)*VLOOKUP($B$6,' Base des Index'!$L$1:$M$93,2,FALSE),"",(K24)*VLOOKUP($B$6,' Base des Index'!$L$1:$M$93,2,FALSE)) -> 330 | P24: =MOD(O24-N24,1) -> 0 | Q24: =IF(ISERROR(P24*24)*120,"",(P24*24)*120) -> 0 | T24: =((S24*$B$14)*20) -> 0 | W24: =SUM(V24*0.6) -> 0 | Z24: =SUM(Y24*$B$14)*30 -> 0 | AC24: =SUM(AB24*$B$14)*100 -> 0 | AF24: =AE24 -> 0
C25: Dimanche | D25: =VLOOKUP($D$18,' Base des Index'!A:H,8,0) -> 16 | J25: =((MOD(G25-F25,1)+MOD(I25-H25,1))*24) -> 0 | K25: =((MOD(G25-F25,1)+MOD(I25-H25,1))*$B$15)*24 -> 0 | L25: =IF(ISERROR(K25)*VLOOKUP($B$6,' Base des Index'!$L$1:$M$93,2,FALSE),"",(K25)*VLOOKUP($B$6,' Base des Index'!$L$1:$M$93,2,FALSE)) -> 0 | P25: =MOD(O25-N25,1) -> 0 | Q25: =IF(ISERROR(P25*24)*120,"",(P25*24)*120) -> 0 | T25: =((S25*$B$15)*20) -> 0 | W25: =SUM(V25*0.6) -> 0 | Z25: =SUM(Y25*$B$15)*30 -> 0 | AC25: =SUM(AB25*$B$15)*100 -> 0 | AF25: =AE25 -> 0
C26: Total semaine | J26: =SUM(J19:J25) -> 5 | K26: =SUM(K19:K25) -> 12 | L26: =SUM(L19:L25) -> 660 | P26: =SUM(P19:P25) -> 0 | Q26: =SUM(Q19:Q25) -> 0 | S26: =SUM(S19:S25) -> 1 | T26: =SUM(T19:T25) -> 60 | V26: =SUM(V19:V25) -> 0 | W26: =SUM(W19:W25) -> 0 | Y26: =SUM(Y20:Y25) -> 0 | Z26: =SUM(Z19:Z25) -> 0 | AB26: =SUM(AB19:AB25) -> 0 | AC26: =SUM(AC19:AC25) -> 0 | AE26: =SUM(AE19:AE25) -> 0 | AF26: =SUM(AF19:AF25) -> 0 | AH26: =SUM(L26+T26+Z26+W26+Q26+AF26+AC26) -> 720
B28: N° de Techniciens | C28: Semaine | D28: 3 | F28: Matin | H28: Après-Midi | J28: Total heures par technicien | K28: Total Heures jour | L28: Coût | N28: nuit | P28: Total heures Nuit | Q28: Coût | S28: Forfait repas par jour et par personne | T28: Coût | V28: Distance kilomètrique Aller / Retour | W28: Coût | Y28: Temps déplacement Aller / Retour par personne | Z28: Coût | AB28: Forfait hôtel par personne | AC28: Coût | AE28: Autres: Parking, Achat fournitures | AF28: Coût | AH28: Total HT
B29: 3 | C29: Lundi | D29: =VLOOKUP($D$28,' Base des Index'!A:H,2,0) -> 17 | F29: 0.25 | G29: 0.29166667 | H29: 0.54166667 | I29: 0.58333333 | J29: =((MOD(G29-F29,1)+MOD(I29-H29,1))*24) -> 2 | K29: =((MOD(G29-F29,1)+MOD(I29-H29,1))*$B$9)*24 -> 6 | L29: =IF(ISERROR(K29)*VLOOKUP($B$6,' Base des Index'!$L$1:$M$93,2,FALSE),"",(K29)*VLOOKUP($B$6,' Base des Index'!$L$1:$M$93,2,FALSE)) -> 330 | P29: =MOD(O29-N29,1) -> 0 | Q29: =IF(ISERROR(P29*24)*90,"",(P29*24)*90) -> 0 | S29: 1 | T29: =((S29*$B$9)*20) -> 60 | W29: =SUM(V29*0.6) -> 0 | Z29: =SUM(Y29*$B$9)*25 -> 0 | AC29: =SUM(AB29*$B$9)*100 -> 0 | AF29: =AE29 -> 0
B30: 1 | C30: Mardi | D30: =VLOOKUP($D$28,' Base des Index'!A:H,3,0) -> 18 | J30: =((MOD(G30-F30,1)+MOD(I30-H30,1))*24) -> 0 | K30: =((MOD(G30-F30,1)+MOD(I30-H30,1))*$B$10)*24 -> 0 | L30: =IF(ISERROR(K30)*VLOOKUP($B$6,' Base des Index'!$L$1:$M$93,2,FALSE),"",(K30)*VLOOKUP($B$6,' Base des Index'!$L$1:$M$93,2,FALSE)) -> 0 | P30: =MOD(O30-N30,1) -> 0 | Q30: =IF(ISERROR(P30*24)*90,"",(P30*24)*90) -> 0 | S30: 1 | T30: =((S30*$B$10*20)) -> 20 | W30: =SUM(V30*0.6) -> 0 | Z30: =SUM(Y30*$B$10)*25 -> 0 | AC30: =SUM(AB30*$B$10)*100 -> 0 | AF30: =AE30 -> 0
C31: Mercredi | D31: =VLOOKUP($D$28,' Base des Index'!A:H,4,0) -> 19 | J31: =((MOD(G31-F31,1)+MOD(I31-H31,1))*24) -> 0 | K31: =((MOD(G31-F31,1)+MOD(I31-H31,1))*$B$11)*24 -> 0 | L31: =IF(ISERROR(K31)*VLOOKUP($B$6,' Base des Index'!$L$1:$M$93,2,FALSE),"",(K31)*VLOOKUP($B$6,' Base des Index'!$L$1:$M$93,2,FALSE)) -> 0 | P31: =MOD(O31-N31,1) -> 0 | Q31: =IF(ISERROR(P31*24)*90,"",(P31*24)*90) -> 0 | T31: =((S31*$B$11)*20) -> 0 | W31: =SUM(V31*0.6) -> 0 | Z31: =SUM(Y31*$B$11)*25 -> 0 | AC31: =SUM(AB31*$B$11)*100 -> 0 | AF31: =AE31 -> 0
C32: Jeudi | D32: =VLOOKUP($D$28,' Base des Index'!A:H,5,0) -> 20 | J32: =((MOD(G32-F32,1)+MOD(I32-H32,1))*24) -> 0 | K32: =((MOD(G32-F32,1)+MOD(I32-H32,1))*$B$12)*24 -> 0 | L32: =IF(ISERROR(K32)*VLOOKUP($B$6,' Base des Index'!$L$1:$M$93,2,FALSE),"",(K32)*VLOOKUP($B$6,' Base des Index'!$L$1:$M$93,2,FALSE)) -> 0 | P32: =MOD(O32-N32,1) -> 0 | Q32: =IF(ISERROR(P32*24)*90,"",(P32*24)*90) -> 0 | T32: =((S32*$B$12)*20) -> 0 | W32: =SUM(V32*0.6) -> 0 | Z32: =SUM(Y32*$B$12)*25 -> 0 | AC32: =SUM(AB32*$B$12)*100 -> 0 | AF32: =AE32 -> 0
C33: Vendredi | D33: =VLOOKUP($D$28,' Base des Index'!A:H,6,0) -> 21 | J33: =((MOD(G33-F33,1)+MOD(I33-H33,1))*24) -> 0 | K33: =((MOD(G33-F33,1)+MOD(I33-H33,1))*$B$13)*24 -> 0 | L33: =IF(ISERROR(K33)*VLOOKUP($B$6,' Base des Index'!$L$1:$M$93,2,FALSE),"",(K33)*VLOOKUP($B$6,' Base des Index'!$L$1:$M$93,2,FALSE)) -> 0 | P33: =MOD(O33-N33,1) -> 0 | Q33: =IF(ISERROR(P33*24)*90,"",(P33*24)*90) -> 0 | T33: =((S33*$B$13)*20) -> 0 | W33: =SUM(V33*0.6) -> 0 | Z33: =SUM(Y33*$B$13)*25 -> 0 | AC33: =SUM(AB33*$B$13)*100 -> 0 | AF33: =AE33 -> 0
B34: 2 | C34: Samedi | D34: =VLOOKUP($D$28,' Base des Index'!A:H,7,0) -> 22 | F34: 0.25 | G34: 0.29166667 | H34: 0.54166667 | I34: 0.625 | J34: =((MOD(G34-F34,1)+MOD(I34-H34,1))*24) -> 3 | K34: =((MOD(G34-F34,1)+MOD(I34-H34,1))*$B$14)*24 -> 6 | L34: =IF(ISERROR(K34)*VLOOKUP($B$6,' Base des Index'!$L$1:$M$93,2,FALSE),"",(K34)*VLOOKUP($B$6,' Base des Index'!$L$1:$M$93,2,FALSE)) -> 330 | P34: =MOD(O34-N34,1) -> 0 | Q34: =IF(ISERROR(P34*24)*120,"",(P34*24)*120) -> 0 | S34: 1 | T34: =((S34*$B$14)*20) -> 40 | W34: =SUM(V34*0.6) -> 0 | Z34: =SUM(Y34*$B$14)*30 -> 0 | AC34: =SUM(AB34*$B$14)*100 -> 0 | AF34: =AE34 -> 0
C35: Dimanche | D35: =VLOOKUP($D$28,' Base des Index'!A:H,8,0) -> 23 | J35: =((MOD(G35-F35,1)+MOD(I35-H35,1))*24) -> 0 | K35: =((MOD(G35-F35,1)+MOD(I35-H35,1))*$B$15)*24 -> 0 | L35: =IF(ISERROR(K35)*VLOOKUP($B$6,' Base des Index'!$L$1:$M$93,2,FALSE),"",(K35)*VLOOKUP($B$6,' Base des Index'!$L$1:$M$93,2,FALSE)) -> 0 | P35: =MOD(O35-N35,1) -> 0 | Q35: =IF(ISERROR(P35*24)*120,"",(P35*24)*120) -> 0 | T35: =((S35*$B$15)*20) -> 0 | W35: =SUM(V35*0.6) -> 0 | Z35: =SUM(Y35*$B$15)*30 -> 0 | AC35: =SUM(AB35*$B$15)*100 -> 0 | AF35: =AE35 -> 0
C36: Total semaine | J36: =SUM(J29:J35) -> 5 | K36: =SUM(K29:K35) -> 12 | L36: =SUM(L29:L35) -> 660 | P36: =SUM(P29:P35) -> 0 | Q36: =SUM(Q29:Q35) -> 0 | S36: =SUM(S29:S35) -> 3 | T36: =SUM(T29:T35) -> 120 | V36: =SUM(V29:V35) -> 0 | W36: =SUM(W29:W35) -> 0 | Y36: =SUM(Y30:Y35) -> 0 | Z36: =SUM(Z29:Z35) -> 0 | AB36: =SUM(AB29:AB35) -> 0 | AC36: =SUM(AC29:AC35) -> 0 | AE36: =SUM(AE29:AE35) -> 0 | AF36: =SUM(AF29:AF35) -> 0 | AH36: =SUM(L36+T36+Z36+W36+Q36+AF36+AC36) -> 780
B38: N° de Techniciens | C38: Semaine | D38: 4 | F38: Matin | H38: Après-Midi | J38: Total heures par technicien | K38: Total Heures jour | L38: Coût | N38: nuit | P38: Total heures Nuit | Q38: Coût | S38: Forfait repas par jour et par personne | T38: Coût | V38: Distance kilomètrique Aller / Retour | W38: Coût | Y38: Temps déplacement Aller / Retour par personne | Z38: Coût | AB38: Forfait hôtel par personne | AC38: Coût | AE38: Autres: Parking, Achat fournitures | AF38: Coût | AH38: Total HT
B39: 3 | C39: Lundi | D39: =VLOOKUP($D$38,' Base des Index'!A:H,2,0) -> 24 | F39: 0.25 | G39: 0.29166667 | H39: 0.54166667 | I39: 0.58333333 | J39: =((MOD(G39-F39,1)+MOD(I39-H39,1))*24) -> 2 | K39: =((MOD(G39-F39,1)+MOD(I39-H39,1))*$B$9)*24 -> 6 | L39: =IF(ISERROR(K39)*VLOOKUP($B$6,' Base des Index'!$L$1:$M$93,2,FALSE),"",(K39)*VLOOKUP($B$6,' Base des Index'!$L$1:$M$93,2,FALSE)) -> 330 | P39: =MOD(O39-N39,1) -> 0 | Q39: =IF(ISERROR(P39*24)*90,"",(P39*24)*90) -> 0 | S39: 1 | T39: =((S39*$B$9)*20) -> 60 | W39: =SUM(V39*0.6) -> 0 | Z39: =SUM(Y39*$B$9)*25 -> 0 | AC39: =SUM(AB39*$B$9)*100 -> 0 | AF39: =AE39 -> 0
B40: 1 | C40: Mardi | D40: =VLOOKUP($D$38,' Base des Index'!A:H,3,0) -> 25 | J40: =((MOD(G40-F40,1)+MOD(I40-H40,1))*24) -> 0 | K40: =((MOD(G40-F40,1)+MOD(I40-H40,1))*$B$10)*24 -> 0 | L40: =IF(ISERROR(K40)*VLOOKUP($B$6,' Base des Index'!$L$1:$M$93,2,FALSE),"",(K40)*VLOOKUP($B$6,' Base des Index'!$L$1:$M$93,2,FALSE)) -> 0 | P40: =MOD(O40-N40,1) -> 0 | Q40: =IF(ISERROR(P40*24)*90,"",(P40*24)*90) -> 0 | S40: 1 | T40: =((S40*$B$10*20)) -> 20 | W40: =SUM(V40*0.6) -> 0 | Z40: =SUM(Y40*$B$10)*25 -> 0 | AC40: =SUM(AB40*$B$10)*100 -> 0 | AF40: =AE40 -> 0
C41: Mercredi | D41: =VLOOKUP($D$38,' Base des Index'!A:H,4,0) -> 26 | J41: =((MOD(G41-F41,1)+MOD(I41-H41,1))*24) -> 0 | K41: =((MOD(G41-F41,1)+MOD(I41-H41,1))*$B$11)*24 -> 0 | L41: =IF(ISERROR(K41)*VLOOKUP($B$6,' Base des Index'!$L$1:$M$93,2,FALSE),"",(K41)*VLOOKUP($B$6,' Base des Index'!$L$1:$M$93,2,FALSE)) -> 0 | P41: =MOD(O41-N41,1) -> 0 | Q41: =IF(ISERROR(P41*24)*90,"",(P41*24)*90) -> 0 | T41: =((S41*$B$11)*20) -> 0 | W41: =SUM(V41*0.6) -> 0 | Z41: =SUM(Y41*$B$11)*25 -> 0 | AC41: =SUM(AB41*$B$11)*100 -> 0 | AF41: =AE41 -> 0
C42: Jeudi | D42: =VLOOKUP($D$38,' Base des Index'!A:H,5,0) -> 27 | J42: =((MOD(G42-F42,1)+MOD(I42-H42,1))*24) -> 0 | K42: =((MOD(G42-F42,1)+MOD(I42-H42,1))*$B$12)*24 -> 0 | L42: =IF(ISERROR(K42)*VLOOKUP($B$6,' Base des Index'!$L$1:$M$93,2,FALSE),"",(K42)*VLOOKUP($B$6,' Base des Index'!$L$1:$M$93,2,FALSE)) -> 0 | P42: =MOD(O42-N42,1) -> 0 | Q42: =IF(ISERROR(P42*24)*90,"",(P42*24)*90) -> 0 | T42: =((S42*$B$12)*20) -> 0 | W42: =SUM(V42*0.6) -> 0 | Z42: =SUM(Y42*$B$12)*25 -> 0 | AC42: =SUM(AB42*$B$12)*100 -> 0 | AF42: =AE42 -> 0
C43: Vendredi | D43: =VLOOKUP($D$38,' Base des Index'!A:H,6,0) -> 28 | J43: =((MOD(G43-F43,1)+MOD(I43-H43,1))*24) -> 0 | K43: =((MOD(G43-F43,1)+MOD(I43-H43,1))*$B$13)*24 -> 0 | L43: =IF(ISERROR(K43)*VLOOKUP($B$6,' Base des Index'!$L$1:$M$93,2,FALSE),"",(K43)*VLOOKUP($B$6,' Base des Index'!$L$1:$M$93,2,FALSE)) -> 0 | P43: =MOD(O43-N43,1) -> 0 | Q43: =IF(ISERROR(P43*24)*90,"",(P43*24)*90) -> 0 | T43: =((S43*$B$13)*20) -> 0 | W43: =SUM(V43*0.6) -> 0 | Z43: =SUM(Y43*$B$13)*25 -> 0 | AC43: =SUM(AB43*$B$13)*100 -> 0 | AF43: =AE43 -> 0
B44: 2 | C44: Samedi | D44: =VLOOKUP($D$38,' Base des Index'!A:H,7,0) -> 29 | F44: 0.25 | G44: 0.29166667 | H44: 0.54166667 | I44: 0.625 | J44: =((MOD(G44-F44,1)+MOD(I44-H44,1))*24) -> 3 | K44: =((MOD(G44-F44,1)+MOD(I44-H44,1))*$B$14)*24 -> 6 | L44: =IF(ISERROR(K44)*VLOOKUP($B$6,' Base des Index'!$L$1:$M$93,2,FALSE),"",(K44)*VLOOKUP($B$6,' Base des Index'!$L$1:$M$93,2,FALSE)) -> 330 | P44: =MOD(O44-N44,1) -> 0 | Q44: =IF(ISERROR(P44*24)*120,"",(P44*24)*120) -> 0 | S44: 1 | T44: =((S44*$B$14)*20) -> 40 | W44: =SUM(V44*0.6) -> 0 | Z44: =SUM(Y44*$B$14)*30 -> 0 | AC44: =SUM(AB44*$B$14)*100 -> 0 | AF44: =AE44 -> 0
C45: Dimanche | D45: =VLOOKUP($D$38,' Base des Index'!A:H,8,0) -> 30 | J45: =((MOD(G45-F45,1)+MOD(I45-H45,1))*24) -> 0 | K45: =((MOD(G45-F45,1)+MOD(I45-H45,1))*$B$15)*24 -> 0 | L45: =IF(ISERROR(K45)*VLOOKUP($B$6,' Base des Index'!$L$1:$M$93,2,FALSE),"",(K45)*VLOOKUP($B$6,' Base des Index'!$L$1:$M$93,2,FALSE)) -> 0 | P45: =MOD(O45-N45,1) -> 0 | Q45: =IF(ISERROR(P45*24)*120,"",(P45*24)*120) -> 0 | T45: =((S45*$B$15)*20) -> 0 | W45: =SUM(V45*0.6) -> 0 | Z45: =SUM(Y45*$B$15)*30 -> 0 | AC45: =SUM(AB45*$B$15)*100 -> 0 | AF45: =AE45 -> 0
C46: Total semaine | J46: =SUM(J39:J45) -> 5 | K46: =SUM(K39:K45) -> 12 | L46: =SUM(L39:L45) -> 660 | P46: =SUM(P39:P45) -> 0 | Q46: =SUM(Q39:Q45) -> 0 | S46: =SUM(S39:S45) -> 3 | T46: =SUM(T39:T45) -> 120 | V46: =SUM(V39:V45) -> 0 | W46: =SUM(W39:W45) -> 0 | Y46: =SUM(Y40:Y45) -> 0 | Z46: =SUM(Z39:Z45) -> 0 | AB46: =SUM(AB39:AB45) -> 0 | AC46: =SUM(AC39:AC45) -> 0 | AE46: =SUM(AE39:AE45) -> 0 | AF46: =SUM(AF39:AF45) -> 0 | AH46: =SUM(L46+T46+Z46+W46+Q46+AF46+AC46) -> 780

Sheet  Base des Index
B1: LUNDI | C1: MARDI | D1: MERCREDI | E1: JEUDI | F1: VENDREDI | G1: SAMEDI | H1: DIMANCHE | J1: 0.25 | L1: clients | M1: semaine | N1: samedi | O1: dimanche | P1: Nuit | Q1: Nuit weekend | S1: 1
G2: 1 | H2: 2 | J2: 0.26041667 | L2: SICK | M2: 55 | N2: 75 | O2: 110 | P2: 75 | Q2: 110 | S2: 2
A3: 1 | B3: 3 | C3: 4 | D3: 5 | E3: 6 | F3: 7 | G3: 8 | H3: 9 | J3: 0.27083333 | L3: AVN | M3: 90 | N3: 110 | O3: 130 | P3: 110 | Q3: 130 | S3: 3
A4: 2 | B4: 10 | C4: 11 | D4: 12 | E4: 13 | F4: 14 | G4: 15 | H4: 16 | J4: 0.28125 | L4: HENRI REIGNIR | M4: 30 | N4: 45 | O4: 60 | P4: 45 | Q4: 60 | S4: 4
A5: 3 | B5: 17 | C5: 18 | D5: 19 | E5: 20 | F5: 21 | G5: 22 | H5: 23 | J5: 0.29166667 | L5: CLA | M5: 30 | N5: 45 | O5: 60 | P5: 45 | Q5: 60 | S5: 5
A6: 4 | B6: 24 | C6: 25 | D6: 26 | E6: 27 | F6: 28 | G6: 29 | H6: 30 | J6: 0.30208333 | L6: BF INDUSTRIES | M6: 30 | N6: 45 | O6: 60 | P6: 45 | Q6: 60
A7: 5 | B7: 31 | C7: 1 | D7: 2 | E7: 3 | F7: 4 | G7: 5 | H7: 6 | J7: 0.3125
A8: 6 | B8: 7 | C8: 8 | D8: 9 | E8: 10 | F8: 11 | G8: 12 | H8: 13 | J8: 0.32291667
A9: 7 | B9: 14 | C9: 15 | D9: 16 | E9: 17 | F9: 18 | G9: 19 | H9: 20 | J9: 0.33333333
A10: 8 | B10: 21 | C10: 22 | D10: 23 | E10: 24 | F10: 25 | G10: 26 | H10: 27 | J10: 0.34375 | L10: DEVIS
A11: 9 | B11: 28 | C11: 1 | D11: 2 | E11: 3 | F11: 4 | G11: 5 | H11: 6 | J11: 0.35416667 | L11: A FACTURER
A12: 10 | B12: 7 | C12: 8 | D12: 9 | E12: 10 | F12: 11 | G12: 12 | H12: 13 | J12: 0.36458333
A13: 11 | B13: 14 | C13: 15 | D13: 16 | E13: 17 | F13: 18 | G13: 19 | H13: 20 | J13: 0.375
A14: 12 | B14: 21 | C14: 22 | D14: 23 | E14: 24 | F14: 25 | G14: 26 | H14: 27 | J14: 0.38541667
A15: 13 | B15: 28 | C15: 29 | D15: 30 | E15: 31 | F15: 1 | G15: 2 | H15: 3 | J15: 0.39583333
A16: 14 | B16: 4 | C16: 5 | D16: 6 | E16: 7 | F16: 8 | G16: 9 | H16: 10 | J16: 0.40625
A17: 15 | B17: 11 | C17: 12 | D17: 13 | E17: 14 | F17: 15 | G17: 16 | H17: 17 | J17: 0.41666667
A18: 16 | B18: 18 | C18: 19 | D18: 20 | E18: 21 | F18: 22 | G18: 23 | H18: 24 | J18: 0.42708333
A19: 17 | B19: 25 | C19: 26 | D19: 27 | E19: 28 | F19: 29 | G19: 30 | H19: 1 | J19: 0.4375
A20: 18 | B20: 2 | C20: 3 | D20: 4 | E20: 5 | F20: 6 | G20: 7 | H20: 8 | J20: 0.44791667
A21: 19 | B21: 9 | C21: 10 | D21: 11 | E21: 12 | F21: 13 | G21: 14 | H21: 15 | J21: 0.45833333
A22: 20 | B22: 16 | C22: 17 | D22: 18 | E22: 19 | F22: 20 | G22: 21 | H22: 22 | J22: 0.46875
A23: 21 | B23: 23 | C23: 24 | D23: 25 | E23: 26 | F23: 27 | G23: 28 | H23: 29 | J23: 0.47916667
... A53: 51 | B53: 19 | C53: 20 | D53: 21 | E53: 22 | F53: 23 | G53: 24 | H53: 25 | J53: 0.79166667
A54: 52 | B54: 26 | C54: 27 | D54: 28 | E54: 29 | F54: 30 | G54: 31 | J54: 0.80208333
J55: 0.8125
J56: 0.82291667
J57: 0.83333333
J58: 0.84375
J59: 0.85416667
J60: 0.86458333
J61: 0.875
J62: 0.88541667
J63: 0.89583333
J64: 0.90625
J65: 0.91666667
J66: 0.92708333
... J93: 0.25

Sheet Chronopost Marignane (13)
B2: 2021 | E2: A FACTURER
B4: Client et lieu d'intervention | G4: =MID(CELL("nomfichier",$G$4),FIND("]",CELL("nomfichier",$G$4))+1,32) -> Chronopost Marignane (13)
B6: SICK | E6: N° de Commande : | AG6: =AG18 -> 1290.6
E8: N° de techniciens: | G8: 1
B10: Semaine | C10: 5 | E10: Matin | G10: Après-Midi | I10: Total heures par technicien | J10: Total Heures jour | K10: Coût | M10: nuit | O10: Total heures Nuit | P10: Coût | R10: Forfait repas par jour et par personne | S10: Coût | U10: Distance kilomètrique Aller / Retour | V10: Coût | X10: Temps déplacement Aller / Retour par personne | Y10: Coût | AA10: Forfait hôtel par personne | AB10: Coût | AD10: Autres: Parking, Achat fournitures | AE10: Coût | AG10: Total HT
B11: Lundi | C11: =VLOOKUP($C$10,' Base des Index'!A:H,2,0) -> 31 | I11: =((MOD(F11-E11,1)+MOD(H11-G11,1))*24) -> 0 | J11: =((MOD(F11-E11,1)+MOD(H11-G11,1))*$G$8)*24 -> 0 | K11: =IF(ISERROR(J11)*VLOOKUP($B$6,' Base des Index'!$L$1:$M$93,2,FALSE),"",(J11)*VLOOKUP($B$6,' Base des Index'!$L$1:$M$93,2,FALSE)) -> 0 | O11: =MOD(N11-M11,1) -> 0 | P11: =IF(ISERROR(O11*24)*90,"",(O11*24)*90) -> 0 | S11: =((R11*$G$8)*20) -> 0 | V11: =SUM(U11*0.6) -> 0 | Y11: =SUM(X11*$G$8)*25 -> 0 | AB11: =SUM(AA11*$G$8)*100 -> 0 | AE11: =AD11 -> 0
B12: Mardi | C12: =VLOOKUP($C$10,' Base des Index'!A:H,3,0) -> 1 | I12: =((MOD(F12-E12,1)+MOD(H12-G12,1))*24) -> 0 | J12: =((MOD(F12-E12,1)+MOD(H12-G12,1))*$G$8)*24 -> 0 | K12: =IF(ISERROR(J12)*VLOOKUP($B$6,' Base des Index'!$L$1:$M$93,2,FALSE),"",(J12)*VLOOKUP($B$6,' Base des Index'!$L$1:$M$93,2,FALSE)) -> 0 | O12: =MOD(N12-M12,1) -> 0 | P12: =IF(ISERROR(O12*24)*90,"",(O12*24)*90) -> 0 | S12: =((R12*$G$8)*20) -> 0 | V12: =SUM(U12*0.6) -> 0 | Y12: =SUM(X12*$G$8)*25 -> 0 | AB12: =SUM(AA12*$G$8)*100 -> 0 | AE12: =AD12 -> 0
B13: Mercredi | C13: =VLOOKUP($C$10,' Base des Index'!A:H,4,0) -> 2 | I13: =((MOD(F13-E13,1)+MOD(H13-G13,1))*24) -> 0 | J13: =((MOD(F13-E13,1)+MOD(H13-G13,1))*$G$8)*24 -> 0 | K13: =IF(ISERROR(J13)*VLOOKUP($B$6,' Base des Index'!$L$1:$M$93,2,FALSE),"",(J13)*VLOOKUP($B$6,' Base des Index'!$L$1:$M$93,2,FALSE)) -> 0 | O13: =MOD(N13-M13,1) -> 0 | P13: =IF(ISERROR(O13*24)*90,"",(O13*24)*90) -> 0 | S13: =((R13*$G$8)*20) -> 0 | V13: =SUM(U13*0.6) -> 0 | Y13: =SUM(X13*$G$8)*25 -> 0 | AB13: =SUM(AA13*$G$8)*100 -> 0 | AE13: =AD13 -> 0
B14: Jeudi | C14: =VLOOKUP($C$10,' Base des Index'!A:H,5,0) -> 3 | I14: =((MOD(F14-E14,1)+MOD(H14-G14,1))*24) -> 0 | J14: =((MOD(F14-E14,1)+MOD(H14-G14,1))*$G$8)*24 -> 0 | K14: =IF(ISERROR(J14)*VLOOKUP($B$6,' Base des Index'!$L$1:$M$93,2,FALSE),"",(J14)*VLOOKUP($B$6,' Base des Index'!$L$1:$M$93,2,FALSE)) -> 0 | O14: =MOD(N14-M14,1) -> 0 | P14: =IF(ISERROR(O14*24)*90,"",(O14*24)*90) -> 0 | S14: =((R14*$G$8)*20) -> 0 | V14: =SUM(U14*0.6) -> 0 | Y14: =SUM(X14*$G$8)*25 -> 0 | AB14: =SUM(AA14*$G$8)*100 -> 0 | AE14: =AD14 -> 0
B15: Vendredi | C15: =VLOOKUP($C$10,' Base des Index'!A:H,6,0) -> 4 | E15: 0.375 | F15: 0.5 | G15: 0.5625 | H15: 0.70833333 | I15: =((MOD(F15-E15,1)+MOD(H15-G15,1))*24) -> 6.5 | J15: =((MOD(F15-E15,1)+MOD(H15-G15,1))*$G$8)*24 -> 6.5 | K15: =IF(ISERROR(J15)*VLOOKUP($B$6,' Base des Index'!$L$1:$M$93,2,FALSE),"",(J15)*VLOOKUP($B$6,' Base des Index'!$L$1:$M$93,2,FALSE)) -> 357.5 | O15: =MOD(N15-M15,1) -> 0 | P15: =IF(ISERROR(O15*24)*90,"",(O15*24)*90) -> 0 | S15: =((R15*$G$8)*20) -> 0 | V15: =SUM(U15*0.6) -> 0 | Y15: =SUM(X15*$G$8)*25 -> 0 | AB15: =SUM(AA15*$G$8)*100 -> 0 | AE15: =AD15 -> 0
B16: Samedi | C16: =VLOOKUP($C$10,' Base des Index'!A:H,7,0) -> 5 | E16: 0.375 | F16: 0.5 | G16: 0.5625 | H16: 0.70833333 | I16: =((MOD(F16-E16,1)+MOD(H16-G16,1))*24) -> 6.5 | J16: =((MOD(F16-E16,1)+MOD(H16-G16,1))*$G$8)*24 -> 6.5 | K16: =IF(ISERROR(J16)*VLOOKUP($B$6,' Base des Index'!$L$1:$N$2,2,FALSE),"",(J16)*VLOOKUP($B$6,' Base des Index'!$L$1:$N$2,2,FALSE)) -> 357.5 | O16: =MOD(N16-M16,1) -> 0 | P16: =IF(ISERROR(O16*24)*120,"",(O16*24)*120) -> 0 | R16: 1 | S16: =((R16*$G$8)*20) -> 20 | U16: 626 | V16: =SUM(U16*0.6) -> 375.6 | X16: 6 | Y16: =SUM(X16*$G$8)*30 -> 180 | AB16: =SUM(AA16*$G$8)*100 -> 0 | AE16: =AD16 -> 0
B17: Dimanche | C17: =VLOOKUP($C$10,' Base des Index'!A:H,8,0) -> 6 | I17: =((MOD(F17-E17,1)+MOD(H17-G17,1))*24) -> 0 | J17: =((MOD(F17-E17,1)+MOD(H17-G17,1))*$G$8)*24 -> 0 | K17: =IF(ISERROR(J17)*VLOOKUP($B$6,' Base des Index'!$L$1:$M$93,2,FALSE),"",(J17)*VLOOKUP($B$6,' Base des Index'!$L$1:$M$93,2,FALSE)) -> 0 | O17: =MOD(N17-M17,1) -> 0 | P17: =IF(ISERROR(O17*24)*120,"",(O17*24)*120) -> 0 | S17: =((R17*$G$8)*20) -> 0 | V17: =SUM(U17*0.6) -> 0 | Y17: =SUM(X17*$G$8)*30 -> 0 | AB17: =SUM(AA17*$G$8)*100 -> 0 | AE17: =AD17 -> 0
B18: Total semaine | I18: =SUM(I11:I17) -> 13 | J18: =SUM(J11:J17) -> 13 | K18: =SUM(K11:K17) -> 715 | O18: =SUM(O11:O17) -> 0 | P18: =SUM(P11:P17) -> 0 | R18: =SUM(R11:R17) -> 1 | S18: =SUM(S11:S17) -> 20 | U18: =SUM(U11:U17) -> 626 | V18: =SUM(V11:V17) -> 375.6 | X18: =SUM(X12:X17) -> 6 | Y18: =SUM(Y11:Y17) -> 180 | AA18: =SUM(AA11:AA17) -> 0 | AB18: =SUM(AB11:AB17) -> 0 | AD18: =SUM(AD11:AD17) -> 0 | AE18: =SUM(AE11:AE17) -> 0 | AG18: =SUM(K18+S18+Y18+V18+P18+AE18+AB18) -> 1290.6
B20: Semaine | C20: 6 | E20: Matin | G20: Après-Midi | I20: Total heures par technicien | J20: Total Heures jour | K20: Coût | M20: nuit | O20: Total heures Nuit | P20: Coût | R20: Forfait repas par jour et par personne | S20: Coût | U20: Distance kilomètrique Aller / Retour | V20: Coût | X20: Temps déplacement Aller / Retour par personne | Y20: Coût | AA20: Forfait hôtel par personne | AB20: Coût | AD20: Autres: Parking, Achat fournitures | AE20: Coût | AG20: Total HT
B21: Lundi | C21: =VLOOKUP($C$20,' Base des Index'!A:H,2,0) -> 7 | I21: =((MOD(F21-E21,1)+MOD(H21-G21,1))*24) -> 0 | J21: =((MOD(F21-E21,1)+MOD(H21-G21,1))*$G$8)*24 -> 0 | K21: =IF(ISERROR(J21)*VLOOKUP($B$6,' Base des Index'!$L$1:$M$93,2,FALSE),"",(J21)*VLOOKUP($B$6,' Base des Index'!$L$1:$M$93,2,FALSE)) -> 0 | O21: =MOD(N21-M21,1) -> 0 | P21: =IF(ISERROR(O21*24)*90,"",(O21*24)*90) -> 0 | S21: =((R21*$G$8)*20) -> 0 | V21: =SUM(U21*0.6) -> 0 | Y21: =SUM(X21*$G$8)*25 -> 0 | AB21: =SUM(AA21*$G$8)*100 -> 0 | AE21: =AD21 -> 0
B22: Mardi | C22: =VLOOKUP($C$20,' Base des Index'!A:H,3,0) -> 8 | I22: =((MOD(F22-E22,1)+MOD(H22-G22,1))*24) -> 0 | J22: =((MOD(F22-E22,1)+MOD(H22-G22,1))*$G$8)*24 -> 0 | K22: =IF(ISERROR(J22)*VLOOKUP($B$6,' Base des Index'!$L$1:$M$93,2,FALSE),"",(J22)*VLOOKUP($B$6,' Base des Index'!$L$1:$M$93,2,FALSE)) -> 0 | O22: =MOD(N22-M22,1) -> 0 | P22: =IF(ISERROR(O22*24)*90,"",(O22*24)*90) -> 0 | S22: =((R22*$G$8)*20) -> 0 | V22: =SUM(U22*0.6) -> 0 | Y22: =SUM(X22*$G$8)*25 -> 0 | AB22: =SUM(AA22*$G$8)*100 -> 0 | AE22: =AD22 -> 0
B23: Mercredi | C23: =VLOOKUP($C$20,' Base des Index'!A:H,4,0) -> 9 | I23: =((MOD(F23-E23,1)+MOD(H23-G23,1))*24) -> 0 | J23: =((MOD(F23-E23,1)+MOD(H23-G23,1))*$G$8)*24 -> 0 | K23: =IF(ISERROR(J23)*VLOOKUP($B$6,' Base des Index'!$L$1:$M$93,2,FALSE),"",(J23)*VLOOKUP($B$6,' Base des Index'!$L$1:$M$93,2,FALSE)) -> 0 | O23: =MOD(N23-M23,1) -> 0 | P23: =IF(ISERROR(O23*24)*90,"",(O23*24)*90) -> 0 | S23: =((R23*$G$8)*20) -> 0 | V23: =SUM(U23*0.6) -> 0 | Y23: =SUM(X23*$G$8)*25 -> 0 | AB23: =SUM(AA23*$G$8)*100 -> 0 | AE23: =AD23 -> 0
B24: Jeudi | C24: =VLOOKUP($C$20,' Base des Index'!A:H,5,0) -> 10 | I24: =((MOD(F24-E24,1)+MOD(H24-G24,1))*24) -> 0 | J24: =((MOD(F24-E24,1)+MOD(H24-G24,1))*$G$8)*24 -> 0 | K24: =IF(ISERROR(J24)*VLOOKUP($B$6,' Base des Index'!$L$1:$M$93,2,FALSE),"",(J24)*VLOOKUP($B$6,' Base des Index'!$L$1:$M$93,2,FALSE)) -> 0 | O24: =MOD(N24-M24,1) -> 0 | P24: =IF(ISERROR(O24*24)*90,"",(O24*24)*90) -> 0 | S24: =((R24*$G$8)*20) -> 0 | V24: =SUM(U24*0.6) -> 0 | Y24: =SUM(X24*$G$8)*25 -> 0 | AB24: =SUM(AA24*$G$8)*100 -> 0 | AE24: =AD24 -> 0
B25: Vendredi | C25: =VLOOKUP($C$20,' Base des Index'!A:H,6,0) -> 11 | I25: =((MOD(F25-E25,1)+MOD(H25-G25,1))*24) -> 0 | J25: =((MOD(F25-E25,1)+MOD(H25-G25,1))*$G$8)*24 -> 0 | K25: =IF(ISERROR(J25)*VLOOKUP($B$6,' Base des Index'!$L$1:$M$93,2,FALSE),"",(J25)*VLOOKUP($B$6,' Base des Index'!$L$1:$M$93,2,FALSE)) -> 0 | O25: =MOD(N25-M25,1) -> 0 | P25: =IF(ISERROR(O25*24)*90,"",(O25*24)*90) -> 0 | S25: =((R25*$G$8)*20) -> 0 | V25: =SUM(U25*0.6) -> 0 | Y25: =SUM(X25*$G$8)*25 -> 0 | AB25: =SUM(AA25*$G$8)*100 -> 0 | AE25: =AD25 -> 0
B26: Samedi | C26: =VLOOKUP($C$20,' Base des Index'!A:H,7,0) -> 12 | E26: 0.375 | F26: 0.5 | G26: 0.5625 | H26: 0.70833333 | I26: =((MOD(F26-E26,1)+MOD(H26-G26,1))*24) -> 6.5 | J26: =((MOD(F26-E26,1)+MOD(H26-G26,1))*$G$8)*24 -> 6.5 | K26: =IF(ISERROR(J26)*VLOOKUP($B$6,' Base des Index'!$L$1:$M$93,2,FALSE),"",(J26)*VLOOKUP($B$6,' Base des Index'!$L$1:$M$93,2,FALSE)) -> 357.5 | O26: =MOD(N26-M26,1) -> 0 | P26: =IF(ISERROR(O26*24)*120,"",(O26*24)*120) -> 0 | R26: 1 | S26: =((R26*$G$8)*20) -> 20 | U26: 626 | V26: =SUM(U26*0.6) -> 375.6 | X26: 6 | Y26: =SUM(X26*$G$8)*30 -> 180 | AB26: =SUM(AA26*$G$8)*100 -> 0 | AE26: =AD26 -> 0
B27: Dimanche | C27: =VLOOKUP($C$20,' Base des Index'!A:H,8,0) -> 13 | I27: =((MOD(F27-E27,1)+MOD(H27-G27,1))*24) -> 0 | J27: =((MOD(F27-E27,1)+MOD(H27-G27,1))*$G$8)*24 -> 0 | K27: =IF(ISERROR(J27)*VLOOKUP($B$6,' Base des Index'!$L$1:$M$93,2,FALSE),"",(J27)*VLOOKUP($B$6,' Base des Index'!$L$1:$M$93,2,FALSE)) -> 0 | O27: =MOD(N27-M27,1) -> 0 | P27: =IF(ISERROR(O27*24)*120,"",(O27*24)*120) -> 0 | S27: =((R27*$G$8)*20) -> 0 | V27: =SUM(U27*0.6) -> 0 | Y27: =SUM(X27*$G$8)*30 -> 0 | AB27: =SUM(AA27*$G$8)*100 -> 0 | AE27: =AD27 -> 0
B28: Total semaine | I28: =SUM(I21:I27) -> 6.5 | J28: =SUM(J21:J27) -> 6.5 | K28: =SUM(K21:K27) -> 357.5 | O28: =SUM(O21:O27) -> 0 | P28: =SUM(P21:P27) -> 0 | R28: =SUM(R21:R27) -> 1 | S28: =SUM(S21:S27) -> 20 | U28: =SUM(U21:U27) -> 626 | V28: =SUM(V21:V27) -> 375.6 | X28: =SUM(X22:X27) -> 6 | Y28: =SUM(Y21:Y27) -> 180 | AA28: =SUM(AA21:AA27) -> 0 | AB28: =SUM(AB21:AB27) -> 0 | AD28: =SUM(AD21:AD27) -> 0 | AE28: =SUM(AE21:AE27) -> 0 | AG28: =SUM(K28+S28+Y28+V28+P28+AE28+AB28) -> 933.1
