Workbook

Sheet Général
B2: Commande chocolats | E2: 2021
B4: Nom | C4: Prix Commande | E4: Référence | F4: Quantité | G4: Prix l'unité | H4: Prix total | J4: Référence | K4: Quantité | L4: Prix l'unité | M4: Prix total
B5: =Coucou!B4 -> Coucou | C5: =Coucou!K32 -> 643.2 | E5: N001 | F5: =Coucou!D5+'Libre 1'!D5+'Libre 2'!D5+'Libre 3'!D5+'Libre 4'!D5+'Libre 5'!D5+'Libre 6'!D5+'Libre 7'!D5 -> 0 | G5: 10.9 | H5: =G5*F5 -> 0 | J5: N025 | K5: =Coucou!I5+'Libre 1'!I5+'Libre 2'!I5+'Libre 3'!I5+'Libre 4'!I5+'Libre 5'!I5+'Libre 6'!I5+'Libre 7'!I5 -> 112 | L5: 28.85 | M5: =L5*K5 -> 3231.2
B6: ='Libre 1'!B4 -> Libre 1 | C6: ='Libre 1'!K32 -> 643.2 | E6: N002 | F6: =Coucou!D6+'Libre 1'!D6+'Libre 2'!D6+'Libre 3'!D6+'Libre 4'!D6+'Libre 5'!D6+'Libre 6'!D6+'Libre 7'!D6 -> 0 | G6: 5.9 | H6: =G6*F6 -> 0 | J6: N026 | K6: =Coucou!I6+'Libre 1'!I6+'Libre 2'!I6+'Libre 3'!I6+'Libre 4'!I6+'Libre 5'!I6+'Libre 6'!I6+'Libre 7'!I6 -> 24 | L6: 14.9 | M6: =L6*K6 -> 357.6
B7: ='Libre 2'!B4 -> Libre 2 | C7: ='Libre 2'!K32 -> 643.2 | E7: N003 | F7: =Coucou!D7+'Libre 1'!D7+'Libre 2'!D7+'Libre 3'!D7+'Libre 4'!D7+'Libre 5'!D7+'Libre 6'!D7+'Libre 7'!D7 -> 16 | G7: 12.95 | H7: =G7*F7 -> 207.2 | J7: N027 | K7: =Coucou!I7+'Libre 1'!I7+'Libre 2'!I7+'Libre 3'!I7+'Libre 4'!I7+'Libre 5'!I7+'Libre 6'!I7+'Libre 7'!I7 -> 0 | L7: 16.4 | M7: =L7*K7 -> 0
B8: ='Libre 3'!B4 -> Libre 3 | C8: ='Libre 3'!K32 -> 643.2 | E8: N004 | F8: =Coucou!D8+'Libre 1'!D8+'Libre 2'!D8+'Libre 3'!D8+'Libre 4'!D8+'Libre 5'!D8+'Libre 6'!D8+'Libre 7'!D8 -> 24 | G8: 12.95 | H8: =G8*F8 -> 310.8 | J8: N028 | K8: =Coucou!I8+'Libre 1'!I8+'Libre 2'!I8+'Libre 3'!I8+'Libre 4'!I8+'Libre 5'!I8+'Libre 6'!I8+'Libre 7'!I8 -> 0 | L8: 8.95 | M8: =L8*K8 -> 0
B9: ='Libre 4'!B4 -> Libre 4 | C9: ='Libre 4'!K32 -> 643.2 | E9: N005 | F9: =Coucou!D9+'Libre 1'!D9+'Libre 2'!D9+'Libre 3'!D9+'Libre 4'!D9+'Libre 5'!D9+'Libre 6'!D9+'Libre 7'!D9 -> 0 | G9: 9.9 | H9: =G9*F9 -> 0 | J9: N029 | K9: =Coucou!I9+'Libre 1'!I9+'Libre 2'!I9+'Libre 3'!I9+'Libre 4'!I9+'Libre 5'!I9+'Libre 6'!I9+'Libre 7'!I9 -> 0 | L9: 18.95 | M9: =L9*K9 -> 0
B10: ='Libre 5'!B4 -> Libre 5 | C10: ='Libre 5'!K32 -> 643.2 | E10: N006 | F10: =Coucou!D10+'Libre 1'!D10+'Libre 2'!D10+'Libre 3'!D10+'Libre 4'!D10+'Libre 5'!D10+'Libre 6'!D10+'Libre 7'!D10 -> 0 | G10: 14.8 | H10: =G10*F10 -> 0 | J10: N030 | K10: =Coucou!I10+'Libre 1'!I10+'Libre 2'!I10+'Libre 3'!I10+'Libre 4'!I10+'Libre 5'!I10+'Libre 6'!I10+'Libre 7'!I10 -> 0 | L10: 13.95 | M10: =L10*K10 -> 0
B11: ='Libre 6'!B4 -> Libre 6 | C11: ='Libre 6'!K32 -> 643.2 | E11: N007 | F11: =Coucou!D11+'Libre 1'!D11+'Libre 2'!D11+'Libre 3'!D11+'Libre 4'!D11+'Libre 5'!D11+'Libre 6'!D11+'Libre 7'!D11 -> 0 | G11: 5.3 | H11: =G11*F11 -> 0 | J11: N031 | K11: =Coucou!I11+'Libre 1'!I11+'Libre 2'!I11+'Libre 3'!I11+'Libre 4'!I11+'Libre 5'!I11+'Libre 6'!I11+'Libre 7'!I11 -> 40 | L11: 9.9 | M11: =L11*K11 -> 396
B12: ='Libre 7'!B4 -> Libre 7 | C12: ='Libre 7'!K32 -> 643.2 | E12: N008 | F12: =Coucou!D12+'Libre 1'!D12+'Libre 2'!D12+'Libre 3'!D12+'Libre 4'!D12+'Libre 5'!D12+'Libre 6'!D12+'Libre 7'!D12 -> 0 | G12: 5.5 | H12: =G12*F12 -> 0 | J12: N032 | K12: =Coucou!I12+'Libre 1'!I12+'Libre 2'!I12+'Libre 3'!I12+'Libre 4'!I12+'Libre 5'!I12+'Libre 6'!I12+'Libre 7'!I12 -> 0 | L12: 10.9 | M12: =L12*K12 -> 0
E13: N009 | F13: =Coucou!D13+'Libre 1'!D13+'Libre 2'!D13+'Libre 3'!D13+'Libre 4'!D13+'Libre 5'!D13+'Libre 6'!D13+'Libre 7'!D13 -> 0 | G13: 5 | H13: =G13*F13 -> 0 | J13: N033 | K13: =Coucou!I13+'Libre 1'!I13+'Libre 2'!I13+'Libre 3'!I13+'Libre 4'!I13+'Libre 5'!I13+'Libre 6'!I13+'Libre 7'!I13 -> 0 | L13: 7.9 | M13: =L13*K13 -> 0
E14: N010 | F14: =Coucou!D14+'Libre 1'!D14+'Libre 2'!D14+'Libre 3'!D14+'Libre 4'!D14+'Libre 5'!D14+'Libre 6'!D14+'Libre 7'!D14 -> 0 | G14: 4.95 | H14: =G14*F14 -> 0 | J14: N034 | K14: =Coucou!I14+'Libre 1'!I14+'Libre 2'!I14+'Libre 3'!I14+'Libre 4'!I14+'Libre 5'!I14+'Libre 6'!I14+'Libre 7'!I14 -> 0 | L14: 10.4 | M14: =L14*K14 -> 0
E15: N011 | F15: =Coucou!D15+'Libre 1'!D15+'Libre 2'!D15+'Libre 3'!D15+'Libre 4'!D15+'Libre 5'!D15+'Libre 6'!D15+'Libre 7'!D15 -> 0 | G15: 11.8 | H15: =G15*F15 -> 0 | J15: N035 | K15: =Coucou!I15+'Libre 1'!I15+'Libre 2'!I15+'Libre 3'!I15+'Libre 4'!I15+'Libre 5'!I15+'Libre 6'!I15+'Libre 7'!I15 -> 0 | L15: 7.4 | M15: =L15*K15 -> 0
E16: N012 | F16: =Coucou!D16+'Libre 1'!D16+'Libre 2'!D16+'Libre 3'!D16+'Libre 4'!D16+'Libre 5'!D16+'Libre 6'!D16+'Libre 7'!D16 -> 0 | G16: 10.8 | H16: =G16*F16 -> 0 | J16: N036 | K16: =Coucou!I16+'Libre 1'!I16+'Libre 2'!I16+'Libre 3'!I16+'Libre 4'!I16+'Libre 5'!I16+'Libre 6'!I16+'Libre 7'!I16 -> 0 | L16: 9.9 | M16: =L16*K16 -> 0
E17: N013 | F17: =Coucou!D17+'Libre 1'!D17+'Libre 2'!D17+'Libre 3'!D17+'Libre 4'!D17+'Libre 5'!D17+'Libre 6'!D17+'Libre 7'!D17 -> 24 | G17: 9.95 | H17: =G17*F17 -> 238.8 | J17: N037 | K17: =Coucou!I17+'Libre 1'!I17+'Libre 2'!I17+'Libre 3'!I17+'Libre 4'!I17+'Libre 5'!I17+'Libre 6'!I17+'Libre 7'!I17 -> 0 | L17: 10.95 | M17: =L17*K17 -> 0
E18: N014 | F18: =Coucou!D18+'Libre 1'!D18+'Libre 2'!D18+'Libre 3'!D18+'Libre 4'!D18+'Libre 5'!D18+'Libre 6'!D18+'Libre 7'!D18 -> 0 | G18: 28.9 | H18: =G18*F18 -> 0 | J18: N038 | K18: =Coucou!I18+'Libre 1'!I18+'Libre 2'!I18+'Libre 3'!I18+'Libre 4'!I18+'Libre 5'!I18+'Libre 6'!I18+'Libre 7'!I18 -> 0 | L18: 8.9 | M18: =L18*K18 -> 0
B19: Total commandes | C19: =SUM(C5:C18) -> 5145.6 | E19: N015 | F19: =Coucou!D19+'Libre 1'!D19+'Libre 2'!D19+'Libre 3'!D19+'Libre 4'!D19+'Libre 5'!D19+'Libre 6'!D19+'Libre 7'!D19 -> 0 | G19: 19.5 | H19: =G19*F19 -> 0 | J19: N039 | K19: =Coucou!I19+'Libre 1'!I19+'Libre 2'!I19+'Libre 3'!I19+'Libre 4'!I19+'Libre 5'!I19+'Libre 6'!I19+'Libre 7'!I19 -> 0 | L19: 12.4 | M19: =L19*K19 -> 0
E20: N016 | F20: =Coucou!D20+'Libre 1'!D20+'Libre 2'!D20+'Libre 3'!D20+'Libre 4'!D20+'Libre 5'!D20+'Libre 6'!D20+'Libre 7'!D20 -> 8 | G20: 14.3 | H20: =G20*F20 -> 114.4 | J20: N040 | K20: =Coucou!I20+'Libre 1'!I20+'Libre 2'!I20+'Libre 3'!I20+'Libre 4'!I20+'Libre 5'!I20+'Libre 6'!I20+'Libre 7'!I20 -> 0 | L20: 4.95 | M20: =L20*K20 -> 0
E21: N017 | F21: =Coucou!D21+'Libre 1'!D21+'Libre 2'!D21+'Libre 3'!D21+'Libre 4'!D21+'Libre 5'!D21+'Libre 6'!D21+'Libre 7'!D21 -> 0 | G21: 10.9 | H21: =G21*F21 -> 0 | J21: N041 | K21: =Coucou!I21+'Libre 1'!I21+'Libre 2'!I21+'Libre 3'!I21+'Libre 4'!I21+'Libre 5'!I21+'Libre 6'!I21+'Libre 7'!I21 -> 0 | L21: 4.95 | M21: =L21*K21 -> 0
E22: N018 | F22: =Coucou!D22+'Libre 1'!D22+'Libre 2'!D22+'Libre 3'!D22+'Libre 4'!D22+'Libre 5'!D22+'Libre 6'!D22+'Libre 7'!D22 -> 0 | G22: 12.95 | H22: =G22*F22 -> 0 | J22: N042 | K22: =Coucou!I22+'Libre 1'!I22+'Libre 2'!I22+'Libre 3'!I22+'Libre 4'!I22+'Libre 5'!I22+'Libre 6'!I22+'Libre 7'!I22 -> 0 | L22: 8.9 | M22: =L22*K22 -> 0
E23: N019 | F23: =Coucou!D23+'Libre 1'!D23+'Libre 2'!D23+'Libre 3'!D23+'Libre 4'!D23+'Libre 5'!D23+'Libre 6'!D23+'Libre 7'!D23 -> 0 | G23: 10.95 | H23: =G23*F23 -> 0 | J23: N043 | K23: =Coucou!I23+'Libre 1'!I23+'Libre 2'!I23+'Libre 3'!I23+'Libre 4'!I23+'Libre 5'!I23+'Libre 6'!I23+'Libre 7'!I23 -> 0 | L23: 15.8 | M23: =L23*K23 -> 0
E24: N020 | F24: =Coucou!D24+'Libre 1'!D24+'Libre 2'!D24+'Libre 3'!D24+'Libre 4'!D24+'Libre 5'!D24+'Libre 6'!D24+'Libre 7'!D24 -> 0 | G24: 8.8 | H24: =G24*F24 -> 0 | J24: N044 | K24: =Coucou!I24+'Libre 1'!I24+'Libre 2'!I24+'Libre 3'!I24+'Libre 4'!I24+'Libre 5'!I24+'Libre 6'!I24+'Libre 7'!I24 -> 0 | L24: 14.8 | M24: =L24*K24 -> 0
E25: N021 | F25: =Coucou!D25+'Libre 1'!D25+'Libre 2'!D25+'Libre 3'!D25+'Libre 4'!D25+'Libre 5'!D25+'Libre 6'!D25+'Libre 7'!D25 -> 0 | G25: 10.8 | H25: =G25*F25 -> 0 | J25: N045 | K25: =Coucou!I25+'Libre 1'!I25+'Libre 2'!I25+'Libre 3'!I25+'Libre 4'!I25+'Libre 5'!I25+'Libre 6'!I25+'Libre 7'!I25 -> 0 | L25: 6.6 | M25: =L25*K25 -> 0
E26: N022 | F26: =Coucou!D26+'Libre 1'!D26+'Libre 2'!D26+'Libre 3'!D26+'Libre 4'!D26+'Libre 5'!D26+'Libre 6'!D26+'Libre 7'!D26 -> 0 | G26: 12.85 | H26: =G26*F26 -> 0 | J26: N046 | K26: =Coucou!I26+'Libre 1'!I26+'Libre 2'!I26+'Libre 3'!I26+'Libre 4'!I26+'Libre 5'!I26+'Libre 6'!I26+'Libre 7'!I26 -> 0 | L26: 7.9 | M26: =L26*K26 -> 0
E27: N023 | F27: =Coucou!D27+'Libre 1'!D27+'Libre 2'!D27+'Libre 3'!D27+'Libre 4'!D27+'Libre 5'!D27+'Libre 6'!D27+'Libre 7'!D27 -> 16 | G27: 18.1 | H27: =G27*F27 -> 289.6 | J27: N047 | K27: =Coucou!I27+'Libre 1'!I27+'Libre 2'!I27+'Libre 3'!I27+'Libre 4'!I27+'Libre 5'!I27+'Libre 6'!I27+'Libre 7'!I27 -> 0 | L27: 6.4 | M27: =L27*K27 -> 0
E28: N024 | F28: =Coucou!D28+'Libre 1'!D28+'Libre 2'!D28+'Libre 3'!D28+'Libre 4'!D28+'Libre 5'!D28+'Libre 6'!D28+'Libre 7'!D28 -> 0 | G28: 23.9 | H28: =G28*F28 -> 0 | J28: N048 | K28: =Coucou!I28+'Libre 1'!I28+'Libre 2'!I28+'Libre 3'!I28+'Libre 4'!I28+'Libre 5'!I28+'Libre 6'!I28+'Libre 7'!I28 -> 0 | L28: 0.4 | M28: =L28*K28 -> 0

Sheet Coucou
B1: 2021
B3: Nom
B4: =MID(CELL("nomfichier",$F$4),FIND("]",CELL("nomfichier",$F$4))+1,32) -> Coucou | C4: Référence | D4: Quantité | E4: Prix l'unité | F4: Prix total | H4: Référence | I4: Quantité | J4: Prix l'unité | K4: Prix total
C5: N001 | E5: 10.9 | F5: =E5*D5 -> 0 | H5: N025 | I5: 14 | J5: 28.85 | K5: =J5*I5 -> 403.9
C6: N002 | E6: 5.9 | F6: =E6*D6 -> 0 | H6: N026 | I6: 3 | J6: 14.9 | K6: =J6*I6 -> 44.7
C7: N003 | D7: 2 | E7: 12.95 | F7: =E7*D7 -> 25.9 | H7: N027 | J7: 16.4 | K7: =J7*I7 -> 0
C8: N004 | D8: 3 | E8: 12.95 | F8: =E8*D8 -> 38.85 | H8: N028 | J8: 8.95 | K8: =J8*I8 -> 0
C9: N005 | E9: 9.9 | F9: =E9*D9 -> 0 | H9: N029 | J9: 18.95 | K9: =J9*I9 -> 0
C10: N006 | E10: 14.8 | F10: =E10*D10 -> 0 | H10: N030 | J10: 13.95 | K10: =J10*I10 -> 0
C11: N007 | E11: 5.3 | F11: =E11*D11 -> 0 | H11: N031 | I11: 5 | J11: 9.9 | K11: =J11*I11 -> 49.5
C12: N008 | E12: 5.5 | F12: =E12*D12 -> 0 | H12: N032 | J12: 10.9 | K12: =J12*I12 -> 0
C13: N009 | E13: 5 | F13: =E13*D13 -> 0 | H13: N033 | J13: 7.9 | K13: =J13*I13 -> 0
C14: N010 | E14: 4.95 | F14: =E14*D14 -> 0 | H14: N034 | J14: 10.4 | K14: =J14*I14 -> 0
C15: N011 | E15: 11.8 | F15: =E15*D15 -> 0 | H15: N035 | J15: 7.4 | K15: =J15*I15 -> 0
C16: N012 | E16: 10.8 | F16: =E16*D16 -> 0 | H16: N036 | J16: 9.9 | K16: =J16*I16 -> 0
C17: N013 | D17: 3 | E17: 9.95 | F17: =E17*D17 -> 29.85 | H17: N037 | J17: 10.95 | K17: =J17*I17 -> 0
C18: N014 | E18: 28.9 | F18: =E18*D18 -> 0 | H18: N038 | J18: 8.9 | K18: =J18*I18 -> 0
C19: N015 | E19: 19.5 | F19: =E19*D19 -> 0 | H19: N039 | J19: 12.4 | K19: =J19*I19 -> 0
C20: N016 | D20: 1 | E20: 14.3 | F20: =E20*D20 -> 14.3 | H20: N040 | J20: 4.95 | K20: =J20*I20 -> 0
C21: N017 | E21: 10.9 | F21: =E21*D21 -> 0 | H21: N041 | J21: 4.95 | K21: =J21*I21 -> 0
C22: N018 | E22: 12.95 | F22: =E22*D22 -> 0 | H22: N042 | J22: 8.9 | K22: =J22*I22 -> 0
C23: N019 | E23: 10.95 | F23: =E23*D23 -> 0 | H23: N043 | J23: 15.8 | K23: =J23*I23 -> 0
C24: N020 | E24: 8.8 | F24: =E24*D24 -> 0 | H24: N044 | J24: 14.8 | K24: =J24*I24 -> 0
C25: N021 | E25: 10.8 | F25: =E25*D25 -> 0 | H25: N045 | J25: 6.6 | K25: =J25*I25 -> 0
C26: N022 | E26: 12.85 | F26: =E26*D26 -> 0 | H26: N046 | J26: 7.9 | K26: =J26*I26 -> 0
C27: N023 | D27: 2 | E27: 18.1 | F27: =E27*D27 -> 36.2 | H27: N047 | J27: 6.4 | K27: =J27*I27 -> 0
C28: N024 | E28: 23.9 | F28: =E28*D28 -> 0 | H28: N048 | J28: 0.4 | K28: =J28*I28 -> 0
F30: =SUM(F5:F29) -> 145.1 | K30: =SUM(K5:K29) -> 498.1
I32: Total commande | K32: =F30+K30 -> 643.2

Sheet Libre 1
B1: 2021
B3: Nom
B4: =MID(CELL("nomfichier",$G$4),FIND("]",CELL("nomfichier",$G$4))+1,32) -> Libre 1 | C4: Référence | D4: Quantité | E4: Prix l'unité | F4: Prix total | H4: Référence | I4: Quantité | J4: Prix l'unité | K4: Prix total
C5: N001 | E5: 10.9 | F5: =E5*D5 -> 0 | H5: N025 | I5: 14 | J5: 28.85 | K5: =J5*I5 -> 403.9
C6: N002 | E6: 5.9 | F6: =E6*D6 -> 0 | H6: N026 | I6: 3 | J6: 14.9 | K6: =J6*I6 -> 44.7
C7: N003 | D7: 2 | E7: 12.95 | F7: =E7*D7 -> 25.9 | H7: N027 | J7: 16.4 | K7: =J7*I7 -> 0
C8: N004 | D8: 3 | E8: 12.95 | F8: =E8*D8 -> 38.85 | H8: N028 | J8: 8.95 | K8: =J8*I8 -> 0
C9: N005 | E9: 9.9 | F9: =E9*D9 -> 0 | H9: N029 | J9: 18.95 | K9: =J9*I9 -> 0
C10: N006 | E10: 14.8 | F10: =E10*D10 -> 0 | H10: N030 | J10: 13.95 | K10: =J10*I10 -> 0
C11: N007 | E11: 5.3 | F11: =E11*D11 -> 0 | H11: N031 | I11: 5 | J11: 9.9 | K11: =J11*I11 -> 49.5
C12: N008 | E12: 5.5 | F12: =E12*D12 -> 0 | H12: N032 | J12: 10.9 | K12: =J12*I12 -> 0
C13: N009 | E13: 5 | F13: =E13*D13 -> 0 | H13: N033 | J13: 7.9 | K13: =J13*I13 -> 0
C14: N010 | E14: 4.95 | F14: =E14*D14 -> 0 | H14: N034 | J14: 10.4 | K14: =J14*I14 -> 0
C15: N011 | E15: 11.8 | F15: =E15*D15 -> 0 | H15: N035 | J15: 7.4 | K15: =J15*I15 -> 0
C16: N012 | E16: 10.8 | F16: =E16*D16 -> 0 | H16: N036 | J16: 9.9 | K16: =J16*I16 -> 0
C17: N013 | D17: 3 | E17: 9.95 | F17: =E17*D17 -> 29.85 | H17: N037 | J17: 10.95 | K17: =J17*I17 -> 0
C18: N014 | E18: 28.9 | F18: =E18*D18 -> 0 | H18: N038 | J18: 8.9 | K18: =J18*I18 -> 0
C19: N015 | E19: 19.5 | F19: =E19*D19 -> 0 | H19: N039 | J19: 12.4 | K19: =J19*I19 -> 0
C20: N016 | D20: 1 | E20: 14.3 | F20: =E20*D20 -> 14.3 | H20: N040 | J20: 4.95 | K20: =J20*I20 -> 0
C21: N017 | E21: 10.9 | F21: =E21*D21 -> 0 | H21: N041 | J21: 4.95 | K21: =J21*I21 -> 0
C22: N018 | E22: 12.95 | F22: =E22*D22 -> 0 | H22: N042 | J22: 8.9 | K22: =J22*I22 -> 0
C23: N019 | E23: 10.95 | F23: =E23*D23 -> 0 | H23: N043 | J23: 15.8 | K23: =J23*I23 -> 0
C24: N020 | E24: 8.8 | F24: =E24*D24 -> 0 | H24: N044 | J24: 14.8 | K24: =J24*I24 -> 0
C25: N021 | E25: 10.8 | F25: =E25*D25 -> 0 | H25: N045 | J25: 6.6 | K25: =J25*I25 -> 0
C26: N022 | E26: 12.85 | F26: =E26*D26 -> 0 | H26: N046 | J26: 7.9 | K26: =J26*I26 -> 0
C27: N023 | D27: 2 | E27: 18.1 | F27: =E27*D27 -> 36.2 | H27: N047 | J27: 6.4 | K27: =J27*I27 -> 0
C28: N024 | E28: 23.9 | F28: =E28*D28 -> 0 | H28: N048 | J28: 0.4 | K28: =J28*I28 -> 0
F30: =SUM(F5:F29) -> 145.1 | K30: =SUM(K5:K29) -> 498.1
I32: Total commande | K32: =F30+K30 -> 643.2

Sheet Libre 2
B1: 2021
B3: Nom
B4: =MID(CELL("nomfichier",$G$4),FIND("]",CELL("nomfichier",$G$4))+1,32) -> Libre 2 | C4: Référence | D4: Quantité | E4: Prix l'unité | F4: Prix total | H4: Référence | I4: Quantité | J4: Prix l'unité | K4: Prix total
C5: N001 | E5: 10.9 | F5: =E5*D5 -> 0 | H5: N025 | I5: 14 | J5: 28.85 | K5: =J5*I5 -> 403.9
C6: N002 | E6: 5.9 | F6: =E6*D6 -> 0 | H6: N026 | I6: 3 | J6: 14.9 | K6: =J6*I6 -> 44.7
C7: N003 | D7: 2 | E7: 12.95 | F7: =E7*D7 -> 25.9 | H7: N027 | J7: 16.4 | K7: =J7*I7 -> 0
C8: N004 | D8: 3 | E8: 12.95 | F8: =E8*D8 -> 38.85 | H8: N028 | J8: 8.95 | K8: =J8*I8 -> 0
C9: N005 | E9: 9.9 | F9: =E9*D9 -> 0 | H9: N029 | J9: 18.95 | K9: =J9*I9 -> 0
C10: N006 | E10: 14.8 | F10: =E10*D10 -> 0 | H10: N030 | J10: 13.95 | K10: =J10*I10 -> 0
C11: N007 | E11: 5.3 | F11: =E11*D11 -> 0 | H11: N031 | I11: 5 | J11: 9.9 | K11: =J11*I11 -> 49.5
C12: N008 | E12: 5.5 | F12: =E12*D12 -> 0 | H12: N032 | J12: 10.9 | K12: =J12*I12 -> 0
C13: N009 | E13: 5 | F13: =E13*D13 -> 0 | H13: N033 | J13: 7.9 | K13: =J13*I13 -> 0
C14: N010 | E14: 4.95 | F14: =E14*D14 -> 0 | H14: N034 | J14: 10.4 | K14: =J14*I14 -> 0
C15: N011 | E15: 11.8 | F15: =E15*D15 -> 0 | H15: N035 | J15: 7.4 | K15: =J15*I15 -> 0
C16: N012 | E16: 10.8 | F16: =E16*D16 -> 0 | H16: N036 | J16: 9.9 | K16: =J16*I16 -> 0
C17: N013 | D17: 3 | E17: 9.95 | F17: =E17*D17 -> 29.85 | H17: N037 | J17: 10.95 | K17: =J17*I17 -> 0
C18: N014 | E18: 28.9 | F18: =E18*D18 -> 0 | H18: N038 | J18: 8.9 | K18: =J18*I18 -> 0
C19: N015 | E19: 19.5 | F19: =E19*D19 -> 0 | H19: N039 | J19: 12.4 | K19: =J19*I19 -> 0
C20: N016 | D20: 1 | E20: 14.3 | F20: =E20*D20 -> 14.3 | H20: N040 | J20: 4.95 | K20: =J20*I20 -> 0
C21: N017 | E21: 10.9 | F21: =E21*D21 -> 0 | H21: N041 | J21: 4.95 | K21: =J21*I21 -> 0
C22: N018 | E22: 12.95 | F22: =E22*D22 -> 0 | H22: N042 | J22: 8.9 | K22: =J22*I22 -> 0
C23: N019 | E23: 10.95 | F23: =E23*D23 -> 0 | H23: N043 | J23: 15.8 | K23: =J23*I23 -> 0
C24: N020 | E24: 8.8 | F24: =E24*D24 -> 0 | H24: N044 | J24: 14.8 | K24: =J24*I24 -> 0
C25: N021 | E25: 10.8 | F25: =E25*D25 -> 0 | H25: N045 | J25: 6.6 | K25: =J25*I25 -> 0
C26: N022 | E26: 12.85 | F26: =E26*D26 -> 0 | H26: N046 | J26: 7.9 | K26: =J26*I26 -> 0
C27: N023 | D27: 2 | E27: 18.1 | F27: =E27*D27 -> 36.2 | H27: N047 | J27: 6.4 | K27: =J27*I27 -> 0
C28: N024 | E28: 23.9 | F28: =E28*D28 -> 0 | H28: N048 | J28: 0.4 | K28: =J28*I28 -> 0
F30: =SUM(F5:F29) -> 145.1 | K30: =SUM(K5:K29) -> 498.1
I32: Total commande | K32: =F30+K30 -> 643.2

Sheet Libre 3
B1: 2021
B3: Nom
B4: =MID(CELL("nomfichier",$G$4),FIND("]",CELL("nomfichier",$G$4))+1,32) -> Libre 3 | C4: Référence | D4: Quantité | E4: Prix l'unité | F4: Prix total | H4: Référence | I4: Quantité | J4: Prix l'unité | K4: Prix total
C5: N001 | E5: 10.9 | F5: =E5*D5 -> 0 | H5: N025 | I5: 14 | J5: 28.85 | K5: =J5*I5 -> 403.9
C6: N002 | E6: 5.9 | F6: =E6*D6 -> 0 | H6: N026 | I6: 3 | J6: 14.9 | K6: =J6*I6 -> 44.7
C7: N003 | D7: 2 | E7: 12.95 | F7: =E7*D7 -> 25.9 | H7: N027 | J7: 16.4 | K7: =J7*I7 -> 0
C8: N004 | D8: 3 | E8: 12.95 | F8: =E8*D8 -> 38.85 | H8: N028 | J8: 8.95 | K8: =J8*I8 -> 0
C9: N005 | E9: 9.9 | F9: =E9*D9 -> 0 | H9: N029 | J9: 18.95 | K9: =J9*I9 -> 0
C10: N006 | E10: 14.8 | F10: =E10*D10 -> 0 | H10: N030 | J10: 13.95 | K10: =J10*I10 -> 0
C11: N007 | E11: 5.3 | F11: =E11*D11 -> 0 | H11: N031 | I11: 5 | J11: 9.9 | K11: =J11*I11 -> 49.5
C12: N008 | E12: 5.5 | F12: =E12*D12 -> 0 | H12: N032 | J12: 10.9 | K12: =J12*I12 -> 0
C13: N009 | E13: 5 | F13: =E13*D13 -> 0 | H13: N033 | J13: 7.9 | K13: =J13*I13 -> 0
C14: N010 | E14: 4.95 | F14: =E14*D14 -> 0 | H14: N034 | J14: 10.4 | K14: =J14*I14 -> 0
C15: N011 | E15: 11.8 | F15: =E15*D15 -> 0 | H15: N035 | J15: 7.4 | K15: =J15*I15 -> 0
C16: N012 | E16: 10.8 | F16: =E16*D16 -> 0 | H16: N036 | J16: 9.9 | K16: =J16*I16 -> 0
C17: N013 | D17: 3 | E17: 9.95 | F17: =E17*D17 -> 29.85 | H17: N037 | J17: 10.95 | K17: =J17*I17 -> 0
C18: N014 | E18: 28.9 | F18: =E18*D18 -> 0 | H18: N038 | J18: 8.9 | K18: =J18*I18 -> 0
C19: N015 | E19: 19.5 | F19: =E19*D19 -> 0 | H19: N039 | J19: 12.4 | K19: =J19*I19 -> 0
C20: N016 | D20: 1 | E20: 14.3 | F20: =E20*D20 -> 14.3 | H20: N040 | J20: 4.95 | K20: =J20*I20 -> 0
C21: N017 | E21: 10.9 | F21: =E21*D21 -> 0 | H21: N041 | J21: 4.95 | K21: =J21*I21 -> 0
C22: N018 | E22: 12.95 | F22: =E22*D22 -> 0 | H22: N042 | J22: 8.9 | K22: =J22*I22 -> 0
C23: N019 | E23: 10.95 | F23: =E23*D23 -> 0 | H23: N043 | J23: 15.8 | K23: =J23*I23 -> 0
C24: N020 | E24: 8.8 | F24: =E24*D24 -> 0 | H24: N044 | J24: 14.8 | K24: =J24*I24 -> 0
C25: N021 | E25: 10.8 | F25: =E25*D25 -> 0 | H25: N045 | J25: 6.6 | K25: =J25*I25 -> 0
C26: N022 | E26: 12.85 | F26: =E26*D26 -> 0 | H26: N046 | J26: 7.9 | K26: =J26*I26 -> 0
C27: N023 | D27: 2 | E27: 18.1 | F27: =E27*D27 -> 36.2 | H27: N047 | J27: 6.4 | K27: =J27*I27 -> 0
C28: N024 | E28: 23.9 | F28: =E28*D28 -> 0 | H28: N048 | J28: 0.4 | K28: =J28*I28 -> 0
F30: =SUM(F5:F29) -> 145.1 | K30: =SUM(K5:K29) -> 498.1
I32: Total commande | K32: =F30+K30 -> 643.2

Sheet Libre 4
B1: 2021
B3: Nom
B4: =MID(CELL("nomfichier",$G$4),FIND("]",CELL("nomfichier",$G$4))+1,32) -> Libre 4 | C4: Référence | D4: Quantité | E4: Prix l'unité | F4: Prix total | H4: Référence | I4: Quantité | J4: Prix l'unité | K4: Prix total
C5: N001 | E5: 10.9 | F5: =E5*D5 -> 0 | H5: N025 | I5: 14 | J5: 28.85 | K5: =J5*I5 -> 403.9
C6: N002 | E6: 5.9 | F6: =E6*D6 -> 0 | H6: N026 | I6: 3 | J6: 14.9 | K6: =J6*I6 -> 44.7
C7: N003 | D7: 2 | E7: 12.95 | F7: =E7*D7 -> 25.9 | H7: N027 | J7: 16.4 | K7: =J7*I7 -> 0
C8: N004 | D8: 3 | E8: 12.95 | F8: =E8*D8 -> 38.85 | H8: N028 | J8: 8.95 | K8: =J8*I8 -> 0
C9: N005 | E9: 9.9 | F9: =E9*D9 -> 0 | H9: N029 | J9: 18.95 | K9: =J9*I9 -> 0
C10: N006 | E10: 14.8 | F10: =E10*D10 -> 0 | H10: N030 | J10: 13.95 | K10: =J10*I10 -> 0
C11: N007 | E11: 5.3 | F11: =E11*D11 -> 0 | H11: N031 | I11: 5 | J11: 9.9 | K11: =J11*I11 -> 49.5
C12: N008 | E12: 5.5 | F12: =E12*D12 -> 0 | H12: N032 | J12: 10.9 | K12: =J12*I12 -> 0
C13: N009 | E13: 5 | F13: =E13*D13 -> 0 | H13: N033 | J13: 7.9 | K13: =J13*I13 -> 0
C14: N010 | E14: 4.95 | F14: =E14*D14 -> 0 | H14: N034 | J14: 10.4 | K14: =J14*I14 -> 0
C15: N011 | E15: 11.8 | F15: =E15*D15 -> 0 | H15: N035 | J15: 7.4 | K15: =J15*I15 -> 0
C16: N012 | E16: 10.8 | F16: =E16*D16 -> 0 | H16: N036 | J16: 9.9 | K16: =J16*I16 -> 0
C17: N013 | D17: 3 | E17: 9.95 | F17: =E17*D17 -> 29.85 | H17: N037 | J17: 10.95 | K17: =J17*I17 -> 0
C18: N014 | E18: 28.9 | F18: =E18*D18 -> 0 | H18: N038 | J18: 8.9 | K18: =J18*I18 -> 0
C19: N015 | E19: 19.5 | F19: =E19*D19 -> 0 | H19: N039 | J19: 12.4 | K19: =J19*I19 -> 0
C20: N016 | D20: 1 | E20: 14.3 | F20: =E20*D20 -> 14.3 | H20: N040 | J20: 4.95 | K20: =J20*I20 -> 0
C21: N017 | E21: 10.9 | F21: =E21*D21 -> 0 | H21: N041 | J21: 4.95 | K21: =J21*I21 -> 0
C22: N018 | E22: 12.95 | F22: =E22*D22 -> 0 | H22: N042 | J22: 8.9 | K22: =J22*I22 -> 0
C23: N019 | E23: 10.95 | F23: =E23*D23 -> 0 | H23: N043 | J23: 15.8 | K23: =J23*I23 -> 0
C24: N020 | E24: 8.8 | F24: =E24*D24 -> 0 | H24: N044 | J24: 14.8 | K24: =J24*I24 -> 0
C25: N021 | E25: 10.8 | F25: =E25*D25 -> 0 | H25: N045 | J25: 6.6 | K25: =J25*I25 -> 0
C26: N022 | E26: 12.85 | F26: =E26*D26 -> 0 | H26: N046 | J26: 7.9 | K26: =J26*I26 -> 0
C27: N023 | D27: 2 | E27: 18.1 | F27: =E27*D27 -> 36.2 | H27: N047 | J27: 6.4 | K27: =J27*I27 -> 0
C28: N024 | E28: 23.9 | F28: =E28*D28 -> 0 | H28: N048 | J28: 0.4 | K28: =J28*I28 -> 0
F30: =SUM(F5:F29) -> 145.1 | K30: =SUM(K5:K29) -> 498.1
I32: Total commande | K32: =F30+K30 -> 643.2

Sheet Libre 5
B1: 2021
B3: Nom
B4: =MID(CELL("nomfichier",$G$4),FIND("]",CELL("nomfichier",$G$4))+1,32) -> Libre 5 | C4: Référence | D4: Quantité | E4: Prix l'unité | F4: Prix total | H4: Référence | I4: Quantité | J4: Prix l'unité | K4: Prix total
C5: N001 | E5: 10.9 | F5: =E5*D5 -> 0 | H5: N025 | I5: 14 | J5: 28.85 | K5: =J5*I5 -> 403.9
C6: N002 | E6: 5.9 | F6: =E6*D6 -> 0 | H6: N026 | I6: 3 | J6: 14.9 | K6: =J6*I6 -> 44.7
C7: N003 | D7: 2 | E7: 12.95 | F7: =E7*D7 -> 25.9 | H7: N027 | J7: 16.4 | K7: =J7*I7 -> 0
C8: N004 | D8: 3 | E8: 12.95 | F8: =E8*D8 -> 38.85 | H8: N028 | J8: 8.95 | K8: =J8*I8 -> 0
C9: N005 | E9: 9.9 | F9: =E9*D9 -> 0 | H9: N029 | J9: 18.95 | K9: =J9*I9 -> 0
C10: N006 | E10: 14.8 | F10: =E10*D10 -> 0 | H10: N030 | J10: 13.95 | K10: =J10*I10 -> 0
C11: N007 | E11: 5.3 | F11: =E11*D11 -> 0 | H11: N031 | I11: 5 | J11: 9.9 | K11: =J11*I11 -> 49.5
C12: N008 | E12: 5.5 | F12: =E12*D12 -> 0 | H12: N032 | J12: 10.9 | K12: =J12*I12 -> 0
C13: N009 | E13: 5 | F13: =E13*D13 -> 0 | H13: N033 | J13: 7.9 | K13: =J13*I13 -> 0
C14: N010 | E14: 4.95 | F14: =E14*D14 -> 0 | H14: N034 | J14: 10.4 | K14: =J14*I14 -> 0
C15: N011 | E15: 11.8 | F15: =E15*D15 -> 0 | H15: N035 | J15: 7.4 | K15: =J15*I15 -> 0
C16: N012 | E16: 10.8 | F16: =E16*D16 -> 0 | H16: N036 | J16: 9.9 | K16: =J16*I16 -> 0
C17: N013 | D17: 3 | E17: 9.95 | F17: =E17*D17 -> 29.85 | H17: N037 | J17: 10.95 | K17: =J17*I17 -> 0
C18: N014 | E18: 28.9 | F18: =E18*D18 -> 0 | H18: N038 | J18: 8.9 | K18: =J18*I18 -> 0
C19: N015 | E19: 19.5 | F19: =E19*D19 -> 0 | H19: N039 | J19: 12.4 | K19: =J19*I19 -> 0
C20: N016 | D20: 1 | E20: 14.3 | F20: =E20*D20 -> 14.3 | H20: N040 | J20: 4.95 | K20: =J20*I20 -> 0
C21: N017 | E21: 10.9 | F21: =E21*D21 -> 0 | H21: N041 | J21: 4.95 | K21: =J21*I21 -> 0
C22: N018 | E22: 12.95 | F22: =E22*D22 -> 0 | H22: N042 | J22: 8.9 | K22: =J22*I22 -> 0
C23: N019 | E23: 10.95 | F23: =E23*D23 -> 0 | H23: N043 | J23: 15.8 | K23: =J23*I23 -> 0
C24: N020 | E24: 8.8 | F24: =E24*D24 -> 0 | H24: N044 | J24: 14.8 | K24: =J24*I24 -> 0
C25: N021 | E25: 10.8 | F25: =E25*D25 -> 0 | H25: N045 | J25: 6.6 | K25: =J25*I25 -> 0
C26: N022 | E26: 12.85 | F26: =E26*D26 -> 0 | H26: N046 | J26: 7.9 | K26: =J26*I26 -> 0
C27: N023 | D27: 2 | E27: 18.1 | F27: =E27*D27 -> 36.2 | H27: N047 | J27: 6.4 | K27: =J27*I27 -> 0
C28: N024 | E28: 23.9 | F28: =E28*D28 -> 0 | H28: N048 | J28: 0.4 | K28: =J28*I28 -> 0
F30: =SUM(F5:F29) -> 145.1 | K30: =SUM(K5:K29) -> 498.1
I32: Total commande | K32: =F30+K30 -> 643.2

Sheet Libre 6
B1: 2021
B3: Nom
B4: =MID(CELL("nomfichier",$G$4),FIND("]",CELL("nomfichier",$G$4))+1,32) -> Libre 6 | C4: Référence | D4: Quantité | E4: Prix l'unité | F4: Prix total | H4: Référence | I4: Quantité | J4: Prix l'unité | K4: Prix total
C5: N001 | E5: 10.9 | F5: =E5*D5 -> 0 | H5: N025 | I5: 14 | J5: 28.85 | K5: =J5*I5 -> 403.9
C6: N002 | E6: 5.9 | F6: =E6*D6 -> 0 | H6: N026 | I6: 3 | J6: 14.9 | K6: =J6*I6 -> 44.7
C7: N003 | D7: 2 | E7: 12.95 | F7: =E7*D7 -> 25.9 | H7: N027 | J7: 16.4 | K7: =J7*I7 -> 0
C8: N004 | D8: 3 | E8: 12.95 | F8: =E8*D8 -> 38.85 | H8: N028 | J8: 8.95 | K8: =J8*I8 -> 0
C9: N005 | E9: 9.9 | F9: =E9*D9 -> 0 | H9: N029 | J9: 18.95 | K9: =J9*I9 -> 0
C10: N006 | E10: 14.8 | F10: =E10*D10 -> 0 | H10: N030 | J10: 13.95 | K10: =J10*I10 -> 0
C11: N007 | E11: 5.3 | F11: =E11*D11 -> 0 | H11: N031 | I11: 5 | J11: 9.9 | K11: =J11*I11 -> 49.5
C12: N008 | E12: 5.5 | F12: =E12*D12 -> 0 | H12: N032 | J12: 10.9 | K12: =J12*I12 -> 0
C13: N009 | E13: 5 | F13: =E13*D13 -> 0 | H13: N033 | J13: 7.9 | K13: =J13*I13 -> 0
C14: N010 | E14: 4.95 | F14: =E14*D14 -> 0 | H14: N034 | J14: 10.4 | K14: =J14*I14 -> 0
C15: N011 | E15: 11.8 | F15: =E15*D15 -> 0 | H15: N035 | J15: 7.4 | K15: =J15*I15 -> 0
C16: N012 | E16: 10.8 | F16: =E16*D16 -> 0 | H16: N036 | J16: 9.9 | K16: =J16*I16 -> 0
C17: N013 | D17: 3 | E17: 9.95 | F17: =E17*D17 -> 29.85 | H17: N037 | J17: 10.95 | K17: =J17*I17 -> 0
C18: N014 | E18: 28.9 | F18: =E18*D18 -> 0 | H18: N038 | J18: 8.9 | K18: =J18*I18 -> 0
C19: N015 | E19: 19.5 | F19: =E19*D19 -> 0 | H19: N039 | J19: 12.4 | K19: =J19*I19 -> 0
C20: N016 | D20: 1 | E20: 14.3 | F20: =E20*D20 -> 14.3 | H20: N040 | J20: 4.95 | K20: =J20*I20 -> 0
C21: N017 | E21: 10.9 | F21: =E21*D21 -> 0 | H21: N041 | J21: 4.95 | K21: =J21*I21 -> 0
C22: N018 | E22: 12.95 | F22: =E22*D22 -> 0 | H22: N042 | J22: 8.9 | K22: =J22*I22 -> 0
C23: N019 | E23: 10.95 | F23: =E23*D23 -> 0 | H23: N043 | J23: 15.8 | K23: =J23*I23 -> 0
C24: N020 | E24: 8.8 | F24: =E24*D24 -> 0 | H24: N044 | J24: 14.8 | K24: =J24*I24 -> 0
C25: N021 | E25: 10.8 | F25: =E25*D25 -> 0 | H25: N045 | J25: 6.6 | K25: =J25*I25 -> 0
C26: N022 | E26: 12.85 | F26: =E26*D26 -> 0 | H26: N046 | J26: 7.9 | K26: =J26*I26 -> 0
C27: N023 | D27: 2 | E27: 18.1 | F27: =E27*D27 -> 36.2 | H27: N047 | J27: 6.4 | K27: =J27*I27 -> 0
C28: N024 | E28: 23.9 | F28: =E28*D28 -> 0 | H28: N048 | J28: 0.4 | K28: =J28*I28 -> 0
F30: =SUM(F5:F29) -> 145.1 | K30: =SUM(K5:K29) -> 498.1
I32: Total commande | K32: =F30+K30 -> 643.2

Sheet Libre 7
B1: 2021
B3: Nom
B4: =MID(CELL("nomfichier",$G$4),FIND("]",CELL("nomfichier",$G$4))+1,32) -> Libre 7 | C4: Référence | D4: Quantité | E4: Prix l'unité | F4: Prix total | H4: Référence | I4: Quantité | J4: Prix l'unité | K4: Prix total
C5: N001 | E5: 10.9 | F5: =E5*D5 -> 0 | H5: N025 | I5: 14 | J5: 28.85 | K5: =J5*I5 -> 403.9
C6: N002 | E6: 5.9 | F6: =E6*D6 -> 0 | H6: N026 | I6: 3 | J6: 14.9 | K6: =J6*I6 -> 44.7
C7: N003 | D7: 2 | E7: 12.95 | F7: =E7*D7 -> 25.9 | H7: N027 | J7: 16.4 | K7: =J7*I7 -> 0
C8: N004 | D8: 3 | E8: 12.95 | F8: =E8*D8 -> 38.85 | H8: N028 | J8: 8.95 | K8: =J8*I8 -> 0
C9: N005 | E9: 9.9 | F9: =E9*D9 -> 0 | H9: N029 | J9: 18.95 | K9: =J9*I9 -> 0
C10: N006 | E10: 14.8 | F10: =E10*D10 -> 0 | H10: N030 | J10: 13.95 | K10: =J10*I10 -> 0
C11: N007 | E11: 5.3 | F11: =E11*D11 -> 0 | H11: N031 | I11: 5 | J11: 9.9 | K11: =J11*I11 -> 49.5
C12: N008 | E12: 5.5 | F12: =E12*D12 -> 0 | H12: N032 | J12: 10.9 | K12: =J12*I12 -> 0
C13: N009 | E13: 5 | F13: =E13*D13 -> 0 | H13: N033 | J13: 7.9 | K13: =J13*I13 -> 0
C14: N010 | E14: 4.95 | F14: =E14*D14 -> 0 | H14: N034 | J14: 10.4 | K14: =J14*I14 -> 0
C15: N011 | E15: 11.8 | F15: =E15*D15 -> 0 | H15: N035 | J15: 7.4 | K15: =J15*I15 -> 0
C16: N012 | E16: 10.8 | F16: =E16*D16 -> 0 | H16: N036 | J16: 9.9 | K16: =J16*I16 -> 0
C17: N013 | D17: 3 | E17: 9.95 | F17: =E17*D17 -> 29.85 | H17: N037 | J17: 10.95 | K17: =J17*I17 -> 0
C18: N014 | E18: 28.9 | F18: =E18*D18 -> 0 | H18: N038 | J18: 8.9 | K18: =J18*I18 -> 0
C19: N015 | E19: 19.5 | F19: =E19*D19 -> 0 | H19: N039 | J19: 12.4 | K19: =J19*I19 -> 0
C20: N016 | D20: 1 | E20: 14.3 | F20: =E20*D20 -> 14.3 | H20: N040 | J20: 4.95 | K20: =J20*I20 -> 0
C21: N017 | E21: 10.9 | F21: =E21*D21 -> 0 | H21: N041 | J21: 4.95 | K21: =J21*I21 -> 0
C22: N018 | E22: 12.95 | F22: =E22*D22 -> 0 | H22: N042 | J22: 8.9 | K22: =J22*I22 -> 0
C23: N019 | E23: 10.95 | F23: =E23*D23 -> 0 | H23: N043 | J23: 15.8 | K23: =J23*I23 -> 0
C24: N020 | E24: 8.8 | F24: =E24*D24 -> 0 | H24: N044 | J24: 14.8 | K24: =J24*I24 -> 0
C25: N021 | E25: 10.8 | F25: =E25*D25 -> 0 | H25: N045 | J25: 6.6 | K25: =J25*I25 -> 0
C26: N022 | E26: 12.85 | F26: =E26*D26 -> 0 | H26: N046 | J26: 7.9 | K26: =J26*I26 -> 0
C27: N023 | D27: 2 | E27: 18.1 | F27: =E27*D27 -> 36.2 | H27: N047 | J27: 6.4 | K27: =J27*I27 -> 0
C28: N024 | E28: 23.9 | F28: =E28*D28 -> 0 | H28: N048 | J28: 0.4 | K28: =J28*I28 -> 0
F30: =SUM(F5:F29) -> 145.1 | K30: =SUM(K5:K29) -> 498.1
I32: Total commande | K32: =F30+K30 -> 643.2
