Workbook

Sheet Coûts déplacements
C2: Coût déplacement SICK
B4: Dates d'intervention | C4: Client | D4: Lieu | E4: Département | F4: Distance A/R en Km | G4: Déplacement Train / avion | H4: Temps de déplacement en Heures | I4: Intervention semaine € / h | J4: Intervention nuit / samedi € /h | K4: Intervention dimanche / Fériés € / h | L4: Hôtel par nuitée | M4: Restauration par repas
B5: Barême 2013 HT | F5: 0.5 | H5: 10 | I5: 40 | J5: 60 | K5: 80 | L5: 100 | M5: 20 | N5: Total HT
B6: 2 au 4/07/2013 | C6: Cinetic | D6: Lovate Pozzolo | E6: Italie | F6: 880 | H6: 9 | I6: 13 | L6: 2 | M6: 4 | N6: =(F$5*F6)+(H$5*H6)+(I$5*I6)+(J$5*J6)+(K$5*K6)+(L$5*L6)+(M$5*M6) -> 1330
B7: 2 au 4/08/2013 | C7: Colipost | D7: Toulouse | E7: 31 | F7: 1150 | H7: 11 | I7: 0 | J7: 10 | K7: 8 | L7: 2 | M7: 5 | N7: =(F$5*F7)+(H$5*H7)+(I$5*I7)+(J$5*J7)+(K$5*K7)+(L$5*L7)+(M$5*M7) -> 2225
B8: 41373 | C8: Colipost | D8: Toulouse | E8: 31 | G8: 183.5 | H8: 8 | J8: 6 | M8: 0.5 | N8: =(F$5*F8)+(H$5*H8)+(I$5*I8)+(J$5*J8)+(K$5*K8)+(L$5*L8)+(M$5*M8)+G8 -> 633.5
B9: 41499 | C9: Alainé | D9: Mâcon | E9: 71 | F9: 150 | H9: 2 | I9: 6 | M9: 1 | N9: =(F$5*F9)+(H$5*H9)+(I$5*I9)+(J$5*J9)+(K$5*K9)+(L$5*L9)+(M$5*M9)+G9 -> 355
B10: 19 au 23/08/2013 | C10: Chronopost Corbas | D10: Corbas | E10: 69 | F10: 300 | H10: 5 | I10: 38 | J10: 3 | M10: 5 | N10: =(F$5*F10)+(H$5*H10)+(I$5*I10)+(J$5*J10)+(K$5*K10)+(L$5*L10)+(M$5*M10)+G10 -> 2000
B11: 26 au 30/08/2013 | C11: Chronopost Corbas | D11: Corbas | E11: 69 | F11: 360 | H11: 6 | I11: 41 | J11: 4 | M11: 6 | N11: =(F$5*F11)+(H$5*H11)+(I$5*I11)+(J$5*J11)+(K$5*K11)+(L$5*L11)+(M$5*M11)+G11 -> 2240
N12: =(F$5*F12)+(H$5*H12)+(I$5*I12)+(J$5*J12)+(K$5*K12)+(L$5*L12)+(M$5*M12)+G12 -> 0
N13: =(F$5*F13)+(H$5*H13)+(I$5*I13)+(J$5*J13)+(K$5*K13)+(L$5*L13)+(M$5*M13)+G13 -> 0
N14: =(F$5*F14)+(H$5*H14)+(I$5*I14)+(J$5*J14)+(K$5*K14)+(L$5*L14)+(M$5*M14)+G14 -> 0
N15: =(F$5*F15)+(H$5*H15)+(I$5*I15)+(J$5*J15)+(K$5*K15)+(L$5*L15)+(M$5*M15)+G15 -> 0
N16: =(F$5*F16)+(H$5*H16)+(I$5*I16)+(J$5*J16)+(K$5*K16)+(L$5*L16)+(M$5*M16)+G16 -> 0
N17: =(F$5*F17)+(H$5*H17)+(I$5*I17)+(J$5*J17)+(K$5*K17)+(L$5*L17)+(M$5*M17)+G17 -> 0
N18: =(F$5*F18)+(H$5*H18)+(I$5*I18)+(J$5*J18)+(K$5*K18)+(L$5*L18)+(M$5*M18)+G18 -> 0
N19: =(F$5*F19)+(H$5*H19)+(I$5*I19)+(J$5*J19)+(K$5*K19)+(L$5*L19)+(M$5*M19)+G19 -> 0
N20: =(F$5*F20)+(H$5*H20)+(I$5*I20)+(J$5*J20)+(K$5*K20)+(L$5*L20)+(M$5*M20)+G20 -> 0
N21: =(F$5*F21)+(H$5*H21)+(I$5*I21)+(J$5*J21)+(K$5*K21)+(L$5*L21)+(M$5*M21)+G21 -> 0
N22: =(F$5*F22)+(H$5*H22)+(I$5*I22)+(J$5*J22)+(K$5*K22)+(L$5*L22)+(M$5*M22)+G22 -> 0
N23: =(F$5*F23)+(H$5*H23)+(I$5*I23)+(J$5*J23)+(K$5*K23)+(L$5*L23)+(M$5*M23)+G23 -> 0
... N33: =(F$5*F33)+(H$5*H33)+(I$5*I33)+(J$5*J33)+(K$5*K33)+(L$5*L33)+(M$5*M33)+G33 -> 0

Sheet Base de Référence 
B2: 2021 | E2: DEVIS
B4: Client et lieu d'intervention
B6: SICK | E6: N° de Commande : | AG6: =AG18 -> 0
E8: N° de techniciens: | G8: 1
B10: Semaine | C10: 9 | E10: Matin | G10: Après-Midi | I10: Total heures par technicien | J10: Total Heures jour | K10: Coût | M10: nuit | O10: Total heures Nuit | P10: Coût | R10: Forfait repas par jour et par personne | S10: Coût | U10: Distance kilomètrique Aller / Retour | V10: Coût | X10: Temps déplacement Aller / Retour par personne | Y10: Coût | AA10: Forfait hôtel par personne | AB10: Coût | AD10: Autres: Parking, Achat fournitures | AE10: Coût | AG10: Total HT
B11: Lundi | C11: =VLOOKUP($C$10,' Base des Index'!A:H,2,0) -> 1 | I11: =((MOD(F11-E11,1)+MOD(H11-G11,1))*24) -> 0 | J11: =((MOD(F11-E11,1)+MOD(H11-G11,1))*$G$8)*24 -> 0 | K11: =IF(ISERROR(J11)*VLOOKUP($B$6,' Base des Index'!$L$1:$M$93,2,FALSE),"",(J11)*VLOOKUP($B$6,' Base des Index'!$L$1:$M$93,2,FALSE)) -> 0 | O11: =MOD(N11-M11,1) -> 0 | P11: =IF(ISERROR(O11*24)*90,"",(O11*24)*90) -> 0 | S11: =((R11*$G$8)*20) -> 0 | V11: =SUM(U11*0.6) -> 0 | Y11: =SUM(X11*$G$8)*20 -> 0 | AB11: =SUM(AA11*$G$8)*100 -> 0 | AE11: =AD11 -> 0
B12: Mardi | C12: =VLOOKUP($C$10,' Base des Index'!A:H,3,0) -> 2 | I12: =((MOD(F12-E12,1)+MOD(H12-G12,1))*24) -> 0 | J12: =((MOD(F12-E12,1)+MOD(H12-G12,1))*$G$8)*24 -> 0 | K12: =IF(ISERROR(J12)*VLOOKUP($B$6,' Base des Index'!$L$1:$M$93,2,FALSE),"",(J12)*VLOOKUP($B$6,' Base des Index'!$L$1:$M$93,2,FALSE)) -> 0 | O12: =MOD(N12-M12,1) -> 0 | P12: =IF(ISERROR(O12*24)*90,"",(O12*24)*90) -> 0 | S12: =((R12*$G$8)*20) -> 0 | V12: =SUM(U12*0.6) -> 0 | Y12: =SUM(X12*$G$8)*20 -> 0 | AB12: =SUM(AA12*$G$8)*100 -> 0 | AE12: =AD12 -> 0
B13: Mercredi | C13: =VLOOKUP($C$10,' Base des Index'!A:H,4,0) -> 3 | I13: =((MOD(F13-E13,1)+MOD(H13-G13,1))*24) -> 0 | J13: =((MOD(F13-E13,1)+MOD(H13-G13,1))*$G$8)*24 -> 0 | K13: =IF(ISERROR(J13)*VLOOKUP($B$6,' Base des Index'!$L$1:$M$93,2,FALSE),"",(J13)*VLOOKUP($B$6,' Base des Index'!$L$1:$M$93,2,FALSE)) -> 0 | O13: =MOD(N13-M13,1) -> 0 | P13: =IF(ISERROR(O13*24)*90,"",(O13*24)*90) -> 0 | S13: =((R13*$G$8)*20) -> 0 | V13: =SUM(U13*0.6) -> 0 | Y13: =SUM(X13*$G$8)*20 -> 0 | AB13: =SUM(AA13*$G$8)*100 -> 0 | AE13: =AD13 -> 0
B14: Jeudi | C14: =VLOOKUP($C$10,' Base des Index'!A:H,5,0) -> 4 | I14: =((MOD(F14-E14,1)+MOD(H14-G14,1))*24) -> 0 | J14: =((MOD(F14-E14,1)+MOD(H14-G14,1))*$G$8)*24 -> 0 | K14: =IF(ISERROR(J14)*VLOOKUP($B$6,' Base des Index'!$L$1:$M$93,2,FALSE),"",(J14)*VLOOKUP($B$6,' Base des Index'!$L$1:$M$93,2,FALSE)) -> 0 | O14: =MOD(N14-M14,1) -> 0 | P14: =IF(ISERROR(O14*24)*90,"",(O14*24)*90) -> 0 | S14: =((R14*$G$8)*20) -> 0 | V14: =SUM(U14*0.6) -> 0 | Y14: =SUM(X14*$G$8)*20 -> 0 | AB14: =SUM(AA14*$G$8)*100 -> 0 | AE14: =AD14 -> 0
B15: Vendredi | C15: =VLOOKUP($C$10,' Base des Index'!A:H,6,0) -> 5 | I15: =((MOD(F15-E15,1)+MOD(H15-G15,1))*24) -> 0 | J15: =((MOD(F15-E15,1)+MOD(H15-G15,1))*$G$8)*24 -> 0 | K15: =IF(ISERROR(J15)*VLOOKUP($B$6,' Base des Index'!$L$1:$M$93,2,FALSE),"",(J15)*VLOOKUP($B$6,' Base des Index'!$L$1:$M$93,2,FALSE)) -> 0 | O15: =MOD(N15-M15,1) -> 0 | P15: =IF(ISERROR(O15*24)*90,"",(O15*24)*90) -> 0 | S15: =((R15*$G$8)*20) -> 0 | V15: =SUM(U15*0.6) -> 0 | Y15: =SUM(X15*$G$8)*20 -> 0 | AB15: =SUM(AA15*$G$8)*100 -> 0 | AE15: =AD15 -> 0
B16: Samedi | C16: =VLOOKUP($C$10,' Base des Index'!A:H,7,0) -> 6 | I16: =((MOD(F16-E16,1)+MOD(H16-G16,1))*24) -> 0 | J16: =((MOD(F16-E16,1)+MOD(H16-G16,1))*$G$8)*24 -> 0 | K16: =IF(ISERROR(J16)*VLOOKUP($B$6,' Base des Index'!$L$1:$M$93,2,FALSE),"",(J16)*VLOOKUP($B$6,' Base des Index'!$L$1:$M$93,2,FALSE)) -> 0 | O16: =MOD(N16-M16,1) -> 0 | P16: =IF(ISERROR(O16*24)*90,"",(O16*24)*90) -> 0 | S16: =((R16*$G$8)*20) -> 0 | V16: =SUM(U16*0.6) -> 0 | Y16: =SUM(X16*$G$8)*20 -> 0 | AB16: =SUM(AA16*$G$8)*100 -> 0 | AE16: =AD16 -> 0
B17: Dimanche | C17: =VLOOKUP($C$10,' Base des Index'!A:H,8,0) -> 7 | I17: =((MOD(F17-E17,1)+MOD(H17-G17,1))*24) -> 0 | J17: =((MOD(F17-E17,1)+MOD(H17-G17,1))*$G$8)*24 -> 0 | K17: =IF(ISERROR(J17)*VLOOKUP($B$6,' Base des Index'!$L$1:$M$93,2,FALSE),"",(J17)*VLOOKUP($B$6,' Base des Index'!$L$1:$M$93,2,FALSE)) -> 0 | O17: =MOD(N17-M17,1) -> 0 | P17: =IF(ISERROR(O17*24)*90,"",(O17*24)*90) -> 0 | S17: =((R17*$G$8)*20) -> 0 | V17: =SUM(U17*0.6) -> 0 | Y17: =SUM(X17*$G$8)*20 -> 0 | AB17: =SUM(AA17*$G$8)*100 -> 0 | AE17: =AD17 -> 0
B18: Total semaine | I18: =SUM(I11:I17) -> 0 | J18: =SUM(J11:J17) -> 0 | K18: =SUM(K11:K17) -> 0 | O18: =SUM(O11:O17) -> 0 | P18: =SUM(P11:P17) -> 0 | R18: =SUM(R11:R17) -> 0 | S18: =SUM(S11:S17) -> 0 | U18: =SUM(U11:U17) -> 0 | V18: =SUM(V11:V17) -> 0 | X18: =SUM(X12:X17) -> 0 | Y18: =SUM(Y11:Y17) -> 0 | AA18: =SUM(AA11:AA17) -> 0 | AB18: =SUM(AB11:AB17) -> 0 | AD18: =SUM(AD11:AD17) -> 0 | AE18: =SUM(AE11:AE17) -> 0 | AG18: =SUM(K18+S18+Y18+V18+P18+AE18) -> 0

Sheet  Base des Index
B1: LUNDI | C1: MARDI | D1: MERCREDI | E1: JEUDI | F1: VENDREDI | G1: SAMEDI | H1: DIMANCHE | J1: 0.25 | L1: SICK | M1: 50 | N1: 70 | O1: 90 | P1: 1 | Q1: DEVIS
A2: 1 | B2: 4 | C2: 5 | D2: 6 | E2: 7 | F2: 8 | G2: 9 | H2: 10 | J2: 0.26041667 | L2: AVN | M2: 80 | N2: 100 | O2: 120 | P2: 2 | Q2: A FACTURER
A3: 2 | B3: 11 | C3: 12 | D3: 13 | E3: 14 | F3: 15 | G3: 16 | H3: 17 | J3: 0.27083333 | L3: HENRI REIGNIR | M3: 30 | N3: 45 | O3: 60 | P3: 3
A4: 3 | B4: 18 | C4: 19 | D4: 20 | E4: 21 | F4: 22 | G4: 23 | H4: 24 | J4: 0.28125 | L4: CLA | M4: 30 | N4: 45 | O4: 60 | P4: 4
A5: 4 | B5: 25 | C5: 26 | D5: 27 | E5: 28 | F5: 29 | G5: 30 | H5: 31 | J5: 0.29166667 | L5: BF INDUSTRIES | M5: 30 | N5: 45 | O5: 60 | P5: 5
A6: 5 | B6: 1 | C6: 2 | D6: 3 | E6: 4 | F6: 5 | G6: 6 | H6: 7 | J6: 0.30208333
A7: 6 | B7: 8 | C7: 9 | D7: 10 | E7: 11 | F7: 12 | G7: 13 | H7: 14 | J7: 0.3125
A8: 7 | B8: 15 | C8: 16 | D8: 17 | E8: 18 | F8: 19 | G8: 20 | H8: 21 | J8: 0.32291667
A9: 8 | B9: 22 | C9: 23 | D9: 24 | E9: 25 | F9: 26 | G9: 27 | H9: 28 | J9: 0.33333333
A10: 9 | B10: 1 | C10: 2 | D10: 3 | E10: 4 | F10: 5 | G10: 6 | H10: 7 | J10: 0.34375
A11: 10 | B11: 8 | C11: 9 | D11: 10 | E11: 11 | F11: 12 | G11: 13 | H11: 14 | J11: 0.35416667
A12: 11 | B12: 15 | C12: 16 | D12: 17 | E12: 18 | F12: 19 | G12: 20 | H12: 21 | J12: 0.36458333
A13: 12 | B13: 22 | C13: 23 | D13: 24 | E13: 25 | F13: 26 | G13: 27 | H13: 28 | J13: 0.375
A14: 13 | B14: 29 | C14: 30 | D14: 31 | E14: 1 | F14: 2 | G14: 3 | H14: 4 | J14: 0.38541667
A15: 14 | B15: 5 | C15: 6 | D15: 7 | E15: 8 | F15: 9 | G15: 10 | H15: 11 | J15: 0.39583333
A16: 15 | B16: 12 | C16: 13 | D16: 14 | E16: 15 | F16: 16 | G16: 17 | H16: 18 | J16: 0.40625
A17: 16 | B17: 19 | C17: 20 | D17: 21 | E17: 22 | F17: 23 | G17: 24 | H17: 25 | J17: 0.41666667
... A53: 52 | B53: 27 | C53: 28 | D53: 29 | E53: 30 | F53: 31 | G53: 1 | H53: 2 | J53: 0.79166667
J54: 0.80208333
J55: 0.8125
J56: 0.82291667
J57: 0.83333333
J58: 0.84375
J59: 0.85416667
J60: 0.86458333
J61: 0.875
J62: 0.88541667
J63: 0.89583333
J64: 0.90625
J65: 0.91666667
... J93: 0.25

Sheet Client Toto
B2: 2021 | E2: A FACTURER
B4: Client et lieu d'intervention | G4: Client Toto
B6: SICK | E6: N° de Commande : | AH6: =AH18 -> 2745.2
E8: N° de techniciens: | G8: 2
B10: Semaine | C10: 28 | E10: Matin | G10: Après-Midi | I10: Total heures par technicien | J10: Total Heures jour | K10: Coût | M10: nuit | O10: Total heures Nuit | P10: Total Heures nuit | Q10: Coût | S10: Forfait repas par jour et par personne | T10: Coût | V10: Distance kilomètrique Aller / Retour | W10: Coût | Y10: Temps déplacement Aller / Retour par personne | Z10: Coût | AB10: Forfait hôtel par personne | AC10: Coût | AE10: Autres: Parking, Achat fournitures | AF10: Coût | AH10: Total HT
B11: Lundi | C11: =VLOOKUP($C$10,' Base des Index'!A:H,2,0) -> 12 | I11: =((MOD(F11-E11,1)+MOD(H11-G11,1))*24) -> 0 | J11: =((MOD(F11-E11,1)+MOD(H11-G11,1))*$G$8)*24 -> 0 | K11: =IF(ISERROR(J11)*VLOOKUP($B$6,' Base des Index'!$L$1:$M$93,2,FALSE),"",(J11)*VLOOKUP($B$6,' Base des Index'!$L$1:$M$93,2,FALSE)) -> 0 | O11: =MOD(N11-M11,1) -> 0 | P11: =O11*$G$8 -> 0 | Q11: =IF(ISERROR(P11*24)*90,"",(P11*24)*90) -> 0 | T11: =((S11*$G$8)*20) -> 0 | W11: =SUM(V11*0.6) -> 0 | Z11: =SUM(Y11*$G$8)*20 -> 0 | AC11: =SUM(AB11*$G$8)*100 -> 0 | AF11: =AE11 -> 0
B12: Mardi | C12: =VLOOKUP($C$10,' Base des Index'!A:H,3,0) -> 13 | I12: =((MOD(F12-E12,1)+MOD(H12-G12,1))*24) -> 0 | J12: =((MOD(F12-E12,1)+MOD(H12-G12,1))*$G$8)*24 -> 0 | K12: =IF(ISERROR(J12)*VLOOKUP($B$6,' Base des Index'!$L$1:$M$93,2,FALSE),"",(J12)*VLOOKUP($B$6,' Base des Index'!$L$1:$M$93,2,FALSE)) -> 0 | O12: =MOD(N12-M12,1) -> 0 | P12: =O12*$G$8 -> 0 | Q12: =IF(ISERROR(P12*24)*90,"",(P12*24)*90) -> 0 | T12: =((S12*$G$8)*20) -> 0 | W12: =SUM(V12*0.6) -> 0 | Z12: =SUM(Y12*$G$8)*20 -> 0 | AC12: =SUM(AB12*$G$8)*100 -> 0 | AF12: =AE12 -> 0
B13: Mercredi | C13: =VLOOKUP($C$10,' Base des Index'!A:H,4,0) -> 14 | I13: =((MOD(F13-E13,1)+MOD(H13-G13,1))*24) -> 0 | J13: =((MOD(F13-E13,1)+MOD(H13-G13,1))*$G$8)*24 -> 0 | K13: =IF(ISERROR(J13)*VLOOKUP($B$6,' Base des Index'!$L$1:$M$93,2,FALSE),"",(J13)*VLOOKUP($B$6,' Base des Index'!$L$1:$M$93,2,FALSE)) -> 0 | O13: =MOD(N13-M13,1) -> 0 | P13: =O13*$G$8 -> 0 | Q13: =IF(ISERROR(P13*24)*90,"",(P13*24)*90) -> 0 | T13: =((S13*$G$8)*20) -> 0 | W13: =SUM(V13*0.6) -> 0 | Z13: =SUM(Y13*$G$8)*20 -> 0 | AC13: =SUM(AB13*$G$8)*100 -> 0 | AF13: =AE13 -> 0
B14: Jeudi | C14: =VLOOKUP($C$10,' Base des Index'!A:H,5,0) -> 15 | I14: =((MOD(F14-E14,1)+MOD(H14-G14,1))*24) -> 0 | J14: =((MOD(F14-E14,1)+MOD(H14-G14,1))*$G$8)*24 -> 0 | K14: =IF(ISERROR(J14)*VLOOKUP($B$6,' Base des Index'!$L$1:$M$93,2,FALSE),"",(J14)*VLOOKUP($B$6,' Base des Index'!$L$1:$M$93,2,FALSE)) -> 0 | O14: =MOD(N14-M14,1) -> 0 | P14: =O14*$G$8 -> 0 | Q14: =IF(ISERROR(P14*24)*90,"",(P14*24)*90) -> 0 | T14: =((S14*$G$8)*20) -> 0 | W14: =SUM(V14*0.6) -> 0 | Z14: =SUM(Y14*$G$8)*20 -> 0 | AC14: =SUM(AB14*$G$8)*100 -> 0 | AF14: =AE14 -> 0
B15: Vendredi | C15: =VLOOKUP($C$10,' Base des Index'!A:H,6,0) -> 16 | I15: =((MOD(F15-E15,1)+MOD(H15-G15,1))*24) -> 0 | J15: =((MOD(F15-E15,1)+MOD(H15-G15,1))*$G$8)*24 -> 0 | K15: =IF(ISERROR(J15)*VLOOKUP($B$6,' Base des Index'!$L$1:$M$93,2,FALSE),"",(J15)*VLOOKUP($B$6,' Base des Index'!$L$1:$M$93,2,FALSE)) -> 0 | O15: =MOD(N15-M15,1) -> 0 | P15: =O15*$G$8 -> 0 | Q15: =IF(ISERROR(P15*24)*90,"",(P15*24)*90) -> 0 | S15: 1 | T15: =((S15*$G$8)*20) -> 40 | V15: 521 | W15: =SUM(V15*0.6) -> 312.6 | Y15: 5 | Z15: =SUM(Y15*$G$8)*20 -> 200 | AB15: 1 | AC15: =SUM(AB15*$G$8)*100 -> 200 | AF15: =AE15 -> 0
B16: Samedi | C16: =VLOOKUP($C$10,' Base des Index'!A:H,7,0) -> 17 | E16: 0.27083333 | F16: 0.5 | G16: 0.5625 | H16: 0.79166667 | I16: =((MOD(F16-E16,1)+MOD(H16-G16,1))*24) -> 11 | J16: =((MOD(F16-E16,1)+MOD(H16-G16,1))*$G$8)*24 -> 22 | K16: =IF(ISERROR(J16)*VLOOKUP($B$6,' Base des Index'!$L$1:$M$93,2,FALSE),"",(J16)*VLOOKUP($B$6,' Base des Index'!$L$1:$M$93,2,FALSE)) -> 1100 | O16: =MOD(N16-M16,1) -> 0 | P16: =O16*$G$8 -> 0 | Q16: =IF(ISERROR(P16*24)*90,"",(P16*24)*90) -> 0 | S16: 1 | T16: =((S16*$G$8)*20) -> 40 | W16: =SUM(V16*0.6) -> 0 | Z16: =SUM(Y16*$G$8)*20 -> 0 | AB16: 1 | AC16: =SUM(AB16*$G$8)*100 -> 200 | AF16: =AE16 -> 0
B17: Dimanche | C17: =VLOOKUP($C$10,' Base des Index'!A:H,8,0) -> 18 | E17: 0.39583333 | F17: 0.5 | G17: 0.5625 | H17: 0.66666667 | I17: =((MOD(F17-E17,1)+MOD(H17-G17,1))*24) -> 5 | J17: =((MOD(F17-E17,1)+MOD(H17-G17,1))*$G$8)*24 -> 10 | K17: =IF(ISERROR(J17)*VLOOKUP($B$6,' Base des Index'!$L$1:$M$93,2,FALSE),"",(J17)*VLOOKUP($B$6,' Base des Index'!$L$1:$M$93,2,FALSE)) -> 500 | O17: =MOD(N17-M17,1) -> 0 | P17: =O17*$G$8 -> 0 | Q17: =IF(ISERROR(P17*24)*90,"",(P17*24)*90) -> 0 | S17: 1 | T17: =((S17*$G$8)*20) -> 40 | V17: 521 | W17: =SUM(V17*0.6) -> 312.6 | Y17: 5 | Z17: =SUM(Y17*$G$8)*20 -> 200 | AC17: =SUM(AB17*$G$8)*100 -> 0 | AF17: =AE17 -> 0
B18: Total semaine | I18: =SUM(I11:I17) -> 16 | J18: =SUM(J11:J17) -> 32 | K18: =SUM(K11:K17) -> 1600 | O18: =SUM(O11:O17) -> 0 | Q18: =SUM(Q11:Q17) -> 0 | S18: =SUM(S11:S17) -> 3 | T18: =SUM(T11:T17) -> 120 | V18: =SUM(V11:V17) -> 1042 | W18: =SUM(W11:W17) -> 625.2 | Y18: =SUM(Y11:Y17) -> 10 | Z18: =SUM(Z11:Z17) -> 400 | AB18: =SUM(AB11:AB17) -> 2 | AC18: =SUM(AC11:AC17) -> 400 | AE18: =SUM(AE11:AE17) -> 0 | AF18: =SUM(AF11:AF17) -> 0 | AH18: =SUM(K18+T18+Z18+W18+Q18+AF18) -> 2745.2
