Workbook

Sheet Coûts déplacements
C2: Coût déplacement SICK
B4: Dates d'intervention | C4: Client | D4: Lieu | E4: Département | F4: Distance A/R en Km | G4: Déplacement Train / avion | H4: Temps de déplacement en Heures | I4: Intervention semaine € / h | J4: Intervention nuit / samedi € /h | K4: Intervention dimanche / Fériés € / h | L4: Hôtel par nuitée | M4: Restauration par repas
B5: Barême 2013 HT | F5: 0.5 | H5: 10 | I5: 40 | J5: 60 | K5: 80 | L5: 100 | M5: 20 | N5: Total HT
B6: 2 au 4/07/2013 | C6: Cinetic | D6: Lovate Pozzolo | E6: Italie | F6: 880 | H6: 9 | I6: 13 | L6: 2 | M6: 4 | N6: =(F$5*F6)+(H$5*H6)+(I$5*I6)+(J$5*J6)+(K$5*K6)+(L$5*L6)+(M$5*M6) -> 1330
B7: 2 au 4/08/2013 | C7: Colipost | D7: Toulouse | E7: 31 | F7: 1150 | H7: 11 | I7: 0 | J7: 10 | K7: 8 | L7: 2 | M7: 5 | N7: =(F$5*F7)+(H$5*H7)+(I$5*I7)+(J$5*J7)+(K$5*K7)+(L$5*L7)+(M$5*M7) -> 2225
B8: 41373 | C8: Colipost | D8: Toulouse | E8: 31 | G8: 183.5 | H8: 8 | J8: 6 | M8: 0.5 | N8: =(F$5*F8)+(H$5*H8)+(I$5*I8)+(J$5*J8)+(K$5*K8)+(L$5*L8)+(M$5*M8)+G8 -> 633.5
B9: 41499 | C9: Alainé | D9: Mâcon | E9: 71 | F9: 150 | H9: 2 | I9: 6 | M9: 1 | N9: =(F$5*F9)+(H$5*H9)+(I$5*I9)+(J$5*J9)+(K$5*K9)+(L$5*L9)+(M$5*M9)+G9 -> 355
B10: 19 au 23/08/2013 | C10: Chronopost Corbas | D10: Corbas | E10: 69 | F10: 300 | H10: 5 | I10: 38 | J10: 3 | M10: 5 | N10: =(F$5*F10)+(H$5*H10)+(I$5*I10)+(J$5*J10)+(K$5*K10)+(L$5*L10)+(M$5*M10)+G10 -> 2000
B11: 26 au 30/08/2013 | C11: Chronopost Corbas | D11: Corbas | E11: 69 | F11: 360 | H11: 6 | I11: 41 | J11: 4 | M11: 6 | N11: =(F$5*F11)+(H$5*H11)+(I$5*I11)+(J$5*J11)+(K$5*K11)+(L$5*L11)+(M$5*M11)+G11 -> 2240
N12: =(F$5*F12)+(H$5*H12)+(I$5*I12)+(J$5*J12)+(K$5*K12)+(L$5*L12)+(M$5*M12)+G12 -> 0
N13: =(F$5*F13)+(H$5*H13)+(I$5*I13)+(J$5*J13)+(K$5*K13)+(L$5*L13)+(M$5*M13)+G13 -> 0
N14: =(F$5*F14)+(H$5*H14)+(I$5*I14)+(J$5*J14)+(K$5*K14)+(L$5*L14)+(M$5*M14)+G14 -> 0
N15: =(F$5*F15)+(H$5*H15)+(I$5*I15)+(J$5*J15)+(K$5*K15)+(L$5*L15)+(M$5*M15)+G15 -> 0
N16: =(F$5*F16)+(H$5*H16)+(I$5*I16)+(J$5*J16)+(K$5*K16)+(L$5*L16)+(M$5*M16)+G16 -> 0
N17: =(F$5*F17)+(H$5*H17)+(I$5*I17)+(J$5*J17)+(K$5*K17)+(L$5*L17)+(M$5*M17)+G17 -> 0
N18: =(F$5*F18)+(H$5*H18)+(I$5*I18)+(J$5*J18)+(K$5*K18)+(L$5*L18)+(M$5*M18)+G18 -> 0
N19: =(F$5*F19)+(H$5*H19)+(I$5*I19)+(J$5*J19)+(K$5*K19)+(L$5*L19)+(M$5*M19)+G19 -> 0
N20: =(F$5*F20)+(H$5*H20)+(I$5*I20)+(J$5*J20)+(K$5*K20)+(L$5*L20)+(M$5*M20)+G20 -> 0
N21: =(F$5*F21)+(H$5*H21)+(I$5*I21)+(J$5*J21)+(K$5*K21)+(L$5*L21)+(M$5*M21)+G21 -> 0
N22: =(F$5*F22)+(H$5*H22)+(I$5*I22)+(J$5*J22)+(K$5*K22)+(L$5*L22)+(M$5*M22)+G22 -> 0
N23: =(F$5*F23)+(H$5*H23)+(I$5*I23)+(J$5*J23)+(K$5*K23)+(L$5*L23)+(M$5*M23)+G23 -> 0
... N33: =(F$5*F33)+(H$5*H33)+(I$5*I33)+(J$5*J33)+(K$5*K33)+(L$5*L33)+(M$5*M33)+G33 -> 0

Sheet Base travail
B2: 2021
B4: Lieu d'intervention | E4: Client
E6: N° de Commande : | AC6: =AC16 -> 600
B8: Semaine | C8: 1 | E8: Matin | G8: Après-Midi | I8: Total Heures jour | J8: Coût | L8: nuit | N8: Total heures Nuit | O8: Coût | Q8: Forfait repas | R8: Coût | T8: Distance kilomètrique Aller / Retour | U8: Coût | W8: Temps déplacement Aller / Retour | X8: Coût | Z8: Forfait hôtel | AA8: Coût | AC8: Total HT
B9: Lundi | C9: =VLOOKUP($C$8,' Base index'!A:H,2,0) -> 4 | E9: 0.25 | F9: 0.52083333 | G9: 0.5625 | H9: 0.79166667 | I9: =MOD(F9-E9,1)+MOD(H9-G9,1) -> 0.5 | J9: =IF(ISERROR(I9*24)*50,"",(I9*24)*50) -> 600 | N9: =MOD(M9-L9,1) -> 0 | O9: =IF(ISERROR(N9*24)*90,"",(N9*24)*90) -> 0 | R9: =Q9*20 -> 0 | U9: =SUM(T9*0.6) -> 0 | X9: =SUM(W9*20) -> 0 | AA9: =SUM(Z9*100) -> 0
B10: Mardi | C10: =VLOOKUP($C$8,' Base index'!A:H,3,0) -> 5 | I10: =MOD(F10-E10,1)+MOD(H10-G10,1) -> 0 | J10: =IF(ISERROR(I10*24)*50,"",(I10*24)*50) -> 0 | N10: =MOD(M10-L10,1) -> 0 | O10: =IF(ISERROR(N10*24)*90,"",(N10*24)*90) -> 0 | R10: =Q10*20 -> 0 | U10: =SUM(T10*0.6) -> 0 | X10: =SUM(W10*20) -> 0 | AA10: =SUM(Z10*100) -> 0
B11: Mercredi | C11: =VLOOKUP($C$8,' Base index'!A:H,4,0) -> 6 | I11: =MOD(F11-E11,1)+MOD(H11-G11,1) -> 0 | J11: =IF(ISERROR(I11*24)*50,"",(I11*24)*50) -> 0 | N11: =MOD(M11-L11,1) -> 0 | O11: =IF(ISERROR(N11*24)*90,"",(N11*24)*90) -> 0 | R11: =Q11*20 -> 0 | U11: =SUM(T11*0.6) -> 0 | X11: =SUM(W11*20) -> 0 | AA11: =SUM(Z11*100) -> 0
B12: Jeudi | C12: =VLOOKUP($C$8,' Base index'!A:H,5,0) -> 7 | I12: =MOD(F12-E12,1)+MOD(H12-G12,1) -> 0 | J12: =IF(ISERROR(I12*24)*50,"",(I12*24)*50) -> 0 | N12: =MOD(M12-L12,1) -> 0 | O12: =IF(ISERROR(N12*24)*90,"",(N12*24)*90) -> 0 | R12: =Q12*20 -> 0 | U12: =SUM(T12*0.6) -> 0 | X12: =SUM(W12*20) -> 0 | AA12: =SUM(Z12*100) -> 0
B13: Vendredi | C13: =VLOOKUP($C$8,' Base index'!A:H,6,0) -> 8 | I13: =MOD(F13-E13,1)+MOD(H13-G13,1) -> 0 | J13: =IF(ISERROR(I13*24)*50,"",(I13*24)*50) -> 0 | N13: =MOD(M13-L13,1) -> 0 | O13: =IF(ISERROR(N13*24)*90,"",(N13*24)*90) -> 0 | R13: =Q13*20 -> 0 | U13: =SUM(T13*0.6) -> 0 | X13: =SUM(W13*20) -> 0 | AA13: =SUM(Z13*100) -> 0
B14: Samedi | C14: =VLOOKUP($C$8,' Base index'!A:H,7,0) -> 9 | I14: =MOD(F14-E14,1)+MOD(H14-G14,1) -> 0 | J14: =IF(ISERROR(I14*24)*70,"",(I14*24)*70) -> 0 | N14: =MOD(M14-L14,1) -> 0 | O14: =IF(ISERROR(N14*24)*90,"",(N14*24)*90) -> 0 | R14: =Q14*20 -> 0 | U14: =SUM(T14*0.6) -> 0 | X14: =SUM(W14*20) -> 0 | AA14: =SUM(Z14*100) -> 0
B15: Dimanche | C15: =VLOOKUP($C$8,' Base index'!A:H,8,0) -> 10 | I15: =MOD(F15-E15,1)+MOD(H15-G15,1) -> 0 | J15: =IF(ISERROR(I15*24)*90,"",(I15*24)*90) -> 0 | N15: =MOD(M15-L15,1) -> 0 | O15: =IF(ISERROR(N15*24)*90,"",(N15*24)*90) -> 0 | R15: =Q15*20 -> 0 | U15: =SUM(T15*0.6) -> 0 | X15: =SUM(W15*20) -> 0 | AA15: =SUM(Z15*100) -> 0
B16: Total semaine | I16: =SUM(I9:I15) -> 0.5 | J16: =SUM(J9:J15) -> 600 | N16: =SUM(N9:N15) -> 0 | O16: =SUM(O9:O15) -> 0 | Q16: =SUM(Q9:Q15) -> 0 | R16: =SUM(R9:R15) -> 0 | T16: =SUM(T9:T15) -> 0 | U16: =SUM(U9:U15) -> 0 | W16: =SUM(W10:W15) -> 0 | X16: =SUM(X9:X15) -> 0 | Z16: =SUM(Z9:Z15) -> 0 | AA16: =SUM(AA9:AA15) -> 0 | AC16: =SUM(J16+R16+X16+U16+O16+AA16) -> 600

Sheet  Base index
B1: LUNDI | C1: MARDI | D1: MERCREDI | E1: JEUDI | F1: VENDREDI | G1: SAMEDI | H1: DIMANCHE | J1: 0.25 | L1: TOTO
A2: 1 | B2: 4 | C2: 5 | D2: 6 | E2: 7 | F2: 8 | G2: 9 | H2: 10 | J2: 0.26041667 | L2: TATA
A3: 2 | B3: 11 | C3: 12 | D3: 13 | E3: 14 | F3: 15 | G3: 16 | H3: 17 | J3: 0.27083333 | L3: TITI
A4: 3 | B4: 18 | C4: 19 | D4: 20 | E4: 21 | F4: 22 | G4: 23 | H4: 24 | J4: 0.28125
A5: 4 | B5: 25 | C5: 26 | D5: 27 | E5: 28 | F5: 29 | G5: 30 | H5: 31 | J5: 0.29166667
A6: 5 | B6: 1 | C6: 2 | D6: 3 | E6: 4 | F6: 5 | G6: 6 | H6: 7 | J6: 0.30208333
A7: 6 | B7: 8 | C7: 9 | D7: 10 | E7: 11 | F7: 12 | G7: 13 | H7: 14 | J7: 0.3125
A8: 7 | B8: 15 | C8: 16 | D8: 17 | E8: 18 | F8: 19 | G8: 20 | H8: 21 | J8: 0.32291667
A9: 8 | B9: 22 | C9: 23 | D9: 24 | E9: 25 | F9: 26 | G9: 27 | H9: 28 | J9: 0.33333333
A10: 9 | B10: 1 | C10: 2 | D10: 3 | E10: 4 | F10: 5 | G10: 6 | H10: 7 | J10: 0.34375
A11: 10 | B11: 8 | C11: 9 | D11: 10 | E11: 11 | F11: 12 | G11: 13 | H11: 14 | J11: 0.35416667
A12: 11 | B12: 15 | C12: 16 | D12: 17 | E12: 18 | F12: 19 | G12: 20 | H12: 21 | J12: 0.36458333
A13: 12 | B13: 22 | C13: 23 | D13: 24 | E13: 25 | F13: 26 | G13: 27 | H13: 28 | J13: 0.375
A14: 13 | B14: 29 | C14: 30 | D14: 31 | E14: 1 | F14: 2 | G14: 3 | H14: 4 | J14: 0.38541667
A15: 14 | B15: 5 | C15: 6 | D15: 7 | E15: 8 | F15: 9 | G15: 10 | H15: 11 | J15: 0.39583333
... A53: 52 | B53: 27 | C53: 28 | D53: 29 | E53: 30 | F53: 31 | G53: 1 | H53: 2 | J53: 0.79166667
J54: 0.80208333
J55: 0.8125
J56: 0.82291667
J57: 0.83333333
J58: 0.84375
J59: 0.85416667
J60: 0.86458333
J61: 0.875
J62: 0.88541667
J63: 0.89583333
J64: 0.90625
J65: 0.91666667
... J93: 0.25

Sheet Feuille de test (2)
B2: 2021
B4: Lieu d'intervention | E4: Client
B6: TATA | E6: N° de Commande : | AF6: =AF16 -> 600
B8: Semaine | C8: 1 | E8: Matin | G8: Après-Midi | I8: Total Heures jour | J8: Coût | L8: nuit | N8: Total heures Nuit | O8: Coût | Q8: Forfait repas | R8: Coût | T8: Distance kilomètrique Aller / Retour | U8: Coût | W8: Temps déplacement Aller / Retour | X8: Coût | Z8: Forfait hôtel | AA8: Coût | AC8: Autres: Parking, Achat fournitures | AD8: Coût | AF8: Total HT
B9: Lundi | C9: =VLOOKUP($C$8,' Base index'!A:H,2,0) -> 4 | E9: 0.25 | F9: 0.52083333 | G9: 0.5625 | H9: 0.79166667 | I9: =MOD(F9-E9,1)+MOD(H9-G9,1) -> 0.5 | J9: =IF(ISERROR(I9*24)*50,"",(I9*24)*50) -> 600 | N9: =MOD(M9-L9,1) -> 0 | O9: =IF(ISERROR(N9*24)*90,"",(N9*24)*90) -> 0 | R9: =Q9*20 -> 0 | U9: =SUM(T9*0.6) -> 0 | X9: =SUM(W9*20) -> 0 | AA9: =SUM(Z9*100) -> 0 | AD9: =AC9 -> 0
B10: Mardi | C10: =VLOOKUP($C$8,' Base index'!A:H,3,0) -> 5 | I10: =MOD(F10-E10,1)+MOD(H10-G10,1) -> 0 | J10: =IF(ISERROR(I10*24)*50,"",(I10*24)*50) -> 0 | N10: =MOD(M10-L10,1) -> 0 | O10: =IF(ISERROR(N10*24)*90,"",(N10*24)*90) -> 0 | R10: =Q10*20 -> 0 | U10: =SUM(T10*0.6) -> 0 | X10: =SUM(W10*20) -> 0 | AA10: =SUM(Z10*100) -> 0 | AD10: =AC10 -> 0
B11: Mercredi | C11: =VLOOKUP($C$8,' Base index'!A:H,4,0) -> 6 | I11: =MOD(F11-E11,1)+MOD(H11-G11,1) -> 0 | J11: =IF(ISERROR(I11*24)*50,"",(I11*24)*50) -> 0 | N11: =MOD(M11-L11,1) -> 0 | O11: =IF(ISERROR(N11*24)*90,"",(N11*24)*90) -> 0 | R11: =Q11*20 -> 0 | U11: =SUM(T11*0.6) -> 0 | X11: =SUM(W11*20) -> 0 | AA11: =SUM(Z11*100) -> 0 | AD11: =AC11 -> 0
B12: Jeudi | C12: =VLOOKUP($C$8,' Base index'!A:H,5,0) -> 7 | I12: =MOD(F12-E12,1)+MOD(H12-G12,1) -> 0 | J12: =IF(ISERROR(I12*24)*50,"",(I12*24)*50) -> 0 | N12: =MOD(M12-L12,1) -> 0 | O12: =IF(ISERROR(N12*24)*90,"",(N12*24)*90) -> 0 | R12: =Q12*20 -> 0 | U12: =SUM(T12*0.6) -> 0 | X12: =SUM(W12*20) -> 0 | AA12: =SUM(Z12*100) -> 0 | AD12: =AC12 -> 0
B13: Vendredi | C13: =VLOOKUP($C$8,' Base index'!A:H,6,0) -> 8 | I13: =MOD(F13-E13,1)+MOD(H13-G13,1) -> 0 | J13: =IF(ISERROR(I13*24)*50,"",(I13*24)*50) -> 0 | N13: =MOD(M13-L13,1) -> 0 | O13: =IF(ISERROR(N13*24)*90,"",(N13*24)*90) -> 0 | R13: =Q13*20 -> 0 | U13: =SUM(T13*0.6) -> 0 | X13: =SUM(W13*20) -> 0 | AA13: =SUM(Z13*100) -> 0 | AD13: =AC13 -> 0
B14: Samedi | C14: =VLOOKUP($C$8,' Base index'!A:H,7,0) -> 9 | I14: =MOD(F14-E14,1)+MOD(H14-G14,1) -> 0 | J14: =IF(ISERROR(I14*24)*70,"",(I14*24)*70) -> 0 | N14: =MOD(M14-L14,1) -> 0 | O14: =IF(ISERROR(N14*24)*90,"",(N14*24)*90) -> 0 | R14: =Q14*20 -> 0 | U14: =SUM(T14*0.6) -> 0 | X14: =SUM(W14*20) -> 0 | AA14: =SUM(Z14*100) -> 0 | AD14: =AC14 -> 0
B15: Dimanche | C15: =VLOOKUP($C$8,' Base index'!A:H,8,0) -> 10 | I15: =MOD(F15-E15,1)+MOD(H15-G15,1) -> 0 | J15: =IF(ISERROR(I15*24)*90,"",(I15*24)*90) -> 0 | N15: =MOD(M15-L15,1) -> 0 | O15: =IF(ISERROR(N15*24)*90,"",(N15*24)*90) -> 0 | R15: =Q15*20 -> 0 | U15: =SUM(T15*0.6) -> 0 | X15: =SUM(W15*20) -> 0 | AA15: =SUM(Z15*100) -> 0 | AD15: =AC15 -> 0
B16: Total semaine | I16: =SUM(I9:I15) -> 0.5 | J16: =SUM(J9:J15) -> 600 | N16: =SUM(N9:N15) -> 0 | O16: =SUM(O9:O15) -> 0 | Q16: =SUM(Q9:Q15) -> 0 | R16: =SUM(R9:R15) -> 0 | T16: =SUM(T9:T15) -> 0 | U16: =SUM(U9:U15) -> 0 | W16: =SUM(W10:W15) -> 0 | X16: =SUM(X9:X15) -> 0 | Z16: =SUM(Z9:Z15) -> 0 | AA16: =SUM(AA9:AA15) -> 0 | AC16: =SUM(AC9:AC15) -> 0 | AD16: =SUM(AD9:AD15) -> 0 | AF16: =SUM(J16+R16+X16+U16+O16+AD16) -> 600
