Workbook

Sheet Modèle
F2: Championnat de Ligue 1 2016/2017
R4: Classement Ligue 1 2016/2017
G5: Journée
C6: Légende :
P7: Place | R7: Equipe | S7: BR | T7: N | U7: MR | V7: Points
B8: Prono : | C8: P
B9: Résultat : | C9: R | G9: 1 | H9: N | I9: 2 | P9: 1. | R9: EAG | S9: 0 | T9: 0 | U9: 0 | V9: 0
F10: Côte :
P11: 2. | R11: BASTIA | S11: 0 | T11: 0 | U11: 0 | V11: 0
P13: 3. | R13: PSG | S13: 0 | T13: 0 | U13: 0 | V13: 0
G14: 1 | H14: N | I14: 2
B15: Côte Prono | C15: =IF(I11="P",I10,IF(H11="P",H10,IF(G11="P",G10,"")))*IF(I16="P",I15,IF(H16="P",H15,IF(G16="P",G15,"")))*IF(I21="P",I20,IF(H21="P",H20,IF(G21="P",G20,"")))*IF(I26="P",I25,IF(H26="P",H25,IF(G26="P",G25,"")))*IF(I31="P",I30,IF(H31="P",H30,IF(G31="P",G30,"")))*IF(I36="P",I35,IF(H36="P",H35,IF(G36="P",G35,"")))*IF(I41="P",I40,IF(H41="P",H40,IF(G41="P",G40,"")))*IF(I46="P",I45,IF(H46="P",H45,IF(G46="P",G45,"")))*IF(I51="P",I50,IF(H51="P",H50,IF(G51="P",G50,"")))*IF(I56="P",I55,IF(H56="P",H55,IF(G56="P",G55,""))) -> #VALUE! | F15: Côte : | P15: 4. | R15: MONACO | S15: 0 | T15: 0 | U15: 0 | V15: 0
B16: Côte Bookmaker | C16: =MIN(G10:I10)*MIN(G15:I15)*MIN(G20:I20)*MIN(G25:I25)*MIN(G30:I30)*MIN(G35:I35)*MIN(G40:I40)*MIN(G45:I45)*MIN(G50:I50)*MIN(G55:I55) -> 0
P17: 5. | R17: BORDEAUX | S17: 0 | T17: 0 | U17: 0 | V17: 0
B18: Côte du résultat | C18: =IF(K9=G9,G10,IF(K9=H9,H10,IF(K9=I9,I10,"")))*IF(K14=G14,G15,IF(K14=H14,H15,IF(K14=I14,I15,"")))*IF(K19=G19,G20,IF(K19=H19,H20,IF(K19=I19,I20,"")))*IF(K24=G24,G25,IF(K24=H24,H25,IF(K24=I24,I25,"")))*IF(K29=G29,G30,IF(K29=H29,H30,IF(K29=I29,I30,"")))*IF(K34=G34,G35,IF(K34=H34,H35,IF(K34=I34,I35,"")))*IF(K39=G39,G40,IF(K39=H39,H40,IF(K39=I39,I40,"")))*IF(K44=G44,G45,IF(K44=H44,H45,IF(K44=I44,I45,"")))*IF(K49=G49,G50,IF(K49=H49,H50,IF(K49=I49,I50,"")))*IF(K54=G54,G55,IF(K54=H54,H55,IF(K54=I54,I55,""))) -> #VALUE!
G19: 1 | H19: N | I19: 2 | P19: 6. | R19: ASSE | S19: 0 | T19: 0 | U19: 0 | V19: 0
F20: Côte :
P21: 7. | R21: CAEN | S21: 0 | T21: 0 | U21: 0 | V21: 0
P23: 8. | R23: LORIENT | S23: 0 | T23: 0 | U23: 0 | V23: 0
G24: 1 | H24: N | I24: 2
F25: Côte : | P25: 9. | R25: DIJON | S25: 0 | T25: 0 | U25: 0 | V25: 0
P27: 10. | R27: NANTES | S27: 0 | T27: 0 | U27: 0 | V27: 0
G29: 1 | H29: N | I29: 2 | P29: 11. | R29: METZ | S29: 0 | T29: 0 | U29: 0 | V29: 0
F30: Côte :
P31: 12. | R31: LILLE | S31: 0 | T31: 0 | U31: 0 | V31: 0
P33: 13. | R33: MHSC | S33: 0 | T33: 0 | U33: 0 | V33: 0
G34: 1 | H34: N | I34: 2
F35: Côte : | P35: 14. | R35: ANGERS | S35: 0 | T35: 0 | U35: 0 | V35: 0
P37: 15. | R37: NANCY | S37: 0 | T37: 0 | U37: 0 | V37: 0
G39: 1 | H39: N | I39: 2 | P39: 16. | R39: LYON | S39: 0 | T39: 0 | U39: 0 | V39: 0
F40: Côte :
P41: 17. | R41: NICE | S41: 0 | T41: 0 | U41: 0 | V41: 0
P43: 18. | R43: RENNES | S43: 0 | T43: 0 | U43: 0 | V43: 0
G44: 1 | H44: N | I44: 2
F45: Côte : | P45: 19. | R45: OM | S45: 0 | T45: 0 | U45: 0 | V45: 0
P47: 20. | R47: TFC | S47: 0 | T47: 0 | U47: 0 | V47: 0
G49: 1 | H49: N | I49: 2
F50: Côte :
G54: 1 | H54: N | I54: 2
F55: Côte :

Sheet 1ère J
G2: Championnat de Ligue 1 2016/2017
R4: Classement Ligue 1 2016/2017
H5: Journée 1
C6: Légende :
P7: Place | R7: Equipe | S7: BR | T7: N | U7: MR | V7: Points
B8: Prono : | H8: BASTIA | I8: - | J8: PSG
B9: Résultat : | H9: 1 | I9: N | J9: 2 | P9: 1. | R9: MONACO | S9: =Modèle!S13 -> 0 | T9: =Modèle!T11 -> 0 | U9: =Modèle!U13 -> 0 | V9: =Modèle!V17 -> 0
G10: Côte : | H10: 6.75 | I10: 3.9 | J10: 1.47
B11: Règles : | C11: SCORE EXACT : | D11: 3 points | J11: P | P11: 2. | R11: ASSE | S11: =Modèle!S19 -> 0 | T11: =Modèle!T13 -> 0 | U11: =Modèle!U19 -> 0 | V11: =Modèle!V13 -> 0
C12: BON RESULTAT : | D12: 1 point
C13: MAUVAIS RESULTAT : | D13: 0 point | H13: MONACO | I13: - | J13: EAG | P13: 3. | R13: BASTIA | S13: =Modèle!S9 -> 0 | T13: =Modèle!T19 -> 0 | U13: =Modèle!U9 -> 0 | V13: =Modèle!V9 -> 0
H14: 1 | I14: N | J14: 2
G15: Côte : | H15: 1.62 | I15: 3.45 | J15: 5.7 | P15: 4. | R15: LORIENT | S15: =Modèle!S23 -> 0 | T15: =Modèle!T17 -> 0 | U15: =Modèle!U23 -> 0 | V15: =Modèle!V11 -> 0
H16: P
P17: 5. | R17: NANCY | S17: =Modèle!S37 -> 0 | T17: =Modèle!T9 -> 0 | U17: =Modèle!U37 -> 0 | V17: =Modèle!V15 -> 0
H18: BORDEAUX | I18: - | J18: ASSE
B19: Côte Prono | C19: =IF(J11="P",J10,IF(I11="P",I10,IF(H11="P",H10,"")))*IF(J16="P",J15,IF(I16="P",I15,IF(H16="P",H15,"")))*IF(J21="P",J20,IF(I21="P",I20,IF(H21="P",H20,"")))*IF(J26="P",J25,IF(I26="P",I25,IF(H26="P",H25,"")))*IF(J31="P",J30,IF(I31="P",I30,IF(H31="P",H30,"")))*IF(J36="P",J35,IF(I36="P",I35,IF(H36="P",H35,"")))*IF(J41="P",J40,IF(I41="P",I40,IF(H41="P",H40,"")))*IF(J46="P",J45,IF(I46="P",I45,IF(H46="P",H45,"")))*IF(J51="P",J50,IF(I51="P",I50,IF(H51="P",H50,"")))*IF(J56="P",J55,IF(I56="P",I55,IF(H56="P",H55,""))) -> 2489.5188 | H19: 1 | I19: N | J19: 2 | P19: 6. | R19: MHSC | S19: =Modèle!S33 -> 0 | T19: =Modèle!T15 -> 0 | U19: =Modèle!U33 -> 0 | V19: =Modèle!V19 -> 0
B20: Côte Bookmaker | C20: =MIN(H10:J10)*MIN(H15:J15)*MIN(H20:J20)*MIN(H25:J25)*MIN(H30:J30)*MIN(H35:J35)*MIN(H40:J40)*MIN(H45:J45)*MIN(H50:J50)*MIN(H55:J55) -> 1029.0961 | G20: Côte : | H20: 2.35 | I20: 3.05 | J20: 3
H21: P | P21: 7. | R21: PSG | S21: =Modèle!S11 -> 0 | T21: =Modèle!T21 -> 0 | U21: =Modèle!U11 -> 0 | V21: =Modèle!V21 -> 0
B22: Côte du résultat | C22: =IF(L9=H9,H10,IF(L9=I9,I10,IF(L9=J9,J10,"")))*IF(L14=H14,H15,IF(L14=I14,I15,IF(L14=J14,J15,"")))*IF(L19=H19,H20,IF(L19=I19,I20,IF(L19=J19,J20,"")))*IF(L24=H24,H25,IF(L24=I24,I25,IF(L24=J24,J25,"")))*IF(L29=H29,H30,IF(L29=I29,I30,IF(L29=J29,J30,"")))*IF(L34=H34,H35,IF(L34=I34,I35,IF(L34=J34,J35,"")))*IF(L39=H39,H40,IF(L39=I39,I40,IF(L39=J39,J40,"")))*IF(L44=H44,H45,IF(L44=I44,I45,IF(L44=J44,J45,"")))*IF(L49=H49,H50,IF(L49=I49,I50,IF(L49=J49,J50,"")))*IF(L54=H54,H55,IF(L54=I54,I55,IF(L54=J54,J55,""))) -> #VALUE!
H23: CAEN | I23: - | J23: LORIENT | P23: 8. | R23: EAG | S23: =Modèle!S15 -> 0 | T23: =Modèle!T23 -> 0 | U23: =Modèle!U15 -> 0 | V23: =Modèle!V23 -> 0
H24: 1 | I24: N | J24: 2
G25: Côte : | H25: 2.1 | I25: 3.1 | J25: 3.55 | P25: 9. | R25: BORDEAUX | S25: =Modèle!S17 -> 0 | T25: =Modèle!T25 -> 0 | U25: =Modèle!U17 -> 0 | V25: =Modèle!V25 -> 0
I26: P
P27: 10. | R27: CAEN | S27: =Modèle!S21 -> 0 | T27: =Modèle!T27 -> 0 | U27: =Modèle!U21 -> 0 | V27: =Modèle!V27 -> 0
H28: DIJON | I28: - | J28: NANTES
H29: 1 | I29: N | J29: 2 | P29: 11. | R29: DIJON | S29: =Modèle!S25 -> 0 | T29: =Modèle!T29 -> 0 | U29: =Modèle!U25 -> 0 | V29: =Modèle!V29 -> 0
G30: Côte : | H30: 2.5 | I30: 3 | J30: 2.82
I31: P | P31: 12. | R31: NANTES | S31: =Modèle!S27 -> 0 | T31: =Modèle!T31 -> 0 | U31: =Modèle!U27 -> 0 | V31: =Modèle!V31 -> 0
H33: METZ | I33: - | J33: LILLE | P33: 13. | R33: METZ | S33: =Modèle!S29 -> 0 | T33: =Modèle!T33 -> 0 | U33: =Modèle!U29 -> 0 | V33: =Modèle!V33 -> 0
H34: 1 | I34: N | J34: 2
G35: Côte : | H35: 3.3 | I35: 3.1 | J35: 2.17 | P35: 14. | R35: LILLE | S35: =Modèle!S31 -> 0 | T35: =Modèle!T35 -> 0 | U35: =Modèle!U31 -> 0 | V35: =Modèle!V35 -> 0
J36: P
P37: 15. | R37: ANGERS | S37: =Modèle!S35 -> 0 | T37: =Modèle!T37 -> 0 | U37: =Modèle!U35 -> 0 | V37: =Modèle!V37 -> 0
H38: MHSC | I38: - | J38: ANGERS
H39: 1 | I39: N | J39: 2 | P39: 16. | R39: LYON | S39: =Modèle!S39 -> 0 | T39: =Modèle!T39 -> 0 | U39: =Modèle!U39 -> 0 | V39: =Modèle!V39 -> 0
G40: Côte : | H40: 1.95 | I40: 3.15 | J40: 3.95
H41: P | P41: 17. | R41: NICE | S41: =Modèle!S41 -> 0 | T41: =Modèle!T41 -> 0 | U41: =Modèle!U41 -> 0 | V41: =Modèle!V41 -> 0
H43: NANCY | I43: - | J43: LYON | P43: 18. | R43: RENNES | S43: =Modèle!S43 -> 0 | T43: =Modèle!T43 -> 0 | U43: =Modèle!U43 -> 0 | V43: =Modèle!V43 -> 0
H44: 1 | I44: N | J44: 2
G45: Côte : | H45: 3.95 | I45: 3.15 | J45: 1.95 | P45: 19. | R45: OM | S45: =Modèle!S45 -> 0 | T45: =Modèle!T45 -> 0 | U45: =Modèle!U45 -> 0 | V45: =Modèle!V45 -> 0
J46: P
P47: 20. | R47: TFC | S47: =Modèle!S47 -> 0 | T47: =Modèle!T47 -> 0 | U47: =Modèle!U47 -> 0 | V47: =Modèle!V47 -> 0
H48: NICE | I48: - | J48: RENNES
H49: 1 | I49: N | J49: 2
G50: Côte : | H50: 2.27 | I50: 3.1 | J50: 3.1
I51: P
H53: OM | I53: - | J53: TFC
H54: 1 | I54: N | J54: 2
G55: Côte : | H55: 1.87 | I55: 3.25 | J55: 4.1
H56: P
