Workbook
Name CDouCR: '[1]tableau complet'!$AI$3:$AI$4
Name CIVILITE: '[1]tableau complet'!$AH$3:$AH$7
Name TRANSPORTEURS: '[1]tableau complet'!$AG$3:$AG$12

Sheet Liste
A1: N° circuit | B1: A | C1: B | D1: C | E1: D | F1: E | G1: F | H1: G | I1: H | J1: I | K1: J | L1: K | M1: L | N1: M | O1: N | P1: O | Q1: P | R1: Q | S1: R | T1: S | U1: T | V1: U | W1: V | X1: W | Y1: X | Z1: Y
A2: 101 | B2: AA | C2: AA | D2: 9 | E2: 22 | F2: 1 | G2: 28.38 | H2: 1 | I2: 28.38 | J2: 31.218 | K2: 28.38 | L2: 8 | M2: 0 | R2: 0 | S2: 0 | T2: 113.52 | X2: 227.04 | Z2: 227.04
A3: 102 | B3: BB | C3: BB | D3: 9 | E3: 44 | F3: 1 | G3: 56.76 | H3: 1 | I3: 56.76 | J3: 62.436 | K3: 56.76 | L3: 17 | M3: 0 | R3: 0 | S3: 0 | T3: 567.6 | X3: 964.92 | Z3: 964.92
A4: 103 | B4: CC | C4: CC | D4: 9 | E4: 35 | F4: 1 | G4: 45.15 | H4: 1 | I4: 45.15 | J4: 49.665 | K4: 45.15 | L4: 17 | M4: 0 | R4: 0 | S4: 0 | T4: 451.5 | X4: 767.55 | Z4: 767.55
A5: 104 | B5: DD | C5: DD | D5: 9 | E5: 44 | F5: 1 | G5: 56.76 | H5: 1 | I5: 56.76 | J5: 62.436 | K5: 56.76 | L5: 42 | M5: 0 | R5: 0 | S5: 0 | T5: 1362.24 | X5: 2383.92 | Z5: 2383.92
A6: 105 | B6: EE | C6: EE | D6: 9 | E6: 30 | F6: 1 | G6: 38.7 | H6: 0.82 | I6: 31.734 | J6: 34.9074 | K6: 31.734 | L6: 34 | M6: 1078.956 | P6: 634.68 | R6: 444.276 | S6: 488.7036 | T6: 139.32 | Y6: 236.844 | Z6: 1315.8
A7: 106 | B7: FF | C7: FF | D7: 9 | E7: 12 | F7: 1 | G7: 25.56 | H7: 1 | I7: 25.56 | J7: 28.116 | K7: 25.56 | L7: 37 | M7: 0 | R7: 0 | S7: 0 | T7: 562.32 | X7: 945.72 | Z7: 945.72
Y11: #REF! | Z11: Tanguy

Sheet Facture
D11: Facture | F11: 42705
C15: 101
B22: =DATE(YEAR(F11),MONTH(F11),1) -> 42705 | C22: =EOMONTH(F11,0) -> 42735 | D22: =VLOOKUP(C15,Liste!A:Z,5,FALSE) -> 22 | E22: =VLOOKUP(C15,Liste!A:Z,7)/D22 -> 1.29 | F22: =D22*E22 -> 28.38 | G22: =VLOOKUP(C15,Liste!A:Z,12,FALSE) -> 8 | H22: =IF((VLOOKUP(C15,Liste!A:Z,8,FALSE)=1),VLOOKUP(C15,Liste!A:Z,8,FALSE),(1-VLOOKUP(C15,Liste!A:Z,8,FALSE))) -> 1 | I22: =F22*G22*H22 -> 227.04 | J22: =+VLOOKUP(C15,Liste!A:Z,6,FALSE) -> 1 | K22: =I22*J22 -> 227.04

Sheet 101
D11: Facture | F11: 42705
C15: 101
B22: =DATE(YEAR(F11),MONTH(F11),1) -> 42705 | C22: =EOMONTH(F11,0) -> 42735 | D22: =VLOOKUP(C15,Liste!A:Z,5,FALSE) -> 22 | E22: =VLOOKUP(C15,Liste!A:Z,7)/D22 -> 1.29 | F22: =D22*E22 -> 28.38 | G22: =VLOOKUP(C15,Liste!A:Z,12,FALSE) -> 8 | H22: =IF((VLOOKUP(C15,Liste!A:Z,8,FALSE)=1),VLOOKUP(C15,Liste!A:Z,8,FALSE),(1-VLOOKUP(C15,Liste!A:Z,8,FALSE))) -> 1 | I22: =F22*G22*H22 -> 227.04 | J22: =+VLOOKUP(C15,Liste!A:Z,6,FALSE) -> 1 | K22: =I22*J22 -> 227.04

Sheet 102
D11: Facture | F11: 42705
C15: 102
B22: =DATE(YEAR(F11),MONTH(F11),1) -> 42705 | C22: =EOMONTH(F11,0) -> 42735 | D22: =VLOOKUP(C15,Liste!A:Z,5,FALSE) -> 44 | E22: =VLOOKUP(C15,Liste!A:Z,7)/D22 -> 1.29 | F22: =D22*E22 -> 56.76 | G22: =VLOOKUP(C15,Liste!A:Z,12,FALSE) -> 17 | H22: =IF((VLOOKUP(C15,Liste!A:Z,8,FALSE)=1),VLOOKUP(C15,Liste!A:Z,8,FALSE),(1-VLOOKUP(C15,Liste!A:Z,8,FALSE))) -> 1 | I22: =F22*G22*H22 -> 964.92 | J22: =+VLOOKUP(C15,Liste!A:Z,6,FALSE) -> 1 | K22: =I22*J22 -> 964.92
