Workbook

Sheet Sheet1
A1: GROUP NO | B1: GROUP DESCRIPTION | C1: QUANTITY | D1: UOM
A2: 000001 | B2: KNITTED FABRIC,JERSEY,MAILLE,NYLON FABRIC,TULLE,WARP KNIT FABRIC,WARP KNITTING FABRIC | C2: =SUMIF('ENTREE DE DONNEES'!C:C,"000001", 'ENTREE DE DONNEES'!$B:$B) -> 0.02 | D2: MTR
A3: 000002 | B3: LACE,KNITTED LACE,KNITTED LACE TRIMMING | C3: =SUMIF('ENTREE DE DONNEES'!C:C,"000002", 'ENTREE DE DONNEES'!$B:$B) -> 0 | D3: MTR
A4: 000003 | B4: EMBROIDERY,EMBROIDER TRIMMING,EMBROIDERED,EMBROIDERED ALLOVER,EMBROIDERED EDGING,EMBROIDERED GALLON ,EMBROIDERED INSERTION,EMBROIDERED TRIMMING ,EMBROIDERY TRIMMING | C4: =SUMIF('ENTREE DE DONNEES'!C:C,"000003", 'ENTREE DE DONNEES'!$B:$B) -> 0 | D4: MTR
A5: 000004 | B5: BIAS TAPE,CUT BAND & BIAS | C5: =SUMIF('ENTREE DE DONNEES'!C:C,"000004", 'ENTREE DE DONNEES'!$B:$B) -> 1.83 | D5: MTR
A6: 000005 | B6: FOAM,COMPLEX,COMPLEX FOAM,PLAIN FOAM | C6: =SUMIF('ENTREE DE DONNEES'!C:C,"000005", 'ENTREE DE DONNEES'!$B:$B) -> 0.03 | D6: MTR
A7: 000006 | B7: ELASTIC,FINISHING TRIM,SHOULDER STRAP | C7: =SUMIF('ENTREE DE DONNEES'!C:C,"000006", 'ENTREE DE DONNEES'!$B:$B) -> 1.09 | D7: MTR
A8: 000007 | B8: MOTIF,BOW,EMBROIDERED MOTIF,EMBROIDERY MOTIF,MOTIF/KNOT/NOEUD,MOTIF/NOEUD/KNOT,NOEUD,ORNAMENT | C8: =SUMIF('ENTREE DE DONNEES'!C:C,"000007", 'ENTREE DE DONNEES'!$B:$B) -> 1 | D8: C62
A9: 000008 | B9: THREAD | C9: =SUMIF('ENTREE DE DONNEES'!C:C,"000008", 'ENTREE DE DONNEES'!$B:$B) -> 0 | D9: MTR
A10: 000009 | B10: CUP WIRE,WIRE | C10: =SUMIF('ENTREE DE DONNEES'!C:C,"000009", 'ENTREE DE DONNEES'!$B:$B) -> 0 | D10: PR
A11: 000010 | B11: HOOK & EYE,CLOSURE ACCESSORY,HOOK & EYE TAPE,HOOK AND EYE,HOOK AND EYE TAPE | C11: =SUMIF('ENTREE DE DONNEES'!C:C,"000010", 'ENTREE DE DONNEES'!$B:$B) -> 1 | D11: SET
A12: 000011 | B12: BOUCLE,ANNEAU,BOUCLE/ANNEAU,RING,RING&SLIDE,RINGS | C12: =SUMIF('ENTREE DE DONNEES'!C:C,"000011", 'ENTREE DE DONNEES'!$B:$B) -> 6 | D12: C62
A13: 000012 | B13: CLIP,SUSPENDER CLIP,SUSPENDER PINCE | C13: =SUMIF('ENTREE DE DONNEES'!C:C,"000012", 'ENTREE DE DONNEES'!$B:$B) -> 0 | D13: C62
A14: 000013 | B14: LABEL,HANG TAG | C14: =SUMIF('ENTREE DE DONNEES'!C:C,"000013", 'ENTREE DE DONNEES'!$B:$B) -> 2 | D14: C62
A15: 000014 | B15: LINK,PLASTIC LINK | C15: =SUMIF('ENTREE DE DONNEES'!C:C,"000014", 'ENTREE DE DONNEES'!$B:$B) -> 2 | D15: C62
A16: 000015 | B16: STICKER,BARCODE,BARCODE STICKER | C16: =SUMIF('ENTREE DE DONNEES'!C:C,"000015", 'ENTREE DE DONNEES'!$B:$B) -> 0 | D16: C62
A17: 000016 | B17: RIBBON,RUBAN | C17: =SUMIF('ENTREE DE DONNEES'!C:C,"000016", 'ENTREE DE DONNEES'!$B:$B) -> 0.17 | D17: MTR
A18: 000017 | B18: BUTTON,BOUTON | C18: =SUMIF('ENTREE DE DONNEES'!C:C,"000017", 'ENTREE DE DONNEES'!$B:$B) -> 0 | D18: C62
A19: 000018 | B19: PLAQUE | C19: =SUMIF('ENTREE DE DONNEES'!C:C,"000018", 'ENTREE DE DONNEES'!$B:$B) -> 1 | D19: C62
A20: 000019 | B20: CUP FOAM,BRA CUP,COQUES,CUP,FOAM CUP,MOUDLED BRA | C20: =SUMIF('ENTREE DE DONNEES'!C:C,"000019", 'ENTREE DE DONNEES'!$B:$B) -> 0 | D20: PR
A21: 000020 | B21: STRASS,STRASS SWAROWSKI | C21: =SUMIF('ENTREE DE DONNEES'!C:C,"000020", 'ENTREE DE DONNEES'!$B:$B) -> 0 | D21: C62
A22: 000021 | B22: BONE,METAL SPIRAL BONES,PLASTIC BONE,V WIRE | C22: =SUMIF('ENTREE DE DONNEES'!C:C,"000021", 'ENTREE DE DONNEES'!$B:$B) -> 0 | D22: C62
A23: 000022 | B23: TAPE,PLASTIC TAPE | C23: =SUMIF('ENTREE DE DONNEES'!C:C,"000022", 'ENTREE DE DONNEES'!$B:$B) -> 0 | D23: MTR
A24: 000023 | B24: BRA'S PAD,COUSSINET | C24: =SUMIF('ENTREE DE DONNEES'!C:C,"000023", 'ENTREE DE DONNEES'!$B:$B) -> 1 | D24: PR
A25: 000024 | B25: ZIP | C25: =SUMIF('ENTREE DE DONNEES'!C:C,"000024", 'ENTREE DE DONNEES'!$B:$B) -> 0 | D25: C62
A26: 000025 | B26: SMALL PLASTIC BAG | C26: =SUMIF('ENTREE DE DONNEES'!C:C,"000025", 'ENTREE DE DONNEES'!$B:$B) -> 0 | D26: C62
A27: 000026 | B27: BOX PAPER,PACK,PACKAGING CASE,PACKAGING CASE PAPER | C27: =SUMIF('ENTREE DE DONNEES'!C:C,"000026", 'ENTREE DE DONNEES'!$B:$B) -> 0 | D27: C62
A28: 000027 | B28: BOX PLASTIC,PACKAGING CASE PLASTIC,PARTIE PLASTIQUE | C28: =SUMIF('ENTREE DE DONNEES'!C:C,"000027", 'ENTREE DE DONNEES'!$B:$B) -> 0 | D28: C62
A29: 000028 | B29: HANGER,CINTRE | C29: =SUMIF('ENTREE DE DONNEES'!C:C,"000028", 'ENTREE DE DONNEES'!$B:$B) -> 0 | D29: C62
A30: 000029 | B30: SIZE TAG,TROUVE_TAILLE | C30: =SUMIF('ENTREE DE DONNEES'!C:C,"000029", 'ENTREE DE DONNEES'!$B:$B) -> 0 | D30: C62
A31: 000030 | B31: BIG PLASTIC BAG | C31: =SUMIF('ENTREE DE DONNEES'!C:C,"000030", 'ENTREE DE DONNEES'!$B:$B) -> 0 | D31: C62

Sheet ENTREE DE DONNEES
A1: CODE PRODUIT | B1: QTY | C1: GROUP
A4: ex:
A5: C12720 | B5: 0.02 | C5: 000001 | G5: en A:2 j'aimerais pouvoir rentrer un ou plusieurs de mes codes et que ca complete directement la QTY ainsi que le GROUP comme dans la base de donnees
A6: C12720 | B6: 1.83 | C6: 000004 | G6: Ce tableau est un intermediaire pour ensuite l'importer dans l'onglet 1, divise par groupes
A7: C12720 | B7: 0.03 | C7: 000005
A8: C12720 | B8: 1.09 | C8: 000006
A9: C12720 | B9: 1 | C9: 000007
A10: C12720 | B10: 1 | C10: 000010 | E10: Si je rentre ce code produit, l'ideal serait que ca s'affiche comme ceci
A11: C12720 | B11: 6 | C11: 000011
A12: C12720 | B12: 2 | C12: 000013
A13: C12720 | B13: 2 | C13: 000014
A14: C12720 | B14: 0.17 | C14: 000016
A15: C12720 | B15: 1 | C15: 000018
A16: C12720 | B16: 1 | C16: 000023

Sheet BASE DE DONNEES
A1: code | B1: group | C1: qty
A2: C12710 | B2: 000001 | C2: 0.05
A3: C12710 | B3: 000004 | C3: 2.37
A4: C12710 | B4: 000006 | C4: 1.24
A5: C12710 | B5: 000007 | C5: 1
A6: C12710 | B6: 000008 | C6: 93.936
A7: C12710 | B7: 000010 | C7: 1
A8: C12710 | B8: 000011 | C8: 4
A9: C12710 | B9: 000013 | C9: 2
A10: C12710 | B10: 000014 | C10: 2
A11: C12710 | B11: 000016 | C11: 0.17
A12: C12710 | B12: 000018 | C12: 1
A13: C12720 | B13: 000001 | C13: 0.02
... A59: C12760 | B59: 000021 | C59: 5
