Workbook

Sheet staff cost
D1: ="CA="&[1]Contexte!D4 -> CA=RM | E1: ="CA="&[1]Contexte!D5 -> CA=LE | J1: CA=LE | K1: CA=LE | L1: CA=LE | M1: CA=LE | N1: CA=RM | O1: CA=LE | P1: CA=LE | Q1: CA=LE | R1: CA=LE | S1: CA=RM | T1: CA=LE | U1: CA=LE | V1: CA=LE | W1: CA=LE | X1: CA=RM | Y1: CA=LE | Z1: CA=LE | AA1: CA=LE | AB1: CA=LE | AC1: CA=RM | AD1: CA=LE | AE1: CA=LE | AF1: CA=LE | AG1: CA=LE | AH1: CA=RM | AI1: CA=LE | AJ1: CA=LE | AK1: CA=LE | AL1: CA=LE | AM1: CA=RM | AN1: CA=LE | AO1: CA=LE | AP1: CA=LE | AQ1: CA=LE | AR1: CA=RM | AS1: CA=LE | AT1: CA=LE | AU1: CA=LE | AV1: CA=LE | AW1: CA=RM | AX1: CA=LE | AY1: CA=LE | AZ1: CA=LE | BA1: CA=LE | BB1: CA=RM | BC1: CA=LE | BD1: CA=LE | BE1: CA=LE | BF1: CA=LE | BG1: CA=RM | BH1: CA=LE | BI1: CA=LE | BJ1: CA=LE | BK1: CA=LE | BL1: CA=RM | BM1: CA=LE | BN1: CA=LE | BO1: CA=LE | BP1: CA=LE | BQ1: CA=RM | BR1: CA=LE | BS1: CA=LE | BT1: CA=LE | BU1: CA=LE | BY1: ="CA="&[1]Contexte!$D$5 -> CA=LE | BZ1: ="CA="&[1]Contexte!$D$5 -> CA=LE | CA1: ="CA="&[1]Contexte!$D$5 -> CA=LE | CB1: ="CA="&[1]Contexte!$D$5 -> CA=LE | CC1: ="CA="&[1]Contexte!$D$5 -> CA=LE | CD1: ="CA="&[1]Contexte!$D$5 -> CA=LE | CE1: ="CA="&[1]Contexte!$D$5 -> CA=LE | CF1: ="CA="&[1]Contexte!$D$5 -> CA=LE | ... CJ1: ="CA="&[1]Contexte!$D$5 -> CA=LE | CM1: CA=RM | CN1: CA=RM | CO1: CA=CS | CP1: CA=RM | CQ1: CA=RM | CR1: CA=CS | CS1: CA=RM | CT1: CA=RM | CU1: CA=CS | CV1: CA=RM | CW1: CA=RM | CX1: CA=CS
D2: ="DP="&[1]Contexte!E4 -> DP=2017.08 | E2: ="DP="&[1]Contexte!E5 -> DP=2018.06 | J2: DP=2018.09 | K2: DP=2018.09 | L2: DP=2018.09 | M2: DP=2018.09 | N2: DP=2018.08 | O2: DP=2018.09 | P2: DP=2018.09 | Q2: DP=2018.09 | R2: DP=2018.09 | S2: DP=2018.08 | T2: DP=2018.09 | U2: DP=2018.09 | V2: DP=2018.09 | W2: DP=2018.09 | X2: DP=2018.08 | Y2: DP=2018.09 | Z2: DP=2018.09 | AA2: DP=2018.09 | AB2: DP=2018.09 | AC2: DP=2018.08 | AD2: DP=2018.09 | AE2: DP=2018.09 | AF2: DP=2018.09 | AG2: DP=2018.09 | AH2: DP=2018.08 | AI2: DP=2018.09 | AJ2: DP=2018.09 | AK2: DP=2018.09 | AL2: DP=2018.09 | AM2: DP=2018.08 | AN2: DP=2018.09 | AO2: DP=2018.09 | AP2: DP=2018.09 | AQ2: DP=2018.09 | AR2: DP=2018.08 | AS2: DP=2018.09 | AT2: DP=2018.09 | AU2: DP=2018.09 | AV2: DP=2018.09 | AW2: DP=2018.08 | AX2: DP=2018.09 | AY2: DP=2018.09 | AZ2: DP=2018.09 | BA2: DP=2018.09 | BB2: DP=2018.08 | BC2: DP=2018.09 | BD2: DP=2018.09 | BE2: DP=2018.09 | BF2: DP=2018.09 | BG2: DP=2018.08 | BH2: DP=2018.09 | BI2: DP=2018.09 | BJ2: DP=2018.09 | BK2: DP=2018.09 | BL2: DP=2018.08 | BM2: DP=2018.09 | BN2: DP=2018.09 | BO2: DP=2018.09 | BP2: DP=2018.09 | BQ2: DP=2018.08 | BR2: DP=2018.09 | BS2: DP=2018.09 | BT2: DP=2018.09 | BU2: DP=2018.09 | BY2: ="DP="&[1]Contexte!$E$5 -> DP=2018.06 | BZ2: ="DP="&[1]Contexte!$E$5 -> DP=2018.06 | CA2: ="DP="&[1]Contexte!$E$5 -> DP=2018.06 | CB2: ="DP="&[1]Contexte!$E$5 -> DP=2018.06 | CC2: ="DP="&[1]Contexte!$E$5 -> DP=2018.06 | CD2: ="DP="&[1]Contexte!$E$5 -> DP=2018.06 | CE2: ="DP="&[1]Contexte!$E$5 -> DP=2018.06 | CF2: ="DP="&[1]Contexte!$E$5 -> DP=2018.06 | ... CJ2: ="DP="&[1]Contexte!$E$5 -> DP=2018.06 | CM2: DP=2017.01 | CN2: DP=2017.02 | CO2: DP=2017.03 | CP2: DP=2017.04 | CQ2: DP=2017.05 | CR2: DP=2017.06 | CS2: DP=2017.07 | CT2: DP=2017.08 | CU2: DP=2017.09 | CV2: DP=2017.10 | CW2: DP=2017.11 | CX2: DP=2017.12
D3: ="PE="&[1]Contexte!E4 -> PE=2017.08 | E3: ="PE="&[1]Contexte!E2 -> PE=2018.08 | J3: PE=2018.09 | K3: PE=2018.10 | L3: PE=2018.11 | M3: PE=2018.12 | N3: PE=2018.08 | O3: PE=2018.09 | P3: PE=2018.10 | Q3: PE=2018.11 | R3: PE=2018.12 | S3: PE=2018.08 | T3: PE=2018.09 | U3: PE=2018.10 | V3: PE=2018.11 | W3: PE=2018.12 | X3: PE=2018.08 | Y3: PE=2018.09 | Z3: PE=2018.10 | AA3: PE=2018.11 | AB3: PE=2018.12 | AC3: PE=2018.08 | AD3: PE=2018.09 | AE3: PE=2018.10 | AF3: PE=2018.11 | AG3: PE=2018.12 | AH3: PE=2018.08 | AI3: PE=2018.09 | AJ3: PE=2018.10 | AK3: PE=2018.11 | AL3: PE=2018.12 | AM3: PE=2018.08 | AN3: PE=2018.09 | AO3: PE=2018.10 | AP3: PE=2018.11 | AQ3: PE=2018.12 | AR3: PE=2018.08 | AS3: PE=2018.09 | AT3: PE=2018.10 | AU3: PE=2018.11 | AV3: PE=2018.12 | AW3: PE=2018.08 | AX3: PE=2018.09 | AY3: PE=2018.10 | AZ3: PE=2018.11 | BA3: PE=2018.12 | BB3: PE=2018.08 | BC3: PE=2018.09 | BD3: PE=2018.10 | BE3: PE=2018.11 | BF3: PE=2018.12 | BG3: PE=2018.08 | BH3: PE=2018.09 | BI3: PE=2018.10 | BJ3: PE=2018.11 | BK3: PE=2018.12 | BL3: PE=2018.08 | BM3: PE=2018.09 | BN3: PE=2018.10 | BO3: PE=2018.11 | BP3: PE=2018.12 | BQ3: PE=2018.08 | BR3: PE=2018.09 | BS3: PE=2018.10 | BT3: PE=2018.11 | BU3: PE=2018.12 | BY3: PE=2018.01 | BZ3: PE=2018.02 | CA3: PE=2018.03 | CB3: PE=2018.04 | CC3: PE=2018.05 | CD3: PE=2018.06 | CE3: PE=2018.07 | CF3: PE=2018.08 | CG3: PE=2018.09 | CH3: PE=2018.10 | CI3: PE=2018.11 | CJ3: PE=2018.12 | CM3: PE=2017.01 | CN3: PE=2017.02 | CO3: PE=2017.03 | CP3: PE=2017.04 | CQ3: PE=2017.05 | CR3: PE=2017.06 | CS3: PE=2017.07 | CT3: PE=2017.08 | CU3: PE=2017.09 | CV3: PE=2017.10 | CW3: PE=2017.11 | CX3: PE=2017.12
D4: SC=G | E4: SC=G | J4: SC=G | K4: SC=G | L4: SC=G | M4: SC=G | N4: SC=G | O4: SC=G | P4: SC=G | Q4: SC=G | R4: SC=G | S4: SC=G | T4: SC=G | U4: SC=G | V4: SC=G | W4: SC=G | X4: SC=G | Y4: SC=G | Z4: SC=G | AA4: SC=G | AB4: SC=G | AC4: SC=G | AD4: SC=G | AE4: SC=G | AF4: SC=G | AG4: SC=G | AH4: SC=G | AI4: SC=G | AJ4: SC=G | AK4: SC=G | AL4: SC=G | AM4: SC=G | AN4: SC=G | AO4: SC=G | AP4: SC=G | AQ4: SC=G | AR4: SC=G | AS4: SC=G | AT4: SC=G | AU4: SC=G | AV4: SC=G | AW4: SC=G | AX4: SC=G | AY4: SC=G | AZ4: SC=G | BA4: SC=G | BB4: SC=G | BC4: SC=G | BD4: SC=G | BE4: SC=G | BF4: SC=G | BG4: SC=G | BH4: SC=G | BI4: SC=G | BJ4: SC=G | BK4: SC=G | BL4: SC=G | BM4: SC=G | BN4: SC=G | BO4: SC=G | BP4: SC=G | BQ4: SC=G | BR4: SC=G | BS4: SC=G | BT4: SC=G | BU4: SC=G | BY4: SC=G | BZ4: SC=G | CA4: SC=G | CB4: SC=G | CC4: SC=G | CD4: SC=G | CE4: SC=G | CF4: SC=G | CG4: SC=G | CH4: SC=G | CI4: SC=G | CJ4: SC=G | CM4: SC=G | CN4: SC=G | CO4: SC=G | CP4: SC=G | CQ4: SC=G | CR4: SC=G | CS4: SC=G | CT4: SC=G | CU4: SC=G | CV4: SC=G | CW4: SC=G | CX4: SC=G
D5: VA=I | E5: VA=I | J5: VA=I | K5: VA=I | L5: VA=I | M5: VA=I | N5: VA=I | O5: VA=I | P5: VA=I | Q5: VA=I | R5: VA=I | S5: VA=I | T5: VA=I | U5: VA=I | V5: VA=I | W5: VA=I | X5: VA=I | Y5: VA=I | Z5: VA=I | AA5: VA=I | AB5: VA=I | AC5: VA=I | AD5: VA=I | AE5: VA=I | AF5: VA=I | AG5: VA=I | AH5: VA=I | AI5: VA=I | AJ5: VA=I | AK5: VA=I | AL5: VA=I | AM5: VA=I | AN5: VA=I | AO5: VA=I | AP5: VA=I | AQ5: VA=I | AR5: VA=I | AS5: VA=I | AT5: VA=I | AU5: VA=I | AV5: VA=I | AW5: VA=I | AX5: VA=I | AY5: VA=I | AZ5: VA=I | BA5: VA=I | BB5: VA=I | BC5: VA=I | BD5: VA=I | BE5: VA=I | BF5: VA=I | BG5: VA=I | BH5: VA=I | BI5: VA=I | BJ5: VA=I | BK5: VA=I | BL5: VA=I | BM5: VA=I | BN5: VA=I | BO5: VA=I | BP5: VA=I | BQ5: VA=I | BR5: VA=I | BS5: VA=I | BT5: VA=I | BU5: VA=I | BY5: VA=I | BZ5: VA=I | CA5: VA=I | CB5: VA=I | CC5: VA=I | CD5: VA=I | CE5: VA=I | CF5: VA=I | CG5: VA=I | CH5: VA=I | CI5: VA=I | CJ5: VA=I | CM5: VA=I | CN5: VA=I | CO5: VA=I | CP5: VA=I | CQ5: VA=I | CR5: VA=I | CS5: VA=I | CT5: VA=I | CU5: VA=I | CV5: VA=I | CW5: VA=I | CX5: VA=I
D6: AC sum [All values] | E6: AC sum [All values] | J6: AC sum [All values] | K6: AC sum [All values] | L6: AC sum [All values] | M6: AC sum [All values] | N6: AC sum [All values] | O6: AC sum [All values] | P6: AC sum [All values] | Q6: AC sum [All values] | R6: AC sum [All values] | S6: AC sum [All values] | T6: AC sum [All values] | U6: AC sum [All values] | V6: AC sum [All values] | W6: AC sum [All values] | X6: AC sum [All values] | Y6: AC sum [All values] | Z6: AC sum [All values] | AA6: AC sum [All values] | AB6: AC sum [All values] | AC6: AC sum [All values] | AD6: AC sum [All values] | AE6: AC sum [All values] | AF6: AC sum [All values] | AG6: AC sum [All values] | AH6: AC sum [All values] | AI6: AC sum [All values] | AJ6: AC sum [All values] | AK6: AC sum [All values] | AL6: AC sum [All values] | AM6: AC sum [All values] | AN6: AC sum [All values] | AO6: AC sum [All values] | AP6: AC sum [All values] | AQ6: AC sum [All values] | AR6: AC sum [All values] | AS6: AC sum [All values] | AT6: AC sum [All values] | AU6: AC sum [All values] | AV6: AC sum [All values] | AW6: AC sum [All values] | AX6: AC sum [All values] | AY6: AC sum [All values] | AZ6: AC sum [All values] | BA6: AC sum [All values] | BB6: AC sum [All values] | BC6: AC sum [All values] | BD6: AC sum [All values] | BE6: AC sum [All values] | BF6: AC sum [All values] | BG6: AC sum [All values] | BH6: AC sum [All values] | BI6: AC sum [All values] | BJ6: AC sum [All values] | BK6: AC sum [All values] | BL6: AC sum [All values] | BM6: AC sum [All values] | BN6: AC sum [All values] | BO6: AC sum [All values] | BP6: AC sum [All values] | BQ6: AC sum [All values] | BR6: AC sum [All values] | BS6: AC sum [All values] | BT6: AC sum [All values] | BU6: AC sum [All values] | BY6: AC sum [All values] | BZ6: AC sum [All values] | CA6: AC sum [All values] | CB6: AC sum [All values] | CC6: AC sum [All values] | CD6: AC sum [All values] | CE6: AC sum [All values] | CF6: AC sum [All values] | CG6: AC sum [All values] | CH6: AC sum [All values] | CI6: AC sum [All values] | CJ6: AC sum [All values] | CM6: AC sum [All values] | CN6: AC sum [All values] | CO6: AC sum [All values] | CP6: AC sum [All values] | CQ6: AC sum [All values] | CR6: AC sum [All values] | CS6: AC sum [All values] | CT6: AC sum [All values] | CU6: AC sum [All values] | CV6: AC sum [All values] | CW6: AC sum [All values] | CX6: AC sum [All values]
D7: FL=F99 | E7: FL=F99 | J7: FL=F99M | K7: FL=F99M | L7: FL=F99M | M7: FL=F99M | N7: FL=F99 | O7: FL=F99M | P7: FL=F99M | Q7: FL=F99M | R7: FL=F99M | S7: FL=F99 | T7: FL=F99M | U7: FL=F99M | V7: FL=F99M | W7: FL=F99M | X7: FL=F99 | Y7: FL=F99M | Z7: FL=F99M | AA7: FL=F99M | AB7: FL=F99M | AC7: FL=F99 | AD7: FL=F99M | AE7: FL=F99M | AF7: FL=F99M | AG7: FL=F99M | AH7: FL=F99 | AI7: FL=F99M | AJ7: FL=F99M | AK7: FL=F99M | AL7: FL=F99M | AM7: FL=F99 | AN7: FL=F99M | AO7: FL=F99M | AP7: FL=F99M | AQ7: FL=F99M | AR7: FL=F99 | AS7: FL=F99M | AT7: FL=F99M | AU7: FL=F99M | AV7: FL=F99M | AW7: FL=F99 | AX7: FL=F99M | AY7: FL=F99M | AZ7: FL=F99M | BA7: FL=F99M | BB7: FL=F99 | BC7: FL=F99M | BD7: FL=F99M | BE7: FL=F99M | BF7: FL=F99M | BG7: FL=F99 | BH7: FL=F99M | BI7: FL=F99M | BJ7: FL=F99M | BK7: FL=F99M | BL7: FL=F99 | BM7: FL=F99M | BN7: FL=F99M | BO7: FL=F99M | BP7: FL=F99M | BQ7: FL=F99 | BR7: FL=F99M | BS7: FL=F99M | BT7: FL=F99M | BU7: FL=F99M | BY7: FL=F99M | BZ7: FL=F99M | CA7: FL=F99M | CB7: FL=F99M | CC7: FL=F99M | CD7: FL=F99M | CE7: FL=F99M | CF7: FL=F99M | CG7: FL=F99M | CH7: FL=F99M | CI7: FL=F99M | CJ7: FL=F99M | CM7: FL=F99 | CN7: FL=F99 | CO7: FL=F99 | CP7: FL=F99 | CQ7: FL=F99 | CR7: FL=F99 | CS7: FL=F99 | CT7: FL=F99 | CU7: FL=F99 | CV7: FL=F99 | CW7: FL=F99 | CX7: FL=F99
D8: CC=EUR | E8: CC=EUR | J8: CC=EUR | K8: CC=EUR | L8: CC=EUR | M8: CC=EUR | N8: CC=EUR | O8: CC=EUR | P8: CC=EUR | Q8: CC=EUR | R8: CC=EUR | S8: CC=EUR | T8: CC=EUR | U8: CC=EUR | V8: CC=EUR | W8: CC=EUR | X8: CC=EUR | Y8: CC=EUR | Z8: CC=EUR | AA8: CC=EUR | AB8: CC=EUR | AC8: CC=EUR | AD8: CC=EUR | AE8: CC=EUR | AF8: CC=EUR | AG8: CC=EUR | AH8: CC=EUR | AI8: CC=EUR | AJ8: CC=EUR | AK8: CC=EUR | AL8: CC=EUR | AM8: CC=EUR | AN8: CC=EUR | AO8: CC=EUR | AP8: CC=EUR | AQ8: CC=EUR | AR8: CC=EUR | AS8: CC=EUR | AT8: CC=EUR | AU8: CC=EUR | AV8: CC=EUR | AW8: CC=EUR | AX8: CC=EUR | AY8: CC=EUR | AZ8: CC=EUR | BA8: CC=EUR | BB8: CC=EUR | BC8: CC=EUR | BD8: CC=EUR | BE8: CC=EUR | BF8: CC=EUR | BG8: CC=EUR | BH8: CC=EUR | BI8: CC=EUR | BJ8: CC=EUR | BK8: CC=EUR | BL8: CC=EUR | BM8: CC=EUR | BN8: CC=EUR | BO8: CC=EUR | BP8: CC=EUR | BQ8: CC=EUR | BR8: CC=EUR | BS8: CC=EUR | BT8: CC=EUR | BU8: CC=EUR | BY8: CC=EUR | BZ8: CC=EUR | CA8: CC=EUR | CB8: CC=EUR | CC8: CC=EUR | CD8: CC=EUR | CE8: CC=EUR | CF8: CC=EUR | CG8: CC=EUR | CH8: CC=EUR | CI8: CC=EUR | CJ8: CC=EUR | CM8: CC=EUR | CN8: CC=EUR | CO8: CC=EUR | CP8: CC=EUR | CQ8: CC=EUR | CR8: CC=EUR | CS8: CC=EUR | CT8: CC=EUR | CU8: CC=EUR | CV8: CC=EUR | CW8: CC=EUR | CX8: CC=EUR
D9: AU sum [All values] | E9: AU sum [All values] | J9: AU sum [All values] | K9: AU sum [All values] | L9: AU sum [All values] | M9: AU sum [All values] | N9: AU sum [All values] | O9: AU sum [All values] | P9: AU sum [All values] | Q9: AU sum [All values] | R9: AU sum [All values] | S9: AU sum [All values] | T9: AU sum [All values] | U9: AU sum [All values] | V9: AU sum [All values] | W9: AU sum [All values] | X9: AU sum [All values] | Y9: AU sum [All values] | Z9: AU sum [All values] | AA9: AU sum [All values] | AB9: AU sum [All values] | AC9: AU sum [All values] | AD9: AU sum [All values] | AE9: AU sum [All values] | AF9: AU sum [All values] | AG9: AU sum [All values] | AH9: AU sum [All values] | AI9: AU sum [All values] | AJ9: AU sum [All values] | AK9: AU sum [All values] | AL9: AU sum [All values] | AM9: AU sum [All values] | AN9: AU sum [All values] | AO9: AU sum [All values] | AP9: AU sum [All values] | AQ9: AU sum [All values] | AR9: AU sum [All values] | AS9: AU sum [All values] | AT9: AU sum [All values] | AU9: AU sum [All values] | AV9: AU sum [All values] | AW9: AU sum [All values] | AX9: AU sum [All values] | AY9: AU sum [All values] | AZ9: AU sum [All values] | BA9: AU sum [All values] | BB9: AU sum [All values] | BC9: AU sum [All values] | BD9: AU sum [All values] | BE9: AU sum [All values] | BF9: AU sum [All values] | BG9: AU sum [All values] | BH9: AU sum [All values] | BI9: AU sum [All values] | BJ9: AU sum [All values] | BK9: AU sum [All values] | BL9: AU sum [All values] | BM9: AU sum [All values] | BN9: AU sum [All values] | BO9: AU sum [All values] | BP9: AU sum [All values] | BQ9: AU sum [All values] | BR9: AU sum [All values] | BS9: AU sum [All values] | BT9: AU sum [All values] | BU9: AU sum [All values] | BY9: AU sum [All values] | BZ9: AU sum [All values] | CA9: AU sum [All values] | CB9: AU sum [All values] | CC9: AU sum [All values] | CD9: AU sum [All values] | CE9: AU sum [All values] | CF9: AU sum [All values] | CG9: AU sum [All values] | CH9: AU sum [All values] | CI9: AU sum [All values] | CJ9: AU sum [All values] | CM9: AU sum [All values] | CN9: AU sum [All values] | CO9: AU sum [All values] | CP9: AU sum [All values] | CQ9: AU sum [All values] | CR9: AU sum [All values] | CS9: AU sum [All values] | CT9: AU sum [All values] | CU9: AU sum [All values] | CV9: AU sum [All values] | CW9: AU sum [All values] | CX9: AU sum [All values]
D10: DEST=PL2402 | E10: DEST=PL2402 | J10: DEST=PL2402 | K10: DEST=PL2402 | L10: DEST=PL2402 | M10: DEST=PL2402 | N10: DEST=PL2404 | O10: DEST=PL2404 | P10: DEST=PL2404 | Q10: DEST=PL2404 | R10: DEST=PL2404 | S10: DEST=PL2406 | T10: DEST=PL2406 | U10: DEST=PL2406 | V10: DEST=PL2406 | W10: DEST=PL2406 | X10: DEST=PL2408 | Y10: DEST=PL2408 | Z10: DEST=PL2408 | AA10: DEST=PL2408 | AB10: DEST=PL2408 | AC10: DEST=PL2412 | AD10: DEST=PL2412 | AE10: DEST=PL2412 | AF10: DEST=PL2412 | AG10: DEST=PL2412 | AH10: DEST=PL2414 | AI10: DEST=PL2414 | AJ10: DEST=PL2414 | AK10: DEST=PL2414 | AL10: DEST=PL2414 | AM10: DEST=PL2418 | AN10: DEST=PL2418 | AO10: DEST=PL2418 | AP10: DEST=PL2418 | AQ10: DEST=PL2418 | AR10: DEST=PL2420 | AS10: DEST=PL2420 | AT10: DEST=PL2420 | AU10: DEST=PL2420 | AV10: DEST=PL2420 | AW10: DEST=PL2422 | AX10: DEST=PL2422 | AY10: DEST=PL2422 | AZ10: DEST=PL2422 | BA10: DEST=PL2422 | BB10: DEST=PL2424 | BC10: DEST=PL2424 | BD10: DEST=PL2424 | BE10: DEST=PL2424 | BF10: DEST=PL2424 | BG10: DEST=PL2426 | BH10: DEST=PL2426 | BI10: DEST=PL2426 | BJ10: DEST=PL2426 | BK10: DEST=PL2426 | BL10: DEST=PL0902 | BM10: DEST=PL0902 | BN10: DEST=PL0902 | BO10: DEST=PL0902 | BP10: DEST=PL0902 | BQ10: DEST=PL0903 | BR10: DEST=PL0903 | BS10: DEST=PL0903 | BT10: DEST=PL0903 | BU10: DEST=PL0903 | BY10: DEST=PL2402 | BZ10: DEST=PL2402 | CA10: DEST=PL2402 | CB10: DEST=PL2402 | CC10: DEST=PL2402 | CD10: DEST=PL2402 | CE10: DEST=PL2402 | CF10: DEST=PL2402 | CG10: DEST=PL2402 | CH10: DEST=PL2402 | CI10: DEST=PL2402 | CJ10: DEST=PL2402 | CM10: DEST=PL2402 | CN10: DEST=PL2402 | CO10: DEST=PL2402 | CP10: DEST=PL2402 | CQ10: DEST=PL2402 | CR10: DEST=PL2402 | CS10: DEST=PL2402 | CT10: DEST=PL2402 | CU10: DEST=PL2402 | CV10: DEST=PL2402 | CW10: DEST=PL2402 | CX10: DEST=PL2402
A13: =RIGHT(B13,3) -> 100 | B13: RU = 100 | C13: Société d’Edition de Canal+ | D13: =_xll.GetCtData("CO-AMOUNT","CONS-AMOUNT",D$1:D$10,$B13,#REF!,"#") -> 0 | E13: =INDEX($BY13:$CJ13,1,MATCH("PE="&RIGHT([1]Contexte!$E$2,7),'staff cost'!$BY$3:$CJ$3)) -> 0 | G13: =INDEX($J13:$BQ13,1,MATCH("DP="&RIGHT([1]Contexte!$E$2,7),'staff cost'!$J$2:$BQ$2))-E13 -> 0 | H13: =INDEX($J13:$BQ13,1,MATCH("DP="&RIGHT([1]Contexte!$E$2,7),$J$2:$BQ$2))-D13 -> 0 | J13: =_xll.GetCtData("CO-AMOUNT","CONS-AMOUNT",J$1:J$10,$B13,#REF!,"#") -> 0 | K13: =_xll.GetCtData("CO-AMOUNT","CONS-AMOUNT",K$1:K$10,$B13,#REF!,"#") -> 0 | L13: =_xll.GetCtData("CO-AMOUNT","CONS-AMOUNT",L$1:L$10,$B13,#REF!,"#") -> 0 | M13: =_xll.GetCtData("CO-AMOUNT","CONS-AMOUNT",M$1:M$10,$B13,#REF!,"#") -> 0 | N13: =_xll.GetCtData("CO-AMOUNT","CONS-AMOUNT",N$1:N$10,$B13,#REF!,"#-20064") -> -20064 | O13: =_xll.GetCtData("CO-AMOUNT","CONS-AMOUNT",O$1:O$10,$B13,#REF!,"#") -> 0 | P13: =_xll.GetCtData("CO-AMOUNT","CONS-AMOUNT",P$1:P$10,$B13,#REF!,"#") -> 0 | Q13: =_xll.GetCtData("CO-AMOUNT","CONS-AMOUNT",Q$1:Q$10,$B13,#REF!,"#") -> 0 | R13: =_xll.GetCtData("CO-AMOUNT","CONS-AMOUNT",R$1:R$10,$B13,#REF!,"#") -> 0 | S13: =_xll.GetCtData("CO-AMOUNT","CONS-AMOUNT",S$1:S$10,$B13,#REF!,"#") -> 0 | T13: =_xll.GetCtData("CO-AMOUNT","CONS-AMOUNT",T$1:T$10,$B13,#REF!,"#") -> 0 | U13: =_xll.GetCtData("CO-AMOUNT","CONS-AMOUNT",U$1:U$10,$B13,#REF!,"#") -> 0 | V13: =_xll.GetCtData("CO-AMOUNT","CONS-AMOUNT",V$1:V$10,$B13,#REF!,"#") -> 0 | ... AB13: =_xll.GetCtData("CO-AMOUNT","CONS-AMOUNT",AB$1:AB$10,$B13,#REF!,"#") -> 0 | AC13: =_xll.GetCtData("CO-AMOUNT","CONS-AMOUNT",AC$1:AC$10,$B13,#REF!,"#-504") -> -504 | AD13: =_xll.GetCtData("CO-AMOUNT","CONS-AMOUNT",AD$1:AD$10,$B13,#REF!,"#") -> 0 | AE13: =_xll.GetCtData("CO-AMOUNT","CONS-AMOUNT",AE$1:AE$10,$B13,#REF!,"#") -> 0 | AF13: =_xll.GetCtData("CO-AMOUNT","CONS-AMOUNT",AF$1:AF$10,$B13,#REF!,"#") -> 0 | AG13: =_xll.GetCtData("CO-AMOUNT","CONS-AMOUNT",AG$1:AG$10,$B13,#REF!,"#") -> 0 | AH13: =_xll.GetCtData("CO-AMOUNT","CONS-AMOUNT",AH$1:AH$10,$B13,#REF!,"#") -> 0 | AI13: =_xll.GetCtData("CO-AMOUNT","CONS-AMOUNT",AI$1:AI$10,$B13,#REF!,"#") -> 0 | AJ13: =_xll.GetCtData("CO-AMOUNT","CONS-AMOUNT",AJ$1:AJ$10,$B13,#REF!,"#") -> 0 | AK13: =_xll.GetCtData("CO-AMOUNT","CONS-AMOUNT",AK$1:AK$10,$B13,#REF!,"#") -> 0 | ... AQ13: =_xll.GetCtData("CO-AMOUNT","CONS-AMOUNT",AQ$1:AQ$10,$B13,#REF!,"#") -> 0 | AR13: =_xll.GetCtData("CO-AMOUNT","CONS-AMOUNT",AR$1:AR$10,$B13,#REF!,"#-3692") -> -3692 | AS13: =_xll.GetCtData("CO-AMOUNT","CONS-AMOUNT",AS$1:AS$10,$B13,#REF!,"#") -> 0 | AT13: =_xll.GetCtData("CO-AMOUNT","CONS-AMOUNT",AT$1:AT$10,$B13,#REF!,"#") -> 0 | AU13: =_xll.GetCtData("CO-AMOUNT","CONS-AMOUNT",AU$1:AU$10,$B13,#REF!,"#") -> 0 | AV13: =_xll.GetCtData("CO-AMOUNT","CONS-AMOUNT",AV$1:AV$10,$B13,#REF!,"#") -> 0 | AW13: =_xll.GetCtData("CO-AMOUNT","CONS-AMOUNT",AW$1:AW$10,$B13,#REF!,"#-2050") -> -2050 | AX13: =_xll.GetCtData("CO-AMOUNT","CONS-AMOUNT",AX$1:AX$10,$B13,#REF!,"#") -> 0 | AY13: =_xll.GetCtData("CO-AMOUNT","CONS-AMOUNT",AY$1:AY$10,$B13,#REF!,"#") -> 0 | AZ13: =_xll.GetCtData("CO-AMOUNT","CONS-AMOUNT",AZ$1:AZ$10,$B13,#REF!,"#") -> 0 | BA13: =_xll.GetCtData("CO-AMOUNT","CONS-AMOUNT",BA$1:BA$10,$B13,#REF!,"#") -> 0 | BB13: =_xll.GetCtData("CO-AMOUNT","CONS-AMOUNT",BB$1:BB$10,$B13,#REF!,"#1298") -> 1298 | BC13: =_xll.GetCtData("CO-AMOUNT","CONS-AMOUNT",BC$1:BC$10,$B13,#REF!,"#") -> 0 | BD13: =_xll.GetCtData("CO-AMOUNT","CONS-AMOUNT",BD$1:BD$10,$B13,#REF!,"#") -> 0 | BE13: =_xll.GetCtData("CO-AMOUNT","CONS-AMOUNT",BE$1:BE$10,$B13,#REF!,"#") -> 0 | BF13: =_xll.GetCtData("CO-AMOUNT","CONS-AMOUNT",BF$1:BF$10,$B13,#REF!,"#") -> 0 | BG13: =_xll.GetCtData("CO-AMOUNT","CONS-AMOUNT",BG$1:BG$10,$B13,#REF!,"#-2136") -> -2136 | BH13: =_xll.GetCtData("CO-AMOUNT","CONS-AMOUNT",BH$1:BH$10,$B13,#REF!,"#") -> 0 | BI13: =_xll.GetCtData("CO-AMOUNT","CONS-AMOUNT",BI$1:BI$10,$B13,#REF!,"#") -> 0 | BJ13: =_xll.GetCtData("CO-AMOUNT","CONS-AMOUNT",BJ$1:BJ$10,$B13,#REF!,"#") -> 0 | BK13: =_xll.GetCtData("CO-AMOUNT","CONS-AMOUNT",BK$1:BK$10,$B13,#REF!,"#") -> 0 | BL13: =_xll.GetCtData("CO-AMOUNT","CONS-AMOUNT",BL$1:BL$10,$B13,#REF!,"#889") -> 889 | BM13: =_xll.GetCtData("CO-AMOUNT","CONS-AMOUNT",BM$1:BM$10,$B13,#REF!,"#") -> 0 | BN13: =_xll.GetCtData("CO-AMOUNT","CONS-AMOUNT",BN$1:BN$10,$B13,#REF!,"#") -> 0 | BO13: =_xll.GetCtData("CO-AMOUNT","CONS-AMOUNT",BO$1:BO$10,$B13,#REF!,"#") -> 0 | BP13: =_xll.GetCtData("CO-AMOUNT","CONS-AMOUNT",BP$1:BP$10,$B13,#REF!,"#") -> 0 | BQ13: =_xll.GetCtData("CO-AMOUNT","CONS-AMOUNT",BQ$1:BQ$10,$B13,#REF!,"#-1065") -> -1065 | BR13: =_xll.GetCtData("CO-AMOUNT","CONS-AMOUNT",BR$1:BR$10,$B13,#REF!,"#") -> 0 | BS13: =_xll.GetCtData("CO-AMOUNT","CONS-AMOUNT",BS$1:BS$10,$B13,#REF!,"#") -> 0 | BT13: =_xll.GetCtData("CO-AMOUNT","CONS-AMOUNT",BT$1:BT$10,$B13,#REF!,"#") -> 0 | BU13: =_xll.GetCtData("CO-AMOUNT","CONS-AMOUNT",BU$1:BU$10,$B13,#REF!,"#") -> 0 | BV13: =+BH13+BQ13+BL13 -> -176 | BY13: =_xll.GetCtData("CO-AMOUNT","CONS-AMOUNT",BY$1:BY$10,$B13,#REF!,"#") -> 0 | BZ13: =_xll.GetCtData("CO-AMOUNT","CONS-AMOUNT",BZ$1:BZ$10,$B13,#REF!,"#")+BY13 -> 0 | CA13: =_xll.GetCtData("CO-AMOUNT","CONS-AMOUNT",CA$1:CA$10,$B13,#REF!,"#")+BZ13 -> 0 | CB13: =_xll.GetCtData("CO-AMOUNT","CONS-AMOUNT",CB$1:CB$10,$B13,#REF!,"#")+CA13 -> 0 | CC13: =_xll.GetCtData("CO-AMOUNT","CONS-AMOUNT",CC$1:CC$10,$B13,#REF!,"#")+CB13 -> 0 | CD13: =_xll.GetCtData("CO-AMOUNT","CONS-AMOUNT",CD$1:CD$10,$B13,#REF!,"#")+CC13 -> 0 | CE13: =_xll.GetCtData("CO-AMOUNT","CONS-AMOUNT",CE$1:CE$10,$B13,#REF!,"#")+CD13 -> 0 | CF13: =_xll.GetCtData("CO-AMOUNT","CONS-AMOUNT",CF$1:CF$10,$B13,#REF!,"#")+CE13 -> 0 | CG13: =_xll.GetCtData("CO-AMOUNT","CONS-AMOUNT",CG$1:CG$10,$B13,#REF!,"#")+CF13 -> 0 | ... CJ13: =_xll.GetCtData("CO-AMOUNT","CONS-AMOUNT",CJ$1:CJ$10,$B13,#REF!,"#")+CI13 -> 0 | CM13: =_xll.GetCtData("CO-AMOUNT","CONS-AMOUNT",CM$1:CM$10,$B13,#REF!,"#") -> 0 | CN13: =_xll.GetCtData("CO-AMOUNT","CONS-AMOUNT",CN$1:CN$10,$B13,#REF!,"#") -> 0 | CO13: =_xll.GetCtData("CO-AMOUNT","CONS-AMOUNT",CO$1:CO$10,$B13,#REF!,"#") -> 0 | CP13: =_xll.GetCtData("CO-AMOUNT","CONS-AMOUNT",CP$1:CP$10,$B13,#REF!,"#") -> 0 | CQ13: =_xll.GetCtData("CO-AMOUNT","CONS-AMOUNT",CQ$1:CQ$10,$B13,#REF!,"#") -> 0 | CR13: =_xll.GetCtData("CO-AMOUNT","CONS-AMOUNT",CR$1:CR$10,$B13,#REF!,"#") -> 0 | CS13: =_xll.GetCtData("CO-AMOUNT","CONS-AMOUNT",CS$1:CS$10,$B13,#REF!,"#") -> 0 | CT13: =_xll.GetCtData("CO-AMOUNT","CONS-AMOUNT",CT$1:CT$10,$B13,#REF!,"#") -> 0 | ... CX13: =_xll.GetCtData("CO-AMOUNT","CONS-AMOUNT",CX$1:CX$10,$B13,#REF!,"#") -> 0
A14: =RIGHT(B14,3) -> 114 | B14: RU = 114 | C14: Sport + SA | D14: =_xll.GetCtData("CO-AMOUNT","CONS-AMOUNT",D$1:D$10,$B14,#REF!,"#") -> 0 | E14: =INDEX($BY14:$CJ14,1,MATCH("PE="&RIGHT([1]Contexte!$E$2,7),'staff cost'!$BY$3:$CJ$3)) -> 0 | G14: =INDEX($J14:$BQ14,1,MATCH("DP="&RIGHT([1]Contexte!$E$2,7),'staff cost'!$J$2:$BQ$2))-E14 -> 0 | H14: =INDEX($J14:$BQ14,1,MATCH("DP="&RIGHT([1]Contexte!$E$2,7),$J$2:$BQ$2))-D14 -> 0 | J14: =_xll.GetCtData("CO-AMOUNT","CONS-AMOUNT",J$1:J$10,$B14,#REF!,"#") -> 0 | K14: =_xll.GetCtData("CO-AMOUNT","CONS-AMOUNT",K$1:K$10,$B14,#REF!,"#") -> 0 | L14: =_xll.GetCtData("CO-AMOUNT","CONS-AMOUNT",L$1:L$10,$B14,#REF!,"#") -> 0 | M14: =_xll.GetCtData("CO-AMOUNT","CONS-AMOUNT",M$1:M$10,$B14,#REF!,"#") -> 0 | N14: =_xll.GetCtData("CO-AMOUNT","CONS-AMOUNT",N$1:N$10,$B14,#REF!,"#") -> 0 | O14: =_xll.GetCtData("CO-AMOUNT","CONS-AMOUNT",O$1:O$10,$B14,#REF!,"#") -> 0 | P14: =_xll.GetCtData("CO-AMOUNT","CONS-AMOUNT",P$1:P$10,$B14,#REF!,"#") -> 0 | Q14: =_xll.GetCtData("CO-AMOUNT","CONS-AMOUNT",Q$1:Q$10,$B14,#REF!,"#") -> 0 | ... BU14: =_xll.GetCtData("CO-AMOUNT","CONS-AMOUNT",BU$1:BU$10,$B14,#REF!,"#") -> 0 | BV14: =+BH14+BQ14+BL14 -> 0 | BY14: =_xll.GetCtData("CO-AMOUNT","CONS-AMOUNT",BY$1:BY$10,$B14,#REF!,"#") -> 0 | BZ14: =_xll.GetCtData("CO-AMOUNT","CONS-AMOUNT",BZ$1:BZ$10,$B14,#REF!,"#")+BY14 -> 0 | CA14: =_xll.GetCtData("CO-AMOUNT","CONS-AMOUNT",CA$1:CA$10,$B14,#REF!,"#")+BZ14 -> 0 | CB14: =_xll.GetCtData("CO-AMOUNT","CONS-AMOUNT",CB$1:CB$10,$B14,#REF!,"#")+CA14 -> 0 | CC14: =_xll.GetCtData("CO-AMOUNT","CONS-AMOUNT",CC$1:CC$10,$B14,#REF!,"#")+CB14 -> 0 | CD14: =_xll.GetCtData("CO-AMOUNT","CONS-AMOUNT",CD$1:CD$10,$B14,#REF!,"#")+CC14 -> 0 | CE14: =_xll.GetCtData("CO-AMOUNT","CONS-AMOUNT",CE$1:CE$10,$B14,#REF!,"#")+CD14 -> 0 | CF14: =_xll.GetCtData("CO-AMOUNT","CONS-AMOUNT",CF$1:CF$10,$B14,#REF!,"#")+CE14 -> 0 | CG14: =_xll.GetCtData("CO-AMOUNT","CONS-AMOUNT",CG$1:CG$10,$B14,#REF!,"#")+CF14 -> 0 | ... CJ14: =_xll.GetCtData("CO-AMOUNT","CONS-AMOUNT",CJ$1:CJ$10,$B14,#REF!,"#")+CI14 -> 0 | CM14: =_xll.GetCtData("CO-AMOUNT","CONS-AMOUNT",CM$1:CM$10,$B14,#REF!,"#") -> 0 | CN14: =_xll.GetCtData("CO-AMOUNT","CONS-AMOUNT",CN$1:CN$10,$B14,#REF!,"#") -> 0 | CO14: =_xll.GetCtData("CO-AMOUNT","CONS-AMOUNT",CO$1:CO$10,$B14,#REF!,"#") -> 0 | CP14: =_xll.GetCtData("CO-AMOUNT","CONS-AMOUNT",CP$1:CP$10,$B14,#REF!,"#") -> 0 | CQ14: =_xll.GetCtData("CO-AMOUNT","CONS-AMOUNT",CQ$1:CQ$10,$B14,#REF!,"#") -> 0 | CR14: =_xll.GetCtData("CO-AMOUNT","CONS-AMOUNT",CR$1:CR$10,$B14,#REF!,"#") -> 0 | CS14: =_xll.GetCtData("CO-AMOUNT","CONS-AMOUNT",CS$1:CS$10,$B14,#REF!,"#") -> 0 | CT14: =_xll.GetCtData("CO-AMOUNT","CONS-AMOUNT",CT$1:CT$10,$B14,#REF!,"#") -> 0 | ... CX14: =_xll.GetCtData("CO-AMOUNT","CONS-AMOUNT",CX$1:CX$10,$B14,#REF!,"#") -> 0
A15: =RIGHT(B15,3) -> 223 | B15: RU = 223 | C15: NPA Prod. | D15: =_xll.GetCtData("CO-AMOUNT","CONS-AMOUNT",D$1:D$10,$B15,#REF!,"#") -> 0 | E15: =INDEX($BY15:$CJ15,1,MATCH("PE="&RIGHT([1]Contexte!$E$2,7),'staff cost'!$BY$3:$CJ$3)) -> 0 | G15: =INDEX($J15:$BQ15,1,MATCH("DP="&RIGHT([1]Contexte!$E$2,7),'staff cost'!$J$2:$BQ$2))-E15 -> 0 | H15: =INDEX($J15:$BQ15,1,MATCH("DP="&RIGHT([1]Contexte!$E$2,7),$J$2:$BQ$2))-D15 -> 0 | J15: =_xll.GetCtData("CO-AMOUNT","CONS-AMOUNT",J$1:J$10,$B15,#REF!,"#") -> 0 | K15: =_xll.GetCtData("CO-AMOUNT","CONS-AMOUNT",K$1:K$10,$B15,#REF!,"#") -> 0 | L15: =_xll.GetCtData("CO-AMOUNT","CONS-AMOUNT",L$1:L$10,$B15,#REF!,"#") -> 0 | M15: =_xll.GetCtData("CO-AMOUNT","CONS-AMOUNT",M$1:M$10,$B15,#REF!,"#") -> 0 | N15: =_xll.GetCtData("CO-AMOUNT","CONS-AMOUNT",N$1:N$10,$B15,#REF!,"#-2706") -> -2706 | O15: =_xll.GetCtData("CO-AMOUNT","CONS-AMOUNT",O$1:O$10,$B15,#REF!,"#") -> 0 | P15: =_xll.GetCtData("CO-AMOUNT","CONS-AMOUNT",P$1:P$10,$B15,#REF!,"#") -> 0 | Q15: =_xll.GetCtData("CO-AMOUNT","CONS-AMOUNT",Q$1:Q$10,$B15,#REF!,"#") -> 0 | R15: =_xll.GetCtData("CO-AMOUNT","CONS-AMOUNT",R$1:R$10,$B15,#REF!,"#") -> 0 | S15: =_xll.GetCtData("CO-AMOUNT","CONS-AMOUNT",S$1:S$10,$B15,#REF!,"#") -> 0 | T15: =_xll.GetCtData("CO-AMOUNT","CONS-AMOUNT",T$1:T$10,$B15,#REF!,"#") -> 0 | U15: =_xll.GetCtData("CO-AMOUNT","CONS-AMOUNT",U$1:U$10,$B15,#REF!,"#") -> 0 | V15: =_xll.GetCtData("CO-AMOUNT","CONS-AMOUNT",V$1:V$10,$B15,#REF!,"#") -> 0 | ... AB15: =_xll.GetCtData("CO-AMOUNT","CONS-AMOUNT",AB$1:AB$10,$B15,#REF!,"#") -> 0 | AC15: =_xll.GetCtData("CO-AMOUNT","CONS-AMOUNT",AC$1:AC$10,$B15,#REF!,"#-62") -> -62 | AD15: =_xll.GetCtData("CO-AMOUNT","CONS-AMOUNT",AD$1:AD$10,$B15,#REF!,"#") -> 0 | AE15: =_xll.GetCtData("CO-AMOUNT","CONS-AMOUNT",AE$1:AE$10,$B15,#REF!,"#") -> 0 | AF15: =_xll.GetCtData("CO-AMOUNT","CONS-AMOUNT",AF$1:AF$10,$B15,#REF!,"#") -> 0 | AG15: =_xll.GetCtData("CO-AMOUNT","CONS-AMOUNT",AG$1:AG$10,$B15,#REF!,"#") -> 0 | AH15: =_xll.GetCtData("CO-AMOUNT","CONS-AMOUNT",AH$1:AH$10,$B15,#REF!,"#") -> 0 | AI15: =_xll.GetCtData("CO-AMOUNT","CONS-AMOUNT",AI$1:AI$10,$B15,#REF!,"#") -> 0 | AJ15: =_xll.GetCtData("CO-AMOUNT","CONS-AMOUNT",AJ$1:AJ$10,$B15,#REF!,"#") -> 0 | AK15: =_xll.GetCtData("CO-AMOUNT","CONS-AMOUNT",AK$1:AK$10,$B15,#REF!,"#") -> 0 | ... AQ15: =_xll.GetCtData("CO-AMOUNT","CONS-AMOUNT",AQ$1:AQ$10,$B15,#REF!,"#") -> 0 | AR15: =_xll.GetCtData("CO-AMOUNT","CONS-AMOUNT",AR$1:AR$10,$B15,#REF!,"#-525") -> -525 | AS15: =_xll.GetCtData("CO-AMOUNT","CONS-AMOUNT",AS$1:AS$10,$B15,#REF!,"#") -> 0 | AT15: =_xll.GetCtData("CO-AMOUNT","CONS-AMOUNT",AT$1:AT$10,$B15,#REF!,"#") -> 0 | AU15: =_xll.GetCtData("CO-AMOUNT","CONS-AMOUNT",AU$1:AU$10,$B15,#REF!,"#") -> 0 | AV15: =_xll.GetCtData("CO-AMOUNT","CONS-AMOUNT",AV$1:AV$10,$B15,#REF!,"#") -> 0 | AW15: =_xll.GetCtData("CO-AMOUNT","CONS-AMOUNT",AW$1:AW$10,$B15,#REF!,"#-974") -> -974 | AX15: =_xll.GetCtData("CO-AMOUNT","CONS-AMOUNT",AX$1:AX$10,$B15,#REF!,"#") -> 0 | AY15: =_xll.GetCtData("CO-AMOUNT","CONS-AMOUNT",AY$1:AY$10,$B15,#REF!,"#") -> 0 | AZ15: =_xll.GetCtData("CO-AMOUNT","CONS-AMOUNT",AZ$1:AZ$10,$B15,#REF!,"#") -> 0 | BA15: =_xll.GetCtData("CO-AMOUNT","CONS-AMOUNT",BA$1:BA$10,$B15,#REF!,"#") -> 0 | BB15: =_xll.GetCtData("CO-AMOUNT","CONS-AMOUNT",BB$1:BB$10,$B15,#REF!,"#-14418") -> -14418 | BC15: =_xll.GetCtData("CO-AMOUNT","CONS-AMOUNT",BC$1:BC$10,$B15,#REF!,"#") -> 0 | BD15: =_xll.GetCtData("CO-AMOUNT","CONS-AMOUNT",BD$1:BD$10,$B15,#REF!,"#") -> 0 | BE15: =_xll.GetCtData("CO-AMOUNT","CONS-AMOUNT",BE$1:BE$10,$B15,#REF!,"#") -> 0 | BF15: =_xll.GetCtData("CO-AMOUNT","CONS-AMOUNT",BF$1:BF$10,$B15,#REF!,"#") -> 0 | BG15: =_xll.GetCtData("CO-AMOUNT","CONS-AMOUNT",BG$1:BG$10,$B15,#REF!,"#-164") -> -164 | BH15: =_xll.GetCtData("CO-AMOUNT","CONS-AMOUNT",BH$1:BH$10,$B15,#REF!,"#") -> 0 | BI15: =_xll.GetCtData("CO-AMOUNT","CONS-AMOUNT",BI$1:BI$10,$B15,#REF!,"#") -> 0 | BJ15: =_xll.GetCtData("CO-AMOUNT","CONS-AMOUNT",BJ$1:BJ$10,$B15,#REF!,"#") -> 0 | BK15: =_xll.GetCtData("CO-AMOUNT","CONS-AMOUNT",BK$1:BK$10,$B15,#REF!,"#") -> 0 | BL15: =_xll.GetCtData("CO-AMOUNT","CONS-AMOUNT",BL$1:BL$10,$B15,#REF!,"#-5") -> -5 | BM15: =_xll.GetCtData("CO-AMOUNT","CONS-AMOUNT",BM$1:BM$10,$B15,#REF!,"#") -> 0 | BN15: =_xll.GetCtData("CO-AMOUNT","CONS-AMOUNT",BN$1:BN$10,$B15,#REF!,"#") -> 0 | BO15: =_xll.GetCtData("CO-AMOUNT","CONS-AMOUNT",BO$1:BO$10,$B15,#REF!,"#") -> 0 | BP15: =_xll.GetCtData("CO-AMOUNT","CONS-AMOUNT",BP$1:BP$10,$B15,#REF!,"#") -> 0 | BQ15: =_xll.GetCtData("CO-AMOUNT","CONS-AMOUNT",BQ$1:BQ$10,$B15,#REF!,"#-118") -> -118 | BR15: =_xll.GetCtData("CO-AMOUNT","CONS-AMOUNT",BR$1:BR$10,$B15,#REF!,"#") -> 0 | BS15: =_xll.GetCtData("CO-AMOUNT","CONS-AMOUNT",BS$1:BS$10,$B15,#REF!,"#") -> 0 | BT15: =_xll.GetCtData("CO-AMOUNT","CONS-AMOUNT",BT$1:BT$10,$B15,#REF!,"#") -> 0 | BU15: =_xll.GetCtData("CO-AMOUNT","CONS-AMOUNT",BU$1:BU$10,$B15,#REF!,"#") -> 0 | BV15: =+BH15+BQ15+BL15 -> -123 | BY15: =_xll.GetCtData("CO-AMOUNT","CONS-AMOUNT",BY$1:BY$10,$B15,#REF!,"#") -> 0 | BZ15: =_xll.GetCtData("CO-AMOUNT","CONS-AMOUNT",BZ$1:BZ$10,$B15,#REF!,"#")+BY15 -> 0 | CA15: =_xll.GetCtData("CO-AMOUNT","CONS-AMOUNT",CA$1:CA$10,$B15,#REF!,"#")+BZ15 -> 0 | CB15: =_xll.GetCtData("CO-AMOUNT","CONS-AMOUNT",CB$1:CB$10,$B15,#REF!,"#")+CA15 -> 0 | CC15: =_xll.GetCtData("CO-AMOUNT","CONS-AMOUNT",CC$1:CC$10,$B15,#REF!,"#")+CB15 -> 0 | CD15: =_xll.GetCtData("CO-AMOUNT","CONS-AMOUNT",CD$1:CD$10,$B15,#REF!,"#")+CC15 -> 0 | CE15: =_xll.GetCtData("CO-AMOUNT","CONS-AMOUNT",CE$1:CE$10,$B15,#REF!,"#")+CD15 -> 0 | CF15: =_xll.GetCtData("CO-AMOUNT","CONS-AMOUNT",CF$1:CF$10,$B15,#REF!,"#")+CE15 -> 0 | CG15: =_xll.GetCtData("CO-AMOUNT","CONS-AMOUNT",CG$1:CG$10,$B15,#REF!,"#")+CF15 -> 0 | ... CJ15: =_xll.GetCtData("CO-AMOUNT","CONS-AMOUNT",CJ$1:CJ$10,$B15,#REF!,"#")+CI15 -> 0 | CM15: =_xll.GetCtData("CO-AMOUNT","CONS-AMOUNT",CM$1:CM$10,$B15,#REF!,"#") -> 0 | CN15: =_xll.GetCtData("CO-AMOUNT","CONS-AMOUNT",CN$1:CN$10,$B15,#REF!,"#") -> 0 | CO15: =_xll.GetCtData("CO-AMOUNT","CONS-AMOUNT",CO$1:CO$10,$B15,#REF!,"#") -> 0 | CP15: =_xll.GetCtData("CO-AMOUNT","CONS-AMOUNT",CP$1:CP$10,$B15,#REF!,"#") -> 0 | CQ15: =_xll.GetCtData("CO-AMOUNT","CONS-AMOUNT",CQ$1:CQ$10,$B15,#REF!,"#") -> 0 | CR15: =_xll.GetCtData("CO-AMOUNT","CONS-AMOUNT",CR$1:CR$10,$B15,#REF!,"#") -> 0 | CS15: =_xll.GetCtData("CO-AMOUNT","CONS-AMOUNT",CS$1:CS$10,$B15,#REF!,"#") -> 0 | CT15: =_xll.GetCtData("CO-AMOUNT","CONS-AMOUNT",CT$1:CT$10,$B15,#REF!,"#") -> 0 | ... CX15: =_xll.GetCtData("CO-AMOUNT","CONS-AMOUNT",CX$1:CX$10,$B15,#REF!,"#") -> 0
A16: =RIGHT(B16,3) -> 200 | B16: RU = 200 | C16: Groupe C+ | D16: =_xll.GetCtData("CO-AMOUNT","CONS-AMOUNT",D$1:D$10,$B16,#REF!,"#") -> 0 | E16: =INDEX($BY16:$CJ16,1,MATCH("PE="&RIGHT([1]Contexte!$E$2,7),'staff cost'!$BY$3:$CJ$3)) -> 0 | G16: =INDEX($J16:$BQ16,1,MATCH("DP="&RIGHT([1]Contexte!$E$2,7),'staff cost'!$J$2:$BQ$2))-E16 -> 0 | H16: =INDEX($J16:$BQ16,1,MATCH("DP="&RIGHT([1]Contexte!$E$2,7),$J$2:$BQ$2))-D16 -> 0 | J16: =_xll.GetCtData("CO-AMOUNT","CONS-AMOUNT",J$1:J$10,$B16,#REF!,"#") -> 0 | K16: =_xll.GetCtData("CO-AMOUNT","CONS-AMOUNT",K$1:K$10,$B16,#REF!,"#") -> 0 | L16: =_xll.GetCtData("CO-AMOUNT","CONS-AMOUNT",L$1:L$10,$B16,#REF!,"#") -> 0 | M16: =_xll.GetCtData("CO-AMOUNT","CONS-AMOUNT",M$1:M$10,$B16,#REF!,"#") -> 0 | N16: =_xll.GetCtData("CO-AMOUNT","CONS-AMOUNT",N$1:N$10,$B16,#REF!,"#-21998") -> -21998 | O16: =_xll.GetCtData("CO-AMOUNT","CONS-AMOUNT",O$1:O$10,$B16,#REF!,"#") -> 0 | P16: =_xll.GetCtData("CO-AMOUNT","CONS-AMOUNT",P$1:P$10,$B16,#REF!,"#") -> 0 | Q16: =_xll.GetCtData("CO-AMOUNT","CONS-AMOUNT",Q$1:Q$10,$B16,#REF!,"#") -> 0 | R16: =_xll.GetCtData("CO-AMOUNT","CONS-AMOUNT",R$1:R$10,$B16,#REF!,"#") -> 0 | S16: =_xll.GetCtData("CO-AMOUNT","CONS-AMOUNT",S$1:S$10,$B16,#REF!,"#9443") -> 9443 | T16: =_xll.GetCtData("CO-AMOUNT","CONS-AMOUNT",T$1:T$10,$B16,#REF!,"#") -> 0 | U16: =_xll.GetCtData("CO-AMOUNT","CONS-AMOUNT",U$1:U$10,$B16,#REF!,"#") -> 0 | V16: =_xll.GetCtData("CO-AMOUNT","CONS-AMOUNT",V$1:V$10,$B16,#REF!,"#") -> 0 | W16: =_xll.GetCtData("CO-AMOUNT","CONS-AMOUNT",W$1:W$10,$B16,#REF!,"#") -> 0 | X16: =_xll.GetCtData("CO-AMOUNT","CONS-AMOUNT",X$1:X$10,$B16,#REF!,"#-1263") -> -1263 | Y16: =_xll.GetCtData("CO-AMOUNT","CONS-AMOUNT",Y$1:Y$10,$B16,#REF!,"#") -> 0 | Z16: =_xll.GetCtData("CO-AMOUNT","CONS-AMOUNT",Z$1:Z$10,$B16,#REF!,"#") -> 0 | AA16: =_xll.GetCtData("CO-AMOUNT","CONS-AMOUNT",AA$1:AA$10,$B16,#REF!,"#") -> 0 | AB16: =_xll.GetCtData("CO-AMOUNT","CONS-AMOUNT",AB$1:AB$10,$B16,#REF!,"#") -> 0 | AC16: =_xll.GetCtData("CO-AMOUNT","CONS-AMOUNT",AC$1:AC$10,$B16,#REF!,"#-845") -> -845 | AD16: =_xll.GetCtData("CO-AMOUNT","CONS-AMOUNT",AD$1:AD$10,$B16,#REF!,"#") -> 0 | AE16: =_xll.GetCtData("CO-AMOUNT","CONS-AMOUNT",AE$1:AE$10,$B16,#REF!,"#") -> 0 | AF16: =_xll.GetCtData("CO-AMOUNT","CONS-AMOUNT",AF$1:AF$10,$B16,#REF!,"#") -> 0 | AG16: =_xll.GetCtData("CO-AMOUNT","CONS-AMOUNT",AG$1:AG$10,$B16,#REF!,"#") -> 0 | AH16: =_xll.GetCtData("CO-AMOUNT","CONS-AMOUNT",AH$1:AH$10,$B16,#REF!,"#") -> 0 | AI16: =_xll.GetCtData("CO-AMOUNT","CONS-AMOUNT",AI$1:AI$10,$B16,#REF!,"#") -> 0 | AJ16: =_xll.GetCtData("CO-AMOUNT","CONS-AMOUNT",AJ$1:AJ$10,$B16,#REF!,"#") -> 0 | AK16: =_xll.GetCtData("CO-AMOUNT","CONS-AMOUNT",AK$1:AK$10,$B16,#REF!,"#") -> 0 | ... AQ16: =_xll.GetCtData("CO-AMOUNT","CONS-AMOUNT",AQ$1:AQ$10,$B16,#REF!,"#") -> 0 | AR16: =_xll.GetCtData("CO-AMOUNT","CONS-AMOUNT",AR$1:AR$10,$B16,#REF!,"#-5192") -> -5192 | AS16: =_xll.GetCtData("CO-AMOUNT","CONS-AMOUNT",AS$1:AS$10,$B16,#REF!,"#") -> 0 | AT16: =_xll.GetCtData("CO-AMOUNT","CONS-AMOUNT",AT$1:AT$10,$B16,#REF!,"#") -> 0 | AU16: =_xll.GetCtData("CO-AMOUNT","CONS-AMOUNT",AU$1:AU$10,$B16,#REF!,"#") -> 0 | AV16: =_xll.GetCtData("CO-AMOUNT","CONS-AMOUNT",AV$1:AV$10,$B16,#REF!,"#") -> 0 | AW16: =_xll.GetCtData("CO-AMOUNT","CONS-AMOUNT",AW$1:AW$10,$B16,#REF!,"#-12618") -> -12618 | AX16: =_xll.GetCtData("CO-AMOUNT","CONS-AMOUNT",AX$1:AX$10,$B16,#REF!,"#") -> 0 | AY16: =_xll.GetCtData("CO-AMOUNT","CONS-AMOUNT",AY$1:AY$10,$B16,#REF!,"#") -> 0 | AZ16: =_xll.GetCtData("CO-AMOUNT","CONS-AMOUNT",AZ$1:AZ$10,$B16,#REF!,"#") -> 0 | BA16: =_xll.GetCtData("CO-AMOUNT","CONS-AMOUNT",BA$1:BA$10,$B16,#REF!,"#") -> 0 | BB16: =_xll.GetCtData("CO-AMOUNT","CONS-AMOUNT",BB$1:BB$10,$B16,#REF!,"#3006") -> 3006 | BC16: =_xll.GetCtData("CO-AMOUNT","CONS-AMOUNT",BC$1:BC$10,$B16,#REF!,"#") -> 0 | BD16: =_xll.GetCtData("CO-AMOUNT","CONS-AMOUNT",BD$1:BD$10,$B16,#REF!,"#") -> 0 | BE16: =_xll.GetCtData("CO-AMOUNT","CONS-AMOUNT",BE$1:BE$10,$B16,#REF!,"#") -> 0 | BF16: =_xll.GetCtData("CO-AMOUNT","CONS-AMOUNT",BF$1:BF$10,$B16,#REF!,"#") -> 0 | BG16: =_xll.GetCtData("CO-AMOUNT","CONS-AMOUNT",BG$1:BG$10,$B16,#REF!,"#-2019") -> -2019 | BH16: =_xll.GetCtData("CO-AMOUNT","CONS-AMOUNT",BH$1:BH$10,$B16,#REF!,"#") -> 0 | BI16: =_xll.GetCtData("CO-AMOUNT","CONS-AMOUNT",BI$1:BI$10,$B16,#REF!,"#") -> 0 | BJ16: =_xll.GetCtData("CO-AMOUNT","CONS-AMOUNT",BJ$1:BJ$10,$B16,#REF!,"#") -> 0 | BK16: =_xll.GetCtData("CO-AMOUNT","CONS-AMOUNT",BK$1:BK$10,$B16,#REF!,"#") -> 0 | BL16: =_xll.GetCtData("CO-AMOUNT","CONS-AMOUNT",BL$1:BL$10,$B16,#REF!,"#887") -> 887 | BM16: =_xll.GetCtData("CO-AMOUNT","CONS-AMOUNT",BM$1:BM$10,$B16,#REF!,"#") -> 0 | BN16: =_xll.GetCtData("CO-AMOUNT","CONS-AMOUNT",BN$1:BN$10,$B16,#REF!,"#") -> 0 | BO16: =_xll.GetCtData("CO-AMOUNT","CONS-AMOUNT",BO$1:BO$10,$B16,#REF!,"#") -> 0 | BP16: =_xll.GetCtData("CO-AMOUNT","CONS-AMOUNT",BP$1:BP$10,$B16,#REF!,"#") -> 0 | BQ16: =_xll.GetCtData("CO-AMOUNT","CONS-AMOUNT",BQ$1:BQ$10,$B16,#REF!,"#-1160") -> -1160 | BR16: =_xll.GetCtData("CO-AMOUNT","CONS-AMOUNT",BR$1:BR$10,$B16,#REF!,"#") -> 0 | BS16: =_xll.GetCtData("CO-AMOUNT","CONS-AMOUNT",BS$1:BS$10,$B16,#REF!,"#") -> 0 | BT16: =_xll.GetCtData("CO-AMOUNT","CONS-AMOUNT",BT$1:BT$10,$B16,#REF!,"#") -> 0 | BU16: =_xll.GetCtData("CO-AMOUNT","CONS-AMOUNT",BU$1:BU$10,$B16,#REF!,"#") -> 0 | BV16: =+BH16+BQ16+BL16 -> -273 | BY16: =_xll.GetCtData("CO-AMOUNT","CONS-AMOUNT",BY$1:BY$10,$B16,#REF!,"#") -> 0 | BZ16: =_xll.GetCtData("CO-AMOUNT","CONS-AMOUNT",BZ$1:BZ$10,$B16,#REF!,"#")+BY16 -> 0 | CA16: =_xll.GetCtData("CO-AMOUNT","CONS-AMOUNT",CA$1:CA$10,$B16,#REF!,"#")+BZ16 -> 0 | CB16: =_xll.GetCtData("CO-AMOUNT","CONS-AMOUNT",CB$1:CB$10,$B16,#REF!,"#")+CA16 -> 0 | CC16: =_xll.GetCtData("CO-AMOUNT","CONS-AMOUNT",CC$1:CC$10,$B16,#REF!,"#")+CB16 -> 0 | CD16: =_xll.GetCtData("CO-AMOUNT","CONS-AMOUNT",CD$1:CD$10,$B16,#REF!,"#")+CC16 -> 0 | CE16: =_xll.GetCtData("CO-AMOUNT","CONS-AMOUNT",CE$1:CE$10,$B16,#REF!,"#")+CD16 -> 0 | CF16: =_xll.GetCtData("CO-AMOUNT","CONS-AMOUNT",CF$1:CF$10,$B16,#REF!,"#")+CE16 -> 0 | CG16: =_xll.GetCtData("CO-AMOUNT","CONS-AMOUNT",CG$1:CG$10,$B16,#REF!,"#")+CF16 -> 0 | ... CJ16: =_xll.GetCtData("CO-AMOUNT","CONS-AMOUNT",CJ$1:CJ$10,$B16,#REF!,"#")+CI16 -> 0 | CM16: =_xll.GetCtData("CO-AMOUNT","CONS-AMOUNT",CM$1:CM$10,$B16,#REF!,"#") -> 0 | CN16: =_xll.GetCtData("CO-AMOUNT","CONS-AMOUNT",CN$1:CN$10,$B16,#REF!,"#") -> 0 | CO16: =_xll.GetCtData("CO-AMOUNT","CONS-AMOUNT",CO$1:CO$10,$B16,#REF!,"#") -> 0 | CP16: =_xll.GetCtData("CO-AMOUNT","CONS-AMOUNT",CP$1:CP$10,$B16,#REF!,"#") -> 0 | CQ16: =_xll.GetCtData("CO-AMOUNT","CONS-AMOUNT",CQ$1:CQ$10,$B16,#REF!,"#") -> 0 | CR16: =_xll.GetCtData("CO-AMOUNT","CONS-AMOUNT",CR$1:CR$10,$B16,#REF!,"#") -> 0 | CS16: =_xll.GetCtData("CO-AMOUNT","CONS-AMOUNT",CS$1:CS$10,$B16,#REF!,"#") -> 0 | CT16: =_xll.GetCtData("CO-AMOUNT","CONS-AMOUNT",CT$1:CT$10,$B16,#REF!,"#") -> 0 | ... CX16: =_xll.GetCtData("CO-AMOUNT","CONS-AMOUNT",CX$1:CX$10,$B16,#REF!,"#") -> 0

Sheet pour essbase
A1: D_CA | B1: D_DP | C1: D_PE | D1: D_RU | E1: D_FL | F1: D_AU | G1: D_T1 | H1: D_T2 | I1: D_CU | J1: D_DEST | K1: P_AMOUNT
A2: LE | B2: =RIGHT('staff cost'!X2,7) -> 2018.08 | C2: 2018.09 | D2: 100 | E2: F99M | F2: 0LIA01 | I2: EUR | J2: PL2402 | K2: somme.si Ou somme.si.ens
A3: =A2 -> LE | B3: =B2 -> 2018.08 | C3: =C2 -> 2018.09 | D3: 114 | E3: F99M | F3: 0LIA01 | I3: EUR | J3: PL2402
A4: =A3 -> LE | B4: =B3 -> 2018.08 | C4: =C3 -> 2018.09 | D4: 223 | E4: F99M | F4: 0LIA01 | I4: EUR | J4: PL2402
A5: =A4 -> LE | B5: =B4 -> 2018.08 | C5: =C4 -> 2018.09 | D5: 200 | E5: F99M | F5: 0LIA01 | I5: EUR | J5: PL2402
A6: =A5 -> LE | B6: =B5 -> 2018.08 | C6: 2018.10 | D6: =D2 -> 100 | E6: F99M | F6: 0LIA01 | I6: EUR | J6: PL2404
A7: =A6 -> LE | B7: =B6 -> 2018.08 | C7: =C6 -> 2018.10 | D7: 114 | E7: F99M | F7: 0LIA01 | I7: EUR | J7: PL2404
A8: =A7 -> LE | B8: =B7 -> 2018.08 | C8: =C7 -> 2018.10 | D8: 223 | E8: F99M | F8: 0LIA01 | I8: EUR | J8: PL2404
A9: =A8 -> LE | B9: =B8 -> 2018.08 | C9: =C8 -> 2018.10 | D9: 200 | E9: F99M | F9: 0LIA01 | I9: EUR | J9: PL2404
A10: LE | B10: =B9 -> 2018.08 | C10: 2018.11 | D10: 100 | E10: F99M | F10: 0LIA01 | I10: EUR | J10: PL2402
A11: =A10 -> LE | B11: =B10 -> 2018.08 | C11: =C10 -> 2018.11 | D11: 114 | E11: F99M | F11: 0LIA01 | I11: EUR | J11: PL2402
A12: =A11 -> LE | B12: =B11 -> 2018.08 | C12: =C11 -> 2018.11 | D12: 223 | E12: F99M | F12: 0LIA01 | I12: EUR | J12: PL2402
A13: =A12 -> LE | B13: =B12 -> 2018.08 | C13: =C12 -> 2018.11 | D13: 200 | E13: F99M | F13: 0LIA01 | I13: EUR | J13: PL2402
A14: =A13 -> LE | B14: =B13 -> 2018.08 | C14: 2018.12 | D14: =D10 -> 100 | E14: F99M | F14: 0LIA01 | I14: EUR | J14: PL2404
A15: =A14 -> LE | B15: =B14 -> 2018.08 | C15: =C14 -> 2018.12 | D15: 114 | E15: F99M | F15: 0LIA01 | I15: EUR | J15: PL2404
A16: =A15 -> LE | B16: =B15 -> 2018.08 | C16: =C15 -> 2018.12 | D16: 223 | E16: F99M | F16: 0LIA01 | I16: EUR | J16: PL2404
A17: =A16 -> LE | B17: =B16 -> 2018.08 | C17: =C16 -> 2018.12 | D17: 200 | E17: F99M | F17: 0LIA01 | I17: EUR | J17: PL2404
