Workbook
Name _Dec2006: #REF!
Name _Dec2006: #REF!
Name _oct09: '[1]09-10 14h40'!$A$1:$Y$95
Name avril04: '[2]04-04-2006'!$A$1:$Y$92
Name avril07: '[3]03-04-2007'!$A$3:$AA$87
Name decembre: '[4]décembre 2005'!$1:$1048576
Name décembre07: #REF!
Name décembre07: #REF!
Name décembre08: '[5]Extraction PER G 2008-12 14h'!$A$5:$AO$109
Name décembre08V2: '[5]Extraction PER G 2008-12 17h '!$A$5:$AO$122
Name decembre2005: '[6]décembre 2005'!$A$1:$Y$128
Name decV3: '[5]Extraction périmètre G 23-12'!$A$5:$AO$115
Name juin06: #REF!
Name juin06: #REF!
Name juin15: #REF!
Name juin15: #REF!
Name juin15b: #REF!
Name juin15b: #REF!
Name juin15c: '[4]15 06 2006 12h05'!$A$1:$Z$96
Name Juin2006: [1]juin2006!$A$1:$Y$95
Name Juin2007: '[7]Périmètre G CS 2007-06 du 03-07'!$A$1:$AO$103
Name Juin2008: #REF!
Name Juin2008: #REF!
Name Juin2008bis: #REF!
Name Juin2008bis: #REF!
Name juin22: #REF!
Name juin22: #REF!
Name juin30: #REF!
Name juin30: #REF!
Name mars06: #REF!
Name mars06: #REF!
Name mars15: '[6]15-3-2006'!$A$1:$Y$91
Name Mars2008: #REF!
Name Mars2008: #REF!
Name sept06: #REF!
Name sept06: #REF!
Name Sept2008: '[5]PER G 2008-09'!$A$1:$AO$109
Name Septembre2007: '[7]Périmètre G CS 09-2007 du 06-09'!$A$2:$AO$103

Sheet Comparatif  C+I
A1: Comparatif LE 2018.03 vs CS 2017-12 | K1: A modifier 539 / 578 /585
A2: Périmètre G
A3: Unité (code) | B3: Méth. Clôt. (modifié) | C3: Intégr, Clôt, (modifié) | D3: Contr, Clôt, (modifié) | E3: Intér, Clôt, (modifié) | K3: commentaires
A4: V04 | B4: =+IF(+VLOOKUP($A4,'[8]Périmètre G 2018'!$A$6:$AQ$172,3,0)=VLOOKUP($A4,'2018'!$A$5:$F$63,3,0),"idem","pas pareil") -> pas pareil | C4: =+IF(+VLOOKUP($A4,'[8]Périmètre G 2018'!$A$6:$AQ$172,4,0)=VLOOKUP($A4,'2018'!$A$5:$F$63,4,0),"idem","pas pareil") -> pas pareil | D4: =+IF(+VLOOKUP($A4,'[8]Périmètre G 2018'!$A$6:$AQ$172,5,0)=VLOOKUP($A4,'2018'!$A$5:$F$63,5,0),"idem","pas pareil") -> pas pareil | E4: =+IF(+VLOOKUP($A4,'[8]Périmètre G 2018'!$A$6:$AQ$172,6,0)=VLOOKUP($A4,'2018'!$A$5:$F$63,6,0),"idem","pas pareil") -> pas pareil
A5: V05 | B5: =+IF(+VLOOKUP($A5,'[8]Périmètre G 2018'!$A$6:$AQ$172,3,0)=VLOOKUP($A5,'2018'!$A$5:$F$63,3,0),"idem","pas pareil") -> pas pareil | C5: =+IF(+VLOOKUP($A5,'[8]Périmètre G 2018'!$A$6:$AQ$172,4,0)=VLOOKUP($A5,'2018'!$A$5:$F$63,4,0),"idem","pas pareil") -> pas pareil | D5: =+IF(+VLOOKUP($A5,'[8]Périmètre G 2018'!$A$6:$AQ$172,5,0)=VLOOKUP($A5,'2018'!$A$5:$F$63,5,0),"idem","pas pareil") -> pas pareil | E5: =+IF(+VLOOKUP($A5,'[8]Périmètre G 2018'!$A$6:$AQ$172,6,0)=VLOOKUP($A5,'2018'!$A$5:$F$63,6,0),"idem","pas pareil") -> pas pareil
A6: V06 | B6: =+IF(+VLOOKUP($A6,'[8]Périmètre G 2018'!$A$6:$AQ$172,3,0)=VLOOKUP($A6,'2018'!$A$5:$F$63,3,0),"idem","pas pareil") -> pas pareil | C6: =+IF(+VLOOKUP($A6,'[8]Périmètre G 2018'!$A$6:$AQ$172,4,0)=VLOOKUP($A6,'2018'!$A$5:$F$63,4,0),"idem","pas pareil") -> pas pareil | D6: =+IF(+VLOOKUP($A6,'[8]Périmètre G 2018'!$A$6:$AQ$172,5,0)=VLOOKUP($A6,'2018'!$A$5:$F$63,5,0),"idem","pas pareil") -> pas pareil | E6: =+IF(+VLOOKUP($A6,'[8]Périmètre G 2018'!$A$6:$AQ$172,6,0)=VLOOKUP($A6,'2018'!$A$5:$F$63,6,0),"idem","pas pareil") -> pas pareil
A7: V08 | B7: =+IF(+VLOOKUP($A7,'[8]Périmètre G 2018'!$A$6:$AQ$172,3,0)=VLOOKUP($A7,'2018'!$A$5:$F$63,3,0),"idem","pas pareil") -> pas pareil | C7: =+IF(+VLOOKUP($A7,'[8]Périmètre G 2018'!$A$6:$AQ$172,4,0)=VLOOKUP($A7,'2018'!$A$5:$F$63,4,0),"idem","pas pareil") -> pas pareil | D7: =+IF(+VLOOKUP($A7,'[8]Périmètre G 2018'!$A$6:$AQ$172,5,0)=VLOOKUP($A7,'2018'!$A$5:$F$63,5,0),"idem","pas pareil") -> pas pareil | E7: =+IF(+VLOOKUP($A7,'[8]Périmètre G 2018'!$A$6:$AQ$172,6,0)=VLOOKUP($A7,'2018'!$A$5:$F$63,6,0),"idem","pas pareil") -> pas pareil
A8: V09 | B8: =+IF(+VLOOKUP($A8,'[8]Périmètre G 2018'!$A$6:$AQ$172,3,0)=VLOOKUP($A8,'2018'!$A$5:$F$63,3,0),"idem","pas pareil") -> #N/A | C8: =+IF(+VLOOKUP($A8,'[8]Périmètre G 2018'!$A$6:$AQ$172,4,0)=VLOOKUP($A8,'2018'!$A$5:$F$63,4,0),"idem","pas pareil") -> #N/A | D8: =+IF(+VLOOKUP($A8,'[8]Périmètre G 2018'!$A$6:$AQ$172,5,0)=VLOOKUP($A8,'2018'!$A$5:$F$63,5,0),"idem","pas pareil") -> #N/A | E8: =+IF(+VLOOKUP($A8,'[8]Périmètre G 2018'!$A$6:$AQ$172,6,0)=VLOOKUP($A8,'2018'!$A$5:$F$63,6,0),"idem","pas pareil") -> #N/A
A9: V12 | B9: =+IF(+VLOOKUP($A9,'[8]Périmètre G 2018'!$A$6:$AQ$172,3,0)=VLOOKUP($A9,'2018'!$A$5:$F$63,3,0),"idem","pas pareil") -> pas pareil | C9: =+IF(+VLOOKUP($A9,'[8]Périmètre G 2018'!$A$6:$AQ$172,4,0)=VLOOKUP($A9,'2018'!$A$5:$F$63,4,0),"idem","pas pareil") -> pas pareil | D9: =+IF(+VLOOKUP($A9,'[8]Périmètre G 2018'!$A$6:$AQ$172,5,0)=VLOOKUP($A9,'2018'!$A$5:$F$63,5,0),"idem","pas pareil") -> pas pareil | E9: =+IF(+VLOOKUP($A9,'[8]Périmètre G 2018'!$A$6:$AQ$172,6,0)=VLOOKUP($A9,'2018'!$A$5:$F$63,6,0),"idem","pas pareil") -> pas pareil
A10: V13 | B10: =+IF(+VLOOKUP($A10,'[8]Périmètre G 2018'!$A$6:$AQ$172,3,0)=VLOOKUP($A10,'2018'!$A$5:$F$63,3,0),"idem","pas pareil") -> pas pareil | C10: =+IF(+VLOOKUP($A10,'[8]Périmètre G 2018'!$A$6:$AQ$172,4,0)=VLOOKUP($A10,'2018'!$A$5:$F$63,4,0),"idem","pas pareil") -> pas pareil | D10: =+IF(+VLOOKUP($A10,'[8]Périmètre G 2018'!$A$6:$AQ$172,5,0)=VLOOKUP($A10,'2018'!$A$5:$F$63,5,0),"idem","pas pareil") -> pas pareil | E10: =+IF(+VLOOKUP($A10,'[8]Périmètre G 2018'!$A$6:$AQ$172,6,0)=VLOOKUP($A10,'2018'!$A$5:$F$63,6,0),"idem","pas pareil") -> pas pareil
A11: V17 | B11: =+IF(+VLOOKUP($A11,'[8]Périmètre G 2018'!$A$6:$AQ$172,3,0)=VLOOKUP($A11,'2018'!$A$5:$F$63,3,0),"idem","pas pareil") -> pas pareil | C11: =+IF(+VLOOKUP($A11,'[8]Périmètre G 2018'!$A$6:$AQ$172,4,0)=VLOOKUP($A11,'2018'!$A$5:$F$63,4,0),"idem","pas pareil") -> pas pareil | D11: =+IF(+VLOOKUP($A11,'[8]Périmètre G 2018'!$A$6:$AQ$172,5,0)=VLOOKUP($A11,'2018'!$A$5:$F$63,5,0),"idem","pas pareil") -> pas pareil | E11: =+IF(+VLOOKUP($A11,'[8]Périmètre G 2018'!$A$6:$AQ$172,6,0)=VLOOKUP($A11,'2018'!$A$5:$F$63,6,0),"idem","pas pareil") -> pas pareil
A12: V19 | B12: =+IF(+VLOOKUP($A12,'[8]Périmètre G 2018'!$A$6:$AQ$172,3,0)=VLOOKUP($A12,'2018'!$A$5:$F$63,3,0),"idem","pas pareil") -> pas pareil | C12: =+IF(+VLOOKUP($A12,'[8]Périmètre G 2018'!$A$6:$AQ$172,4,0)=VLOOKUP($A12,'2018'!$A$5:$F$63,4,0),"idem","pas pareil") -> pas pareil | D12: =+IF(+VLOOKUP($A12,'[8]Périmètre G 2018'!$A$6:$AQ$172,5,0)=VLOOKUP($A12,'2018'!$A$5:$F$63,5,0),"idem","pas pareil") -> pas pareil | E12: =+IF(+VLOOKUP($A12,'[8]Périmètre G 2018'!$A$6:$AQ$172,6,0)=VLOOKUP($A12,'2018'!$A$5:$F$63,6,0),"idem","pas pareil") -> pas pareil
A13: V25 | B13: =+IF(+VLOOKUP($A13,'[8]Périmètre G 2018'!$A$6:$AQ$172,3,0)=VLOOKUP($A13,'2018'!$A$5:$F$63,3,0),"idem","pas pareil") -> pas pareil | C13: =+IF(+VLOOKUP($A13,'[8]Périmètre G 2018'!$A$6:$AQ$172,4,0)=VLOOKUP($A13,'2018'!$A$5:$F$63,4,0),"idem","pas pareil") -> pas pareil | D13: =+IF(+VLOOKUP($A13,'[8]Périmètre G 2018'!$A$6:$AQ$172,5,0)=VLOOKUP($A13,'2018'!$A$5:$F$63,5,0),"idem","pas pareil") -> pas pareil | E13: =+IF(+VLOOKUP($A13,'[8]Périmètre G 2018'!$A$6:$AQ$172,6,0)=VLOOKUP($A13,'2018'!$A$5:$F$63,6,0),"idem","pas pareil") -> pas pareil
A14: V26 | B14: =+IF(+VLOOKUP($A14,'[8]Périmètre G 2018'!$A$6:$AQ$172,3,0)=VLOOKUP($A14,'2018'!$A$5:$F$63,3,0),"idem","pas pareil") -> pas pareil | C14: =+IF(+VLOOKUP($A14,'[8]Périmètre G 2018'!$A$6:$AQ$172,4,0)=VLOOKUP($A14,'2018'!$A$5:$F$63,4,0),"idem","pas pareil") -> pas pareil | D14: =+IF(+VLOOKUP($A14,'[8]Périmètre G 2018'!$A$6:$AQ$172,5,0)=VLOOKUP($A14,'2018'!$A$5:$F$63,5,0),"idem","pas pareil") -> pas pareil | E14: =+IF(+VLOOKUP($A14,'[8]Périmètre G 2018'!$A$6:$AQ$172,6,0)=VLOOKUP($A14,'2018'!$A$5:$F$63,6,0),"idem","pas pareil") -> pas pareil
A15: V31 | B15: =+IF(+VLOOKUP($A15,'[8]Périmètre G 2018'!$A$6:$AQ$172,3,0)=VLOOKUP($A15,'2018'!$A$5:$F$63,3,0),"idem","pas pareil") -> pas pareil | C15: =+IF(+VLOOKUP($A15,'[8]Périmètre G 2018'!$A$6:$AQ$172,4,0)=VLOOKUP($A15,'2018'!$A$5:$F$63,4,0),"idem","pas pareil") -> pas pareil | D15: =+IF(+VLOOKUP($A15,'[8]Périmètre G 2018'!$A$6:$AQ$172,5,0)=VLOOKUP($A15,'2018'!$A$5:$F$63,5,0),"idem","pas pareil") -> pas pareil | E15: =+IF(+VLOOKUP($A15,'[8]Périmètre G 2018'!$A$6:$AQ$172,6,0)=VLOOKUP($A15,'2018'!$A$5:$F$63,6,0),"idem","pas pareil") -> pas pareil
... A59: VUGW | B59: =+IF(+VLOOKUP($A59,'[8]Périmètre G 2018'!$A$6:$AQ$172,3,0)=VLOOKUP($A59,'2018'!$A$5:$F$63,3,0),"idem","pas pareil") -> #N/A | C59: =+IF(+VLOOKUP($A59,'[8]Périmètre G 2018'!$A$6:$AQ$172,4,0)=VLOOKUP($A59,'2018'!$A$5:$F$63,4,0),"idem","pas pareil") -> #N/A | D59: =+IF(+VLOOKUP($A59,'[8]Périmètre G 2018'!$A$6:$AQ$172,5,0)=VLOOKUP($A59,'2018'!$A$5:$F$63,5,0),"idem","pas pareil") -> #N/A | E59: =+IF(+VLOOKUP($A59,'[8]Périmètre G 2018'!$A$6:$AQ$172,6,0)=VLOOKUP($A59,'2018'!$A$5:$F$63,6,0),"idem","pas pareil") -> #N/A

Sheet 2017.12
A1: Périmètre (Juridique) : G - 2017.12 - S-1
A4: Lignes de périmètre
A5: Unité (code) | B5: Méthode modif. (Clôture) | C5: Tx intég. modif. (Clôture) | D5: Tx contr. modif. (Clôture) | E5: Tx intérêt modif. (Clôture) | F5: Méthode modif. (Ouverture de liasse)
A6: 100 | B6: Globale (IG) | C6: 100.000000 | D6: 99.999999 | E6: 99.999999 | F6: Globale (IG)
A7: 102 | B7: Globale (IG) | C7: 100.000000 | D7: 100.000000 | E7: 100.000000 | F7: Globale (IG)
A8: 114 | B8: Globale (IG) | C8: 100.000000 | D8: 100.000000 | E8: 99.999999 | F8: Globale (IG)
A9: 117 | B9: Globale (IG) | C9: 100.000000 | D9: 100.000000 | E9: 100.000000 | F9: Non intégré (NI)
A10: 118 | B10: Globale (IG) | C10: 100.000000 | D10: 100.000000 | E10: 100.000000 | F10: Globale (IG)
A11: 120 | B11: Globale (IG) | C11: 100.000000 | D11: 100.000000 | E11: 100.000000 | F11: Globale (IG)
A12: 200 | B12: Globale (IG) | C12: 100.000000 | D12: 100.000000 | E12: 100.000000 | F12: Globale (IG)
A13: 220 | B13: Globale (IG) | C13: 100.000000 | D13: 100.000000 | E13: 100.000000 | F13: Globale (IG)
A14: 223 | B14: Globale (IG) | C14: 100.000000 | D14: 100.000000 | E14: 99.999999 | F14: Globale (IG)
A15: 228 | B15: Globale (IG) | C15: 100.000000 | D15: 100.000000 | E15: 100.000000 | F15: Globale (IG)
A16: 232 | B16: Globale (IG) | C16: 100.000000 | D16: 100.000000 | E16: 99.999999 | F16: Globale (IG)
A17: 234 | B17: Globale (IG) | C17: 100.000000 | D17: 100.000000 | E17: 100.000000 | F17: Non intégré (NI)
... A27: 322 | B27: Globale (IG) | C27: 100.000000 | D27: 101.010101 | E27: 80.000000 | F27: Globale (IG)
A28: 322A | B28: Globale (IG) | C28: 100.000000 | D28: 100.000000 | E28: 80.000000 | F28: Globale (IG)
A29: 323A | B29: Globale (IG) | C29: 100.000000 | D29: 100.000000 | E29: 80.000000 | F29: Globale (IG)
A30: 323B | B30: Globale (IG) | C30: 100.000000 | D30: 100.000000 | E30: 80.000000 | F30: Globale (IG)
A31: 323C | B31: Globale (IG) | C31: 100.000000 | D31: 100.000000 | E31: 80.000000 | F31: Globale (IG)
A32: 323D | B32: Globale (IG) | C32: 100.000000 | D32: 100.000000 | E32: 80.000000 | F32: Globale (IG)
A33: 323E | B33: Globale (IG) | C33: 100.000000 | D33: 100.000000 | E33: 80.000000 | F33: Globale (IG)
A34: 323F | B34: Globale (IG) | C34: 100.000000 | D34: 100.000000 | E34: 80.000000 | F34: Globale (IG)
A35: 323G | B35: Globale (IG) | C35: 100.000000 | D35: 100.000000 | E35: 80.000000 | F35: Globale (IG)
A36: 323H | B36: Globale (IG) | C36: 100.000000 | D36: 100.000000 | E36: 80.000000 | F36: Globale (IG)
A37: 323I | B37: Globale (IG) | C37: 100.000000 | D37: 100.000000 | E37: 80.000000 | F37: Globale (IG)
A38: 323J | B38: Globale (IG) | C38: 100.000000 | D38: 100.000000 | E38: 80.000000 | F38: Globale (IG)
A39: 323K | B39: Globale (IG) | C39: 100.000000 | D39: 100.000000 | E39: 80.000000 | F39: Globale (IG)
... A50: 323V | B50: Globale (IG) | C50: 100.000000 | D50: 100.000000 | E50: 80.000000 | F50: Globale (IG)
A51: 330 | B51: Globale (IG) | C51: 100.000000 | D51: 100.000000 | E51: 100.000000 | F51: Globale (IG)
A52: 332 | B52: Globale (IG) | C52: 100.000000 | D52: 100.000000 | E52: 100.000000 | F52: Globale (IG)
A53: 333 | B53: Globale (IG) | C53: 100.000000 | D53: 100.000000 | E53: 100.000000 | F53: Globale (IG)
A54: 335 | B54: Globale (IG) | C54: 100.000000 | D54: 100.000000 | E54: 100.000000 | F54: Globale (IG)
A55: 336 | B55: Globale (IG) | C55: 100.000000 | D55: 100.000000 | E55: 100.000000 | F55: Globale (IG)
A56: 339 | B56: Globale (IG) | C56: 100.000000 | D56: 100.000000 | E56: 100.000000 | F56: Globale (IG)
A57: 353 | B57: Globale (IG) | C57: 100.000000 | D57: 100.000000 | E57: 100.000000 | F57: Globale (IG)
A58: 384 | B58: Globale (IG) | C58: 100.000000 | D58: 100.000000 | E58: 100.000000 | F58: Globale (IG)
A59: 390 | B59: Globale (IG) | C59: 100.000000 | D59: 51.000304 | E59: 51.000304 | F59: Globale (IG)
A60: 391 | B60: Globale (IG) | C60: 100.000000 | D60: 100.000000 | E60: 51.000304 | F60: Globale (IG)
A61: 392 | B61: Globale (IG) | C61: 100.000000 | D61: 100.000000 | E61: 51.000304 | F61: Globale (IG)
...

Sheet 2018
A1: Périmètre (Gestion) : MO - 2018.01 - S-2
A4: Lignes de périmètre
A5: Unité (code) | B5: Méthode modif. (Clôture) | C5: Tx intég. modif. (Clôture) | D5: Tx contr. modif. (Clôture) | E5: Tx intérêt modif. (Clôture) | F5: Méthode modif. (Ouverture de liasse)
A6: 118 | B6: Globale (IG) | C6: 100.00 | D6: 100.00 | E6: 100.00 | F6: Globale (IG)
A7: 605 | B7: Globale (IG) | C7: 100.00 | D7: 100.00 | E7: 100.00 | F7: Globale (IG)
A8: 932 | B8: Globale (IG) | C8: 100.00 | D8: 51.00 | E8: 51.00 | F8: Globale (IG)
A9: V04 | B9: Globale (IG) | C9: 100.00 | D9: 58.27 | E9: 58.27 | F9: Globale (IG)
A10: V05 | B10: Globale (IG) | C10: 100.00 | D10: 100.00 | E10: 100.00 | F10: Globale (IG)
A11: V06 | B11: Globale (IG) | C11: 100.00 | D11: 67.00 | E11: 60.32 | F11: Globale (IG)
A12: V08 | B12: Globale (IG) | C12: 100.00 | D12: 100.00 | E12: 100.00 | F12: Globale (IG)
A13: V12 | B13: Globale (IG) | C13: 100.00 | D13: 70.07 | E13: 40.72 | F13: Globale (IG)
A14: V13 | B14: Globale (IG) | C14: 100.00 | D14: 99.80 | E14: 58.09 | F14: Globale (IG)
A15: V17 | B15: Globale (IG) | C15: 100.00 | D15: 99.88 | E15: 58.20 | F15: Globale (IG)
A16: V19 | B16: Globale (IG) | C16: 100.00 | D16: 100.00 | E16: 58.96 | F16: Globale (IG)
A17: V25 | B17: Globale (IG) | C17: 100.00 | D17: 49.00 | E17: 49.00 | F17: Globale (IG)
A18: V26 | B18: Globale (IG) | C18: 100.00 | D18: 100.00 | E18: 100.00 | F18: Globale (IG)
A19: V31 | B19: Globale (IG) | C19: 100.00 | D19: 100.00 | E19: 100.00 | F19: Globale (IG)
A20: V33 | B20: Globale (IG) | C20: 100.00 | D20: 100.00 | E20: 100.00 | F20: Globale (IG)
... A63: V86 | B63: Globale (IG) | C63: 100.00 | D63: 100.00 | E63: 100.00 | F63: Non intégré (NI)
